Workbook
Name Vasque: Parametrage!$A$2:$A$3

Sheet Feuil1
A1: Chiffrage Meuble Sdb
A6: Meuble Vasque | C6: Simple Vasque
A8: Longueur | B8: Hauteur | C8: Profondeur | E8: Epaisseur Piece : | G8: 19
A9: 400 | B9: 400 | C9: 450
A11: Tiroirs | B11: Merivobox
B13: Qté | C13: Prof | D13: =IF(B11="Merivobox","Boxcap","") -> Boxcap | E13: Tir Angl
A14: =IF(B11="Merivobox","Tir E","Tir C") -> Tir E | B14: 1 | C14: 300 | D14: FALSE | E14: FALSE
B15: 2 | C15: 300 | D15: FALSE | E15: FALSE
B16: 3 | C16: 300 | D16: FALSE | E16: FALSE
B17: 4 | C17: 270 | D17: FALSE | E17: FALSE
B18: Qté | C18: Prof
A19: Tir M | B19: 1 | E19: FALSE
B20: 1 | E20: FALSE
B21: 1 | E21: FALSE
B22: 1 | E22: FALSE

Sheet Feuil2

Sheet Parametrage
A1: Meuble Vasque | C1: Dimensions du Meuble
A2: Simple Vasque
A3: Double Vasque | D3: Longueur | E3: Largeur | F3: Epaisseur | G3: M²
C4: Coté | D4: =Feuil1!B9 -> 400 | E4: =Feuil1!C9 -> 450 | F4: =Feuil1!G8 -> 19 | G4: =IF(D4="","",(CONVERT(((D4*E4)*2),"mm^2","m^2"))) -> 0.36
C5: Cais B | D5: =Feuil1!A9-(2*Feuil1!G8) -> 362 | E5: =Feuil1!C9 -> 450 | F5: =Feuil1!G8 -> 19 | G5: =IF(D5="","",(CONVERT(((D5*E5)*2),"mm^2","m^2"))) -> 0.3258
C6: Cais H | D6: =Feuil1!A9-(2*Feuil1!G8) -> 362 | E6: 104 | F6: =Feuil1!G8 -> 19 | G6: =IF(D6="","",(CONVERT(((D6*E6)*2),"mm^2","m^2"))) -> 0.075296
C7: Separation | D7: =IF(Feuil1!C6="Double Vasque",Feuil1!B9-Feuil1!G8,0) -> 0 | E7: =IF(Feuil1!C6="Double Vasque",Feuil1!C9,0) -> 0 | F7: =IF(Feuil1!C6="Double Vasque",Feuil1!G8,0) -> 0 | G7: =IF(D7="","",(CONVERT(((D7*E7)*2),"mm^2","m^2"))) -> 0
C8: Dos | G8: =IF(D8="","",(CONVERT(((D8*E8)*2),"mm^2","m^2")))
E9: M² Caisse | G9: =(SUM(G4:G8))*1.2 -> 0.9133152
A10: Tiroir
A11: Merivobox
A12: Legrabox
A14: Profondeur
A15: 270
A16: 300
A17: 350
A18: 400
A19: 450
A20: 500
A21: 550
A22: 600

Sheet Tiroirs Merivobox
A1: Calcul Tiroirs Merivobox
A3: Fonds Tiroirs | D3: Dos Tiroirs
A4: Prix M²: | B4: 11 | D4: Prix M²: | E4: 24.1 | G4: N° Client:
A5: Perte: | B5: 1.2 | D5: Perte | E5: 1.2
A7: Largeur Meuble | C7: Hauteur Tiroir | D7: Longueur Tiroir | E7: Qté | F7: Fond | H7: Dos | J7: M² fond | K7: M² dos
A8: =IF(OR(Feuil1!B$11="Legrabox",Feuil1!B14=""),"",Feuil1!A$9) -> 400 | C8: =IF(A8="","",RIGHT(Feuil1!A14)) -> E | D8: =IF(A8="","",Feuil1!C14) -> 300 | E8: =IF(A8="","",(Feuil1!B14)) -> 1 | F8: =IF(A8="","",(A8-38-51)&" X "&(D8-10)) -> 311 X 290 | H8: =IF(E8="","",(A8-38-51)&" X "&VLOOKUP(C8,[1]Paramètre!A$2:B$6,2,FALSE)) -> 311 X 168 | J8: =IF(E8="","",(CONVERT(((A8-38-51)*(D8-10)*E8),"mm^2","m^2"))) -> 0.09019 | K8: =IF(E8="","",(CONVERT(VLOOKUP(C8,[1]Paramètre!A$2:B$6,2,FALSE)*(A8-38-51),"mm^2","m^2"))) -> 0.052248
A9: =IF(OR(Feuil1!B$11="Legrabox",Feuil1!B15=""),"",Feuil1!A$9) -> 400 | C9: =IF(A9="","",RIGHT(Feuil1!A15)) | D9: =IF(A9="","",Feuil1!C15) -> 300 | E9: =IF(Feuil1!C15="","",(Feuil1!B15)) -> 2 | F9: =IF(A9="","",(A9-38-51)&" X "&(D9-10)) -> 311 X 290 | H9: =IF(A9="","",(A9-38-51)&" X "&VLOOKUP(C9,[1]Paramètre!A$2:B$6,2,FALSE)) -> #N/A | J9: =IF(E9="","",(CONVERT(((A9-38-51)*(D9-10)*E9),"mm^2","m^2"))) -> 0.18038 | K9: =IF(E9="","",(CONVERT(VLOOKUP(C9,[1]Paramètre!A$2:B$6,2,FALSE)*(A9-38-51),"mm^2","m^2"))) -> #N/A
A10: =IF(OR(Feuil1!B$11="Legrabox",Feuil1!B16=""),"",Feuil1!A$9) -> 400 | C10: =IF(A10="","",RIGHT(Feuil1!A16)) | D10: =IF(A10="","",Feuil1!C16) -> 300 | E10: =IF(Feuil1!C16="","",(Feuil1!B16)) -> 3 | F10: =IF(A10="","",(A10-38-51)&" X "&(D10-10)) -> 311 X 290 | H10: =IF(A10="","",(A10-38-51)&" X "&VLOOKUP(C10,[1]Paramètre!A$2:B$6,2,FALSE)) -> #N/A | J10: =IF(E10="","",(CONVERT(((A10-38-51)*(D10-10)*E10),"mm^2","m^2"))) -> 0.27057 | K10: =IF(E10="","",(CONVERT(VLOOKUP(C10,[1]Paramètre!A$2:B$6,2,FALSE)*(A10-38-51),"mm^2","m^2"))) -> #N/A
A11: =IF(OR(Feuil1!B$11="Legrabox",Feuil1!B17=""),"",Feuil1!A$9) -> 400 | C11: =IF(A11="","",RIGHT(Feuil1!A17)) | D11: =IF(A11="","",Feuil1!C17) -> 270 | E11: =IF(Feuil1!C17="","",(Feuil1!B17)) -> 4 | F11: =IF(A11="","",(A11-38-51)&" X "&(D11-10)) -> 311 X 260 | H11: =IF(A11="","",(A11-38-51)&" X "&VLOOKUP(C11,[1]Paramètre!A$2:B$6,2,FALSE)) -> #N/A | J11: =IF(E11="","",(CONVERT(((A11-38-51)*(D11-10)*E11),"mm^2","m^2"))) -> 0.32344 | K11: =IF(E11="","",(CONVERT(VLOOKUP(C11,[1]Paramètre!A$2:B$6,2,FALSE)*(A11-38-51),"mm^2","m^2"))) -> #N/A
A12: =IF(OR(Feuil1!B$11="Legrabox",Feuil1!B19=""),"",Feuil1!A$9) -> 400 | C12: =IF(A12="","",RIGHT(Feuil1!A19)) -> M | D12: =IF(A12="","",Feuil1!C19) -> 0 | E12: =IF(Feuil1!C19="","",(Feuil1!B19)) | F12: =IF(A12="","",(A12-38-51)&" X "&(D12-10)) -> 311 X -10 | H12: =IF(A12="","",(A12-38-51)&" X "&VLOOKUP(C12,[1]Paramètre!A$2:B$6,2,FALSE)) -> 311 X 67 | J12: =IF(E12="","",(CONVERT(((A12-38-51)*(D12-10)*E12),"mm^2","m^2"))) | K12: =IF(E12="","",(CONVERT(VLOOKUP(C12,[1]Paramètre!A$2:B$6,2,FALSE)*(A12-38-51),"mm^2","m^2")))
A13: =IF(OR(Feuil1!B$11="Legrabox",Feuil1!B20=""),"",Feuil1!A$9) -> 400 | C13: =IF(A13="","",RIGHT(Feuil1!A19)) -> M | D13: =IF(A13="","",Feuil1!C20) -> 0 | E13: =IF(Feuil1!C20="","",(Feuil1!B20)) | F13: =IF(A13="","",(A13-38-51)&" X "&(D13-10)) -> 311 X -10 | H13: =IF(A13="","",(A13-38-51)&" X "&VLOOKUP(C13,[1]Paramètre!A$2:B$6,2,FALSE)) -> 311 X 67 | J13: =IF(E13="","",(CONVERT(((A13-38-51)*(D13-10)*E13),"mm^2","m^2"))) | K13: =IF(E13="","",(CONVERT(VLOOKUP(C13,[1]Paramètre!A$2:B$6,2,FALSE)*(A13-38-51),"mm^2","m^2")))
A14: =IF(OR(Feuil1!B$11="Legrabox",Feuil1!B21=""),"",Feuil1!A$9) -> 400 | C14: =IF(A14="","",RIGHT(Feuil1!A19)) -> M | D14: =IF(A14="","",Feuil1!C21) -> 0 | E14: =IF(Feuil1!C21="","",(Feuil1!B21)) | F14: =IF(A14="","",(A14-38-51)&" X "&(D14-10)) -> 311 X -10 | H14: =IF(A14="","",(A14-38-51)&" X "&VLOOKUP(C14,[1]Paramètre!A$2:B$6,2,FALSE)) -> 311 X 67 | J14: =IF(E14="","",(CONVERT(((A14-38-51)*(D14-10)*E14),"mm^2","m^2"))) | K14: =IF(E14="","",(CONVERT(VLOOKUP(C14,[1]Paramètre!A$2:B$6,2,FALSE)*(A14-38-51),"mm^2","m^2")))
A15: =IF(OR(Feuil1!B$11="Legrabox",Feuil1!B22=""),"",Feuil1!A$9) -> 400 | C15: =IF(A15="","",RIGHT(Feuil1!A19)) -> M | D15: =IF(A15="","",Feuil1!C22) -> 0 | E15: =IF(Feuil1!C22="","",(Feuil1!B22)) | F15: =IF(A15="","",(A15-38-51)&" X "&(D15-10)) -> 311 X -10 | H15: =IF(A15="","",(A15-38-51)&" X "&VLOOKUP(C15,[1]Paramètre!A$2:B$6,2,FALSE)) -> 311 X 67 | J15: =IF(E15="","",(CONVERT(((A15-38-51)*(D15-10)*E15),"mm^2","m^2"))) | K15: =IF(E15="","",(CONVERT(VLOOKUP(C15,[1]Paramètre!A$2:B$6,2,FALSE)*(A15-38-51),"mm^2","m^2")))
F16: =IF(A16="","",(A16-38-51)&" X "&(D16-10)) | H16: =IF(A16="","",(A16-38-51)&" X "&VLOOKUP(C16,[1]Paramètre!A$2:B$6,2,FALSE)) | J16: =IF(E16="","",(CONVERT(((A16-38-51)*(D16-10)*E16),"mm^2","m^2"))) | K16: =IF(E16="","",(CONVERT(VLOOKUP(C16,[1]Paramètre!A$2:B$6,2,FALSE)*(A16-38-51),"mm^2","m^2")))
F17: =IF(A17="","",(A17-38-51)&" X "&(D17-10)) | H17: =IF(A17="","",(A17-38-51)&" X "&VLOOKUP(C17,[1]Paramètre!A$2:B$6,2,FALSE)) | J17: =IF(E17="","",(CONVERT(((A17-38-51)*(D17-10)*E17),"mm^2","m^2"))) | K17: =IF(E17="","",(CONVERT(VLOOKUP(C17,[1]Paramètre!A$2:B$6,2,FALSE)*(A17-38-51),"mm^2","m^2")))
F18: =IF(A18="","",(A18-38-51)&" X "&(D18-10)) | H18: =IF(A18="","",(A18-38-51)&" X "&VLOOKUP(C18,[1]Paramètre!A$2:B$6,2,FALSE)) | J18: =IF(E18="","",(CONVERT(((A18-38-51)*(D18-10)*E18),"mm^2","m^2"))) | K18: =IF(E18="","",(CONVERT(VLOOKUP(C18,[1]Paramètre!A$2:B$6,2,FALSE)*(A18-38-51),"mm^2","m^2")))
F19: =IF(A19="","",(A19-38-51)&" X "&(D19-10)) | H19: =IF(A19="","",(A19-38-51)&" X "&VLOOKUP(C19,[1]Paramètre!A$2:B$6,2,FALSE)) | J19: =IF(E19="","",(CONVERT(((A19-38-51)*(D19-10)*E19),"mm^2","m^2"))) | K19: =IF(E19="","",(CONVERT(VLOOKUP(C19,[1]Paramètre!A$2:B$6,2,FALSE)*(A19-38-51),"mm^2","m^2")))
F20: =IF(A20="","",(A20-38-51)&" X "&(D20-10)) | H20: =IF(A20="","",(A20-38-51)&" X "&VLOOKUP(C20,[1]Paramètre!A$2:B$6,2,FALSE)) | J20: =IF(E20="","",(CONVERT(((A20-38-51)*(D20-10)*E20),"mm^2","m^2"))) | K20: =IF(E20="","",(CONVERT(VLOOKUP(C20,[1]Paramètre!A$2:B$6,2,FALSE)*(A20-38-51),"mm^2","m^2")))
F21: =IF(A21="","",(A21-38-51)&" X "&(D21-10)) | H21: =IF(A21="","",(A21-38-51)&" X "&VLOOKUP(C21,[1]Paramètre!A$2:B$6,2,FALSE)) | J21: =IF(E21="","",(CONVERT(((A21-38-51)*(D21-10)*E21),"mm^2","m^2"))) | K21: =IF(E21="","",(CONVERT(VLOOKUP(C21,[1]Paramètre!A$2:B$6,2,FALSE)*(A21-38-51),"mm^2","m^2")))
F22: =IF(A22="","",(A22-38-51)&" X "&(D22-10)) | H22: =IF(A22="","",(A22-38-51)&" X "&VLOOKUP(C22,[1]Paramètre!A$2:B$6,2,FALSE)) | J22: =IF(E22="","",(CONVERT(((A22-38-51)*(D22-10)*E22),"mm^2","m^2"))) | K22: =IF(E22="","",(CONVERT(VLOOKUP(C22,[1]Paramètre!A$2:B$6,2,FALSE)*(A22-38-51),"mm^2","m^2")))
F23: =IF(A23="","",(A23-38-51)&" X "&(D23-10)) | H23: =IF(A23="","",(A23-38-51)&" X "&VLOOKUP(C23,[1]Paramètre!A$2:B$6,2,FALSE)) | J23: =IF(E23="","",(CONVERT(((A23-38-51)*(D23-10)*E23),"mm^2","m^2"))) | K23: =IF(E23="","",(CONVERT(VLOOKUP(C23,[1]Paramètre!A$2:B$6,2,FALSE)*(A23-38-51),"mm^2","m^2")))
F24: =IF(A24="","",(A24-38-51)&" X "&(D24-10)) | H24: =IF(A24="","",(A24-38-51)&" X "&VLOOKUP(C24,[1]Paramètre!A$2:B$6,2,FALSE)) | J24: =IF(E24="","",(CONVERT(((A24-38-51)*(D24-10)*E24),"mm^2","m^2"))) | K24: =IF(E24="","",(CONVERT(VLOOKUP(C24,[1]Paramètre!A$2:B$6,2,FALSE)*(A24-38-51),"mm^2","m^2")))
F25: =IF(A25="","",(A25-38-51)&" X "&(D25-10)) | H25: =IF(A25="","",(A25-38-51)&" X "&VLOOKUP(C25,[1]Paramètre!A$2:B$6,2,FALSE)) | J25: =IF(E25="","",(CONVERT(((A25-38-51)*(D25-10)*E25),"mm^2","m^2"))) | K25: =IF(E25="","",(CONVERT(VLOOKUP(C25,[1]Paramètre!A$2:B$6,2,FALSE)*(A25-38-51),"mm^2","m^2")))
F26: =IF(A26="","",(A26-38-51)&" X "&(D26-10)) | H26: =IF(A26="","",(A26-38-51)&" X "&VLOOKUP(C26,[1]Paramètre!A$2:B$6,2,FALSE)) | J26: =IF(E26="","",(CONVERT(((A26-38-51)*(D26-10)*E26),"mm^2","m^2"))) | K26: =IF(E26="","",(CONVERT(VLOOKUP(C26,[1]Paramètre!A$2:B$6,2,FALSE)*(A26-38-51),"mm^2","m^2")))
H28: Total | J28: =SUM(J8:J26) -> 0.86458 | K28: =SUM(K8:K26) -> #N/A
H30: Total + Perte | J30: =J28*B5 -> 1.037496 | K30: =K28*E5 -> #N/A
H32: Prix HT | J32: =B4*J30 -> 11.412456 | K32: =E4*K30 -> #N/A

Sheet Tiroirs Legrabox
A1: Calcul Tiroirs Legrabox
A3: Fonds Tiroirs | D3: Dos Tiroirs
A4: Prix M²: | B4: 11 | D4: Prix M²: | E4: 24.1 | G4: N° Client:
A5: Perte: | B5: 1.2 | D5: Perte | E5: 1.2
A7: Largeur Meuble | C7: Hauteur Tiroir | D7: Longueur Tiroir | E7: Qté | F7: Fond | H7: Dos | J7: M² fond | K7: M² dos
A8: =IF(OR(Feuil1!B$11="Merivobox",Feuil1!B14=""),"",Feuil1!A$9) | C8: =IF(A8="","",RIGHT(Feuil1!A$14)) | D8: =IF(Feuil1!B$11="Merivobox","",Feuil1!C14) | E8: =IF(D8="","",Feuil1!B14) | F8: =IF(A8="","",(A8-38-21)&" X "&(D8-10)) | H8: =IF(A8="","",(A8-38-38)&" X "&VLOOKUP(C8,[2]Paramètre!A$2:B$6,2,FALSE)) | J8: =IF(A8="","",(CONVERT(((A8-38-51)*(D8-10)*E8),"mm^2","m^2"))) | K8: =IF(A8="","",(CONVERT(VLOOKUP(C8,[2]Paramètre!A$2:B$6,2,FALSE)*(A8-38-51),"mm^2","m^2")))
A9: =IF(OR(Feuil1!B$11="Merivobox",Feuil1!B15=""),"",Feuil1!A$9) | C9: =IF(A9="","",RIGHT(Feuil1!A$14)) | D9: =IF(Feuil1!B$11="Merivobox","",Feuil1!C15) | E9: =IF(D9="","",Feuil1!B15) | F9: =IF(A9="","",(A9-38-21)&" X "&(D9-10)) | H9: =IF(A9="","",(A9-38-38)&" X "&VLOOKUP(C9,[2]Paramètre!A$2:B$6,2,FALSE)) | J9: =IF(A9="","",(CONVERT(((A9-38-51)*(D9-10)*E9),"mm^2","m^2"))) | K9: =IF(A9="","",(CONVERT(VLOOKUP(C9,[2]Paramètre!A$2:B$6,2,FALSE)*(A9-38-51),"mm^2","m^2")))
A10: =IF(OR(Feuil1!B$11="Merivobox",Feuil1!B16=""),"",Feuil1!A$9) | C10: =IF(A10="","",RIGHT(Feuil1!A$14)) | D10: =IF(Feuil1!B$11="Merivobox","",Feuil1!C16) | E10: =IF(D10="","",Feuil1!B16) | F10: =IF(A10="","",(A10-38-21)&" X "&(D10-10)) | H10: =IF(A10="","",(A10-38-38)&" X "&VLOOKUP(C10,[2]Paramètre!A$2:B$6,2,FALSE)) | J10: =IF(A10="","",(CONVERT(((A10-38-51)*(D10-10)*E10),"mm^2","m^2"))) | K10: =IF(A10="","",(CONVERT(VLOOKUP(C10,[2]Paramètre!A$2:B$6,2,FALSE)*(A10-38-51),"mm^2","m^2")))
A11: =IF(OR(Feuil1!B$11="Merivobox",Feuil1!B17=""),"",Feuil1!A$9) | C11: =IF(A11="","",RIGHT(Feuil1!A$14)) | D11: =IF(Feuil1!B$11="Merivobox","",Feuil1!C17) | E11: =IF(D11="","",Feuil1!B17) | F11: =IF(A11="","",(A11-38-21)&" X "&(D11-10)) | H11: =IF(A11="","",(A11-38-38)&" X "&VLOOKUP(C11,[2]Paramètre!A$2:B$6,2,FALSE)) | J11: =IF(A11="","",(CONVERT(((A11-38-51)*(D11-10)*E11),"mm^2","m^2"))) | K11: =IF(A11="","",(CONVERT(VLOOKUP(C11,[2]Paramètre!A$2:B$6,2,FALSE)*(A11-38-51),"mm^2","m^2")))
A12: =IF(OR(Feuil1!B$11="Merivobox",Feuil1!B19=""),"",Feuil1!A$9) | C12: =IF(A12="","",RIGHT(Feuil1!A$19)) | D12: =IF(Feuil1!B$11="Merivobox","",Feuil1!C19) | E12: =IF(D12="","",Feuil1!B19) | F12: =IF(A12="","",(A12-38-21)&" X "&(D12-10)) | H12: =IF(A12="","",(A12-38-38)&" X "&VLOOKUP(C12,[2]Paramètre!A$2:B$6,2,FALSE)) | J12: =IF(A12="","",(CONVERT(((A12-38-51)*(D12-10)*E12),"mm^2","m^2"))) | K12: =IF(A12="","",(CONVERT(VLOOKUP(C12,[2]Paramètre!A$2:B$6,2,FALSE)*(A12-38-51),"mm^2","m^2")))
A13: =IF(OR(Feuil1!B$11="Merivobox",Feuil1!B20=""),"",Feuil1!A$9) | C13: =IF(A13="","",RIGHT(Feuil1!A$19)) | D13: =IF(Feuil1!B$11="Merivobox","",Feuil1!C20) | E13: =IF(D13="","",Feuil1!B20) | F13: =IF(A13="","",(A13-38-21)&" X "&(D13-10)) | H13: =IF(A13="","",(A13-38-38)&" X "&VLOOKUP(C13,[2]Paramètre!A$2:B$6,2,FALSE)) | J13: =IF(A13="","",(CONVERT(((A13-38-51)*(D13-10)*E13),"mm^2","m^2"))) | K13: =IF(A13="","",(CONVERT(VLOOKUP(C13,[2]Paramètre!A$2:B$6,2,FALSE)*(A13-38-51),"mm^2","m^2")))
A14: =IF(OR(Feuil1!B$11="Merivobox",Feuil1!B21=""),"",Feuil1!A$9) | C14: =IF(A14="","",RIGHT(Feuil1!A$19)) | D14: =IF(Feuil1!B$11="Merivobox","",Feuil1!C21) | E14: =IF(D14="","",Feuil1!B21) | F14: =IF(A14="","",(A14-38-21)&" X "&(D14-10)) | H14: =IF(A14="","",(A14-38-38)&" X "&VLOOKUP(C14,[2]Paramètre!A$2:B$6,2,FALSE)) | J14: =IF(A14="","",(CONVERT(((A14-38-51)*(D14-10)*E14),"mm^2","m^2"))) | K14: =IF(A14="","",(CONVERT(VLOOKUP(C14,[2]Paramètre!A$2:B$6,2,FALSE)*(A14-38-51),"mm^2","m^2")))
A15: =IF(OR(Feuil1!B$11="Merivobox",Feuil1!B22=""),"",Feuil1!A$9) | C15: =IF(A15="","",RIGHT(Feuil1!A$19)) | D15: =IF(Feuil1!B$11="Merivobox","",Feuil1!C22) | E15: =IF(D15="","",Feuil1!B22) | F15: =IF(A15="","",(A15-38-21)&" X "&(D15-10)) | H15: =IF(A15="","",(A15-38-38)&" X "&VLOOKUP(C15,[2]Paramètre!A$2:B$6,2,FALSE)) | J15: =IF(A15="","",(CONVERT(((A15-38-51)*(D15-10)*E15),"mm^2","m^2"))) | K15: =IF(A15="","",(CONVERT(VLOOKUP(C15,[2]Paramètre!A$2:B$6,2,FALSE)*(A15-38-51),"mm^2","m^2")))
F16: =IF(A16="","",(A16-38-21)&" X "&(D16-10)) | H16: =IF(A16="","",(A16-38-38)&" X "&VLOOKUP(C16,[2]Paramètre!A$2:B$6,2,FALSE)) | J16: =IF(E16="","",(CONVERT(((A16-38-51)*(D16-10)*E16),"mm^2","m^2"))) | K16: =IF(E16="","",(CONVERT(VLOOKUP(C16,[2]Paramètre!A$2:B$6,2,FALSE)*(A16-38-51),"mm^2","m^2")))
F17: =IF(A17="","",(A17-38-21)&" X "&(D17-10)) | H17: =IF(A17="","",(A17-38-38)&" X "&VLOOKUP(C17,[2]Paramètre!A$2:B$6,2,FALSE)) | J17: =IF(E17="","",(CONVERT(((A17-38-51)*(D17-10)*E17),"mm^2","m^2"))) | K17: =IF(E17="","",(CONVERT(VLOOKUP(C17,[2]Paramètre!A$2:B$6,2,FALSE)*(A17-38-51),"mm^2","m^2")))
F18: =IF(A18="","",(A18-38-21)&" X "&(D18-10)) | H18: =IF(A18="","",(A18-38-38)&" X "&VLOOKUP(C18,[2]Paramètre!A$2:B$6,2,FALSE)) | J18: =IF(E18="","",(CONVERT(((A18-38-51)*(D18-10)*E18),"mm^2","m^2"))) | K18: =IF(E18="","",(CONVERT(VLOOKUP(C18,[2]Paramètre!A$2:B$6,2,FALSE)*(A18-38-51),"mm^2","m^2")))
F19: =IF(A19="","",(A19-38-21)&" X "&(D19-10)) | H19: =IF(A19="","",(A19-38-38)&" X "&VLOOKUP(C19,[2]Paramètre!A$2:B$6,2,FALSE)) | J19: =IF(E19="","",(CONVERT(((A19-38-51)*(D19-10)*E19),"mm^2","m^2"))) | K19: =IF(E19="","",(CONVERT(VLOOKUP(C19,[2]Paramètre!A$2:B$6,2,FALSE)*(A19-38-51),"mm^2","m^2")))
F20: =IF(A20="","",(A20-38-21)&" X "&(D20-10)) | H20: =IF(A20="","",(A20-38-38)&" X "&VLOOKUP(C20,[2]Paramètre!A$2:B$6,2,FALSE)) | J20: =IF(E20="","",(CONVERT(((A20-38-51)*(D20-10)*E20),"mm^2","m^2"))) | K20: =IF(E20="","",(CONVERT(VLOOKUP(C20,[2]Paramètre!A$2:B$6,2,FALSE)*(A20-38-51),"mm^2","m^2")))
F21: =IF(A21="","",(A21-38-21)&" X "&(D21-10)) | H21: =IF(A21="","",(A21-38-38)&" X "&VLOOKUP(C21,[2]Paramètre!A$2:B$6,2,FALSE)) | J21: =IF(E21="","",(CONVERT(((A21-38-51)*(D21-10)*E21),"mm^2","m^2"))) | K21: =IF(E21="","",(CONVERT(VLOOKUP(C21,[2]Paramètre!A$2:B$6,2,FALSE)*(A21-38-51),"mm^2","m^2")))
F22: =IF(A22="","",(A22-38-21)&" X "&(D22-10)) | H22: =IF(A22="","",(A22-38-38)&" X "&VLOOKUP(C22,[2]Paramètre!A$2:B$6,2,FALSE)) | J22: =IF(E22="","",(CONVERT(((A22-38-51)*(D22-10)*E22),"mm^2","m^2"))) | K22: =IF(E22="","",(CONVERT(VLOOKUP(C22,[2]Paramètre!A$2:B$6,2,FALSE)*(A22-38-51),"mm^2","m^2")))
F23: =IF(A23="","",(A23-38-21)&" X "&(D23-10)) | H23: =IF(A23="","",(A23-38-38)&" X "&VLOOKUP(C23,[2]Paramètre!A$2:B$6,2,FALSE)) | J23: =IF(E23="","",(CONVERT(((A23-38-51)*(D23-10)*E23),"mm^2","m^2"))) | K23: =IF(E23="","",(CONVERT(VLOOKUP(C23,[2]Paramètre!A$2:B$6,2,FALSE)*(A23-38-51),"mm^2","m^2")))
F24: =IF(A24="","",(A24-38-21)&" X "&(D24-10)) | H24: =IF(A24="","",(A24-38-38)&" X "&VLOOKUP(C24,[2]Paramètre!A$2:B$6,2,FALSE)) | J24: =IF(E24="","",(CONVERT(((A24-38-51)*(D24-10)*E24),"mm^2","m^2"))) | K24: =IF(E24="","",(CONVERT(VLOOKUP(C24,[2]Paramètre!A$2:B$6,2,FALSE)*(A24-38-51),"mm^2","m^2")))
F25: =IF(A25="","",(A25-38-21)&" X "&(D25-10)) | H25: =IF(A25="","",(A25-38-38)&" X "&VLOOKUP(C25,[2]Paramètre!A$2:B$6,2,FALSE)) | J25: =IF(E25="","",(CONVERT(((A25-38-51)*(D25-10)*E25),"mm^2","m^2"))) | K25: =IF(E25="","",(CONVERT(VLOOKUP(C25,[2]Paramètre!A$2:B$6,2,FALSE)*(A25-38-51),"mm^2","m^2")))
F26: =IF(A26="","",(A26-38-21)&" X "&(D26-10)) | H26: =IF(A26="","",(A26-38-38)&" X "&VLOOKUP(C26,[2]Paramètre!A$2:B$6,2,FALSE)) | J26: =IF(E26="","",(CONVERT(((A26-38-51)*(D26-10)*E26),"mm^2","m^2"))) | K26: =IF(E26="","",(CONVERT(VLOOKUP(C26,[2]Paramètre!A$2:B$6,2,FALSE)*(A26-38-51),"mm^2","m^2")))
H28: Total | J28: =SUM(J8:J26) -> 0 | K28: =SUM(K8:K26) -> 0
H30: Total + Perte | J30: =J28*B5 -> 0 | K30: =K28*E5 -> 0
H32: Prix HT | J32: =B4*J30 -> 0 | K32: =E4*K30 -> 0

Sheet Tiroirs Anglaise
B1: Tiroir Anglaise Merivobox
A2: Ht M
B3: Dimension | C3: Qté | D3: ML linéaire | E3: ML+ Chute
A4: =IF(Feuil1!E19,"true","") | B4: =IF(AND(A4="TRUE",Feuil1!B$11="Merivobox"),(Feuil1!A$9-(2*Feuil1!G$8))-126,"") | C4: =IF(B4="","",Feuil1!B19) | D4: =IF(C4="","",B4*C4) | E4: =IF(D4="","0",D4*1.2) -> 0
A5: =IF(Feuil1!E20,"true","") | B5: =IF(AND(A5="TRUE",Feuil1!B$11="Merivobox"),(Feuil1!A$9-(2*Feuil1!G$8))-126,"") | C5: =IF(B5="","",Feuil1!B20) | D5: =IF(C5="","",B5*C5) | E5: =IF(D5="","0",D5*1.2) -> 0 | G5: Nbre de Bandeau M | H5: =ROUNDUP((E4+E5+E6+E7)/1200.2,0) -> 0
A6: =IF(Feuil1!E21,"true","") | B6: =IF(AND(A6="TRUE",Feuil1!B$11="Merivobox"),(Feuil1!A$9-(2*Feuil1!G$8))-126,"") | C6: =IF(B6="","",Feuil1!B21) | D6: =IF(C6="","",B6*C6) | E6: =IF(D6="","0",D6*1.2) -> 0
A7: =IF(Feuil1!E22,"true","") | B7: =IF(AND(A7="TRUE",Feuil1!B$11="Merivobox"),(Feuil1!A$9-(2*Feuil1!G$8))-126,"") | C7: =IF(B7="","",Feuil1!B22) | D7: =IF(C7="","",B7*C7) | E7: =IF(D7="","0",D7*1.2) -> 0
A9: HT E
B11: Dimension | C11: Qté | D11: ML linéaire | E11: ML+ Chute
A12: =IF(Feuil1!E14,"true","") | B12: =IF(AND(A12="TRUE",Feuil1!B$11="Merivobox"),(Feuil1!A$9-(2*Feuil1!G$8))-126,"") | C12: =IF(B12="","",Feuil1!B14) | D12: =IF(C12="","",B12*C12) | E12: =IF(D12="","0",D12*1.2) -> 0
A13: =IF(Feuil1!E15,"true","") | B13: =IF(AND(A13="TRUE",Feuil1!B$11="Merivobox"),(Feuil1!A$9-(2*Feuil1!G$8))-126,"") | C13: =IF(B13="","",Feuil1!B15) | D13: =IF(C13="","",B13*C13) | E13: =IF(D13="","0",D13*1.2) -> 0 | G13: Nbre de Bandeau M | H13: =ROUNDUP((E12+E13+E14+E15)/1200.2,0) -> 0
A14: =IF(Feuil1!E16,"true","") | B14: =IF(AND(A14="TRUE",Feuil1!B$11="Merivobox"),(Feuil1!A$9-(2*Feuil1!G$8))-126,"") | C14: =IF(B14="","",Feuil1!B16) | D14: =IF(C14="","",B14*C14) | E14: =IF(D14="","0",D14*1.2) -> 0
A15: =IF(Feuil1!E17,"true","") | B15: =IF(AND(A15="TRUE",Feuil1!B$11="Merivobox"),(Feuil1!A$9-(2*Feuil1!G$8))-126,"") | C15: =IF(B15="","",Feuil1!B17) | D15: =IF(C15="","",B15*C15) | E15: =IF(D15="","0",D15*1.2) -> 0
B17: Dimension | C17: Qté | D17: ML linéaire | E17: ML+ Chute
A18: =IF(Feuil1!E14,"true","") | B18: =IF(AND(A18="TRUE",Feuil1!B$11="Merivobox"),(Feuil1!A$9-(2*Feuil1!G$8))-111,"") | C18: =IF(B18="","",Feuil1!B14) | D18: =IF(C18="","",B18*C18) | E18: =IF(D18="","0",D18*1.2) -> 0
A19: =IF(Feuil1!E15,"true","") | B19: =IF(AND(A19="TRUE",Feuil1!B$11="Merivobox"),(Feuil1!A$9-(2*Feuil1!G$8))-111,"") | C19: =IF(B19="","",Feuil1!B15) | D19: =IF(C19="","",B19*C19) | E19: =IF(D19="","0",D19*1.2) -> 0 | G19: Nbre de tube | H19: =ROUNDUP((E18+E19+E20+E21)/1059.2,0) -> 0
A20: =IF(Feuil1!E16,"true","") | B20: =IF(AND(A20="TRUE",Feuil1!B$11="Merivobox"),(Feuil1!A$9-(2*Feuil1!G$8))-111,"") | C20: =IF(B20="","",Feuil1!B16) | D20: =IF(C20="","",B20*C20) | E20: =IF(D20="","0",D20*1.2) -> 0
A21: =IF(Feuil1!E17,"true","") | B21: =IF(AND(A21="TRUE",Feuil1!B$11="Merivobox"),(Feuil1!A$9-(2*Feuil1!G$8))-111,"") | C21: =IF(B21="","",Feuil1!B17) | D21: =IF(C21="","",B21*C21) | E21: =IF(D21="","0",D21*1.2) -> 0
A22: =IF(Feuil1!E24,"true","")
B23: Tiroir Anglaise Legrabox
A24: Ht M
B25: Dimension | C25: Qté | D25: ML linéaire | E25: ML+ Chute
A26: =IF(Feuil1!E19,"true","") | B26: =IF(AND(A26="TRUE",Feuil1!B$11="Legrabox"),(Feuil1!A$9-(2*Feuil1!G$8))-126,"") | C26: =IF(B26="","",Feuil1!B19) | D26: =IF(C26="","",B26*C26) | E26: =IF(D26="","0",D26*1.2) -> 0
A27: =IF(Feuil1!E20,"true","") | B27: =IF(AND(A27="TRUE",Feuil1!B$11="Legrabox"),(Feuil1!A$9-(2*Feuil1!G$8))-126,"") | C27: =IF(B27="","",Feuil1!B20) | D27: =IF(C27="","",B27*C27) | E27: =IF(D27="","0",D27*1.2) -> 0 | G27: Nbre de Bandeau M | H27: =ROUNDUP((E26+E27+E28+E29)/1043.2,0) -> 0
A28: =IF(Feuil1!E21,"true","") | B28: =IF(AND(A28="TRUE",Feuil1!B$11="Legrabox"),(Feuil1!A$9-(2*Feuil1!G$8))-126,"") | C28: =IF(B28="","",Feuil1!B21) | D28: =IF(C28="","",B28*C28) | E28: =IF(D28="","0",D28*1.2) -> 0
A29: =IF(Feuil1!E22,"true","") | B29: =IF(AND(A29="TRUE",Feuil1!B$11="Legrabox"),(Feuil1!A$9-(2*Feuil1!G$8))-126,"") | C29: =IF(B29="","",Feuil1!B22) | D29: =IF(C29="","",B29*C29) | E29: =IF(D29="","0",D29*1.2) -> 0
A31: HT C
B33: Dimension | C33: Qté | D33: ML linéaire | E33: ML+ Chute
A34: =IF(Feuil1!E14,"true","") | B34: =IF(AND(A34="TRUE",Feuil1!B$11="Legrabox"),(Feuil1!A$9-(2*Feuil1!G$8))-126,"") | C34: =IF(B34="","",Feuil1!B14) | D34: =IF(C34="","",B34*C34) | E34: =IF(D34="","0",D34*1.2) -> 0
A35: =IF(Feuil1!E15,"true","") | B35: =IF(AND(A35="TRUE",Feuil1!B$11="Legrabox"),(Feuil1!A$9-(2*Feuil1!G$8))-126,"") | C35: =IF(B35="","",Feuil1!B37) | D35: =IF(C35="","",B35*C35) | E35: =IF(D35="","0",D35*1.2) -> 0 | G35: Nbre de Bandeau M | H35: =ROUNDUP((E34+E35+E36+E37)/1043.2,0) -> 0
A36: =IF(Feuil1!E16,"true","") | B36: =IF(AND(A36="TRUE",Feuil1!B$11="Legrabox"),(Feuil1!A$9-(2*Feuil1!G$8))-126,"") | C36: =IF(B36="","",Feuil1!B38) | D36: =IF(C36="","",B36*C36) | E36: =IF(D36="","0",D36*1.2) -> 0
A37: =IF(Feuil1!E17,"true","") | B37: =IF(AND(A37="TRUE",Feuil1!B$11="Legrabox"),(Feuil1!A$9-(2*Feuil1!G$8))-126,"") | C37: =IF(B37="","",Feuil1!B39) | D37: =IF(C37="","",B37*C37) | E37: =IF(D37="","0",D37*1.2) -> 0
B39: Dimension | C39: Qté | D39: ML linéaire | E39: ML+ Chute
A40: =IF(Feuil1!E14,"true","") | B40: =IF(AND(A40="TRUE",Feuil1!B$11="Legrabox"),(Feuil1!A$9-(2*Feuil1!G$8))-90,"") | C40: =IF(B40="","",Feuil1!B14) | D40: =IF(C40="","",B40*C40) | E40: =IF(D40="","0",D40*1.2) -> 0
A41: =IF(Feuil1!E15,"true","") | B41: =IF(AND(A41="TRUE",Feuil1!B$11="Legrabox"),(Feuil1!A$9-(2*Feuil1!G$8))-90,"") | C41: =IF(B41="","",Feuil1!B15) | D41: =IF(C41="","",B41*C41) | E41: =IF(D41="","0",D41*1.2) -> 0 | G41: Nbre de tube | H41: =ROUNDUP((E40+E41+E42+E43)/1080.2,0) -> 0
A42: =IF(Feuil1!E16,"true","") | B42: =IF(AND(A42="TRUE",Feuil1!B$11="Legrabox"),(Feuil1!A$9-(2*Feuil1!G$8))-90,"") | C42: =IF(B42="","",Feuil1!B16) | D42: =IF(C42="","",B42*C42) | E42: =IF(D42="","0",D42*1.2) -> 0
A43: =IF(Feuil1!E17,"true","") | B43: =IF(AND(A43="TRUE",Feuil1!B$11="Legrabox"),(Feuil1!A$9-(2*Feuil1!G$8))-90,"") | C43: =IF(B43="","",Feuil1!B17) | D43: =IF(C43="","",B43*C43) | E43: =IF(D43="","0",D43*1.2) -> 0

Sheet Article
A1: Tiroirs
B2: Nbre | C2: Référence | D2: Prix | E2: Total
A3: Butée | B3: =(Feuil1!B14+Feuil1!B15+Feuil1!B16+Feuil1!B17+Feuil1!B19+Feuil1!B20+Feuil1!B21+Feuil1!B22)*4 -> 56 | C3: =[3]Feuil1!$C$33 -> BUT591190TR | D3: =[3]Feuil1!$D$33 -> 0.05 | E3: =B3*D3 -> 2.8
A4: Attache Facade Merviobox | B4: =IF(Feuil1!B11="Merivobox",(Feuil1!B14+Feuil1!B15+Feuil1!B16+Feuil1!B17+Feuil1!B19+Feuil1!B20+Feuil1!B21+Feuil1!B22)*2,"0") -> 28 | C4: =[3]Feuil1!$C$19 -> 237153 | D4: =[3]Feuil1!$D$19 -> 0.33 | E4: =B4*D4 -> 9.24
A5: Attache-façade sup MERIVOBOX | B5: =IF(Feuil1!B11="Merivobox",(Feuil1!B14+Feuil1!B15+Feuil1!B16+Feuil1!B17)*2,"0") -> 20 | C5: =[3]Feuil1!$C$20 -> 237167 | D5: =[3]Feuil1!$D$20 -> 0.39 | E5: =B5*D5 -> 7.8
A6: Merivobox 270 m | B6: =SUM(F6:I6) -> 4 | C6: =[3]Feuil1!$C$18 -> 282115 | D6: =[3]Feuil1!$D$18 -> 28.3 | E6: =B6*D6 -> 113.2 | F6: =IF(AND(Feuil1!B$11="Merivobox",Feuil1!C$14=270),Feuil1!B$14,0) -> 0 | G6: =IF(AND(Feuil1!B$11="Merivobox",Feuil1!C$15=270),Feuil1!B$15,0) -> 0 | H6: =IF(AND(Feuil1!B$11="Merivobox",Feuil1!C$16=270),Feuil1!B$16,0) -> 0 | I6: =IF(AND(Feuil1!B$11="Merivobox",Feuil1!C$17=270),Feuil1!B$17,0) -> 4
A7: Merivobox 300 m | B7: =SUM(F7:I7) -> 6 | C7: =[3]Feuil1!$C$14 -> 282475 | D7: =[3]Feuil1!$D$14 -> 28.3 | E7: =B7*D7 -> 169.8 | F7: =IF(AND(Feuil1!B$11="Merivobox",Feuil1!C$14=300),Feuil1!B$14,0) -> 1 | G7: =IF(AND(Feuil1!B$11="Merivobox",Feuil1!C$15=300),Feuil1!B$15,0) -> 2 | H7: =IF(AND(Feuil1!B$11="Merivobox",Feuil1!C$16=300),Feuil1!B$16,0) -> 3 | I7: =IF(AND(Feuil1!B$11="Merivobox",Feuil1!C$17=300),Feuil1!B$17,0) -> 0
A8: Merivobox 350 m | B8: =SUM(F8:I8) -> 0 | F8: =IF(AND(Feuil1!B$11="Merivobox",Feuil1!C$14=350),Feuil1!B$14,0) -> 0 | G8: =IF(AND(Feuil1!B$11="Merivobox",Feuil1!C$15=350),Feuil1!B$15,0) -> 0 | H8: =IF(AND(Feuil1!B$11="Merivobox",Feuil1!C$16=350),Feuil1!B$16,0) -> 0 | I8: =IF(AND(Feuil1!B$11="Merivobox",Feuil1!C$17=350),Feuil1!B$17,0) -> 0
A9: Merivobox 400 m | B9: =SUM(F9:I9) -> 0 | F9: =IF(AND(Feuil1!B$11="Merivobox",Feuil1!C$14=400),Feuil1!B$14,0) -> 0 | G9: =IF(AND(Feuil1!B$11="Merivobox",Feuil1!C$15=400),Feuil1!B$15,0) -> 0 | H9: =IF(AND(Feuil1!B$11="Merivobox",Feuil1!C$16=400),Feuil1!B$16,0) -> 0 | I9: =IF(AND(Feuil1!B$11="Merivobox",Feuil1!C$17=400),Feuil1!B$17,0) -> 0
A10: Merivobox 450 m | B10: =SUM(F10:I10) -> 0 | F10: =IF(AND(Feuil1!B$11="Merivobox",Feuil1!C$14=450),Feuil1!B$14,0) -> 0 | G10: =IF(AND(Feuil1!B$11="Merivobox",Feuil1!C$15=450),Feuil1!B$15,0) -> 0 | H10: =IF(AND(Feuil1!B$11="Merivobox",Feuil1!C$16=450),Feuil1!B$16,0) -> 0 | I10: =IF(AND(Feuil1!B$11="Merivobox",Feuil1!C$17=450),Feuil1!B$17,0) -> 0
A11: Merivobox 500 m | B11: =SUM(F11:I11) -> 0 | F11: =IF(AND(Feuil1!B$11="Merivobox",Feuil1!C$14=500),Feuil1!B$14,0) -> 0 | G11: =IF(AND(Feuil1!B$11="Merivobox",Feuil1!C$15=500),Feuil1!B$15,0) -> 0 | H11: =IF(AND(Feuil1!B$11="Merivobox",Feuil1!C$16=500),Feuil1!B$16,0) -> 0 | I11: =IF(AND(Feuil1!B$11="Merivobox",Feuil1!C$17=500),Feuil1!B$17,0) -> 0
A12: Merivobox 550 m | B12: =SUM(F12:I12) -> 0 | F12: =IF(AND(Feuil1!B$11="Merivobox",Feuil1!C$14=550),Feuil1!B$14,0) -> 0 | G12: =IF(AND(Feuil1!B$11="Merivobox",Feuil1!C$15=550),Feuil1!B$15,0) -> 0 | H12: =IF(AND(Feuil1!B$11="Merivobox",Feuil1!C$16=550),Feuil1!B$16,0) -> 0 | I12: =IF(AND(Feuil1!B$11="Merivobox",Feuil1!C$17=550),Feuil1!B$17,0) -> 0
A13: Merivobox 600 m | B13: =SUM(F13:I13) -> 0 | F13: =IF(AND(Feuil1!B$11="Merivobox",Feuil1!C$14=600),Feuil1!B$14,0) -> 0 | G13: =IF(AND(Feuil1!B$11="Merivobox",Feuil1!C$15=600),Feuil1!B$15,0) -> 0 | H13: =IF(AND(Feuil1!B$11="Merivobox",Feuil1!C$16=600),Feuil1!B$16,0) -> 0 | I13: =IF(AND(Feuil1!B$11="Merivobox",Feuil1!C$17=600),Feuil1!B$17,0) -> 0
