Workbook

Sheet @CONFIG
B1: NOM | C1: PRENOM | D1: CAT PROF | E1: DATE D'ENTREE | F1: 44927
B2: ANDRE | C2: F | D2: pédagogique | F2: START | G2: STOP
B3: BERNARD | C3: G | D3: éducatif | E3: JANVIER | F3: =F1 -> 44927 | G3: =EOMONTH(F3,0) -> 44957
B4: BERNARD | C4: T | D4: service administratif | E4: FÉVRIER | F4: =EDATE(F3,1) -> 44958 | G4: =EOMONTH(F4,0) -> 44985
B5: BOURDON | C5: S | D5: éducatif | E5: MARS | F5: =EDATE(F4,1) -> 44986 | G5: =EOMONTH(F5,0) -> 45016
B6: BOURGA | C6: B | D6: éducatif | E6: AVRIL | F6: =EDATE(F5,1) -> 45017 | G6: =EOMONTH(F6,0) -> 45046
B7: BRANCHUT | C7: G | D7: service administratif | E7: MAI | F7: =EDATE(F6,1) -> 45047 | G7: =EOMONTH(F7,0) -> 45077
B8: BROUTIN | C8: D | D8: éducatif | E8: JUIN | F8: =EDATE(F7,1) -> 45078 | G8: =EOMONTH(F8,0) -> 45107
B9: CAGNEAUX | C9: Z | D9: service généraux | E9: JUILLET | F9: =EDATE(F8,1) -> 45108 | G9: =EOMONTH(F9,0) -> 45138
B10: CAMPAGNOLO | C10: F | D10: éducatif | E10: AOÛT | F10: =EDATE(F9,1) -> 45139 | G10: =EOMONTH(F10,0) -> 45169
B11: CANIAUX | C11: H | D11: service généraux | E11: SEPTEMBRE | F11: =EDATE(F10,1) -> 45170 | G11: =EOMONTH(F11,0) -> 45199
B12: CATRIN | C12: K | D12: service généraux | E12: OCTOBRE | F12: =EDATE(F11,1) -> 45200 | G12: =EOMONTH(F12,0) -> 45230
B13: COLMANT | C13: E | D13: thérapeutique | E13: NOVEMBRE | F13: =EDATE(F12,1) -> 45231 | G13: =EOMONTH(F13,0) -> 45260
B14: DA COSTA | C14: Z | D14: éducatif | E14: DÉCEMBRE | F14: =EDATE(F13,1) -> 45261 | G14: =EOMONTH(F14,0) -> 45291
B15: DANDUMONT | C15: S | D15: direction
B16: DELEBOIS | C16: Z | D16: médical | E16: A ne pas toucher c'est la configuration pour les formules
B17: DELHAYE | C17: V | D17: éducatif
B18: DELHAYE | C18: Z | D18: service généraux
B19: DELMAS | C19: A | D19: thérapeutique
B20: DEMANGECLAUDE | C20: F | D20: service généraux
B21: DESTREE | C21: Z | D21: éducatif
B22: DUCARMES | C22: R | D22: éducatif
B23: DUCARMES | C23: F | D23: direction
B24: DUGARD | C24: F | D24: éducatif
B25: FORTEMPS | C25: S | D25: thérapeutique
B26: FOUREUR | C26: A | D26: thérapeutique
B27: GABORIT | C27: D | D27: thérapeutique
B28: GODET | C28: G | D28: éducatif
... B71: WALTISPURGER | C71: N | D71: service généraux

Sheet RECAPITULATIF 
B1: RECAPITULATIF DES ABSENCES PAR MOTIF SUR L'ANNEE 2023
C3: M | D3: CSS | E3: MP | F3: CL | G3: ATMP | H3: EM | I3: CE
C4: MALADIE | D4: CONGES SANS SOLDES | E4: MATERNITE/PATERNITE | F4: CONGES LONGUE MALADIE/LONGUE DUREE | G4: ACCIDENT DU W / MALADIE PRO | H4: ENFANT MALADE | I4: CONGES EXCEPTIONNELS | J4: TOTAL ABSENCES
B5: JANVIER | C5: =SUM(JANVIER!$AK$7:$AK$150) -> 80 | D5: =SUM(JANVIER!$AL$7:$AL$150) -> 0 | E5: =SUM(JANVIER!$AM$7:$AM$150) -> 7 | F5: =SUM(JANVIER!$AN$7:$AN$150) -> 0 | G5: =SUM(JANVIER!$AO$7:$AO$150) -> 0 | H5: =SUM(JANVIER!$AP$7:$AP$150) -> 0 | I5: =SUM(JANVIER!$AQ$7:$AQ$150) -> 4 | J5: =SUM(C5:I5) -> 91
B6: FEVRIER | C6: =SUM(FEVRIER!$AK$7:$AK$150) -> 45 | D6: =SUM(FEVRIER!$AL$7:$AL$150) -> 2 | E6: =SUM(FEVRIER!$AM$7:$AM$150) -> 12 | F6: =SUM(FEVRIER!$AN$7:$AN$150) -> 0 | G6: =SUM(FEVRIER!$AO$7:$AO$150) -> 0 | H6: =SUM(FEVRIER!$AP$7:$AP$150) -> 1 | I6: =SUM(FEVRIER!$AQ$7:$AQ$150) -> 0 | J6: =SUM(C6:I6) -> 60
B7: MARS | C7: =SUM(MARS!$AK$7:$AK$150) -> 74 | D7: =SUM(MARS!$AL$7:$AL$150) -> 15 | E7: =SUM(MARS!$AM$7:$AM$150) -> 0 | F7: =SUM(MARS!$AN$7:$AN$150) -> 0 | G7: =SUM(MARS!$AO$7:$AO$150) -> 2 | H7: =SUM(MARS!$AP$7:$AP$150) -> 1 | I7: =SUM(MARS!$AQ$7:$AQ$150) -> 0 | J7: =SUM(C7:I7) -> 92
B8: AVRIL | C8: =SUM(AVRIL!$AK$7:$AK$150) -> 37 | D8: =SUM(AVRIL!$AL$7:$AL$150) -> 0 | E8: =SUM(AVRIL!$AM$7:$AM$150) -> 0 | F8: =SUM(AVRIL!$AN$7:$AN$150) -> 0 | G8: =SUM(AVRIL!$AO$7:$AO$150) -> 14 | H8: =SUM(AVRIL!$AP$7:$AP$150) -> 0 | I8: =SUM(AVRIL!$AQ$7:$AQ$150) -> 1 | J8: =SUM(C8:I8) -> 52
B9: MAI | C9: =SUM(MAI!$AK$7:$AK$150) -> 27 | D9: =SUM(MAI!$AL$7:$AL$150) -> 0 | E9: =SUM(MAI!$AM$7:$AM$150) -> 6 | F9: =SUM(MAI!$AN$7:$AN$150) -> 0 | G9: =SUM(MAI!$AO$7:$AO$150) -> 22 | H9: =SUM(MAI!$AP$7:$AP$150) -> 2 | I9: =SUM(MAI!$AQ$7:$AQ$150) -> 4 | J9: =SUM(C9:I9) -> 61
B10: JUIN | C10: =SUM(JUIN!$AK$7:$AK$150) -> 79 | D10: =SUM(JUIN!$AL$7:$AL$150) -> 0 | E10: =SUM(JUIN!$AM$7:$AM$150) -> 23 | F10: =SUM(JUIN!$AN$7:$AN$150) -> 0 | G10: =SUM(JUIN!$AO$7:$AO$150) -> 2 | H10: =SUM(JUIN!$AP$7:$AP$150) -> 1 | I10: =SUM(JUIN!$AQ$7:$AQ$150) -> 5 | J10: =SUM(C10:I10) -> 110
B11: JUILLET | C11: =SUM(JUILLET!$AK$7:$AK$150) -> 51 | D11: =SUM(JUILLET!$AL$7:$AL$150) -> 0 | E11: =SUM(JUILLET!$AM$7:$AM$150) -> 14 | F11: =SUM(JUILLET!$AN$7:$AN$150) -> 0 | G11: =SUM(JUILLET!$AO$7:$AO$150) -> 0 | H11: =SUM(JUILLET!$AP$7:$AP$150) -> 0 | I11: =SUM(JUILLET!$AQ$7:$AQ$150) -> 0 | J11: =SUM(C11:I11) -> 65
B12: AOUT | C12: =SUM(AOUT!$AK$7:$AK$150) -> 0 | D12: =SUM(AOUT!$AL$7:$AL$150) -> 0 | E12: =SUM(AOUT!$AM$7:$AM$150) -> 0 | F12: =SUM(AOUT!$AN$7:$AN$150) -> 0 | G12: =SUM(AOUT!$AO$7:$AO$150) -> 0 | H12: =SUM(AOUT!$AP$7:$AP$150) -> 0 | I12: =SUM(AOUT!$AQ$7:$AQ$150) -> 0 | J12: =SUM(C12:I12) -> 0
B13: SEPTEMBRE | C13: =SUM(SEPTEMBRE!$AK$7:$AK$150) -> 7 | D13: =SUM(SEPTEMBRE!$AL$7:$AL$150) -> 0 | E13: =SUM(SEPTEMBRE!$AM$7:$AM$150) -> 17 | F13: =SUM(SEPTEMBRE!$AN$7:$AN$150) -> 0 | G13: =SUM(SEPTEMBRE!$AO$7:$AO$150) -> 0 | H13: =SUM(SEPTEMBRE!$AP$7:$AP$150) -> 3 | I13: =SUM(SEPTEMBRE!$AQ$7:$AQ$150) -> 0 | J13: =SUM(C13:I13) -> 27
B14: OCTOBRE | C14: =SUM(OCTOBRE!$AK$7:$AK$150) -> 7 | D14: =SUM(OCTOBRE!$AL$7:$AL$150) -> 0 | E14: =SUM(OCTOBRE!$AM$7:$AM$150) -> 0 | F14: =SUM(OCTOBRE!$AN$7:$AN$150) -> 0 | G14: =SUM(OCTOBRE!$AO$7:$AO$150) -> 0 | H14: =SUM(OCTOBRE!$AP$7:$AP$150) -> 4 | I14: =SUM(OCTOBRE!$AQ$7:$AQ$150) -> 0 | J14: =SUM(C14:I14) -> 11
B15: NOVEMBRE | C15: =SUM(NOVEMBRE!$AK$7:$AK$150) -> 56 | D15: =SUM(NOVEMBRE!$AL$7:$AL$150) -> 0 | E15: =SUM(NOVEMBRE!$AM$7:$AM$150) -> 0 | F15: =SUM(NOVEMBRE!$AN$7:$AN$150) -> 0 | G15: =SUM(NOVEMBRE!$AO$7:$AO$150) -> 0 | H15: =SUM(NOVEMBRE!$AP$7:$AP$150) -> 5 | I15: =SUM(NOVEMBRE!$AQ$7:$AQ$150) -> 0 | J15: =SUM(C15:I15) -> 61
B16: DECEMBRE | C16: =SUM(DECEMBRE!$AK$7:$AK$150) -> 79 | D16: =SUM(DECEMBRE!$AL$7:$AL$150) -> 0 | E16: =SUM(DECEMBRE!$AM$7:$AM$150) -> 0 | F16: =SUM(DECEMBRE!$AN$7:$AN$150) -> 0 | G16: =SUM(DECEMBRE!$AO$7:$AO$150) -> 0 | H16: =SUM(DECEMBRE!$AP$7:$AP$150) -> 1 | I16: =SUM(DECEMBRE!$AQ$7:$AQ$150) -> 0 | J16: =SUM(C16:I16) -> 80
B17: TOTAL ABSENCES | C17: =SUM(C5:C16) -> 542 | D17: =SUM(D5:D16) -> 17 | E17: =SUM(E5:E16) -> 79 | F17: =SUM(F5:F16) -> 0 | G17: =SUM(G5:G16) -> 40 | H17: =SUM(H5:H16) -> 18 | I17: =SUM(I5:I16) -> 14 | J17: =SUM(J5:J16) -> 710
B20: RECAPITULATIF DES ABSENCES PAR CATEGORIES PROFESSIONNELS SUR L'ANNEE 2023
C21: pédagogique | D21: éducatif | E21: service administratif | F21: service généraux | G21: thérapeutique | H21: direction | I21: médical | J21: TOTAL ABSENCES
B22: JANVIER | C22: =SUMIFS(INDIRECT($B22&"!$AR$7:$AR$92"),INDIRECT($B22&"!$D$7:$D$92"),'RECAPITULATIF '!C$21) -> 0 | D22: =SUMIFS(INDIRECT($B22&"!$AR$7:$AR$92"),INDIRECT($B22&"!$D$7:$D$92"),'RECAPITULATIF '!D$21) -> 27 | E22: =SUMIFS(INDIRECT($B22&"!$AR$7:$AR$92"),INDIRECT($B22&"!$D$7:$D$92"),'RECAPITULATIF '!E$21) -> 0 | F22: =SUMIFS(INDIRECT($B22&"!$AR$7:$AR$92"),INDIRECT($B22&"!$D$7:$D$92"),'RECAPITULATIF '!F$21) -> 18 | G22: =SUMIFS(INDIRECT($B22&"!$AR$7:$AR$92"),INDIRECT($B22&"!$D$7:$D$92"),'RECAPITULATIF '!G$21) -> 46 | H22: =SUMIFS(INDIRECT($B22&"!$AR$7:$AR$92"),INDIRECT($B22&"!$D$7:$D$92"),'RECAPITULATIF '!H$21) -> 0 | I22: =SUMIFS(INDIRECT($B22&"!$AR$7:$AR$92"),INDIRECT($B22&"!$D$7:$D$92"),'RECAPITULATIF '!I$21) -> 0 | J22: =SUM(C22:I22) -> 91
B23: FEVRIER | C23: =SUMIFS(INDIRECT($B23&"!$AR$7:$AR$92"),INDIRECT($B23&"!$D$7:$D$92"),'RECAPITULATIF '!C$21) -> 0 | D23: =SUMIFS(INDIRECT($B23&"!$AR$7:$AR$92"),INDIRECT($B23&"!$D$7:$D$92"),'RECAPITULATIF '!D$21) -> 38 | E23: =SUMIFS(INDIRECT($B23&"!$AR$7:$AR$92"),INDIRECT($B23&"!$D$7:$D$92"),'RECAPITULATIF '!E$21) -> 0 | F23: =SUMIFS(INDIRECT($B23&"!$AR$7:$AR$92"),INDIRECT($B23&"!$D$7:$D$92"),'RECAPITULATIF '!F$21) -> 0 | G23: =SUMIFS(INDIRECT($B23&"!$AR$7:$AR$92"),INDIRECT($B23&"!$D$7:$D$92"),'RECAPITULATIF '!G$21) -> 22 | H23: =SUMIFS(INDIRECT($B23&"!$AR$7:$AR$92"),INDIRECT($B23&"!$D$7:$D$92"),'RECAPITULATIF '!H$21) -> 0 | I23: =SUMIFS(INDIRECT($B23&"!$AR$7:$AR$92"),INDIRECT($B23&"!$D$7:$D$92"),'RECAPITULATIF '!I$21) -> 0 | J23: =SUM(C23:I23) -> 60
B24: MARS | C24: =SUMIFS(INDIRECT($B24&"!$AR$7:$AR$92"),INDIRECT($B24&"!$D$7:$D$92"),'RECAPITULATIF '!C$21) -> 0 | D24: =SUMIFS(INDIRECT($B24&"!$AR$7:$AR$92"),INDIRECT($B24&"!$D$7:$D$92"),'RECAPITULATIF '!D$21) -> 91 | E24: =SUMIFS(INDIRECT($B24&"!$AR$7:$AR$92"),INDIRECT($B24&"!$D$7:$D$92"),'RECAPITULATIF '!E$21) -> 0 | F24: =SUMIFS(INDIRECT($B24&"!$AR$7:$AR$92"),INDIRECT($B24&"!$D$7:$D$92"),'RECAPITULATIF '!F$21) -> 0 | G24: =SUMIFS(INDIRECT($B24&"!$AR$7:$AR$92"),INDIRECT($B24&"!$D$7:$D$92"),'RECAPITULATIF '!G$21) -> 1 | H24: =SUMIFS(INDIRECT($B24&"!$AR$7:$AR$92"),INDIRECT($B24&"!$D$7:$D$92"),'RECAPITULATIF '!H$21) -> 0 | I24: =SUMIFS(INDIRECT($B24&"!$AR$7:$AR$92"),INDIRECT($B24&"!$D$7:$D$92"),'RECAPITULATIF '!I$21) -> 0 | J24: =SUM(C24:I24) -> 92
B25: AVRIL | C25: =SUMIFS(INDIRECT($B25&"!$AR$7:$AR$92"),INDIRECT($B25&"!$D$7:$D$92"),'RECAPITULATIF '!C$21) -> 0 | D25: =SUMIFS(INDIRECT($B25&"!$AR$7:$AR$92"),INDIRECT($B25&"!$D$7:$D$92"),'RECAPITULATIF '!D$21) -> 42 | E25: =SUMIFS(INDIRECT($B25&"!$AR$7:$AR$92"),INDIRECT($B25&"!$D$7:$D$92"),'RECAPITULATIF '!E$21) -> 0 | F25: =SUMIFS(INDIRECT($B25&"!$AR$7:$AR$92"),INDIRECT($B25&"!$D$7:$D$92"),'RECAPITULATIF '!F$21) -> 0 | G25: =SUMIFS(INDIRECT($B25&"!$AR$7:$AR$92"),INDIRECT($B25&"!$D$7:$D$92"),'RECAPITULATIF '!G$21) -> 10 | H25: =SUMIFS(INDIRECT($B25&"!$AR$7:$AR$92"),INDIRECT($B25&"!$D$7:$D$92"),'RECAPITULATIF '!H$21) -> 0 | I25: =SUMIFS(INDIRECT($B25&"!$AR$7:$AR$92"),INDIRECT($B25&"!$D$7:$D$92"),'RECAPITULATIF '!I$21) -> 0 | J25: =SUM(C25:I25) -> 52
B26: MAI | C26: =SUMIFS(INDIRECT($B26&"!$AR$7:$AR$92"),INDIRECT($B26&"!$D$7:$D$92"),'RECAPITULATIF '!C$21) -> 0 | D26: =SUMIFS(INDIRECT($B26&"!$AR$7:$AR$92"),INDIRECT($B26&"!$D$7:$D$92"),'RECAPITULATIF '!D$21) -> 50 | E26: =SUMIFS(INDIRECT($B26&"!$AR$7:$AR$92"),INDIRECT($B26&"!$D$7:$D$92"),'RECAPITULATIF '!E$21) -> 0 | F26: =SUMIFS(INDIRECT($B26&"!$AR$7:$AR$92"),INDIRECT($B26&"!$D$7:$D$92"),'RECAPITULATIF '!F$21) -> 0 | G26: =SUMIFS(INDIRECT($B26&"!$AR$7:$AR$92"),INDIRECT($B26&"!$D$7:$D$92"),'RECAPITULATIF '!G$21) -> 11 | H26: =SUMIFS(INDIRECT($B26&"!$AR$7:$AR$92"),INDIRECT($B26&"!$D$7:$D$92"),'RECAPITULATIF '!H$21) -> 0 | I26: =SUMIFS(INDIRECT($B26&"!$AR$7:$AR$92"),INDIRECT($B26&"!$D$7:$D$92"),'RECAPITULATIF '!I$21) -> 0 | J26: =SUM(C26:I26) -> 61
B27: JUIN | C27: =SUMIFS(INDIRECT($B27&"!$AR$7:$AR$92"),INDIRECT($B27&"!$D$7:$D$92"),'RECAPITULATIF '!C$21) -> 0 | D27: =SUMIFS(INDIRECT($B27&"!$AR$7:$AR$92"),INDIRECT($B27&"!$D$7:$D$92"),'RECAPITULATIF '!D$21) -> 81 | E27: =SUMIFS(INDIRECT($B27&"!$AR$7:$AR$92"),INDIRECT($B27&"!$D$7:$D$92"),'RECAPITULATIF '!E$21) -> 5 | F27: =SUMIFS(INDIRECT($B27&"!$AR$7:$AR$92"),INDIRECT($B27&"!$D$7:$D$92"),'RECAPITULATIF '!F$21) -> 5 | G27: =SUMIFS(INDIRECT($B27&"!$AR$7:$AR$92"),INDIRECT($B27&"!$D$7:$D$92"),'RECAPITULATIF '!G$21) -> 19 | H27: =SUMIFS(INDIRECT($B27&"!$AR$7:$AR$92"),INDIRECT($B27&"!$D$7:$D$92"),'RECAPITULATIF '!H$21) -> 0 | I27: =SUMIFS(INDIRECT($B27&"!$AR$7:$AR$92"),INDIRECT($B27&"!$D$7:$D$92"),'RECAPITULATIF '!I$21) -> 0 | J27: =SUM(C27:I27) -> 110
B28: JUILLET | C28: =SUMIFS(INDIRECT($B28&"!$AR$7:$AR$92"),INDIRECT($B28&"!$D$7:$D$92"),'RECAPITULATIF '!C$21) -> 0 | D28: =SUMIFS(INDIRECT($B28&"!$AR$7:$AR$92"),INDIRECT($B28&"!$D$7:$D$92"),'RECAPITULATIF '!D$21) -> 45 | E28: =SUMIFS(INDIRECT($B28&"!$AR$7:$AR$92"),INDIRECT($B28&"!$D$7:$D$92"),'RECAPITULATIF '!E$21) -> 4 | F28: =SUMIFS(INDIRECT($B28&"!$AR$7:$AR$92"),INDIRECT($B28&"!$D$7:$D$92"),'RECAPITULATIF '!F$21) -> 0 | G28: =SUMIFS(INDIRECT($B28&"!$AR$7:$AR$92"),INDIRECT($B28&"!$D$7:$D$92"),'RECAPITULATIF '!G$21) -> 16 | H28: =SUMIFS(INDIRECT($B28&"!$AR$7:$AR$92"),INDIRECT($B28&"!$D$7:$D$92"),'RECAPITULATIF '!H$21) -> 0 | I28: =SUMIFS(INDIRECT($B28&"!$AR$7:$AR$92"),INDIRECT($B28&"!$D$7:$D$92"),'RECAPITULATIF '!I$21) -> 0 | J28: =SUM(C28:I28) -> 65
B29: AOUT | C29: =SUMIFS(INDIRECT($B29&"!$AR$7:$AR$92"),INDIRECT($B29&"!$D$7:$D$92"),'RECAPITULATIF '!C$21) -> 0 | D29: =SUMIFS(INDIRECT($B29&"!$AR$7:$AR$92"),INDIRECT($B29&"!$D$7:$D$92"),'RECAPITULATIF '!D$21) -> 0 | E29: =SUMIFS(INDIRECT($B29&"!$AR$7:$AR$92"),INDIRECT($B29&"!$D$7:$D$92"),'RECAPITULATIF '!E$21) -> 0 | F29: =SUMIFS(INDIRECT($B29&"!$AR$7:$AR$92"),INDIRECT($B29&"!$D$7:$D$92"),'RECAPITULATIF '!F$21) -> 0 | G29: =SUMIFS(INDIRECT($B29&"!$AR$7:$AR$92"),INDIRECT($B29&"!$D$7:$D$92"),'RECAPITULATIF '!G$21) -> 0 | H29: =SUMIFS(INDIRECT($B29&"!$AR$7:$AR$92"),INDIRECT($B29&"!$D$7:$D$92"),'RECAPITULATIF '!H$21) -> 0 | I29: =SUMIFS(INDIRECT($B29&"!$AR$7:$AR$92"),INDIRECT($B29&"!$D$7:$D$92"),'RECAPITULATIF '!I$21) -> 0 | J29: =SUM(C29:I29) -> 0
B30: SEPTEMBRE | C30: =SUMIFS(INDIRECT($B30&"!$AR$7:$AR$92"),INDIRECT($B30&"!$D$7:$D$92"),'RECAPITULATIF '!C$21) -> 0 | D30: =SUMIFS(INDIRECT($B30&"!$AR$7:$AR$92"),INDIRECT($B30&"!$D$7:$D$92"),'RECAPITULATIF '!D$21) -> 24 | E30: =SUMIFS(INDIRECT($B30&"!$AR$7:$AR$92"),INDIRECT($B30&"!$D$7:$D$92"),'RECAPITULATIF '!E$21) -> 0 | F30: =SUMIFS(INDIRECT($B30&"!$AR$7:$AR$92"),INDIRECT($B30&"!$D$7:$D$92"),'RECAPITULATIF '!F$21) -> 0 | G30: =SUMIFS(INDIRECT($B30&"!$AR$7:$AR$92"),INDIRECT($B30&"!$D$7:$D$92"),'RECAPITULATIF '!G$21) -> 3 | H30: =SUMIFS(INDIRECT($B30&"!$AR$7:$AR$92"),INDIRECT($B30&"!$D$7:$D$92"),'RECAPITULATIF '!H$21) -> 0 | I30: =SUMIFS(INDIRECT($B30&"!$AR$7:$AR$92"),INDIRECT($B30&"!$D$7:$D$92"),'RECAPITULATIF '!I$21) -> 0 | J30: =SUM(C30:I30) -> 27
B31: OCTOBRE | C31: =SUMIFS(INDIRECT($B31&"!$AR$7:$AR$92"),INDIRECT($B31&"!$D$7:$D$92"),'RECAPITULATIF '!C$21) -> 0 | D31: =SUMIFS(INDIRECT($B31&"!$AR$7:$AR$92"),INDIRECT($B31&"!$D$7:$D$92"),'RECAPITULATIF '!D$21) -> 10 | E31: =SUMIFS(INDIRECT($B31&"!$AR$7:$AR$92"),INDIRECT($B31&"!$D$7:$D$92"),'RECAPITULATIF '!E$21) -> 0 | F31: =SUMIFS(INDIRECT($B31&"!$AR$7:$AR$92"),INDIRECT($B31&"!$D$7:$D$92"),'RECAPITULATIF '!F$21) -> 0 | G31: =SUMIFS(INDIRECT($B31&"!$AR$7:$AR$92"),INDIRECT($B31&"!$D$7:$D$92"),'RECAPITULATIF '!G$21) -> 1 | H31: =SUMIFS(INDIRECT($B31&"!$AR$7:$AR$92"),INDIRECT($B31&"!$D$7:$D$92"),'RECAPITULATIF '!H$21) -> 0 | I31: =SUMIFS(INDIRECT($B31&"!$AR$7:$AR$92"),INDIRECT($B31&"!$D$7:$D$92"),'RECAPITULATIF '!I$21) -> 0 | J31: =SUM(C31:I31) -> 11
B32: NOVEMBRE | C32: =SUMIFS(INDIRECT($B32&"!$AR$7:$AR$92"),INDIRECT($B32&"!$D$7:$D$92"),'RECAPITULATIF '!C$21) -> 0 | D32: =SUMIFS(INDIRECT($B32&"!$AR$7:$AR$92"),INDIRECT($B32&"!$D$7:$D$92"),'RECAPITULATIF '!D$21) -> 47 | E32: =SUMIFS(INDIRECT($B32&"!$AR$7:$AR$92"),INDIRECT($B32&"!$D$7:$D$92"),'RECAPITULATIF '!E$21) -> 0 | F32: =SUMIFS(INDIRECT($B32&"!$AR$7:$AR$92"),INDIRECT($B32&"!$D$7:$D$92"),'RECAPITULATIF '!F$21) -> 6 | G32: =SUMIFS(INDIRECT($B32&"!$AR$7:$AR$92"),INDIRECT($B32&"!$D$7:$D$92"),'RECAPITULATIF '!G$21) -> 8 | H32: =SUMIFS(INDIRECT($B32&"!$AR$7:$AR$92"),INDIRECT($B32&"!$D$7:$D$92"),'RECAPITULATIF '!H$21) -> 0 | I32: =SUMIFS(INDIRECT($B32&"!$AR$7:$AR$92"),INDIRECT($B32&"!$D$7:$D$92"),'RECAPITULATIF '!I$21) -> 0 | J32: =SUM(C32:I32) -> 61
B33: DECEMBRE | C33: =SUMIFS(INDIRECT($B33&"!$AR$7:$AR$92"),INDIRECT($B33&"!$D$7:$D$92"),'RECAPITULATIF '!C$21) -> 0 | D33: =SUMIFS(INDIRECT($B33&"!$AR$7:$AR$92"),INDIRECT($B33&"!$D$7:$D$92"),'RECAPITULATIF '!D$21) -> 31 | E33: =SUMIFS(INDIRECT($B33&"!$AR$7:$AR$92"),INDIRECT($B33&"!$D$7:$D$92"),'RECAPITULATIF '!E$21) -> 0 | F33: =SUMIFS(INDIRECT($B33&"!$AR$7:$AR$92"),INDIRECT($B33&"!$D$7:$D$92"),'RECAPITULATIF '!F$21) -> 23 | G33: =SUMIFS(INDIRECT($B33&"!$AR$7:$AR$92"),INDIRECT($B33&"!$D$7:$D$92"),'RECAPITULATIF '!G$21) -> 26 | H33: =SUMIFS(INDIRECT($B33&"!$AR$7:$AR$92"),INDIRECT($B33&"!$D$7:$D$92"),'RECAPITULATIF '!H$21) -> 0 | I33: =SUMIFS(INDIRECT($B33&"!$AR$7:$AR$92"),INDIRECT($B33&"!$D$7:$D$92"),'RECAPITULATIF '!I$21) -> 0 | J33: =SUM(C33:I33) -> 80
B34: TOTAL ABSENCES | C34: =SUM(C22:C33) -> 0 | D34: =SUM(D22:D33) -> 486 | E34: =SUM(E22:E33) -> 9 | F34: =SUM(F22:F33) -> 52 | G34: =SUM(G22:G33) -> 163 | H34: =SUM(H22:H33) -> 0 | I34: =SUM(I22:I33) -> 0 | J34: =SUM(J22:J33) -> 710
B36: RECAPITULATIF DES ABSENCES PAR CATEGORIES PROFESSIONNELS et MOTIFS SUR L'ANNEE 2023

Sheet JANVIER
B1: ='@CONFIG'!F3 -> 44927
B2: ='@CONFIG'!G3 -> 44957
E3: =B1 -> 44927 | F3: =E3+1 -> 44928 | G3: =F3+1 -> 44929 | H3: =G3+1 -> 44930 | I3: =H3+1 -> 44931 | J3: =I3+1 -> 44932 | K3: =J3+1 -> 44933 | L3: =K3+1 -> 44934 | M3: =L3+1 -> 44935 | ... AI3: =AH3+1 -> 44957
A4: JANVIER
E5: =DAY(E3) -> 1 | F5: =DAY(F3) -> 2 | G5: =DAY(G3) -> 3 | H5: =DAY(H3) -> 4 | I5: =DAY(I3) -> 5 | J5: =DAY(J3) -> 6 | K5: =DAY(K3) -> 7 | L5: =DAY(L3) -> 8 | ... AI5: =DAY(AI3) -> 31 | AK5: M | AL5: CSS | AM5: MP | AN5: CL | AO5: ATMP | AP5: EM | AQ5: CE
B6: NOM | C6: PRENOM | D6: CAT PRO | E6: =WEEKDAY(E3) -> 1 | F6: =WEEKDAY(F3) -> 2 | G6: =WEEKDAY(G3) -> 3 | H6: =WEEKDAY(H3) -> 4 | I6: =WEEKDAY(I3) -> 5 | J6: =WEEKDAY(J3) -> 6 | K6: =WEEKDAY(K3) -> 7 | L6: =WEEKDAY(L3) -> 1 | ... AI6: =WEEKDAY(AI3) -> 3 | AK6: MALADIE | AL6: CONGES SANS SOLDES | AM6: MATERNITE/PATERNITE | AN6: CONGES LONGUE MALADIE/LONGUE DUREE | AO6: ACCIDENT DU W / MALADIE PRO | AP6: ENFANT MALADE | AQ6: CONGES EXCEPTIONNELS
B7: =+'@CONFIG'!$B$2 -> ANDRE | C7: ='@CONFIG'!$C$2 -> F | D7: ='@CONFIG'!$D$2 -> pédagogique | AK7: =COUNTIF(E7:AI7,"m") -> 0 | AL7: =COUNTIF(E7:AI7,"CSS") -> 0 | AM7: =COUNTIF(E7:AI7,"MP") -> 0 | AN7: =COUNTIF(E7:AI7,"CL") -> 0 | AO7: =COUNTIF(E7:AI7,"ATMP") -> 0 | AP7: =COUNTIF(E7:AI7,"EM") -> 0 | AQ7: =COUNTIF(E7:AI7,"CE") -> 0 | AR7: =SUM(AK7:AQ7) -> 0
B8: =+'@CONFIG'!$B$3 -> BERNARD | C8: ='@CONFIG'!$C$3 -> G | D8: ='@CONFIG'!$D$3 -> éducatif | AK8: =COUNTIF(E8:AI8,"m") -> 0 | AL8: =COUNTIF(E8:AI8,"CSS") -> 0 | AM8: =COUNTIF(E8:AI8,"MP") -> 0 | AN8: =COUNTIF(E8:AI8,"CL") -> 0 | AO8: =COUNTIF(E8:AI8,"ATMP") -> 0 | AP8: =COUNTIF(E8:AI8,"EM") -> 0 | AQ8: =COUNTIF(E8:AI8,"CE") -> 0 | AR8: =SUM(AK8:AQ8) -> 0
B9: =+'@CONFIG'!$B$4 -> BERNARD | C9: ='@CONFIG'!$C$4 -> T | D9: ='@CONFIG'!$D$4 -> service administratif | AK9: =COUNTIF(E9:AI9,"m") -> 0 | AL9: =COUNTIF(E9:AI9,"CSS") -> 0 | AM9: =COUNTIF(E9:AI9,"MP") -> 0 | AN9: =COUNTIF(E9:AI9,"CL") -> 0 | AO9: =COUNTIF(E9:AI9,"ATMP") -> 0 | AP9: =COUNTIF(E9:AI9,"EM") -> 0 | AQ9: =COUNTIF(E9:AI9,"CE") -> 0 | AR9: =SUM(AK9:AQ9) -> 0
B10: =+'@CONFIG'!$B$5 -> BOURDON | C10: ='@CONFIG'!$C$5 -> S | D10: ='@CONFIG'!$D$5 -> éducatif | AK10: =COUNTIF(E10:AI10,"m") -> 0 | AL10: =COUNTIF(E10:AI10,"CSS") -> 0 | AM10: =COUNTIF(E10:AI10,"MP") -> 0 | AN10: =COUNTIF(E10:AI10,"CL") -> 0 | AO10: =COUNTIF(E10:AI10,"ATMP") -> 0 | AP10: =COUNTIF(E10:AI10,"EM") -> 0 | AQ10: =COUNTIF(E10:AI10,"CE") -> 0 | AR10: =SUM(AK10:AQ10) -> 0
B11: =+'@CONFIG'!$B$6 -> BOURGA | C11: ='@CONFIG'!$C$6 -> B | D11: ='@CONFIG'!$D$6 -> éducatif | AK11: =COUNTIF(E11:AI11,"m") -> 0 | AL11: =COUNTIF(E11:AI11,"CSS") -> 0 | AM11: =COUNTIF(E11:AI11,"MP") -> 0 | AN11: =COUNTIF(E11:AI11,"CL") -> 0 | AO11: =COUNTIF(E11:AI11,"ATMP") -> 0 | AP11: =COUNTIF(E11:AI11,"EM") -> 0 | AQ11: =COUNTIF(E11:AI11,"CE") -> 0 | AR11: =SUM(AK11:AQ11) -> 0
B12: =+'@CONFIG'!$B$7 -> BRANCHUT | C12: ='@CONFIG'!$C$7 -> G | D12: ='@CONFIG'!$D$7 -> service administratif | AK12: =COUNTIF(E12:AI12,"m") -> 0 | AL12: =COUNTIF(E12:AI12,"CSS") -> 0 | AM12: =COUNTIF(E12:AI12,"MP") -> 0 | AN12: =COUNTIF(E12:AI12,"CL") -> 0 | AO12: =COUNTIF(E12:AI12,"ATMP") -> 0 | AP12: =COUNTIF(E12:AI12,"EM") -> 0 | AQ12: =COUNTIF(E12:AI12,"CE") -> 0 | AR12: =SUM(AK12:AQ12) -> 0
B13: =+'@CONFIG'!$B$8 -> BROUTIN | C13: ='@CONFIG'!$C$8 -> D | D13: ='@CONFIG'!$D$8 -> éducatif | AK13: =COUNTIF(E13:AI13,"m") -> 0 | AL13: =COUNTIF(E13:AI13,"CSS") -> 0 | AM13: =COUNTIF(E13:AI13,"MP") -> 0 | AN13: =COUNTIF(E13:AI13,"CL") -> 0 | AO13: =COUNTIF(E13:AI13,"ATMP") -> 0 | AP13: =COUNTIF(E13:AI13,"EM") -> 0 | AQ13: =COUNTIF(E13:AI13,"CE") -> 0 | AR13: =SUM(AK13:AQ13) -> 0
B14: =+'@CONFIG'!$B$9 -> CAGNEAUX | C14: ='@CONFIG'!$C$9 -> Z | D14: ='@CONFIG'!$D$9 -> service généraux | AK14: =COUNTIF(E14:AI14,"m") -> 0 | AL14: =COUNTIF(E14:AI14,"CSS") -> 0 | AM14: =COUNTIF(E14:AI14,"MP") -> 0 | AN14: =COUNTIF(E14:AI14,"CL") -> 0 | AO14: =COUNTIF(E14:AI14,"ATMP") -> 0 | AP14: =COUNTIF(E14:AI14,"EM") -> 0 | AQ14: =COUNTIF(E14:AI14,"CE") -> 0 | AR14: =SUM(AK14:AQ14) -> 0
B15: =+'@CONFIG'!$B$10 -> CAMPAGNOLO | C15: ='@CONFIG'!$C$10 -> F | D15: ='@CONFIG'!$D$10 -> éducatif | AK15: =COUNTIF(E15:AI15,"m") -> 0 | AL15: =COUNTIF(E15:AI15,"CSS") -> 0 | AM15: =COUNTIF(E15:AI15,"MP") -> 0 | AN15: =COUNTIF(E15:AI15,"CL") -> 0 | AO15: =COUNTIF(E15:AI15,"ATMP") -> 0 | AP15: =COUNTIF(E15:AI15,"EM") -> 0 | AQ15: =COUNTIF(E15:AI15,"CE") -> 0 | AR15: =SUM(AK15:AQ15) -> 0
B16: =+'@CONFIG'!$B$11 -> CANIAUX | C16: ='@CONFIG'!$C$11 -> H | D16: ='@CONFIG'!$D$11 -> service généraux | H16: M | I16: M | J16: M | M16: M | N16: M | O16: M | P16: M | Q16: M | T16: M | U16: M | V16: M | W16: M | X16: M | AA16: M | AB16: M | AC16: M | AD16: M | AE16: M | AK16: =COUNTIF(E16:AI16,"m") -> 18 | AL16: =COUNTIF(E16:AI16,"CSS") -> 0 | AM16: =COUNTIF(E16:AI16,"MP") -> 0 | AN16: =COUNTIF(E16:AI16,"CL") -> 0 | AO16: =COUNTIF(E16:AI16,"ATMP") -> 0 | AP16: =COUNTIF(E16:AI16,"EM") -> 0 | AQ16: =COUNTIF(E16:AI16,"CE") -> 0 | AR16: =SUM(AK16:AQ16) -> 18
B17: =+'@CONFIG'!$B$12 -> CATRIN | C17: ='@CONFIG'!$C$12 -> K | D17: ='@CONFIG'!$D$12 -> service généraux | AK17: =COUNTIF(E17:AI17,"m") -> 0 | AL17: =COUNTIF(E17:AI17,"CSS") -> 0 | AM17: =COUNTIF(E17:AI17,"MP") -> 0 | AN17: =COUNTIF(E17:AI17,"CL") -> 0 | AO17: =COUNTIF(E17:AI17,"ATMP") -> 0 | AP17: =COUNTIF(E17:AI17,"EM") -> 0 | AQ17: =COUNTIF(E17:AI17,"CE") -> 0 | AR17: =SUM(AK17:AQ17) -> 0
B18: =+'@CONFIG'!$B$13 -> COLMANT | C18: ='@CONFIG'!$C$13 -> E | D18: ='@CONFIG'!$D$13 -> thérapeutique | G18: M | H18: M | I18: M | J18: M | M18: M | N18: M | O18: M | P18: M | Q18: M | T18: M | U18: M | V18: M | W18: M | X18: M | AA18: M | AB18: M | AC18: M | AD18: M | AE18: M | AH18: M | AI18: M | AK18: =COUNTIF(E18:AI18,"m") -> 21 | AL18: =COUNTIF(E18:AI18,"CSS") -> 0 | AM18: =COUNTIF(E18:AI18,"MP") -> 0 | AN18: =COUNTIF(E18:AI18,"CL") -> 0 | AO18: =COUNTIF(E18:AI18,"ATMP") -> 0 | AP18: =COUNTIF(E18:AI18,"EM") -> 0 | AQ18: =COUNTIF(E18:AI18,"CE") -> 0 | AR18: =SUM(AK18:AQ18) -> 21
B19: =+'@CONFIG'!$B$14 -> DA COSTA | C19: ='@CONFIG'!$C$14 -> Z | D19: ='@CONFIG'!$D$14 -> éducatif | AK19: =COUNTIF(E19:AI19,"m") -> 0 | AL19: =COUNTIF(E19:AI19,"CSS") -> 0 | AM19: =COUNTIF(E19:AI19,"MP") -> 0 | AN19: =COUNTIF(E19:AI19,"CL") -> 0 | AO19: =COUNTIF(E19:AI19,"ATMP") -> 0 | AP19: =COUNTIF(E19:AI19,"EM") -> 0 | AQ19: =COUNTIF(E19:AI19,"CE") -> 0 | AR19: =SUM(AK19:AQ19) -> 0
B20: =+'@CONFIG'!$B$15 -> DANDUMONT | C20: ='@CONFIG'!$C$15 -> S | D20: ='@CONFIG'!$D$15 -> direction | AK20: =COUNTIF(E20:AI20,"m") -> 0 | AL20: =COUNTIF(E20:AI20,"CSS") -> 0 | AM20: =COUNTIF(E20:AI20,"MP") -> 0 | AN20: =COUNTIF(E20:AI20,"CL") -> 0 | AO20: =COUNTIF(E20:AI20,"ATMP") -> 0 | AP20: =COUNTIF(E20:AI20,"EM") -> 0 | AQ20: =COUNTIF(E20:AI20,"CE") -> 0 | AR20: =SUM(AK20:AQ20) -> 0
B21: =+'@CONFIG'!$B$16 -> DELEBOIS | C21: ='@CONFIG'!$C$16 -> Z | D21: ='@CONFIG'!$D$16 -> médical | AK21: =COUNTIF(E21:AI21,"m") -> 0 | AL21: =COUNTIF(E21:AI21,"CSS") -> 0 | AM21: =COUNTIF(E21:AI21,"MP") -> 0 | AN21: =COUNTIF(E21:AI21,"CL") -> 0 | AO21: =COUNTIF(E21:AI21,"ATMP") -> 0 | AP21: =COUNTIF(E21:AI21,"EM") -> 0 | AQ21: =COUNTIF(E21:AI21,"CE") -> 0 | AR21: =SUM(AK21:AQ21) -> 0
B22: =+'@CONFIG'!$B$17 -> DELHAYE | C22: ='@CONFIG'!$C$17 -> V | D22: ='@CONFIG'!$D$17 -> éducatif | AK22: =COUNTIF(E22:AI22,"m") -> 0 | AL22: =COUNTIF(E22:AI22,"CSS") -> 0 | AM22: =COUNTIF(E22:AI22,"MP") -> 0 | AN22: =COUNTIF(E22:AI22,"CL") -> 0 | AO22: =COUNTIF(E22:AI22,"ATMP") -> 0 | AP22: =COUNTIF(E22:AI22,"EM") -> 0 | AQ22: =COUNTIF(E22:AI22,"CE") -> 0 | AR22: =SUM(AK22:AQ22) -> 0
B23: =+'@CONFIG'!$B$18 -> DELHAYE | C23: ='@CONFIG'!$C$18 -> Z | D23: ='@CONFIG'!$D$18 -> service généraux | AK23: =COUNTIF(E23:AI23,"m") -> 0 | AL23: =COUNTIF(E23:AI23,"CSS") -> 0 | AM23: =COUNTIF(E23:AI23,"MP") -> 0 | AN23: =COUNTIF(E23:AI23,"CL") -> 0 | AO23: =COUNTIF(E23:AI23,"ATMP") -> 0 | AP23: =COUNTIF(E23:AI23,"EM") -> 0 | AQ23: =COUNTIF(E23:AI23,"CE") -> 0 | AR23: =SUM(AK23:AQ23) -> 0
B24: =+'@CONFIG'!$B$19 -> DELMAS | C24: ='@CONFIG'!$C$19 -> A | D24: ='@CONFIG'!$D$19 -> thérapeutique | AK24: =COUNTIF(E24:AI24,"m") -> 0 | AL24: =COUNTIF(E24:AI24,"CSS") -> 0 | AM24: =COUNTIF(E24:AI24,"MP") -> 0 | AN24: =COUNTIF(E24:AI24,"CL") -> 0 | AO24: =COUNTIF(E24:AI24,"ATMP") -> 0 | AP24: =COUNTIF(E24:AI24,"EM") -> 0 | AQ24: =COUNTIF(E24:AI24,"CE") -> 0 | AR24: =SUM(AK24:AQ24) -> 0
B25: =+'@CONFIG'!$B$20 -> DEMANGECLAUDE | C25: ='@CONFIG'!$C$20 -> F | D25: ='@CONFIG'!$D$20 -> service généraux | AK25: =COUNTIF(E25:AI25,"m") -> 0 | AL25: =COUNTIF(E25:AI25,"CSS") -> 0 | AM25: =COUNTIF(E25:AI25,"MP") -> 0 | AN25: =COUNTIF(E25:AI25,"CL") -> 0 | AO25: =COUNTIF(E25:AI25,"ATMP") -> 0 | AP25: =COUNTIF(E25:AI25,"EM") -> 0 | AQ25: =COUNTIF(E25:AI25,"CE") -> 0 | AR25: =SUM(AK25:AQ25) -> 0
B26: =+'@CONFIG'!$B$21 -> DESTREE | C26: ='@CONFIG'!$C$21 -> Z | D26: ='@CONFIG'!$D$21 -> éducatif | AK26: =COUNTIF(E26:AI26,"m") -> 0 | AL26: =COUNTIF(E26:AI26,"CSS") -> 0 | AM26: =COUNTIF(E26:AI26,"MP") -> 0 | AN26: =COUNTIF(E26:AI26,"CL") -> 0 | AO26: =COUNTIF(E26:AI26,"ATMP") -> 0 | AP26: =COUNTIF(E26:AI26,"EM") -> 0 | AQ26: =COUNTIF(E26:AI26,"CE") -> 0 | AR26: =SUM(AK26:AQ26) -> 0
B27: =+'@CONFIG'!$B$22 -> DUCARMES | C27: ='@CONFIG'!$C$22 -> R | D27: ='@CONFIG'!$D$22 -> éducatif | AK27: =COUNTIF(E27:AI27,"m") -> 0 | AL27: =COUNTIF(E27:AI27,"CSS") -> 0 | AM27: =COUNTIF(E27:AI27,"MP") -> 0 | AN27: =COUNTIF(E27:AI27,"CL") -> 0 | AO27: =COUNTIF(E27:AI27,"ATMP") -> 0 | AP27: =COUNTIF(E27:AI27,"EM") -> 0 | AQ27: =COUNTIF(E27:AI27,"CE") -> 0 | AR27: =SUM(AK27:AQ27) -> 0
B28: =+'@CONFIG'!B23 -> DUCARMES | C28: ='@CONFIG'!$C$23 -> F | D28: ='@CONFIG'!$D$23 -> direction | AK28: =COUNTIF(E28:AI28,"m") -> 0 | AL28: =COUNTIF(E28:AI28,"CSS") -> 0 | AM28: =COUNTIF(E28:AI28,"MP") -> 0 | AN28: =COUNTIF(E28:AI28,"CL") -> 0 | AO28: =COUNTIF(E28:AI28,"ATMP") -> 0 | AP28: =COUNTIF(E28:AI28,"EM") -> 0 | AQ28: =COUNTIF(E28:AI28,"CE") -> 0 | AR28: =SUM(AK28:AQ28) -> 0
B29: =+'@CONFIG'!$B$24 -> DUGARD | C29: ='@CONFIG'!$C$24 -> F | D29: ='@CONFIG'!$D$24 -> éducatif | AK29: =COUNTIF(E29:AI29,"m") -> 0 | AL29: =COUNTIF(E29:AI29,"CSS") -> 0 | AM29: =COUNTIF(E29:AI29,"MP") -> 0 | AN29: =COUNTIF(E29:AI29,"CL") -> 0 | AO29: =COUNTIF(E29:AI29,"ATMP") -> 0 | AP29: =COUNTIF(E29:AI29,"EM") -> 0 | AQ29: =COUNTIF(E29:AI29,"CE") -> 0 | AR29: =SUM(AK29:AQ29) -> 0
B30: =+'@CONFIG'!$B$25 -> FORTEMPS | C30: ='@CONFIG'!$C$25 -> S | D30: ='@CONFIG'!$D$25 -> thérapeutique | W30: CE | X30: CE | AK30: =COUNTIF(E30:AI30,"m") -> 0 | AL30: =COUNTIF(E30:AI30,"CSS") -> 0 | AM30: =COUNTIF(E30:AI30,"MP") -> 0 | AN30: =COUNTIF(E30:AI30,"CL") -> 0 | AO30: =COUNTIF(E30:AI30,"ATMP") -> 0 | AP30: =COUNTIF(E30:AI30,"EM") -> 0 | AQ30: =COUNTIF(E30:AI30,"CE") -> 2 | AR30: =SUM(AK30:AQ30) -> 2
B31: =+'@CONFIG'!$B$26 -> FOUREUR | C31: ='@CONFIG'!$C$26 -> A | D31: ='@CONFIG'!$D$26 -> thérapeutique | AK31: =COUNTIF(E31:AI31,"m") -> 0 | AL31: =COUNTIF(E31:AI31,"CSS") -> 0 | AM31: =COUNTIF(E31:AI31,"MP") -> 0 | AN31: =COUNTIF(E31:AI31,"CL") -> 0 | AO31: =COUNTIF(E31:AI31,"ATMP") -> 0 | AP31: =COUNTIF(E31:AI31,"EM") -> 0 | AQ31: =COUNTIF(E31:AI31,"CE") -> 0 | AR31: =SUM(AK31:AQ31) -> 0
B32: =+'@CONFIG'!$B$27 -> GABORIT | C32: ='@CONFIG'!$C$27 -> D | D32: ='@CONFIG'!$D$27 -> thérapeutique | AK32: =COUNTIF(E32:AI32,"m") -> 0 | AL32: =COUNTIF(E32:AI32,"CSS") -> 0 | AM32: =COUNTIF(E32:AI32,"MP") -> 0 | AN32: =COUNTIF(E32:AI32,"CL") -> 0 | AO32: =COUNTIF(E32:AI32,"ATMP") -> 0 | AP32: =COUNTIF(E32:AI32,"EM") -> 0 | AQ32: =COUNTIF(E32:AI32,"CE") -> 0 | AR32: =SUM(AK32:AQ32) -> 0
B33: =+'@CONFIG'!$B$28 -> GODET | C33: ='@CONFIG'!$C$28 -> G | D33: ='@CONFIG'!$D$28 -> éducatif | AK33: =COUNTIF(E33:AI33,"m") -> 0 | AL33: =COUNTIF(E33:AI33,"CSS") -> 0 | AM33: =COUNTIF(E33:AI33,"MP") -> 0 | AN33: =COUNTIF(E33:AI33,"CL") -> 0 | AO33: =COUNTIF(E33:AI33,"ATMP") -> 0 | AP33: =COUNTIF(E33:AI33,"EM") -> 0 | AQ33: =COUNTIF(E33:AI33,"CE") -> 0 | AR33: =SUM(AK33:AQ33) -> 0
B34: =+'@CONFIG'!$B$29 -> GOMES | C34: ='@CONFIG'!$C$29 -> B | D34: ='@CONFIG'!$D$29 -> service généraux | AK34: =COUNTIF(E34:AI34,"m") -> 0 | AL34: =COUNTIF(E34:AI34,"CSS") -> 0 | AM34: =COUNTIF(E34:AI34,"MP") -> 0 | AN34: =COUNTIF(E34:AI34,"CL") -> 0 | AO34: =COUNTIF(E34:AI34,"ATMP") -> 0 | AP34: =COUNTIF(E34:AI34,"EM") -> 0 | AQ34: =COUNTIF(E34:AI34,"CE") -> 0 | AR34: =SUM(AK34:AQ34) -> 0
B35: =+'@CONFIG'!$B$30 -> GONCALVES | C35: ='@CONFIG'!$C$30 -> L | D35: ='@CONFIG'!$D$30 -> éducatif | AC35: M | AD35: M | AE35: M | AH35: M | AI35: M | AK35: =COUNTIF(E35:AI35,"m") -> 5 | AL35: =COUNTIF(E35:AI35,"CSS") -> 0 | AM35: =COUNTIF(E35:AI35,"MP") -> 0 | AN35: =COUNTIF(E35:AI35,"CL") -> 0 | AO35: =COUNTIF(E35:AI35,"ATMP") -> 0 | AP35: =COUNTIF(E35:AI35,"EM") -> 0 | AQ35: =COUNTIF(E35:AI35,"CE") -> 0 | AR35: =SUM(AK35:AQ35) -> 5
B36: =+'@CONFIG'!$B$31 -> GUERIN | C36: ='@CONFIG'!$C$31 -> O | D36: ='@CONFIG'!$D$31 -> pédagogique | AK36: =COUNTIF(E36:AI36,"m") -> 0 | AL36: =COUNTIF(E36:AI36,"CSS") -> 0 | AM36: =COUNTIF(E36:AI36,"MP") -> 0 | AN36: =COUNTIF(E36:AI36,"CL") -> 0 | AO36: =COUNTIF(E36:AI36,"ATMP") -> 0 | AP36: =COUNTIF(E36:AI36,"EM") -> 0 | AQ36: =COUNTIF(E36:AI36,"CE") -> 0 | AR36: =SUM(AK36:AQ36) -> 0
B37: =+'@CONFIG'!$B$32 -> HELIN | C37: ='@CONFIG'!$C$32 -> U | D37: ='@CONFIG'!$D$32 -> service généraux | AK37: =COUNTIF(E37:AI37,"m") -> 0 | AL37: =COUNTIF(E37:AI37,"CSS") -> 0 | AM37: =COUNTIF(E37:AI37,"MP") -> 0 | AN37: =COUNTIF(E37:AI37,"CL") -> 0 | AO37: =COUNTIF(E37:AI37,"ATMP") -> 0 | AP37: =COUNTIF(E37:AI37,"EM") -> 0 | AQ37: =COUNTIF(E37:AI37,"CE") -> 0 | AR37: =SUM(AK37:AQ37) -> 0
B38: =+'@CONFIG'!$B$33 -> HELIN | C38: ='@CONFIG'!$C$33 -> T | D38: ='@CONFIG'!$D$33 -> thérapeutique | AK38: =COUNTIF(E38:AI38,"m") -> 0 | AL38: =COUNTIF(E38:AI38,"CSS") -> 0 | AM38: =COUNTIF(E38:AI38,"MP") -> 0 | AN38: =COUNTIF(E38:AI38,"CL") -> 0 | AO38: =COUNTIF(E38:AI38,"ATMP") -> 0 | AP38: =COUNTIF(E38:AI38,"EM") -> 0 | AQ38: =COUNTIF(E38:AI38,"CE") -> 0 | AR38: =SUM(AK38:AQ38) -> 0
B39: =+'@CONFIG'!$B$34 -> HENRARD | C39: ='@CONFIG'!$C$34 -> E | D39: ='@CONFIG'!$D$34 -> service administratif | AK39: =COUNTIF(E39:AI39,"m") -> 0 | AL39: =COUNTIF(E39:AI39,"CSS") -> 0 | AM39: =COUNTIF(E39:AI39,"MP") -> 0 | AN39: =COUNTIF(E39:AI39,"CL") -> 0 | AO39: =COUNTIF(E39:AI39,"ATMP") -> 0 | AP39: =COUNTIF(E39:AI39,"EM") -> 0 | AQ39: =COUNTIF(E39:AI39,"CE") -> 0 | AR39: =SUM(AK39:AQ39) -> 0
B40: =+'@CONFIG'!$B$35 -> HINS | C40: ='@CONFIG'!$C$35 -> Z | D40: ='@CONFIG'!$D$35 -> thérapeutique | AK40: =COUNTIF(E40:AI40,"m") -> 0 | AL40: =COUNTIF(E40:AI40,"CSS") -> 0 | AM40: =COUNTIF(E40:AI40,"MP") -> 0 | AN40: =COUNTIF(E40:AI40,"CL") -> 0 | AO40: =COUNTIF(E40:AI40,"ATMP") -> 0 | AP40: =COUNTIF(E40:AI40,"EM") -> 0 | AQ40: =COUNTIF(E40:AI40,"CE") -> 0 | AR40: =SUM(AK40:AQ40) -> 0
...

Sheet FEVRIER
B1: ='@CONFIG'!F4 -> 44958
B2: ='@CONFIG'!G4 -> 44985
E3: =B1 -> 44958 | F3: =E3+1 -> 44959 | G3: =F3+1 -> 44960 | H3: =G3+1 -> 44961 | I3: =H3+1 -> 44962 | J3: =I3+1 -> 44963 | K3: =J3+1 -> 44964 | L3: =K3+1 -> 44965 | M3: =L3+1 -> 44966 | ... AI3: =AH3+1 -> 44988
A4: FEVRIER
E5: =DAY(E3) -> 1 | F5: =DAY(F3) -> 2 | G5: =DAY(G3) -> 3 | H5: =DAY(H3) -> 4 | I5: =DAY(I3) -> 5 | J5: =DAY(J3) -> 6 | K5: =DAY(K3) -> 7 | L5: =DAY(L3) -> 8 | ... AI5: =DAY(AI3) -> 3 | AK5: M | AL5: CSS | AM5: MP | AN5: CL | AO5: ATMP | AP5: EM | AQ5: CE
B6: NOM | C6: PRENOM | D6: CAT PRO | E6: =WEEKDAY(E3) -> 4 | F6: =WEEKDAY(F3) -> 5 | G6: =WEEKDAY(G3) -> 6 | H6: =WEEKDAY(H3) -> 7 | I6: =WEEKDAY(I3) -> 1 | J6: =WEEKDAY(J3) -> 2 | K6: =WEEKDAY(K3) -> 3 | L6: =WEEKDAY(L3) -> 4 | ... AI6: =WEEKDAY(AI3) -> 6 | AK6: MALADIE | AL6: CONGES SANS SOLDES | AM6: MATERNITE/PATERNITE | AN6: CONGES LONGUE MALADIE/LONGUE DUREE | AO6: ACCIDENT DU W / MALADIE PRO | AP6: ENFANT MALADE | AQ6: CONGES EXCEPTIONNELS
B7: =+'@CONFIG'!$B$2 -> ANDRE | C7: ='@CONFIG'!$C$2 -> F | D7: ='@CONFIG'!$D$2 -> pédagogique | AK7: =COUNTIF(E7:AI7,"m") -> 0 | AL7: =COUNTIF(E7:AI7,"CSS") -> 0 | AM7: =COUNTIF(E7:AI7,"MP") -> 0 | AN7: =COUNTIF(E7:AI7,"CL") -> 0 | AO7: =COUNTIF(E7:AI7,"ATMP") -> 0 | AP7: =COUNTIF(E7:AI7,"EM") -> 0 | AQ7: =COUNTIF(E7:AI7,"CE") -> 0 | AR7: =SUM(AK7:AQ7) -> 0
B8: =+'@CONFIG'!$B$3 -> BERNARD | C8: ='@CONFIG'!$C$3 -> G | D8: ='@CONFIG'!$D$3 -> éducatif | AK8: =COUNTIF(E8:AI8,"m") -> 0 | AL8: =COUNTIF(E8:AI8,"CSS") -> 0 | AM8: =COUNTIF(E8:AI8,"MP") -> 0 | AN8: =COUNTIF(E8:AI8,"CL") -> 0 | AO8: =COUNTIF(E8:AI8,"ATMP") -> 0 | AP8: =COUNTIF(E8:AI8,"EM") -> 0 | AQ8: =COUNTIF(E8:AI8,"CE") -> 0 | AR8: =SUM(AK8:AQ8) -> 0
B9: =+'@CONFIG'!$B$4 -> BERNARD | C9: ='@CONFIG'!$C$4 -> T | D9: ='@CONFIG'!$D$4 -> service administratif | AK9: =COUNTIF(E9:AI9,"m") -> 0 | AL9: =COUNTIF(E9:AI9,"CSS") -> 0 | AM9: =COUNTIF(E9:AI9,"MP") -> 0 | AN9: =COUNTIF(E9:AI9,"CL") -> 0 | AO9: =COUNTIF(E9:AI9,"ATMP") -> 0 | AP9: =COUNTIF(E9:AI9,"EM") -> 0 | AQ9: =COUNTIF(E9:AI9,"CE") -> 0 | AR9: =SUM(AK9:AQ9) -> 0
B10: =+'@CONFIG'!$B$5 -> BOURDON | C10: ='@CONFIG'!$C$5 -> S | D10: ='@CONFIG'!$D$5 -> éducatif | AK10: =COUNTIF(E10:AI10,"m") -> 0 | AL10: =COUNTIF(E10:AI10,"CSS") -> 0 | AM10: =COUNTIF(E10:AI10,"MP") -> 0 | AN10: =COUNTIF(E10:AI10,"CL") -> 0 | AO10: =COUNTIF(E10:AI10,"ATMP") -> 0 | AP10: =COUNTIF(E10:AI10,"EM") -> 0 | AQ10: =COUNTIF(E10:AI10,"CE") -> 0 | AR10: =SUM(AK10:AQ10) -> 0
B11: =+'@CONFIG'!$B$6 -> BOURGA | C11: ='@CONFIG'!$C$6 -> B | D11: ='@CONFIG'!$D$6 -> éducatif | AK11: =COUNTIF(E11:AI11,"m") -> 0 | AL11: =COUNTIF(E11:AI11,"CSS") -> 0 | AM11: =COUNTIF(E11:AI11,"MP") -> 0 | AN11: =COUNTIF(E11:AI11,"CL") -> 0 | AO11: =COUNTIF(E11:AI11,"ATMP") -> 0 | AP11: =COUNTIF(E11:AI11,"EM") -> 0 | AQ11: =COUNTIF(E11:AI11,"CE") -> 0 | AR11: =SUM(AK11:AQ11) -> 0
B12: =+'@CONFIG'!$B$7 -> BRANCHUT | C12: ='@CONFIG'!$C$7 -> G | D12: ='@CONFIG'!$D$7 -> service administratif | AK12: =COUNTIF(E12:AI12,"m") -> 0 | AL12: =COUNTIF(E12:AI12,"CSS") -> 0 | AM12: =COUNTIF(E12:AI12,"MP") -> 0 | AN12: =COUNTIF(E12:AI12,"CL") -> 0 | AO12: =COUNTIF(E12:AI12,"ATMP") -> 0 | AP12: =COUNTIF(E12:AI12,"EM") -> 0 | AQ12: =COUNTIF(E12:AI12,"CE") -> 0 | AR12: =SUM(AK12:AQ12) -> 0
B13: =+'@CONFIG'!$B$8 -> BROUTIN | C13: ='@CONFIG'!$C$8 -> D | D13: ='@CONFIG'!$D$8 -> éducatif | AK13: =COUNTIF(E13:AI13,"m") -> 0 | AL13: =COUNTIF(E13:AI13,"CSS") -> 0 | AM13: =COUNTIF(E13:AI13,"MP") -> 0 | AN13: =COUNTIF(E13:AI13,"CL") -> 0 | AO13: =COUNTIF(E13:AI13,"ATMP") -> 0 | AP13: =COUNTIF(E13:AI13,"EM") -> 0 | AQ13: =COUNTIF(E13:AI13,"CE") -> 0 | AR13: =SUM(AK13:AQ13) -> 0
B14: =+'@CONFIG'!$B$9 -> CAGNEAUX | C14: ='@CONFIG'!$C$9 -> Z | D14: ='@CONFIG'!$D$9 -> service généraux | AK14: =COUNTIF(E14:AI14,"m") -> 0 | AL14: =COUNTIF(E14:AI14,"CSS") -> 0 | AM14: =COUNTIF(E14:AI14,"MP") -> 0 | AN14: =COUNTIF(E14:AI14,"CL") -> 0 | AO14: =COUNTIF(E14:AI14,"ATMP") -> 0 | AP14: =COUNTIF(E14:AI14,"EM") -> 0 | AQ14: =COUNTIF(E14:AI14,"CE") -> 0 | AR14: =SUM(AK14:AQ14) -> 0
B15: =+'@CONFIG'!$B$10 -> CAMPAGNOLO | C15: ='@CONFIG'!$C$10 -> F | D15: ='@CONFIG'!$D$10 -> éducatif | AK15: =COUNTIF(E15:AI15,"m") -> 0 | AL15: =COUNTIF(E15:AI15,"CSS") -> 0 | AM15: =COUNTIF(E15:AI15,"MP") -> 0 | AN15: =COUNTIF(E15:AI15,"CL") -> 0 | AO15: =COUNTIF(E15:AI15,"ATMP") -> 0 | AP15: =COUNTIF(E15:AI15,"EM") -> 0 | AQ15: =COUNTIF(E15:AI15,"CE") -> 0 | AR15: =SUM(AK15:AQ15) -> 0
B16: =+'@CONFIG'!$B$11 -> CANIAUX | C16: ='@CONFIG'!$C$11 -> H | D16: ='@CONFIG'!$D$11 -> service généraux | AK16: =COUNTIF(E16:AI16,"m") -> 0 | AL16: =COUNTIF(E16:AI16,"CSS") -> 0 | AM16: =COUNTIF(E16:AI16,"MP") -> 0 | AN16: =COUNTIF(E16:AI16,"CL") -> 0 | AO16: =COUNTIF(E16:AI16,"ATMP") -> 0 | AP16: =COUNTIF(E16:AI16,"EM") -> 0 | AQ16: =COUNTIF(E16:AI16,"CE") -> 0 | AR16: =SUM(AK16:AQ16) -> 0
B17: =+'@CONFIG'!$B$12 -> CATRIN | C17: ='@CONFIG'!$C$12 -> K | D17: ='@CONFIG'!$D$12 -> service généraux | AK17: =COUNTIF(E17:AI17,"m") -> 0 | AL17: =COUNTIF(E17:AI17,"CSS") -> 0 | AM17: =COUNTIF(E17:AI17,"MP") -> 0 | AN17: =COUNTIF(E17:AI17,"CL") -> 0 | AO17: =COUNTIF(E17:AI17,"ATMP") -> 0 | AP17: =COUNTIF(E17:AI17,"EM") -> 0 | AQ17: =COUNTIF(E17:AI17,"CE") -> 0 | AR17: =SUM(AK17:AQ17) -> 0
B18: =+'@CONFIG'!$B$13 -> COLMANT | C18: ='@CONFIG'!$C$13 -> E | D18: ='@CONFIG'!$D$13 -> thérapeutique | E18: M | F18: M | G18: M | J18: M | K18: M | L18: M | M18: M | N18: M | Q18: M | R18: M | S18: M | T18: M | U18: M | AK18: =COUNTIF(E18:AI18,"m") -> 13 | AL18: =COUNTIF(E18:AI18,"CSS") -> 0 | AM18: =COUNTIF(E18:AI18,"MP") -> 0 | AN18: =COUNTIF(E18:AI18,"CL") -> 0 | AO18: =COUNTIF(E18:AI18,"ATMP") -> 0 | AP18: =COUNTIF(E18:AI18,"EM") -> 0 | AQ18: =COUNTIF(E18:AI18,"CE") -> 0 | AR18: =SUM(AK18:AQ18) -> 13
B19: =+'@CONFIG'!$B$14 -> DA COSTA | C19: ='@CONFIG'!$C$14 -> Z | D19: ='@CONFIG'!$D$14 -> éducatif | AK19: =COUNTIF(E19:AI19,"m") -> 0 | AL19: =COUNTIF(E19:AI19,"CSS") -> 0 | AM19: =COUNTIF(E19:AI19,"MP") -> 0 | AN19: =COUNTIF(E19:AI19,"CL") -> 0 | AO19: =COUNTIF(E19:AI19,"ATMP") -> 0 | AP19: =COUNTIF(E19:AI19,"EM") -> 0 | AQ19: =COUNTIF(E19:AI19,"CE") -> 0 | AR19: =SUM(AK19:AQ19) -> 0
B20: =+'@CONFIG'!$B$15 -> DANDUMONT | C20: ='@CONFIG'!$C$15 -> S | D20: ='@CONFIG'!$D$15 -> direction | AK20: =COUNTIF(E20:AI20,"m") -> 0 | AL20: =COUNTIF(E20:AI20,"CSS") -> 0 | AM20: =COUNTIF(E20:AI20,"MP") -> 0 | AN20: =COUNTIF(E20:AI20,"CL") -> 0 | AO20: =COUNTIF(E20:AI20,"ATMP") -> 0 | AP20: =COUNTIF(E20:AI20,"EM") -> 0 | AQ20: =COUNTIF(E20:AI20,"CE") -> 0 | AR20: =SUM(AK20:AQ20) -> 0
B21: =+'@CONFIG'!$B$16 -> DELEBOIS | C21: ='@CONFIG'!$C$16 -> Z | D21: ='@CONFIG'!$D$16 -> médical | AK21: =COUNTIF(E21:AI21,"m") -> 0 | AL21: =COUNTIF(E21:AI21,"CSS") -> 0 | AM21: =COUNTIF(E21:AI21,"MP") -> 0 | AN21: =COUNTIF(E21:AI21,"CL") -> 0 | AO21: =COUNTIF(E21:AI21,"ATMP") -> 0 | AP21: =COUNTIF(E21:AI21,"EM") -> 0 | AQ21: =COUNTIF(E21:AI21,"CE") -> 0 | AR21: =SUM(AK21:AQ21) -> 0
B22: =+'@CONFIG'!$B$17 -> DELHAYE | C22: ='@CONFIG'!$C$17 -> V | D22: ='@CONFIG'!$D$17 -> éducatif | AF22: M | AK22: =COUNTIF(E22:AI22,"m") -> 1 | AL22: =COUNTIF(E22:AI22,"CSS") -> 0 | AM22: =COUNTIF(E22:AI22,"MP") -> 0 | AN22: =COUNTIF(E22:AI22,"CL") -> 0 | AO22: =COUNTIF(E22:AI22,"ATMP") -> 0 | AP22: =COUNTIF(E22:AI22,"EM") -> 0 | AQ22: =COUNTIF(E22:AI22,"CE") -> 0 | AR22: =SUM(AK22:AQ22) -> 1
B23: =+'@CONFIG'!$B$18 -> DELHAYE | C23: ='@CONFIG'!$C$18 -> Z | D23: ='@CONFIG'!$D$18 -> service généraux | AK23: =COUNTIF(E23:AI23,"m") -> 0 | AL23: =COUNTIF(E23:AI23,"CSS") -> 0 | AM23: =COUNTIF(E23:AI23,"MP") -> 0 | AN23: =COUNTIF(E23:AI23,"CL") -> 0 | AO23: =COUNTIF(E23:AI23,"ATMP") -> 0 | AP23: =COUNTIF(E23:AI23,"EM") -> 0 | AQ23: =COUNTIF(E23:AI23,"CE") -> 0 | AR23: =SUM(AK23:AQ23) -> 0
B24: =+'@CONFIG'!$B$19 -> DELMAS | C24: ='@CONFIG'!$C$19 -> A | D24: ='@CONFIG'!$D$19 -> thérapeutique | AK24: =COUNTIF(E24:AI24,"m") -> 0 | AL24: =COUNTIF(E24:AI24,"CSS") -> 0 | AM24: =COUNTIF(E24:AI24,"MP") -> 0 | AN24: =COUNTIF(E24:AI24,"CL") -> 0 | AO24: =COUNTIF(E24:AI24,"ATMP") -> 0 | AP24: =COUNTIF(E24:AI24,"EM") -> 0 | AQ24: =COUNTIF(E24:AI24,"CE") -> 0 | AR24: =SUM(AK24:AQ24) -> 0
B25: =+'@CONFIG'!$B$20 -> DEMANGECLAUDE | C25: ='@CONFIG'!$C$20 -> F | D25: ='@CONFIG'!$D$20 -> service généraux | AK25: =COUNTIF(E25:AI25,"m") -> 0 | AL25: =COUNTIF(E25:AI25,"CSS") -> 0 | AM25: =COUNTIF(E25:AI25,"MP") -> 0 | AN25: =COUNTIF(E25:AI25,"CL") -> 0 | AO25: =COUNTIF(E25:AI25,"ATMP") -> 0 | AP25: =COUNTIF(E25:AI25,"EM") -> 0 | AQ25: =COUNTIF(E25:AI25,"CE") -> 0 | AR25: =SUM(AK25:AQ25) -> 0
B26: =+'@CONFIG'!$B$21 -> DESTREE | C26: ='@CONFIG'!$C$21 -> Z | D26: ='@CONFIG'!$D$21 -> éducatif | AK26: =COUNTIF(E26:AI26,"m") -> 0 | AL26: =COUNTIF(E26:AI26,"CSS") -> 0 | AM26: =COUNTIF(E26:AI26,"MP") -> 0 | AN26: =COUNTIF(E26:AI26,"CL") -> 0 | AO26: =COUNTIF(E26:AI26,"ATMP") -> 0 | AP26: =COUNTIF(E26:AI26,"EM") -> 0 | AQ26: =COUNTIF(E26:AI26,"CE") -> 0 | AR26: =SUM(AK26:AQ26) -> 0
B27: =+'@CONFIG'!$B$22 -> DUCARMES | C27: ='@CONFIG'!$C$22 -> R | D27: ='@CONFIG'!$D$22 -> éducatif | AK27: =COUNTIF(E27:AI27,"m") -> 0 | AL27: =COUNTIF(E27:AI27,"CSS") -> 0 | AM27: =COUNTIF(E27:AI27,"MP") -> 0 | AN27: =COUNTIF(E27:AI27,"CL") -> 0 | AO27: =COUNTIF(E27:AI27,"ATMP") -> 0 | AP27: =COUNTIF(E27:AI27,"EM") -> 0 | AQ27: =COUNTIF(E27:AI27,"CE") -> 0 | AR27: =SUM(AK27:AQ27) -> 0
B28: =+'@CONFIG'!B23 -> DUCARMES | C28: ='@CONFIG'!$C$23 -> F | D28: ='@CONFIG'!$D$23 -> direction | AK28: =COUNTIF(E28:AI28,"m") -> 0 | AL28: =COUNTIF(E28:AI28,"CSS") -> 0 | AM28: =COUNTIF(E28:AI28,"MP") -> 0 | AN28: =COUNTIF(E28:AI28,"CL") -> 0 | AO28: =COUNTIF(E28:AI28,"ATMP") -> 0 | AP28: =COUNTIF(E28:AI28,"EM") -> 0 | AQ28: =COUNTIF(E28:AI28,"CE") -> 0 | AR28: =SUM(AK28:AQ28) -> 0
B29: =+'@CONFIG'!$B$24 -> DUGARD | C29: ='@CONFIG'!$C$24 -> F | D29: ='@CONFIG'!$D$24 -> éducatif | AK29: =COUNTIF(E29:AI29,"m") -> 0 | AL29: =COUNTIF(E29:AI29,"CSS") -> 0 | AM29: =COUNTIF(E29:AI29,"MP") -> 0 | AN29: =COUNTIF(E29:AI29,"CL") -> 0 | AO29: =COUNTIF(E29:AI29,"ATMP") -> 0 | AP29: =COUNTIF(E29:AI29,"EM") -> 0 | AQ29: =COUNTIF(E29:AI29,"CE") -> 0 | AR29: =SUM(AK29:AQ29) -> 0
B30: =+'@CONFIG'!$B$25 -> FORTEMPS | C30: ='@CONFIG'!$C$25 -> S | D30: ='@CONFIG'!$D$25 -> thérapeutique | AK30: =COUNTIF(E30:AI30,"m") -> 0 | AL30: =COUNTIF(E30:AI30,"CSS") -> 0 | AM30: =COUNTIF(E30:AI30,"MP") -> 0 | AN30: =COUNTIF(E30:AI30,"CL") -> 0 | AO30: =COUNTIF(E30:AI30,"ATMP") -> 0 | AP30: =COUNTIF(E30:AI30,"EM") -> 0 | AQ30: =COUNTIF(E30:AI30,"CE") -> 0 | AR30: =SUM(AK30:AQ30) -> 0
B31: =+'@CONFIG'!$B$26 -> FOUREUR | C31: ='@CONFIG'!$C$26 -> A | D31: ='@CONFIG'!$D$26 -> thérapeutique | G31: M | J31: M | K31: M | L31: M | M31: M | N31: M | AK31: =COUNTIF(E31:AI31,"m") -> 6 | AL31: =COUNTIF(E31:AI31,"CSS") -> 0 | AM31: =COUNTIF(E31:AI31,"MP") -> 0 | AN31: =COUNTIF(E31:AI31,"CL") -> 0 | AO31: =COUNTIF(E31:AI31,"ATMP") -> 0 | AP31: =COUNTIF(E31:AI31,"EM") -> 0 | AQ31: =COUNTIF(E31:AI31,"CE") -> 0 | AR31: =SUM(AK31:AQ31) -> 6
B32: =+'@CONFIG'!$B$27 -> GABORIT | C32: ='@CONFIG'!$C$27 -> D | D32: ='@CONFIG'!$D$27 -> thérapeutique | AK32: =COUNTIF(E32:AI32,"m") -> 0 | AL32: =COUNTIF(E32:AI32,"CSS") -> 0 | AM32: =COUNTIF(E32:AI32,"MP") -> 0 | AN32: =COUNTIF(E32:AI32,"CL") -> 0 | AO32: =COUNTIF(E32:AI32,"ATMP") -> 0 | AP32: =COUNTIF(E32:AI32,"EM") -> 0 | AQ32: =COUNTIF(E32:AI32,"CE") -> 0 | AR32: =SUM(AK32:AQ32) -> 0
B33: =+'@CONFIG'!$B$28 -> GODET | C33: ='@CONFIG'!$C$28 -> G | D33: ='@CONFIG'!$D$28 -> éducatif | AK33: =COUNTIF(E33:AI33,"m") -> 0 | AL33: =COUNTIF(E33:AI33,"CSS") -> 0 | AM33: =COUNTIF(E33:AI33,"MP") -> 0 | AN33: =COUNTIF(E33:AI33,"CL") -> 0 | AO33: =COUNTIF(E33:AI33,"ATMP") -> 0 | AP33: =COUNTIF(E33:AI33,"EM") -> 0 | AQ33: =COUNTIF(E33:AI33,"CE") -> 0 | AR33: =SUM(AK33:AQ33) -> 0
B34: =+'@CONFIG'!$B$29 -> GOMES | C34: ='@CONFIG'!$C$29 -> B | D34: ='@CONFIG'!$D$29 -> service généraux | AK34: =COUNTIF(E34:AI34,"m") -> 0 | AL34: =COUNTIF(E34:AI34,"CSS") -> 0 | AM34: =COUNTIF(E34:AI34,"MP") -> 0 | AN34: =COUNTIF(E34:AI34,"CL") -> 0 | AO34: =COUNTIF(E34:AI34,"ATMP") -> 0 | AP34: =COUNTIF(E34:AI34,"EM") -> 0 | AQ34: =COUNTIF(E34:AI34,"CE") -> 0 | AR34: =SUM(AK34:AQ34) -> 0
B35: =+'@CONFIG'!$B$30 -> GONCALVES | C35: ='@CONFIG'!$C$30 -> L | D35: ='@CONFIG'!$D$30 -> éducatif | E35: M | F35: M | G35: M | J35: M | K35: M | L35: M | M35: M | N35: M | Q35: M | R35: M | S35: M | T35: M | U35: M | AE35: M | AF35: M | AK35: =COUNTIF(E35:AI35,"m") -> 15 | AL35: =COUNTIF(E35:AI35,"CSS") -> 0 | AM35: =COUNTIF(E35:AI35,"MP") -> 0 | AN35: =COUNTIF(E35:AI35,"CL") -> 0 | AO35: =COUNTIF(E35:AI35,"ATMP") -> 0 | AP35: =COUNTIF(E35:AI35,"EM") -> 0 | AQ35: =COUNTIF(E35:AI35,"CE") -> 0 | AR35: =SUM(AK35:AQ35) -> 15
B36: =+'@CONFIG'!$B$31 -> GUERIN | C36: ='@CONFIG'!$C$31 -> O | D36: ='@CONFIG'!$D$31 -> pédagogique | AK36: =COUNTIF(E36:AI36,"m") -> 0 | AL36: =COUNTIF(E36:AI36,"CSS") -> 0 | AM36: =COUNTIF(E36:AI36,"MP") -> 0 | AN36: =COUNTIF(E36:AI36,"CL") -> 0 | AO36: =COUNTIF(E36:AI36,"ATMP") -> 0 | AP36: =COUNTIF(E36:AI36,"EM") -> 0 | AQ36: =COUNTIF(E36:AI36,"CE") -> 0 | AR36: =SUM(AK36:AQ36) -> 0
B37: =+'@CONFIG'!$B$32 -> HELIN | C37: ='@CONFIG'!$C$32 -> U | D37: ='@CONFIG'!$D$32 -> service généraux | AK37: =COUNTIF(E37:AI37,"m") -> 0 | AL37: =COUNTIF(E37:AI37,"CSS") -> 0 | AM37: =COUNTIF(E37:AI37,"MP") -> 0 | AN37: =COUNTIF(E37:AI37,"CL") -> 0 | AO37: =COUNTIF(E37:AI37,"ATMP") -> 0 | AP37: =COUNTIF(E37:AI37,"EM") -> 0 | AQ37: =COUNTIF(E37:AI37,"CE") -> 0 | AR37: =SUM(AK37:AQ37) -> 0
B38: =+'@CONFIG'!$B$33 -> HELIN | C38: ='@CONFIG'!$C$33 -> T | D38: ='@CONFIG'!$D$33 -> thérapeutique | AK38: =COUNTIF(E38:AI38,"m") -> 0 | AL38: =COUNTIF(E38:AI38,"CSS") -> 0 | AM38: =COUNTIF(E38:AI38,"MP") -> 0 | AN38: =COUNTIF(E38:AI38,"CL") -> 0 | AO38: =COUNTIF(E38:AI38,"ATMP") -> 0 | AP38: =COUNTIF(E38:AI38,"EM") -> 0 | AQ38: =COUNTIF(E38:AI38,"CE") -> 0 | AR38: =SUM(AK38:AQ38) -> 0
B39: =+'@CONFIG'!$B$34 -> HENRARD | C39: ='@CONFIG'!$C$34 -> E | D39: ='@CONFIG'!$D$34 -> service administratif | AK39: =COUNTIF(E39:AI39,"m") -> 0 | AL39: =COUNTIF(E39:AI39,"CSS") -> 0 | AM39: =COUNTIF(E39:AI39,"MP") -> 0 | AN39: =COUNTIF(E39:AI39,"CL") -> 0 | AO39: =COUNTIF(E39:AI39,"ATMP") -> 0 | AP39: =COUNTIF(E39:AI39,"EM") -> 0 | AQ39: =COUNTIF(E39:AI39,"CE") -> 0 | AR39: =SUM(AK39:AQ39) -> 0
B40: =+'@CONFIG'!$B$35 -> HINS | C40: ='@CONFIG'!$C$35 -> Z | D40: ='@CONFIG'!$D$35 -> thérapeutique | AK40: =COUNTIF(E40:AI40,"m") -> 0 | AL40: =COUNTIF(E40:AI40,"CSS") -> 0 | AM40: =COUNTIF(E40:AI40,"MP") -> 0 | AN40: =COUNTIF(E40:AI40,"CL") -> 0 | AO40: =COUNTIF(E40:AI40,"ATMP") -> 0 | AP40: =COUNTIF(E40:AI40,"EM") -> 0 | AQ40: =COUNTIF(E40:AI40,"CE") -> 0 | AR40: =SUM(AK40:AQ40) -> 0
...

Sheet MARS
B1: ='@CONFIG'!F5 -> 44986
B2: ='@CONFIG'!G5 -> 45016
E3: =B1 -> 44986 | F3: =E3+1 -> 44987 | G3: =F3+1 -> 44988 | H3: =G3+1 -> 44989 | I3: =H3+1 -> 44990 | J3: =I3+1 -> 44991 | K3: =J3+1 -> 44992 | L3: =K3+1 -> 44993 | M3: =L3+1 -> 44994 | ... AI3: =AH3+1 -> 45016
A4: MARS
E5: =DAY(E3) -> 1 | F5: =DAY(F3) -> 2 | G5: =DAY(G3) -> 3 | H5: =DAY(H3) -> 4 | I5: =DAY(I3) -> 5 | J5: =DAY(J3) -> 6 | K5: =DAY(K3) -> 7 | L5: =DAY(L3) -> 8 | ... AI5: =DAY(AI3) -> 31 | AK5: M | AL5: CSS | AM5: MP | AN5: CL | AO5: ATMP | AP5: EM | AQ5: CE
B6: NOM | C6: PRENOM | D6: CAT PRO | E6: =WEEKDAY(E3) -> 4 | F6: =WEEKDAY(F3) -> 5 | G6: =WEEKDAY(G3) -> 6 | H6: =WEEKDAY(H3) -> 7 | I6: =WEEKDAY(I3) -> 1 | J6: =WEEKDAY(J3) -> 2 | K6: =WEEKDAY(K3) -> 3 | L6: =WEEKDAY(L3) -> 4 | ... AI6: =WEEKDAY(AI3) -> 6 | AK6: MALADIE | AL6: CONGES SANS SOLDES | AM6: MATERNITE/PATERNITE | AN6: CONGES LONGUE MALADIE/LONGUE DUREE | AO6: ACCIDENT DU W / MALADIE PRO | AP6: ENFANT MALADE | AQ6: CONGES EXCEPTIONNELS
B7: =+'@CONFIG'!$B$2 -> ANDRE | C7: ='@CONFIG'!$C$2 -> F | D7: ='@CONFIG'!$D$2 -> pédagogique | AK7: =COUNTIF(E7:AI7,"m") -> 0 | AL7: =COUNTIF(E7:AI7,"CSS") -> 0 | AM7: =COUNTIF(E7:AI7,"MP") -> 0 | AN7: =COUNTIF(E7:AI7,"CL") -> 0 | AO7: =COUNTIF(E7:AI7,"ATMP") -> 0 | AP7: =COUNTIF(E7:AI7,"EM") -> 0 | AQ7: =COUNTIF(E7:AI7,"CE") -> 0 | AR7: =SUM(AK7:AQ7) -> 0
B8: =+'@CONFIG'!$B$3 -> BERNARD | C8: ='@CONFIG'!$C$3 -> G | D8: ='@CONFIG'!$D$3 -> éducatif | AK8: =COUNTIF(E8:AI8,"m") -> 0 | AL8: =COUNTIF(E8:AI8,"CSS") -> 0 | AM8: =COUNTIF(E8:AI8,"MP") -> 0 | AN8: =COUNTIF(E8:AI8,"CL") -> 0 | AO8: =COUNTIF(E8:AI8,"ATMP") -> 0 | AP8: =COUNTIF(E8:AI8,"EM") -> 0 | AQ8: =COUNTIF(E8:AI8,"CE") -> 0 | AR8: =SUM(AK8:AQ8) -> 0
B9: =+'@CONFIG'!$B$4 -> BERNARD | C9: ='@CONFIG'!$C$4 -> T | D9: ='@CONFIG'!$D$4 -> service administratif | AK9: =COUNTIF(E9:AI9,"m") -> 0 | AL9: =COUNTIF(E9:AI9,"CSS") -> 0 | AM9: =COUNTIF(E9:AI9,"MP") -> 0 | AN9: =COUNTIF(E9:AI9,"CL") -> 0 | AO9: =COUNTIF(E9:AI9,"ATMP") -> 0 | AP9: =COUNTIF(E9:AI9,"EM") -> 0 | AQ9: =COUNTIF(E9:AI9,"CE") -> 0 | AR9: =SUM(AK9:AQ9) -> 0
B10: =+'@CONFIG'!$B$5 -> BOURDON | C10: ='@CONFIG'!$C$5 -> S | D10: ='@CONFIG'!$D$5 -> éducatif | AK10: =COUNTIF(E10:AI10,"m") -> 0 | AL10: =COUNTIF(E10:AI10,"CSS") -> 0 | AM10: =COUNTIF(E10:AI10,"MP") -> 0 | AN10: =COUNTIF(E10:AI10,"CL") -> 0 | AO10: =COUNTIF(E10:AI10,"ATMP") -> 0 | AP10: =COUNTIF(E10:AI10,"EM") -> 0 | AQ10: =COUNTIF(E10:AI10,"CE") -> 0 | AR10: =SUM(AK10:AQ10) -> 0
B11: =+'@CONFIG'!$B$6 -> BOURGA | C11: ='@CONFIG'!$C$6 -> B | D11: ='@CONFIG'!$D$6 -> éducatif | AK11: =COUNTIF(E11:AI11,"m") -> 0 | AL11: =COUNTIF(E11:AI11,"CSS") -> 0 | AM11: =COUNTIF(E11:AI11,"MP") -> 0 | AN11: =COUNTIF(E11:AI11,"CL") -> 0 | AO11: =COUNTIF(E11:AI11,"ATMP") -> 0 | AP11: =COUNTIF(E11:AI11,"EM") -> 0 | AQ11: =COUNTIF(E11:AI11,"CE") -> 0 | AR11: =SUM(AK11:AQ11) -> 0
B12: =+'@CONFIG'!$B$7 -> BRANCHUT | C12: ='@CONFIG'!$C$7 -> G | D12: ='@CONFIG'!$D$7 -> service administratif | AK12: =COUNTIF(E12:AI12,"m") -> 0 | AL12: =COUNTIF(E12:AI12,"CSS") -> 0 | AM12: =COUNTIF(E12:AI12,"MP") -> 0 | AN12: =COUNTIF(E12:AI12,"CL") -> 0 | AO12: =COUNTIF(E12:AI12,"ATMP") -> 0 | AP12: =COUNTIF(E12:AI12,"EM") -> 0 | AQ12: =COUNTIF(E12:AI12,"CE") -> 0 | AR12: =SUM(AK12:AQ12) -> 0
B13: =+'@CONFIG'!$B$8 -> BROUTIN | C13: ='@CONFIG'!$C$8 -> D | D13: ='@CONFIG'!$D$8 -> éducatif | AK13: =COUNTIF(E13:AI13,"m") -> 0 | AL13: =COUNTIF(E13:AI13,"CSS") -> 0 | AM13: =COUNTIF(E13:AI13,"MP") -> 0 | AN13: =COUNTIF(E13:AI13,"CL") -> 0 | AO13: =COUNTIF(E13:AI13,"ATMP") -> 0 | AP13: =COUNTIF(E13:AI13,"EM") -> 0 | AQ13: =COUNTIF(E13:AI13,"CE") -> 0 | AR13: =SUM(AK13:AQ13) -> 0
B14: =+'@CONFIG'!$B$9 -> CAGNEAUX | C14: ='@CONFIG'!$C$9 -> Z | D14: ='@CONFIG'!$D$9 -> service généraux | AK14: =COUNTIF(E14:AI14,"m") -> 0 | AL14: =COUNTIF(E14:AI14,"CSS") -> 0 | AM14: =COUNTIF(E14:AI14,"MP") -> 0 | AN14: =COUNTIF(E14:AI14,"CL") -> 0 | AO14: =COUNTIF(E14:AI14,"ATMP") -> 0 | AP14: =COUNTIF(E14:AI14,"EM") -> 0 | AQ14: =COUNTIF(E14:AI14,"CE") -> 0 | AR14: =SUM(AK14:AQ14) -> 0
B15: =+'@CONFIG'!$B$10 -> CAMPAGNOLO | C15: ='@CONFIG'!$C$10 -> F | D15: ='@CONFIG'!$D$10 -> éducatif | AK15: =COUNTIF(E15:AI15,"m") -> 0 | AL15: =COUNTIF(E15:AI15,"CSS") -> 0 | AM15: =COUNTIF(E15:AI15,"MP") -> 0 | AN15: =COUNTIF(E15:AI15,"CL") -> 0 | AO15: =COUNTIF(E15:AI15,"ATMP") -> 0 | AP15: =COUNTIF(E15:AI15,"EM") -> 0 | AQ15: =COUNTIF(E15:AI15,"CE") -> 0 | AR15: =SUM(AK15:AQ15) -> 0
B16: =+'@CONFIG'!$B$11 -> CANIAUX | C16: ='@CONFIG'!$C$11 -> H | D16: ='@CONFIG'!$D$11 -> service généraux | AK16: =COUNTIF(E16:AI16,"m") -> 0 | AL16: =COUNTIF(E16:AI16,"CSS") -> 0 | AM16: =COUNTIF(E16:AI16,"MP") -> 0 | AN16: =COUNTIF(E16:AI16,"CL") -> 0 | AO16: =COUNTIF(E16:AI16,"ATMP") -> 0 | AP16: =COUNTIF(E16:AI16,"EM") -> 0 | AQ16: =COUNTIF(E16:AI16,"CE") -> 0 | AR16: =SUM(AK16:AQ16) -> 0
B17: =+'@CONFIG'!$B$12 -> CATRIN | C17: ='@CONFIG'!$C$12 -> K | D17: ='@CONFIG'!$D$12 -> service généraux | AK17: =COUNTIF(E17:AI17,"m") -> 0 | AL17: =COUNTIF(E17:AI17,"CSS") -> 0 | AM17: =COUNTIF(E17:AI17,"MP") -> 0 | AN17: =COUNTIF(E17:AI17,"CL") -> 0 | AO17: =COUNTIF(E17:AI17,"ATMP") -> 0 | AP17: =COUNTIF(E17:AI17,"EM") -> 0 | AQ17: =COUNTIF(E17:AI17,"CE") -> 0 | AR17: =SUM(AK17:AQ17) -> 0
B18: =+'@CONFIG'!$B$13 -> COLMANT | C18: ='@CONFIG'!$C$13 -> E | D18: ='@CONFIG'!$D$13 -> thérapeutique | AI18: EM | AK18: =COUNTIF(E18:AI18,"m") -> 0 | AL18: =COUNTIF(E18:AI18,"CSS") -> 0 | AM18: =COUNTIF(E18:AI18,"MP") -> 0 | AN18: =COUNTIF(E18:AI18,"CL") -> 0 | AO18: =COUNTIF(E18:AI18,"ATMP") -> 0 | AP18: =COUNTIF(E18:AI18,"EM") -> 1 | AQ18: =COUNTIF(E18:AI18,"CE") -> 0 | AR18: =SUM(AK18:AQ18) -> 1
B19: =+'@CONFIG'!$B$14 -> DA COSTA | C19: ='@CONFIG'!$C$14 -> Z | D19: ='@CONFIG'!$D$14 -> éducatif | AK19: =COUNTIF(E19:AI19,"m") -> 0 | AL19: =COUNTIF(E19:AI19,"CSS") -> 0 | AM19: =COUNTIF(E19:AI19,"MP") -> 0 | AN19: =COUNTIF(E19:AI19,"CL") -> 0 | AO19: =COUNTIF(E19:AI19,"ATMP") -> 0 | AP19: =COUNTIF(E19:AI19,"EM") -> 0 | AQ19: =COUNTIF(E19:AI19,"CE") -> 0 | AR19: =SUM(AK19:AQ19) -> 0
B20: =+'@CONFIG'!$B$15 -> DANDUMONT | C20: ='@CONFIG'!$C$15 -> S | D20: ='@CONFIG'!$D$15 -> direction | AK20: =COUNTIF(E20:AI20,"m") -> 0 | AL20: =COUNTIF(E20:AI20,"CSS") -> 0 | AM20: =COUNTIF(E20:AI20,"MP") -> 0 | AN20: =COUNTIF(E20:AI20,"CL") -> 0 | AO20: =COUNTIF(E20:AI20,"ATMP") -> 0 | AP20: =COUNTIF(E20:AI20,"EM") -> 0 | AQ20: =COUNTIF(E20:AI20,"CE") -> 0 | AR20: =SUM(AK20:AQ20) -> 0
B21: =+'@CONFIG'!$B$16 -> DELEBOIS | C21: ='@CONFIG'!$C$16 -> Z | D21: ='@CONFIG'!$D$16 -> médical | AK21: =COUNTIF(E21:AI21,"m") -> 0 | AL21: =COUNTIF(E21:AI21,"CSS") -> 0 | AM21: =COUNTIF(E21:AI21,"MP") -> 0 | AN21: =COUNTIF(E21:AI21,"CL") -> 0 | AO21: =COUNTIF(E21:AI21,"ATMP") -> 0 | AP21: =COUNTIF(E21:AI21,"EM") -> 0 | AQ21: =COUNTIF(E21:AI21,"CE") -> 0 | AR21: =SUM(AK21:AQ21) -> 0
B22: =+'@CONFIG'!$B$17 -> DELHAYE | C22: ='@CONFIG'!$C$17 -> V | D22: ='@CONFIG'!$D$17 -> éducatif | E22: M | AK22: =COUNTIF(E22:AI22,"m") -> 1 | AL22: =COUNTIF(E22:AI22,"CSS") -> 0 | AM22: =COUNTIF(E22:AI22,"MP") -> 0 | AN22: =COUNTIF(E22:AI22,"CL") -> 0 | AO22: =COUNTIF(E22:AI22,"ATMP") -> 0 | AP22: =COUNTIF(E22:AI22,"EM") -> 0 | AQ22: =COUNTIF(E22:AI22,"CE") -> 0 | AR22: =SUM(AK22:AQ22) -> 1
B23: =+'@CONFIG'!$B$18 -> DELHAYE | C23: ='@CONFIG'!$C$18 -> Z | D23: ='@CONFIG'!$D$18 -> service généraux | AK23: =COUNTIF(E23:AI23,"m") -> 0 | AL23: =COUNTIF(E23:AI23,"CSS") -> 0 | AM23: =COUNTIF(E23:AI23,"MP") -> 0 | AN23: =COUNTIF(E23:AI23,"CL") -> 0 | AO23: =COUNTIF(E23:AI23,"ATMP") -> 0 | AP23: =COUNTIF(E23:AI23,"EM") -> 0 | AQ23: =COUNTIF(E23:AI23,"CE") -> 0 | AR23: =SUM(AK23:AQ23) -> 0
B24: =+'@CONFIG'!$B$19 -> DELMAS | C24: ='@CONFIG'!$C$19 -> A | D24: ='@CONFIG'!$D$19 -> thérapeutique | AK24: =COUNTIF(E24:AI24,"m") -> 0 | AL24: =COUNTIF(E24:AI24,"CSS") -> 0 | AM24: =COUNTIF(E24:AI24,"MP") -> 0 | AN24: =COUNTIF(E24:AI24,"CL") -> 0 | AO24: =COUNTIF(E24:AI24,"ATMP") -> 0 | AP24: =COUNTIF(E24:AI24,"EM") -> 0 | AQ24: =COUNTIF(E24:AI24,"CE") -> 0 | AR24: =SUM(AK24:AQ24) -> 0
B25: =+'@CONFIG'!$B$20 -> DEMANGECLAUDE | C25: ='@CONFIG'!$C$20 -> F | D25: ='@CONFIG'!$D$20 -> service généraux | AK25: =COUNTIF(E25:AI25,"m") -> 0 | AL25: =COUNTIF(E25:AI25,"CSS") -> 0 | AM25: =COUNTIF(E25:AI25,"MP") -> 0 | AN25: =COUNTIF(E25:AI25,"CL") -> 0 | AO25: =COUNTIF(E25:AI25,"ATMP") -> 0 | AP25: =COUNTIF(E25:AI25,"EM") -> 0 | AQ25: =COUNTIF(E25:AI25,"CE") -> 0 | AR25: =SUM(AK25:AQ25) -> 0
B26: =+'@CONFIG'!$B$21 -> DESTREE | C26: ='@CONFIG'!$C$21 -> Z | D26: ='@CONFIG'!$D$21 -> éducatif | AK26: =COUNTIF(E26:AI26,"m") -> 0 | AL26: =COUNTIF(E26:AI26,"CSS") -> 0 | AM26: =COUNTIF(E26:AI26,"MP") -> 0 | AN26: =COUNTIF(E26:AI26,"CL") -> 0 | AO26: =COUNTIF(E26:AI26,"ATMP") -> 0 | AP26: =COUNTIF(E26:AI26,"EM") -> 0 | AQ26: =COUNTIF(E26:AI26,"CE") -> 0 | AR26: =SUM(AK26:AQ26) -> 0
B27: =+'@CONFIG'!$B$22 -> DUCARMES | C27: ='@CONFIG'!$C$22 -> R | D27: ='@CONFIG'!$D$22 -> éducatif | AK27: =COUNTIF(E27:AI27,"m") -> 0 | AL27: =COUNTIF(E27:AI27,"CSS") -> 0 | AM27: =COUNTIF(E27:AI27,"MP") -> 0 | AN27: =COUNTIF(E27:AI27,"CL") -> 0 | AO27: =COUNTIF(E27:AI27,"ATMP") -> 0 | AP27: =COUNTIF(E27:AI27,"EM") -> 0 | AQ27: =COUNTIF(E27:AI27,"CE") -> 0 | AR27: =SUM(AK27:AQ27) -> 0
B28: =+'@CONFIG'!B23 -> DUCARMES | C28: ='@CONFIG'!$C$23 -> F | D28: ='@CONFIG'!$D$23 -> direction | AK28: =COUNTIF(E28:AI28,"m") -> 0 | AL28: =COUNTIF(E28:AI28,"CSS") -> 0 | AM28: =COUNTIF(E28:AI28,"MP") -> 0 | AN28: =COUNTIF(E28:AI28,"CL") -> 0 | AO28: =COUNTIF(E28:AI28,"ATMP") -> 0 | AP28: =COUNTIF(E28:AI28,"EM") -> 0 | AQ28: =COUNTIF(E28:AI28,"CE") -> 0 | AR28: =SUM(AK28:AQ28) -> 0
B29: =+'@CONFIG'!$B$24 -> DUGARD | C29: ='@CONFIG'!$C$24 -> F | D29: ='@CONFIG'!$D$24 -> éducatif | AK29: =COUNTIF(E29:AI29,"m") -> 0 | AL29: =COUNTIF(E29:AI29,"CSS") -> 0 | AM29: =COUNTIF(E29:AI29,"MP") -> 0 | AN29: =COUNTIF(E29:AI29,"CL") -> 0 | AO29: =COUNTIF(E29:AI29,"ATMP") -> 0 | AP29: =COUNTIF(E29:AI29,"EM") -> 0 | AQ29: =COUNTIF(E29:AI29,"CE") -> 0 | AR29: =SUM(AK29:AQ29) -> 0
B30: =+'@CONFIG'!$B$25 -> FORTEMPS | C30: ='@CONFIG'!$C$25 -> S | D30: ='@CONFIG'!$D$25 -> thérapeutique | AK30: =COUNTIF(E30:AI30,"m") -> 0 | AL30: =COUNTIF(E30:AI30,"CSS") -> 0 | AM30: =COUNTIF(E30:AI30,"MP") -> 0 | AN30: =COUNTIF(E30:AI30,"CL") -> 0 | AO30: =COUNTIF(E30:AI30,"ATMP") -> 0 | AP30: =COUNTIF(E30:AI30,"EM") -> 0 | AQ30: =COUNTIF(E30:AI30,"CE") -> 0 | AR30: =SUM(AK30:AQ30) -> 0
B31: =+'@CONFIG'!$B$26 -> FOUREUR | C31: ='@CONFIG'!$C$26 -> A | D31: ='@CONFIG'!$D$26 -> thérapeutique | AK31: =COUNTIF(E31:AI31,"m") -> 0 | AL31: =COUNTIF(E31:AI31,"CSS") -> 0 | AM31: =COUNTIF(E31:AI31,"MP") -> 0 | AN31: =COUNTIF(E31:AI31,"CL") -> 0 | AO31: =COUNTIF(E31:AI31,"ATMP") -> 0 | AP31: =COUNTIF(E31:AI31,"EM") -> 0 | AQ31: =COUNTIF(E31:AI31,"CE") -> 0 | AR31: =SUM(AK31:AQ31) -> 0
B32: =+'@CONFIG'!$B$27 -> GABORIT | C32: ='@CONFIG'!$C$27 -> D | D32: ='@CONFIG'!$D$27 -> thérapeutique | AK32: =COUNTIF(E32:AI32,"m") -> 0 | AL32: =COUNTIF(E32:AI32,"CSS") -> 0 | AM32: =COUNTIF(E32:AI32,"MP") -> 0 | AN32: =COUNTIF(E32:AI32,"CL") -> 0 | AO32: =COUNTIF(E32:AI32,"ATMP") -> 0 | AP32: =COUNTIF(E32:AI32,"EM") -> 0 | AQ32: =COUNTIF(E32:AI32,"CE") -> 0 | AR32: =SUM(AK32:AQ32) -> 0
B33: =+'@CONFIG'!$B$28 -> GODET | C33: ='@CONFIG'!$C$28 -> G | D33: ='@CONFIG'!$D$28 -> éducatif | AK33: =COUNTIF(E33:AI33,"m") -> 0 | AL33: =COUNTIF(E33:AI33,"CSS") -> 0 | AM33: =COUNTIF(E33:AI33,"MP") -> 0 | AN33: =COUNTIF(E33:AI33,"CL") -> 0 | AO33: =COUNTIF(E33:AI33,"ATMP") -> 0 | AP33: =COUNTIF(E33:AI33,"EM") -> 0 | AQ33: =COUNTIF(E33:AI33,"CE") -> 0 | AR33: =SUM(AK33:AQ33) -> 0
B34: =+'@CONFIG'!$B$29 -> GOMES | C34: ='@CONFIG'!$C$29 -> B | D34: ='@CONFIG'!$D$29 -> service généraux | AK34: =COUNTIF(E34:AI34,"m") -> 0 | AL34: =COUNTIF(E34:AI34,"CSS") -> 0 | AM34: =COUNTIF(E34:AI34,"MP") -> 0 | AN34: =COUNTIF(E34:AI34,"CL") -> 0 | AO34: =COUNTIF(E34:AI34,"ATMP") -> 0 | AP34: =COUNTIF(E34:AI34,"EM") -> 0 | AQ34: =COUNTIF(E34:AI34,"CE") -> 0 | AR34: =SUM(AK34:AQ34) -> 0
B35: =+'@CONFIG'!$B$30 -> GONCALVES | C35: ='@CONFIG'!$C$30 -> L | D35: ='@CONFIG'!$D$30 -> éducatif | E35: M | F35: M | G35: M | AF35: CSS | AK35: =COUNTIF(E35:AI35,"m") -> 3 | AL35: =COUNTIF(E35:AI35,"CSS") -> 1 | AM35: =COUNTIF(E35:AI35,"MP") -> 0 | AN35: =COUNTIF(E35:AI35,"CL") -> 0 | AO35: =COUNTIF(E35:AI35,"ATMP") -> 0 | AP35: =COUNTIF(E35:AI35,"EM") -> 0 | AQ35: =COUNTIF(E35:AI35,"CE") -> 0 | AR35: =SUM(AK35:AQ35) -> 4
B36: =+'@CONFIG'!$B$31 -> GUERIN | C36: ='@CONFIG'!$C$31 -> O | D36: ='@CONFIG'!$D$31 -> pédagogique | AK36: =COUNTIF(E36:AI36,"m") -> 0 | AL36: =COUNTIF(E36:AI36,"CSS") -> 0 | AM36: =COUNTIF(E36:AI36,"MP") -> 0 | AN36: =COUNTIF(E36:AI36,"CL") -> 0 | AO36: =COUNTIF(E36:AI36,"ATMP") -> 0 | AP36: =COUNTIF(E36:AI36,"EM") -> 0 | AQ36: =COUNTIF(E36:AI36,"CE") -> 0 | AR36: =SUM(AK36:AQ36) -> 0
B37: =+'@CONFIG'!$B$32 -> HELIN | C37: ='@CONFIG'!$C$32 -> U | D37: ='@CONFIG'!$D$32 -> service généraux | AK37: =COUNTIF(E37:AI37,"m") -> 0 | AL37: =COUNTIF(E37:AI37,"CSS") -> 0 | AM37: =COUNTIF(E37:AI37,"MP") -> 0 | AN37: =COUNTIF(E37:AI37,"CL") -> 0 | AO37: =COUNTIF(E37:AI37,"ATMP") -> 0 | AP37: =COUNTIF(E37:AI37,"EM") -> 0 | AQ37: =COUNTIF(E37:AI37,"CE") -> 0 | AR37: =SUM(AK37:AQ37) -> 0
B38: =+'@CONFIG'!$B$33 -> HELIN | C38: ='@CONFIG'!$C$33 -> T | D38: ='@CONFIG'!$D$33 -> thérapeutique | AK38: =COUNTIF(E38:AI38,"m") -> 0 | AL38: =COUNTIF(E38:AI38,"CSS") -> 0 | AM38: =COUNTIF(E38:AI38,"MP") -> 0 | AN38: =COUNTIF(E38:AI38,"CL") -> 0 | AO38: =COUNTIF(E38:AI38,"ATMP") -> 0 | AP38: =COUNTIF(E38:AI38,"EM") -> 0 | AQ38: =COUNTIF(E38:AI38,"CE") -> 0 | AR38: =SUM(AK38:AQ38) -> 0
B39: =+'@CONFIG'!$B$34 -> HENRARD | C39: ='@CONFIG'!$C$34 -> E | D39: ='@CONFIG'!$D$34 -> service administratif | AK39: =COUNTIF(E39:AI39,"m") -> 0 | AL39: =COUNTIF(E39:AI39,"CSS") -> 0 | AM39: =COUNTIF(E39:AI39,"MP") -> 0 | AN39: =COUNTIF(E39:AI39,"CL") -> 0 | AO39: =COUNTIF(E39:AI39,"ATMP") -> 0 | AP39: =COUNTIF(E39:AI39,"EM") -> 0 | AQ39: =COUNTIF(E39:AI39,"CE") -> 0 | AR39: =SUM(AK39:AQ39) -> 0
B40: =+'@CONFIG'!$B$35 -> HINS | C40: ='@CONFIG'!$C$35 -> Z | D40: ='@CONFIG'!$D$35 -> thérapeutique | AK40: =COUNTIF(E40:AI40,"m") -> 0 | AL40: =COUNTIF(E40:AI40,"CSS") -> 0 | AM40: =COUNTIF(E40:AI40,"MP") -> 0 | AN40: =COUNTIF(E40:AI40,"CL") -> 0 | AO40: =COUNTIF(E40:AI40,"ATMP") -> 0 | AP40: =COUNTIF(E40:AI40,"EM") -> 0 | AQ40: =COUNTIF(E40:AI40,"CE") -> 0 | AR40: =SUM(AK40:AQ40) -> 0
...

Sheet AVRIL
B1: ='@CONFIG'!F6 -> 45017
B2: ='@CONFIG'!G6 -> 45046
