Workbook

Sheet @CONFIG
B1: NOM | C1: PRENOM | D1: CAT PROF | E1: DATE D'ENTREE | F1: 44927
B2: ANDRE | C2: F | D2: pédagogique | F2: START | G2: STOP
B3: BERNARD | C3: G | D3: éducatif | E3: JANVIER | F3: =F1 -> 44927 | G3: =EOMONTH(F3,0) -> 44957
B4: BERNARD | C4: T | D4: service administratif | E4: FÉVRIER | F4: =EDATE(F3,1) -> 44958 | G4: =EOMONTH(F4,0) -> 44985
B5: BOURDON | C5: S | D5: éducatif | E5: MARS | F5: =EDATE(F4,1) -> 44986 | G5: =EOMONTH(F5,0) -> 45016
B6: BOURGA | C6: B | D6: éducatif | E6: AVRIL | F6: =EDATE(F5,1) -> 45017 | G6: =EOMONTH(F6,0) -> 45046
B7: BRANCHUT | C7: G | D7: service administratif | E7: MAI | F7: =EDATE(F6,1) -> 45047 | G7: =EOMONTH(F7,0) -> 45077
B8: BROUTIN | C8: D | D8: éducatif | E8: JUIN | F8: =EDATE(F7,1) -> 45078 | G8: =EOMONTH(F8,0) -> 45107
B9: CAGNEAUX | C9: Z | D9: service généraux | E9: JUILLET | F9: =EDATE(F8,1) -> 45108 | G9: =EOMONTH(F9,0) -> 45138
B10: CAMPAGNOLO | C10: F | D10: éducatif | E10: AOÛT | F10: =EDATE(F9,1) -> 45139 | G10: =EOMONTH(F10,0) -> 45169
B11: CANIAUX | C11: H | D11: service généraux | E11: SEPTEMBRE | F11: =EDATE(F10,1) -> 45170 | G11: =EOMONTH(F11,0) -> 45199
B12: CATRIN | C12: K | D12: service généraux | E12: OCTOBRE | F12: =EDATE(F11,1) -> 45200 | G12: =EOMONTH(F12,0) -> 45230
B13: COLMANT | C13: E | D13: thérapeutique | E13: NOVEMBRE | F13: =EDATE(F12,1) -> 45231 | G13: =EOMONTH(F13,0) -> 45260
B14: DA COSTA | C14: Z | D14: éducatif | E14: DÉCEMBRE | F14: =EDATE(F13,1) -> 45261 | G14: =EOMONTH(F14,0) -> 45291
B15: DANDUMONT | C15: S | D15: direction
B16: DELEBOIS | C16: Z | D16: médical | E16: A ne pas toucher c'est la configuration pour les formules
B17: DELHAYE | C17: V | D17: éducatif
B18: DELHAYE | C18: Z | D18: service généraux
B19: DELMAS | C19: A | D19: thérapeutique
B20: DEMANGECLAUDE | C20: F | D20: service généraux
B21: DESTREE | C21: Z | D21: éducatif
B22: DUCARMES | C22: R | D22: éducatif
B23: DUCARMES | C23: F | D23: direction
B24: DUGARD | C24: F | D24: éducatif
B25: FORTEMPS | C25: S | D25: thérapeutique
B26: FOUREUR | C26: A | D26: thérapeutique
B27: GABORIT | C27: D | D27: thérapeutique
B28: GODET | C28: G | D28: éducatif
... B71: WALTISPURGER | C71: N | D71: service généraux

Sheet RECAPITULATIF 
B1: RECAPITULATIF DES ABSENCES PAR MOTIF SUR L'ANNEE 2023
C3: M | D3: CSS | E3: MP | F3: CL | G3: ATMP | H3: EM | I3: CE
C4: MALADIE | D4: CONGES SANS SOLDES | E4: MATERNITE/PATERNITE | F4: CONGES LONGUE MALADIE/LONGUE DUREE | G4: ACCIDENT DU W / MALADIE PRO | H4: ENFANT MALADE | I4: CONGES EXCEPTIONNELS | J4: TOTAL ABSENCES
B5: JANVIER | C5: =SUM(JANVIER!$AK$7:$AK$150) -> 80 | D5: =SUM(JANVIER!$AL$7:$AL$150) -> 0 | E5: =SUM(JANVIER!$AM$7:$AM$150) -> 7 | F5: =SUM(JANVIER!$AN$7:$AN$150) -> 0 | G5: =SUM(JANVIER!$AO$7:$AO$150) -> 0 | H5: =SUM(JANVIER!$AP$7:$AP$150) -> 0 | I5: =SUM(JANVIER!$AQ$7:$AQ$150) -> 4 | J5: =SUM(C5:I5) -> 91
B6: FEVRIER | C6: =SUM(FEVRIER!$AK$7:$AK$150) -> 45 | D6: =SUM(FEVRIER!$AL$7:$AL$150) -> 2 | E6: =SUM(FEVRIER!$AM$7:$AM$150) -> 12 | F6: =SUM(FEVRIER!$AN$7:$AN$150) -> 0 | G6: =SUM(FEVRIER!$AO$7:$AO$150) -> 0 | H6: =SUM(FEVRIER!$AP$7:$AP$150) -> 1 | I6: =SUM(FEVRIER!$AQ$7:$AQ$150) -> 0 | J6: =SUM(C6:I6) -> 60
B7: MARS | C7: =SUM(MARS!$AK$7:$AK$150) -> 74 | D7: =SUM(MARS!$AL$7:$AL$150) -> 15 | E7: =SUM(MARS!$AM$7:$AM$150) -> 0 | F7: =SUM(MARS!$AN$7:$AN$150) -> 0 | G7: =SUM(MARS!$AO$7:$AO$150) -> 2 | H7: =SUM(MARS!$AP$7:$AP$150) -> 1 | I7: =SUM(MARS!$AQ$7:$AQ$150) -> 0 | J7: =SUM(C7:I7) -> 92
B8: AVRIL | C8: =SUM(AVRIL!$AK$7:$AK$150) -> 37 | D8: =SUM(AVRIL!$AL$7:$AL$150) -> 0 | E8: =SUM(AVRIL!$AM$7:$AM$150) -> 0 | F8: =SUM(AVRIL!$AN$7:$AN$150) -> 0 | G8: =SUM(AVRIL!$AO$7:$AO$150) -> 14 | H8: =SUM(AVRIL!$AP$7:$AP$150) -> 0 | I8: =SUM(AVRIL!$AQ$7:$AQ$150) -> 1 | J8: =SUM(C8:I8) -> 52
B9: MAI | C9: =SUM(MAI!$AK$7:$AK$150) -> 27 | D9: =SUM(MAI!$AL$7:$AL$150) -> 0 | E9: =SUM(MAI!$AM$7:$AM$150) -> 6 | F9: =SUM(MAI!$AN$7:$AN$150) -> 0 | G9: =SUM(MAI!$AO$7:$AO$150) -> 22 | H9: =SUM(MAI!$AP$7:$AP$150) -> 2 | I9: =SUM(MAI!$AQ$7:$AQ$150) -> 4 | J9: =SUM(C9:I9) -> 61
B10: JUIN | C10: =SUM(JUIN!$AK$7:$AK$150) -> 79 | D10: =SUM(JUIN!$AL$7:$AL$150) -> 0 | E10: =SUM(JUIN!$AM$7:$AM$150) -> 23 | F10: =SUM(JUIN!$AN$7:$AN$150) -> 0 | G10: =SUM(JUIN!$AO$7:$AO$150) -> 2 | H10: =SUM(JUIN!$AP$7:$AP$150) -> 1 | I10: =SUM(JUIN!$AQ$7:$AQ$150) -> 5 | J10: =SUM(C10:I10) -> 110
B11: JUILLET | C11: =SUM(JUILLET!$AK$7:$AK$150) -> 51 | D11: =SUM(JUILLET!$AL$7:$AL$150) -> 0 | E11: =SUM(JUILLET!$AM$7:$AM$150) -> 14 | F11: =SUM(JUILLET!$AN$7:$AN$150) -> 0 | G11: =SUM(JUILLET!$AO$7:$AO$150) -> 0 | H11: =SUM(JUILLET!$AP$7:$AP$150) -> 0 | I11: =SUM(JUILLET!$AQ$7:$AQ$150) -> 0 | J11: =SUM(C11:I11) -> 65
B12: AOUT | C12: =SUM(AOUT!$AK$7:$AK$150) -> 0 | D12: =SUM(AOUT!$AL$7:$AL$150) -> 0 | E12: =SUM(AOUT!$AM$7:$AM$150) -> 0 | F12: =SUM(AOUT!$AN$7:$AN$150) -> 0 | G12: =SUM(AOUT!$AO$7:$AO$150) -> 0 | H12: =SUM(AOUT!$AP$7:$AP$150) -> 0 | I12: =SUM(AOUT!$AQ$7:$AQ$150) -> 0 | J12: =SUM(C12:I12) -> 0
B13: SEPTEMBRE | C13: =SUM(SEPTEMBRE!$AK$7:$AK$150) -> 7 | D13: =SUM(SEPTEMBRE!$AL$7:$AL$150) -> 0 | E13: =SUM(SEPTEMBRE!$AM$7:$AM$150) -> 17 | F13: =SUM(SEPTEMBRE!$AN$7:$AN$150) -> 0 | G13: =SUM(SEPTEMBRE!$AO$7:$AO$150) -> 0 | H13: =SUM(SEPTEMBRE!$AP$7:$AP$150) -> 3 | I13: =SUM(SEPTEMBRE!$AQ$7:$AQ$150) -> 0 | J13: =SUM(C13:I13) -> 27
B14: OCTOBRE | C14: =SUM(OCTOBRE!$AK$7:$AK$150) -> 7 | D14: =SUM(OCTOBRE!$AL$7:$AL$150) -> 0 | E14: =SUM(OCTOBRE!$AM$7:$AM$150) -> 0 | F14: =SUM(OCTOBRE!$AN$7:$AN$150) -> 0 | G14: =SUM(OCTOBRE!$AO$7:$AO$150) -> 0 | H14: =SUM(OCTOBRE!$AP$7:$AP$150) -> 4 | I14: =SUM(OCTOBRE!$AQ$7:$AQ$150) -> 0 | J14: =SUM(C14:I14) -> 11
B15: NOVEMBRE | C15: =SUM(NOVEMBRE!$AK$7:$AK$150) -> 56 | D15: =SUM(NOVEMBRE!$AL$7:$AL$150) -> 0 | E15: =SUM(NOVEMBRE!$AM$7:$AM$150) -> 0 | F15: =SUM(NOVEMBRE!$AN$7:$AN$150) -> 0 | G15: =SUM(NOVEMBRE!$AO$7:$AO$150) -> 0 | H15: =SUM(NOVEMBRE!$AP$7:$AP$150) -> 5 | I15: =SUM(NOVEMBRE!$AQ$7:$AQ$150) -> 0 | J15: =SUM(C15:I15) -> 61
B16: DECEMBRE | C16: =SUM(DECEMBRE!$AK$7:$AK$150) -> 79 | D16: =SUM(DECEMBRE!$AL$7:$AL$150) -> 0 | E16: =SUM(DECEMBRE!$AM$7:$AM$150) -> 0 | F16: =SUM(DECEMBRE!$AN$7:$AN$150) -> 0 | G16: =SUM(DECEMBRE!$AO$7:$AO$150) -> 0 | H16: =SUM(DECEMBRE!$AP$7:$AP$150) -> 1 | I16: =SUM(DECEMBRE!$AQ$7:$AQ$150) -> 0 | J16: =SUM(C16:I16) -> 80
B17: TOTAL ABSENCES | C17: =SUM(C5:C16) -> 542 | D17: =SUM(D5:D16) -> 17 | E17: =SUM(E5:E16) -> 79 | F17: =SUM(F5:F16) -> 0 | G17: =SUM(G5:G16) -> 40 | H17: =SUM(H5:H16) -> 18 | I17: =SUM(I5:I16) -> 14 | J17: =SUM(J5:J16) -> 710
B20: RECAPITULATIF DES ABSENCES PAR CATEGORIES PROFESSIONNELS SUR L'ANNEE 2023
C21: pédagogique | D21: éducatif | E21: service administratif | F21: service généraux | G21: thérapeutique | H21: direction | I21: médical | J21: TOTAL ABSENCES
B22: JANVIER | C22: =SUMIFS(INDIRECT($B22&"!$AR$7:$AR$92"),INDIRECT($B22&"!$D$7:$D$92"),'RECAPITULATIF '!C$21) -> 0 | D22: =SUMIFS(INDIRECT($B22&"!$AR$7:$AR$92"),INDIRECT($B22&"!$D$7:$D$92"),'RECAPITULATIF '!D$21) -> 27 | E22: =SUMIFS(INDIRECT($B22&"!$AR$7:$AR$92"),INDIRECT($B22&"!$D$7:$D$92"),'RECAPITULATIF '!E$21) -> 0 | F22: =SUMIFS(INDIRECT($B22&"!$AR$7:$AR$92"),INDIRECT($B22&"!$D$7:$D$92"),'RECAPITULATIF '!F$21) -> 18 | G22: =SUMIFS(INDIRECT($B22&"!$AR$7:$AR$92"),INDIRECT($B22&"!$D$7:$D$92"),'RECAPITULATIF '!G$21) -> 46 | H22: =SUMIFS(INDIRECT($B22&"!$AR$7:$AR$92"),INDIRECT($B22&"!$D$7:$D$92"),'RECAPITULATIF '!H$21) -> 0 | I22: =SUMIFS(INDIRECT($B22&"!$AR$7:$AR$92"),INDIRECT($B22&"!$D$7:$D$92"),'RECAPITULATIF '!I$21) -> 0 | J22: =SUM(C22:I22) -> 91
B23: FEVRIER | C23: =SUMIFS(INDIRECT($B23&"!$AR$7:$AR$92"),INDIRECT($B23&"!$D$7:$D$92"),'RECAPITULATIF '!C$21) -> 0 | D23: =SUMIFS(INDIRECT($B23&"!$AR$7:$AR$92"),INDIRECT($B23&"!$D$7:$D$92"),'RECAPITULATIF '!D$21) -> 38 | E23: =SUMIFS(INDIRECT($B23&"!$AR$7:$AR$92"),INDIRECT($B23&"!$D$7:$D$92"),'RECAPITULATIF '!E$21) -> 0 | F23: =SUMIFS(INDIRECT($B23&"!$AR$7:$AR$92"),INDIRECT($B23&"!$D$7:$D$92"),'RECAPITULATIF '!F$21) -> 0 | G23: =SUMIFS(INDIRECT($B23&"!$AR$7:$AR$92"),INDIRECT($B23&"!$D$7:$D$92"),'RECAPITULATIF '!G$21) -> 22 | H23: =SUMIFS(INDIRECT($B23&"!$AR$7:$AR$92"),INDIRECT($B23&"!$D$7:$D$92"),'RECAPITULATIF '!H$21) -> 0 | I23: =SUMIFS(INDIRECT($B23&"!$AR$7:$AR$92"),INDIRECT($B23&"!$D$7:$D$92"),'RECAPITULATIF '!I$21) -> 0 | J23: =SUM(C23:I23) -> 60
B24: MARS | C24: =SUMIFS(INDIRECT($B24&"!$AR$7:$AR$92"),INDIRECT($B24&"!$D$7:$D$92"),'RECAPITULATIF '!C$21) -> 0 | D24: =SUMIFS(INDIRECT($B24&"!$AR$7:$AR$92"),INDIRECT($B24&"!$D$7:$D$92"),'RECAPITULATIF '!D$21) -> 91 | E24: =SUMIFS(INDIRECT($B24&"!$AR$7:$AR$92"),INDIRECT($B24&"!$D$7:$D$92"),'RECAPITULATIF '!E$21) -> 0 | F24: =SUMIFS(INDIRECT($B24&"!$AR$7:$AR$92"),INDIRECT($B24&"!$D$7:$D$92"),'RECAPITULATIF '!F$21) -> 0 | G24: =SUMIFS(INDIRECT($B24&"!$AR$7:$AR$92"),INDIRECT($B24&"!$D$7:$D$92"),'RECAPITULATIF '!G$21) -> 1 | H24: =SUMIFS(INDIRECT($B24&"!$AR$7:$AR$92"),INDIRECT($B24&"!$D$7:$D$92"),'RECAPITULATIF '!H$21) -> 0 | I24: =SUMIFS(INDIRECT($B24&"!$AR$7:$AR$92"),INDIRECT($B24&"!$D$7:$D$92"),'RECAPITULATIF '!I$21) -> 0 | J24: =SUM(C24:I24) -> 92
B25: AVRIL | C25: =SUMIFS(INDIRECT($B25&"!$AR$7:$AR$92"),INDIRECT($B25&"!$D$7:$D$92"),'RECAPITULATIF '!C$21) -> 0 | D25: =SUMIFS(INDIRECT($B25&"!$AR$7:$AR$92"),INDIRECT($B25&"!$D$7:$D$92"),'RECAPITULATIF '!D$21) -> 42 | E25: =SUMIFS(INDIRECT($B25&"!$AR$7:$AR$92"),INDIRECT($B25&"!$D$7:$D$92"),'RECAPITULATIF '!E$21) -> 0 | F25: =SUMIFS(INDIRECT($B25&"!$AR$7:$AR$92"),INDIRECT($B25&"!$D$7:$D$92"),'RECAPITULATIF '!F$21) -> 0 | G25: =SUMIFS(INDIRECT($B25&"!$AR$7:$AR$92"),INDIRECT($B25&"!$D$7:$D$92"),'RECAPITULATIF '!G$21) -> 10 | H25: =SUMIFS(INDIRECT($B25&"!$AR$7:$AR$92"),INDIRECT($B25&"!$D$7:$D$92"),'RECAPITULATIF '!H$21) -> 0 | I25: =SUMIFS(INDIRECT($B25&"!$AR$7:$AR$92"),INDIRECT($B25&"!$D$7:$D$92"),'RECAPITULATIF '!I$21) -> 0 | J25: =SUM(C25:I25) -> 52
B26: MAI | C26: =SUMIFS(INDIRECT($B26&"!$AR$7:$AR$92"),INDIRECT($B26&"!$D$7:$D$92"),'RECAPITULATIF '!C$21) -> 0 | D26: =SUMIFS(INDIRECT($B26&"!$AR$7:$AR$92"),INDIRECT($B26&"!$D$7:$D$92"),'RECAPITULATIF '!D$21) -> 50 | E26: =SUMIFS(INDIRECT($B26&"!$AR$7:$AR$92"),INDIRECT($B26&"!$D$7:$D$92"),'RECAPITULATIF '!E$21) -> 0 | F26: =SUMIFS(INDIRECT($B26&"!$AR$7:$AR$92"),INDIRECT($B26&"!$D$7:$D$92"),'RECAPITULATIF '!F$21) -> 0 | G26: =SUMIFS(INDIRECT($B26&"!$AR$7:$AR$92"),INDIRECT($B26&"!$D$7:$D$92"),'RECAPITULATIF '!G$21) -> 11 | H26: =SUMIFS(INDIRECT($B26&"!$AR$7:$AR$92"),INDIRECT($B26&"!$D$7:$D$92"),'RECAPITULATIF '!H$21) -> 0 | I26: =SUMIFS(INDIRECT($B26&"!$AR$7:$AR$92"),INDIRECT($B26&"!$D$7:$D$92"),'RECAPITULATIF '!I$21) -> 0 | J26: =SUM(C26:I26) -> 61
B27: JUIN | C27: =SUMIFS(INDIRECT($B27&"!$AR$7:$AR$92"),INDIRECT($B27&"!$D$7:$D$92"),'RECAPITULATIF '!C$21) -> 0 | D27: =SUMIFS(INDIRECT($B27&"!$AR$7:$AR$92"),INDIRECT($B27&"!$D$7:$D$92"),'RECAPITULATIF '!D$21) -> 81 | E27: =SUMIFS(INDIRECT($B27&"!$AR$7:$AR$92"),INDIRECT($B27&"!$D$7:$D$92"),'RECAPITULATIF '!E$21) -> 5 | F27: =SUMIFS(INDIRECT($B27&"!$AR$7:$AR$92"),INDIRECT($B27&"!$D$7:$D$92"),'RECAPITULATIF '!F$21) -> 5 | G27: =SUMIFS(INDIRECT($B27&"!$AR$7:$AR$92"),INDIRECT($B27&"!$D$7:$D$92"),'RECAPITULATIF '!G$21) -> 19 | H27: =SUMIFS(INDIRECT($B27&"!$AR$7:$AR$92"),INDIRECT($B27&"!$D$7:$D$92"),'RECAPITULATIF '!H$21) -> 0 | I27: =SUMIFS(INDIRECT($B27&"!$AR$7:$AR$92"),INDIRECT($B27&"!$D$7:$D$92"),'RECAPITULATIF '!I$21) -> 0 | J27: =SUM(C27:I27) -> 110
B28: JUILLET | C28: =SUMIFS(INDIRECT($B28&"!$AR$7:$AR$92"),INDIRECT($B28&"!$D$7:$D$92"),'RECAPITULATIF '!C$21) -> 0 | D28: =SUMIFS(INDIRECT($B28&"!$AR$7:$AR$92"),INDIRECT($B28&"!$D$7:$D$92"),'RECAPITULATIF '!D$21) -> 45 | E28: =SUMIFS(INDIRECT($B28&"!$AR$7:$AR$92"),INDIRECT($B28&"!$D$7:$D$92"),'RECAPITULATIF '!E$21) -> 4 | F28: =SUMIFS(INDIRECT($B28&"!$AR$7:$AR$92"),INDIRECT($B28&"!$D$7:$D$92"),'RECAPITULATIF '!F$21) -> 0 | G28: =SUMIFS(INDIRECT($B28&"!$AR$7:$AR$92"),INDIRECT($B28&"!$D$7:$D$92"),'RECAPITULATIF '!G$21) -> 16 | H28: =SUMIFS(INDIRECT($B28&"!$AR$7:$AR$92"),INDIRECT($B28&"!$D$7:$D$92"),'RECAPITULATIF '!H$21) -> 0 | I28: =SUMIFS(INDIRECT($B28&"!$AR$7:$AR$92"),INDIRECT($B28&"!$D$7:$D$92"),'RECAPITULATIF '!I$21) -> 0 | J28: =SUM(C28:I28) -> 65
B29: AOUT | C29: =SUMIFS(INDIRECT($B29&"!$AR$7:$AR$92"),INDIRECT($B29&"!$D$7:$D$92"),'RECAPITULATIF '!C$21) -> 0 | D29: =SUMIFS(INDIRECT($B29&"!$AR$7:$AR$92"),INDIRECT($B29&"!$D$7:$D$92"),'RECAPITULATIF '!D$21) -> 0 | E29: =SUMIFS(INDIRECT($B29&"!$AR$7:$AR$92"),INDIRECT($B29&"!$D$7:$D$92"),'RECAPITULATIF '!E$21) -> 0 | F29: =SUMIFS(INDIRECT($B29&"!$AR$7:$AR$92"),INDIRECT($B29&"!$D$7:$D$92"),'RECAPITULATIF '!F$21) -> 0 | G29: =SUMIFS(INDIRECT($B29&"!$AR$7:$AR$92"),INDIRECT($B29&"!$D$7:$D$92"),'RECAPITULATIF '!G$21) -> 0 | H29: =SUMIFS(INDIRECT($B29&"!$AR$7:$AR$92"),INDIRECT($B29&"!$D$7:$D$92"),'RECAPITULATIF '!H$21) -> 0 | I29: =SUMIFS(INDIRECT($B29&"!$AR$7:$AR$92"),INDIRECT($B29&"!$D$7:$D$92"),'RECAPITULATIF '!I$21) -> 0 | J29: =SUM(C29:I29) -> 0
B30: SEPTEMBRE | C30: =SUMIFS(INDIRECT($B30&"!$AR$7:$AR$92"),INDIRECT($B30&"!$D$7:$D$92"),'RECAPITULATIF '!C$21) -> 0 | D30: =SUMIFS(INDIRECT($B30&"!$AR$7:$AR$92"),INDIRECT($B30&"!$D$7:$D$92"),'RECAPITULATIF '!D$21) -> 24 | E30: =SUMIFS(INDIRECT($B30&"!$AR$7:$AR$92"),INDIRECT($B30&"!$D$7:$D$92"),'RECAPITULATIF '!E$21) -> 0 | F30: =SUMIFS(INDIRECT($B30&"!$AR$7:$AR$92"),INDIRECT($B30&"!$D$7:$D$92"),'RECAPITULATIF '!F$21) -> 0 | G30: =SUMIFS(INDIRECT($B30&"!$AR$7:$AR$92"),INDIRECT($B30&"!$D$7:$D$92"),'RECAPITULATIF '!G$21) -> 3 | H30: =SUMIFS(INDIRECT($B30&"!$AR$7:$AR$92"),INDIRECT($B30&"!$D$7:$D$92"),'RECAPITULATIF '!H$21) -> 0 | I30: =SUMIFS(INDIRECT($B30&"!$AR$7:$AR$92"),INDIRECT($B30&"!$D$7:$D$92"),'RECAPITULATIF '!I$21) -> 0 | J30: =SUM(C30:I30) -> 27
B31: OCTOBRE | C31: =SUMIFS(INDIRECT($B31&"!$AR$7:$AR$92"),INDIRECT($B31&"!$D$7:$D$92"),'RECAPITULATIF '!C$21) -> 0 | D31: =SUMIFS(INDIRECT($B31&"!$AR$7:$AR$92"),INDIRECT($B31&"!$D$7:$D$92"),'RECAPITULATIF '!D$21) -> 10 | E31: =SUMIFS(INDIRECT($B31&"!$AR$7:$AR$92"),INDIRECT($B31&"!$D$7:$D$92"),'RECAPITULATIF '!E$21) -> 0 | F31: =SUMIFS(INDIRECT($B31&"!$AR$7:$AR$92"),INDIRECT($B31&"!$D$7:$D$92"),'RECAPITULATIF '!F$21) -> 0 | G31: =SUMIFS(INDIRECT($B31&"!$AR$7:$AR$92"),INDIRECT($B31&"!$D$7:$D$92"),'RECAPITULATIF '!G$21) -> 1 | H31: =SUMIFS(INDIRECT($B31&"!$AR$7:$AR$92"),INDIRECT($B31&"!$D$7:$D$92"),'RECAPITULATIF '!H$21) -> 0 | I31: =SUMIFS(INDIRECT($B31&"!$AR$7:$AR$92"),INDIRECT($B31&"!$D$7:$D$92"),'RECAPITULATIF '!I$21) -> 0 | J31: =SUM(C31:I31) -> 11
B32: NOVEMBRE | C32: =SUMIFS(INDIRECT($B32&"!$AR$7:$AR$92"),INDIRECT($B32&"!$D$7:$D$92"),'RECAPITULATIF '!C$21) -> 0 | D32: =SUMIFS(INDIRECT($B32&"!$AR$7:$AR$92"),INDIRECT($B32&"!$D$7:$D$92"),'RECAPITULATIF '!D$21) -> 47 | E32: =SUMIFS(INDIRECT($B32&"!$AR$7:$AR$92"),INDIRECT($B32&"!$D$7:$D$92"),'RECAPITULATIF '!E$21) -> 0 | F32: =SUMIFS(INDIRECT($B32&"!$AR$7:$AR$92"),INDIRECT($B32&"!$D$7:$D$92"),'RECAPITULATIF '!F$21) -> 6 | G32: =SUMIFS(INDIRECT($B32&"!$AR$7:$AR$92"),INDIRECT($B32&"!$D$7:$D$92"),'RECAPITULATIF '!G$21) -> 8 | H32: =SUMIFS(INDIRECT($B32&"!$AR$7:$AR$92"),INDIRECT($B32&"!$D$7:$D$92"),'RECAPITULATIF '!H$21) -> 0 | I32: =SUMIFS(INDIRECT($B32&"!$AR$7:$AR$92"),INDIRECT($B32&"!$D$7:$D$92"),'RECAPITULATIF '!I$21) -> 0 | J32: =SUM(C32:I32) -> 61
B33: DECEMBRE | C33: =SUMIFS(INDIRECT($B33&"!$AR$7:$AR$92"),INDIRECT($B33&"!$D$7:$D$92"),'RECAPITULATIF '!C$21) -> 0 | D33: =SUMIFS(INDIRECT($B33&"!$AR$7:$AR$92"),INDIRECT($B33&"!$D$7:$D$92"),'RECAPITULATIF '!D$21) -> 31 | E33: =SUMIFS(INDIRECT($B33&"!$AR$7:$AR$92"),INDIRECT($B33&"!$D$7:$D$92"),'RECAPITULATIF '!E$21) -> 0 | F33: =SUMIFS(INDIRECT($B33&"!$AR$7:$AR$92"),INDIRECT($B33&"!$D$7:$D$92"),'RECAPITULATIF '!F$21) -> 23 | G33: =SUMIFS(INDIRECT($B33&"!$AR$7:$AR$92"),INDIRECT($B33&"!$D$7:$D$92"),'RECAPITULATIF '!G$21) -> 26 | H33: =SUMIFS(INDIRECT($B33&"!$AR$7:$AR$92"),INDIRECT($B33&"!$D$7:$D$92"),'RECAPITULATIF '!H$21) -> 0 | I33: =SUMIFS(INDIRECT($B33&"!$AR$7:$AR$92"),INDIRECT($B33&"!$D$7:$D$92"),'RECAPITULATIF '!I$21) -> 0 | J33: =SUM(C33:I33) -> 80
B34: TOTAL ABSENCES | C34: =SUM(C22:C33) -> 0 | D34: =SUM(D22:D33) -> 486 | E34: =SUM(E22:E33) -> 9 | F34: =SUM(F22:F33) -> 52 | G34: =SUM(G22:G33) -> 163 | H34: =SUM(H22:H33) -> 0 | I34: =SUM(I22:I33) -> 0 | J34: =SUM(J22:J33) -> 710
B36: RECAPITULATIF DES ABSENCES PAR CATEGORIES PROFESSIONNELS et MOTIFS SUR L'ANNEE 2023

Sheet JANVIER
B1: ='@CONFIG'!F3 -> 44927
B2: ='@CONFIG'!G3 -> 44957
E3: =B1 -> 44927 | F3: =E3+1 -> 44928 | G3: =F3+1 -> 44929 | H3: =G3+1 -> 44930 | I3: =H3+1 -> 44931 | J3: =I3+1 -> 44932 | K3: =J3+1 -> 44933 | L3: =K3+1 -> 44934 | M3: =L3+1 -> 44935 | ... AI3: =AH3+1 -> 44957
A4: JANVIER
E5: =DAY(E3) -> 1 | F5: =DAY(F3) -> 2 | G5: =DAY(G3) -> 3 | H5: =DAY(H3) -> 4 | I5: =DAY(I3) -> 5 | J5: =DAY(J3) -> 6 | K5: =DAY(K3) -> 7 | L5: =DAY(L3) -> 8 | ... AI5: =DAY(AI3) -> 31 | AK5: M | AL5: CSS | AM5: MP | AN5: CL | AO5: ATMP | AP5: EM | AQ5: CE
B6: NOM | C6: PRENOM | D6: CAT PRO | E6: =WEEKDAY(E3) -> 1 | F6: =WEEKDAY(F3) -> 2 | G6: =WEEKDAY(G3) -> 3 | H6: =WEEKDAY(H3) -> 4 | I6: =WEEKDAY(I3) -> 5 | J6: =WEEKDAY(J3) -> 6 | K6: =WEEKDAY(K3) -> 7 | L6: =WEEKDAY(L3) -> 1 | ... AI6: =WEEKDAY(AI3) -> 3 | AK6: MALADIE | AL6: CONGES SANS SOLDES | AM6: MATERNITE/PATERNITE | AN6: CONGES LONGUE MALADIE/LONGUE DUREE | AO6: ACCIDENT DU W / MALADIE PRO | AP6: ENFANT MALADE | AQ6: CONGES EXCEPTIONNELS
B7: =+'@CONFIG'!$B$2 -> ANDRE | C7: ='@CONFIG'!$C$2 -> F | D7: ='@CONFIG'!$D$2 -> pédagogique | AK7: =COUNTIF(E7:AI7,"m") -> 0 | AL7: =COUNTIF(E7:AI7,"CSS") -> 0 | AM7: =COUNTIF(E7:AI7,"MP") -> 0 | AN7: =COUNTIF(E7:AI7,"CL") -> 0 | AO7: =COUNTIF(E7:AI7,"ATMP") -> 0 | AP7: =COUNTIF(E7:AI7,"EM") -> 0 | AQ7: =COUNTIF(E7:AI7,"CE") -> 0 | AR7: =SUM(AK7:AQ7) -> 0
B8: =+'@CONFIG'!$B$3 -> BERNARD | C8: ='@CONFIG'!$C$3 -> G | D8: ='@CONFIG'!$D$3 -> éducatif | AK8: =COUNTIF(E8:AI8,"m") -> 0 | AL8: =COUNTIF(E8:AI8,"CSS") -> 0 | AM8: =COUNTIF(E8:AI8,"MP") -> 0 | AN8: =COUNTIF(E8:AI8,"CL") -> 0 | AO8: =COUNTIF(E8:AI8,"ATMP") -> 0 | AP8: =COUNTIF(E8:AI8,"EM") -> 0 | AQ8: =COUNTIF(E8:AI8,"CE") -> 0 | AR8: =SUM(AK8:AQ8) -> 0
B9: =+'@CONFIG'!$B$4 -> BERNARD | C9: ='@CONFIG'!$C$4 -> T | D9: ='@CONFIG'!$D$4 -> service administratif | AK9: =COUNTIF(E9:AI9,"m") -> 0 | AL9: =COUNTIF(E9:AI9,"CSS") -> 0 | AM9: =COUNTIF(E9:AI9,"MP") -> 0 | AN9: =COUNTIF(E9:AI9,"CL") -> 0 | AO9: =COUNTIF(E9:AI9,"ATMP") -> 0 | AP9: =COUNTIF(E9:AI9,"EM") -> 0 | AQ9: =COUNTIF(E9:AI9,"CE") -> 0 | AR9: =SUM(AK9:AQ9) -> 0
B10: =+'@CONFIG'!$B$5 -> BOURDON | C10: ='@CONFIG'!$C$5 -> S | D10: ='@CONFIG'!$D$5 -> éducatif | AK10: =COUNTIF(E10:AI10,"m") -> 0 | AL10: =COUNTIF(E10:AI10,"CSS") -> 0 | AM10: =COUNTIF(E10:AI10,"MP") -> 0 | AN10: =COUNTIF(E10:AI10,"CL") -> 0 | AO10: =COUNTIF(E10:AI10,"ATMP") -> 0 | AP10: =COUNTIF(E10:AI10,"EM") -> 0 | AQ10: =COUNTIF(E10:AI10,"CE") -> 0 | AR10: =SUM(AK10:AQ10) -> 0
B11: =+'@CONFIG'!$B$6 -> BOURGA | C11: ='@CONFIG'!$C$6 -> B | D11: ='@CONFIG'!$D$6 -> éducatif | AK11: =COUNTIF(E11:AI11,"m") -> 0 | AL11: =COUNTIF(E11:AI11,"CSS") -> 0 | AM11: =COUNTIF(E11:AI11,"MP") -> 0 | AN11: =COUNTIF(E11:AI11,"CL") -> 0 | AO11: =COUNTIF(E11:AI11,"ATMP") -> 0 | AP11: =COUNTIF(E11:AI11,"EM") -> 0 | AQ11: =COUNTIF(E11:AI11,"CE") -> 0 | AR11: =SUM(AK11:AQ11) -> 0
B12: =+'@CONFIG'!$B$7 -> BRANCHUT | C12: ='@CONFIG'!$C$7 -> G | D12: ='@CONFIG'!$D$7 -> service administratif | AK12: =COUNTIF(E12:AI12,"m") -> 0 | AL12: =COUNTIF(E12:AI12,"CSS") -> 0 | AM12: =COUNTIF(E12:AI12,"MP") -> 0 | AN12: =COUNTIF(E12:AI12,"CL") -> 0 | AO12: =COUNTIF(E12:AI12,"ATMP") -> 0 | AP12: =COUNTIF(E12:AI12,"EM") -> 0 | AQ12: =COUNTIF(E12:AI12,"CE") -> 0 | AR12: =SUM(AK12:AQ12) -> 0
B13: =+'@CONFIG'!$B$8 -> BROUTIN | C13: ='@CONFIG'!$C$8 -> D | D13: ='@CONFIG'!$D$8 -> éducatif | AK13: =COUNTIF(E13:AI13,"m") -> 0 | AL13: =COUNTIF(E13:AI13,"CSS") -> 0 | AM13: =COUNTIF(E13:AI13,"MP") -> 0 | AN13: =COUNTIF(E13:AI13,"CL") -> 0 | AO13: =COUNTIF(E13:AI13,"ATMP") -> 0 | AP13: =COUNTIF(E13:AI13,"EM") -> 0 | AQ13: =COUNTIF(E13:AI13,"CE") -> 0 | AR13: =SUM(AK13:AQ13) -> 0
B14: =+'@CONFIG'!$B$9 -> CAGNEAUX | C14: ='@CONFIG'!$C$9 -> Z | D14: ='@CONFIG'!$D$9 -> service généraux | AK14: =COUNTIF(E14:AI14,"m") -> 0 | AL14: =COUNTIF(E14:AI14,"CSS") -> 0 | AM14: =COUNTIF(E14:AI14,"MP") -> 0 | AN14: =COUNTIF(E14:AI14,"CL") -> 0 | AO14: =COUNTIF(E14:AI14,"ATMP") -> 0 | AP14: =COUNTIF(E14:AI14,"EM") -> 0 | AQ14: =COUNTIF(E14:AI14,"CE") -> 0 | AR14: =SUM(AK14:AQ14) -> 0
B15: =+'@CONFIG'!$B$10 -> CAMPAGNOLO | C15: ='@CONFIG'!$C$10 -> F | D15: ='@CONFIG'!$D$10 -> éducatif | AK15: =COUNTIF(E15:AI15,"m") -> 0 | AL15: =COUNTIF(E15:AI15,"CSS") -> 0 | AM15: =COUNTIF(E15:AI15,"MP") -> 0 | AN15: =COUNTIF(E15:AI15,"CL") -> 0 | AO15: =COUNTIF(E15:AI15,"ATMP") -> 0 | AP15: =COUNTIF(E15:AI15,"EM") -> 0 | AQ15: =COUNTIF(E15:AI15,"CE") -> 0 | AR15: =SUM(AK15:AQ15) -> 0
B16: =+'@CONFIG'!$B$11 -> CANIAUX | C16: ='@CONFIG'!$C$11 -> H | D16: ='@CONFIG'!$D$11 -> service généraux | H16: M | I16: M | J16: M | M16: M | N16: M | O16: M | P16: M | Q16: M | T16: M | U16: M | V16: M | W16: M | X16: M | AA16: M | AB16: M | AC16: M | AD16: M | AE16: M | AK16: =COUNTIF(E16:AI16,"m") -> 18 | AL16: =COUNTIF(E16:AI16,"CSS") -> 0 | AM16: =COUNTIF(E16:AI16,"MP") -> 0 | AN16: =COUNTIF(E16:AI16,"CL") -> 0 | AO16: =COUNTIF(E16:AI16,"ATMP") -> 0 | AP16: =COUNTIF(E16:AI16,"EM") -> 0 | AQ16: =COUNTIF(E16:AI16,"CE") -> 0 | AR16: =SUM(AK16:AQ16) -> 18
B17: =+'@CONFIG'!$B$12 -> CATRIN | C17: ='@CONFIG'!$C$12 -> K | D17: ='@CONFIG'!$D$12 -> service généraux | AK17: =COUNTIF(E17:AI17,"m") -> 0 | AL17: =COUNTIF(E17:AI17,"CSS") -> 0 | AM17: =COUNTIF(E17:AI17,"MP") -> 0 | AN17: =COUNTIF(E17:AI17,"CL") -> 0 | AO17: =COUNTIF(E17:AI17,"ATMP") -> 0 | AP17: =COUNTIF(E17:AI17,"EM") -> 0 | AQ17: =COUNTIF(E17:AI17,"CE") -> 0 | AR17: =SUM(AK17:AQ17) -> 0
B18: =+'@CONFIG'!$B$13 -> COLMANT | C18: ='@CONFIG'!$C$13 -> E | D18: ='@CONFIG'!$D$13 -> thérapeutique | G18: M | H18: M | I18: M | J18: M | M18: M | N18: M | O18: M | P18: M | Q18: M | T18: M | U18: M | V18: M | W18: M | X18: M | AA18: M | AB18: M | AC18: M | AD18: M | AE18: M | AH18: M | AI18: M | AK18: =COUNTIF(E18:AI18,"m") -> 21 | AL18: =COUNTIF(E18:AI18,"CSS") -> 0 | AM18: =COUNTIF(E18:AI18,"MP") -> 0 | AN18: =COUNTIF(E18:AI18,"CL") -> 0 | AO18: =COUNTIF(E18:AI18,"ATMP") -> 0 | AP18: =COUNTIF(E18:AI18,"EM") -> 0 | AQ18: =COUNTIF(E18:AI18,"CE") -> 0 | AR18: =SUM(AK18:AQ18) -> 21
B19: =+'@CONFIG'!$B$14 -> DA COSTA | C19: ='@CONFIG'!$C$14 -> Z | D19: ='@CONFIG'!$D$14 -> éducatif | AK19: =COUNTIF(E19:AI19,"m") -> 0 | AL19: =COUNTIF(E19:AI19,"CSS") -> 0 | AM19: =COUNTIF(E19:AI19,"MP") -> 0 | AN19: =COUNTIF(E19:AI19,"CL") -> 0 | AO19: =COUNTIF(E19:AI19,"ATMP") -> 0 | AP19: =COUNTIF(E19:AI19,"EM") -> 0 | AQ19: =COUNTIF(E19:AI19,"CE") -> 0 | AR19: =SUM(AK19:AQ19) -> 0
B20: =+'@CONFIG'!$B$15 -> DANDUMONT | C20: ='@CONFIG'!$C$15 -> S | D20: ='@CONFIG'!$D$15 -> direction | AK20: =COUNTIF(E20:AI20,"m") -> 0 | AL20: =COUNTIF(E20:AI20,"CSS") -> 0 | AM20: =COUNTIF(E20:AI20,"MP") -> 0 | AN20: =COUNTIF(E20:AI20,"CL") -> 0 | AO20: =COUNTIF(E20:AI20,"ATMP") -> 0 | AP20: =COUNTIF(E20:AI20,"EM") -> 0 | AQ20: =COUNTIF(E20:AI20,"CE") -> 0 | AR20: =SUM(AK20:AQ20) -> 0
B21: =+'@CONFIG'!$B$16 -> DELEBOIS | C21: ='@CONFIG'!$C$16 -> Z | D21: ='@CONFIG'!$D$16 -> médical | AK21: =COUNTIF(E21:AI21,"m") -> 0 | AL21: =COUNTIF(E21:AI21,"CSS") -> 0 | AM21: =COUNTIF(E21:AI21,"MP") -> 0 | AN21: =COUNTIF(E21:AI21,"CL") -> 0 | AO21: =COUNTIF(E21:AI21,"ATMP") -> 0 | AP21: =COUNTIF(E21:AI21,"EM") -> 0 | AQ21: =COUNTIF(E21:AI21,"CE") -> 0 | AR21: =SUM(AK21:AQ21) -> 0
B22: =+'@CONFIG'!$B$17 -> DELHAYE | C22: ='@CONFIG'!$C$17 -> V | D22: ='@CONFIG'!$D$17 -> éducatif | AK22: =COUNTIF(E22:AI22,"m") -> 0 | AL22: =COUNTIF(E22:AI22,"CSS") -> 0 | AM22: =COUNTIF(E22:AI22,"MP") -> 0 | AN22: =COUNTIF(E22:AI22,"CL") -> 0 | AO22: =COUNTIF(E22:AI22,"ATMP") -> 0 | AP22: =COUNTIF(E22:AI22,"EM") -> 0 | AQ22: =COUNTIF(E22:AI22,"CE") -> 0 | AR22: =SUM(AK22:AQ22) -> 0
B23: =+'@CONFIG'!$B$18 -> DELHAYE | C23: ='@CONFIG'!$C$18 -> Z | D23: ='@CONFIG'!$D$18 -> service généraux | AK23: =COUNTIF(E23:AI23,"m") -> 0 | AL23: =COUNTIF(E23:AI23,"CSS") -> 0 | AM23: =COUNTIF(E23:AI23,"MP") -> 0 | AN23: =COUNTIF(E23:AI23,"CL") -> 0 | AO23: =COUNTIF(E23:AI23,"ATMP") -> 0 | AP23: =COUNTIF(E23:AI23,"EM") -> 0 | AQ23: =COUNTIF(E23:AI23,"CE") -> 0 | AR23: =SUM(AK23:AQ23) -> 0
B24: =+'@CONFIG'!$B$19 -> DELMAS | C24: ='@CONFIG'!$C$19 -> A | D24: ='@CONFIG'!$D$19 -> thérapeutique | AK24: =COUNTIF(E24:AI24,"m") -> 0 | AL24: =COUNTIF(E24:AI24,"CSS") -> 0 | AM24: =COUNTIF(E24:AI24,"MP") -> 0 | AN24: =COUNTIF(E24:AI24,"CL") -> 0 | AO24: =COUNTIF(E24:AI24,"ATMP") -> 0 | AP24: =COUNTIF(E24:AI24,"EM") -> 0 | AQ24: =COUNTIF(E24:AI24,"CE") -> 0 | AR24: =SUM(AK24:AQ24) -> 0
B25: =+'@CONFIG'!$B$20 -> DEMANGECLAUDE | C25: ='@CONFIG'!$C$20 -> F | D25: ='@CONFIG'!$D$20 -> service généraux | AK25: =COUNTIF(E25:AI25,"m") -> 0 | AL25: =COUNTIF(E25:AI25,"CSS") -> 0 | AM25: =COUNTIF(E25:AI25,"MP") -> 0 | AN25: =COUNTIF(E25:AI25,"CL") -> 0 | AO25: =COUNTIF(E25:AI25,"ATMP") -> 0 | AP25: =COUNTIF(E25:AI25,"EM") -> 0 | AQ25: =COUNTIF(E25:AI25,"CE") -> 0 | AR25: =SUM(AK25:AQ25) -> 0
B26: =+'@CONFIG'!$B$21 -> DESTREE | C26: ='@CONFIG'!$C$21 -> Z | D26: ='@CONFIG'!$D$21 -> éducatif | AK26: =COUNTIF(E26:AI26,"m") -> 0 | AL26: =COUNTIF(E26:AI26,"CSS") -> 0 | AM26: =COUNTIF(E26:AI26,"MP") -> 0 | AN26: =COUNTIF(E26:AI26,"CL") -> 0 | AO26: =COUNTIF(E26:AI26,"ATMP") -> 0 | AP26: =COUNTIF(E26:AI26,"EM") -> 0 | AQ26: =COUNTIF(E26:AI26,"CE") -> 0 | AR26: =SUM(AK26:AQ26) -> 0
B27: =+'@CONFIG'!$B$22 -> DUCARMES | C27: ='@CONFIG'!$C$22 -> R | D27: ='@CONFIG'!$D$22 -> éducatif | AK27: =COUNTIF(E27:AI27,"m") -> 0 | AL27: =COUNTIF(E27:AI27,"CSS") -> 0 | AM27: =COUNTIF(E27:AI27,"MP") -> 0 | AN27: =COUNTIF(E27:AI27,"CL") -> 0 | AO27: =COUNTIF(E27:AI27,"ATMP") -> 0 | AP27: =COUNTIF(E27:AI27,"EM") -> 0 | AQ27: =COUNTIF(E27:AI27,"CE") -> 0 | AR27: =SUM(AK27:AQ27) -> 0
B28: =+'@CONFIG'!B23 -> DUCARMES | C28: ='@CONFIG'!$C$23 -> F | D28: ='@CONFIG'!$D$23 -> direction | AK28: =COUNTIF(E28:AI28,"m") -> 0 | AL28: =COUNTIF(E28:AI28,"CSS") -> 0 | AM28: =COUNTIF(E28:AI28,"MP") -> 0 | AN28: =COUNTIF(E28:AI28,"CL") -> 0 | AO28: =COUNTIF(E28:AI28,"ATMP") -> 0 | AP28: =COUNTIF(E28:AI28,"EM") -> 0 | AQ28: =COUNTIF(E28:AI28,"CE") -> 0 | AR28: =SUM(AK28:AQ28) -> 0
B29: =+'@CONFIG'!$B$24 -> DUGARD | C29: ='@CONFIG'!$C$24 -> F | D29: ='@CONFIG'!$D$24 -> éducatif | AK29: =COUNTIF(E29:AI29,"m") -> 0 | AL29: =COUNTIF(E29:AI29,"CSS") -> 0 | AM29: =COUNTIF(E29:AI29,"MP") -> 0 | AN29: =COUNTIF(E29:AI29,"CL") -> 0 | AO29: =COUNTIF(E29:AI29,"ATMP") -> 0 | AP29: =COUNTIF(E29:AI29,"EM") -> 0 | AQ29: =COUNTIF(E29:AI29,"CE") -> 0 | AR29: =SUM(AK29:AQ29) -> 0
B30: =+'@CONFIG'!$B$25 -> FORTEMPS | C30: ='@CONFIG'!$C$25 -> S | D30: ='@CONFIG'!$D$25 -> thérapeutique | W30: CE | X30: CE | AK30: =COUNTIF(E30:AI30,"m") -> 0 | AL30: =COUNTIF(E30:AI30,"CSS") -> 0 | AM30: =COUNTIF(E30:AI30,"MP") -> 0 | AN30: =COUNTIF(E30:AI30,"CL") -> 0 | AO30: =COUNTIF(E30:AI30,"ATMP") -> 0 | AP30: =COUNTIF(E30:AI30,"EM") -> 0 | AQ30: =COUNTIF(E30:AI30,"CE") -> 2 | AR30: =SUM(AK30:AQ30) -> 2
B31: =+'@CONFIG'!$B$26 -> FOUREUR | C31: ='@CONFIG'!$C$26 -> A | D31: ='@CONFIG'!$D$26 -> thérapeutique | AK31: =COUNTIF(E31:AI31,"m") -> 0 | AL31: =COUNTIF(E31:AI31,"CSS") -> 0 | AM31: =COUNTIF(E31:AI31,"MP") -> 0 | AN31: =COUNTIF(E31:AI31,"CL") -> 0 | AO31: =COUNTIF(E31:AI31,"ATMP") -> 0 | AP31: =COUNTIF(E31:AI31,"EM") -> 0 | AQ31: =COUNTIF(E31:AI31,"CE") -> 0 | AR31: =SUM(AK31:AQ31) -> 0
B32: =+'@CONFIG'!$B$27 -> GABORIT | C32: ='@CONFIG'!$C$27 -> D | D32: ='@CONFIG'!$D$27 -> thérapeutique | AK32: =COUNTIF(E32:AI32,"m") -> 0 | AL32: =COUNTIF(E32:AI32,"CSS") -> 0 | AM32: =COUNTIF(E32:AI32,"MP") -> 0 | AN32: =COUNTIF(E32:AI32,"CL") -> 0 | AO32: =COUNTIF(E32:AI32,"ATMP") -> 0 | AP32: =COUNTIF(E32:AI32,"EM") -> 0 | AQ32: =COUNTIF(E32:AI32,"CE") -> 0 | AR32: =SUM(AK32:AQ32) -> 0
B33: =+'@CONFIG'!$B$28 -> GODET | C33: ='@CONFIG'!$C$28 -> G | D33: ='@CONFIG'!$D$28 -> éducatif | AK33: =COUNTIF(E33:AI33,"m") -> 0 | AL33: =COUNTIF(E33:AI33,"CSS") -> 0 | AM33: =COUNTIF(E33:AI33,"MP") -> 0 | AN33: =COUNTIF(E33:AI33,"CL") -> 0 | AO33: =COUNTIF(E33:AI33,"ATMP") -> 0 | AP33: =COUNTIF(E33:AI33,"EM") -> 0 | AQ33: =COUNTIF(E33:AI33,"CE") -> 0 | AR33: =SUM(AK33:AQ33) -> 0
B34: =+'@CONFIG'!$B$29 -> GOMES | C34: ='@CONFIG'!$C$29 -> B | D34: ='@CONFIG'!$D$29 -> service généraux | AK34: =COUNTIF(E34:AI34,"m") -> 0 | AL34: =COUNTIF(E34:AI34,"CSS") -> 0 | AM34: =COUNTIF(E34:AI34,"MP") -> 0 | AN34: =COUNTIF(E34:AI34,"CL") -> 0 | AO34: =COUNTIF(E34:AI34,"ATMP") -> 0 | AP34: =COUNTIF(E34:AI34,"EM") -> 0 | AQ34: =COUNTIF(E34:AI34,"CE") -> 0 | AR34: =SUM(AK34:AQ34) -> 0
B35: =+'@CONFIG'!$B$30 -> GONCALVES | C35: ='@CONFIG'!$C$30 -> L | D35: ='@CONFIG'!$D$30 -> éducatif | AC35: M | AD35: M | AE35: M | AH35: M | AI35: M | AK35: =COUNTIF(E35:AI35,"m") -> 5 | AL35: =COUNTIF(E35:AI35,"CSS") -> 0 | AM35: =COUNTIF(E35:AI35,"MP") -> 0 | AN35: =COUNTIF(E35:AI35,"CL") -> 0 | AO35: =COUNTIF(E35:AI35,"ATMP") -> 0 | AP35: =COUNTIF(E35:AI35,"EM") -> 0 | AQ35: =COUNTIF(E35:AI35,"CE") -> 0 | AR35: =SUM(AK35:AQ35) -> 5
B36: =+'@CONFIG'!$B$31 -> GUERIN | C36: ='@CONFIG'!$C$31 -> O | D36: ='@CONFIG'!$D$31 -> pédagogique | AK36: =COUNTIF(E36:AI36,"m") -> 0 | AL36: =COUNTIF(E36:AI36,"CSS") -> 0 | AM36: =COUNTIF(E36:AI36,"MP") -> 0 | AN36: =COUNTIF(E36:AI36,"CL") -> 0 | AO36: =COUNTIF(E36:AI36,"ATMP") -> 0 | AP36: =COUNTIF(E36:AI36,"EM") -> 0 | AQ36: =COUNTIF(E36:AI36,"CE") -> 0 | AR36: =SUM(AK36:AQ36) -> 0
B37: =+'@CONFIG'!$B$32 -> HELIN | C37: ='@CONFIG'!$C$32 -> U | D37: ='@CONFIG'!$D$32 -> service généraux | AK37: =COUNTIF(E37:AI37,"m") -> 0 | AL37: =COUNTIF(E37:AI37,"CSS") -> 0 | AM37: =COUNTIF(E37:AI37,"MP") -> 0 | AN37: =COUNTIF(E37:AI37,"CL") -> 0 | AO37: =COUNTIF(E37:AI37,"ATMP") -> 0 | AP37: =COUNTIF(E37:AI37,"EM") -> 0 | AQ37: =COUNTIF(E37:AI37,"CE") -> 0 | AR37: =SUM(AK37:AQ37) -> 0
B38: =+'@CONFIG'!$B$33 -> HELIN | C38: ='@CONFIG'!$C$33 -> T | D38: ='@CONFIG'!$D$33 -> thérapeutique | AK38: =COUNTIF(E38:AI38,"m") -> 0 | AL38: =COUNTIF(E38:AI38,"CSS") -> 0 | AM38: =COUNTIF(E38:AI38,"MP") -> 0 | AN38: =COUNTIF(E38:AI38,"CL") -> 0 | AO38: =COUNTIF(E38:AI38,"ATMP") -> 0 | AP38: =COUNTIF(E38:AI38,"EM") -> 0 | AQ38: =COUNTIF(E38:AI38,"CE") -> 0 | AR38: =SUM(AK38:AQ38) -> 0
B39: =+'@CONFIG'!$B$34 -> HENRARD | C39: ='@CONFIG'!$C$34 -> E | D39: ='@CONFIG'!$D$34 -> service administratif | AK39: =COUNTIF(E39:AI39,"m") -> 0 | AL39: =COUNTIF(E39:AI39,"CSS") -> 0 | AM39: =COUNTIF(E39:AI39,"MP") -> 0 | AN39: =COUNTIF(E39:AI39,"CL") -> 0 | AO39: =COUNTIF(E39:AI39,"ATMP") -> 0 | AP39: =COUNTIF(E39:AI39,"EM") -> 0 | AQ39: =COUNTIF(E39:AI39,"CE") -> 0 | AR39: =SUM(AK39:AQ39) -> 0
B40: =+'@CONFIG'!$B$35 -> HINS | C40: ='@CONFIG'!$C$35 -> Z | D40: ='@CONFIG'!$D$35 -> thérapeutique | AK40: =COUNTIF(E40:AI40,"m") -> 0 | AL40: =COUNTIF(E40:AI40,"CSS") -> 0 | AM40: =COUNTIF(E40:AI40,"MP") -> 0 | AN40: =COUNTIF(E40:AI40,"CL") -> 0 | AO40: =COUNTIF(E40:AI40,"ATMP") -> 0 | AP40: =COUNTIF(E40:AI40,"EM") -> 0 | AQ40: =COUNTIF(E40:AI40,"CE") -> 0 | AR40: =SUM(AK40:AQ40) -> 0
B41: =+'@CONFIG'!$B$36 -> HODY | C41: ='@CONFIG'!$C$36 -> A | D41: ='@CONFIG'!$D$36 -> éducatif | AK41: =COUNTIF(E41:AI41,"m") -> 0 | AL41: =COUNTIF(E41:AI41,"CSS") -> 0 | AM41: =COUNTIF(E41:AI41,"MP") -> 0 | AN41: =COUNTIF(E41:AI41,"CL") -> 0 | AO41: =COUNTIF(E41:AI41,"ATMP") -> 0 | AP41: =COUNTIF(E41:AI41,"EM") -> 0 | AQ41: =COUNTIF(E41:AI41,"CE") -> 0 | AR41: =SUM(AK41:AQ41) -> 0
B42: =+'@CONFIG'!$B$37 -> IGNACZINSKI | C42: ='@CONFIG'!$C$37 -> S | D42: ='@CONFIG'!$D$37 -> service généraux | AK42: =COUNTIF(E42:AI42,"m") -> 0 | AL42: =COUNTIF(E42:AI42,"CSS") -> 0 | AM42: =COUNTIF(E42:AI42,"MP") -> 0 | AN42: =COUNTIF(E42:AI42,"CL") -> 0 | AO42: =COUNTIF(E42:AI42,"ATMP") -> 0 | AP42: =COUNTIF(E42:AI42,"EM") -> 0 | AQ42: =COUNTIF(E42:AI42,"CE") -> 0 | AR42: =SUM(AK42:AQ42) -> 0
B43: =+'@CONFIG'!$B$38 -> JOUY | C43: ='@CONFIG'!$C$38 -> W | D43: ='@CONFIG'!$D$38 -> service administratif | AK43: =COUNTIF(E43:AI43,"m") -> 0 | AL43: =COUNTIF(E43:AI43,"CSS") -> 0 | AM43: =COUNTIF(E43:AI43,"MP") -> 0 | AN43: =COUNTIF(E43:AI43,"CL") -> 0 | AO43: =COUNTIF(E43:AI43,"ATMP") -> 0 | AP43: =COUNTIF(E43:AI43,"EM") -> 0 | AQ43: =COUNTIF(E43:AI43,"CE") -> 0 | AR43: =SUM(AK43:AQ43) -> 0
B44: =+'@CONFIG'!$B$39 -> KABADAYI | C44: ='@CONFIG'!$C$39 -> V | D44: ='@CONFIG'!$D$39 -> service administratif | AK44: =COUNTIF(E44:AI44,"m") -> 0 | AL44: =COUNTIF(E44:AI44,"CSS") -> 0 | AM44: =COUNTIF(E44:AI44,"MP") -> 0 | AN44: =COUNTIF(E44:AI44,"CL") -> 0 | AO44: =COUNTIF(E44:AI44,"ATMP") -> 0 | AP44: =COUNTIF(E44:AI44,"EM") -> 0 | AQ44: =COUNTIF(E44:AI44,"CE") -> 0 | AR44: =SUM(AK44:AQ44) -> 0
B45: =+'@CONFIG'!$B$40 -> LABERGRI | C45: ='@CONFIG'!$C$40 -> G | D45: ='@CONFIG'!$D$40 -> éducatif | AK45: =COUNTIF(E45:AI45,"m") -> 0 | AL45: =COUNTIF(E45:AI45,"CSS") -> 0 | AM45: =COUNTIF(E45:AI45,"MP") -> 0 | AN45: =COUNTIF(E45:AI45,"CL") -> 0 | AO45: =COUNTIF(E45:AI45,"ATMP") -> 0 | AP45: =COUNTIF(E45:AI45,"EM") -> 0 | AQ45: =COUNTIF(E45:AI45,"CE") -> 0 | AR45: =SUM(AK45:AQ45) -> 0
B46: =+'@CONFIG'!$B$41 -> LADAME | C46: ='@CONFIG'!$C$41 -> D | D46: ='@CONFIG'!$D$41 -> éducatif | AK46: =COUNTIF(E46:AI46,"m") -> 0 | AL46: =COUNTIF(E46:AI46,"CSS") -> 0 | AM46: =COUNTIF(E46:AI46,"MP") -> 0 | AN46: =COUNTIF(E46:AI46,"CL") -> 0 | AO46: =COUNTIF(E46:AI46,"ATMP") -> 0 | AP46: =COUNTIF(E46:AI46,"EM") -> 0 | AQ46: =COUNTIF(E46:AI46,"CE") -> 0 | AR46: =SUM(AK46:AQ46) -> 0
B47: =+'@CONFIG'!$B$42 -> LAMBERT | C47: ='@CONFIG'!$C$42 -> E | D47: ='@CONFIG'!$D$42 -> éducatif | AA47: MP | AB47: MP | AC47: MP | AD47: MP | AE47: MP | AH47: MP | AI47: MP | AK47: =COUNTIF(E47:AI47,"m") -> 0 | AL47: =COUNTIF(E47:AI47,"CSS") -> 0 | AM47: =COUNTIF(E47:AI47,"MP") -> 7 | AN47: =COUNTIF(E47:AI47,"CL") -> 0 | AO47: =COUNTIF(E47:AI47,"ATMP") -> 0 | AP47: =COUNTIF(E47:AI47,"EM") -> 0 | AQ47: =COUNTIF(E47:AI47,"CE") -> 0 | AR47: =SUM(AK47:AQ47) -> 7
B48: =+'@CONFIG'!$B$43 -> LAPORTE | C48: ='@CONFIG'!$C$43 -> Z | D48: ='@CONFIG'!$D$43 -> éducatif | AK48: =COUNTIF(E48:AI48,"m") -> 0 | AL48: =COUNTIF(E48:AI48,"CSS") -> 0 | AM48: =COUNTIF(E48:AI48,"MP") -> 0 | AN48: =COUNTIF(E48:AI48,"CL") -> 0 | AO48: =COUNTIF(E48:AI48,"ATMP") -> 0 | AP48: =COUNTIF(E48:AI48,"EM") -> 0 | AQ48: =COUNTIF(E48:AI48,"CE") -> 0 | AR48: =SUM(AK48:AQ48) -> 0
B49: =+'@CONFIG'!$B$44 -> LARTISIEN | C49: ='@CONFIG'!$C$44 -> Q | D49: ='@CONFIG'!$D$44 -> pédagogique | AK49: =COUNTIF(E49:AI49,"m") -> 0 | AL49: =COUNTIF(E49:AI49,"CSS") -> 0 | AM49: =COUNTIF(E49:AI49,"MP") -> 0 | AN49: =COUNTIF(E49:AI49,"CL") -> 0 | AO49: =COUNTIF(E49:AI49,"ATMP") -> 0 | AP49: =COUNTIF(E49:AI49,"EM") -> 0 | AQ49: =COUNTIF(E49:AI49,"CE") -> 0 | AR49: =SUM(AK49:AQ49) -> 0
B50: =+'@CONFIG'!$B$45 -> LASSAUX | C50: ='@CONFIG'!$C$45 -> A | D50: ='@CONFIG'!$D$45 -> éducatif | AK50: =COUNTIF(E50:AI50,"m") -> 0 | AL50: =COUNTIF(E50:AI50,"CSS") -> 0 | AM50: =COUNTIF(E50:AI50,"MP") -> 0 | AN50: =COUNTIF(E50:AI50,"CL") -> 0 | AO50: =COUNTIF(E50:AI50,"ATMP") -> 0 | AP50: =COUNTIF(E50:AI50,"EM") -> 0 | AQ50: =COUNTIF(E50:AI50,"CE") -> 0 | AR50: =SUM(AK50:AQ50) -> 0
B51: =+'@CONFIG'!$B$46 -> LAURENT | C51: ='@CONFIG'!$C$46 -> S | D51: ='@CONFIG'!$D$46 -> éducatif | G51: M | H51: M | I51: M | J51: M | O51: M | P51: M | Q51: M | T51: M | U51: M | AK51: =COUNTIF(E51:AI51,"m") -> 9 | AL51: =COUNTIF(E51:AI51,"CSS") -> 0 | AM51: =COUNTIF(E51:AI51,"MP") -> 0 | AN51: =COUNTIF(E51:AI51,"CL") -> 0 | AO51: =COUNTIF(E51:AI51,"ATMP") -> 0 | AP51: =COUNTIF(E51:AI51,"EM") -> 0 | AQ51: =COUNTIF(E51:AI51,"CE") -> 0 | AR51: =SUM(AK51:AQ51) -> 9
B52: =+'@CONFIG'!$B$47 -> LAURENT | C52: ='@CONFIG'!$C$47 -> F | D52: ='@CONFIG'!$D$47 -> éducatif | AK52: =COUNTIF(E52:AI52,"m") -> 0 | AL52: =COUNTIF(E52:AI52,"CSS") -> 0 | AM52: =COUNTIF(E52:AI52,"MP") -> 0 | AN52: =COUNTIF(E52:AI52,"CL") -> 0 | AO52: =COUNTIF(E52:AI52,"ATMP") -> 0 | AP52: =COUNTIF(E52:AI52,"EM") -> 0 | AQ52: =COUNTIF(E52:AI52,"CE") -> 0 | AR52: =SUM(AK52:AQ52) -> 0
B53: =+'@CONFIG'!$B$48 -> LECORNET | C53: ='@CONFIG'!$C$48 -> F | D53: ='@CONFIG'!$D$48 -> éducatif | AK53: =COUNTIF(E53:AI53,"m") -> 0 | AL53: =COUNTIF(E53:AI53,"CSS") -> 0 | AM53: =COUNTIF(E53:AI53,"MP") -> 0 | AN53: =COUNTIF(E53:AI53,"CL") -> 0 | AO53: =COUNTIF(E53:AI53,"ATMP") -> 0 | AP53: =COUNTIF(E53:AI53,"EM") -> 0 | AQ53: =COUNTIF(E53:AI53,"CE") -> 0 | AR53: =SUM(AK53:AQ53) -> 0
B54: =+'@CONFIG'!$B$49 -> LEDOUBLE | C54: ='@CONFIG'!$C$49 -> G | D54: ='@CONFIG'!$D$49 -> éducatif | X54: CE | AA54: CE | AK54: =COUNTIF(E54:AI54,"m") -> 0 | AL54: =COUNTIF(E54:AI54,"CSS") -> 0 | AM54: =COUNTIF(E54:AI54,"MP") -> 0 | AN54: =COUNTIF(E54:AI54,"CL") -> 0 | AO54: =COUNTIF(E54:AI54,"ATMP") -> 0 | AP54: =COUNTIF(E54:AI54,"EM") -> 0 | AQ54: =COUNTIF(E54:AI54,"CE") -> 2 | AR54: =SUM(AK54:AQ54) -> 2
B55: =+'@CONFIG'!$B$50 -> LEMOINE | C55: ='@CONFIG'!$C$50 -> E | D55: ='@CONFIG'!$D$50 -> pédagogique | AK55: =COUNTIF(E55:AI55,"m") -> 0 | AL55: =COUNTIF(E55:AI55,"CSS") -> 0 | AM55: =COUNTIF(E55:AI55,"MP") -> 0 | AN55: =COUNTIF(E55:AI55,"CL") -> 0 | AO55: =COUNTIF(E55:AI55,"ATMP") -> 0 | AP55: =COUNTIF(E55:AI55,"EM") -> 0 | AQ55: =COUNTIF(E55:AI55,"CE") -> 0 | AR55: =SUM(AK55:AQ55) -> 0
B56: =+'@CONFIG'!$B$51 -> MAGNIETTE | C56: ='@CONFIG'!$C$51 -> M | D56: ='@CONFIG'!$D$51 -> éducatif | AK56: =COUNTIF(E56:AI56,"m") -> 0 | AL56: =COUNTIF(E56:AI56,"CSS") -> 0 | AM56: =COUNTIF(E56:AI56,"MP") -> 0 | AN56: =COUNTIF(E56:AI56,"CL") -> 0 | AO56: =COUNTIF(E56:AI56,"ATMP") -> 0 | AP56: =COUNTIF(E56:AI56,"EM") -> 0 | AQ56: =COUNTIF(E56:AI56,"CE") -> 0 | AR56: =SUM(AK56:AQ56) -> 0
B57: =+'@CONFIG'!$B$52 -> MARCHAL | C57: ='@CONFIG'!$C$52 -> P | D57: ='@CONFIG'!$D$52 -> thérapeutique | AK57: =COUNTIF(E57:AI57,"m") -> 0 | AL57: =COUNTIF(E57:AI57,"CSS") -> 0 | AM57: =COUNTIF(E57:AI57,"MP") -> 0 | AN57: =COUNTIF(E57:AI57,"CL") -> 0 | AO57: =COUNTIF(E57:AI57,"ATMP") -> 0 | AP57: =COUNTIF(E57:AI57,"EM") -> 0 | AQ57: =COUNTIF(E57:AI57,"CE") -> 0 | AR57: =SUM(AK57:AQ57) -> 0
B58: =+'@CONFIG'!$B$53 -> MASSART | C58: ='@CONFIG'!$C$53 -> A | D58: ='@CONFIG'!$D$53 -> éducatif | AK58: =COUNTIF(E58:AI58,"m") -> 0 | AL58: =COUNTIF(E58:AI58,"CSS") -> 0 | AM58: =COUNTIF(E58:AI58,"MP") -> 0 | AN58: =COUNTIF(E58:AI58,"CL") -> 0 | AO58: =COUNTIF(E58:AI58,"ATMP") -> 0 | AP58: =COUNTIF(E58:AI58,"EM") -> 0 | AQ58: =COUNTIF(E58:AI58,"CE") -> 0 | AR58: =SUM(AK58:AQ58) -> 0
B59: =+'@CONFIG'!$B$54 -> MEBARKI | C59: ='@CONFIG'!$C$54 -> S | D59: ='@CONFIG'!$D$54 -> éducatif | AK59: =COUNTIF(E59:AI59,"m") -> 0 | AL59: =COUNTIF(E59:AI59,"CSS") -> 0 | AM59: =COUNTIF(E59:AI59,"MP") -> 0 | AN59: =COUNTIF(E59:AI59,"CL") -> 0 | AO59: =COUNTIF(E59:AI59,"ATMP") -> 0 | AP59: =COUNTIF(E59:AI59,"EM") -> 0 | AQ59: =COUNTIF(E59:AI59,"CE") -> 0 | AR59: =SUM(AK59:AQ59) -> 0
B60: =+'@CONFIG'!$B$55 -> MONTALBO | C60: ='@CONFIG'!$C$55 -> A | D60: ='@CONFIG'!$D$55 -> thérapeutique | G60: M | H60: M | I60: M | J60: M | AK60: =COUNTIF(E60:AI60,"m") -> 4 | AL60: =COUNTIF(E60:AI60,"CSS") -> 0 | AM60: =COUNTIF(E60:AI60,"MP") -> 0 | AN60: =COUNTIF(E60:AI60,"CL") -> 0 | AO60: =COUNTIF(E60:AI60,"ATMP") -> 0 | AP60: =COUNTIF(E60:AI60,"EM") -> 0 | AQ60: =COUNTIF(E60:AI60,"CE") -> 0 | AR60: =SUM(AK60:AQ60) -> 4
B61: =+'@CONFIG'!$B$56 -> PAMLARD | C61: ='@CONFIG'!$C$56 -> Z | D61: ='@CONFIG'!$D$56 -> éducatif | AK61: =COUNTIF(E61:AI61,"m") -> 0 | AL61: =COUNTIF(E61:AI61,"CSS") -> 0 | AM61: =COUNTIF(E61:AI61,"MP") -> 0 | AN61: =COUNTIF(E61:AI61,"CL") -> 0 | AO61: =COUNTIF(E61:AI61,"ATMP") -> 0 | AP61: =COUNTIF(E61:AI61,"EM") -> 0 | AQ61: =COUNTIF(E61:AI61,"CE") -> 0 | AR61: =SUM(AK61:AQ61) -> 0
B62: =+'@CONFIG'!$B$57 -> PARISELLE | C62: ='@CONFIG'!$C$57 -> W | D62: ='@CONFIG'!$D$57 -> éducatif | AK62: =COUNTIF(E62:AI62,"m") -> 0 | AL62: =COUNTIF(E62:AI62,"CSS") -> 0 | AM62: =COUNTIF(E62:AI62,"MP") -> 0 | AN62: =COUNTIF(E62:AI62,"CL") -> 0 | AO62: =COUNTIF(E62:AI62,"ATMP") -> 0 | AP62: =COUNTIF(E62:AI62,"EM") -> 0 | AQ62: =COUNTIF(E62:AI62,"CE") -> 0 | AR62: =SUM(AK62:AQ62) -> 0
B63: =+'@CONFIG'!$B$58 -> PARLIER | C63: ='@CONFIG'!$C$58 -> S | D63: ='@CONFIG'!$D$58 -> éducatif | AK63: =COUNTIF(E63:AI63,"m") -> 0 | AL63: =COUNTIF(E63:AI63,"CSS") -> 0 | AM63: =COUNTIF(E63:AI63,"MP") -> 0 | AN63: =COUNTIF(E63:AI63,"CL") -> 0 | AO63: =COUNTIF(E63:AI63,"ATMP") -> 0 | AP63: =COUNTIF(E63:AI63,"EM") -> 0 | AQ63: =COUNTIF(E63:AI63,"CE") -> 0 | AR63: =SUM(AK63:AQ63) -> 0
B64: =+'@CONFIG'!$B$59 -> PATOUREAUX | C64: ='@CONFIG'!$C$59 -> A | D64: ='@CONFIG'!$D$59 -> éducatif | AK64: =COUNTIF(E64:AI64,"m") -> 0 | AL64: =COUNTIF(E64:AI64,"CSS") -> 0 | AM64: =COUNTIF(E64:AI64,"MP") -> 0 | AN64: =COUNTIF(E64:AI64,"CL") -> 0 | AO64: =COUNTIF(E64:AI64,"ATMP") -> 0 | AP64: =COUNTIF(E64:AI64,"EM") -> 0 | AQ64: =COUNTIF(E64:AI64,"CE") -> 0 | AR64: =SUM(AK64:AQ64) -> 0
B65: =+'@CONFIG'!$B$60 -> PAYON | C65: ='@CONFIG'!$C$60 -> B | D65: ='@CONFIG'!$D$60 -> service généraux | AK65: =COUNTIF(E65:AI65,"m") -> 0 | AL65: =COUNTIF(E65:AI65,"CSS") -> 0 | AM65: =COUNTIF(E65:AI65,"MP") -> 0 | AN65: =COUNTIF(E65:AI65,"CL") -> 0 | AO65: =COUNTIF(E65:AI65,"ATMP") -> 0 | AP65: =COUNTIF(E65:AI65,"EM") -> 0 | AQ65: =COUNTIF(E65:AI65,"CE") -> 0 | AR65: =SUM(AK65:AQ65) -> 0
B66: =+'@CONFIG'!$B$61 -> PETITFILS | C66: ='@CONFIG'!$C$61 -> G | D66: ='@CONFIG'!$D$61 -> thérapeutique | AK66: =COUNTIF(E66:AI66,"m") -> 0 | AL66: =COUNTIF(E66:AI66,"CSS") -> 0 | AM66: =COUNTIF(E66:AI66,"MP") -> 0 | AN66: =COUNTIF(E66:AI66,"CL") -> 0 | AO66: =COUNTIF(E66:AI66,"ATMP") -> 0 | AP66: =COUNTIF(E66:AI66,"EM") -> 0 | AQ66: =COUNTIF(E66:AI66,"CE") -> 0 | AR66: =SUM(AK66:AQ66) -> 0
B67: =+'@CONFIG'!$B$62 -> PIERRE | C67: ='@CONFIG'!$C$62 -> R | D67: ='@CONFIG'!$D$62 -> pédagogique | AK67: =COUNTIF(E67:AI67,"m") -> 0 | AL67: =COUNTIF(E67:AI67,"CSS") -> 0 | AM67: =COUNTIF(E67:AI67,"MP") -> 0 | AN67: =COUNTIF(E67:AI67,"CL") -> 0 | AO67: =COUNTIF(E67:AI67,"ATMP") -> 0 | AP67: =COUNTIF(E67:AI67,"EM") -> 0 | AQ67: =COUNTIF(E67:AI67,"CE") -> 0 | AR67: =SUM(AK67:AQ67) -> 0
B68: =+'@CONFIG'!$B$63 -> PINTO | C68: ='@CONFIG'!$C$63 -> I | D68: ='@CONFIG'!$D$63 -> éducatif | AK68: =COUNTIF(E68:AI68,"m") -> 0 | AL68: =COUNTIF(E68:AI68,"CSS") -> 0 | AM68: =COUNTIF(E68:AI68,"MP") -> 0 | AN68: =COUNTIF(E68:AI68,"CL") -> 0 | AO68: =COUNTIF(E68:AI68,"ATMP") -> 0 | AP68: =COUNTIF(E68:AI68,"EM") -> 0 | AQ68: =COUNTIF(E68:AI68,"CE") -> 0 | AR68: =SUM(AK68:AQ68) -> 0
B69: =+'@CONFIG'!$B$64 -> PRETO | C69: ='@CONFIG'!$C$64 -> M | D69: ='@CONFIG'!$D$64 -> service généraux | AK69: =COUNTIF(E69:AI69,"m") -> 0 | AL69: =COUNTIF(E69:AI69,"CSS") -> 0 | AM69: =COUNTIF(E69:AI69,"MP") -> 0 | AN69: =COUNTIF(E69:AI69,"CL") -> 0 | AO69: =COUNTIF(E69:AI69,"ATMP") -> 0 | AP69: =COUNTIF(E69:AI69,"EM") -> 0 | AQ69: =COUNTIF(E69:AI69,"CE") -> 0 | AR69: =SUM(AK69:AQ69) -> 0
B70: =+'@CONFIG'!$B$65 -> RETORE | C70: ='@CONFIG'!$C$65 -> P | D70: ='@CONFIG'!$D$65 -> pédagogique | AK70: =COUNTIF(E70:AI70,"m") -> 0 | AL70: =COUNTIF(E70:AI70,"CSS") -> 0 | AM70: =COUNTIF(E70:AI70,"MP") -> 0 | AN70: =COUNTIF(E70:AI70,"CL") -> 0 | AO70: =COUNTIF(E70:AI70,"ATMP") -> 0 | AP70: =COUNTIF(E70:AI70,"EM") -> 0 | AQ70: =COUNTIF(E70:AI70,"CE") -> 0 | AR70: =SUM(AK70:AQ70) -> 0
B71: =+'@CONFIG'!$B$66 -> ROUSCHOP | C71: ='@CONFIG'!$C$66 -> O | D71: ='@CONFIG'!$D$66 -> pédagogique | AK71: =COUNTIF(E71:AI71,"m") -> 0 | AL71: =COUNTIF(E71:AI71,"CSS") -> 0 | AM71: =COUNTIF(E71:AI71,"MP") -> 0 | AN71: =COUNTIF(E71:AI71,"CL") -> 0 | AO71: =COUNTIF(E71:AI71,"ATMP") -> 0 | AP71: =COUNTIF(E71:AI71,"EM") -> 0 | AQ71: =COUNTIF(E71:AI71,"CE") -> 0 | AR71: =SUM(AK71:AQ71) -> 0
B72: =+'@CONFIG'!$B$67 -> SCIOT | C72: ='@CONFIG'!$C$67 -> L | D72: ='@CONFIG'!$D$67 -> éducatif | AK72: =COUNTIF(E72:AI72,"m") -> 0 | AL72: =COUNTIF(E72:AI72,"CSS") -> 0 | AM72: =COUNTIF(E72:AI72,"MP") -> 0 | AN72: =COUNTIF(E72:AI72,"CL") -> 0 | AO72: =COUNTIF(E72:AI72,"ATMP") -> 0 | AP72: =COUNTIF(E72:AI72,"EM") -> 0 | AQ72: =COUNTIF(E72:AI72,"CE") -> 0 | AR72: =SUM(AK72:AQ72) -> 0
B73: =+'@CONFIG'!$B$68 -> VALLEE | C73: ='@CONFIG'!$C$68 -> I | D73: ='@CONFIG'!$D$68 -> éducatif | AK73: =COUNTIF(E73:AI73,"m") -> 0 | AL73: =COUNTIF(E73:AI73,"CSS") -> 0 | AM73: =COUNTIF(E73:AI73,"MP") -> 0 | AN73: =COUNTIF(E73:AI73,"CL") -> 0 | AO73: =COUNTIF(E73:AI73,"ATMP") -> 0 | AP73: =COUNTIF(E73:AI73,"EM") -> 0 | AQ73: =COUNTIF(E73:AI73,"CE") -> 0 | AR73: =SUM(AK73:AQ73) -> 0
B74: =+'@CONFIG'!$B$69 -> VAUTIER | C74: ='@CONFIG'!$C$69 -> E | D74: ='@CONFIG'!$D$69 -> thérapeutique | I74: M | J74: M | M74: M | N74: M | O74: M | P74: M | Q74: M | T74: M | U74: M | V74: M | W74: M | X74: M | AA74: M | AB74: M | AC74: M | AD74: M | AE74: M | AH74: M | AI74: M | AK74: =COUNTIF(E74:AI74,"m") -> 19 | AL74: =COUNTIF(E74:AI74,"CSS") -> 0 | AM74: =COUNTIF(E74:AI74,"MP") -> 0 | AN74: =COUNTIF(E74:AI74,"CL") -> 0 | AO74: =COUNTIF(E74:AI74,"ATMP") -> 0 | AP74: =COUNTIF(E74:AI74,"EM") -> 0 | AQ74: =COUNTIF(E74:AI74,"CE") -> 0 | AR74: =SUM(AK74:AQ74) -> 19
B75: =+'@CONFIG'!$B$70 -> WALTISPURGER | C75: ='@CONFIG'!$C$70 -> V | D75: ='@CONFIG'!$D$70 -> éducatif | G75: M | H75: M | I75: M | J75: M | AK75: =COUNTIF(E75:AI75,"m") -> 4 | AL75: =COUNTIF(E75:AI75,"CSS") -> 0 | AM75: =COUNTIF(E75:AI75,"MP") -> 0 | AN75: =COUNTIF(E75:AI75,"CL") -> 0 | AO75: =COUNTIF(E75:AI75,"ATMP") -> 0 | AP75: =COUNTIF(E75:AI75,"EM") -> 0 | AQ75: =COUNTIF(E75:AI75,"CE") -> 0 | AR75: =SUM(AK75:AQ75) -> 4
B76: =+'@CONFIG'!$B$71 -> WALTISPURGER | C76: ='@CONFIG'!$C$71 -> N | D76: ='@CONFIG'!$D$71 -> service généraux | AK76: =COUNTIF(E76:AI76,"m") -> 0 | AL76: =COUNTIF(E76:AI76,"CSS") -> 0 | AM76: =COUNTIF(E76:AI76,"MP") -> 0 | AN76: =COUNTIF(E76:AI76,"CL") -> 0 | AO76: =COUNTIF(E76:AI76,"ATMP") -> 0 | AP76: =COUNTIF(E76:AI76,"EM") -> 0 | AQ76: =COUNTIF(E76:AI76,"CE") -> 0 | AR76: =SUM(AK76:AQ76) -> 0
B77: =+'@CONFIG'!$B$72 -> 0 | C77: ='@CONFIG'!$C$72 -> 0 | D77: ='@CONFIG'!$D$72 -> 0 | AK77: =COUNTIF(E77:AI77,"m") -> 0 | AL77: =COUNTIF(E77:AI77,"CSS") -> 0 | AM77: =COUNTIF(E77:AI77,"MP") -> 0 | AN77: =COUNTIF(E77:AI77,"CL") -> 0 | AO77: =COUNTIF(E77:AI77,"ATMP") -> 0 | AP77: =COUNTIF(E77:AI77,"EM") -> 0 | AQ77: =COUNTIF(E77:AI77,"CE") -> 0 | AR77: =SUM(AK77:AQ77) -> 0
B78: =+'@CONFIG'!$B$73 -> 0 | C78: ='@CONFIG'!$C$73 -> 0 | D78: ='@CONFIG'!$D$73 -> 0 | AK78: =COUNTIF(E78:AI78,"m") -> 0 | AL78: =COUNTIF(E78:AI78,"CSS") -> 0 | AM78: =COUNTIF(E78:AI78,"MP") -> 0 | AN78: =COUNTIF(E78:AI78,"CL") -> 0 | AO78: =COUNTIF(E78:AI78,"ATMP") -> 0 | AP78: =COUNTIF(E78:AI78,"EM") -> 0 | AQ78: =COUNTIF(E78:AI78,"CE") -> 0 | AR78: =SUM(AK78:AQ78) -> 0
B79: =+'@CONFIG'!$B$74 -> 0 | C79: ='@CONFIG'!$C$74 -> 0 | D79: ='@CONFIG'!$D$74 -> 0 | AK79: =COUNTIF(E79:AI79,"m") -> 0 | AL79: =COUNTIF(E79:AI79,"CSS") -> 0 | AM79: =COUNTIF(E79:AI79,"MP") -> 0 | AN79: =COUNTIF(E79:AI79,"CL") -> 0 | AO79: =COUNTIF(E79:AI79,"ATMP") -> 0 | AP79: =COUNTIF(E79:AI79,"EM") -> 0 | AQ79: =COUNTIF(E79:AI79,"CE") -> 0 | AR79: =SUM(AK79:AQ79) -> 0
B80: =+'@CONFIG'!$B$75 -> 0 | C80: ='@CONFIG'!$C$75 -> 0 | D80: ='@CONFIG'!$D$75 -> 0 | AK80: =COUNTIF(E80:AI80,"m") -> 0 | AL80: =COUNTIF(E80:AI80,"CSS") -> 0 | AM80: =COUNTIF(E80:AI80,"MP") -> 0 | AN80: =COUNTIF(E80:AI80,"CL") -> 0 | AO80: =COUNTIF(E80:AI80,"ATMP") -> 0 | AP80: =COUNTIF(E80:AI80,"EM") -> 0 | AQ80: =COUNTIF(E80:AI80,"CE") -> 0 | AR80: =SUM(AK80:AQ80) -> 0
B81: =+'@CONFIG'!$B$76 -> 0 | C81: ='@CONFIG'!$C$76 -> 0 | D81: ='@CONFIG'!$D$76 -> 0 | AK81: =COUNTIF(E81:AI81,"m") -> 0 | AL81: =COUNTIF(E81:AI81,"CSS") -> 0 | AM81: =COUNTIF(E81:AI81,"MP") -> 0 | AN81: =COUNTIF(E81:AI81,"CL") -> 0 | AO81: =COUNTIF(E81:AI81,"ATMP") -> 0 | AP81: =COUNTIF(E81:AI81,"EM") -> 0 | AQ81: =COUNTIF(E81:AI81,"CE") -> 0 | AR81: =SUM(AK81:AQ81) -> 0
B82: =+'@CONFIG'!$B$77 -> 0 | C82: ='@CONFIG'!$C$77 -> 0 | D82: ='@CONFIG'!$D$77 -> 0 | AK82: =COUNTIF(E82:AI82,"m") -> 0 | AL82: =COUNTIF(E82:AI82,"CSS") -> 0 | AM82: =COUNTIF(E82:AI82,"MP") -> 0 | AN82: =COUNTIF(E82:AI82,"CL") -> 0 | AO82: =COUNTIF(E82:AI82,"ATMP") -> 0 | AP82: =COUNTIF(E82:AI82,"EM") -> 0 | AQ82: =COUNTIF(E82:AI82,"CE") -> 0 | AR82: =SUM(AK82:AQ82) -> 0
B83: =+'@CONFIG'!$B$78 -> 0 | C83: ='@CONFIG'!$C$78 -> 0 | D83: ='@CONFIG'!$D$78 -> 0 | AK83: =COUNTIF(E83:AI83,"m") -> 0 | AL83: =COUNTIF(E83:AI83,"CSS") -> 0 | AM83: =COUNTIF(E83:AI83,"MP") -> 0 | AN83: =COUNTIF(E83:AI83,"CL") -> 0 | AO83: =COUNTIF(E83:AI83,"ATMP") -> 0 | AP83: =COUNTIF(E83:AI83,"EM") -> 0 | AQ83: =COUNTIF(E83:AI83,"CE") -> 0 | AR83: =SUM(AK83:AQ83) -> 0
B84: =+'@CONFIG'!$B$79 -> 0 | C84: ='@CONFIG'!$C$79 -> 0 | D84: ='@CONFIG'!$D$79 -> 0 | AK84: =COUNTIF(E84:AI84,"m") -> 0 | AL84: =COUNTIF(E84:AI84,"CSS") -> 0 | AM84: =COUNTIF(E84:AI84,"MP") -> 0 | AN84: =COUNTIF(E84:AI84,"CL") -> 0 | AO84: =COUNTIF(E84:AI84,"ATMP") -> 0 | AP84: =COUNTIF(E84:AI84,"EM") -> 0 | AQ84: =COUNTIF(E84:AI84,"CE") -> 0 | AR84: =SUM(AK84:AQ84) -> 0
B85: =+'@CONFIG'!$B$80 -> 0 | C85: ='@CONFIG'!$C$80 -> 0 | D85: ='@CONFIG'!$D$80 -> 0 | AK85: =COUNTIF(E85:AI85,"m") -> 0 | AL85: =COUNTIF(E85:AI85,"CSS") -> 0 | AM85: =COUNTIF(E85:AI85,"MP") -> 0 | AN85: =COUNTIF(E85:AI85,"CL") -> 0 | AO85: =COUNTIF(E85:AI85,"ATMP") -> 0 | AP85: =COUNTIF(E85:AI85,"EM") -> 0 | AQ85: =COUNTIF(E85:AI85,"CE") -> 0 | AR85: =SUM(AK85:AQ85) -> 0
B86: =+'@CONFIG'!$B$81 -> 0 | C86: ='@CONFIG'!$C$81 -> 0 | D86: ='@CONFIG'!$D$81 -> 0 | AK86: =COUNTIF(E86:AI86,"m") -> 0 | AL86: =COUNTIF(E86:AI86,"CSS") -> 0 | AM86: =COUNTIF(E86:AI86,"MP") -> 0 | AN86: =COUNTIF(E86:AI86,"CL") -> 0 | AO86: =COUNTIF(E86:AI86,"ATMP") -> 0 | AP86: =COUNTIF(E86:AI86,"EM") -> 0 | AQ86: =COUNTIF(E86:AI86,"CE") -> 0 | AR86: =SUM(AK86:AQ86) -> 0
B87: =+'@CONFIG'!$B$82 -> 0 | C87: ='@CONFIG'!$C$82 -> 0 | D87: ='@CONFIG'!$D$82 -> 0 | AK87: =COUNTIF(E87:AI87,"m") -> 0 | AL87: =COUNTIF(E87:AI87,"CSS") -> 0 | AM87: =COUNTIF(E87:AI87,"MP") -> 0 | AN87: =COUNTIF(E87:AI87,"CL") -> 0 | AO87: =COUNTIF(E87:AI87,"ATMP") -> 0 | AP87: =COUNTIF(E87:AI87,"EM") -> 0 | AQ87: =COUNTIF(E87:AI87,"CE") -> 0 | AR87: =SUM(AK87:AQ87) -> 0
B88: =+'@CONFIG'!$B$83 -> 0 | C88: ='@CONFIG'!$C$83 -> 0 | D88: ='@CONFIG'!$D$83 -> 0 | AK88: =COUNTIF(E88:AI88,"m") -> 0 | AL88: =COUNTIF(E88:AI88,"CSS") -> 0 | AM88: =COUNTIF(E88:AI88,"MP") -> 0 | AN88: =COUNTIF(E88:AI88,"CL") -> 0 | AO88: =COUNTIF(E88:AI88,"ATMP") -> 0 | AP88: =COUNTIF(E88:AI88,"EM") -> 0 | AQ88: =COUNTIF(E88:AI88,"CE") -> 0 | AR88: =SUM(AK88:AQ88) -> 0
B89: =+'@CONFIG'!$B$84 -> 0 | C89: ='@CONFIG'!$C$84 -> 0 | D89: ='@CONFIG'!$D$84 -> 0 | AK89: =COUNTIF(E89:AI89,"m") -> 0 | AL89: =COUNTIF(E89:AI89,"CSS") -> 0 | AM89: =COUNTIF(E89:AI89,"MP") -> 0 | AN89: =COUNTIF(E89:AI89,"CL") -> 0 | AO89: =COUNTIF(E89:AI89,"ATMP") -> 0 | AP89: =COUNTIF(E89:AI89,"EM") -> 0 | AQ89: =COUNTIF(E89:AI89,"CE") -> 0 | AR89: =SUM(AK89:AQ89) -> 0
B90: =+'@CONFIG'!$B$85 -> 0 | C90: ='@CONFIG'!$C$85 -> 0 | D90: ='@CONFIG'!$D$85 -> 0 | AK90: =COUNTIF(E90:AI90,"m") -> 0 | AL90: =COUNTIF(E90:AI90,"CSS") -> 0 | AM90: =COUNTIF(E90:AI90,"MP") -> 0 | AN90: =COUNTIF(E90:AI90,"CL") -> 0 | AO90: =COUNTIF(E90:AI90,"ATMP") -> 0 | AP90: =COUNTIF(E90:AI90,"EM") -> 0 | AQ90: =COUNTIF(E90:AI90,"CE") -> 0 | AR90: =SUM(AK90:AQ90) -> 0
B91: =+'@CONFIG'!$B$86 -> 0 | C91: ='@CONFIG'!$C$86 -> 0 | D91: ='@CONFIG'!$D$86 -> 0 | AK91: =COUNTIF(E91:AI91,"m") -> 0 | AL91: =COUNTIF(E91:AI91,"CSS") -> 0 | AM91: =COUNTIF(E91:AI91,"MP") -> 0 | AN91: =COUNTIF(E91:AI91,"CL") -> 0 | AO91: =COUNTIF(E91:AI91,"ATMP") -> 0 | AP91: =COUNTIF(E91:AI91,"EM") -> 0 | AQ91: =COUNTIF(E91:AI91,"CE") -> 0 | AR91: =SUM(AK91:AQ91) -> 0
B92: =+'@CONFIG'!$B$87 -> 0 | C92: ='@CONFIG'!$C$87 -> 0 | D92: ='@CONFIG'!$D$87 -> 0 | AK92: =COUNTIF(E92:AI92,"m") -> 0 | AL92: =COUNTIF(E92:AI92,"CSS") -> 0 | AM92: =COUNTIF(E92:AI92,"MP") -> 0 | AN92: =COUNTIF(E92:AI92,"CL") -> 0 | AO92: =COUNTIF(E92:AI92,"ATMP") -> 0 | AP92: =COUNTIF(E92:AI92,"EM") -> 0 | AQ92: =COUNTIF(E92:AI92,"CE") -> 0 | AR92: =SUM(AK92:AQ92) -> 0
B93: =IF('@CONFIG'!B76<>"",'@CONFIG'!B76,"") | C93: =IF('@CONFIG'!C76<>"",'@CONFIG'!C76,"")
B94: =IF('@CONFIG'!B77<>"",'@CONFIG'!B77,"") | C94: =IF('@CONFIG'!C77<>"",'@CONFIG'!C77,"")
B95: =IF('@CONFIG'!B78<>"",'@CONFIG'!B78,"") | C95: =IF('@CONFIG'!C78<>"",'@CONFIG'!C78,"")
B96: =IF('@CONFIG'!B79<>"",'@CONFIG'!B79,"") | C96: =IF('@CONFIG'!C79<>"",'@CONFIG'!C79,"")
B97: =IF('@CONFIG'!B80<>"",'@CONFIG'!B80,"") | C97: =IF('@CONFIG'!C80<>"",'@CONFIG'!C80,"")
B98: =IF('@CONFIG'!B81<>"",'@CONFIG'!B81,"") | C98: =IF('@CONFIG'!C81<>"",'@CONFIG'!C81,"")
B99: =IF('@CONFIG'!B82<>"",'@CONFIG'!B82,"") | C99: =IF('@CONFIG'!C82<>"",'@CONFIG'!C82,"")
B100: =IF('@CONFIG'!B83<>"",'@CONFIG'!B83,"") | C100: =IF('@CONFIG'!C83<>"",'@CONFIG'!C83,"")
...

Sheet FEVRIER
B1: ='@CONFIG'!F4 -> 44958
B2: ='@CONFIG'!G4 -> 44985
E3: =B1 -> 44958 | F3: =E3+1 -> 44959 | G3: =F3+1 -> 44960 | H3: =G3+1 -> 44961 | I3: =H3+1 -> 44962 | J3: =I3+1 -> 44963 | K3: =J3+1 -> 44964 | L3: =K3+1 -> 44965 | M3: =L3+1 -> 44966 | ... AI3: =AH3+1 -> 44988
A4: FEVRIER
E5: =DAY(E3) -> 1 | F5: =DAY(F3) -> 2 | G5: =DAY(G3) -> 3 | H5: =DAY(H3) -> 4 | I5: =DAY(I3) -> 5 | J5: =DAY(J3) -> 6 | K5: =DAY(K3) -> 7 | L5: =DAY(L3) -> 8 | ... AI5: =DAY(AI3) -> 3 | AK5: M | AL5: CSS | AM5: MP | AN5: CL | AO5: ATMP | AP5: EM | AQ5: CE
B6: NOM | C6: PRENOM | D6: CAT PRO | E6: =WEEKDAY(E3) -> 4 | F6: =WEEKDAY(F3) -> 5 | G6: =WEEKDAY(G3) -> 6 | H6: =WEEKDAY(H3) -> 7 | I6: =WEEKDAY(I3) -> 1 | J6: =WEEKDAY(J3) -> 2 | K6: =WEEKDAY(K3) -> 3 | L6: =WEEKDAY(L3) -> 4 | ... AI6: =WEEKDAY(AI3) -> 6 | AK6: MALADIE | AL6: CONGES SANS SOLDES | AM6: MATERNITE/PATERNITE | AN6: CONGES LONGUE MALADIE/LONGUE DUREE | AO6: ACCIDENT DU W / MALADIE PRO | AP6: ENFANT MALADE | AQ6: CONGES EXCEPTIONNELS
B7: =+'@CONFIG'!$B$2 -> ANDRE | C7: ='@CONFIG'!$C$2 -> F | D7: ='@CONFIG'!$D$2 -> pédagogique | AK7: =COUNTIF(E7:AI7,"m") -> 0 | AL7: =COUNTIF(E7:AI7,"CSS") -> 0 | AM7: =COUNTIF(E7:AI7,"MP") -> 0 | AN7: =COUNTIF(E7:AI7,"CL") -> 0 | AO7: =COUNTIF(E7:AI7,"ATMP") -> 0 | AP7: =COUNTIF(E7:AI7,"EM") -> 0 | AQ7: =COUNTIF(E7:AI7,"CE") -> 0 | AR7: =SUM(AK7:AQ7) -> 0
B8: =+'@CONFIG'!$B$3 -> BERNARD | C8: ='@CONFIG'!$C$3 -> G | D8: ='@CONFIG'!$D$3 -> éducatif | AK8: =COUNTIF(E8:AI8,"m") -> 0 | AL8: =COUNTIF(E8:AI8,"CSS") -> 0 | AM8: =COUNTIF(E8:AI8,"MP") -> 0 | AN8: =COUNTIF(E8:AI8,"CL") -> 0 | AO8: =COUNTIF(E8:AI8,"ATMP") -> 0 | AP8: =COUNTIF(E8:AI8,"EM") -> 0 | AQ8: =COUNTIF(E8:AI8,"CE") -> 0 | AR8: =SUM(AK8:AQ8) -> 0
B9: =+'@CONFIG'!$B$4 -> BERNARD | C9: ='@CONFIG'!$C$4 -> T | D9: ='@CONFIG'!$D$4 -> service administratif | AK9: =COUNTIF(E9:AI9,"m") -> 0 | AL9: =COUNTIF(E9:AI9,"CSS") -> 0 | AM9: =COUNTIF(E9:AI9,"MP") -> 0 | AN9: =COUNTIF(E9:AI9,"CL") -> 0 | AO9: =COUNTIF(E9:AI9,"ATMP") -> 0 | AP9: =COUNTIF(E9:AI9,"EM") -> 0 | AQ9: =COUNTIF(E9:AI9,"CE") -> 0 | AR9: =SUM(AK9:AQ9) -> 0
B10: =+'@CONFIG'!$B$5 -> BOURDON | C10: ='@CONFIG'!$C$5 -> S | D10: ='@CONFIG'!$D$5 -> éducatif | AK10: =COUNTIF(E10:AI10,"m") -> 0 | AL10: =COUNTIF(E10:AI10,"CSS") -> 0 | AM10: =COUNTIF(E10:AI10,"MP") -> 0 | AN10: =COUNTIF(E10:AI10,"CL") -> 0 | AO10: =COUNTIF(E10:AI10,"ATMP") -> 0 | AP10: =COUNTIF(E10:AI10,"EM") -> 0 | AQ10: =COUNTIF(E10:AI10,"CE") -> 0 | AR10: =SUM(AK10:AQ10) -> 0
B11: =+'@CONFIG'!$B$6 -> BOURGA | C11: ='@CONFIG'!$C$6 -> B | D11: ='@CONFIG'!$D$6 -> éducatif | AK11: =COUNTIF(E11:AI11,"m") -> 0 | AL11: =COUNTIF(E11:AI11,"CSS") -> 0 | AM11: =COUNTIF(E11:AI11,"MP") -> 0 | AN11: =COUNTIF(E11:AI11,"CL") -> 0 | AO11: =COUNTIF(E11:AI11,"ATMP") -> 0 | AP11: =COUNTIF(E11:AI11,"EM") -> 0 | AQ11: =COUNTIF(E11:AI11,"CE") -> 0 | AR11: =SUM(AK11:AQ11) -> 0
B12: =+'@CONFIG'!$B$7 -> BRANCHUT | C12: ='@CONFIG'!$C$7 -> G | D12: ='@CONFIG'!$D$7 -> service administratif | AK12: =COUNTIF(E12:AI12,"m") -> 0 | AL12: =COUNTIF(E12:AI12,"CSS") -> 0 | AM12: =COUNTIF(E12:AI12,"MP") -> 0 | AN12: =COUNTIF(E12:AI12,"CL") -> 0 | AO12: =COUNTIF(E12:AI12,"ATMP") -> 0 | AP12: =COUNTIF(E12:AI12,"EM") -> 0 | AQ12: =COUNTIF(E12:AI12,"CE") -> 0 | AR12: =SUM(AK12:AQ12) -> 0
B13: =+'@CONFIG'!$B$8 -> BROUTIN | C13: ='@CONFIG'!$C$8 -> D | D13: ='@CONFIG'!$D$8 -> éducatif | AK13: =COUNTIF(E13:AI13,"m") -> 0 | AL13: =COUNTIF(E13:AI13,"CSS") -> 0 | AM13: =COUNTIF(E13:AI13,"MP") -> 0 | AN13: =COUNTIF(E13:AI13,"CL") -> 0 | AO13: =COUNTIF(E13:AI13,"ATMP") -> 0 | AP13: =COUNTIF(E13:AI13,"EM") -> 0 | AQ13: =COUNTIF(E13:AI13,"CE") -> 0 | AR13: =SUM(AK13:AQ13) -> 0
B14: =+'@CONFIG'!$B$9 -> CAGNEAUX | C14: ='@CONFIG'!$C$9 -> Z | D14: ='@CONFIG'!$D$9 -> service généraux | AK14: =COUNTIF(E14:AI14,"m") -> 0 | AL14: =COUNTIF(E14:AI14,"CSS") -> 0 | AM14: =COUNTIF(E14:AI14,"MP") -> 0 | AN14: =COUNTIF(E14:AI14,"CL") -> 0 | AO14: =COUNTIF(E14:AI14,"ATMP") -> 0 | AP14: =COUNTIF(E14:AI14,"EM") -> 0 | AQ14: =COUNTIF(E14:AI14,"CE") -> 0 | AR14: =SUM(AK14:AQ14) -> 0
B15: =+'@CONFIG'!$B$10 -> CAMPAGNOLO | C15: ='@CONFIG'!$C$10 -> F | D15: ='@CONFIG'!$D$10 -> éducatif | AK15: =COUNTIF(E15:AI15,"m") -> 0 | AL15: =COUNTIF(E15:AI15,"CSS") -> 0 | AM15: =COUNTIF(E15:AI15,"MP") -> 0 | AN15: =COUNTIF(E15:AI15,"CL") -> 0 | AO15: =COUNTIF(E15:AI15,"ATMP") -> 0 | AP15: =COUNTIF(E15:AI15,"EM") -> 0 | AQ15: =COUNTIF(E15:AI15,"CE") -> 0 | AR15: =SUM(AK15:AQ15) -> 0
B16: =+'@CONFIG'!$B$11 -> CANIAUX | C16: ='@CONFIG'!$C$11 -> H | D16: ='@CONFIG'!$D$11 -> service généraux | AK16: =COUNTIF(E16:AI16,"m") -> 0 | AL16: =COUNTIF(E16:AI16,"CSS") -> 0 | AM16: =COUNTIF(E16:AI16,"MP") -> 0 | AN16: =COUNTIF(E16:AI16,"CL") -> 0 | AO16: =COUNTIF(E16:AI16,"ATMP") -> 0 | AP16: =COUNTIF(E16:AI16,"EM") -> 0 | AQ16: =COUNTIF(E16:AI16,"CE") -> 0 | AR16: =SUM(AK16:AQ16) -> 0
B17: =+'@CONFIG'!$B$12 -> CATRIN | C17: ='@CONFIG'!$C$12 -> K | D17: ='@CONFIG'!$D$12 -> service généraux | AK17: =COUNTIF(E17:AI17,"m") -> 0 | AL17: =COUNTIF(E17:AI17,"CSS") -> 0 | AM17: =COUNTIF(E17:AI17,"MP") -> 0 | AN17: =COUNTIF(E17:AI17,"CL") -> 0 | AO17: =COUNTIF(E17:AI17,"ATMP") -> 0 | AP17: =COUNTIF(E17:AI17,"EM") -> 0 | AQ17: =COUNTIF(E17:AI17,"CE") -> 0 | AR17: =SUM(AK17:AQ17) -> 0
B18: =+'@CONFIG'!$B$13 -> COLMANT | C18: ='@CONFIG'!$C$13 -> E | D18: ='@CONFIG'!$D$13 -> thérapeutique | E18: M | F18: M | G18: M | J18: M | K18: M | L18: M | M18: M | N18: M | Q18: M | R18: M | S18: M | T18: M | U18: M | AK18: =COUNTIF(E18:AI18,"m") -> 13 | AL18: =COUNTIF(E18:AI18,"CSS") -> 0 | AM18: =COUNTIF(E18:AI18,"MP") -> 0 | AN18: =COUNTIF(E18:AI18,"CL") -> 0 | AO18: =COUNTIF(E18:AI18,"ATMP") -> 0 | AP18: =COUNTIF(E18:AI18,"EM") -> 0 | AQ18: =COUNTIF(E18:AI18,"CE") -> 0 | AR18: =SUM(AK18:AQ18) -> 13
B19: =+'@CONFIG'!$B$14 -> DA COSTA | C19: ='@CONFIG'!$C$14 -> Z | D19: ='@CONFIG'!$D$14 -> éducatif | AK19: =COUNTIF(E19:AI19,"m") -> 0 | AL19: =COUNTIF(E19:AI19,"CSS") -> 0 | AM19: =COUNTIF(E19:AI19,"MP") -> 0 | AN19: =COUNTIF(E19:AI19,"CL") -> 0 | AO19: =COUNTIF(E19:AI19,"ATMP") -> 0 | AP19: =COUNTIF(E19:AI19,"EM") -> 0 | AQ19: =COUNTIF(E19:AI19,"CE") -> 0 | AR19: =SUM(AK19:AQ19) -> 0
B20: =+'@CONFIG'!$B$15 -> DANDUMONT | C20: ='@CONFIG'!$C$15 -> S | D20: ='@CONFIG'!$D$15 -> direction | AK20: =COUNTIF(E20:AI20,"m") -> 0 | AL20: =COUNTIF(E20:AI20,"CSS") -> 0 | AM20: =COUNTIF(E20:AI20,"MP") -> 0 | AN20: =COUNTIF(E20:AI20,"CL") -> 0 | AO20: =COUNTIF(E20:AI20,"ATMP") -> 0 | AP20: =COUNTIF(E20:AI20,"EM") -> 0 | AQ20: =COUNTIF(E20:AI20,"CE") -> 0 | AR20: =SUM(AK20:AQ20) -> 0
B21: =+'@CONFIG'!$B$16 -> DELEBOIS | C21: ='@CONFIG'!$C$16 -> Z | D21: ='@CONFIG'!$D$16 -> médical | AK21: =COUNTIF(E21:AI21,"m") -> 0 | AL21: =COUNTIF(E21:AI21,"CSS") -> 0 | AM21: =COUNTIF(E21:AI21,"MP") -> 0 | AN21: =COUNTIF(E21:AI21,"CL") -> 0 | AO21: =COUNTIF(E21:AI21,"ATMP") -> 0 | AP21: =COUNTIF(E21:AI21,"EM") -> 0 | AQ21: =COUNTIF(E21:AI21,"CE") -> 0 | AR21: =SUM(AK21:AQ21) -> 0
B22: =+'@CONFIG'!$B$17 -> DELHAYE | C22: ='@CONFIG'!$C$17 -> V | D22: ='@CONFIG'!$D$17 -> éducatif | AF22: M | AK22: =COUNTIF(E22:AI22,"m") -> 1 | AL22: =COUNTIF(E22:AI22,"CSS") -> 0 | AM22: =COUNTIF(E22:AI22,"MP") -> 0 | AN22: =COUNTIF(E22:AI22,"CL") -> 0 | AO22: =COUNTIF(E22:AI22,"ATMP") -> 0 | AP22: =COUNTIF(E22:AI22,"EM") -> 0 | AQ22: =COUNTIF(E22:AI22,"CE") -> 0 | AR22: =SUM(AK22:AQ22) -> 1
B23: =+'@CONFIG'!$B$18 -> DELHAYE | C23: ='@CONFIG'!$C$18 -> Z | D23: ='@CONFIG'!$D$18 -> service généraux | AK23: =COUNTIF(E23:AI23,"m") -> 0 | AL23: =COUNTIF(E23:AI23,"CSS") -> 0 | AM23: =COUNTIF(E23:AI23,"MP") -> 0 | AN23: =COUNTIF(E23:AI23,"CL") -> 0 | AO23: =COUNTIF(E23:AI23,"ATMP") -> 0 | AP23: =COUNTIF(E23:AI23,"EM") -> 0 | AQ23: =COUNTIF(E23:AI23,"CE") -> 0 | AR23: =SUM(AK23:AQ23) -> 0
B24: =+'@CONFIG'!$B$19 -> DELMAS | C24: ='@CONFIG'!$C$19 -> A | D24: ='@CONFIG'!$D$19 -> thérapeutique | AK24: =COUNTIF(E24:AI24,"m") -> 0 | AL24: =COUNTIF(E24:AI24,"CSS") -> 0 | AM24: =COUNTIF(E24:AI24,"MP") -> 0 | AN24: =COUNTIF(E24:AI24,"CL") -> 0 | AO24: =COUNTIF(E24:AI24,"ATMP") -> 0 | AP24: =COUNTIF(E24:AI24,"EM") -> 0 | AQ24: =COUNTIF(E24:AI24,"CE") -> 0 | AR24: =SUM(AK24:AQ24) -> 0
B25: =+'@CONFIG'!$B$20 -> DEMANGECLAUDE | C25: ='@CONFIG'!$C$20 -> F | D25: ='@CONFIG'!$D$20 -> service généraux | AK25: =COUNTIF(E25:AI25,"m") -> 0 | AL25: =COUNTIF(E25:AI25,"CSS") -> 0 | AM25: =COUNTIF(E25:AI25,"MP") -> 0 | AN25: =COUNTIF(E25:AI25,"CL") -> 0 | AO25: =COUNTIF(E25:AI25,"ATMP") -> 0 | AP25: =COUNTIF(E25:AI25,"EM") -> 0 | AQ25: =COUNTIF(E25:AI25,"CE") -> 0 | AR25: =SUM(AK25:AQ25) -> 0
B26: =+'@CONFIG'!$B$21 -> DESTREE | C26: ='@CONFIG'!$C$21 -> Z | D26: ='@CONFIG'!$D$21 -> éducatif | AK26: =COUNTIF(E26:AI26,"m") -> 0 | AL26: =COUNTIF(E26:AI26,"CSS") -> 0 | AM26: =COUNTIF(E26:AI26,"MP") -> 0 | AN26: =COUNTIF(E26:AI26,"CL") -> 0 | AO26: =COUNTIF(E26:AI26,"ATMP") -> 0 | AP26: =COUNTIF(E26:AI26,"EM") -> 0 | AQ26: =COUNTIF(E26:AI26,"CE") -> 0 | AR26: =SUM(AK26:AQ26) -> 0
B27: =+'@CONFIG'!$B$22 -> DUCARMES | C27: ='@CONFIG'!$C$22 -> R | D27: ='@CONFIG'!$D$22 -> éducatif | AK27: =COUNTIF(E27:AI27,"m") -> 0 | AL27: =COUNTIF(E27:AI27,"CSS") -> 0 | AM27: =COUNTIF(E27:AI27,"MP") -> 0 | AN27: =COUNTIF(E27:AI27,"CL") -> 0 | AO27: =COUNTIF(E27:AI27,"ATMP") -> 0 | AP27: =COUNTIF(E27:AI27,"EM") -> 0 | AQ27: =COUNTIF(E27:AI27,"CE") -> 0 | AR27: =SUM(AK27:AQ27) -> 0
B28: =+'@CONFIG'!B23 -> DUCARMES | C28: ='@CONFIG'!$C$23 -> F | D28: ='@CONFIG'!$D$23 -> direction | AK28: =COUNTIF(E28:AI28,"m") -> 0 | AL28: =COUNTIF(E28:AI28,"CSS") -> 0 | AM28: =COUNTIF(E28:AI28,"MP") -> 0 | AN28: =COUNTIF(E28:AI28,"CL") -> 0 | AO28: =COUNTIF(E28:AI28,"ATMP") -> 0 | AP28: =COUNTIF(E28:AI28,"EM") -> 0 | AQ28: =COUNTIF(E28:AI28,"CE") -> 0 | AR28: =SUM(AK28:AQ28) -> 0
B29: =+'@CONFIG'!$B$24 -> DUGARD | C29: ='@CONFIG'!$C$24 -> F | D29: ='@CONFIG'!$D$24 -> éducatif | AK29: =COUNTIF(E29:AI29,"m") -> 0 | AL29: =COUNTIF(E29:AI29,"CSS") -> 0 | AM29: =COUNTIF(E29:AI29,"MP") -> 0 | AN29: =COUNTIF(E29:AI29,"CL") -> 0 | AO29: =COUNTIF(E29:AI29,"ATMP") -> 0 | AP29: =COUNTIF(E29:AI29,"EM") -> 0 | AQ29: =COUNTIF(E29:AI29,"CE") -> 0 | AR29: =SUM(AK29:AQ29) -> 0
B30: =+'@CONFIG'!$B$25 -> FORTEMPS | C30: ='@CONFIG'!$C$25 -> S | D30: ='@CONFIG'!$D$25 -> thérapeutique | AK30: =COUNTIF(E30:AI30,"m") -> 0 | AL30: =COUNTIF(E30:AI30,"CSS") -> 0 | AM30: =COUNTIF(E30:AI30,"MP") -> 0 | AN30: =COUNTIF(E30:AI30,"CL") -> 0 | AO30: =COUNTIF(E30:AI30,"ATMP") -> 0 | AP30: =COUNTIF(E30:AI30,"EM") -> 0 | AQ30: =COUNTIF(E30:AI30,"CE") -> 0 | AR30: =SUM(AK30:AQ30) -> 0
B31: =+'@CONFIG'!$B$26 -> FOUREUR | C31: ='@CONFIG'!$C$26 -> A | D31: ='@CONFIG'!$D$26 -> thérapeutique | G31: M | J31: M | K31: M | L31: M | M31: M | N31: M | AK31: =COUNTIF(E31:AI31,"m") -> 6 | AL31: =COUNTIF(E31:AI31,"CSS") -> 0 | AM31: =COUNTIF(E31:AI31,"MP") -> 0 | AN31: =COUNTIF(E31:AI31,"CL") -> 0 | AO31: =COUNTIF(E31:AI31,"ATMP") -> 0 | AP31: =COUNTIF(E31:AI31,"EM") -> 0 | AQ31: =COUNTIF(E31:AI31,"CE") -> 0 | AR31: =SUM(AK31:AQ31) -> 6
B32: =+'@CONFIG'!$B$27 -> GABORIT | C32: ='@CONFIG'!$C$27 -> D | D32: ='@CONFIG'!$D$27 -> thérapeutique | AK32: =COUNTIF(E32:AI32,"m") -> 0 | AL32: =COUNTIF(E32:AI32,"CSS") -> 0 | AM32: =COUNTIF(E32:AI32,"MP") -> 0 | AN32: =COUNTIF(E32:AI32,"CL") -> 0 | AO32: =COUNTIF(E32:AI32,"ATMP") -> 0 | AP32: =COUNTIF(E32:AI32,"EM") -> 0 | AQ32: =COUNTIF(E32:AI32,"CE") -> 0 | AR32: =SUM(AK32:AQ32) -> 0
B33: =+'@CONFIG'!$B$28 -> GODET | C33: ='@CONFIG'!$C$28 -> G | D33: ='@CONFIG'!$D$28 -> éducatif | AK33: =COUNTIF(E33:AI33,"m") -> 0 | AL33: =COUNTIF(E33:AI33,"CSS") -> 0 | AM33: =COUNTIF(E33:AI33,"MP") -> 0 | AN33: =COUNTIF(E33:AI33,"CL") -> 0 | AO33: =COUNTIF(E33:AI33,"ATMP") -> 0 | AP33: =COUNTIF(E33:AI33,"EM") -> 0 | AQ33: =COUNTIF(E33:AI33,"CE") -> 0 | AR33: =SUM(AK33:AQ33) -> 0
B34: =+'@CONFIG'!$B$29 -> GOMES | C34: ='@CONFIG'!$C$29 -> B | D34: ='@CONFIG'!$D$29 -> service généraux | AK34: =COUNTIF(E34:AI34,"m") -> 0 | AL34: =COUNTIF(E34:AI34,"CSS") -> 0 | AM34: =COUNTIF(E34:AI34,"MP") -> 0 | AN34: =COUNTIF(E34:AI34,"CL") -> 0 | AO34: =COUNTIF(E34:AI34,"ATMP") -> 0 | AP34: =COUNTIF(E34:AI34,"EM") -> 0 | AQ34: =COUNTIF(E34:AI34,"CE") -> 0 | AR34: =SUM(AK34:AQ34) -> 0
B35: =+'@CONFIG'!$B$30 -> GONCALVES | C35: ='@CONFIG'!$C$30 -> L | D35: ='@CONFIG'!$D$30 -> éducatif | E35: M | F35: M | G35: M | J35: M | K35: M | L35: M | M35: M | N35: M | Q35: M | R35: M | S35: M | T35: M | U35: M | AE35: M | AF35: M | AK35: =COUNTIF(E35:AI35,"m") -> 15 | AL35: =COUNTIF(E35:AI35,"CSS") -> 0 | AM35: =COUNTIF(E35:AI35,"MP") -> 0 | AN35: =COUNTIF(E35:AI35,"CL") -> 0 | AO35: =COUNTIF(E35:AI35,"ATMP") -> 0 | AP35: =COUNTIF(E35:AI35,"EM") -> 0 | AQ35: =COUNTIF(E35:AI35,"CE") -> 0 | AR35: =SUM(AK35:AQ35) -> 15
B36: =+'@CONFIG'!$B$31 -> GUERIN | C36: ='@CONFIG'!$C$31 -> O | D36: ='@CONFIG'!$D$31 -> pédagogique | AK36: =COUNTIF(E36:AI36,"m") -> 0 | AL36: =COUNTIF(E36:AI36,"CSS") -> 0 | AM36: =COUNTIF(E36:AI36,"MP") -> 0 | AN36: =COUNTIF(E36:AI36,"CL") -> 0 | AO36: =COUNTIF(E36:AI36,"ATMP") -> 0 | AP36: =COUNTIF(E36:AI36,"EM") -> 0 | AQ36: =COUNTIF(E36:AI36,"CE") -> 0 | AR36: =SUM(AK36:AQ36) -> 0
B37: =+'@CONFIG'!$B$32 -> HELIN | C37: ='@CONFIG'!$C$32 -> U | D37: ='@CONFIG'!$D$32 -> service généraux | AK37: =COUNTIF(E37:AI37,"m") -> 0 | AL37: =COUNTIF(E37:AI37,"CSS") -> 0 | AM37: =COUNTIF(E37:AI37,"MP") -> 0 | AN37: =COUNTIF(E37:AI37,"CL") -> 0 | AO37: =COUNTIF(E37:AI37,"ATMP") -> 0 | AP37: =COUNTIF(E37:AI37,"EM") -> 0 | AQ37: =COUNTIF(E37:AI37,"CE") -> 0 | AR37: =SUM(AK37:AQ37) -> 0
B38: =+'@CONFIG'!$B$33 -> HELIN | C38: ='@CONFIG'!$C$33 -> T | D38: ='@CONFIG'!$D$33 -> thérapeutique | AK38: =COUNTIF(E38:AI38,"m") -> 0 | AL38: =COUNTIF(E38:AI38,"CSS") -> 0 | AM38: =COUNTIF(E38:AI38,"MP") -> 0 | AN38: =COUNTIF(E38:AI38,"CL") -> 0 | AO38: =COUNTIF(E38:AI38,"ATMP") -> 0 | AP38: =COUNTIF(E38:AI38,"EM") -> 0 | AQ38: =COUNTIF(E38:AI38,"CE") -> 0 | AR38: =SUM(AK38:AQ38) -> 0
B39: =+'@CONFIG'!$B$34 -> HENRARD | C39: ='@CONFIG'!$C$34 -> E | D39: ='@CONFIG'!$D$34 -> service administratif | AK39: =COUNTIF(E39:AI39,"m") -> 0 | AL39: =COUNTIF(E39:AI39,"CSS") -> 0 | AM39: =COUNTIF(E39:AI39,"MP") -> 0 | AN39: =COUNTIF(E39:AI39,"CL") -> 0 | AO39: =COUNTIF(E39:AI39,"ATMP") -> 0 | AP39: =COUNTIF(E39:AI39,"EM") -> 0 | AQ39: =COUNTIF(E39:AI39,"CE") -> 0 | AR39: =SUM(AK39:AQ39) -> 0
B40: =+'@CONFIG'!$B$35 -> HINS | C40: ='@CONFIG'!$C$35 -> Z | D40: ='@CONFIG'!$D$35 -> thérapeutique | AK40: =COUNTIF(E40:AI40,"m") -> 0 | AL40: =COUNTIF(E40:AI40,"CSS") -> 0 | AM40: =COUNTIF(E40:AI40,"MP") -> 0 | AN40: =COUNTIF(E40:AI40,"CL") -> 0 | AO40: =COUNTIF(E40:AI40,"ATMP") -> 0 | AP40: =COUNTIF(E40:AI40,"EM") -> 0 | AQ40: =COUNTIF(E40:AI40,"CE") -> 0 | AR40: =SUM(AK40:AQ40) -> 0
B41: =+'@CONFIG'!$B$36 -> HODY | C41: ='@CONFIG'!$C$36 -> A | D41: ='@CONFIG'!$D$36 -> éducatif | AK41: =COUNTIF(E41:AI41,"m") -> 0 | AL41: =COUNTIF(E41:AI41,"CSS") -> 0 | AM41: =COUNTIF(E41:AI41,"MP") -> 0 | AN41: =COUNTIF(E41:AI41,"CL") -> 0 | AO41: =COUNTIF(E41:AI41,"ATMP") -> 0 | AP41: =COUNTIF(E41:AI41,"EM") -> 0 | AQ41: =COUNTIF(E41:AI41,"CE") -> 0 | AR41: =SUM(AK41:AQ41) -> 0
B42: =+'@CONFIG'!$B$37 -> IGNACZINSKI | C42: ='@CONFIG'!$C$37 -> S | D42: ='@CONFIG'!$D$37 -> service généraux | AK42: =COUNTIF(E42:AI42,"m") -> 0 | AL42: =COUNTIF(E42:AI42,"CSS") -> 0 | AM42: =COUNTIF(E42:AI42,"MP") -> 0 | AN42: =COUNTIF(E42:AI42,"CL") -> 0 | AO42: =COUNTIF(E42:AI42,"ATMP") -> 0 | AP42: =COUNTIF(E42:AI42,"EM") -> 0 | AQ42: =COUNTIF(E42:AI42,"CE") -> 0 | AR42: =SUM(AK42:AQ42) -> 0
B43: =+'@CONFIG'!$B$38 -> JOUY | C43: ='@CONFIG'!$C$38 -> W | D43: ='@CONFIG'!$D$38 -> service administratif | AK43: =COUNTIF(E43:AI43,"m") -> 0 | AL43: =COUNTIF(E43:AI43,"CSS") -> 0 | AM43: =COUNTIF(E43:AI43,"MP") -> 0 | AN43: =COUNTIF(E43:AI43,"CL") -> 0 | AO43: =COUNTIF(E43:AI43,"ATMP") -> 0 | AP43: =COUNTIF(E43:AI43,"EM") -> 0 | AQ43: =COUNTIF(E43:AI43,"CE") -> 0 | AR43: =SUM(AK43:AQ43) -> 0
B44: =+'@CONFIG'!$B$39 -> KABADAYI | C44: ='@CONFIG'!$C$39 -> V | D44: ='@CONFIG'!$D$39 -> service administratif | AK44: =COUNTIF(E44:AI44,"m") -> 0 | AL44: =COUNTIF(E44:AI44,"CSS") -> 0 | AM44: =COUNTIF(E44:AI44,"MP") -> 0 | AN44: =COUNTIF(E44:AI44,"CL") -> 0 | AO44: =COUNTIF(E44:AI44,"ATMP") -> 0 | AP44: =COUNTIF(E44:AI44,"EM") -> 0 | AQ44: =COUNTIF(E44:AI44,"CE") -> 0 | AR44: =SUM(AK44:AQ44) -> 0
B45: =+'@CONFIG'!$B$40 -> LABERGRI | C45: ='@CONFIG'!$C$40 -> G | D45: ='@CONFIG'!$D$40 -> éducatif | AE45: M | AF45: M | AK45: =COUNTIF(E45:AI45,"m") -> 2 | AL45: =COUNTIF(E45:AI45,"CSS") -> 0 | AM45: =COUNTIF(E45:AI45,"MP") -> 0 | AN45: =COUNTIF(E45:AI45,"CL") -> 0 | AO45: =COUNTIF(E45:AI45,"ATMP") -> 0 | AP45: =COUNTIF(E45:AI45,"EM") -> 0 | AQ45: =COUNTIF(E45:AI45,"CE") -> 0 | AR45: =SUM(AK45:AQ45) -> 2
B46: =+'@CONFIG'!$B$41 -> LADAME | C46: ='@CONFIG'!$C$41 -> D | D46: ='@CONFIG'!$D$41 -> éducatif | AK46: =COUNTIF(E46:AI46,"m") -> 0 | AL46: =COUNTIF(E46:AI46,"CSS") -> 0 | AM46: =COUNTIF(E46:AI46,"MP") -> 0 | AN46: =COUNTIF(E46:AI46,"CL") -> 0 | AO46: =COUNTIF(E46:AI46,"ATMP") -> 0 | AP46: =COUNTIF(E46:AI46,"EM") -> 0 | AQ46: =COUNTIF(E46:AI46,"CE") -> 0 | AR46: =SUM(AK46:AQ46) -> 0
B47: =+'@CONFIG'!$B$42 -> LAMBERT | C47: ='@CONFIG'!$C$42 -> E | D47: ='@CONFIG'!$D$42 -> éducatif | E47: MP | F47: MP | G47: MP | J47: MP | K47: MP | L47: MP | M47: MP | N47: MP | Q47: MP | R47: MP | S47: MP | T47: MP | AK47: =COUNTIF(E47:AI47,"m") -> 0 | AL47: =COUNTIF(E47:AI47,"CSS") -> 0 | AM47: =COUNTIF(E47:AI47,"MP") -> 12 | AN47: =COUNTIF(E47:AI47,"CL") -> 0 | AO47: =COUNTIF(E47:AI47,"ATMP") -> 0 | AP47: =COUNTIF(E47:AI47,"EM") -> 0 | AQ47: =COUNTIF(E47:AI47,"CE") -> 0 | AR47: =SUM(AK47:AQ47) -> 12
B48: =+'@CONFIG'!$B$43 -> LAPORTE | C48: ='@CONFIG'!$C$43 -> Z | D48: ='@CONFIG'!$D$43 -> éducatif | AK48: =COUNTIF(E48:AI48,"m") -> 0 | AL48: =COUNTIF(E48:AI48,"CSS") -> 0 | AM48: =COUNTIF(E48:AI48,"MP") -> 0 | AN48: =COUNTIF(E48:AI48,"CL") -> 0 | AO48: =COUNTIF(E48:AI48,"ATMP") -> 0 | AP48: =COUNTIF(E48:AI48,"EM") -> 0 | AQ48: =COUNTIF(E48:AI48,"CE") -> 0 | AR48: =SUM(AK48:AQ48) -> 0
B49: =+'@CONFIG'!$B$44 -> LARTISIEN | C49: ='@CONFIG'!$C$44 -> Q | D49: ='@CONFIG'!$D$44 -> pédagogique | AK49: =COUNTIF(E49:AI49,"m") -> 0 | AL49: =COUNTIF(E49:AI49,"CSS") -> 0 | AM49: =COUNTIF(E49:AI49,"MP") -> 0 | AN49: =COUNTIF(E49:AI49,"CL") -> 0 | AO49: =COUNTIF(E49:AI49,"ATMP") -> 0 | AP49: =COUNTIF(E49:AI49,"EM") -> 0 | AQ49: =COUNTIF(E49:AI49,"CE") -> 0 | AR49: =SUM(AK49:AQ49) -> 0
B50: =+'@CONFIG'!$B$45 -> LASSAUX | C50: ='@CONFIG'!$C$45 -> A | D50: ='@CONFIG'!$D$45 -> éducatif | AK50: =COUNTIF(E50:AI50,"m") -> 0 | AL50: =COUNTIF(E50:AI50,"CSS") -> 0 | AM50: =COUNTIF(E50:AI50,"MP") -> 0 | AN50: =COUNTIF(E50:AI50,"CL") -> 0 | AO50: =COUNTIF(E50:AI50,"ATMP") -> 0 | AP50: =COUNTIF(E50:AI50,"EM") -> 0 | AQ50: =COUNTIF(E50:AI50,"CE") -> 0 | AR50: =SUM(AK50:AQ50) -> 0
B51: =+'@CONFIG'!$B$46 -> LAURENT | C51: ='@CONFIG'!$C$46 -> S | D51: ='@CONFIG'!$D$46 -> éducatif | AK51: =COUNTIF(E51:AI51,"m") -> 0 | AL51: =COUNTIF(E51:AI51,"CSS") -> 0 | AM51: =COUNTIF(E51:AI51,"MP") -> 0 | AN51: =COUNTIF(E51:AI51,"CL") -> 0 | AO51: =COUNTIF(E51:AI51,"ATMP") -> 0 | AP51: =COUNTIF(E51:AI51,"EM") -> 0 | AQ51: =COUNTIF(E51:AI51,"CE") -> 0 | AR51: =SUM(AK51:AQ51) -> 0
B52: =+'@CONFIG'!$B$47 -> LAURENT | C52: ='@CONFIG'!$C$47 -> F | D52: ='@CONFIG'!$D$47 -> éducatif | AE52: M | AF52: M | AK52: =COUNTIF(E52:AI52,"m") -> 2 | AL52: =COUNTIF(E52:AI52,"CSS") -> 0 | AM52: =COUNTIF(E52:AI52,"MP") -> 0 | AN52: =COUNTIF(E52:AI52,"CL") -> 0 | AO52: =COUNTIF(E52:AI52,"ATMP") -> 0 | AP52: =COUNTIF(E52:AI52,"EM") -> 0 | AQ52: =COUNTIF(E52:AI52,"CE") -> 0 | AR52: =SUM(AK52:AQ52) -> 2
B53: =+'@CONFIG'!$B$48 -> LECORNET | C53: ='@CONFIG'!$C$48 -> F | D53: ='@CONFIG'!$D$48 -> éducatif | AK53: =COUNTIF(E53:AI53,"m") -> 0 | AL53: =COUNTIF(E53:AI53,"CSS") -> 0 | AM53: =COUNTIF(E53:AI53,"MP") -> 0 | AN53: =COUNTIF(E53:AI53,"CL") -> 0 | AO53: =COUNTIF(E53:AI53,"ATMP") -> 0 | AP53: =COUNTIF(E53:AI53,"EM") -> 0 | AQ53: =COUNTIF(E53:AI53,"CE") -> 0 | AR53: =SUM(AK53:AQ53) -> 0
B54: =+'@CONFIG'!$B$49 -> LEDOUBLE | C54: ='@CONFIG'!$C$49 -> G | D54: ='@CONFIG'!$D$49 -> éducatif | AK54: =COUNTIF(E54:AI54,"m") -> 0 | AL54: =COUNTIF(E54:AI54,"CSS") -> 0 | AM54: =COUNTIF(E54:AI54,"MP") -> 0 | AN54: =COUNTIF(E54:AI54,"CL") -> 0 | AO54: =COUNTIF(E54:AI54,"ATMP") -> 0 | AP54: =COUNTIF(E54:AI54,"EM") -> 0 | AQ54: =COUNTIF(E54:AI54,"CE") -> 0 | AR54: =SUM(AK54:AQ54) -> 0
B55: =+'@CONFIG'!$B$50 -> LEMOINE | C55: ='@CONFIG'!$C$50 -> E | D55: ='@CONFIG'!$D$50 -> pédagogique | AK55: =COUNTIF(E55:AI55,"m") -> 0 | AL55: =COUNTIF(E55:AI55,"CSS") -> 0 | AM55: =COUNTIF(E55:AI55,"MP") -> 0 | AN55: =COUNTIF(E55:AI55,"CL") -> 0 | AO55: =COUNTIF(E55:AI55,"ATMP") -> 0 | AP55: =COUNTIF(E55:AI55,"EM") -> 0 | AQ55: =COUNTIF(E55:AI55,"CE") -> 0 | AR55: =SUM(AK55:AQ55) -> 0
B56: =+'@CONFIG'!$B$51 -> MAGNIETTE | C56: ='@CONFIG'!$C$51 -> M | D56: ='@CONFIG'!$D$51 -> éducatif | AK56: =COUNTIF(E56:AI56,"m") -> 0 | AL56: =COUNTIF(E56:AI56,"CSS") -> 0 | AM56: =COUNTIF(E56:AI56,"MP") -> 0 | AN56: =COUNTIF(E56:AI56,"CL") -> 0 | AO56: =COUNTIF(E56:AI56,"ATMP") -> 0 | AP56: =COUNTIF(E56:AI56,"EM") -> 0 | AQ56: =COUNTIF(E56:AI56,"CE") -> 0 | AR56: =SUM(AK56:AQ56) -> 0
B57: =+'@CONFIG'!$B$52 -> MARCHAL | C57: ='@CONFIG'!$C$52 -> P | D57: ='@CONFIG'!$D$52 -> thérapeutique | AK57: =COUNTIF(E57:AI57,"m") -> 0 | AL57: =COUNTIF(E57:AI57,"CSS") -> 0 | AM57: =COUNTIF(E57:AI57,"MP") -> 0 | AN57: =COUNTIF(E57:AI57,"CL") -> 0 | AO57: =COUNTIF(E57:AI57,"ATMP") -> 0 | AP57: =COUNTIF(E57:AI57,"EM") -> 0 | AQ57: =COUNTIF(E57:AI57,"CE") -> 0 | AR57: =SUM(AK57:AQ57) -> 0
B58: =+'@CONFIG'!$B$53 -> MASSART | C58: ='@CONFIG'!$C$53 -> A | D58: ='@CONFIG'!$D$53 -> éducatif | AK58: =COUNTIF(E58:AI58,"m") -> 0 | AL58: =COUNTIF(E58:AI58,"CSS") -> 0 | AM58: =COUNTIF(E58:AI58,"MP") -> 0 | AN58: =COUNTIF(E58:AI58,"CL") -> 0 | AO58: =COUNTIF(E58:AI58,"ATMP") -> 0 | AP58: =COUNTIF(E58:AI58,"EM") -> 0 | AQ58: =COUNTIF(E58:AI58,"CE") -> 0 | AR58: =SUM(AK58:AQ58) -> 0
B59: =+'@CONFIG'!$B$54 -> MEBARKI | C59: ='@CONFIG'!$C$54 -> S | D59: ='@CONFIG'!$D$54 -> éducatif | AK59: =COUNTIF(E59:AI59,"m") -> 0 | AL59: =COUNTIF(E59:AI59,"CSS") -> 0 | AM59: =COUNTIF(E59:AI59,"MP") -> 0 | AN59: =COUNTIF(E59:AI59,"CL") -> 0 | AO59: =COUNTIF(E59:AI59,"ATMP") -> 0 | AP59: =COUNTIF(E59:AI59,"EM") -> 0 | AQ59: =COUNTIF(E59:AI59,"CE") -> 0 | AR59: =SUM(AK59:AQ59) -> 0
B60: =+'@CONFIG'!$B$55 -> MONTALBO | C60: ='@CONFIG'!$C$55 -> A | D60: ='@CONFIG'!$D$55 -> thérapeutique | AK60: =COUNTIF(E60:AI60,"m") -> 0 | AL60: =COUNTIF(E60:AI60,"CSS") -> 0 | AM60: =COUNTIF(E60:AI60,"MP") -> 0 | AN60: =COUNTIF(E60:AI60,"CL") -> 0 | AO60: =COUNTIF(E60:AI60,"ATMP") -> 0 | AP60: =COUNTIF(E60:AI60,"EM") -> 0 | AQ60: =COUNTIF(E60:AI60,"CE") -> 0 | AR60: =SUM(AK60:AQ60) -> 0
B61: =+'@CONFIG'!$B$56 -> PAMLARD | C61: ='@CONFIG'!$C$56 -> Z | D61: ='@CONFIG'!$D$56 -> éducatif | AK61: =COUNTIF(E61:AI61,"m") -> 0 | AL61: =COUNTIF(E61:AI61,"CSS") -> 0 | AM61: =COUNTIF(E61:AI61,"MP") -> 0 | AN61: =COUNTIF(E61:AI61,"CL") -> 0 | AO61: =COUNTIF(E61:AI61,"ATMP") -> 0 | AP61: =COUNTIF(E61:AI61,"EM") -> 0 | AQ61: =COUNTIF(E61:AI61,"CE") -> 0 | AR61: =SUM(AK61:AQ61) -> 0
B62: =+'@CONFIG'!$B$57 -> PARISELLE | C62: ='@CONFIG'!$C$57 -> W | D62: ='@CONFIG'!$D$57 -> éducatif | F62: EM | AE62: CSS | AF62: CSS | AK62: =COUNTIF(E62:AI62,"m") -> 0 | AL62: =COUNTIF(E62:AI62,"CSS") -> 2 | AM62: =COUNTIF(E62:AI62,"MP") -> 0 | AN62: =COUNTIF(E62:AI62,"CL") -> 0 | AO62: =COUNTIF(E62:AI62,"ATMP") -> 0 | AP62: =COUNTIF(E62:AI62,"EM") -> 1 | AQ62: =COUNTIF(E62:AI62,"CE") -> 0 | AR62: =SUM(AK62:AQ62) -> 3
B63: =+'@CONFIG'!$B$58 -> PARLIER | C63: ='@CONFIG'!$C$58 -> S | D63: ='@CONFIG'!$D$58 -> éducatif | AK63: =COUNTIF(E63:AI63,"m") -> 0 | AL63: =COUNTIF(E63:AI63,"CSS") -> 0 | AM63: =COUNTIF(E63:AI63,"MP") -> 0 | AN63: =COUNTIF(E63:AI63,"CL") -> 0 | AO63: =COUNTIF(E63:AI63,"ATMP") -> 0 | AP63: =COUNTIF(E63:AI63,"EM") -> 0 | AQ63: =COUNTIF(E63:AI63,"CE") -> 0 | AR63: =SUM(AK63:AQ63) -> 0
B64: =+'@CONFIG'!$B$59 -> PATOUREAUX | C64: ='@CONFIG'!$C$59 -> A | D64: ='@CONFIG'!$D$59 -> éducatif | AK64: =COUNTIF(E64:AI64,"m") -> 0 | AL64: =COUNTIF(E64:AI64,"CSS") -> 0 | AM64: =COUNTIF(E64:AI64,"MP") -> 0 | AN64: =COUNTIF(E64:AI64,"CL") -> 0 | AO64: =COUNTIF(E64:AI64,"ATMP") -> 0 | AP64: =COUNTIF(E64:AI64,"EM") -> 0 | AQ64: =COUNTIF(E64:AI64,"CE") -> 0 | AR64: =SUM(AK64:AQ64) -> 0
B65: =+'@CONFIG'!$B$60 -> PAYON | C65: ='@CONFIG'!$C$60 -> B | D65: ='@CONFIG'!$D$60 -> service généraux | AK65: =COUNTIF(E65:AI65,"m") -> 0 | AL65: =COUNTIF(E65:AI65,"CSS") -> 0 | AM65: =COUNTIF(E65:AI65,"MP") -> 0 | AN65: =COUNTIF(E65:AI65,"CL") -> 0 | AO65: =COUNTIF(E65:AI65,"ATMP") -> 0 | AP65: =COUNTIF(E65:AI65,"EM") -> 0 | AQ65: =COUNTIF(E65:AI65,"CE") -> 0 | AR65: =SUM(AK65:AQ65) -> 0
B66: =+'@CONFIG'!$B$61 -> PETITFILS | C66: ='@CONFIG'!$C$61 -> G | D66: ='@CONFIG'!$D$61 -> thérapeutique | AK66: =COUNTIF(E66:AI66,"m") -> 0 | AL66: =COUNTIF(E66:AI66,"CSS") -> 0 | AM66: =COUNTIF(E66:AI66,"MP") -> 0 | AN66: =COUNTIF(E66:AI66,"CL") -> 0 | AO66: =COUNTIF(E66:AI66,"ATMP") -> 0 | AP66: =COUNTIF(E66:AI66,"EM") -> 0 | AQ66: =COUNTIF(E66:AI66,"CE") -> 0 | AR66: =SUM(AK66:AQ66) -> 0
B67: =+'@CONFIG'!$B$62 -> PIERRE | C67: ='@CONFIG'!$C$62 -> R | D67: ='@CONFIG'!$D$62 -> pédagogique | AK67: =COUNTIF(E67:AI67,"m") -> 0 | AL67: =COUNTIF(E67:AI67,"CSS") -> 0 | AM67: =COUNTIF(E67:AI67,"MP") -> 0 | AN67: =COUNTIF(E67:AI67,"CL") -> 0 | AO67: =COUNTIF(E67:AI67,"ATMP") -> 0 | AP67: =COUNTIF(E67:AI67,"EM") -> 0 | AQ67: =COUNTIF(E67:AI67,"CE") -> 0 | AR67: =SUM(AK67:AQ67) -> 0
B68: =+'@CONFIG'!$B$63 -> PINTO | C68: ='@CONFIG'!$C$63 -> I | D68: ='@CONFIG'!$D$63 -> éducatif | AK68: =COUNTIF(E68:AI68,"m") -> 0 | AL68: =COUNTIF(E68:AI68,"CSS") -> 0 | AM68: =COUNTIF(E68:AI68,"MP") -> 0 | AN68: =COUNTIF(E68:AI68,"CL") -> 0 | AO68: =COUNTIF(E68:AI68,"ATMP") -> 0 | AP68: =COUNTIF(E68:AI68,"EM") -> 0 | AQ68: =COUNTIF(E68:AI68,"CE") -> 0 | AR68: =SUM(AK68:AQ68) -> 0
B69: =+'@CONFIG'!$B$64 -> PRETO | C69: ='@CONFIG'!$C$64 -> M | D69: ='@CONFIG'!$D$64 -> service généraux | AK69: =COUNTIF(E69:AI69,"m") -> 0 | AL69: =COUNTIF(E69:AI69,"CSS") -> 0 | AM69: =COUNTIF(E69:AI69,"MP") -> 0 | AN69: =COUNTIF(E69:AI69,"CL") -> 0 | AO69: =COUNTIF(E69:AI69,"ATMP") -> 0 | AP69: =COUNTIF(E69:AI69,"EM") -> 0 | AQ69: =COUNTIF(E69:AI69,"CE") -> 0 | AR69: =SUM(AK69:AQ69) -> 0
B70: =+'@CONFIG'!$B$65 -> RETORE | C70: ='@CONFIG'!$C$65 -> P | D70: ='@CONFIG'!$D$65 -> pédagogique | AK70: =COUNTIF(E70:AI70,"m") -> 0 | AL70: =COUNTIF(E70:AI70,"CSS") -> 0 | AM70: =COUNTIF(E70:AI70,"MP") -> 0 | AN70: =COUNTIF(E70:AI70,"CL") -> 0 | AO70: =COUNTIF(E70:AI70,"ATMP") -> 0 | AP70: =COUNTIF(E70:AI70,"EM") -> 0 | AQ70: =COUNTIF(E70:AI70,"CE") -> 0 | AR70: =SUM(AK70:AQ70) -> 0
B71: =+'@CONFIG'!$B$66 -> ROUSCHOP | C71: ='@CONFIG'!$C$66 -> O | D71: ='@CONFIG'!$D$66 -> pédagogique | AK71: =COUNTIF(E71:AI71,"m") -> 0 | AL71: =COUNTIF(E71:AI71,"CSS") -> 0 | AM71: =COUNTIF(E71:AI71,"MP") -> 0 | AN71: =COUNTIF(E71:AI71,"CL") -> 0 | AO71: =COUNTIF(E71:AI71,"ATMP") -> 0 | AP71: =COUNTIF(E71:AI71,"EM") -> 0 | AQ71: =COUNTIF(E71:AI71,"CE") -> 0 | AR71: =SUM(AK71:AQ71) -> 0
B72: =+'@CONFIG'!$B$67 -> SCIOT | C72: ='@CONFIG'!$C$67 -> L | D72: ='@CONFIG'!$D$67 -> éducatif | AK72: =COUNTIF(E72:AI72,"m") -> 0 | AL72: =COUNTIF(E72:AI72,"CSS") -> 0 | AM72: =COUNTIF(E72:AI72,"MP") -> 0 | AN72: =COUNTIF(E72:AI72,"CL") -> 0 | AO72: =COUNTIF(E72:AI72,"ATMP") -> 0 | AP72: =COUNTIF(E72:AI72,"EM") -> 0 | AQ72: =COUNTIF(E72:AI72,"CE") -> 0 | AR72: =SUM(AK72:AQ72) -> 0
B73: =+'@CONFIG'!$B$68 -> VALLEE | C73: ='@CONFIG'!$C$68 -> I | D73: ='@CONFIG'!$D$68 -> éducatif | AK73: =COUNTIF(E73:AI73,"m") -> 0 | AL73: =COUNTIF(E73:AI73,"CSS") -> 0 | AM73: =COUNTIF(E73:AI73,"MP") -> 0 | AN73: =COUNTIF(E73:AI73,"CL") -> 0 | AO73: =COUNTIF(E73:AI73,"ATMP") -> 0 | AP73: =COUNTIF(E73:AI73,"EM") -> 0 | AQ73: =COUNTIF(E73:AI73,"CE") -> 0 | AR73: =SUM(AK73:AQ73) -> 0
B74: =+'@CONFIG'!$B$69 -> VAUTIER | C74: ='@CONFIG'!$C$69 -> E | D74: ='@CONFIG'!$D$69 -> thérapeutique | E74: M | F74: M | G74: M | AK74: =COUNTIF(E74:AI74,"m") -> 3 | AL74: =COUNTIF(E74:AI74,"CSS") -> 0 | AM74: =COUNTIF(E74:AI74,"MP") -> 0 | AN74: =COUNTIF(E74:AI74,"CL") -> 0 | AO74: =COUNTIF(E74:AI74,"ATMP") -> 0 | AP74: =COUNTIF(E74:AI74,"EM") -> 0 | AQ74: =COUNTIF(E74:AI74,"CE") -> 0 | AR74: =SUM(AK74:AQ74) -> 3
B75: =+'@CONFIG'!$B$70 -> WALTISPURGER | C75: ='@CONFIG'!$C$70 -> V | D75: ='@CONFIG'!$D$70 -> éducatif | J75: M | K75: M | L75: M | AK75: =COUNTIF(E75:AI75,"m") -> 3 | AL75: =COUNTIF(E75:AI75,"CSS") -> 0 | AM75: =COUNTIF(E75:AI75,"MP") -> 0 | AN75: =COUNTIF(E75:AI75,"CL") -> 0 | AO75: =COUNTIF(E75:AI75,"ATMP") -> 0 | AP75: =COUNTIF(E75:AI75,"EM") -> 0 | AQ75: =COUNTIF(E75:AI75,"CE") -> 0 | AR75: =SUM(AK75:AQ75) -> 3
B76: =+'@CONFIG'!$B$71 -> WALTISPURGER | C76: ='@CONFIG'!$C$71 -> N | D76: ='@CONFIG'!$D$71 -> service généraux | AK76: =COUNTIF(E76:AI76,"m") -> 0 | AL76: =COUNTIF(E76:AI76,"CSS") -> 0 | AM76: =COUNTIF(E76:AI76,"MP") -> 0 | AN76: =COUNTIF(E76:AI76,"CL") -> 0 | AO76: =COUNTIF(E76:AI76,"ATMP") -> 0 | AP76: =COUNTIF(E76:AI76,"EM") -> 0 | AQ76: =COUNTIF(E76:AI76,"CE") -> 0 | AR76: =SUM(AK76:AQ76) -> 0
B77: =+'@CONFIG'!$B$72 -> 0 | C77: ='@CONFIG'!$C$72 -> 0 | D77: ='@CONFIG'!$D$72 -> 0 | AK77: =COUNTIF(E77:AI77,"m") -> 0 | AL77: =COUNTIF(E77:AI77,"CSS") -> 0 | AM77: =COUNTIF(E77:AI77,"MP") -> 0 | AN77: =COUNTIF(E77:AI77,"CL") -> 0 | AO77: =COUNTIF(E77:AI77,"ATMP") -> 0 | AP77: =COUNTIF(E77:AI77,"EM") -> 0 | AQ77: =COUNTIF(E77:AI77,"CE") -> 0 | AR77: =SUM(AK77:AQ77) -> 0
B78: =+'@CONFIG'!$B$73 -> 0 | C78: ='@CONFIG'!$C$73 -> 0 | D78: ='@CONFIG'!$D$73 -> 0 | AK78: =COUNTIF(E78:AI78,"m") -> 0 | AL78: =COUNTIF(E78:AI78,"CSS") -> 0 | AM78: =COUNTIF(E78:AI78,"MP") -> 0 | AN78: =COUNTIF(E78:AI78,"CL") -> 0 | AO78: =COUNTIF(E78:AI78,"ATMP") -> 0 | AP78: =COUNTIF(E78:AI78,"EM") -> 0 | AQ78: =COUNTIF(E78:AI78,"CE") -> 0 | AR78: =SUM(AK78:AQ78) -> 0
B79: =+'@CONFIG'!$B$74 -> 0 | C79: ='@CONFIG'!$C$74 -> 0 | D79: ='@CONFIG'!$D$74 -> 0 | AK79: =COUNTIF(E79:AI79,"m") -> 0 | AL79: =COUNTIF(E79:AI79,"CSS") -> 0 | AM79: =COUNTIF(E79:AI79,"MP") -> 0 | AN79: =COUNTIF(E79:AI79,"CL") -> 0 | AO79: =COUNTIF(E79:AI79,"ATMP") -> 0 | AP79: =COUNTIF(E79:AI79,"EM") -> 0 | AQ79: =COUNTIF(E79:AI79,"CE") -> 0 | AR79: =SUM(AK79:AQ79) -> 0
B80: =+'@CONFIG'!$B$75 -> 0 | C80: ='@CONFIG'!$C$75 -> 0 | D80: ='@CONFIG'!$D$75 -> 0 | AK80: =COUNTIF(E80:AI80,"m") -> 0 | AL80: =COUNTIF(E80:AI80,"CSS") -> 0 | AM80: =COUNTIF(E80:AI80,"MP") -> 0 | AN80: =COUNTIF(E80:AI80,"CL") -> 0 | AO80: =COUNTIF(E80:AI80,"ATMP") -> 0 | AP80: =COUNTIF(E80:AI80,"EM") -> 0 | AQ80: =COUNTIF(E80:AI80,"CE") -> 0 | AR80: =SUM(AK80:AQ80) -> 0
B81: =+'@CONFIG'!$B$76 -> 0 | C81: ='@CONFIG'!$C$76 -> 0 | D81: ='@CONFIG'!$D$76 -> 0 | AK81: =COUNTIF(E81:AI81,"m") -> 0 | AL81: =COUNTIF(E81:AI81,"CSS") -> 0 | AM81: =COUNTIF(E81:AI81,"MP") -> 0 | AN81: =COUNTIF(E81:AI81,"CL") -> 0 | AO81: =COUNTIF(E81:AI81,"ATMP") -> 0 | AP81: =COUNTIF(E81:AI81,"EM") -> 0 | AQ81: =COUNTIF(E81:AI81,"CE") -> 0 | AR81: =SUM(AK81:AQ81) -> 0
B82: =+'@CONFIG'!$B$77 -> 0 | C82: ='@CONFIG'!$C$77 -> 0 | D82: ='@CONFIG'!$D$77 -> 0 | AK82: =COUNTIF(E82:AI82,"m") -> 0 | AL82: =COUNTIF(E82:AI82,"CSS") -> 0 | AM82: =COUNTIF(E82:AI82,"MP") -> 0 | AN82: =COUNTIF(E82:AI82,"CL") -> 0 | AO82: =COUNTIF(E82:AI82,"ATMP") -> 0 | AP82: =COUNTIF(E82:AI82,"EM") -> 0 | AQ82: =COUNTIF(E82:AI82,"CE") -> 0 | AR82: =SUM(AK82:AQ82) -> 0
B83: =+'@CONFIG'!$B$78 -> 0 | C83: ='@CONFIG'!$C$78 -> 0 | D83: ='@CONFIG'!$D$78 -> 0 | AK83: =COUNTIF(E83:AI83,"m") -> 0 | AL83: =COUNTIF(E83:AI83,"CSS") -> 0 | AM83: =COUNTIF(E83:AI83,"MP") -> 0 | AN83: =COUNTIF(E83:AI83,"CL") -> 0 | AO83: =COUNTIF(E83:AI83,"ATMP") -> 0 | AP83: =COUNTIF(E83:AI83,"EM") -> 0 | AQ83: =COUNTIF(E83:AI83,"CE") -> 0 | AR83: =SUM(AK83:AQ83) -> 0
B84: =+'@CONFIG'!$B$79 -> 0 | C84: ='@CONFIG'!$C$79 -> 0 | D84: ='@CONFIG'!$D$79 -> 0 | AK84: =COUNTIF(E84:AI84,"m") -> 0 | AL84: =COUNTIF(E84:AI84,"CSS") -> 0 | AM84: =COUNTIF(E84:AI84,"MP") -> 0 | AN84: =COUNTIF(E84:AI84,"CL") -> 0 | AO84: =COUNTIF(E84:AI84,"ATMP") -> 0 | AP84: =COUNTIF(E84:AI84,"EM") -> 0 | AQ84: =COUNTIF(E84:AI84,"CE") -> 0 | AR84: =SUM(AK84:AQ84) -> 0
B85: =+'@CONFIG'!$B$80 -> 0 | C85: ='@CONFIG'!$C$80 -> 0 | D85: ='@CONFIG'!$D$80 -> 0 | AK85: =COUNTIF(E85:AI85,"m") -> 0 | AL85: =COUNTIF(E85:AI85,"CSS") -> 0 | AM85: =COUNTIF(E85:AI85,"MP") -> 0 | AN85: =COUNTIF(E85:AI85,"CL") -> 0 | AO85: =COUNTIF(E85:AI85,"ATMP") -> 0 | AP85: =COUNTIF(E85:AI85,"EM") -> 0 | AQ85: =COUNTIF(E85:AI85,"CE") -> 0 | AR85: =SUM(AK85:AQ85) -> 0
B86: =+'@CONFIG'!$B$81 -> 0 | C86: ='@CONFIG'!$C$81 -> 0 | D86: ='@CONFIG'!$D$81 -> 0 | AK86: =COUNTIF(E86:AI86,"m") -> 0 | AL86: =COUNTIF(E86:AI86,"CSS") -> 0 | AM86: =COUNTIF(E86:AI86,"MP") -> 0 | AN86: =COUNTIF(E86:AI86,"CL") -> 0 | AO86: =COUNTIF(E86:AI86,"ATMP") -> 0 | AP86: =COUNTIF(E86:AI86,"EM") -> 0 | AQ86: =COUNTIF(E86:AI86,"CE") -> 0 | AR86: =SUM(AK86:AQ86) -> 0
B87: =+'@CONFIG'!$B$82 -> 0 | C87: ='@CONFIG'!$C$82 -> 0 | D87: ='@CONFIG'!$D$82 -> 0 | AK87: =COUNTIF(E87:AI87,"m") -> 0 | AL87: =COUNTIF(E87:AI87,"CSS") -> 0 | AM87: =COUNTIF(E87:AI87,"MP") -> 0 | AN87: =COUNTIF(E87:AI87,"CL") -> 0 | AO87: =COUNTIF(E87:AI87,"ATMP") -> 0 | AP87: =COUNTIF(E87:AI87,"EM") -> 0 | AQ87: =COUNTIF(E87:AI87,"CE") -> 0 | AR87: =SUM(AK87:AQ87) -> 0
B88: =+'@CONFIG'!$B$83 -> 0 | C88: ='@CONFIG'!$C$83 -> 0 | D88: ='@CONFIG'!$D$83 -> 0 | AK88: =COUNTIF(E88:AI88,"m") -> 0 | AL88: =COUNTIF(E88:AI88,"CSS") -> 0 | AM88: =COUNTIF(E88:AI88,"MP") -> 0 | AN88: =COUNTIF(E88:AI88,"CL") -> 0 | AO88: =COUNTIF(E88:AI88,"ATMP") -> 0 | AP88: =COUNTIF(E88:AI88,"EM") -> 0 | AQ88: =COUNTIF(E88:AI88,"CE") -> 0 | AR88: =SUM(AK88:AQ88) -> 0
B89: =+'@CONFIG'!$B$84 -> 0 | C89: ='@CONFIG'!$C$84 -> 0 | D89: ='@CONFIG'!$D$84 -> 0 | AK89: =COUNTIF(E89:AI89,"m") -> 0 | AL89: =COUNTIF(E89:AI89,"CSS") -> 0 | AM89: =COUNTIF(E89:AI89,"MP") -> 0 | AN89: =COUNTIF(E89:AI89,"CL") -> 0 | AO89: =COUNTIF(E89:AI89,"ATMP") -> 0 | AP89: =COUNTIF(E89:AI89,"EM") -> 0 | AQ89: =COUNTIF(E89:AI89,"CE") -> 0 | AR89: =SUM(AK89:AQ89) -> 0
B90: =+'@CONFIG'!$B$85 -> 0 | C90: ='@CONFIG'!$C$85 -> 0 | D90: ='@CONFIG'!$D$85 -> 0 | AK90: =COUNTIF(E90:AI90,"m") -> 0 | AL90: =COUNTIF(E90:AI90,"CSS") -> 0 | AM90: =COUNTIF(E90:AI90,"MP") -> 0 | AN90: =COUNTIF(E90:AI90,"CL") -> 0 | AO90: =COUNTIF(E90:AI90,"ATMP") -> 0 | AP90: =COUNTIF(E90:AI90,"EM") -> 0 | AQ90: =COUNTIF(E90:AI90,"CE") -> 0 | AR90: =SUM(AK90:AQ90) -> 0
B91: =+'@CONFIG'!$B$86 -> 0 | C91: ='@CONFIG'!$C$86 -> 0 | D91: ='@CONFIG'!$D$86 -> 0 | AK91: =COUNTIF(E91:AI91,"m") -> 0 | AL91: =COUNTIF(E91:AI91,"CSS") -> 0 | AM91: =COUNTIF(E91:AI91,"MP") -> 0 | AN91: =COUNTIF(E91:AI91,"CL") -> 0 | AO91: =COUNTIF(E91:AI91,"ATMP") -> 0 | AP91: =COUNTIF(E91:AI91,"EM") -> 0 | AQ91: =COUNTIF(E91:AI91,"CE") -> 0 | AR91: =SUM(AK91:AQ91) -> 0
B92: =+'@CONFIG'!$B$87 -> 0 | C92: ='@CONFIG'!$C$87 -> 0 | D92: ='@CONFIG'!$D$87 -> 0 | AK92: =COUNTIF(E92:AI92,"m") -> 0 | AL92: =COUNTIF(E92:AI92,"CSS") -> 0 | AM92: =COUNTIF(E92:AI92,"MP") -> 0 | AN92: =COUNTIF(E92:AI92,"CL") -> 0 | AO92: =COUNTIF(E92:AI92,"ATMP") -> 0 | AP92: =COUNTIF(E92:AI92,"EM") -> 0 | AQ92: =COUNTIF(E92:AI92,"CE") -> 0 | AR92: =SUM(AK92:AQ92) -> 0
B93: =IF('@CONFIG'!B76<>"",'@CONFIG'!B76,"") | C93: =IF('@CONFIG'!C76<>"",'@CONFIG'!C76,"")
B94: =IF('@CONFIG'!B77<>"",'@CONFIG'!B77,"") | C94: =IF('@CONFIG'!C77<>"",'@CONFIG'!C77,"")
B95: =IF('@CONFIG'!B78<>"",'@CONFIG'!B78,"") | C95: =IF('@CONFIG'!C78<>"",'@CONFIG'!C78,"")
B96: =IF('@CONFIG'!B79<>"",'@CONFIG'!B79,"") | C96: =IF('@CONFIG'!C79<>"",'@CONFIG'!C79,"")
B97: =IF('@CONFIG'!B80<>"",'@CONFIG'!B80,"") | C97: =IF('@CONFIG'!C80<>"",'@CONFIG'!C80,"")
B98: =IF('@CONFIG'!B81<>"",'@CONFIG'!B81,"") | C98: =IF('@CONFIG'!C81<>"",'@CONFIG'!C81,"")
B99: =IF('@CONFIG'!B82<>"",'@CONFIG'!B82,"") | C99: =IF('@CONFIG'!C82<>"",'@CONFIG'!C82,"")
B100: =IF('@CONFIG'!B83<>"",'@CONFIG'!B83,"") | C100: =IF('@CONFIG'!C83<>"",'@CONFIG'!C83,"")
...

Sheet MARS
B1: ='@CONFIG'!F5 -> 44986
B2: ='@CONFIG'!G5 -> 45016
E3: =B1 -> 44986 | F3: =E3+1 -> 44987 | G3: =F3+1 -> 44988 | H3: =G3+1 -> 44989 | I3: =H3+1 -> 44990 | J3: =I3+1 -> 44991 | K3: =J3+1 -> 44992 | L3: =K3+1 -> 44993 | M3: =L3+1 -> 44994 | ... AI3: =AH3+1 -> 45016
A4: MARS
E5: =DAY(E3) -> 1 | F5: =DAY(F3) -> 2 | G5: =DAY(G3) -> 3 | H5: =DAY(H3) -> 4 | I5: =DAY(I3) -> 5 | J5: =DAY(J3) -> 6 | K5: =DAY(K3) -> 7 | L5: =DAY(L3) -> 8 | ... AI5: =DAY(AI3) -> 31 | AK5: M | AL5: CSS | AM5: MP | AN5: CL | AO5: ATMP | AP5: EM | AQ5: CE
B6: NOM | C6: PRENOM | D6: CAT PRO | E6: =WEEKDAY(E3) -> 4 | F6: =WEEKDAY(F3) -> 5 | G6: =WEEKDAY(G3) -> 6 | H6: =WEEKDAY(H3) -> 7 | I6: =WEEKDAY(I3) -> 1 | J6: =WEEKDAY(J3) -> 2 | K6: =WEEKDAY(K3) -> 3 | L6: =WEEKDAY(L3) -> 4 | ... AI6: =WEEKDAY(AI3) -> 6 | AK6: MALADIE | AL6: CONGES SANS SOLDES | AM6: MATERNITE/PATERNITE | AN6: CONGES LONGUE MALADIE/LONGUE DUREE | AO6: ACCIDENT DU W / MALADIE PRO | AP6: ENFANT MALADE | AQ6: CONGES EXCEPTIONNELS
B7: =+'@CONFIG'!$B$2 -> ANDRE | C7: ='@CONFIG'!$C$2 -> F | D7: ='@CONFIG'!$D$2 -> pédagogique | AK7: =COUNTIF(E7:AI7,"m") -> 0 | AL7: =COUNTIF(E7:AI7,"CSS") -> 0 | AM7: =COUNTIF(E7:AI7,"MP") -> 0 | AN7: =COUNTIF(E7:AI7,"CL") -> 0 | AO7: =COUNTIF(E7:AI7,"ATMP") -> 0 | AP7: =COUNTIF(E7:AI7,"EM") -> 0 | AQ7: =COUNTIF(E7:AI7,"CE") -> 0 | AR7: =SUM(AK7:AQ7) -> 0
B8: =+'@CONFIG'!$B$3 -> BERNARD | C8: ='@CONFIG'!$C$3 -> G | D8: ='@CONFIG'!$D$3 -> éducatif | AK8: =COUNTIF(E8:AI8,"m") -> 0 | AL8: =COUNTIF(E8:AI8,"CSS") -> 0 | AM8: =COUNTIF(E8:AI8,"MP") -> 0 | AN8: =COUNTIF(E8:AI8,"CL") -> 0 | AO8: =COUNTIF(E8:AI8,"ATMP") -> 0 | AP8: =COUNTIF(E8:AI8,"EM") -> 0 | AQ8: =COUNTIF(E8:AI8,"CE") -> 0 | AR8: =SUM(AK8:AQ8) -> 0
B9: =+'@CONFIG'!$B$4 -> BERNARD | C9: ='@CONFIG'!$C$4 -> T | D9: ='@CONFIG'!$D$4 -> service administratif | AK9: =COUNTIF(E9:AI9,"m") -> 0 | AL9: =COUNTIF(E9:AI9,"CSS") -> 0 | AM9: =COUNTIF(E9:AI9,"MP") -> 0 | AN9: =COUNTIF(E9:AI9,"CL") -> 0 | AO9: =COUNTIF(E9:AI9,"ATMP") -> 0 | AP9: =COUNTIF(E9:AI9,"EM") -> 0 | AQ9: =COUNTIF(E9:AI9,"CE") -> 0 | AR9: =SUM(AK9:AQ9) -> 0
B10: =+'@CONFIG'!$B$5 -> BOURDON | C10: ='@CONFIG'!$C$5 -> S | D10: ='@CONFIG'!$D$5 -> éducatif | AK10: =COUNTIF(E10:AI10,"m") -> 0 | AL10: =COUNTIF(E10:AI10,"CSS") -> 0 | AM10: =COUNTIF(E10:AI10,"MP") -> 0 | AN10: =COUNTIF(E10:AI10,"CL") -> 0 | AO10: =COUNTIF(E10:AI10,"ATMP") -> 0 | AP10: =COUNTIF(E10:AI10,"EM") -> 0 | AQ10: =COUNTIF(E10:AI10,"CE") -> 0 | AR10: =SUM(AK10:AQ10) -> 0
B11: =+'@CONFIG'!$B$6 -> BOURGA | C11: ='@CONFIG'!$C$6 -> B | D11: ='@CONFIG'!$D$6 -> éducatif | AK11: =COUNTIF(E11:AI11,"m") -> 0 | AL11: =COUNTIF(E11:AI11,"CSS") -> 0 | AM11: =COUNTIF(E11:AI11,"MP") -> 0 | AN11: =COUNTIF(E11:AI11,"CL") -> 0 | AO11: =COUNTIF(E11:AI11,"ATMP") -> 0 | AP11: =COUNTIF(E11:AI11,"EM") -> 0 | AQ11: =COUNTIF(E11:AI11,"CE") -> 0 | AR11: =SUM(AK11:AQ11) -> 0
B12: =+'@CONFIG'!$B$7 -> BRANCHUT | C12: ='@CONFIG'!$C$7 -> G | D12: ='@CONFIG'!$D$7 -> service administratif | AK12: =COUNTIF(E12:AI12,"m") -> 0 | AL12: =COUNTIF(E12:AI12,"CSS") -> 0 | AM12: =COUNTIF(E12:AI12,"MP") -> 0 | AN12: =COUNTIF(E12:AI12,"CL") -> 0 | AO12: =COUNTIF(E12:AI12,"ATMP") -> 0 | AP12: =COUNTIF(E12:AI12,"EM") -> 0 | AQ12: =COUNTIF(E12:AI12,"CE") -> 0 | AR12: =SUM(AK12:AQ12) -> 0
B13: =+'@CONFIG'!$B$8 -> BROUTIN | C13: ='@CONFIG'!$C$8 -> D | D13: ='@CONFIG'!$D$8 -> éducatif | AK13: =COUNTIF(E13:AI13,"m") -> 0 | AL13: =COUNTIF(E13:AI13,"CSS") -> 0 | AM13: =COUNTIF(E13:AI13,"MP") -> 0 | AN13: =COUNTIF(E13:AI13,"CL") -> 0 | AO13: =COUNTIF(E13:AI13,"ATMP") -> 0 | AP13: =COUNTIF(E13:AI13,"EM") -> 0 | AQ13: =COUNTIF(E13:AI13,"CE") -> 0 | AR13: =SUM(AK13:AQ13) -> 0
B14: =+'@CONFIG'!$B$9 -> CAGNEAUX | C14: ='@CONFIG'!$C$9 -> Z | D14: ='@CONFIG'!$D$9 -> service généraux | AK14: =COUNTIF(E14:AI14,"m") -> 0 | AL14: =COUNTIF(E14:AI14,"CSS") -> 0 | AM14: =COUNTIF(E14:AI14,"MP") -> 0 | AN14: =COUNTIF(E14:AI14,"CL") -> 0 | AO14: =COUNTIF(E14:AI14,"ATMP") -> 0 | AP14: =COUNTIF(E14:AI14,"EM") -> 0 | AQ14: =COUNTIF(E14:AI14,"CE") -> 0 | AR14: =SUM(AK14:AQ14) -> 0
B15: =+'@CONFIG'!$B$10 -> CAMPAGNOLO | C15: ='@CONFIG'!$C$10 -> F | D15: ='@CONFIG'!$D$10 -> éducatif | AK15: =COUNTIF(E15:AI15,"m") -> 0 | AL15: =COUNTIF(E15:AI15,"CSS") -> 0 | AM15: =COUNTIF(E15:AI15,"MP") -> 0 | AN15: =COUNTIF(E15:AI15,"CL") -> 0 | AO15: =COUNTIF(E15:AI15,"ATMP") -> 0 | AP15: =COUNTIF(E15:AI15,"EM") -> 0 | AQ15: =COUNTIF(E15:AI15,"CE") -> 0 | AR15: =SUM(AK15:AQ15) -> 0
B16: =+'@CONFIG'!$B$11 -> CANIAUX | C16: ='@CONFIG'!$C$11 -> H | D16: ='@CONFIG'!$D$11 -> service généraux | AK16: =COUNTIF(E16:AI16,"m") -> 0 | AL16: =COUNTIF(E16:AI16,"CSS") -> 0 | AM16: =COUNTIF(E16:AI16,"MP") -> 0 | AN16: =COUNTIF(E16:AI16,"CL") -> 0 | AO16: =COUNTIF(E16:AI16,"ATMP") -> 0 | AP16: =COUNTIF(E16:AI16,"EM") -> 0 | AQ16: =COUNTIF(E16:AI16,"CE") -> 0 | AR16: =SUM(AK16:AQ16) -> 0
B17: =+'@CONFIG'!$B$12 -> CATRIN | C17: ='@CONFIG'!$C$12 -> K | D17: ='@CONFIG'!$D$12 -> service généraux | AK17: =COUNTIF(E17:AI17,"m") -> 0 | AL17: =COUNTIF(E17:AI17,"CSS") -> 0 | AM17: =COUNTIF(E17:AI17,"MP") -> 0 | AN17: =COUNTIF(E17:AI17,"CL") -> 0 | AO17: =COUNTIF(E17:AI17,"ATMP") -> 0 | AP17: =COUNTIF(E17:AI17,"EM") -> 0 | AQ17: =COUNTIF(E17:AI17,"CE") -> 0 | AR17: =SUM(AK17:AQ17) -> 0
B18: =+'@CONFIG'!$B$13 -> COLMANT | C18: ='@CONFIG'!$C$13 -> E | D18: ='@CONFIG'!$D$13 -> thérapeutique | AI18: EM | AK18: =COUNTIF(E18:AI18,"m") -> 0 | AL18: =COUNTIF(E18:AI18,"CSS") -> 0 | AM18: =COUNTIF(E18:AI18,"MP") -> 0 | AN18: =COUNTIF(E18:AI18,"CL") -> 0 | AO18: =COUNTIF(E18:AI18,"ATMP") -> 0 | AP18: =COUNTIF(E18:AI18,"EM") -> 1 | AQ18: =COUNTIF(E18:AI18,"CE") -> 0 | AR18: =SUM(AK18:AQ18) -> 1
B19: =+'@CONFIG'!$B$14 -> DA COSTA | C19: ='@CONFIG'!$C$14 -> Z | D19: ='@CONFIG'!$D$14 -> éducatif | AK19: =COUNTIF(E19:AI19,"m") -> 0 | AL19: =COUNTIF(E19:AI19,"CSS") -> 0 | AM19: =COUNTIF(E19:AI19,"MP") -> 0 | AN19: =COUNTIF(E19:AI19,"CL") -> 0 | AO19: =COUNTIF(E19:AI19,"ATMP") -> 0 | AP19: =COUNTIF(E19:AI19,"EM") -> 0 | AQ19: =COUNTIF(E19:AI19,"CE") -> 0 | AR19: =SUM(AK19:AQ19) -> 0
B20: =+'@CONFIG'!$B$15 -> DANDUMONT | C20: ='@CONFIG'!$C$15 -> S | D20: ='@CONFIG'!$D$15 -> direction | AK20: =COUNTIF(E20:AI20,"m") -> 0 | AL20: =COUNTIF(E20:AI20,"CSS") -> 0 | AM20: =COUNTIF(E20:AI20,"MP") -> 0 | AN20: =COUNTIF(E20:AI20,"CL") -> 0 | AO20: =COUNTIF(E20:AI20,"ATMP") -> 0 | AP20: =COUNTIF(E20:AI20,"EM") -> 0 | AQ20: =COUNTIF(E20:AI20,"CE") -> 0 | AR20: =SUM(AK20:AQ20) -> 0
B21: =+'@CONFIG'!$B$16 -> DELEBOIS | C21: ='@CONFIG'!$C$16 -> Z | D21: ='@CONFIG'!$D$16 -> médical | AK21: =COUNTIF(E21:AI21,"m") -> 0 | AL21: =COUNTIF(E21:AI21,"CSS") -> 0 | AM21: =COUNTIF(E21:AI21,"MP") -> 0 | AN21: =COUNTIF(E21:AI21,"CL") -> 0 | AO21: =COUNTIF(E21:AI21,"ATMP") -> 0 | AP21: =COUNTIF(E21:AI21,"EM") -> 0 | AQ21: =COUNTIF(E21:AI21,"CE") -> 0 | AR21: =SUM(AK21:AQ21) -> 0
B22: =+'@CONFIG'!$B$17 -> DELHAYE | C22: ='@CONFIG'!$C$17 -> V | D22: ='@CONFIG'!$D$17 -> éducatif | E22: M | AK22: =COUNTIF(E22:AI22,"m") -> 1 | AL22: =COUNTIF(E22:AI22,"CSS") -> 0 | AM22: =COUNTIF(E22:AI22,"MP") -> 0 | AN22: =COUNTIF(E22:AI22,"CL") -> 0 | AO22: =COUNTIF(E22:AI22,"ATMP") -> 0 | AP22: =COUNTIF(E22:AI22,"EM") -> 0 | AQ22: =COUNTIF(E22:AI22,"CE") -> 0 | AR22: =SUM(AK22:AQ22) -> 1
B23: =+'@CONFIG'!$B$18 -> DELHAYE | C23: ='@CONFIG'!$C$18 -> Z | D23: ='@CONFIG'!$D$18 -> service généraux | AK23: =COUNTIF(E23:AI23,"m") -> 0 | AL23: =COUNTIF(E23:AI23,"CSS") -> 0 | AM23: =COUNTIF(E23:AI23,"MP") -> 0 | AN23: =COUNTIF(E23:AI23,"CL") -> 0 | AO23: =COUNTIF(E23:AI23,"ATMP") -> 0 | AP23: =COUNTIF(E23:AI23,"EM") -> 0 | AQ23: =COUNTIF(E23:AI23,"CE") -> 0 | AR23: =SUM(AK23:AQ23) -> 0
B24: =+'@CONFIG'!$B$19 -> DELMAS | C24: ='@CONFIG'!$C$19 -> A | D24: ='@CONFIG'!$D$19 -> thérapeutique | AK24: =COUNTIF(E24:AI24,"m") -> 0 | AL24: =COUNTIF(E24:AI24,"CSS") -> 0 | AM24: =COUNTIF(E24:AI24,"MP") -> 0 | AN24: =COUNTIF(E24:AI24,"CL") -> 0 | AO24: =COUNTIF(E24:AI24,"ATMP") -> 0 | AP24: =COUNTIF(E24:AI24,"EM") -> 0 | AQ24: =COUNTIF(E24:AI24,"CE") -> 0 | AR24: =SUM(AK24:AQ24) -> 0
B25: =+'@CONFIG'!$B$20 -> DEMANGECLAUDE | C25: ='@CONFIG'!$C$20 -> F | D25: ='@CONFIG'!$D$20 -> service généraux | AK25: =COUNTIF(E25:AI25,"m") -> 0 | AL25: =COUNTIF(E25:AI25,"CSS") -> 0 | AM25: =COUNTIF(E25:AI25,"MP") -> 0 | AN25: =COUNTIF(E25:AI25,"CL") -> 0 | AO25: =COUNTIF(E25:AI25,"ATMP") -> 0 | AP25: =COUNTIF(E25:AI25,"EM") -> 0 | AQ25: =COUNTIF(E25:AI25,"CE") -> 0 | AR25: =SUM(AK25:AQ25) -> 0
B26: =+'@CONFIG'!$B$21 -> DESTREE | C26: ='@CONFIG'!$C$21 -> Z | D26: ='@CONFIG'!$D$21 -> éducatif | AK26: =COUNTIF(E26:AI26,"m") -> 0 | AL26: =COUNTIF(E26:AI26,"CSS") -> 0 | AM26: =COUNTIF(E26:AI26,"MP") -> 0 | AN26: =COUNTIF(E26:AI26,"CL") -> 0 | AO26: =COUNTIF(E26:AI26,"ATMP") -> 0 | AP26: =COUNTIF(E26:AI26,"EM") -> 0 | AQ26: =COUNTIF(E26:AI26,"CE") -> 0 | AR26: =SUM(AK26:AQ26) -> 0
B27: =+'@CONFIG'!$B$22 -> DUCARMES | C27: ='@CONFIG'!$C$22 -> R | D27: ='@CONFIG'!$D$22 -> éducatif | AK27: =COUNTIF(E27:AI27,"m") -> 0 | AL27: =COUNTIF(E27:AI27,"CSS") -> 0 | AM27: =COUNTIF(E27:AI27,"MP") -> 0 | AN27: =COUNTIF(E27:AI27,"CL") -> 0 | AO27: =COUNTIF(E27:AI27,"ATMP") -> 0 | AP27: =COUNTIF(E27:AI27,"EM") -> 0 | AQ27: =COUNTIF(E27:AI27,"CE") -> 0 | AR27: =SUM(AK27:AQ27) -> 0
B28: =+'@CONFIG'!B23 -> DUCARMES | C28: ='@CONFIG'!$C$23 -> F | D28: ='@CONFIG'!$D$23 -> direction | AK28: =COUNTIF(E28:AI28,"m") -> 0 | AL28: =COUNTIF(E28:AI28,"CSS") -> 0 | AM28: =COUNTIF(E28:AI28,"MP") -> 0 | AN28: =COUNTIF(E28:AI28,"CL") -> 0 | AO28: =COUNTIF(E28:AI28,"ATMP") -> 0 | AP28: =COUNTIF(E28:AI28,"EM") -> 0 | AQ28: =COUNTIF(E28:AI28,"CE") -> 0 | AR28: =SUM(AK28:AQ28) -> 0
B29: =+'@CONFIG'!$B$24 -> DUGARD | C29: ='@CONFIG'!$C$24 -> F | D29: ='@CONFIG'!$D$24 -> éducatif | AK29: =COUNTIF(E29:AI29,"m") -> 0 | AL29: =COUNTIF(E29:AI29,"CSS") -> 0 | AM29: =COUNTIF(E29:AI29,"MP") -> 0 | AN29: =COUNTIF(E29:AI29,"CL") -> 0 | AO29: =COUNTIF(E29:AI29,"ATMP") -> 0 | AP29: =COUNTIF(E29:AI29,"EM") -> 0 | AQ29: =COUNTIF(E29:AI29,"CE") -> 0 | AR29: =SUM(AK29:AQ29) -> 0
B30: =+'@CONFIG'!$B$25 -> FORTEMPS | C30: ='@CONFIG'!$C$25 -> S | D30: ='@CONFIG'!$D$25 -> thérapeutique | AK30: =COUNTIF(E30:AI30,"m") -> 0 | AL30: =COUNTIF(E30:AI30,"CSS") -> 0 | AM30: =COUNTIF(E30:AI30,"MP") -> 0 | AN30: =COUNTIF(E30:AI30,"CL") -> 0 | AO30: =COUNTIF(E30:AI30,"ATMP") -> 0 | AP30: =COUNTIF(E30:AI30,"EM") -> 0 | AQ30: =COUNTIF(E30:AI30,"CE") -> 0 | AR30: =SUM(AK30:AQ30) -> 0
B31: =+'@CONFIG'!$B$26 -> FOUREUR | C31: ='@CONFIG'!$C$26 -> A | D31: ='@CONFIG'!$D$26 -> thérapeutique | AK31: =COUNTIF(E31:AI31,"m") -> 0 | AL31: =COUNTIF(E31:AI31,"CSS") -> 0 | AM31: =COUNTIF(E31:AI31,"MP") -> 0 | AN31: =COUNTIF(E31:AI31,"CL") -> 0 | AO31: =COUNTIF(E31:AI31,"ATMP") -> 0 | AP31: =COUNTIF(E31:AI31,"EM") -> 0 | AQ31: =COUNTIF(E31:AI31,"CE") -> 0 | AR31: =SUM(AK31:AQ31) -> 0
B32: =+'@CONFIG'!$B$27 -> GABORIT | C32: ='@CONFIG'!$C$27 -> D | D32: ='@CONFIG'!$D$27 -> thérapeutique | AK32: =COUNTIF(E32:AI32,"m") -> 0 | AL32: =COUNTIF(E32:AI32,"CSS") -> 0 | AM32: =COUNTIF(E32:AI32,"MP") -> 0 | AN32: =COUNTIF(E32:AI32,"CL") -> 0 | AO32: =COUNTIF(E32:AI32,"ATMP") -> 0 | AP32: =COUNTIF(E32:AI32,"EM") -> 0 | AQ32: =COUNTIF(E32:AI32,"CE") -> 0 | AR32: =SUM(AK32:AQ32) -> 0
B33: =+'@CONFIG'!$B$28 -> GODET | C33: ='@CONFIG'!$C$28 -> G | D33: ='@CONFIG'!$D$28 -> éducatif | AK33: =COUNTIF(E33:AI33,"m") -> 0 | AL33: =COUNTIF(E33:AI33,"CSS") -> 0 | AM33: =COUNTIF(E33:AI33,"MP") -> 0 | AN33: =COUNTIF(E33:AI33,"CL") -> 0 | AO33: =COUNTIF(E33:AI33,"ATMP") -> 0 | AP33: =COUNTIF(E33:AI33,"EM") -> 0 | AQ33: =COUNTIF(E33:AI33,"CE") -> 0 | AR33: =SUM(AK33:AQ33) -> 0
B34: =+'@CONFIG'!$B$29 -> GOMES | C34: ='@CONFIG'!$C$29 -> B | D34: ='@CONFIG'!$D$29 -> service généraux | AK34: =COUNTIF(E34:AI34,"m") -> 0 | AL34: =COUNTIF(E34:AI34,"CSS") -> 0 | AM34: =COUNTIF(E34:AI34,"MP") -> 0 | AN34: =COUNTIF(E34:AI34,"CL") -> 0 | AO34: =COUNTIF(E34:AI34,"ATMP") -> 0 | AP34: =COUNTIF(E34:AI34,"EM") -> 0 | AQ34: =COUNTIF(E34:AI34,"CE") -> 0 | AR34: =SUM(AK34:AQ34) -> 0
B35: =+'@CONFIG'!$B$30 -> GONCALVES | C35: ='@CONFIG'!$C$30 -> L | D35: ='@CONFIG'!$D$30 -> éducatif | E35: M | F35: M | G35: M | AF35: CSS | AK35: =COUNTIF(E35:AI35,"m") -> 3 | AL35: =COUNTIF(E35:AI35,"CSS") -> 1 | AM35: =COUNTIF(E35:AI35,"MP") -> 0 | AN35: =COUNTIF(E35:AI35,"CL") -> 0 | AO35: =COUNTIF(E35:AI35,"ATMP") -> 0 | AP35: =COUNTIF(E35:AI35,"EM") -> 0 | AQ35: =COUNTIF(E35:AI35,"CE") -> 0 | AR35: =SUM(AK35:AQ35) -> 4
B36: =+'@CONFIG'!$B$31 -> GUERIN | C36: ='@CONFIG'!$C$31 -> O | D36: ='@CONFIG'!$D$31 -> pédagogique | AK36: =COUNTIF(E36:AI36,"m") -> 0 | AL36: =COUNTIF(E36:AI36,"CSS") -> 0 | AM36: =COUNTIF(E36:AI36,"MP") -> 0 | AN36: =COUNTIF(E36:AI36,"CL") -> 0 | AO36: =COUNTIF(E36:AI36,"ATMP") -> 0 | AP36: =COUNTIF(E36:AI36,"EM") -> 0 | AQ36: =COUNTIF(E36:AI36,"CE") -> 0 | AR36: =SUM(AK36:AQ36) -> 0
B37: =+'@CONFIG'!$B$32 -> HELIN | C37: ='@CONFIG'!$C$32 -> U | D37: ='@CONFIG'!$D$32 -> service généraux | AK37: =COUNTIF(E37:AI37,"m") -> 0 | AL37: =COUNTIF(E37:AI37,"CSS") -> 0 | AM37: =COUNTIF(E37:AI37,"MP") -> 0 | AN37: =COUNTIF(E37:AI37,"CL") -> 0 | AO37: =COUNTIF(E37:AI37,"ATMP") -> 0 | AP37: =COUNTIF(E37:AI37,"EM") -> 0 | AQ37: =COUNTIF(E37:AI37,"CE") -> 0 | AR37: =SUM(AK37:AQ37) -> 0
B38: =+'@CONFIG'!$B$33 -> HELIN | C38: ='@CONFIG'!$C$33 -> T | D38: ='@CONFIG'!$D$33 -> thérapeutique | AK38: =COUNTIF(E38:AI38,"m") -> 0 | AL38: =COUNTIF(E38:AI38,"CSS") -> 0 | AM38: =COUNTIF(E38:AI38,"MP") -> 0 | AN38: =COUNTIF(E38:AI38,"CL") -> 0 | AO38: =COUNTIF(E38:AI38,"ATMP") -> 0 | AP38: =COUNTIF(E38:AI38,"EM") -> 0 | AQ38: =COUNTIF(E38:AI38,"CE") -> 0 | AR38: =SUM(AK38:AQ38) -> 0
B39: =+'@CONFIG'!$B$34 -> HENRARD | C39: ='@CONFIG'!$C$34 -> E | D39: ='@CONFIG'!$D$34 -> service administratif | AK39: =COUNTIF(E39:AI39,"m") -> 0 | AL39: =COUNTIF(E39:AI39,"CSS") -> 0 | AM39: =COUNTIF(E39:AI39,"MP") -> 0 | AN39: =COUNTIF(E39:AI39,"CL") -> 0 | AO39: =COUNTIF(E39:AI39,"ATMP") -> 0 | AP39: =COUNTIF(E39:AI39,"EM") -> 0 | AQ39: =COUNTIF(E39:AI39,"CE") -> 0 | AR39: =SUM(AK39:AQ39) -> 0
B40: =+'@CONFIG'!$B$35 -> HINS | C40: ='@CONFIG'!$C$35 -> Z | D40: ='@CONFIG'!$D$35 -> thérapeutique | AK40: =COUNTIF(E40:AI40,"m") -> 0 | AL40: =COUNTIF(E40:AI40,"CSS") -> 0 | AM40: =COUNTIF(E40:AI40,"MP") -> 0 | AN40: =COUNTIF(E40:AI40,"CL") -> 0 | AO40: =COUNTIF(E40:AI40,"ATMP") -> 0 | AP40: =COUNTIF(E40:AI40,"EM") -> 0 | AQ40: =COUNTIF(E40:AI40,"CE") -> 0 | AR40: =SUM(AK40:AQ40) -> 0
B41: =+'@CONFIG'!$B$36 -> HODY | C41: ='@CONFIG'!$C$36 -> A | D41: ='@CONFIG'!$D$36 -> éducatif | AK41: =COUNTIF(E41:AI41,"m") -> 0 | AL41: =COUNTIF(E41:AI41,"CSS") -> 0 | AM41: =COUNTIF(E41:AI41,"MP") -> 0 | AN41: =COUNTIF(E41:AI41,"CL") -> 0 | AO41: =COUNTIF(E41:AI41,"ATMP") -> 0 | AP41: =COUNTIF(E41:AI41,"EM") -> 0 | AQ41: =COUNTIF(E41:AI41,"CE") -> 0 | AR41: =SUM(AK41:AQ41) -> 0
B42: =+'@CONFIG'!$B$37 -> IGNACZINSKI | C42: ='@CONFIG'!$C$37 -> S | D42: ='@CONFIG'!$D$37 -> service généraux | AK42: =COUNTIF(E42:AI42,"m") -> 0 | AL42: =COUNTIF(E42:AI42,"CSS") -> 0 | AM42: =COUNTIF(E42:AI42,"MP") -> 0 | AN42: =COUNTIF(E42:AI42,"CL") -> 0 | AO42: =COUNTIF(E42:AI42,"ATMP") -> 0 | AP42: =COUNTIF(E42:AI42,"EM") -> 0 | AQ42: =COUNTIF(E42:AI42,"CE") -> 0 | AR42: =SUM(AK42:AQ42) -> 0
B43: =+'@CONFIG'!$B$38 -> JOUY | C43: ='@CONFIG'!$C$38 -> W | D43: ='@CONFIG'!$D$38 -> service administratif | AK43: =COUNTIF(E43:AI43,"m") -> 0 | AL43: =COUNTIF(E43:AI43,"CSS") -> 0 | AM43: =COUNTIF(E43:AI43,"MP") -> 0 | AN43: =COUNTIF(E43:AI43,"CL") -> 0 | AO43: =COUNTIF(E43:AI43,"ATMP") -> 0 | AP43: =COUNTIF(E43:AI43,"EM") -> 0 | AQ43: =COUNTIF(E43:AI43,"CE") -> 0 | AR43: =SUM(AK43:AQ43) -> 0
B44: =+'@CONFIG'!$B$39 -> KABADAYI | C44: ='@CONFIG'!$C$39 -> V | D44: ='@CONFIG'!$D$39 -> service administratif | AK44: =COUNTIF(E44:AI44,"m") -> 0 | AL44: =COUNTIF(E44:AI44,"CSS") -> 0 | AM44: =COUNTIF(E44:AI44,"MP") -> 0 | AN44: =COUNTIF(E44:AI44,"CL") -> 0 | AO44: =COUNTIF(E44:AI44,"ATMP") -> 0 | AP44: =COUNTIF(E44:AI44,"EM") -> 0 | AQ44: =COUNTIF(E44:AI44,"CE") -> 0 | AR44: =SUM(AK44:AQ44) -> 0
B45: =+'@CONFIG'!$B$40 -> LABERGRI | C45: ='@CONFIG'!$C$40 -> G | D45: ='@CONFIG'!$D$40 -> éducatif | E45: M | F45: M | G45: M | J45: M | K45: M | L45: M | M45: M | N45: M | Q45: M | R45: M | S45: M | T45: M | U45: M | X45: M | AK45: =COUNTIF(E45:AI45,"m") -> 14 | AL45: =COUNTIF(E45:AI45,"CSS") -> 0 | AM45: =COUNTIF(E45:AI45,"MP") -> 0 | AN45: =COUNTIF(E45:AI45,"CL") -> 0 | AO45: =COUNTIF(E45:AI45,"ATMP") -> 0 | AP45: =COUNTIF(E45:AI45,"EM") -> 0 | AQ45: =COUNTIF(E45:AI45,"CE") -> 0 | AR45: =SUM(AK45:AQ45) -> 14
B46: =+'@CONFIG'!$B$41 -> LADAME | C46: ='@CONFIG'!$C$41 -> D | D46: ='@CONFIG'!$D$41 -> éducatif | AK46: =COUNTIF(E46:AI46,"m") -> 0 | AL46: =COUNTIF(E46:AI46,"CSS") -> 0 | AM46: =COUNTIF(E46:AI46,"MP") -> 0 | AN46: =COUNTIF(E46:AI46,"CL") -> 0 | AO46: =COUNTIF(E46:AI46,"ATMP") -> 0 | AP46: =COUNTIF(E46:AI46,"EM") -> 0 | AQ46: =COUNTIF(E46:AI46,"CE") -> 0 | AR46: =SUM(AK46:AQ46) -> 0
B47: =+'@CONFIG'!$B$42 -> LAMBERT | C47: ='@CONFIG'!$C$42 -> E | D47: ='@CONFIG'!$D$42 -> éducatif | AK47: =COUNTIF(E47:AI47,"m") -> 0 | AL47: =COUNTIF(E47:AI47,"CSS") -> 0 | AM47: =COUNTIF(E47:AI47,"MP") -> 0 | AN47: =COUNTIF(E47:AI47,"CL") -> 0 | AO47: =COUNTIF(E47:AI47,"ATMP") -> 0 | AP47: =COUNTIF(E47:AI47,"EM") -> 0 | AQ47: =COUNTIF(E47:AI47,"CE") -> 0 | AR47: =SUM(AK47:AQ47) -> 0
B48: =+'@CONFIG'!$B$43 -> LAPORTE | C48: ='@CONFIG'!$C$43 -> Z | D48: ='@CONFIG'!$D$43 -> éducatif | AK48: =COUNTIF(E48:AI48,"m") -> 0 | AL48: =COUNTIF(E48:AI48,"CSS") -> 0 | AM48: =COUNTIF(E48:AI48,"MP") -> 0 | AN48: =COUNTIF(E48:AI48,"CL") -> 0 | AO48: =COUNTIF(E48:AI48,"ATMP") -> 0 | AP48: =COUNTIF(E48:AI48,"EM") -> 0 | AQ48: =COUNTIF(E48:AI48,"CE") -> 0 | AR48: =SUM(AK48:AQ48) -> 0
B49: =+'@CONFIG'!$B$44 -> LARTISIEN | C49: ='@CONFIG'!$C$44 -> Q | D49: ='@CONFIG'!$D$44 -> pédagogique | AK49: =COUNTIF(E49:AI49,"m") -> 0 | AL49: =COUNTIF(E49:AI49,"CSS") -> 0 | AM49: =COUNTIF(E49:AI49,"MP") -> 0 | AN49: =COUNTIF(E49:AI49,"CL") -> 0 | AO49: =COUNTIF(E49:AI49,"ATMP") -> 0 | AP49: =COUNTIF(E49:AI49,"EM") -> 0 | AQ49: =COUNTIF(E49:AI49,"CE") -> 0 | AR49: =SUM(AK49:AQ49) -> 0
B50: =+'@CONFIG'!$B$45 -> LASSAUX | C50: ='@CONFIG'!$C$45 -> A | D50: ='@CONFIG'!$D$45 -> éducatif | F50: M | G50: M | J50: M | K50: M | L50: M | M50: M | N50: M | Q50: M | R50: M | S50: M | T50: M | U50: M | X50: M | Y50: M | Z50: M | AA50: M | AB50: M | AE50: M | AF50: M | AG50: M | AH50: M | AI50: M | AK50: =COUNTIF(E50:AI50,"m") -> 22 | AL50: =COUNTIF(E50:AI50,"CSS") -> 0 | AM50: =COUNTIF(E50:AI50,"MP") -> 0 | AN50: =COUNTIF(E50:AI50,"CL") -> 0 | AO50: =COUNTIF(E50:AI50,"ATMP") -> 0 | AP50: =COUNTIF(E50:AI50,"EM") -> 0 | AQ50: =COUNTIF(E50:AI50,"CE") -> 0 | AR50: =SUM(AK50:AQ50) -> 22
B51: =+'@CONFIG'!$B$46 -> LAURENT | C51: ='@CONFIG'!$C$46 -> S | D51: ='@CONFIG'!$D$46 -> éducatif | AK51: =COUNTIF(E51:AI51,"m") -> 0 | AL51: =COUNTIF(E51:AI51,"CSS") -> 0 | AM51: =COUNTIF(E51:AI51,"MP") -> 0 | AN51: =COUNTIF(E51:AI51,"CL") -> 0 | AO51: =COUNTIF(E51:AI51,"ATMP") -> 0 | AP51: =COUNTIF(E51:AI51,"EM") -> 0 | AQ51: =COUNTIF(E51:AI51,"CE") -> 0 | AR51: =SUM(AK51:AQ51) -> 0
B52: =+'@CONFIG'!$B$47 -> LAURENT | C52: ='@CONFIG'!$C$47 -> F | D52: ='@CONFIG'!$D$47 -> éducatif | E52: M | F52: M | G52: M | AK52: =COUNTIF(E52:AI52,"m") -> 3 | AL52: =COUNTIF(E52:AI52,"CSS") -> 0 | AM52: =COUNTIF(E52:AI52,"MP") -> 0 | AN52: =COUNTIF(E52:AI52,"CL") -> 0 | AO52: =COUNTIF(E52:AI52,"ATMP") -> 0 | AP52: =COUNTIF(E52:AI52,"EM") -> 0 | AQ52: =COUNTIF(E52:AI52,"CE") -> 0 | AR52: =SUM(AK52:AQ52) -> 3
B53: =+'@CONFIG'!$B$48 -> LECORNET | C53: ='@CONFIG'!$C$48 -> F | D53: ='@CONFIG'!$D$48 -> éducatif | J53: M | K53: M | L53: M | M53: M | N53: M | AK53: =COUNTIF(E53:AI53,"m") -> 5 | AL53: =COUNTIF(E53:AI53,"CSS") -> 0 | AM53: =COUNTIF(E53:AI53,"MP") -> 0 | AN53: =COUNTIF(E53:AI53,"CL") -> 0 | AO53: =COUNTIF(E53:AI53,"ATMP") -> 0 | AP53: =COUNTIF(E53:AI53,"EM") -> 0 | AQ53: =COUNTIF(E53:AI53,"CE") -> 0 | AR53: =SUM(AK53:AQ53) -> 5
B54: =+'@CONFIG'!$B$49 -> LEDOUBLE | C54: ='@CONFIG'!$C$49 -> G | D54: ='@CONFIG'!$D$49 -> éducatif | AE54: M | AF54: M | AG54: M | AH54: M | AI54: M | AK54: =COUNTIF(E54:AI54,"m") -> 5 | AL54: =COUNTIF(E54:AI54,"CSS") -> 0 | AM54: =COUNTIF(E54:AI54,"MP") -> 0 | AN54: =COUNTIF(E54:AI54,"CL") -> 0 | AO54: =COUNTIF(E54:AI54,"ATMP") -> 0 | AP54: =COUNTIF(E54:AI54,"EM") -> 0 | AQ54: =COUNTIF(E54:AI54,"CE") -> 0 | AR54: =SUM(AK54:AQ54) -> 5
B55: =+'@CONFIG'!$B$50 -> LEMOINE | C55: ='@CONFIG'!$C$50 -> E | D55: ='@CONFIG'!$D$50 -> pédagogique | AK55: =COUNTIF(E55:AI55,"m") -> 0 | AL55: =COUNTIF(E55:AI55,"CSS") -> 0 | AM55: =COUNTIF(E55:AI55,"MP") -> 0 | AN55: =COUNTIF(E55:AI55,"CL") -> 0 | AO55: =COUNTIF(E55:AI55,"ATMP") -> 0 | AP55: =COUNTIF(E55:AI55,"EM") -> 0 | AQ55: =COUNTIF(E55:AI55,"CE") -> 0 | AR55: =SUM(AK55:AQ55) -> 0
B56: =+'@CONFIG'!$B$51 -> MAGNIETTE | C56: ='@CONFIG'!$C$51 -> M | D56: ='@CONFIG'!$D$51 -> éducatif | AK56: =COUNTIF(E56:AI56,"m") -> 0 | AL56: =COUNTIF(E56:AI56,"CSS") -> 0 | AM56: =COUNTIF(E56:AI56,"MP") -> 0 | AN56: =COUNTIF(E56:AI56,"CL") -> 0 | AO56: =COUNTIF(E56:AI56,"ATMP") -> 0 | AP56: =COUNTIF(E56:AI56,"EM") -> 0 | AQ56: =COUNTIF(E56:AI56,"CE") -> 0 | AR56: =SUM(AK56:AQ56) -> 0
B57: =+'@CONFIG'!$B$52 -> MARCHAL | C57: ='@CONFIG'!$C$52 -> P | D57: ='@CONFIG'!$D$52 -> thérapeutique | AK57: =COUNTIF(E57:AI57,"m") -> 0 | AL57: =COUNTIF(E57:AI57,"CSS") -> 0 | AM57: =COUNTIF(E57:AI57,"MP") -> 0 | AN57: =COUNTIF(E57:AI57,"CL") -> 0 | AO57: =COUNTIF(E57:AI57,"ATMP") -> 0 | AP57: =COUNTIF(E57:AI57,"EM") -> 0 | AQ57: =COUNTIF(E57:AI57,"CE") -> 0 | AR57: =SUM(AK57:AQ57) -> 0
B58: =+'@CONFIG'!$B$53 -> MASSART | C58: ='@CONFIG'!$C$53 -> A | D58: ='@CONFIG'!$D$53 -> éducatif | AK58: =COUNTIF(E58:AI58,"m") -> 0 | AL58: =COUNTIF(E58:AI58,"CSS") -> 0 | AM58: =COUNTIF(E58:AI58,"MP") -> 0 | AN58: =COUNTIF(E58:AI58,"CL") -> 0 | AO58: =COUNTIF(E58:AI58,"ATMP") -> 0 | AP58: =COUNTIF(E58:AI58,"EM") -> 0 | AQ58: =COUNTIF(E58:AI58,"CE") -> 0 | AR58: =SUM(AK58:AQ58) -> 0
B59: =+'@CONFIG'!$B$54 -> MEBARKI | C59: ='@CONFIG'!$C$54 -> S | D59: ='@CONFIG'!$D$54 -> éducatif | AK59: =COUNTIF(E59:AI59,"m") -> 0 | AL59: =COUNTIF(E59:AI59,"CSS") -> 0 | AM59: =COUNTIF(E59:AI59,"MP") -> 0 | AN59: =COUNTIF(E59:AI59,"CL") -> 0 | AO59: =COUNTIF(E59:AI59,"ATMP") -> 0 | AP59: =COUNTIF(E59:AI59,"EM") -> 0 | AQ59: =COUNTIF(E59:AI59,"CE") -> 0 | AR59: =SUM(AK59:AQ59) -> 0
B60: =+'@CONFIG'!$B$55 -> MONTALBO | C60: ='@CONFIG'!$C$55 -> A | D60: ='@CONFIG'!$D$55 -> thérapeutique | AK60: =COUNTIF(E60:AI60,"m") -> 0 | AL60: =COUNTIF(E60:AI60,"CSS") -> 0 | AM60: =COUNTIF(E60:AI60,"MP") -> 0 | AN60: =COUNTIF(E60:AI60,"CL") -> 0 | AO60: =COUNTIF(E60:AI60,"ATMP") -> 0 | AP60: =COUNTIF(E60:AI60,"EM") -> 0 | AQ60: =COUNTIF(E60:AI60,"CE") -> 0 | AR60: =SUM(AK60:AQ60) -> 0
B61: =+'@CONFIG'!$B$56 -> PAMLARD | C61: ='@CONFIG'!$C$56 -> Z | D61: ='@CONFIG'!$D$56 -> éducatif | AK61: =COUNTIF(E61:AI61,"m") -> 0 | AL61: =COUNTIF(E61:AI61,"CSS") -> 0 | AM61: =COUNTIF(E61:AI61,"MP") -> 0 | AN61: =COUNTIF(E61:AI61,"CL") -> 0 | AO61: =COUNTIF(E61:AI61,"ATMP") -> 0 | AP61: =COUNTIF(E61:AI61,"EM") -> 0 | AQ61: =COUNTIF(E61:AI61,"CE") -> 0 | AR61: =SUM(AK61:AQ61) -> 0
B62: =+'@CONFIG'!$B$57 -> PARISELLE | C62: ='@CONFIG'!$C$57 -> W | D62: ='@CONFIG'!$D$57 -> éducatif | E62: CSS | F62: CSS | G62: CSS | J62: CSS | K62: CSS | L62: CSS | M62: CSS | N62: CSS | Q62: CSS | R62: CSS | S62: CSS | T62: CSS | U62: CSS | X62: CSS | AK62: =COUNTIF(E62:AI62,"m") -> 0 | AL62: =COUNTIF(E62:AI62,"CSS") -> 14 | AM62: =COUNTIF(E62:AI62,"MP") -> 0 | AN62: =COUNTIF(E62:AI62,"CL") -> 0 | AO62: =COUNTIF(E62:AI62,"ATMP") -> 0 | AP62: =COUNTIF(E62:AI62,"EM") -> 0 | AQ62: =COUNTIF(E62:AI62,"CE") -> 0 | AR62: =SUM(AK62:AQ62) -> 14
B63: =+'@CONFIG'!$B$58 -> PARLIER | C63: ='@CONFIG'!$C$58 -> S | D63: ='@CONFIG'!$D$58 -> éducatif | AK63: =COUNTIF(E63:AI63,"m") -> 0 | AL63: =COUNTIF(E63:AI63,"CSS") -> 0 | AM63: =COUNTIF(E63:AI63,"MP") -> 0 | AN63: =COUNTIF(E63:AI63,"CL") -> 0 | AO63: =COUNTIF(E63:AI63,"ATMP") -> 0 | AP63: =COUNTIF(E63:AI63,"EM") -> 0 | AQ63: =COUNTIF(E63:AI63,"CE") -> 0 | AR63: =SUM(AK63:AQ63) -> 0
B64: =+'@CONFIG'!$B$59 -> PATOUREAUX | C64: ='@CONFIG'!$C$59 -> A | D64: ='@CONFIG'!$D$59 -> éducatif | F64: M | G64: M | K64: M | L64: M | M64: M | N64: M | Q64: M | R64: M | S64: M | T64: M | U64: M | X64: M | Y64: M | Z64: M | AA64: M | AB64: M | AE64: M | AF64: M | AG64: M | AH64: M | AI64: M | AK64: =COUNTIF(E64:AI64,"m") -> 21 | AL64: =COUNTIF(E64:AI64,"CSS") -> 0 | AM64: =COUNTIF(E64:AI64,"MP") -> 0 | AN64: =COUNTIF(E64:AI64,"CL") -> 0 | AO64: =COUNTIF(E64:AI64,"ATMP") -> 0 | AP64: =COUNTIF(E64:AI64,"EM") -> 0 | AQ64: =COUNTIF(E64:AI64,"CE") -> 0 | AR64: =SUM(AK64:AQ64) -> 21
B65: =+'@CONFIG'!$B$60 -> PAYON | C65: ='@CONFIG'!$C$60 -> B | D65: ='@CONFIG'!$D$60 -> service généraux | AK65: =COUNTIF(E65:AI65,"m") -> 0 | AL65: =COUNTIF(E65:AI65,"CSS") -> 0 | AM65: =COUNTIF(E65:AI65,"MP") -> 0 | AN65: =COUNTIF(E65:AI65,"CL") -> 0 | AO65: =COUNTIF(E65:AI65,"ATMP") -> 0 | AP65: =COUNTIF(E65:AI65,"EM") -> 0 | AQ65: =COUNTIF(E65:AI65,"CE") -> 0 | AR65: =SUM(AK65:AQ65) -> 0
B66: =+'@CONFIG'!$B$61 -> PETITFILS | C66: ='@CONFIG'!$C$61 -> G | D66: ='@CONFIG'!$D$61 -> thérapeutique | AK66: =COUNTIF(E66:AI66,"m") -> 0 | AL66: =COUNTIF(E66:AI66,"CSS") -> 0 | AM66: =COUNTIF(E66:AI66,"MP") -> 0 | AN66: =COUNTIF(E66:AI66,"CL") -> 0 | AO66: =COUNTIF(E66:AI66,"ATMP") -> 0 | AP66: =COUNTIF(E66:AI66,"EM") -> 0 | AQ66: =COUNTIF(E66:AI66,"CE") -> 0 | AR66: =SUM(AK66:AQ66) -> 0
B67: =+'@CONFIG'!$B$62 -> PIERRE | C67: ='@CONFIG'!$C$62 -> R | D67: ='@CONFIG'!$D$62 -> pédagogique | AK67: =COUNTIF(E67:AI67,"m") -> 0 | AL67: =COUNTIF(E67:AI67,"CSS") -> 0 | AM67: =COUNTIF(E67:AI67,"MP") -> 0 | AN67: =COUNTIF(E67:AI67,"CL") -> 0 | AO67: =COUNTIF(E67:AI67,"ATMP") -> 0 | AP67: =COUNTIF(E67:AI67,"EM") -> 0 | AQ67: =COUNTIF(E67:AI67,"CE") -> 0 | AR67: =SUM(AK67:AQ67) -> 0
B68: =+'@CONFIG'!$B$63 -> PINTO | C68: ='@CONFIG'!$C$63 -> I | D68: ='@CONFIG'!$D$63 -> éducatif | AK68: =COUNTIF(E68:AI68,"m") -> 0 | AL68: =COUNTIF(E68:AI68,"CSS") -> 0 | AM68: =COUNTIF(E68:AI68,"MP") -> 0 | AN68: =COUNTIF(E68:AI68,"CL") -> 0 | AO68: =COUNTIF(E68:AI68,"ATMP") -> 0 | AP68: =COUNTIF(E68:AI68,"EM") -> 0 | AQ68: =COUNTIF(E68:AI68,"CE") -> 0 | AR68: =SUM(AK68:AQ68) -> 0
B69: =+'@CONFIG'!$B$64 -> PRETO | C69: ='@CONFIG'!$C$64 -> M | D69: ='@CONFIG'!$D$64 -> service généraux | AK69: =COUNTIF(E69:AI69,"m") -> 0 | AL69: =COUNTIF(E69:AI69,"CSS") -> 0 | AM69: =COUNTIF(E69:AI69,"MP") -> 0 | AN69: =COUNTIF(E69:AI69,"CL") -> 0 | AO69: =COUNTIF(E69:AI69,"ATMP") -> 0 | AP69: =COUNTIF(E69:AI69,"EM") -> 0 | AQ69: =COUNTIF(E69:AI69,"CE") -> 0 | AR69: =SUM(AK69:AQ69) -> 0
B70: =+'@CONFIG'!$B$65 -> RETORE | C70: ='@CONFIG'!$C$65 -> P | D70: ='@CONFIG'!$D$65 -> pédagogique | AK70: =COUNTIF(E70:AI70,"m") -> 0 | AL70: =COUNTIF(E70:AI70,"CSS") -> 0 | AM70: =COUNTIF(E70:AI70,"MP") -> 0 | AN70: =COUNTIF(E70:AI70,"CL") -> 0 | AO70: =COUNTIF(E70:AI70,"ATMP") -> 0 | AP70: =COUNTIF(E70:AI70,"EM") -> 0 | AQ70: =COUNTIF(E70:AI70,"CE") -> 0 | AR70: =SUM(AK70:AQ70) -> 0
B71: =+'@CONFIG'!$B$66 -> ROUSCHOP | C71: ='@CONFIG'!$C$66 -> O | D71: ='@CONFIG'!$D$66 -> pédagogique | AK71: =COUNTIF(E71:AI71,"m") -> 0 | AL71: =COUNTIF(E71:AI71,"CSS") -> 0 | AM71: =COUNTIF(E71:AI71,"MP") -> 0 | AN71: =COUNTIF(E71:AI71,"CL") -> 0 | AO71: =COUNTIF(E71:AI71,"ATMP") -> 0 | AP71: =COUNTIF(E71:AI71,"EM") -> 0 | AQ71: =COUNTIF(E71:AI71,"CE") -> 0 | AR71: =SUM(AK71:AQ71) -> 0
B72: =+'@CONFIG'!$B$67 -> SCIOT | C72: ='@CONFIG'!$C$67 -> L | D72: ='@CONFIG'!$D$67 -> éducatif | AK72: =COUNTIF(E72:AI72,"m") -> 0 | AL72: =COUNTIF(E72:AI72,"CSS") -> 0 | AM72: =COUNTIF(E72:AI72,"MP") -> 0 | AN72: =COUNTIF(E72:AI72,"CL") -> 0 | AO72: =COUNTIF(E72:AI72,"ATMP") -> 0 | AP72: =COUNTIF(E72:AI72,"EM") -> 0 | AQ72: =COUNTIF(E72:AI72,"CE") -> 0 | AR72: =SUM(AK72:AQ72) -> 0
B73: =+'@CONFIG'!$B$68 -> VALLEE | C73: ='@CONFIG'!$C$68 -> I | D73: ='@CONFIG'!$D$68 -> éducatif | AK73: =COUNTIF(E73:AI73,"m") -> 0 | AL73: =COUNTIF(E73:AI73,"CSS") -> 0 | AM73: =COUNTIF(E73:AI73,"MP") -> 0 | AN73: =COUNTIF(E73:AI73,"CL") -> 0 | AO73: =COUNTIF(E73:AI73,"ATMP") -> 0 | AP73: =COUNTIF(E73:AI73,"EM") -> 0 | AQ73: =COUNTIF(E73:AI73,"CE") -> 0 | AR73: =SUM(AK73:AQ73) -> 0
B74: =+'@CONFIG'!$B$69 -> VAUTIER | C74: ='@CONFIG'!$C$69 -> E | D74: ='@CONFIG'!$D$69 -> thérapeutique | AK74: =COUNTIF(E74:AI74,"m") -> 0 | AL74: =COUNTIF(E74:AI74,"CSS") -> 0 | AM74: =COUNTIF(E74:AI74,"MP") -> 0 | AN74: =COUNTIF(E74:AI74,"CL") -> 0 | AO74: =COUNTIF(E74:AI74,"ATMP") -> 0 | AP74: =COUNTIF(E74:AI74,"EM") -> 0 | AQ74: =COUNTIF(E74:AI74,"CE") -> 0 | AR74: =SUM(AK74:AQ74) -> 0
B75: =+'@CONFIG'!$B$70 -> WALTISPURGER | C75: ='@CONFIG'!$C$70 -> V | D75: ='@CONFIG'!$D$70 -> éducatif | AH75: ATMP | AI75: ATMP | AK75: =COUNTIF(E75:AI75,"m") -> 0 | AL75: =COUNTIF(E75:AI75,"CSS") -> 0 | AM75: =COUNTIF(E75:AI75,"MP") -> 0 | AN75: =COUNTIF(E75:AI75,"CL") -> 0 | AO75: =COUNTIF(E75:AI75,"ATMP") -> 2 | AP75: =COUNTIF(E75:AI75,"EM") -> 0 | AQ75: =COUNTIF(E75:AI75,"CE") -> 0 | AR75: =SUM(AK75:AQ75) -> 2
B76: =+'@CONFIG'!$B$71 -> WALTISPURGER | C76: ='@CONFIG'!$C$71 -> N | D76: ='@CONFIG'!$D$71 -> service généraux | AK76: =COUNTIF(E76:AI76,"m") -> 0 | AL76: =COUNTIF(E76:AI76,"CSS") -> 0 | AM76: =COUNTIF(E76:AI76,"MP") -> 0 | AN76: =COUNTIF(E76:AI76,"CL") -> 0 | AO76: =COUNTIF(E76:AI76,"ATMP") -> 0 | AP76: =COUNTIF(E76:AI76,"EM") -> 0 | AQ76: =COUNTIF(E76:AI76,"CE") -> 0 | AR76: =SUM(AK76:AQ76) -> 0
B77: =+'@CONFIG'!$B$72 -> 0 | C77: ='@CONFIG'!$C$72 -> 0 | D77: ='@CONFIG'!$D$72 -> 0 | AK77: =COUNTIF(E77:AI77,"m") -> 0 | AL77: =COUNTIF(E77:AI77,"CSS") -> 0 | AM77: =COUNTIF(E77:AI77,"MP") -> 0 | AN77: =COUNTIF(E77:AI77,"CL") -> 0 | AO77: =COUNTIF(E77:AI77,"ATMP") -> 0 | AP77: =COUNTIF(E77:AI77,"EM") -> 0 | AQ77: =COUNTIF(E77:AI77,"CE") -> 0 | AR77: =SUM(AK77:AQ77) -> 0
B78: =+'@CONFIG'!$B$73 -> 0 | C78: ='@CONFIG'!$C$73 -> 0 | D78: ='@CONFIG'!$D$73 -> 0 | AK78: =COUNTIF(E78:AI78,"m") -> 0 | AL78: =COUNTIF(E78:AI78,"CSS") -> 0 | AM78: =COUNTIF(E78:AI78,"MP") -> 0 | AN78: =COUNTIF(E78:AI78,"CL") -> 0 | AO78: =COUNTIF(E78:AI78,"ATMP") -> 0 | AP78: =COUNTIF(E78:AI78,"EM") -> 0 | AQ78: =COUNTIF(E78:AI78,"CE") -> 0 | AR78: =SUM(AK78:AQ78) -> 0
B79: =+'@CONFIG'!$B$74 -> 0 | C79: ='@CONFIG'!$C$74 -> 0 | D79: ='@CONFIG'!$D$74 -> 0 | AK79: =COUNTIF(E79:AI79,"m") -> 0 | AL79: =COUNTIF(E79:AI79,"CSS") -> 0 | AM79: =COUNTIF(E79:AI79,"MP") -> 0 | AN79: =COUNTIF(E79:AI79,"CL") -> 0 | AO79: =COUNTIF(E79:AI79,"ATMP") -> 0 | AP79: =COUNTIF(E79:AI79,"EM") -> 0 | AQ79: =COUNTIF(E79:AI79,"CE") -> 0 | AR79: =SUM(AK79:AQ79) -> 0
B80: =+'@CONFIG'!$B$75 -> 0 | C80: ='@CONFIG'!$C$75 -> 0 | D80: ='@CONFIG'!$D$75 -> 0 | AK80: =COUNTIF(E80:AI80,"m") -> 0 | AL80: =COUNTIF(E80:AI80,"CSS") -> 0 | AM80: =COUNTIF(E80:AI80,"MP") -> 0 | AN80: =COUNTIF(E80:AI80,"CL") -> 0 | AO80: =COUNTIF(E80:AI80,"ATMP") -> 0 | AP80: =COUNTIF(E80:AI80,"EM") -> 0 | AQ80: =COUNTIF(E80:AI80,"CE") -> 0 | AR80: =SUM(AK80:AQ80) -> 0
B81: =+'@CONFIG'!$B$76 -> 0 | C81: ='@CONFIG'!$C$76 -> 0 | D81: ='@CONFIG'!$D$76 -> 0 | AK81: =COUNTIF(E81:AI81,"m") -> 0 | AL81: =COUNTIF(E81:AI81,"CSS") -> 0 | AM81: =COUNTIF(E81:AI81,"MP") -> 0 | AN81: =COUNTIF(E81:AI81,"CL") -> 0 | AO81: =COUNTIF(E81:AI81,"ATMP") -> 0 | AP81: =COUNTIF(E81:AI81,"EM") -> 0 | AQ81: =COUNTIF(E81:AI81,"CE") -> 0 | AR81: =SUM(AK81:AQ81) -> 0
B82: =+'@CONFIG'!$B$77 -> 0 | C82: ='@CONFIG'!$C$77 -> 0 | D82: ='@CONFIG'!$D$77 -> 0 | AK82: =COUNTIF(E82:AI82,"m") -> 0 | AL82: =COUNTIF(E82:AI82,"CSS") -> 0 | AM82: =COUNTIF(E82:AI82,"MP") -> 0 | AN82: =COUNTIF(E82:AI82,"CL") -> 0 | AO82: =COUNTIF(E82:AI82,"ATMP") -> 0 | AP82: =COUNTIF(E82:AI82,"EM") -> 0 | AQ82: =COUNTIF(E82:AI82,"CE") -> 0 | AR82: =SUM(AK82:AQ82) -> 0
B83: =+'@CONFIG'!$B$78 -> 0 | C83: ='@CONFIG'!$C$78 -> 0 | D83: ='@CONFIG'!$D$78 -> 0 | AK83: =COUNTIF(E83:AI83,"m") -> 0 | AL83: =COUNTIF(E83:AI83,"CSS") -> 0 | AM83: =COUNTIF(E83:AI83,"MP") -> 0 | AN83: =COUNTIF(E83:AI83,"CL") -> 0 | AO83: =COUNTIF(E83:AI83,"ATMP") -> 0 | AP83: =COUNTIF(E83:AI83,"EM") -> 0 | AQ83: =COUNTIF(E83:AI83,"CE") -> 0 | AR83: =SUM(AK83:AQ83) -> 0
B84: =+'@CONFIG'!$B$79 -> 0 | C84: ='@CONFIG'!$C$79 -> 0 | D84: ='@CONFIG'!$D$79 -> 0 | AK84: =COUNTIF(E84:AI84,"m") -> 0 | AL84: =COUNTIF(E84:AI84,"CSS") -> 0 | AM84: =COUNTIF(E84:AI84,"MP") -> 0 | AN84: =COUNTIF(E84:AI84,"CL") -> 0 | AO84: =COUNTIF(E84:AI84,"ATMP") -> 0 | AP84: =COUNTIF(E84:AI84,"EM") -> 0 | AQ84: =COUNTIF(E84:AI84,"CE") -> 0 | AR84: =SUM(AK84:AQ84) -> 0
B85: =+'@CONFIG'!$B$80 -> 0 | C85: ='@CONFIG'!$C$80 -> 0 | D85: ='@CONFIG'!$D$80 -> 0 | AK85: =COUNTIF(E85:AI85,"m") -> 0 | AL85: =COUNTIF(E85:AI85,"CSS") -> 0 | AM85: =COUNTIF(E85:AI85,"MP") -> 0 | AN85: =COUNTIF(E85:AI85,"CL") -> 0 | AO85: =COUNTIF(E85:AI85,"ATMP") -> 0 | AP85: =COUNTIF(E85:AI85,"EM") -> 0 | AQ85: =COUNTIF(E85:AI85,"CE") -> 0 | AR85: =SUM(AK85:AQ85) -> 0
B86: =+'@CONFIG'!$B$81 -> 0 | C86: ='@CONFIG'!$C$81 -> 0 | D86: ='@CONFIG'!$D$81 -> 0 | AK86: =COUNTIF(E86:AI86,"m") -> 0 | AL86: =COUNTIF(E86:AI86,"CSS") -> 0 | AM86: =COUNTIF(E86:AI86,"MP") -> 0 | AN86: =COUNTIF(E86:AI86,"CL") -> 0 | AO86: =COUNTIF(E86:AI86,"ATMP") -> 0 | AP86: =COUNTIF(E86:AI86,"EM") -> 0 | AQ86: =COUNTIF(E86:AI86,"CE") -> 0 | AR86: =SUM(AK86:AQ86) -> 0
B87: =+'@CONFIG'!$B$82 -> 0 | C87: ='@CONFIG'!$C$82 -> 0 | D87: ='@CONFIG'!$D$82 -> 0 | AK87: =COUNTIF(E87:AI87,"m") -> 0 | AL87: =COUNTIF(E87:AI87,"CSS") -> 0 | AM87: =COUNTIF(E87:AI87,"MP") -> 0 | AN87: =COUNTIF(E87:AI87,"CL") -> 0 | AO87: =COUNTIF(E87:AI87,"ATMP") -> 0 | AP87: =COUNTIF(E87:AI87,"EM") -> 0 | AQ87: =COUNTIF(E87:AI87,"CE") -> 0 | AR87: =SUM(AK87:AQ87) -> 0
B88: =+'@CONFIG'!$B$83 -> 0 | C88: ='@CONFIG'!$C$83 -> 0 | D88: ='@CONFIG'!$D$83 -> 0 | AK88: =COUNTIF(E88:AI88,"m") -> 0 | AL88: =COUNTIF(E88:AI88,"CSS") -> 0 | AM88: =COUNTIF(E88:AI88,"MP") -> 0 | AN88: =COUNTIF(E88:AI88,"CL") -> 0 | AO88: =COUNTIF(E88:AI88,"ATMP") -> 0 | AP88: =COUNTIF(E88:AI88,"EM") -> 0 | AQ88: =COUNTIF(E88:AI88,"CE") -> 0 | AR88: =SUM(AK88:AQ88) -> 0
B89: =+'@CONFIG'!$B$84 -> 0 | C89: ='@CONFIG'!$C$84 -> 0 | D89: ='@CONFIG'!$D$84 -> 0 | AK89: =COUNTIF(E89:AI89,"m") -> 0 | AL89: =COUNTIF(E89:AI89,"CSS") -> 0 | AM89: =COUNTIF(E89:AI89,"MP") -> 0 | AN89: =COUNTIF(E89:AI89,"CL") -> 0 | AO89: =COUNTIF(E89:AI89,"ATMP") -> 0 | AP89: =COUNTIF(E89:AI89,"EM") -> 0 | AQ89: =COUNTIF(E89:AI89,"CE") -> 0 | AR89: =SUM(AK89:AQ89) -> 0
B90: =+'@CONFIG'!$B$85 -> 0 | C90: ='@CONFIG'!$C$85 -> 0 | D90: ='@CONFIG'!$D$85 -> 0 | AK90: =COUNTIF(E90:AI90,"m") -> 0 | AL90: =COUNTIF(E90:AI90,"CSS") -> 0 | AM90: =COUNTIF(E90:AI90,"MP") -> 0 | AN90: =COUNTIF(E90:AI90,"CL") -> 0 | AO90: =COUNTIF(E90:AI90,"ATMP") -> 0 | AP90: =COUNTIF(E90:AI90,"EM") -> 0 | AQ90: =COUNTIF(E90:AI90,"CE") -> 0 | AR90: =SUM(AK90:AQ90) -> 0
B91: =+'@CONFIG'!$B$86 -> 0 | C91: ='@CONFIG'!$C$86 -> 0 | D91: ='@CONFIG'!$D$86 -> 0 | AK91: =COUNTIF(E91:AI91,"m") -> 0 | AL91: =COUNTIF(E91:AI91,"CSS") -> 0 | AM91: =COUNTIF(E91:AI91,"MP") -> 0 | AN91: =COUNTIF(E91:AI91,"CL") -> 0 | AO91: =COUNTIF(E91:AI91,"ATMP") -> 0 | AP91: =COUNTIF(E91:AI91,"EM") -> 0 | AQ91: =COUNTIF(E91:AI91,"CE") -> 0 | AR91: =SUM(AK91:AQ91) -> 0
B92: =+'@CONFIG'!$B$87 -> 0 | C92: ='@CONFIG'!$C$87 -> 0 | D92: ='@CONFIG'!$D$87 -> 0 | AK92: =COUNTIF(E92:AI92,"m") -> 0 | AL92: =COUNTIF(E92:AI92,"CSS") -> 0 | AM92: =COUNTIF(E92:AI92,"MP") -> 0 | AN92: =COUNTIF(E92:AI92,"CL") -> 0 | AO92: =COUNTIF(E92:AI92,"ATMP") -> 0 | AP92: =COUNTIF(E92:AI92,"EM") -> 0 | AQ92: =COUNTIF(E92:AI92,"CE") -> 0 | AR92: =SUM(AK92:AQ92) -> 0
B93: =IF('@CONFIG'!B76<>"",'@CONFIG'!B76,"") | C93: =IF('@CONFIG'!C76<>"",'@CONFIG'!C76,"")
B94: =IF('@CONFIG'!B77<>"",'@CONFIG'!B77,"") | C94: =IF('@CONFIG'!C77<>"",'@CONFIG'!C77,"")
B95: =IF('@CONFIG'!B78<>"",'@CONFIG'!B78,"") | C95: =IF('@CONFIG'!C78<>"",'@CONFIG'!C78,"")
B96: =IF('@CONFIG'!B79<>"",'@CONFIG'!B79,"") | C96: =IF('@CONFIG'!C79<>"",'@CONFIG'!C79,"")
B97: =IF('@CONFIG'!B80<>"",'@CONFIG'!B80,"") | C97: =IF('@CONFIG'!C80<>"",'@CONFIG'!C80,"")
B98: =IF('@CONFIG'!B81<>"",'@CONFIG'!B81,"") | C98: =IF('@CONFIG'!C81<>"",'@CONFIG'!C81,"")
B99: =IF('@CONFIG'!B82<>"",'@CONFIG'!B82,"") | C99: =IF('@CONFIG'!C82<>"",'@CONFIG'!C82,"")
B100: =IF('@CONFIG'!B83<>"",'@CONFIG'!B83,"") | C100: =IF('@CONFIG'!C83<>"",'@CONFIG'!C83,"")
...

Sheet AVRIL
B1: ='@CONFIG'!F6 -> 45017
B2: ='@CONFIG'!G6 -> 45046
E3: =B1 -> 45017 | F3: =E3+1 -> 45018 | G3: =F3+1 -> 45019 | H3: =G3+1 -> 45020 | I3: =H3+1 -> 45021 | J3: =I3+1 -> 45022 | K3: =J3+1 -> 45023 | L3: =K3+1 -> 45024 | M3: =L3+1 -> 45025 | ... AI3: =AH3+1 -> 45047
A4: AVRIL
E5: =DAY(E3) -> 1 | F5: =DAY(F3) -> 2 | G5: =DAY(G3) -> 3 | H5: =DAY(H3) -> 4 | I5: =DAY(I3) -> 5 | J5: =DAY(J3) -> 6 | K5: =DAY(K3) -> 7 | L5: =DAY(L3) -> 8 | ... AI5: =DAY(AI3) -> 1 | AK5: M | AL5: CSS | AM5: MP | AN5: CL | AO5: ATMP | AP5: EM | AQ5: CE
B6: NOM | C6: PRENOM | D6: CAT PRO | E6: =WEEKDAY(E3) -> 7 | F6: =WEEKDAY(F3) -> 1 | G6: =WEEKDAY(G3) -> 2 | H6: =WEEKDAY(H3) -> 3 | I6: =WEEKDAY(I3) -> 4 | J6: =WEEKDAY(J3) -> 5 | K6: =WEEKDAY(K3) -> 6 | L6: =WEEKDAY(L3) -> 7 | ... AI6: =WEEKDAY(AI3) -> 2 | AK6: MALADIE | AL6: CONGES SANS SOLDES | AM6: MATERNITE/PATERNITE | AN6: CONGES LONGUE MALADIE/LONGUE DUREE | AO6: ACCIDENT DU W / MALADIE PRO | AP6: ENFANT MALADE | AQ6: CONGES EXCEPTIONNELS
B7: =+'@CONFIG'!$B$2 -> ANDRE | C7: ='@CONFIG'!$C$2 -> F | D7: ='@CONFIG'!$D$2 -> pédagogique | AK7: =COUNTIF(E7:AI7,"m") -> 0 | AL7: =COUNTIF(E7:AI7,"CSS") -> 0 | AM7: =COUNTIF(E7:AI7,"MP") -> 0 | AN7: =COUNTIF(E7:AI7,"CL") -> 0 | AO7: =COUNTIF(E7:AI7,"ATMP") -> 0 | AP7: =COUNTIF(E7:AI7,"EM") -> 0 | AQ7: =COUNTIF(E7:AI7,"CE") -> 0 | AR7: =SUM(AK7:AQ7) -> 0
B8: =+'@CONFIG'!$B$3 -> BERNARD | C8: ='@CONFIG'!$C$3 -> G | D8: ='@CONFIG'!$D$3 -> éducatif | AK8: =COUNTIF(E8:AI8,"m") -> 0 | AL8: =COUNTIF(E8:AI8,"CSS") -> 0 | AM8: =COUNTIF(E8:AI8,"MP") -> 0 | AN8: =COUNTIF(E8:AI8,"CL") -> 0 | AO8: =COUNTIF(E8:AI8,"ATMP") -> 0 | AP8: =COUNTIF(E8:AI8,"EM") -> 0 | AQ8: =COUNTIF(E8:AI8,"CE") -> 0 | AR8: =SUM(AK8:AQ8) -> 0
B9: =+'@CONFIG'!$B$4 -> BERNARD | C9: ='@CONFIG'!$C$4 -> T | D9: ='@CONFIG'!$D$4 -> service administratif | AK9: =COUNTIF(E9:AI9,"m") -> 0 | AL9: =COUNTIF(E9:AI9,"CSS") -> 0 | AM9: =COUNTIF(E9:AI9,"MP") -> 0 | AN9: =COUNTIF(E9:AI9,"CL") -> 0 | AO9: =COUNTIF(E9:AI9,"ATMP") -> 0 | AP9: =COUNTIF(E9:AI9,"EM") -> 0 | AQ9: =COUNTIF(E9:AI9,"CE") -> 0 | AR9: =SUM(AK9:AQ9) -> 0
B10: =+'@CONFIG'!$B$5 -> BOURDON | C10: ='@CONFIG'!$C$5 -> S | D10: ='@CONFIG'!$D$5 -> éducatif | AK10: =COUNTIF(E10:AI10,"m") -> 0 | AL10: =COUNTIF(E10:AI10,"CSS") -> 0 | AM10: =COUNTIF(E10:AI10,"MP") -> 0 | AN10: =COUNTIF(E10:AI10,"CL") -> 0 | AO10: =COUNTIF(E10:AI10,"ATMP") -> 0 | AP10: =COUNTIF(E10:AI10,"EM") -> 0 | AQ10: =COUNTIF(E10:AI10,"CE") -> 0 | AR10: =SUM(AK10:AQ10) -> 0
B11: =+'@CONFIG'!$B$6 -> BOURGA | C11: ='@CONFIG'!$C$6 -> B | D11: ='@CONFIG'!$D$6 -> éducatif | AK11: =COUNTIF(E11:AI11,"m") -> 0 | AL11: =COUNTIF(E11:AI11,"CSS") -> 0 | AM11: =COUNTIF(E11:AI11,"MP") -> 0 | AN11: =COUNTIF(E11:AI11,"CL") -> 0 | AO11: =COUNTIF(E11:AI11,"ATMP") -> 0 | AP11: =COUNTIF(E11:AI11,"EM") -> 0 | AQ11: =COUNTIF(E11:AI11,"CE") -> 0 | AR11: =SUM(AK11:AQ11) -> 0
B12: =+'@CONFIG'!$B$7 -> BRANCHUT | C12: ='@CONFIG'!$C$7 -> G | D12: ='@CONFIG'!$D$7 -> service administratif | AK12: =COUNTIF(E12:AI12,"m") -> 0 | AL12: =COUNTIF(E12:AI12,"CSS") -> 0 | AM12: =COUNTIF(E12:AI12,"MP") -> 0 | AN12: =COUNTIF(E12:AI12,"CL") -> 0 | AO12: =COUNTIF(E12:AI12,"ATMP") -> 0 | AP12: =COUNTIF(E12:AI12,"EM") -> 0 | AQ12: =COUNTIF(E12:AI12,"CE") -> 0 | AR12: =SUM(AK12:AQ12) -> 0
B13: =+'@CONFIG'!$B$8 -> BROUTIN | C13: ='@CONFIG'!$C$8 -> D | D13: ='@CONFIG'!$D$8 -> éducatif | AK13: =COUNTIF(E13:AI13,"m") -> 0 | AL13: =COUNTIF(E13:AI13,"CSS") -> 0 | AM13: =COUNTIF(E13:AI13,"MP") -> 0 | AN13: =COUNTIF(E13:AI13,"CL") -> 0 | AO13: =COUNTIF(E13:AI13,"ATMP") -> 0 | AP13: =COUNTIF(E13:AI13,"EM") -> 0 | AQ13: =COUNTIF(E13:AI13,"CE") -> 0 | AR13: =SUM(AK13:AQ13) -> 0
B14: =+'@CONFIG'!$B$9 -> CAGNEAUX | C14: ='@CONFIG'!$C$9 -> Z | D14: ='@CONFIG'!$D$9 -> service généraux | AK14: =COUNTIF(E14:AI14,"m") -> 0 | AL14: =COUNTIF(E14:AI14,"CSS") -> 0 | AM14: =COUNTIF(E14:AI14,"MP") -> 0 | AN14: =COUNTIF(E14:AI14,"CL") -> 0 | AO14: =COUNTIF(E14:AI14,"ATMP") -> 0 | AP14: =COUNTIF(E14:AI14,"EM") -> 0 | AQ14: =COUNTIF(E14:AI14,"CE") -> 0 | AR14: =SUM(AK14:AQ14) -> 0
B15: =+'@CONFIG'!$B$10 -> CAMPAGNOLO | C15: ='@CONFIG'!$C$10 -> F | D15: ='@CONFIG'!$D$10 -> éducatif | AK15: =COUNTIF(E15:AI15,"m") -> 0 | AL15: =COUNTIF(E15:AI15,"CSS") -> 0 | AM15: =COUNTIF(E15:AI15,"MP") -> 0 | AN15: =COUNTIF(E15:AI15,"CL") -> 0 | AO15: =COUNTIF(E15:AI15,"ATMP") -> 0 | AP15: =COUNTIF(E15:AI15,"EM") -> 0 | AQ15: =COUNTIF(E15:AI15,"CE") -> 0 | AR15: =SUM(AK15:AQ15) -> 0
B16: =+'@CONFIG'!$B$11 -> CANIAUX | C16: ='@CONFIG'!$C$11 -> H | D16: ='@CONFIG'!$D$11 -> service généraux | AK16: =COUNTIF(E16:AI16,"m") -> 0 | AL16: =COUNTIF(E16:AI16,"CSS") -> 0 | AM16: =COUNTIF(E16:AI16,"MP") -> 0 | AN16: =COUNTIF(E16:AI16,"CL") -> 0 | AO16: =COUNTIF(E16:AI16,"ATMP") -> 0 | AP16: =COUNTIF(E16:AI16,"EM") -> 0 | AQ16: =COUNTIF(E16:AI16,"CE") -> 0 | AR16: =SUM(AK16:AQ16) -> 0
B17: =+'@CONFIG'!$B$12 -> CATRIN | C17: ='@CONFIG'!$C$12 -> K | D17: ='@CONFIG'!$D$12 -> service généraux | AK17: =COUNTIF(E17:AI17,"m") -> 0 | AL17: =COUNTIF(E17:AI17,"CSS") -> 0 | AM17: =COUNTIF(E17:AI17,"MP") -> 0 | AN17: =COUNTIF(E17:AI17,"CL") -> 0 | AO17: =COUNTIF(E17:AI17,"ATMP") -> 0 | AP17: =COUNTIF(E17:AI17,"EM") -> 0 | AQ17: =COUNTIF(E17:AI17,"CE") -> 0 | AR17: =SUM(AK17:AQ17) -> 0
B18: =+'@CONFIG'!$B$13 -> COLMANT | C18: ='@CONFIG'!$C$13 -> E | D18: ='@CONFIG'!$D$13 -> thérapeutique | AK18: =COUNTIF(E18:AI18,"m") -> 0 | AL18: =COUNTIF(E18:AI18,"CSS") -> 0 | AM18: =COUNTIF(E18:AI18,"MP") -> 0 | AN18: =COUNTIF(E18:AI18,"CL") -> 0 | AO18: =COUNTIF(E18:AI18,"ATMP") -> 0 | AP18: =COUNTIF(E18:AI18,"EM") -> 0 | AQ18: =COUNTIF(E18:AI18,"CE") -> 0 | AR18: =SUM(AK18:AQ18) -> 0
B19: =+'@CONFIG'!$B$14 -> DA COSTA | C19: ='@CONFIG'!$C$14 -> Z | D19: ='@CONFIG'!$D$14 -> éducatif | AK19: =COUNTIF(E19:AI19,"m") -> 0 | AL19: =COUNTIF(E19:AI19,"CSS") -> 0 | AM19: =COUNTIF(E19:AI19,"MP") -> 0 | AN19: =COUNTIF(E19:AI19,"CL") -> 0 | AO19: =COUNTIF(E19:AI19,"ATMP") -> 0 | AP19: =COUNTIF(E19:AI19,"EM") -> 0 | AQ19: =COUNTIF(E19:AI19,"CE") -> 0 | AR19: =SUM(AK19:AQ19) -> 0
B20: =+'@CONFIG'!$B$15 -> DANDUMONT | C20: ='@CONFIG'!$C$15 -> S | D20: ='@CONFIG'!$D$15 -> direction | AK20: =COUNTIF(E20:AI20,"m") -> 0 | AL20: =COUNTIF(E20:AI20,"CSS") -> 0 | AM20: =COUNTIF(E20:AI20,"MP") -> 0 | AN20: =COUNTIF(E20:AI20,"CL") -> 0 | AO20: =COUNTIF(E20:AI20,"ATMP") -> 0 | AP20: =COUNTIF(E20:AI20,"EM") -> 0 | AQ20: =COUNTIF(E20:AI20,"CE") -> 0 | AR20: =SUM(AK20:AQ20) -> 0
B21: =+'@CONFIG'!$B$16 -> DELEBOIS | C21: ='@CONFIG'!$C$16 -> Z | D21: ='@CONFIG'!$D$16 -> médical | AK21: =COUNTIF(E21:AI21,"m") -> 0 | AL21: =COUNTIF(E21:AI21,"CSS") -> 0 | AM21: =COUNTIF(E21:AI21,"MP") -> 0 | AN21: =COUNTIF(E21:AI21,"CL") -> 0 | AO21: =COUNTIF(E21:AI21,"ATMP") -> 0 | AP21: =COUNTIF(E21:AI21,"EM") -> 0 | AQ21: =COUNTIF(E21:AI21,"CE") -> 0 | AR21: =SUM(AK21:AQ21) -> 0
B22: =+'@CONFIG'!$B$17 -> DELHAYE | C22: ='@CONFIG'!$C$17 -> V | D22: ='@CONFIG'!$D$17 -> éducatif | AK22: =COUNTIF(E22:AI22,"m") -> 0 | AL22: =COUNTIF(E22:AI22,"CSS") -> 0 | AM22: =COUNTIF(E22:AI22,"MP") -> 0 | AN22: =COUNTIF(E22:AI22,"CL") -> 0 | AO22: =COUNTIF(E22:AI22,"ATMP") -> 0 | AP22: =COUNTIF(E22:AI22,"EM") -> 0 | AQ22: =COUNTIF(E22:AI22,"CE") -> 0 | AR22: =SUM(AK22:AQ22) -> 0
B23: =+'@CONFIG'!$B$18 -> DELHAYE | C23: ='@CONFIG'!$C$18 -> Z | D23: ='@CONFIG'!$D$18 -> service généraux | AK23: =COUNTIF(E23:AI23,"m") -> 0 | AL23: =COUNTIF(E23:AI23,"CSS") -> 0 | AM23: =COUNTIF(E23:AI23,"MP") -> 0 | AN23: =COUNTIF(E23:AI23,"CL") -> 0 | AO23: =COUNTIF(E23:AI23,"ATMP") -> 0 | AP23: =COUNTIF(E23:AI23,"EM") -> 0 | AQ23: =COUNTIF(E23:AI23,"CE") -> 0 | AR23: =SUM(AK23:AQ23) -> 0
B24: =+'@CONFIG'!$B$19 -> DELMAS | C24: ='@CONFIG'!$C$19 -> A | D24: ='@CONFIG'!$D$19 -> thérapeutique | AK24: =COUNTIF(E24:AI24,"m") -> 0 | AL24: =COUNTIF(E24:AI24,"CSS") -> 0 | AM24: =COUNTIF(E24:AI24,"MP") -> 0 | AN24: =COUNTIF(E24:AI24,"CL") -> 0 | AO24: =COUNTIF(E24:AI24,"ATMP") -> 0 | AP24: =COUNTIF(E24:AI24,"EM") -> 0 | AQ24: =COUNTIF(E24:AI24,"CE") -> 0 | AR24: =SUM(AK24:AQ24) -> 0
B25: =+'@CONFIG'!$B$20 -> DEMANGECLAUDE | C25: ='@CONFIG'!$C$20 -> F | D25: ='@CONFIG'!$D$20 -> service généraux | AK25: =COUNTIF(E25:AI25,"m") -> 0 | AL25: =COUNTIF(E25:AI25,"CSS") -> 0 | AM25: =COUNTIF(E25:AI25,"MP") -> 0 | AN25: =COUNTIF(E25:AI25,"CL") -> 0 | AO25: =COUNTIF(E25:AI25,"ATMP") -> 0 | AP25: =COUNTIF(E25:AI25,"EM") -> 0 | AQ25: =COUNTIF(E25:AI25,"CE") -> 0 | AR25: =SUM(AK25:AQ25) -> 0
B26: =+'@CONFIG'!$B$21 -> DESTREE | C26: ='@CONFIG'!$C$21 -> Z | D26: ='@CONFIG'!$D$21 -> éducatif | AK26: =COUNTIF(E26:AI26,"m") -> 0 | AL26: =COUNTIF(E26:AI26,"CSS") -> 0 | AM26: =COUNTIF(E26:AI26,"MP") -> 0 | AN26: =COUNTIF(E26:AI26,"CL") -> 0 | AO26: =COUNTIF(E26:AI26,"ATMP") -> 0 | AP26: =COUNTIF(E26:AI26,"EM") -> 0 | AQ26: =COUNTIF(E26:AI26,"CE") -> 0 | AR26: =SUM(AK26:AQ26) -> 0
B27: =+'@CONFIG'!$B$22 -> DUCARMES | C27: ='@CONFIG'!$C$22 -> R | D27: ='@CONFIG'!$D$22 -> éducatif | AK27: =COUNTIF(E27:AI27,"m") -> 0 | AL27: =COUNTIF(E27:AI27,"CSS") -> 0 | AM27: =COUNTIF(E27:AI27,"MP") -> 0 | AN27: =COUNTIF(E27:AI27,"CL") -> 0 | AO27: =COUNTIF(E27:AI27,"ATMP") -> 0 | AP27: =COUNTIF(E27:AI27,"EM") -> 0 | AQ27: =COUNTIF(E27:AI27,"CE") -> 0 | AR27: =SUM(AK27:AQ27) -> 0
B28: =+'@CONFIG'!B23 -> DUCARMES | C28: ='@CONFIG'!$C$23 -> F | D28: ='@CONFIG'!$D$23 -> direction | AK28: =COUNTIF(E28:AI28,"m") -> 0 | AL28: =COUNTIF(E28:AI28,"CSS") -> 0 | AM28: =COUNTIF(E28:AI28,"MP") -> 0 | AN28: =COUNTIF(E28:AI28,"CL") -> 0 | AO28: =COUNTIF(E28:AI28,"ATMP") -> 0 | AP28: =COUNTIF(E28:AI28,"EM") -> 0 | AQ28: =COUNTIF(E28:AI28,"CE") -> 0 | AR28: =SUM(AK28:AQ28) -> 0
B29: =+'@CONFIG'!$B$24 -> DUGARD | C29: ='@CONFIG'!$C$24 -> F | D29: ='@CONFIG'!$D$24 -> éducatif | AK29: =COUNTIF(E29:AI29,"m") -> 0 | AL29: =COUNTIF(E29:AI29,"CSS") -> 0 | AM29: =COUNTIF(E29:AI29,"MP") -> 0 | AN29: =COUNTIF(E29:AI29,"CL") -> 0 | AO29: =COUNTIF(E29:AI29,"ATMP") -> 0 | AP29: =COUNTIF(E29:AI29,"EM") -> 0 | AQ29: =COUNTIF(E29:AI29,"CE") -> 0 | AR29: =SUM(AK29:AQ29) -> 0
B30: =+'@CONFIG'!$B$25 -> FORTEMPS | C30: ='@CONFIG'!$C$25 -> S | D30: ='@CONFIG'!$D$25 -> thérapeutique | AK30: =COUNTIF(E30:AI30,"m") -> 0 | AL30: =COUNTIF(E30:AI30,"CSS") -> 0 | AM30: =COUNTIF(E30:AI30,"MP") -> 0 | AN30: =COUNTIF(E30:AI30,"CL") -> 0 | AO30: =COUNTIF(E30:AI30,"ATMP") -> 0 | AP30: =COUNTIF(E30:AI30,"EM") -> 0 | AQ30: =COUNTIF(E30:AI30,"CE") -> 0 | AR30: =SUM(AK30:AQ30) -> 0
B31: =+'@CONFIG'!$B$26 -> FOUREUR | C31: ='@CONFIG'!$C$26 -> A | D31: ='@CONFIG'!$D$26 -> thérapeutique | AK31: =COUNTIF(E31:AI31,"m") -> 0 | AL31: =COUNTIF(E31:AI31,"CSS") -> 0 | AM31: =COUNTIF(E31:AI31,"MP") -> 0 | AN31: =COUNTIF(E31:AI31,"CL") -> 0 | AO31: =COUNTIF(E31:AI31,"ATMP") -> 0 | AP31: =COUNTIF(E31:AI31,"EM") -> 0 | AQ31: =COUNTIF(E31:AI31,"CE") -> 0 | AR31: =SUM(AK31:AQ31) -> 0
B32: =+'@CONFIG'!$B$27 -> GABORIT | C32: ='@CONFIG'!$C$27 -> D | D32: ='@CONFIG'!$D$27 -> thérapeutique | AK32: =COUNTIF(E32:AI32,"m") -> 0 | AL32: =COUNTIF(E32:AI32,"CSS") -> 0 | AM32: =COUNTIF(E32:AI32,"MP") -> 0 | AN32: =COUNTIF(E32:AI32,"CL") -> 0 | AO32: =COUNTIF(E32:AI32,"ATMP") -> 0 | AP32: =COUNTIF(E32:AI32,"EM") -> 0 | AQ32: =COUNTIF(E32:AI32,"CE") -> 0 | AR32: =SUM(AK32:AQ32) -> 0
B33: =+'@CONFIG'!$B$28 -> GODET | C33: ='@CONFIG'!$C$28 -> G | D33: ='@CONFIG'!$D$28 -> éducatif | AK33: =COUNTIF(E33:AI33,"m") -> 0 | AL33: =COUNTIF(E33:AI33,"CSS") -> 0 | AM33: =COUNTIF(E33:AI33,"MP") -> 0 | AN33: =COUNTIF(E33:AI33,"CL") -> 0 | AO33: =COUNTIF(E33:AI33,"ATMP") -> 0 | AP33: =COUNTIF(E33:AI33,"EM") -> 0 | AQ33: =COUNTIF(E33:AI33,"CE") -> 0 | AR33: =SUM(AK33:AQ33) -> 0
B34: =+'@CONFIG'!$B$29 -> GOMES | C34: ='@CONFIG'!$C$29 -> B | D34: ='@CONFIG'!$D$29 -> service généraux | AK34: =COUNTIF(E34:AI34,"m") -> 0 | AL34: =COUNTIF(E34:AI34,"CSS") -> 0 | AM34: =COUNTIF(E34:AI34,"MP") -> 0 | AN34: =COUNTIF(E34:AI34,"CL") -> 0 | AO34: =COUNTIF(E34:AI34,"ATMP") -> 0 | AP34: =COUNTIF(E34:AI34,"EM") -> 0 | AQ34: =COUNTIF(E34:AI34,"CE") -> 0 | AR34: =SUM(AK34:AQ34) -> 0
B35: =+'@CONFIG'!$B$30 -> GONCALVES | C35: ='@CONFIG'!$C$30 -> L | D35: ='@CONFIG'!$D$30 -> éducatif | AK35: =COUNTIF(E35:AI35,"m") -> 0 | AL35: =COUNTIF(E35:AI35,"CSS") -> 0 | AM35: =COUNTIF(E35:AI35,"MP") -> 0 | AN35: =COUNTIF(E35:AI35,"CL") -> 0 | AO35: =COUNTIF(E35:AI35,"ATMP") -> 0 | AP35: =COUNTIF(E35:AI35,"EM") -> 0 | AQ35: =COUNTIF(E35:AI35,"CE") -> 0 | AR35: =SUM(AK35:AQ35) -> 0
B36: =+'@CONFIG'!$B$31 -> GUERIN | C36: ='@CONFIG'!$C$31 -> O | D36: ='@CONFIG'!$D$31 -> pédagogique | AK36: =COUNTIF(E36:AI36,"m") -> 0 | AL36: =COUNTIF(E36:AI36,"CSS") -> 0 | AM36: =COUNTIF(E36:AI36,"MP") -> 0 | AN36: =COUNTIF(E36:AI36,"CL") -> 0 | AO36: =COUNTIF(E36:AI36,"ATMP") -> 0 | AP36: =COUNTIF(E36:AI36,"EM") -> 0 | AQ36: =COUNTIF(E36:AI36,"CE") -> 0 | AR36: =SUM(AK36:AQ36) -> 0
B37: =+'@CONFIG'!$B$32 -> HELIN | C37: ='@CONFIG'!$C$32 -> U | D37: ='@CONFIG'!$D$32 -> service généraux | AK37: =COUNTIF(E37:AI37,"m") -> 0 | AL37: =COUNTIF(E37:AI37,"CSS") -> 0 | AM37: =COUNTIF(E37:AI37,"MP") -> 0 | AN37: =COUNTIF(E37:AI37,"CL") -> 0 | AO37: =COUNTIF(E37:AI37,"ATMP") -> 0 | AP37: =COUNTIF(E37:AI37,"EM") -> 0 | AQ37: =COUNTIF(E37:AI37,"CE") -> 0 | AR37: =SUM(AK37:AQ37) -> 0
B38: =+'@CONFIG'!$B$33 -> HELIN | C38: ='@CONFIG'!$C$33 -> T | D38: ='@CONFIG'!$D$33 -> thérapeutique | R38: M | U38: M | V38: M | W38: M | X38: M | Y38: M | AK38: =COUNTIF(E38:AI38,"m") -> 6 | AL38: =COUNTIF(E38:AI38,"CSS") -> 0 | AM38: =COUNTIF(E38:AI38,"MP") -> 0 | AN38: =COUNTIF(E38:AI38,"CL") -> 0 | AO38: =COUNTIF(E38:AI38,"ATMP") -> 0 | AP38: =COUNTIF(E38:AI38,"EM") -> 0 | AQ38: =COUNTIF(E38:AI38,"CE") -> 0 | AR38: =SUM(AK38:AQ38) -> 6
B39: =+'@CONFIG'!$B$34 -> HENRARD | C39: ='@CONFIG'!$C$34 -> E | D39: ='@CONFIG'!$D$34 -> service administratif | AK39: =COUNTIF(E39:AI39,"m") -> 0 | AL39: =COUNTIF(E39:AI39,"CSS") -> 0 | AM39: =COUNTIF(E39:AI39,"MP") -> 0 | AN39: =COUNTIF(E39:AI39,"CL") -> 0 | AO39: =COUNTIF(E39:AI39,"ATMP") -> 0 | AP39: =COUNTIF(E39:AI39,"EM") -> 0 | AQ39: =COUNTIF(E39:AI39,"CE") -> 0 | AR39: =SUM(AK39:AQ39) -> 0
B40: =+'@CONFIG'!$B$35 -> HINS | C40: ='@CONFIG'!$C$35 -> Z | D40: ='@CONFIG'!$D$35 -> thérapeutique | AK40: =COUNTIF(E40:AI40,"m") -> 0 | AL40: =COUNTIF(E40:AI40,"CSS") -> 0 | AM40: =COUNTIF(E40:AI40,"MP") -> 0 | AN40: =COUNTIF(E40:AI40,"CL") -> 0 | AO40: =COUNTIF(E40:AI40,"ATMP") -> 0 | AP40: =COUNTIF(E40:AI40,"EM") -> 0 | AQ40: =COUNTIF(E40:AI40,"CE") -> 0 | AR40: =SUM(AK40:AQ40) -> 0
B41: =+'@CONFIG'!$B$36 -> HODY | C41: ='@CONFIG'!$C$36 -> A | D41: ='@CONFIG'!$D$36 -> éducatif | AK41: =COUNTIF(E41:AI41,"m") -> 0 | AL41: =COUNTIF(E41:AI41,"CSS") -> 0 | AM41: =COUNTIF(E41:AI41,"MP") -> 0 | AN41: =COUNTIF(E41:AI41,"CL") -> 0 | AO41: =COUNTIF(E41:AI41,"ATMP") -> 0 | AP41: =COUNTIF(E41:AI41,"EM") -> 0 | AQ41: =COUNTIF(E41:AI41,"CE") -> 0 | AR41: =SUM(AK41:AQ41) -> 0
B42: =+'@CONFIG'!$B$37 -> IGNACZINSKI | C42: ='@CONFIG'!$C$37 -> S | D42: ='@CONFIG'!$D$37 -> service généraux | AK42: =COUNTIF(E42:AI42,"m") -> 0 | AL42: =COUNTIF(E42:AI42,"CSS") -> 0 | AM42: =COUNTIF(E42:AI42,"MP") -> 0 | AN42: =COUNTIF(E42:AI42,"CL") -> 0 | AO42: =COUNTIF(E42:AI42,"ATMP") -> 0 | AP42: =COUNTIF(E42:AI42,"EM") -> 0 | AQ42: =COUNTIF(E42:AI42,"CE") -> 0 | AR42: =SUM(AK42:AQ42) -> 0
B43: =+'@CONFIG'!$B$38 -> JOUY | C43: ='@CONFIG'!$C$38 -> W | D43: ='@CONFIG'!$D$38 -> service administratif | AK43: =COUNTIF(E43:AI43,"m") -> 0 | AL43: =COUNTIF(E43:AI43,"CSS") -> 0 | AM43: =COUNTIF(E43:AI43,"MP") -> 0 | AN43: =COUNTIF(E43:AI43,"CL") -> 0 | AO43: =COUNTIF(E43:AI43,"ATMP") -> 0 | AP43: =COUNTIF(E43:AI43,"EM") -> 0 | AQ43: =COUNTIF(E43:AI43,"CE") -> 0 | AR43: =SUM(AK43:AQ43) -> 0
B44: =+'@CONFIG'!$B$39 -> KABADAYI | C44: ='@CONFIG'!$C$39 -> V | D44: ='@CONFIG'!$D$39 -> service administratif | AK44: =COUNTIF(E44:AI44,"m") -> 0 | AL44: =COUNTIF(E44:AI44,"CSS") -> 0 | AM44: =COUNTIF(E44:AI44,"MP") -> 0 | AN44: =COUNTIF(E44:AI44,"CL") -> 0 | AO44: =COUNTIF(E44:AI44,"ATMP") -> 0 | AP44: =COUNTIF(E44:AI44,"EM") -> 0 | AQ44: =COUNTIF(E44:AI44,"CE") -> 0 | AR44: =SUM(AK44:AQ44) -> 0
B45: =+'@CONFIG'!$B$40 -> LABERGRI | C45: ='@CONFIG'!$C$40 -> G | D45: ='@CONFIG'!$D$40 -> éducatif | AK45: =COUNTIF(E45:AI45,"m") -> 0 | AL45: =COUNTIF(E45:AI45,"CSS") -> 0 | AM45: =COUNTIF(E45:AI45,"MP") -> 0 | AN45: =COUNTIF(E45:AI45,"CL") -> 0 | AO45: =COUNTIF(E45:AI45,"ATMP") -> 0 | AP45: =COUNTIF(E45:AI45,"EM") -> 0 | AQ45: =COUNTIF(E45:AI45,"CE") -> 0 | AR45: =SUM(AK45:AQ45) -> 0
B46: =+'@CONFIG'!$B$41 -> LADAME | C46: ='@CONFIG'!$C$41 -> D | D46: ='@CONFIG'!$D$41 -> éducatif | AK46: =COUNTIF(E46:AI46,"m") -> 0 | AL46: =COUNTIF(E46:AI46,"CSS") -> 0 | AM46: =COUNTIF(E46:AI46,"MP") -> 0 | AN46: =COUNTIF(E46:AI46,"CL") -> 0 | AO46: =COUNTIF(E46:AI46,"ATMP") -> 0 | AP46: =COUNTIF(E46:AI46,"EM") -> 0 | AQ46: =COUNTIF(E46:AI46,"CE") -> 0 | AR46: =SUM(AK46:AQ46) -> 0
B47: =+'@CONFIG'!$B$42 -> LAMBERT | C47: ='@CONFIG'!$C$42 -> E | D47: ='@CONFIG'!$D$42 -> éducatif | AK47: =COUNTIF(E47:AI47,"m") -> 0 | AL47: =COUNTIF(E47:AI47,"CSS") -> 0 | AM47: =COUNTIF(E47:AI47,"MP") -> 0 | AN47: =COUNTIF(E47:AI47,"CL") -> 0 | AO47: =COUNTIF(E47:AI47,"ATMP") -> 0 | AP47: =COUNTIF(E47:AI47,"EM") -> 0 | AQ47: =COUNTIF(E47:AI47,"CE") -> 0 | AR47: =SUM(AK47:AQ47) -> 0
B48: =+'@CONFIG'!$B$43 -> LAPORTE | C48: ='@CONFIG'!$C$43 -> Z | D48: ='@CONFIG'!$D$43 -> éducatif | AK48: =COUNTIF(E48:AI48,"m") -> 0 | AL48: =COUNTIF(E48:AI48,"CSS") -> 0 | AM48: =COUNTIF(E48:AI48,"MP") -> 0 | AN48: =COUNTIF(E48:AI48,"CL") -> 0 | AO48: =COUNTIF(E48:AI48,"ATMP") -> 0 | AP48: =COUNTIF(E48:AI48,"EM") -> 0 | AQ48: =COUNTIF(E48:AI48,"CE") -> 0 | AR48: =SUM(AK48:AQ48) -> 0
B49: =+'@CONFIG'!$B$44 -> LARTISIEN | C49: ='@CONFIG'!$C$44 -> Q | D49: ='@CONFIG'!$D$44 -> pédagogique | AK49: =COUNTIF(E49:AI49,"m") -> 0 | AL49: =COUNTIF(E49:AI49,"CSS") -> 0 | AM49: =COUNTIF(E49:AI49,"MP") -> 0 | AN49: =COUNTIF(E49:AI49,"CL") -> 0 | AO49: =COUNTIF(E49:AI49,"ATMP") -> 0 | AP49: =COUNTIF(E49:AI49,"EM") -> 0 | AQ49: =COUNTIF(E49:AI49,"CE") -> 0 | AR49: =SUM(AK49:AQ49) -> 0
B50: =+'@CONFIG'!$B$45 -> LASSAUX | C50: ='@CONFIG'!$C$45 -> A | D50: ='@CONFIG'!$D$45 -> éducatif | G50: M | H50: M | I50: M | J50: M | K50: M | O50: M | P50: M | Q50: M | R50: M | U50: M | V50: M | W50: M | X50: M | Y50: M | AK50: =COUNTIF(E50:AI50,"m") -> 14 | AL50: =COUNTIF(E50:AI50,"CSS") -> 0 | AM50: =COUNTIF(E50:AI50,"MP") -> 0 | AN50: =COUNTIF(E50:AI50,"CL") -> 0 | AO50: =COUNTIF(E50:AI50,"ATMP") -> 0 | AP50: =COUNTIF(E50:AI50,"EM") -> 0 | AQ50: =COUNTIF(E50:AI50,"CE") -> 0 | AR50: =SUM(AK50:AQ50) -> 14
B51: =+'@CONFIG'!$B$46 -> LAURENT | C51: ='@CONFIG'!$C$46 -> S | D51: ='@CONFIG'!$D$46 -> éducatif | AK51: =COUNTIF(E51:AI51,"m") -> 0 | AL51: =COUNTIF(E51:AI51,"CSS") -> 0 | AM51: =COUNTIF(E51:AI51,"MP") -> 0 | AN51: =COUNTIF(E51:AI51,"CL") -> 0 | AO51: =COUNTIF(E51:AI51,"ATMP") -> 0 | AP51: =COUNTIF(E51:AI51,"EM") -> 0 | AQ51: =COUNTIF(E51:AI51,"CE") -> 0 | AR51: =SUM(AK51:AQ51) -> 0
B52: =+'@CONFIG'!$B$47 -> LAURENT | C52: ='@CONFIG'!$C$47 -> F | D52: ='@CONFIG'!$D$47 -> éducatif | AK52: =COUNTIF(E52:AI52,"m") -> 0 | AL52: =COUNTIF(E52:AI52,"CSS") -> 0 | AM52: =COUNTIF(E52:AI52,"MP") -> 0 | AN52: =COUNTIF(E52:AI52,"CL") -> 0 | AO52: =COUNTIF(E52:AI52,"ATMP") -> 0 | AP52: =COUNTIF(E52:AI52,"EM") -> 0 | AQ52: =COUNTIF(E52:AI52,"CE") -> 0 | AR52: =SUM(AK52:AQ52) -> 0
B53: =+'@CONFIG'!$B$48 -> LECORNET | C53: ='@CONFIG'!$C$48 -> F | D53: ='@CONFIG'!$D$48 -> éducatif | AK53: =COUNTIF(E53:AI53,"m") -> 0 | AL53: =COUNTIF(E53:AI53,"CSS") -> 0 | AM53: =COUNTIF(E53:AI53,"MP") -> 0 | AN53: =COUNTIF(E53:AI53,"CL") -> 0 | AO53: =COUNTIF(E53:AI53,"ATMP") -> 0 | AP53: =COUNTIF(E53:AI53,"EM") -> 0 | AQ53: =COUNTIF(E53:AI53,"CE") -> 0 | AR53: =SUM(AK53:AQ53) -> 0
B54: =+'@CONFIG'!$B$49 -> LEDOUBLE | C54: ='@CONFIG'!$C$49 -> G | D54: ='@CONFIG'!$D$49 -> éducatif | AK54: =COUNTIF(E54:AI54,"m") -> 0 | AL54: =COUNTIF(E54:AI54,"CSS") -> 0 | AM54: =COUNTIF(E54:AI54,"MP") -> 0 | AN54: =COUNTIF(E54:AI54,"CL") -> 0 | AO54: =COUNTIF(E54:AI54,"ATMP") -> 0 | AP54: =COUNTIF(E54:AI54,"EM") -> 0 | AQ54: =COUNTIF(E54:AI54,"CE") -> 0 | AR54: =SUM(AK54:AQ54) -> 0
B55: =+'@CONFIG'!$B$50 -> LEMOINE | C55: ='@CONFIG'!$C$50 -> E | D55: ='@CONFIG'!$D$50 -> pédagogique | AK55: =COUNTIF(E55:AI55,"m") -> 0 | AL55: =COUNTIF(E55:AI55,"CSS") -> 0 | AM55: =COUNTIF(E55:AI55,"MP") -> 0 | AN55: =COUNTIF(E55:AI55,"CL") -> 0 | AO55: =COUNTIF(E55:AI55,"ATMP") -> 0 | AP55: =COUNTIF(E55:AI55,"EM") -> 0 | AQ55: =COUNTIF(E55:AI55,"CE") -> 0 | AR55: =SUM(AK55:AQ55) -> 0
B56: =+'@CONFIG'!$B$51 -> MAGNIETTE | C56: ='@CONFIG'!$C$51 -> M | D56: ='@CONFIG'!$D$51 -> éducatif | AK56: =COUNTIF(E56:AI56,"m") -> 0 | AL56: =COUNTIF(E56:AI56,"CSS") -> 0 | AM56: =COUNTIF(E56:AI56,"MP") -> 0 | AN56: =COUNTIF(E56:AI56,"CL") -> 0 | AO56: =COUNTIF(E56:AI56,"ATMP") -> 0 | AP56: =COUNTIF(E56:AI56,"EM") -> 0 | AQ56: =COUNTIF(E56:AI56,"CE") -> 0 | AR56: =SUM(AK56:AQ56) -> 0
B57: =+'@CONFIG'!$B$52 -> MARCHAL | C57: ='@CONFIG'!$C$52 -> P | D57: ='@CONFIG'!$D$52 -> thérapeutique | Q57: CE | AK57: =COUNTIF(E57:AI57,"m") -> 0 | AL57: =COUNTIF(E57:AI57,"CSS") -> 0 | AM57: =COUNTIF(E57:AI57,"MP") -> 0 | AN57: =COUNTIF(E57:AI57,"CL") -> 0 | AO57: =COUNTIF(E57:AI57,"ATMP") -> 0 | AP57: =COUNTIF(E57:AI57,"EM") -> 0 | AQ57: =COUNTIF(E57:AI57,"CE") -> 1 | AR57: =SUM(AK57:AQ57) -> 1
B58: =+'@CONFIG'!$B$53 -> MASSART | C58: ='@CONFIG'!$C$53 -> A | D58: ='@CONFIG'!$D$53 -> éducatif | AK58: =COUNTIF(E58:AI58,"m") -> 0 | AL58: =COUNTIF(E58:AI58,"CSS") -> 0 | AM58: =COUNTIF(E58:AI58,"MP") -> 0 | AN58: =COUNTIF(E58:AI58,"CL") -> 0 | AO58: =COUNTIF(E58:AI58,"ATMP") -> 0 | AP58: =COUNTIF(E58:AI58,"EM") -> 0 | AQ58: =COUNTIF(E58:AI58,"CE") -> 0 | AR58: =SUM(AK58:AQ58) -> 0
B59: =+'@CONFIG'!$B$54 -> MEBARKI | C59: ='@CONFIG'!$C$54 -> S | D59: ='@CONFIG'!$D$54 -> éducatif | AK59: =COUNTIF(E59:AI59,"m") -> 0 | AL59: =COUNTIF(E59:AI59,"CSS") -> 0 | AM59: =COUNTIF(E59:AI59,"MP") -> 0 | AN59: =COUNTIF(E59:AI59,"CL") -> 0 | AO59: =COUNTIF(E59:AI59,"ATMP") -> 0 | AP59: =COUNTIF(E59:AI59,"EM") -> 0 | AQ59: =COUNTIF(E59:AI59,"CE") -> 0 | AR59: =SUM(AK59:AQ59) -> 0
B60: =+'@CONFIG'!$B$55 -> MONTALBO | C60: ='@CONFIG'!$C$55 -> A | D60: ='@CONFIG'!$D$55 -> thérapeutique | I60: M | J60: M | K60: M | AK60: =COUNTIF(E60:AI60,"m") -> 3 | AL60: =COUNTIF(E60:AI60,"CSS") -> 0 | AM60: =COUNTIF(E60:AI60,"MP") -> 0 | AN60: =COUNTIF(E60:AI60,"CL") -> 0 | AO60: =COUNTIF(E60:AI60,"ATMP") -> 0 | AP60: =COUNTIF(E60:AI60,"EM") -> 0 | AQ60: =COUNTIF(E60:AI60,"CE") -> 0 | AR60: =SUM(AK60:AQ60) -> 3
B61: =+'@CONFIG'!$B$56 -> PAMLARD | C61: ='@CONFIG'!$C$56 -> Z | D61: ='@CONFIG'!$D$56 -> éducatif | AK61: =COUNTIF(E61:AI61,"m") -> 0 | AL61: =COUNTIF(E61:AI61,"CSS") -> 0 | AM61: =COUNTIF(E61:AI61,"MP") -> 0 | AN61: =COUNTIF(E61:AI61,"CL") -> 0 | AO61: =COUNTIF(E61:AI61,"ATMP") -> 0 | AP61: =COUNTIF(E61:AI61,"EM") -> 0 | AQ61: =COUNTIF(E61:AI61,"CE") -> 0 | AR61: =SUM(AK61:AQ61) -> 0
B62: =+'@CONFIG'!$B$57 -> PARISELLE | C62: ='@CONFIG'!$C$57 -> W | D62: ='@CONFIG'!$D$57 -> éducatif | AK62: =COUNTIF(E62:AI62,"m") -> 0 | AL62: =COUNTIF(E62:AI62,"CSS") -> 0 | AM62: =COUNTIF(E62:AI62,"MP") -> 0 | AN62: =COUNTIF(E62:AI62,"CL") -> 0 | AO62: =COUNTIF(E62:AI62,"ATMP") -> 0 | AP62: =COUNTIF(E62:AI62,"EM") -> 0 | AQ62: =COUNTIF(E62:AI62,"CE") -> 0 | AR62: =SUM(AK62:AQ62) -> 0
B63: =+'@CONFIG'!$B$58 -> PARLIER | C63: ='@CONFIG'!$C$58 -> S | D63: ='@CONFIG'!$D$58 -> éducatif | AK63: =COUNTIF(E63:AI63,"m") -> 0 | AL63: =COUNTIF(E63:AI63,"CSS") -> 0 | AM63: =COUNTIF(E63:AI63,"MP") -> 0 | AN63: =COUNTIF(E63:AI63,"CL") -> 0 | AO63: =COUNTIF(E63:AI63,"ATMP") -> 0 | AP63: =COUNTIF(E63:AI63,"EM") -> 0 | AQ63: =COUNTIF(E63:AI63,"CE") -> 0 | AR63: =SUM(AK63:AQ63) -> 0
B64: =+'@CONFIG'!$B$59 -> PATOUREAUX | C64: ='@CONFIG'!$C$59 -> A | D64: ='@CONFIG'!$D$59 -> éducatif | G64: M | H64: M | I64: M | J64: M | K64: M | O64: M | P64: M | Q64: M | R64: M | U64: M | V64: M | W64: M | X64: M | Y64: M | AK64: =COUNTIF(E64:AI64,"m") -> 14 | AL64: =COUNTIF(E64:AI64,"CSS") -> 0 | AM64: =COUNTIF(E64:AI64,"MP") -> 0 | AN64: =COUNTIF(E64:AI64,"CL") -> 0 | AO64: =COUNTIF(E64:AI64,"ATMP") -> 0 | AP64: =COUNTIF(E64:AI64,"EM") -> 0 | AQ64: =COUNTIF(E64:AI64,"CE") -> 0 | AR64: =SUM(AK64:AQ64) -> 14
B65: =+'@CONFIG'!$B$60 -> PAYON | C65: ='@CONFIG'!$C$60 -> B | D65: ='@CONFIG'!$D$60 -> service généraux | AK65: =COUNTIF(E65:AI65,"m") -> 0 | AL65: =COUNTIF(E65:AI65,"CSS") -> 0 | AM65: =COUNTIF(E65:AI65,"MP") -> 0 | AN65: =COUNTIF(E65:AI65,"CL") -> 0 | AO65: =COUNTIF(E65:AI65,"ATMP") -> 0 | AP65: =COUNTIF(E65:AI65,"EM") -> 0 | AQ65: =COUNTIF(E65:AI65,"CE") -> 0 | AR65: =SUM(AK65:AQ65) -> 0
B66: =+'@CONFIG'!$B$61 -> PETITFILS | C66: ='@CONFIG'!$C$61 -> G | D66: ='@CONFIG'!$D$61 -> thérapeutique | AK66: =COUNTIF(E66:AI66,"m") -> 0 | AL66: =COUNTIF(E66:AI66,"CSS") -> 0 | AM66: =COUNTIF(E66:AI66,"MP") -> 0 | AN66: =COUNTIF(E66:AI66,"CL") -> 0 | AO66: =COUNTIF(E66:AI66,"ATMP") -> 0 | AP66: =COUNTIF(E66:AI66,"EM") -> 0 | AQ66: =COUNTIF(E66:AI66,"CE") -> 0 | AR66: =SUM(AK66:AQ66) -> 0
B67: =+'@CONFIG'!$B$62 -> PIERRE | C67: ='@CONFIG'!$C$62 -> R | D67: ='@CONFIG'!$D$62 -> pédagogique | AK67: =COUNTIF(E67:AI67,"m") -> 0 | AL67: =COUNTIF(E67:AI67,"CSS") -> 0 | AM67: =COUNTIF(E67:AI67,"MP") -> 0 | AN67: =COUNTIF(E67:AI67,"CL") -> 0 | AO67: =COUNTIF(E67:AI67,"ATMP") -> 0 | AP67: =COUNTIF(E67:AI67,"EM") -> 0 | AQ67: =COUNTIF(E67:AI67,"CE") -> 0 | AR67: =SUM(AK67:AQ67) -> 0
B68: =+'@CONFIG'!$B$63 -> PINTO | C68: ='@CONFIG'!$C$63 -> I | D68: ='@CONFIG'!$D$63 -> éducatif | AK68: =COUNTIF(E68:AI68,"m") -> 0 | AL68: =COUNTIF(E68:AI68,"CSS") -> 0 | AM68: =COUNTIF(E68:AI68,"MP") -> 0 | AN68: =COUNTIF(E68:AI68,"CL") -> 0 | AO68: =COUNTIF(E68:AI68,"ATMP") -> 0 | AP68: =COUNTIF(E68:AI68,"EM") -> 0 | AQ68: =COUNTIF(E68:AI68,"CE") -> 0 | AR68: =SUM(AK68:AQ68) -> 0
B69: =+'@CONFIG'!$B$64 -> PRETO | C69: ='@CONFIG'!$C$64 -> M | D69: ='@CONFIG'!$D$64 -> service généraux | AK69: =COUNTIF(E69:AI69,"m") -> 0 | AL69: =COUNTIF(E69:AI69,"CSS") -> 0 | AM69: =COUNTIF(E69:AI69,"MP") -> 0 | AN69: =COUNTIF(E69:AI69,"CL") -> 0 | AO69: =COUNTIF(E69:AI69,"ATMP") -> 0 | AP69: =COUNTIF(E69:AI69,"EM") -> 0 | AQ69: =COUNTIF(E69:AI69,"CE") -> 0 | AR69: =SUM(AK69:AQ69) -> 0
B70: =+'@CONFIG'!$B$65 -> RETORE | C70: ='@CONFIG'!$C$65 -> P | D70: ='@CONFIG'!$D$65 -> pédagogique | AK70: =COUNTIF(E70:AI70,"m") -> 0 | AL70: =COUNTIF(E70:AI70,"CSS") -> 0 | AM70: =COUNTIF(E70:AI70,"MP") -> 0 | AN70: =COUNTIF(E70:AI70,"CL") -> 0 | AO70: =COUNTIF(E70:AI70,"ATMP") -> 0 | AP70: =COUNTIF(E70:AI70,"EM") -> 0 | AQ70: =COUNTIF(E70:AI70,"CE") -> 0 | AR70: =SUM(AK70:AQ70) -> 0
B71: =+'@CONFIG'!$B$66 -> ROUSCHOP | C71: ='@CONFIG'!$C$66 -> O | D71: ='@CONFIG'!$D$66 -> pédagogique | AK71: =COUNTIF(E71:AI71,"m") -> 0 | AL71: =COUNTIF(E71:AI71,"CSS") -> 0 | AM71: =COUNTIF(E71:AI71,"MP") -> 0 | AN71: =COUNTIF(E71:AI71,"CL") -> 0 | AO71: =COUNTIF(E71:AI71,"ATMP") -> 0 | AP71: =COUNTIF(E71:AI71,"EM") -> 0 | AQ71: =COUNTIF(E71:AI71,"CE") -> 0 | AR71: =SUM(AK71:AQ71) -> 0
B72: =+'@CONFIG'!$B$67 -> SCIOT | C72: ='@CONFIG'!$C$67 -> L | D72: ='@CONFIG'!$D$67 -> éducatif | AK72: =COUNTIF(E72:AI72,"m") -> 0 | AL72: =COUNTIF(E72:AI72,"CSS") -> 0 | AM72: =COUNTIF(E72:AI72,"MP") -> 0 | AN72: =COUNTIF(E72:AI72,"CL") -> 0 | AO72: =COUNTIF(E72:AI72,"ATMP") -> 0 | AP72: =COUNTIF(E72:AI72,"EM") -> 0 | AQ72: =COUNTIF(E72:AI72,"CE") -> 0 | AR72: =SUM(AK72:AQ72) -> 0
B73: =+'@CONFIG'!$B$68 -> VALLEE | C73: ='@CONFIG'!$C$68 -> I | D73: ='@CONFIG'!$D$68 -> éducatif | AK73: =COUNTIF(E73:AI73,"m") -> 0 | AL73: =COUNTIF(E73:AI73,"CSS") -> 0 | AM73: =COUNTIF(E73:AI73,"MP") -> 0 | AN73: =COUNTIF(E73:AI73,"CL") -> 0 | AO73: =COUNTIF(E73:AI73,"ATMP") -> 0 | AP73: =COUNTIF(E73:AI73,"EM") -> 0 | AQ73: =COUNTIF(E73:AI73,"CE") -> 0 | AR73: =SUM(AK73:AQ73) -> 0
B74: =+'@CONFIG'!$B$69 -> VAUTIER | C74: ='@CONFIG'!$C$69 -> E | D74: ='@CONFIG'!$D$69 -> thérapeutique | AK74: =COUNTIF(E74:AI74,"m") -> 0 | AL74: =COUNTIF(E74:AI74,"CSS") -> 0 | AM74: =COUNTIF(E74:AI74,"MP") -> 0 | AN74: =COUNTIF(E74:AI74,"CL") -> 0 | AO74: =COUNTIF(E74:AI74,"ATMP") -> 0 | AP74: =COUNTIF(E74:AI74,"EM") -> 0 | AQ74: =COUNTIF(E74:AI74,"CE") -> 0 | AR74: =SUM(AK74:AQ74) -> 0
B75: =+'@CONFIG'!$B$70 -> WALTISPURGER | C75: ='@CONFIG'!$C$70 -> V | D75: ='@CONFIG'!$D$70 -> éducatif | G75: ATMP | H75: ATMP | I75: ATMP | J75: ATMP | K75: ATMP | O75: ATMP | P75: ATMP | Q75: ATMP | R75: ATMP | U75: ATMP | V75: ATMP | W75: ATMP | X75: ATMP | Y75: ATMP | AK75: =COUNTIF(E75:AI75,"m") -> 0 | AL75: =COUNTIF(E75:AI75,"CSS") -> 0 | AM75: =COUNTIF(E75:AI75,"MP") -> 0 | AN75: =COUNTIF(E75:AI75,"CL") -> 0 | AO75: =COUNTIF(E75:AI75,"ATMP") -> 14 | AP75: =COUNTIF(E75:AI75,"EM") -> 0 | AQ75: =COUNTIF(E75:AI75,"CE") -> 0 | AR75: =SUM(AK75:AQ75) -> 14
B76: =+'@CONFIG'!$B$71 -> WALTISPURGER | C76: ='@CONFIG'!$C$71 -> N | D76: ='@CONFIG'!$D$71 -> service généraux | AK76: =COUNTIF(E76:AI76,"m") -> 0 | AL76: =COUNTIF(E76:AI76,"CSS") -> 0 | AM76: =COUNTIF(E76:AI76,"MP") -> 0 | AN76: =COUNTIF(E76:AI76,"CL") -> 0 | AO76: =COUNTIF(E76:AI76,"ATMP") -> 0 | AP76: =COUNTIF(E76:AI76,"EM") -> 0 | AQ76: =COUNTIF(E76:AI76,"CE") -> 0 | AR76: =SUM(AK76:AQ76) -> 0
B77: =+'@CONFIG'!$B$72 -> 0 | C77: ='@CONFIG'!$C$72 -> 0 | D77: ='@CONFIG'!$D$72 -> 0 | AK77: =COUNTIF(E77:AI77,"m") -> 0 | AL77: =COUNTIF(E77:AI77,"CSS") -> 0 | AM77: =COUNTIF(E77:AI77,"MP") -> 0 | AN77: =COUNTIF(E77:AI77,"CL") -> 0 | AO77: =COUNTIF(E77:AI77,"ATMP") -> 0 | AP77: =COUNTIF(E77:AI77,"EM") -> 0 | AQ77: =COUNTIF(E77:AI77,"CE") -> 0 | AR77: =SUM(AK77:AQ77) -> 0
B78: =+'@CONFIG'!$B$73 -> 0 | C78: ='@CONFIG'!$C$73 -> 0 | D78: ='@CONFIG'!$D$73 -> 0 | AK78: =COUNTIF(E78:AI78,"m") -> 0 | AL78: =COUNTIF(E78:AI78,"CSS") -> 0 | AM78: =COUNTIF(E78:AI78,"MP") -> 0 | AN78: =COUNTIF(E78:AI78,"CL") -> 0 | AO78: =COUNTIF(E78:AI78,"ATMP") -> 0 | AP78: =COUNTIF(E78:AI78,"EM") -> 0 | AQ78: =COUNTIF(E78:AI78,"CE") -> 0 | AR78: =SUM(AK78:AQ78) -> 0
B79: =+'@CONFIG'!$B$74 -> 0 | C79: ='@CONFIG'!$C$74 -> 0 | D79: ='@CONFIG'!$D$74 -> 0 | AK79: =COUNTIF(E79:AI79,"m") -> 0 | AL79: =COUNTIF(E79:AI79,"CSS") -> 0 | AM79: =COUNTIF(E79:AI79,"MP") -> 0 | AN79: =COUNTIF(E79:AI79,"CL") -> 0 | AO79: =COUNTIF(E79:AI79,"ATMP") -> 0 | AP79: =COUNTIF(E79:AI79,"EM") -> 0 | AQ79: =COUNTIF(E79:AI79,"CE") -> 0 | AR79: =SUM(AK79:AQ79) -> 0
B80: =+'@CONFIG'!$B$75 -> 0 | C80: ='@CONFIG'!$C$75 -> 0 | D80: ='@CONFIG'!$D$75 -> 0 | AK80: =COUNTIF(E80:AI80,"m") -> 0 | AL80: =COUNTIF(E80:AI80,"CSS") -> 0 | AM80: =COUNTIF(E80:AI80,"MP") -> 0 | AN80: =COUNTIF(E80:AI80,"CL") -> 0 | AO80: =COUNTIF(E80:AI80,"ATMP") -> 0 | AP80: =COUNTIF(E80:AI80,"EM") -> 0 | AQ80: =COUNTIF(E80:AI80,"CE") -> 0 | AR80: =SUM(AK80:AQ80) -> 0
B81: =+'@CONFIG'!$B$76 -> 0 | C81: ='@CONFIG'!$C$76 -> 0 | D81: ='@CONFIG'!$D$76 -> 0 | AK81: =COUNTIF(E81:AI81,"m") -> 0 | AL81: =COUNTIF(E81:AI81,"CSS") -> 0 | AM81: =COUNTIF(E81:AI81,"MP") -> 0 | AN81: =COUNTIF(E81:AI81,"CL") -> 0 | AO81: =COUNTIF(E81:AI81,"ATMP") -> 0 | AP81: =COUNTIF(E81:AI81,"EM") -> 0 | AQ81: =COUNTIF(E81:AI81,"CE") -> 0 | AR81: =SUM(AK81:AQ81) -> 0
B82: =+'@CONFIG'!$B$77 -> 0 | C82: ='@CONFIG'!$C$77 -> 0 | D82: ='@CONFIG'!$D$77 -> 0 | AK82: =COUNTIF(E82:AI82,"m") -> 0 | AL82: =COUNTIF(E82:AI82,"CSS") -> 0 | AM82: =COUNTIF(E82:AI82,"MP") -> 0 | AN82: =COUNTIF(E82:AI82,"CL") -> 0 | AO82: =COUNTIF(E82:AI82,"ATMP") -> 0 | AP82: =COUNTIF(E82:AI82,"EM") -> 0 | AQ82: =COUNTIF(E82:AI82,"CE") -> 0 | AR82: =SUM(AK82:AQ82) -> 0
B83: =+'@CONFIG'!$B$78 -> 0 | C83: ='@CONFIG'!$C$78 -> 0 | D83: ='@CONFIG'!$D$78 -> 0 | AK83: =COUNTIF(E83:AI83,"m") -> 0 | AL83: =COUNTIF(E83:AI83,"CSS") -> 0 | AM83: =COUNTIF(E83:AI83,"MP") -> 0 | AN83: =COUNTIF(E83:AI83,"CL") -> 0 | AO83: =COUNTIF(E83:AI83,"ATMP") -> 0 | AP83: =COUNTIF(E83:AI83,"EM") -> 0 | AQ83: =COUNTIF(E83:AI83,"CE") -> 0 | AR83: =SUM(AK83:AQ83) -> 0
B84: =+'@CONFIG'!$B$79 -> 0 | C84: ='@CONFIG'!$C$79 -> 0 | D84: ='@CONFIG'!$D$79 -> 0 | AK84: =COUNTIF(E84:AI84,"m") -> 0 | AL84: =COUNTIF(E84:AI84,"CSS") -> 0 | AM84: =COUNTIF(E84:AI84,"MP") -> 0 | AN84: =COUNTIF(E84:AI84,"CL") -> 0 | AO84: =COUNTIF(E84:AI84,"ATMP") -> 0 | AP84: =COUNTIF(E84:AI84,"EM") -> 0 | AQ84: =COUNTIF(E84:AI84,"CE") -> 0 | AR84: =SUM(AK84:AQ84) -> 0
B85: =+'@CONFIG'!$B$80 -> 0 | C85: ='@CONFIG'!$C$80 -> 0 | D85: ='@CONFIG'!$D$80 -> 0 | AK85: =COUNTIF(E85:AI85,"m") -> 0 | AL85: =COUNTIF(E85:AI85,"CSS") -> 0 | AM85: =COUNTIF(E85:AI85,"MP") -> 0 | AN85: =COUNTIF(E85:AI85,"CL") -> 0 | AO85: =COUNTIF(E85:AI85,"ATMP") -> 0 | AP85: =COUNTIF(E85:AI85,"EM") -> 0 | AQ85: =COUNTIF(E85:AI85,"CE") -> 0 | AR85: =SUM(AK85:AQ85) -> 0
B86: =+'@CONFIG'!$B$81 -> 0 | C86: ='@CONFIG'!$C$81 -> 0 | D86: ='@CONFIG'!$D$81 -> 0 | AK86: =COUNTIF(E86:AI86,"m") -> 0 | AL86: =COUNTIF(E86:AI86,"CSS") -> 0 | AM86: =COUNTIF(E86:AI86,"MP") -> 0 | AN86: =COUNTIF(E86:AI86,"CL") -> 0 | AO86: =COUNTIF(E86:AI86,"ATMP") -> 0 | AP86: =COUNTIF(E86:AI86,"EM") -> 0 | AQ86: =COUNTIF(E86:AI86,"CE") -> 0 | AR86: =SUM(AK86:AQ86) -> 0
B87: =+'@CONFIG'!$B$82 -> 0 | C87: ='@CONFIG'!$C$82 -> 0 | D87: ='@CONFIG'!$D$82 -> 0 | AK87: =COUNTIF(E87:AI87,"m") -> 0 | AL87: =COUNTIF(E87:AI87,"CSS") -> 0 | AM87: =COUNTIF(E87:AI87,"MP") -> 0 | AN87: =COUNTIF(E87:AI87,"CL") -> 0 | AO87: =COUNTIF(E87:AI87,"ATMP") -> 0 | AP87: =COUNTIF(E87:AI87,"EM") -> 0 | AQ87: =COUNTIF(E87:AI87,"CE") -> 0 | AR87: =SUM(AK87:AQ87) -> 0
B88: =+'@CONFIG'!$B$83 -> 0 | C88: ='@CONFIG'!$C$83 -> 0 | D88: ='@CONFIG'!$D$83 -> 0 | AK88: =COUNTIF(E88:AI88,"m") -> 0 | AL88: =COUNTIF(E88:AI88,"CSS") -> 0 | AM88: =COUNTIF(E88:AI88,"MP") -> 0 | AN88: =COUNTIF(E88:AI88,"CL") -> 0 | AO88: =COUNTIF(E88:AI88,"ATMP") -> 0 | AP88: =COUNTIF(E88:AI88,"EM") -> 0 | AQ88: =COUNTIF(E88:AI88,"CE") -> 0 | AR88: =SUM(AK88:AQ88) -> 0
B89: =+'@CONFIG'!$B$84 -> 0 | C89: ='@CONFIG'!$C$84 -> 0 | D89: ='@CONFIG'!$D$84 -> 0 | AK89: =COUNTIF(E89:AI89,"m") -> 0 | AL89: =COUNTIF(E89:AI89,"CSS") -> 0 | AM89: =COUNTIF(E89:AI89,"MP") -> 0 | AN89: =COUNTIF(E89:AI89,"CL") -> 0 | AO89: =COUNTIF(E89:AI89,"ATMP") -> 0 | AP89: =COUNTIF(E89:AI89,"EM") -> 0 | AQ89: =COUNTIF(E89:AI89,"CE") -> 0 | AR89: =SUM(AK89:AQ89) -> 0
B90: =+'@CONFIG'!$B$85 -> 0 | C90: ='@CONFIG'!$C$85 -> 0 | D90: ='@CONFIG'!$D$85 -> 0 | AK90: =COUNTIF(E90:AI90,"m") -> 0 | AL90: =COUNTIF(E90:AI90,"CSS") -> 0 | AM90: =COUNTIF(E90:AI90,"MP") -> 0 | AN90: =COUNTIF(E90:AI90,"CL") -> 0 | AO90: =COUNTIF(E90:AI90,"ATMP") -> 0 | AP90: =COUNTIF(E90:AI90,"EM") -> 0 | AQ90: =COUNTIF(E90:AI90,"CE") -> 0 | AR90: =SUM(AK90:AQ90) -> 0
B91: =+'@CONFIG'!$B$86 -> 0 | C91: ='@CONFIG'!$C$86 -> 0 | D91: ='@CONFIG'!$D$86 -> 0 | AK91: =COUNTIF(E91:AI91,"m") -> 0 | AL91: =COUNTIF(E91:AI91,"CSS") -> 0 | AM91: =COUNTIF(E91:AI91,"MP") -> 0 | AN91: =COUNTIF(E91:AI91,"CL") -> 0 | AO91: =COUNTIF(E91:AI91,"ATMP") -> 0 | AP91: =COUNTIF(E91:AI91,"EM") -> 0 | AQ91: =COUNTIF(E91:AI91,"CE") -> 0 | AR91: =SUM(AK91:AQ91) -> 0
B92: =+'@CONFIG'!$B$87 -> 0 | C92: ='@CONFIG'!$C$87 -> 0 | D92: ='@CONFIG'!$D$87 -> 0 | AK92: =COUNTIF(E92:AI92,"m") -> 0 | AL92: =COUNTIF(E92:AI92,"CSS") -> 0 | AM92: =COUNTIF(E92:AI92,"MP") -> 0 | AN92: =COUNTIF(E92:AI92,"CL") -> 0 | AO92: =COUNTIF(E92:AI92,"ATMP") -> 0 | AP92: =COUNTIF(E92:AI92,"EM") -> 0 | AQ92: =COUNTIF(E92:AI92,"CE") -> 0 | AR92: =SUM(AK92:AQ92) -> 0
B93: =IF('@CONFIG'!B76<>"",'@CONFIG'!B76,"") | C93: =IF('@CONFIG'!C76<>"",'@CONFIG'!C76,"")
B94: =IF('@CONFIG'!B77<>"",'@CONFIG'!B77,"") | C94: =IF('@CONFIG'!C77<>"",'@CONFIG'!C77,"")
B95: =IF('@CONFIG'!B78<>"",'@CONFIG'!B78,"") | C95: =IF('@CONFIG'!C78<>"",'@CONFIG'!C78,"")
B96: =IF('@CONFIG'!B79<>"",'@CONFIG'!B79,"") | C96: =IF('@CONFIG'!C79<>"",'@CONFIG'!C79,"")
B97: =IF('@CONFIG'!B80<>"",'@CONFIG'!B80,"") | C97: =IF('@CONFIG'!C80<>"",'@CONFIG'!C80,"")
B98: =IF('@CONFIG'!B81<>"",'@CONFIG'!B81,"") | C98: =IF('@CONFIG'!C81<>"",'@CONFIG'!C81,"")
B99: =IF('@CONFIG'!B82<>"",'@CONFIG'!B82,"") | C99: =IF('@CONFIG'!C82<>"",'@CONFIG'!C82,"")
B100: =IF('@CONFIG'!B83<>"",'@CONFIG'!B83,"") | C100: =IF('@CONFIG'!C83<>"",'@CONFIG'!C83,"")
...

Sheet MAI
B1: ='@CONFIG'!F7 -> 45047
B2: ='@CONFIG'!G7 -> 45077
E3: =B1 -> 45047 | F3: =E3+1 -> 45048 | G3: =F3+1 -> 45049 | H3: =G3+1 -> 45050 | I3: =H3+1 -> 45051 | J3: =I3+1 -> 45052 | K3: =J3+1 -> 45053 | L3: =K3+1 -> 45054 | M3: =L3+1 -> 45055 | ... AI3: =AH3+1 -> 45077
A4: MAI
E5: =DAY(E3) -> 1 | F5: =DAY(F3) -> 2 | G5: =DAY(G3) -> 3 | H5: =DAY(H3) -> 4 | I5: =DAY(I3) -> 5 | J5: =DAY(J3) -> 6 | K5: =DAY(K3) -> 7 | L5: =DAY(L3) -> 8 | ... AI5: =DAY(AI3) -> 31 | AK5: M | AL5: CSS | AM5: MP | AN5: CL | AO5: ATMP | AP5: EM | AQ5: CE
B6: NOM | C6: PRENOM | D6: CAT PRO | E6: =WEEKDAY(E3) -> 2 | F6: =WEEKDAY(F3) -> 3 | G6: =WEEKDAY(G3) -> 4 | H6: =WEEKDAY(H3) -> 5 | I6: =WEEKDAY(I3) -> 6 | J6: =WEEKDAY(J3) -> 7 | K6: =WEEKDAY(K3) -> 1 | L6: =WEEKDAY(L3) -> 2 | ... AI6: =WEEKDAY(AI3) -> 4 | AK6: MALADIE | AL6: CONGES SANS SOLDES | AM6: MATERNITE/PATERNITE | AN6: CONGES LONGUE MALADIE/LONGUE DUREE | AO6: ACCIDENT DU W / MALADIE PRO | AP6: ENFANT MALADE | AQ6: CONGES EXCEPTIONNELS
B7: =+'@CONFIG'!$B$2 -> ANDRE | C7: ='@CONFIG'!$C$2 -> F | D7: ='@CONFIG'!$D$2 -> pédagogique | AK7: =COUNTIF(E7:AI7,"m") -> 0 | AL7: =COUNTIF(E7:AI7,"CSS") -> 0 | AM7: =COUNTIF(E7:AI7,"MP") -> 0 | AN7: =COUNTIF(E7:AI7,"CL") -> 0 | AO7: =COUNTIF(E7:AI7,"ATMP") -> 0 | AP7: =COUNTIF(E7:AI7,"EM") -> 0 | AQ7: =COUNTIF(E7:AI7,"CE") -> 0 | AR7: =SUM(AK7:AQ7) -> 0
B8: =+'@CONFIG'!$B$3 -> BERNARD | C8: ='@CONFIG'!$C$3 -> G | D8: ='@CONFIG'!$D$3 -> éducatif | AK8: =COUNTIF(E8:AI8,"m") -> 0 | AL8: =COUNTIF(E8:AI8,"CSS") -> 0 | AM8: =COUNTIF(E8:AI8,"MP") -> 0 | AN8: =COUNTIF(E8:AI8,"CL") -> 0 | AO8: =COUNTIF(E8:AI8,"ATMP") -> 0 | AP8: =COUNTIF(E8:AI8,"EM") -> 0 | AQ8: =COUNTIF(E8:AI8,"CE") -> 0 | AR8: =SUM(AK8:AQ8) -> 0
B9: =+'@CONFIG'!$B$4 -> BERNARD | C9: ='@CONFIG'!$C$4 -> T | D9: ='@CONFIG'!$D$4 -> service administratif | AK9: =COUNTIF(E9:AI9,"m") -> 0 | AL9: =COUNTIF(E9:AI9,"CSS") -> 0 | AM9: =COUNTIF(E9:AI9,"MP") -> 0 | AN9: =COUNTIF(E9:AI9,"CL") -> 0 | AO9: =COUNTIF(E9:AI9,"ATMP") -> 0 | AP9: =COUNTIF(E9:AI9,"EM") -> 0 | AQ9: =COUNTIF(E9:AI9,"CE") -> 0 | AR9: =SUM(AK9:AQ9) -> 0
B10: =+'@CONFIG'!$B$5 -> BOURDON | C10: ='@CONFIG'!$C$5 -> S | D10: ='@CONFIG'!$D$5 -> éducatif | AK10: =COUNTIF(E10:AI10,"m") -> 0 | AL10: =COUNTIF(E10:AI10,"CSS") -> 0 | AM10: =COUNTIF(E10:AI10,"MP") -> 0 | AN10: =COUNTIF(E10:AI10,"CL") -> 0 | AO10: =COUNTIF(E10:AI10,"ATMP") -> 0 | AP10: =COUNTIF(E10:AI10,"EM") -> 0 | AQ10: =COUNTIF(E10:AI10,"CE") -> 0 | AR10: =SUM(AK10:AQ10) -> 0
B11: =+'@CONFIG'!$B$6 -> BOURGA | C11: ='@CONFIG'!$C$6 -> B | D11: ='@CONFIG'!$D$6 -> éducatif | AK11: =COUNTIF(E11:AI11,"m") -> 0 | AL11: =COUNTIF(E11:AI11,"CSS") -> 0 | AM11: =COUNTIF(E11:AI11,"MP") -> 0 | AN11: =COUNTIF(E11:AI11,"CL") -> 0 | AO11: =COUNTIF(E11:AI11,"ATMP") -> 0 | AP11: =COUNTIF(E11:AI11,"EM") -> 0 | AQ11: =COUNTIF(E11:AI11,"CE") -> 0 | AR11: =SUM(AK11:AQ11) -> 0
B12: =+'@CONFIG'!$B$7 -> BRANCHUT | C12: ='@CONFIG'!$C$7 -> G | D12: ='@CONFIG'!$D$7 -> service administratif | AK12: =COUNTIF(E12:AI12,"m") -> 0 | AL12: =COUNTIF(E12:AI12,"CSS") -> 0 | AM12: =COUNTIF(E12:AI12,"MP") -> 0 | AN12: =COUNTIF(E12:AI12,"CL") -> 0 | AO12: =COUNTIF(E12:AI12,"ATMP") -> 0 | AP12: =COUNTIF(E12:AI12,"EM") -> 0 | AQ12: =COUNTIF(E12:AI12,"CE") -> 0 | AR12: =SUM(AK12:AQ12) -> 0
B13: =+'@CONFIG'!$B$8 -> BROUTIN | C13: ='@CONFIG'!$C$8 -> D | D13: ='@CONFIG'!$D$8 -> éducatif | AK13: =COUNTIF(E13:AI13,"m") -> 0 | AL13: =COUNTIF(E13:AI13,"CSS") -> 0 | AM13: =COUNTIF(E13:AI13,"MP") -> 0 | AN13: =COUNTIF(E13:AI13,"CL") -> 0 | AO13: =COUNTIF(E13:AI13,"ATMP") -> 0 | AP13: =COUNTIF(E13:AI13,"EM") -> 0 | AQ13: =COUNTIF(E13:AI13,"CE") -> 0 | AR13: =SUM(AK13:AQ13) -> 0
B14: =+'@CONFIG'!$B$9 -> CAGNEAUX | C14: ='@CONFIG'!$C$9 -> Z | D14: ='@CONFIG'!$D$9 -> service généraux | AK14: =COUNTIF(E14:AI14,"m") -> 0 | AL14: =COUNTIF(E14:AI14,"CSS") -> 0 | AM14: =COUNTIF(E14:AI14,"MP") -> 0 | AN14: =COUNTIF(E14:AI14,"CL") -> 0 | AO14: =COUNTIF(E14:AI14,"ATMP") -> 0 | AP14: =COUNTIF(E14:AI14,"EM") -> 0 | AQ14: =COUNTIF(E14:AI14,"CE") -> 0 | AR14: =SUM(AK14:AQ14) -> 0
B15: =+'@CONFIG'!$B$10 -> CAMPAGNOLO | C15: ='@CONFIG'!$C$10 -> F | D15: ='@CONFIG'!$D$10 -> éducatif | AK15: =COUNTIF(E15:AI15,"m") -> 0 | AL15: =COUNTIF(E15:AI15,"CSS") -> 0 | AM15: =COUNTIF(E15:AI15,"MP") -> 0 | AN15: =COUNTIF(E15:AI15,"CL") -> 0 | AO15: =COUNTIF(E15:AI15,"ATMP") -> 0 | AP15: =COUNTIF(E15:AI15,"EM") -> 0 | AQ15: =COUNTIF(E15:AI15,"CE") -> 0 | AR15: =SUM(AK15:AQ15) -> 0
B16: =+'@CONFIG'!$B$11 -> CANIAUX | C16: ='@CONFIG'!$C$11 -> H | D16: ='@CONFIG'!$D$11 -> service généraux | AK16: =COUNTIF(E16:AI16,"m") -> 0 | AL16: =COUNTIF(E16:AI16,"CSS") -> 0 | AM16: =COUNTIF(E16:AI16,"MP") -> 0 | AN16: =COUNTIF(E16:AI16,"CL") -> 0 | AO16: =COUNTIF(E16:AI16,"ATMP") -> 0 | AP16: =COUNTIF(E16:AI16,"EM") -> 0 | AQ16: =COUNTIF(E16:AI16,"CE") -> 0 | AR16: =SUM(AK16:AQ16) -> 0
B17: =+'@CONFIG'!$B$12 -> CATRIN | C17: ='@CONFIG'!$C$12 -> K | D17: ='@CONFIG'!$D$12 -> service généraux | AK17: =COUNTIF(E17:AI17,"m") -> 0 | AL17: =COUNTIF(E17:AI17,"CSS") -> 0 | AM17: =COUNTIF(E17:AI17,"MP") -> 0 | AN17: =COUNTIF(E17:AI17,"CL") -> 0 | AO17: =COUNTIF(E17:AI17,"ATMP") -> 0 | AP17: =COUNTIF(E17:AI17,"EM") -> 0 | AQ17: =COUNTIF(E17:AI17,"CE") -> 0 | AR17: =SUM(AK17:AQ17) -> 0
B18: =+'@CONFIG'!$B$13 -> COLMANT | C18: ='@CONFIG'!$C$13 -> E | D18: ='@CONFIG'!$D$13 -> thérapeutique | F18: CE | G18: CE | H18: CE | I18: CE | T18: EM | AK18: =COUNTIF(E18:AI18,"m") -> 0 | AL18: =COUNTIF(E18:AI18,"CSS") -> 0 | AM18: =COUNTIF(E18:AI18,"MP") -> 0 | AN18: =COUNTIF(E18:AI18,"CL") -> 0 | AO18: =COUNTIF(E18:AI18,"ATMP") -> 0 | AP18: =COUNTIF(E18:AI18,"EM") -> 1 | AQ18: =COUNTIF(E18:AI18,"CE") -> 4 | AR18: =SUM(AK18:AQ18) -> 5
B19: =+'@CONFIG'!$B$14 -> DA COSTA | C19: ='@CONFIG'!$C$14 -> Z | D19: ='@CONFIG'!$D$14 -> éducatif | AK19: =COUNTIF(E19:AI19,"m") -> 0 | AL19: =COUNTIF(E19:AI19,"CSS") -> 0 | AM19: =COUNTIF(E19:AI19,"MP") -> 0 | AN19: =COUNTIF(E19:AI19,"CL") -> 0 | AO19: =COUNTIF(E19:AI19,"ATMP") -> 0 | AP19: =COUNTIF(E19:AI19,"EM") -> 0 | AQ19: =COUNTIF(E19:AI19,"CE") -> 0 | AR19: =SUM(AK19:AQ19) -> 0
B20: =+'@CONFIG'!$B$15 -> DANDUMONT | C20: ='@CONFIG'!$C$15 -> S | D20: ='@CONFIG'!$D$15 -> direction | AK20: =COUNTIF(E20:AI20,"m") -> 0 | AL20: =COUNTIF(E20:AI20,"CSS") -> 0 | AM20: =COUNTIF(E20:AI20,"MP") -> 0 | AN20: =COUNTIF(E20:AI20,"CL") -> 0 | AO20: =COUNTIF(E20:AI20,"ATMP") -> 0 | AP20: =COUNTIF(E20:AI20,"EM") -> 0 | AQ20: =COUNTIF(E20:AI20,"CE") -> 0 | AR20: =SUM(AK20:AQ20) -> 0
B21: =+'@CONFIG'!$B$16 -> DELEBOIS | C21: ='@CONFIG'!$C$16 -> Z | D21: ='@CONFIG'!$D$16 -> médical | AK21: =COUNTIF(E21:AI21,"m") -> 0 | AL21: =COUNTIF(E21:AI21,"CSS") -> 0 | AM21: =COUNTIF(E21:AI21,"MP") -> 0 | AN21: =COUNTIF(E21:AI21,"CL") -> 0 | AO21: =COUNTIF(E21:AI21,"ATMP") -> 0 | AP21: =COUNTIF(E21:AI21,"EM") -> 0 | AQ21: =COUNTIF(E21:AI21,"CE") -> 0 | AR21: =SUM(AK21:AQ21) -> 0
B22: =+'@CONFIG'!$B$17 -> DELHAYE | C22: ='@CONFIG'!$C$17 -> V | D22: ='@CONFIG'!$D$17 -> éducatif | AK22: =COUNTIF(E22:AI22,"m") -> 0 | AL22: =COUNTIF(E22:AI22,"CSS") -> 0 | AM22: =COUNTIF(E22:AI22,"MP") -> 0 | AN22: =COUNTIF(E22:AI22,"CL") -> 0 | AO22: =COUNTIF(E22:AI22,"ATMP") -> 0 | AP22: =COUNTIF(E22:AI22,"EM") -> 0 | AQ22: =COUNTIF(E22:AI22,"CE") -> 0 | AR22: =SUM(AK22:AQ22) -> 0
B23: =+'@CONFIG'!$B$18 -> DELHAYE | C23: ='@CONFIG'!$C$18 -> Z | D23: ='@CONFIG'!$D$18 -> service généraux | AK23: =COUNTIF(E23:AI23,"m") -> 0 | AL23: =COUNTIF(E23:AI23,"CSS") -> 0 | AM23: =COUNTIF(E23:AI23,"MP") -> 0 | AN23: =COUNTIF(E23:AI23,"CL") -> 0 | AO23: =COUNTIF(E23:AI23,"ATMP") -> 0 | AP23: =COUNTIF(E23:AI23,"EM") -> 0 | AQ23: =COUNTIF(E23:AI23,"CE") -> 0 | AR23: =SUM(AK23:AQ23) -> 0
B24: =+'@CONFIG'!$B$19 -> DELMAS | C24: ='@CONFIG'!$C$19 -> A | D24: ='@CONFIG'!$D$19 -> thérapeutique | AK24: =COUNTIF(E24:AI24,"m") -> 0 | AL24: =COUNTIF(E24:AI24,"CSS") -> 0 | AM24: =COUNTIF(E24:AI24,"MP") -> 0 | AN24: =COUNTIF(E24:AI24,"CL") -> 0 | AO24: =COUNTIF(E24:AI24,"ATMP") -> 0 | AP24: =COUNTIF(E24:AI24,"EM") -> 0 | AQ24: =COUNTIF(E24:AI24,"CE") -> 0 | AR24: =SUM(AK24:AQ24) -> 0
B25: =+'@CONFIG'!$B$20 -> DEMANGECLAUDE | C25: ='@CONFIG'!$C$20 -> F | D25: ='@CONFIG'!$D$20 -> service généraux | AK25: =COUNTIF(E25:AI25,"m") -> 0 | AL25: =COUNTIF(E25:AI25,"CSS") -> 0 | AM25: =COUNTIF(E25:AI25,"MP") -> 0 | AN25: =COUNTIF(E25:AI25,"CL") -> 0 | AO25: =COUNTIF(E25:AI25,"ATMP") -> 0 | AP25: =COUNTIF(E25:AI25,"EM") -> 0 | AQ25: =COUNTIF(E25:AI25,"CE") -> 0 | AR25: =SUM(AK25:AQ25) -> 0
B26: =+'@CONFIG'!$B$21 -> DESTREE | C26: ='@CONFIG'!$C$21 -> Z | D26: ='@CONFIG'!$D$21 -> éducatif | AK26: =COUNTIF(E26:AI26,"m") -> 0 | AL26: =COUNTIF(E26:AI26,"CSS") -> 0 | AM26: =COUNTIF(E26:AI26,"MP") -> 0 | AN26: =COUNTIF(E26:AI26,"CL") -> 0 | AO26: =COUNTIF(E26:AI26,"ATMP") -> 0 | AP26: =COUNTIF(E26:AI26,"EM") -> 0 | AQ26: =COUNTIF(E26:AI26,"CE") -> 0 | AR26: =SUM(AK26:AQ26) -> 0
B27: =+'@CONFIG'!$B$22 -> DUCARMES | C27: ='@CONFIG'!$C$22 -> R | D27: ='@CONFIG'!$D$22 -> éducatif | AK27: =COUNTIF(E27:AI27,"m") -> 0 | AL27: =COUNTIF(E27:AI27,"CSS") -> 0 | AM27: =COUNTIF(E27:AI27,"MP") -> 0 | AN27: =COUNTIF(E27:AI27,"CL") -> 0 | AO27: =COUNTIF(E27:AI27,"ATMP") -> 0 | AP27: =COUNTIF(E27:AI27,"EM") -> 0 | AQ27: =COUNTIF(E27:AI27,"CE") -> 0 | AR27: =SUM(AK27:AQ27) -> 0
B28: =+'@CONFIG'!B23 -> DUCARMES | C28: ='@CONFIG'!$C$23 -> F | D28: ='@CONFIG'!$D$23 -> direction | AK28: =COUNTIF(E28:AI28,"m") -> 0 | AL28: =COUNTIF(E28:AI28,"CSS") -> 0 | AM28: =COUNTIF(E28:AI28,"MP") -> 0 | AN28: =COUNTIF(E28:AI28,"CL") -> 0 | AO28: =COUNTIF(E28:AI28,"ATMP") -> 0 | AP28: =COUNTIF(E28:AI28,"EM") -> 0 | AQ28: =COUNTIF(E28:AI28,"CE") -> 0 | AR28: =SUM(AK28:AQ28) -> 0
B29: =+'@CONFIG'!$B$24 -> DUGARD | C29: ='@CONFIG'!$C$24 -> F | D29: ='@CONFIG'!$D$24 -> éducatif | AK29: =COUNTIF(E29:AI29,"m") -> 0 | AL29: =COUNTIF(E29:AI29,"CSS") -> 0 | AM29: =COUNTIF(E29:AI29,"MP") -> 0 | AN29: =COUNTIF(E29:AI29,"CL") -> 0 | AO29: =COUNTIF(E29:AI29,"ATMP") -> 0 | AP29: =COUNTIF(E29:AI29,"EM") -> 0 | AQ29: =COUNTIF(E29:AI29,"CE") -> 0 | AR29: =SUM(AK29:AQ29) -> 0
B30: =+'@CONFIG'!$B$25 -> FORTEMPS | C30: ='@CONFIG'!$C$25 -> S | D30: ='@CONFIG'!$D$25 -> thérapeutique | AK30: =COUNTIF(E30:AI30,"m") -> 0 | AL30: =COUNTIF(E30:AI30,"CSS") -> 0 | AM30: =COUNTIF(E30:AI30,"MP") -> 0 | AN30: =COUNTIF(E30:AI30,"CL") -> 0 | AO30: =COUNTIF(E30:AI30,"ATMP") -> 0 | AP30: =COUNTIF(E30:AI30,"EM") -> 0 | AQ30: =COUNTIF(E30:AI30,"CE") -> 0 | AR30: =SUM(AK30:AQ30) -> 0
B31: =+'@CONFIG'!$B$26 -> FOUREUR | C31: ='@CONFIG'!$C$26 -> A | D31: ='@CONFIG'!$D$26 -> thérapeutique | AK31: =COUNTIF(E31:AI31,"m") -> 0 | AL31: =COUNTIF(E31:AI31,"CSS") -> 0 | AM31: =COUNTIF(E31:AI31,"MP") -> 0 | AN31: =COUNTIF(E31:AI31,"CL") -> 0 | AO31: =COUNTIF(E31:AI31,"ATMP") -> 0 | AP31: =COUNTIF(E31:AI31,"EM") -> 0 | AQ31: =COUNTIF(E31:AI31,"CE") -> 0 | AR31: =SUM(AK31:AQ31) -> 0
B32: =+'@CONFIG'!$B$27 -> GABORIT | C32: ='@CONFIG'!$C$27 -> D | D32: ='@CONFIG'!$D$27 -> thérapeutique | AC32: EM | AK32: =COUNTIF(E32:AI32,"m") -> 0 | AL32: =COUNTIF(E32:AI32,"CSS") -> 0 | AM32: =COUNTIF(E32:AI32,"MP") -> 0 | AN32: =COUNTIF(E32:AI32,"CL") -> 0 | AO32: =COUNTIF(E32:AI32,"ATMP") -> 0 | AP32: =COUNTIF(E32:AI32,"EM") -> 1 | AQ32: =COUNTIF(E32:AI32,"CE") -> 0 | AR32: =SUM(AK32:AQ32) -> 1
B33: =+'@CONFIG'!$B$28 -> GODET | C33: ='@CONFIG'!$C$28 -> G | D33: ='@CONFIG'!$D$28 -> éducatif | AK33: =COUNTIF(E33:AI33,"m") -> 0 | AL33: =COUNTIF(E33:AI33,"CSS") -> 0 | AM33: =COUNTIF(E33:AI33,"MP") -> 0 | AN33: =COUNTIF(E33:AI33,"CL") -> 0 | AO33: =COUNTIF(E33:AI33,"ATMP") -> 0 | AP33: =COUNTIF(E33:AI33,"EM") -> 0 | AQ33: =COUNTIF(E33:AI33,"CE") -> 0 | AR33: =SUM(AK33:AQ33) -> 0
B34: =+'@CONFIG'!$B$29 -> GOMES | C34: ='@CONFIG'!$C$29 -> B | D34: ='@CONFIG'!$D$29 -> service généraux | AK34: =COUNTIF(E34:AI34,"m") -> 0 | AL34: =COUNTIF(E34:AI34,"CSS") -> 0 | AM34: =COUNTIF(E34:AI34,"MP") -> 0 | AN34: =COUNTIF(E34:AI34,"CL") -> 0 | AO34: =COUNTIF(E34:AI34,"ATMP") -> 0 | AP34: =COUNTIF(E34:AI34,"EM") -> 0 | AQ34: =COUNTIF(E34:AI34,"CE") -> 0 | AR34: =SUM(AK34:AQ34) -> 0
B35: =+'@CONFIG'!$B$30 -> GONCALVES | C35: ='@CONFIG'!$C$30 -> L | D35: ='@CONFIG'!$D$30 -> éducatif | AK35: =COUNTIF(E35:AI35,"m") -> 0 | AL35: =COUNTIF(E35:AI35,"CSS") -> 0 | AM35: =COUNTIF(E35:AI35,"MP") -> 0 | AN35: =COUNTIF(E35:AI35,"CL") -> 0 | AO35: =COUNTIF(E35:AI35,"ATMP") -> 0 | AP35: =COUNTIF(E35:AI35,"EM") -> 0 | AQ35: =COUNTIF(E35:AI35,"CE") -> 0 | AR35: =SUM(AK35:AQ35) -> 0
B36: =+'@CONFIG'!$B$31 -> GUERIN | C36: ='@CONFIG'!$C$31 -> O | D36: ='@CONFIG'!$D$31 -> pédagogique | AK36: =COUNTIF(E36:AI36,"m") -> 0 | AL36: =COUNTIF(E36:AI36,"CSS") -> 0 | AM36: =COUNTIF(E36:AI36,"MP") -> 0 | AN36: =COUNTIF(E36:AI36,"CL") -> 0 | AO36: =COUNTIF(E36:AI36,"ATMP") -> 0 | AP36: =COUNTIF(E36:AI36,"EM") -> 0 | AQ36: =COUNTIF(E36:AI36,"CE") -> 0 | AR36: =SUM(AK36:AQ36) -> 0
B37: =+'@CONFIG'!$B$32 -> HELIN | C37: ='@CONFIG'!$C$32 -> U | D37: ='@CONFIG'!$D$32 -> service généraux | AK37: =COUNTIF(E37:AI37,"m") -> 0 | AL37: =COUNTIF(E37:AI37,"CSS") -> 0 | AM37: =COUNTIF(E37:AI37,"MP") -> 0 | AN37: =COUNTIF(E37:AI37,"CL") -> 0 | AO37: =COUNTIF(E37:AI37,"ATMP") -> 0 | AP37: =COUNTIF(E37:AI37,"EM") -> 0 | AQ37: =COUNTIF(E37:AI37,"CE") -> 0 | AR37: =SUM(AK37:AQ37) -> 0
B38: =+'@CONFIG'!$B$33 -> HELIN | C38: ='@CONFIG'!$C$33 -> T | D38: ='@CONFIG'!$D$33 -> thérapeutique | AB38: M | AC38: M | AD38: M | AH38: M | AI38: M | AK38: =COUNTIF(E38:AI38,"m") -> 5 | AL38: =COUNTIF(E38:AI38,"CSS") -> 0 | AM38: =COUNTIF(E38:AI38,"MP") -> 0 | AN38: =COUNTIF(E38:AI38,"CL") -> 0 | AO38: =COUNTIF(E38:AI38,"ATMP") -> 0 | AP38: =COUNTIF(E38:AI38,"EM") -> 0 | AQ38: =COUNTIF(E38:AI38,"CE") -> 0 | AR38: =SUM(AK38:AQ38) -> 5
B39: =+'@CONFIG'!$B$34 -> HENRARD | C39: ='@CONFIG'!$C$34 -> E | D39: ='@CONFIG'!$D$34 -> service administratif | AK39: =COUNTIF(E39:AI39,"m") -> 0 | AL39: =COUNTIF(E39:AI39,"CSS") -> 0 | AM39: =COUNTIF(E39:AI39,"MP") -> 0 | AN39: =COUNTIF(E39:AI39,"CL") -> 0 | AO39: =COUNTIF(E39:AI39,"ATMP") -> 0 | AP39: =COUNTIF(E39:AI39,"EM") -> 0 | AQ39: =COUNTIF(E39:AI39,"CE") -> 0 | AR39: =SUM(AK39:AQ39) -> 0
B40: =+'@CONFIG'!$B$35 -> HINS | C40: ='@CONFIG'!$C$35 -> Z | D40: ='@CONFIG'!$D$35 -> thérapeutique | AK40: =COUNTIF(E40:AI40,"m") -> 0 | AL40: =COUNTIF(E40:AI40,"CSS") -> 0 | AM40: =COUNTIF(E40:AI40,"MP") -> 0 | AN40: =COUNTIF(E40:AI40,"CL") -> 0 | AO40: =COUNTIF(E40:AI40,"ATMP") -> 0 | AP40: =COUNTIF(E40:AI40,"EM") -> 0 | AQ40: =COUNTIF(E40:AI40,"CE") -> 0 | AR40: =SUM(AK40:AQ40) -> 0
B41: =+'@CONFIG'!$B$36 -> HODY | C41: ='@CONFIG'!$C$36 -> A | D41: ='@CONFIG'!$D$36 -> éducatif | AK41: =COUNTIF(E41:AI41,"m") -> 0 | AL41: =COUNTIF(E41:AI41,"CSS") -> 0 | AM41: =COUNTIF(E41:AI41,"MP") -> 0 | AN41: =COUNTIF(E41:AI41,"CL") -> 0 | AO41: =COUNTIF(E41:AI41,"ATMP") -> 0 | AP41: =COUNTIF(E41:AI41,"EM") -> 0 | AQ41: =COUNTIF(E41:AI41,"CE") -> 0 | AR41: =SUM(AK41:AQ41) -> 0
B42: =+'@CONFIG'!$B$37 -> IGNACZINSKI | C42: ='@CONFIG'!$C$37 -> S | D42: ='@CONFIG'!$D$37 -> service généraux | AK42: =COUNTIF(E42:AI42,"m") -> 0 | AL42: =COUNTIF(E42:AI42,"CSS") -> 0 | AM42: =COUNTIF(E42:AI42,"MP") -> 0 | AN42: =COUNTIF(E42:AI42,"CL") -> 0 | AO42: =COUNTIF(E42:AI42,"ATMP") -> 0 | AP42: =COUNTIF(E42:AI42,"EM") -> 0 | AQ42: =COUNTIF(E42:AI42,"CE") -> 0 | AR42: =SUM(AK42:AQ42) -> 0
B43: =+'@CONFIG'!$B$38 -> JOUY | C43: ='@CONFIG'!$C$38 -> W | D43: ='@CONFIG'!$D$38 -> service administratif | AK43: =COUNTIF(E43:AI43,"m") -> 0 | AL43: =COUNTIF(E43:AI43,"CSS") -> 0 | AM43: =COUNTIF(E43:AI43,"MP") -> 0 | AN43: =COUNTIF(E43:AI43,"CL") -> 0 | AO43: =COUNTIF(E43:AI43,"ATMP") -> 0 | AP43: =COUNTIF(E43:AI43,"EM") -> 0 | AQ43: =COUNTIF(E43:AI43,"CE") -> 0 | AR43: =SUM(AK43:AQ43) -> 0
B44: =+'@CONFIG'!$B$39 -> KABADAYI | C44: ='@CONFIG'!$C$39 -> V | D44: ='@CONFIG'!$D$39 -> service administratif | AK44: =COUNTIF(E44:AI44,"m") -> 0 | AL44: =COUNTIF(E44:AI44,"CSS") -> 0 | AM44: =COUNTIF(E44:AI44,"MP") -> 0 | AN44: =COUNTIF(E44:AI44,"CL") -> 0 | AO44: =COUNTIF(E44:AI44,"ATMP") -> 0 | AP44: =COUNTIF(E44:AI44,"EM") -> 0 | AQ44: =COUNTIF(E44:AI44,"CE") -> 0 | AR44: =SUM(AK44:AQ44) -> 0
B45: =+'@CONFIG'!$B$40 -> LABERGRI | C45: ='@CONFIG'!$C$40 -> G | D45: ='@CONFIG'!$D$40 -> éducatif | AK45: =COUNTIF(E45:AI45,"m") -> 0 | AL45: =COUNTIF(E45:AI45,"CSS") -> 0 | AM45: =COUNTIF(E45:AI45,"MP") -> 0 | AN45: =COUNTIF(E45:AI45,"CL") -> 0 | AO45: =COUNTIF(E45:AI45,"ATMP") -> 0 | AP45: =COUNTIF(E45:AI45,"EM") -> 0 | AQ45: =COUNTIF(E45:AI45,"CE") -> 0 | AR45: =SUM(AK45:AQ45) -> 0
B46: =+'@CONFIG'!$B$41 -> LADAME | C46: ='@CONFIG'!$C$41 -> D | D46: ='@CONFIG'!$D$41 -> éducatif | AK46: =COUNTIF(E46:AI46,"m") -> 0 | AL46: =COUNTIF(E46:AI46,"CSS") -> 0 | AM46: =COUNTIF(E46:AI46,"MP") -> 0 | AN46: =COUNTIF(E46:AI46,"CL") -> 0 | AO46: =COUNTIF(E46:AI46,"ATMP") -> 0 | AP46: =COUNTIF(E46:AI46,"EM") -> 0 | AQ46: =COUNTIF(E46:AI46,"CE") -> 0 | AR46: =SUM(AK46:AQ46) -> 0
B47: =+'@CONFIG'!$B$42 -> LAMBERT | C47: ='@CONFIG'!$C$42 -> E | D47: ='@CONFIG'!$D$42 -> éducatif | AK47: =COUNTIF(E47:AI47,"m") -> 0 | AL47: =COUNTIF(E47:AI47,"CSS") -> 0 | AM47: =COUNTIF(E47:AI47,"MP") -> 0 | AN47: =COUNTIF(E47:AI47,"CL") -> 0 | AO47: =COUNTIF(E47:AI47,"ATMP") -> 0 | AP47: =COUNTIF(E47:AI47,"EM") -> 0 | AQ47: =COUNTIF(E47:AI47,"CE") -> 0 | AR47: =SUM(AK47:AQ47) -> 0
B48: =+'@CONFIG'!$B$43 -> LAPORTE | C48: ='@CONFIG'!$C$43 -> Z | D48: ='@CONFIG'!$D$43 -> éducatif | AK48: =COUNTIF(E48:AI48,"m") -> 0 | AL48: =COUNTIF(E48:AI48,"CSS") -> 0 | AM48: =COUNTIF(E48:AI48,"MP") -> 0 | AN48: =COUNTIF(E48:AI48,"CL") -> 0 | AO48: =COUNTIF(E48:AI48,"ATMP") -> 0 | AP48: =COUNTIF(E48:AI48,"EM") -> 0 | AQ48: =COUNTIF(E48:AI48,"CE") -> 0 | AR48: =SUM(AK48:AQ48) -> 0
B49: =+'@CONFIG'!$B$44 -> LARTISIEN | C49: ='@CONFIG'!$C$44 -> Q | D49: ='@CONFIG'!$D$44 -> pédagogique | AK49: =COUNTIF(E49:AI49,"m") -> 0 | AL49: =COUNTIF(E49:AI49,"CSS") -> 0 | AM49: =COUNTIF(E49:AI49,"MP") -> 0 | AN49: =COUNTIF(E49:AI49,"CL") -> 0 | AO49: =COUNTIF(E49:AI49,"ATMP") -> 0 | AP49: =COUNTIF(E49:AI49,"EM") -> 0 | AQ49: =COUNTIF(E49:AI49,"CE") -> 0 | AR49: =SUM(AK49:AQ49) -> 0
B50: =+'@CONFIG'!$B$45 -> LASSAUX | C50: ='@CONFIG'!$C$45 -> A | D50: ='@CONFIG'!$D$45 -> éducatif | AK50: =COUNTIF(E50:AI50,"m") -> 0 | AL50: =COUNTIF(E50:AI50,"CSS") -> 0 | AM50: =COUNTIF(E50:AI50,"MP") -> 0 | AN50: =COUNTIF(E50:AI50,"CL") -> 0 | AO50: =COUNTIF(E50:AI50,"ATMP") -> 0 | AP50: =COUNTIF(E50:AI50,"EM") -> 0 | AQ50: =COUNTIF(E50:AI50,"CE") -> 0 | AR50: =SUM(AK50:AQ50) -> 0
B51: =+'@CONFIG'!$B$46 -> LAURENT | C51: ='@CONFIG'!$C$46 -> S | D51: ='@CONFIG'!$D$46 -> éducatif | AK51: =COUNTIF(E51:AI51,"m") -> 0 | AL51: =COUNTIF(E51:AI51,"CSS") -> 0 | AM51: =COUNTIF(E51:AI51,"MP") -> 0 | AN51: =COUNTIF(E51:AI51,"CL") -> 0 | AO51: =COUNTIF(E51:AI51,"ATMP") -> 0 | AP51: =COUNTIF(E51:AI51,"EM") -> 0 | AQ51: =COUNTIF(E51:AI51,"CE") -> 0 | AR51: =SUM(AK51:AQ51) -> 0
B52: =+'@CONFIG'!$B$47 -> LAURENT | C52: ='@CONFIG'!$C$47 -> F | D52: ='@CONFIG'!$D$47 -> éducatif | F52: M | G52: M | H52: M | I52: M | AK52: =COUNTIF(E52:AI52,"m") -> 4 | AL52: =COUNTIF(E52:AI52,"CSS") -> 0 | AM52: =COUNTIF(E52:AI52,"MP") -> 0 | AN52: =COUNTIF(E52:AI52,"CL") -> 0 | AO52: =COUNTIF(E52:AI52,"ATMP") -> 0 | AP52: =COUNTIF(E52:AI52,"EM") -> 0 | AQ52: =COUNTIF(E52:AI52,"CE") -> 0 | AR52: =SUM(AK52:AQ52) -> 4
B53: =+'@CONFIG'!$B$48 -> LECORNET | C53: ='@CONFIG'!$C$48 -> F | D53: ='@CONFIG'!$D$48 -> éducatif | AK53: =COUNTIF(E53:AI53,"m") -> 0 | AL53: =COUNTIF(E53:AI53,"CSS") -> 0 | AM53: =COUNTIF(E53:AI53,"MP") -> 0 | AN53: =COUNTIF(E53:AI53,"CL") -> 0 | AO53: =COUNTIF(E53:AI53,"ATMP") -> 0 | AP53: =COUNTIF(E53:AI53,"EM") -> 0 | AQ53: =COUNTIF(E53:AI53,"CE") -> 0 | AR53: =SUM(AK53:AQ53) -> 0
B54: =+'@CONFIG'!$B$49 -> LEDOUBLE | C54: ='@CONFIG'!$C$49 -> G | D54: ='@CONFIG'!$D$49 -> éducatif | AK54: =COUNTIF(E54:AI54,"m") -> 0 | AL54: =COUNTIF(E54:AI54,"CSS") -> 0 | AM54: =COUNTIF(E54:AI54,"MP") -> 0 | AN54: =COUNTIF(E54:AI54,"CL") -> 0 | AO54: =COUNTIF(E54:AI54,"ATMP") -> 0 | AP54: =COUNTIF(E54:AI54,"EM") -> 0 | AQ54: =COUNTIF(E54:AI54,"CE") -> 0 | AR54: =SUM(AK54:AQ54) -> 0
B55: =+'@CONFIG'!$B$50 -> LEMOINE | C55: ='@CONFIG'!$C$50 -> E | D55: ='@CONFIG'!$D$50 -> pédagogique | AK55: =COUNTIF(E55:AI55,"m") -> 0 | AL55: =COUNTIF(E55:AI55,"CSS") -> 0 | AM55: =COUNTIF(E55:AI55,"MP") -> 0 | AN55: =COUNTIF(E55:AI55,"CL") -> 0 | AO55: =COUNTIF(E55:AI55,"ATMP") -> 0 | AP55: =COUNTIF(E55:AI55,"EM") -> 0 | AQ55: =COUNTIF(E55:AI55,"CE") -> 0 | AR55: =SUM(AK55:AQ55) -> 0
B56: =+'@CONFIG'!$B$51 -> MAGNIETTE | C56: ='@CONFIG'!$C$51 -> M | D56: ='@CONFIG'!$D$51 -> éducatif | AK56: =COUNTIF(E56:AI56,"m") -> 0 | AL56: =COUNTIF(E56:AI56,"CSS") -> 0 | AM56: =COUNTIF(E56:AI56,"MP") -> 0 | AN56: =COUNTIF(E56:AI56,"CL") -> 0 | AO56: =COUNTIF(E56:AI56,"ATMP") -> 0 | AP56: =COUNTIF(E56:AI56,"EM") -> 0 | AQ56: =COUNTIF(E56:AI56,"CE") -> 0 | AR56: =SUM(AK56:AQ56) -> 0
B57: =+'@CONFIG'!$B$52 -> MARCHAL | C57: ='@CONFIG'!$C$52 -> P | D57: ='@CONFIG'!$D$52 -> thérapeutique | AK57: =COUNTIF(E57:AI57,"m") -> 0 | AL57: =COUNTIF(E57:AI57,"CSS") -> 0 | AM57: =COUNTIF(E57:AI57,"MP") -> 0 | AN57: =COUNTIF(E57:AI57,"CL") -> 0 | AO57: =COUNTIF(E57:AI57,"ATMP") -> 0 | AP57: =COUNTIF(E57:AI57,"EM") -> 0 | AQ57: =COUNTIF(E57:AI57,"CE") -> 0 | AR57: =SUM(AK57:AQ57) -> 0
B58: =+'@CONFIG'!$B$53 -> MASSART | C58: ='@CONFIG'!$C$53 -> A | D58: ='@CONFIG'!$D$53 -> éducatif | AA58: MP | AB58: MP | AC58: MP | AD58: MP | AH58: MP | AI58: MP | AK58: =COUNTIF(E58:AI58,"m") -> 0 | AL58: =COUNTIF(E58:AI58,"CSS") -> 0 | AM58: =COUNTIF(E58:AI58,"MP") -> 6 | AN58: =COUNTIF(E58:AI58,"CL") -> 0 | AO58: =COUNTIF(E58:AI58,"ATMP") -> 0 | AP58: =COUNTIF(E58:AI58,"EM") -> 0 | AQ58: =COUNTIF(E58:AI58,"CE") -> 0 | AR58: =SUM(AK58:AQ58) -> 6
B59: =+'@CONFIG'!$B$54 -> MEBARKI | C59: ='@CONFIG'!$C$54 -> S | D59: ='@CONFIG'!$D$54 -> éducatif | AK59: =COUNTIF(E59:AI59,"m") -> 0 | AL59: =COUNTIF(E59:AI59,"CSS") -> 0 | AM59: =COUNTIF(E59:AI59,"MP") -> 0 | AN59: =COUNTIF(E59:AI59,"CL") -> 0 | AO59: =COUNTIF(E59:AI59,"ATMP") -> 0 | AP59: =COUNTIF(E59:AI59,"EM") -> 0 | AQ59: =COUNTIF(E59:AI59,"CE") -> 0 | AR59: =SUM(AK59:AQ59) -> 0
B60: =+'@CONFIG'!$B$55 -> MONTALBO | C60: ='@CONFIG'!$C$55 -> A | D60: ='@CONFIG'!$D$55 -> thérapeutique | AK60: =COUNTIF(E60:AI60,"m") -> 0 | AL60: =COUNTIF(E60:AI60,"CSS") -> 0 | AM60: =COUNTIF(E60:AI60,"MP") -> 0 | AN60: =COUNTIF(E60:AI60,"CL") -> 0 | AO60: =COUNTIF(E60:AI60,"ATMP") -> 0 | AP60: =COUNTIF(E60:AI60,"EM") -> 0 | AQ60: =COUNTIF(E60:AI60,"CE") -> 0 | AR60: =SUM(AK60:AQ60) -> 0
B61: =+'@CONFIG'!$B$56 -> PAMLARD | C61: ='@CONFIG'!$C$56 -> Z | D61: ='@CONFIG'!$D$56 -> éducatif | AK61: =COUNTIF(E61:AI61,"m") -> 0 | AL61: =COUNTIF(E61:AI61,"CSS") -> 0 | AM61: =COUNTIF(E61:AI61,"MP") -> 0 | AN61: =COUNTIF(E61:AI61,"CL") -> 0 | AO61: =COUNTIF(E61:AI61,"ATMP") -> 0 | AP61: =COUNTIF(E61:AI61,"EM") -> 0 | AQ61: =COUNTIF(E61:AI61,"CE") -> 0 | AR61: =SUM(AK61:AQ61) -> 0
B62: =+'@CONFIG'!$B$57 -> PARISELLE | C62: ='@CONFIG'!$C$57 -> W | D62: ='@CONFIG'!$D$57 -> éducatif | AK62: =COUNTIF(E62:AI62,"m") -> 0 | AL62: =COUNTIF(E62:AI62,"CSS") -> 0 | AM62: =COUNTIF(E62:AI62,"MP") -> 0 | AN62: =COUNTIF(E62:AI62,"CL") -> 0 | AO62: =COUNTIF(E62:AI62,"ATMP") -> 0 | AP62: =COUNTIF(E62:AI62,"EM") -> 0 | AQ62: =COUNTIF(E62:AI62,"CE") -> 0 | AR62: =SUM(AK62:AQ62) -> 0
B63: =+'@CONFIG'!$B$58 -> PARLIER | C63: ='@CONFIG'!$C$58 -> S | D63: ='@CONFIG'!$D$58 -> éducatif | AK63: =COUNTIF(E63:AI63,"m") -> 0 | AL63: =COUNTIF(E63:AI63,"CSS") -> 0 | AM63: =COUNTIF(E63:AI63,"MP") -> 0 | AN63: =COUNTIF(E63:AI63,"CL") -> 0 | AO63: =COUNTIF(E63:AI63,"ATMP") -> 0 | AP63: =COUNTIF(E63:AI63,"EM") -> 0 | AQ63: =COUNTIF(E63:AI63,"CE") -> 0 | AR63: =SUM(AK63:AQ63) -> 0
B64: =+'@CONFIG'!$B$59 -> PATOUREAUX | C64: ='@CONFIG'!$C$59 -> A | D64: ='@CONFIG'!$D$59 -> éducatif | F64: M | G64: M | H64: M | I64: M | M64: M | N64: M | O64: M | P64: M | S64: M | T64: M | U64: M | Z64: M | AA64: M | AB64: M | AC64: M | AD64: M | AH64: M | AI64: M | AK64: =COUNTIF(E64:AI64,"m") -> 18 | AL64: =COUNTIF(E64:AI64,"CSS") -> 0 | AM64: =COUNTIF(E64:AI64,"MP") -> 0 | AN64: =COUNTIF(E64:AI64,"CL") -> 0 | AO64: =COUNTIF(E64:AI64,"ATMP") -> 0 | AP64: =COUNTIF(E64:AI64,"EM") -> 0 | AQ64: =COUNTIF(E64:AI64,"CE") -> 0 | AR64: =SUM(AK64:AQ64) -> 18
B65: =+'@CONFIG'!$B$60 -> PAYON | C65: ='@CONFIG'!$C$60 -> B | D65: ='@CONFIG'!$D$60 -> service généraux | AK65: =COUNTIF(E65:AI65,"m") -> 0 | AL65: =COUNTIF(E65:AI65,"CSS") -> 0 | AM65: =COUNTIF(E65:AI65,"MP") -> 0 | AN65: =COUNTIF(E65:AI65,"CL") -> 0 | AO65: =COUNTIF(E65:AI65,"ATMP") -> 0 | AP65: =COUNTIF(E65:AI65,"EM") -> 0 | AQ65: =COUNTIF(E65:AI65,"CE") -> 0 | AR65: =SUM(AK65:AQ65) -> 0
B66: =+'@CONFIG'!$B$61 -> PETITFILS | C66: ='@CONFIG'!$C$61 -> G | D66: ='@CONFIG'!$D$61 -> thérapeutique | AK66: =COUNTIF(E66:AI66,"m") -> 0 | AL66: =COUNTIF(E66:AI66,"CSS") -> 0 | AM66: =COUNTIF(E66:AI66,"MP") -> 0 | AN66: =COUNTIF(E66:AI66,"CL") -> 0 | AO66: =COUNTIF(E66:AI66,"ATMP") -> 0 | AP66: =COUNTIF(E66:AI66,"EM") -> 0 | AQ66: =COUNTIF(E66:AI66,"CE") -> 0 | AR66: =SUM(AK66:AQ66) -> 0
B67: =+'@CONFIG'!$B$62 -> PIERRE | C67: ='@CONFIG'!$C$62 -> R | D67: ='@CONFIG'!$D$62 -> pédagogique | AK67: =COUNTIF(E67:AI67,"m") -> 0 | AL67: =COUNTIF(E67:AI67,"CSS") -> 0 | AM67: =COUNTIF(E67:AI67,"MP") -> 0 | AN67: =COUNTIF(E67:AI67,"CL") -> 0 | AO67: =COUNTIF(E67:AI67,"ATMP") -> 0 | AP67: =COUNTIF(E67:AI67,"EM") -> 0 | AQ67: =COUNTIF(E67:AI67,"CE") -> 0 | AR67: =SUM(AK67:AQ67) -> 0
B68: =+'@CONFIG'!$B$63 -> PINTO | C68: ='@CONFIG'!$C$63 -> I | D68: ='@CONFIG'!$D$63 -> éducatif | AK68: =COUNTIF(E68:AI68,"m") -> 0 | AL68: =COUNTIF(E68:AI68,"CSS") -> 0 | AM68: =COUNTIF(E68:AI68,"MP") -> 0 | AN68: =COUNTIF(E68:AI68,"CL") -> 0 | AO68: =COUNTIF(E68:AI68,"ATMP") -> 0 | AP68: =COUNTIF(E68:AI68,"EM") -> 0 | AQ68: =COUNTIF(E68:AI68,"CE") -> 0 | AR68: =SUM(AK68:AQ68) -> 0
B69: =+'@CONFIG'!$B$64 -> PRETO | C69: ='@CONFIG'!$C$64 -> M | D69: ='@CONFIG'!$D$64 -> service généraux | AK69: =COUNTIF(E69:AI69,"m") -> 0 | AL69: =COUNTIF(E69:AI69,"CSS") -> 0 | AM69: =COUNTIF(E69:AI69,"MP") -> 0 | AN69: =COUNTIF(E69:AI69,"CL") -> 0 | AO69: =COUNTIF(E69:AI69,"ATMP") -> 0 | AP69: =COUNTIF(E69:AI69,"EM") -> 0 | AQ69: =COUNTIF(E69:AI69,"CE") -> 0 | AR69: =SUM(AK69:AQ69) -> 0
B70: =+'@CONFIG'!$B$65 -> RETORE | C70: ='@CONFIG'!$C$65 -> P | D70: ='@CONFIG'!$D$65 -> pédagogique | AK70: =COUNTIF(E70:AI70,"m") -> 0 | AL70: =COUNTIF(E70:AI70,"CSS") -> 0 | AM70: =COUNTIF(E70:AI70,"MP") -> 0 | AN70: =COUNTIF(E70:AI70,"CL") -> 0 | AO70: =COUNTIF(E70:AI70,"ATMP") -> 0 | AP70: =COUNTIF(E70:AI70,"EM") -> 0 | AQ70: =COUNTIF(E70:AI70,"CE") -> 0 | AR70: =SUM(AK70:AQ70) -> 0
B71: =+'@CONFIG'!$B$66 -> ROUSCHOP | C71: ='@CONFIG'!$C$66 -> O | D71: ='@CONFIG'!$D$66 -> pédagogique | AK71: =COUNTIF(E71:AI71,"m") -> 0 | AL71: =COUNTIF(E71:AI71,"CSS") -> 0 | AM71: =COUNTIF(E71:AI71,"MP") -> 0 | AN71: =COUNTIF(E71:AI71,"CL") -> 0 | AO71: =COUNTIF(E71:AI71,"ATMP") -> 0 | AP71: =COUNTIF(E71:AI71,"EM") -> 0 | AQ71: =COUNTIF(E71:AI71,"CE") -> 0 | AR71: =SUM(AK71:AQ71) -> 0
B72: =+'@CONFIG'!$B$67 -> SCIOT | C72: ='@CONFIG'!$C$67 -> L | D72: ='@CONFIG'!$D$67 -> éducatif | AK72: =COUNTIF(E72:AI72,"m") -> 0 | AL72: =COUNTIF(E72:AI72,"CSS") -> 0 | AM72: =COUNTIF(E72:AI72,"MP") -> 0 | AN72: =COUNTIF(E72:AI72,"CL") -> 0 | AO72: =COUNTIF(E72:AI72,"ATMP") -> 0 | AP72: =COUNTIF(E72:AI72,"EM") -> 0 | AQ72: =COUNTIF(E72:AI72,"CE") -> 0 | AR72: =SUM(AK72:AQ72) -> 0
B73: =+'@CONFIG'!$B$68 -> VALLEE | C73: ='@CONFIG'!$C$68 -> I | D73: ='@CONFIG'!$D$68 -> éducatif | AA73: ATMP | AB73: ATMP | AC73: ATMP | AD73: ATMP | AH73: ATMP | AI73: ATMP | AK73: =COUNTIF(E73:AI73,"m") -> 0 | AL73: =COUNTIF(E73:AI73,"CSS") -> 0 | AM73: =COUNTIF(E73:AI73,"MP") -> 0 | AN73: =COUNTIF(E73:AI73,"CL") -> 0 | AO73: =COUNTIF(E73:AI73,"ATMP") -> 6 | AP73: =COUNTIF(E73:AI73,"EM") -> 0 | AQ73: =COUNTIF(E73:AI73,"CE") -> 0 | AR73: =SUM(AK73:AQ73) -> 6
B74: =+'@CONFIG'!$B$69 -> VAUTIER | C74: ='@CONFIG'!$C$69 -> E | D74: ='@CONFIG'!$D$69 -> thérapeutique | AK74: =COUNTIF(E74:AI74,"m") -> 0 | AL74: =COUNTIF(E74:AI74,"CSS") -> 0 | AM74: =COUNTIF(E74:AI74,"MP") -> 0 | AN74: =COUNTIF(E74:AI74,"CL") -> 0 | AO74: =COUNTIF(E74:AI74,"ATMP") -> 0 | AP74: =COUNTIF(E74:AI74,"EM") -> 0 | AQ74: =COUNTIF(E74:AI74,"CE") -> 0 | AR74: =SUM(AK74:AQ74) -> 0
B75: =+'@CONFIG'!$B$70 -> WALTISPURGER | C75: ='@CONFIG'!$C$70 -> V | D75: ='@CONFIG'!$D$70 -> éducatif | F75: ATMP | G75: ATMP | H75: ATMP | I75: ATMP | M75: ATMP | N75: ATMP | O75: ATMP | P75: ATMP | S75: ATMP | T75: ATMP | U75: ATMP | Z75: ATMP | AA75: ATMP | AB75: ATMP | AC75: ATMP | AD75: ATMP | AK75: =COUNTIF(E75:AI75,"m") -> 0 | AL75: =COUNTIF(E75:AI75,"CSS") -> 0 | AM75: =COUNTIF(E75:AI75,"MP") -> 0 | AN75: =COUNTIF(E75:AI75,"CL") -> 0 | AO75: =COUNTIF(E75:AI75,"ATMP") -> 16 | AP75: =COUNTIF(E75:AI75,"EM") -> 0 | AQ75: =COUNTIF(E75:AI75,"CE") -> 0 | AR75: =SUM(AK75:AQ75) -> 16
B76: =+'@CONFIG'!$B$71 -> WALTISPURGER | C76: ='@CONFIG'!$C$71 -> N | D76: ='@CONFIG'!$D$71 -> service généraux | AK76: =COUNTIF(E76:AI76,"m") -> 0 | AL76: =COUNTIF(E76:AI76,"CSS") -> 0 | AM76: =COUNTIF(E76:AI76,"MP") -> 0 | AN76: =COUNTIF(E76:AI76,"CL") -> 0 | AO76: =COUNTIF(E76:AI76,"ATMP") -> 0 | AP76: =COUNTIF(E76:AI76,"EM") -> 0 | AQ76: =COUNTIF(E76:AI76,"CE") -> 0 | AR76: =SUM(AK76:AQ76) -> 0
B77: =+'@CONFIG'!$B$72 -> 0 | C77: ='@CONFIG'!$C$72 -> 0 | D77: ='@CONFIG'!$D$72 -> 0 | AK77: =COUNTIF(E77:AI77,"m") -> 0 | AL77: =COUNTIF(E77:AI77,"CSS") -> 0 | AM77: =COUNTIF(E77:AI77,"MP") -> 0 | AN77: =COUNTIF(E77:AI77,"CL") -> 0 | AO77: =COUNTIF(E77:AI77,"ATMP") -> 0 | AP77: =COUNTIF(E77:AI77,"EM") -> 0 | AQ77: =COUNTIF(E77:AI77,"CE") -> 0 | AR77: =SUM(AK77:AQ77) -> 0
B78: =+'@CONFIG'!$B$73 -> 0 | C78: ='@CONFIG'!$C$73 -> 0 | D78: ='@CONFIG'!$D$73 -> 0 | AK78: =COUNTIF(E78:AI78,"m") -> 0 | AL78: =COUNTIF(E78:AI78,"CSS") -> 0 | AM78: =COUNTIF(E78:AI78,"MP") -> 0 | AN78: =COUNTIF(E78:AI78,"CL") -> 0 | AO78: =COUNTIF(E78:AI78,"ATMP") -> 0 | AP78: =COUNTIF(E78:AI78,"EM") -> 0 | AQ78: =COUNTIF(E78:AI78,"CE") -> 0 | AR78: =SUM(AK78:AQ78) -> 0
B79: =+'@CONFIG'!$B$74 -> 0 | C79: ='@CONFIG'!$C$74 -> 0 | D79: ='@CONFIG'!$D$74 -> 0 | AK79: =COUNTIF(E79:AI79,"m") -> 0 | AL79: =COUNTIF(E79:AI79,"CSS") -> 0 | AM79: =COUNTIF(E79:AI79,"MP") -> 0 | AN79: =COUNTIF(E79:AI79,"CL") -> 0 | AO79: =COUNTIF(E79:AI79,"ATMP") -> 0 | AP79: =COUNTIF(E79:AI79,"EM") -> 0 | AQ79: =COUNTIF(E79:AI79,"CE") -> 0 | AR79: =SUM(AK79:AQ79) -> 0
B80: =+'@CONFIG'!$B$75 -> 0 | C80: ='@CONFIG'!$C$75 -> 0 | D80: ='@CONFIG'!$D$75 -> 0 | AK80: =COUNTIF(E80:AI80,"m") -> 0 | AL80: =COUNTIF(E80:AI80,"CSS") -> 0 | AM80: =COUNTIF(E80:AI80,"MP") -> 0 | AN80: =COUNTIF(E80:AI80,"CL") -> 0 | AO80: =COUNTIF(E80:AI80,"ATMP") -> 0 | AP80: =COUNTIF(E80:AI80,"EM") -> 0 | AQ80: =COUNTIF(E80:AI80,"CE") -> 0 | AR80: =SUM(AK80:AQ80) -> 0
B81: =+'@CONFIG'!$B$76 -> 0 | C81: ='@CONFIG'!$C$76 -> 0 | D81: ='@CONFIG'!$D$76 -> 0 | AK81: =COUNTIF(E81:AI81,"m") -> 0 | AL81: =COUNTIF(E81:AI81,"CSS") -> 0 | AM81: =COUNTIF(E81:AI81,"MP") -> 0 | AN81: =COUNTIF(E81:AI81,"CL") -> 0 | AO81: =COUNTIF(E81:AI81,"ATMP") -> 0 | AP81: =COUNTIF(E81:AI81,"EM") -> 0 | AQ81: =COUNTIF(E81:AI81,"CE") -> 0 | AR81: =SUM(AK81:AQ81) -> 0
B82: =+'@CONFIG'!$B$77 -> 0 | C82: ='@CONFIG'!$C$77 -> 0 | D82: ='@CONFIG'!$D$77 -> 0 | AK82: =COUNTIF(E82:AI82,"m") -> 0 | AL82: =COUNTIF(E82:AI82,"CSS") -> 0 | AM82: =COUNTIF(E82:AI82,"MP") -> 0 | AN82: =COUNTIF(E82:AI82,"CL") -> 0 | AO82: =COUNTIF(E82:AI82,"ATMP") -> 0 | AP82: =COUNTIF(E82:AI82,"EM") -> 0 | AQ82: =COUNTIF(E82:AI82,"CE") -> 0 | AR82: =SUM(AK82:AQ82) -> 0
B83: =+'@CONFIG'!$B$78 -> 0 | C83: ='@CONFIG'!$C$78 -> 0 | D83: ='@CONFIG'!$D$78 -> 0 | AK83: =COUNTIF(E83:AI83,"m") -> 0 | AL83: =COUNTIF(E83:AI83,"CSS") -> 0 | AM83: =COUNTIF(E83:AI83,"MP") -> 0 | AN83: =COUNTIF(E83:AI83,"CL") -> 0 | AO83: =COUNTIF(E83:AI83,"ATMP") -> 0 | AP83: =COUNTIF(E83:AI83,"EM") -> 0 | AQ83: =COUNTIF(E83:AI83,"CE") -> 0 | AR83: =SUM(AK83:AQ83) -> 0
B84: =+'@CONFIG'!$B$79 -> 0 | C84: ='@CONFIG'!$C$79 -> 0 | D84: ='@CONFIG'!$D$79 -> 0 | AK84: =COUNTIF(E84:AI84,"m") -> 0 | AL84: =COUNTIF(E84:AI84,"CSS") -> 0 | AM84: =COUNTIF(E84:AI84,"MP") -> 0 | AN84: =COUNTIF(E84:AI84,"CL") -> 0 | AO84: =COUNTIF(E84:AI84,"ATMP") -> 0 | AP84: =COUNTIF(E84:AI84,"EM") -> 0 | AQ84: =COUNTIF(E84:AI84,"CE") -> 0 | AR84: =SUM(AK84:AQ84) -> 0
B85: =+'@CONFIG'!$B$80 -> 0 | C85: ='@CONFIG'!$C$80 -> 0 | D85: ='@CONFIG'!$D$80 -> 0 | AK85: =COUNTIF(E85:AI85,"m") -> 0 | AL85: =COUNTIF(E85:AI85,"CSS") -> 0 | AM85: =COUNTIF(E85:AI85,"MP") -> 0 | AN85: =COUNTIF(E85:AI85,"CL") -> 0 | AO85: =COUNTIF(E85:AI85,"ATMP") -> 0 | AP85: =COUNTIF(E85:AI85,"EM") -> 0 | AQ85: =COUNTIF(E85:AI85,"CE") -> 0 | AR85: =SUM(AK85:AQ85) -> 0
B86: =+'@CONFIG'!$B$81 -> 0 | C86: ='@CONFIG'!$C$81 -> 0 | D86: ='@CONFIG'!$D$81 -> 0 | AK86: =COUNTIF(E86:AI86,"m") -> 0 | AL86: =COUNTIF(E86:AI86,"CSS") -> 0 | AM86: =COUNTIF(E86:AI86,"MP") -> 0 | AN86: =COUNTIF(E86:AI86,"CL") -> 0 | AO86: =COUNTIF(E86:AI86,"ATMP") -> 0 | AP86: =COUNTIF(E86:AI86,"EM") -> 0 | AQ86: =COUNTIF(E86:AI86,"CE") -> 0 | AR86: =SUM(AK86:AQ86) -> 0
B87: =+'@CONFIG'!$B$82 -> 0 | C87: ='@CONFIG'!$C$82 -> 0 | D87: ='@CONFIG'!$D$82 -> 0 | AK87: =COUNTIF(E87:AI87,"m") -> 0 | AL87: =COUNTIF(E87:AI87,"CSS") -> 0 | AM87: =COUNTIF(E87:AI87,"MP") -> 0 | AN87: =COUNTIF(E87:AI87,"CL") -> 0 | AO87: =COUNTIF(E87:AI87,"ATMP") -> 0 | AP87: =COUNTIF(E87:AI87,"EM") -> 0 | AQ87: =COUNTIF(E87:AI87,"CE") -> 0 | AR87: =SUM(AK87:AQ87) -> 0
B88: =+'@CONFIG'!$B$83 -> 0 | C88: ='@CONFIG'!$C$83 -> 0 | D88: ='@CONFIG'!$D$83 -> 0 | AK88: =COUNTIF(E88:AI88,"m") -> 0 | AL88: =COUNTIF(E88:AI88,"CSS") -> 0 | AM88: =COUNTIF(E88:AI88,"MP") -> 0 | AN88: =COUNTIF(E88:AI88,"CL") -> 0 | AO88: =COUNTIF(E88:AI88,"ATMP") -> 0 | AP88: =COUNTIF(E88:AI88,"EM") -> 0 | AQ88: =COUNTIF(E88:AI88,"CE") -> 0 | AR88: =SUM(AK88:AQ88) -> 0
B89: =+'@CONFIG'!$B$84 -> 0 | C89: ='@CONFIG'!$C$84 -> 0 | D89: ='@CONFIG'!$D$84 -> 0 | AK89: =COUNTIF(E89:AI89,"m") -> 0 | AL89: =COUNTIF(E89:AI89,"CSS") -> 0 | AM89: =COUNTIF(E89:AI89,"MP") -> 0 | AN89: =COUNTIF(E89:AI89,"CL") -> 0 | AO89: =COUNTIF(E89:AI89,"ATMP") -> 0 | AP89: =COUNTIF(E89:AI89,"EM") -> 0 | AQ89: =COUNTIF(E89:AI89,"CE") -> 0 | AR89: =SUM(AK89:AQ89) -> 0
B90: =+'@CONFIG'!$B$85 -> 0 | C90: ='@CONFIG'!$C$85 -> 0 | D90: ='@CONFIG'!$D$85 -> 0 | AK90: =COUNTIF(E90:AI90,"m") -> 0 | AL90: =COUNTIF(E90:AI90,"CSS") -> 0 | AM90: =COUNTIF(E90:AI90,"MP") -> 0 | AN90: =COUNTIF(E90:AI90,"CL") -> 0 | AO90: =COUNTIF(E90:AI90,"ATMP") -> 0 | AP90: =COUNTIF(E90:AI90,"EM") -> 0 | AQ90: =COUNTIF(E90:AI90,"CE") -> 0 | AR90: =SUM(AK90:AQ90) -> 0
B91: =+'@CONFIG'!$B$86 -> 0 | C91: ='@CONFIG'!$C$86 -> 0 | D91: ='@CONFIG'!$D$86 -> 0 | AK91: =COUNTIF(E91:AI91,"m") -> 0 | AL91: =COUNTIF(E91:AI91,"CSS") -> 0 | AM91: =COUNTIF(E91:AI91,"MP") -> 0 | AN91: =COUNTIF(E91:AI91,"CL") -> 0 | AO91: =COUNTIF(E91:AI91,"ATMP") -> 0 | AP91: =COUNTIF(E91:AI91,"EM") -> 0 | AQ91: =COUNTIF(E91:AI91,"CE") -> 0 | AR91: =SUM(AK91:AQ91) -> 0
B92: =+'@CONFIG'!$B$87 -> 0 | C92: ='@CONFIG'!$C$87 -> 0 | D92: ='@CONFIG'!$D$87 -> 0 | AK92: =COUNTIF(E92:AI92,"m") -> 0 | AL92: =COUNTIF(E92:AI92,"CSS") -> 0 | AM92: =COUNTIF(E92:AI92,"MP") -> 0 | AN92: =COUNTIF(E92:AI92,"CL") -> 0 | AO92: =COUNTIF(E92:AI92,"ATMP") -> 0 | AP92: =COUNTIF(E92:AI92,"EM") -> 0 | AQ92: =COUNTIF(E92:AI92,"CE") -> 0 | AR92: =SUM(AK92:AQ92) -> 0
B93: =IF('@CONFIG'!B76<>"",'@CONFIG'!B76,"") | C93: =IF('@CONFIG'!C76<>"",'@CONFIG'!C76,"")
B94: =IF('@CONFIG'!B77<>"",'@CONFIG'!B77,"") | C94: =IF('@CONFIG'!C77<>"",'@CONFIG'!C77,"")
B95: =IF('@CONFIG'!B78<>"",'@CONFIG'!B78,"") | C95: =IF('@CONFIG'!C78<>"",'@CONFIG'!C78,"")
B96: =IF('@CONFIG'!B79<>"",'@CONFIG'!B79,"") | C96: =IF('@CONFIG'!C79<>"",'@CONFIG'!C79,"")
B97: =IF('@CONFIG'!B80<>"",'@CONFIG'!B80,"") | C97: =IF('@CONFIG'!C80<>"",'@CONFIG'!C80,"")
B98: =IF('@CONFIG'!B81<>"",'@CONFIG'!B81,"") | C98: =IF('@CONFIG'!C81<>"",'@CONFIG'!C81,"")
B99: =IF('@CONFIG'!B82<>"",'@CONFIG'!B82,"") | C99: =IF('@CONFIG'!C82<>"",'@CONFIG'!C82,"")
B100: =IF('@CONFIG'!B83<>"",'@CONFIG'!B83,"") | C100: =IF('@CONFIG'!C83<>"",'@CONFIG'!C83,"")
...

Sheet JUIN
B1: ='@CONFIG'!F8 -> 45078
B2: ='@CONFIG'!G8 -> 45107
E3: =B1 -> 45078 | F3: =E3+1 -> 45079 | G3: =F3+1 -> 45080 | H3: =G3+1 -> 45081 | I3: =H3+1 -> 45082 | J3: =I3+1 -> 45083 | K3: =J3+1 -> 45084 | L3: =K3+1 -> 45085 | M3: =L3+1 -> 45086 | ... AI3: =AH3+1 -> 45108
A4: JUIN
E5: =DAY(E3) -> 1 | F5: =DAY(F3) -> 2 | G5: =DAY(G3) -> 3 | H5: =DAY(H3) -> 4 | I5: =DAY(I3) -> 5 | J5: =DAY(J3) -> 6 | K5: =DAY(K3) -> 7 | L5: =DAY(L3) -> 8 | ... AI5: =DAY(AI3) -> 1 | AK5: M | AL5: CSS | AM5: MP | AN5: CL | AO5: ATMP | AP5: EM | AQ5: CE
B6: NOM | C6: PRENOM | D6: CAT PRO | E6: =WEEKDAY(E3) -> 5 | F6: =WEEKDAY(F3) -> 6 | G6: =WEEKDAY(G3) -> 7 | H6: =WEEKDAY(H3) -> 1 | I6: =WEEKDAY(I3) -> 2 | J6: =WEEKDAY(J3) -> 3 | K6: =WEEKDAY(K3) -> 4 | L6: =WEEKDAY(L3) -> 5 | ... AI6: =WEEKDAY(AI3) -> 7 | AK6: MALADIE | AL6: CONGES SANS SOLDES | AM6: MATERNITE/PATERNITE | AN6: CONGES LONGUE MALADIE/LONGUE DUREE | AO6: ACCIDENT DU W / MALADIE PRO | AP6: ENFANT MALADE | AQ6: CONGES EXCEPTIONNELS
B7: =+'@CONFIG'!$B$2 -> ANDRE | C7: ='@CONFIG'!$C$2 -> F | D7: ='@CONFIG'!$D$2 -> pédagogique | AK7: =COUNTIF(E7:AI7,"m") -> 0 | AL7: =COUNTIF(E7:AI7,"CSS") -> 0 | AM7: =COUNTIF(E7:AI7,"MP") -> 0 | AN7: =COUNTIF(E7:AI7,"CL") -> 0 | AO7: =COUNTIF(E7:AI7,"ATMP") -> 0 | AP7: =COUNTIF(E7:AI7,"EM") -> 0 | AQ7: =COUNTIF(E7:AI7,"CE") -> 0 | AR7: =SUM(AK7:AQ7) -> 0
B8: =+'@CONFIG'!$B$3 -> BERNARD | C8: ='@CONFIG'!$C$3 -> G | D8: ='@CONFIG'!$D$3 -> éducatif | AK8: =COUNTIF(E8:AI8,"m") -> 0 | AL8: =COUNTIF(E8:AI8,"CSS") -> 0 | AM8: =COUNTIF(E8:AI8,"MP") -> 0 | AN8: =COUNTIF(E8:AI8,"CL") -> 0 | AO8: =COUNTIF(E8:AI8,"ATMP") -> 0 | AP8: =COUNTIF(E8:AI8,"EM") -> 0 | AQ8: =COUNTIF(E8:AI8,"CE") -> 0 | AR8: =SUM(AK8:AQ8) -> 0
B9: =+'@CONFIG'!$B$4 -> BERNARD | C9: ='@CONFIG'!$C$4 -> T | D9: ='@CONFIG'!$D$4 -> service administratif | AK9: =COUNTIF(E9:AI9,"m") -> 0 | AL9: =COUNTIF(E9:AI9,"CSS") -> 0 | AM9: =COUNTIF(E9:AI9,"MP") -> 0 | AN9: =COUNTIF(E9:AI9,"CL") -> 0 | AO9: =COUNTIF(E9:AI9,"ATMP") -> 0 | AP9: =COUNTIF(E9:AI9,"EM") -> 0 | AQ9: =COUNTIF(E9:AI9,"CE") -> 0 | AR9: =SUM(AK9:AQ9) -> 0
B10: =+'@CONFIG'!$B$5 -> BOURDON | C10: ='@CONFIG'!$C$5 -> S | D10: ='@CONFIG'!$D$5 -> éducatif | Q10: M | R10: M | S10: M | T10: M | W10: M | X10: M | Y10: M | Z10: M | AA10: M | AK10: =COUNTIF(E10:AI10,"m") -> 9 | AL10: =COUNTIF(E10:AI10,"CSS") -> 0 | AM10: =COUNTIF(E10:AI10,"MP") -> 0 | AN10: =COUNTIF(E10:AI10,"CL") -> 0 | AO10: =COUNTIF(E10:AI10,"ATMP") -> 0 | AP10: =COUNTIF(E10:AI10,"EM") -> 0 | AQ10: =COUNTIF(E10:AI10,"CE") -> 0 | AR10: =SUM(AK10:AQ10) -> 9
B11: =+'@CONFIG'!$B$6 -> BOURGA | C11: ='@CONFIG'!$C$6 -> B | D11: ='@CONFIG'!$D$6 -> éducatif | AK11: =COUNTIF(E11:AI11,"m") -> 0 | AL11: =COUNTIF(E11:AI11,"CSS") -> 0 | AM11: =COUNTIF(E11:AI11,"MP") -> 0 | AN11: =COUNTIF(E11:AI11,"CL") -> 0 | AO11: =COUNTIF(E11:AI11,"ATMP") -> 0 | AP11: =COUNTIF(E11:AI11,"EM") -> 0 | AQ11: =COUNTIF(E11:AI11,"CE") -> 0 | AR11: =SUM(AK11:AQ11) -> 0
B12: =+'@CONFIG'!$B$7 -> BRANCHUT | C12: ='@CONFIG'!$C$7 -> G | D12: ='@CONFIG'!$D$7 -> service administratif | AK12: =COUNTIF(E12:AI12,"m") -> 0 | AL12: =COUNTIF(E12:AI12,"CSS") -> 0 | AM12: =COUNTIF(E12:AI12,"MP") -> 0 | AN12: =COUNTIF(E12:AI12,"CL") -> 0 | AO12: =COUNTIF(E12:AI12,"ATMP") -> 0 | AP12: =COUNTIF(E12:AI12,"EM") -> 0 | AQ12: =COUNTIF(E12:AI12,"CE") -> 0 | AR12: =SUM(AK12:AQ12) -> 0
B13: =+'@CONFIG'!$B$8 -> BROUTIN | C13: ='@CONFIG'!$C$8 -> D | D13: ='@CONFIG'!$D$8 -> éducatif | AK13: =COUNTIF(E13:AI13,"m") -> 0 | AL13: =COUNTIF(E13:AI13,"CSS") -> 0 | AM13: =COUNTIF(E13:AI13,"MP") -> 0 | AN13: =COUNTIF(E13:AI13,"CL") -> 0 | AO13: =COUNTIF(E13:AI13,"ATMP") -> 0 | AP13: =COUNTIF(E13:AI13,"EM") -> 0 | AQ13: =COUNTIF(E13:AI13,"CE") -> 0 | AR13: =SUM(AK13:AQ13) -> 0
B14: =+'@CONFIG'!$B$9 -> CAGNEAUX | C14: ='@CONFIG'!$C$9 -> Z | D14: ='@CONFIG'!$D$9 -> service généraux | AK14: =COUNTIF(E14:AI14,"m") -> 0 | AL14: =COUNTIF(E14:AI14,"CSS") -> 0 | AM14: =COUNTIF(E14:AI14,"MP") -> 0 | AN14: =COUNTIF(E14:AI14,"CL") -> 0 | AO14: =COUNTIF(E14:AI14,"ATMP") -> 0 | AP14: =COUNTIF(E14:AI14,"EM") -> 0 | AQ14: =COUNTIF(E14:AI14,"CE") -> 0 | AR14: =SUM(AK14:AQ14) -> 0
B15: =+'@CONFIG'!$B$10 -> CAMPAGNOLO | C15: ='@CONFIG'!$C$10 -> F | D15: ='@CONFIG'!$D$10 -> éducatif | AK15: =COUNTIF(E15:AI15,"m") -> 0 | AL15: =COUNTIF(E15:AI15,"CSS") -> 0 | AM15: =COUNTIF(E15:AI15,"MP") -> 0 | AN15: =COUNTIF(E15:AI15,"CL") -> 0 | AO15: =COUNTIF(E15:AI15,"ATMP") -> 0 | AP15: =COUNTIF(E15:AI15,"EM") -> 0 | AQ15: =COUNTIF(E15:AI15,"CE") -> 0 | AR15: =SUM(AK15:AQ15) -> 0
