Workbook

Sheet @CONFIG
B1: NOM | C1: PRENOM | E1: DATE D'ENTREE | F1: 44927
B2: BERNARD | C2: Jean | F2: START | G2: STOP
B3: DUBOIS | C3: Thomas | E3: JANVIER | F3: =F1 -> 44927 | G3: =EOMONTH(F3,0) -> 44957
B4: FLEURY | C4: Elodie | E4: FÉVRIER | F4: =EDATE(F3,1) -> 44958 | G4: =EOMONTH(F4,0) -> 44985
B5: HUET | C5: Manuel | E5: MARS | F5: =EDATE(F4,1) -> 44986 | G5: =EOMONTH(F5,0) -> 45016
B6: MARTIN | C6: Luc | E6: AVRIL | F6: =EDATE(F5,1) -> 45017 | G6: =EOMONTH(F6,0) -> 45046
B7: PETIT | C7: Vanessa | E7: MAI | F7: =EDATE(F6,1) -> 45047 | G7: =EOMONTH(F7,0) -> 45077
B8: RICHARD | C8: Dorian | E8: JUIN | F8: =EDATE(F7,1) -> 45078 | G8: =EOMONTH(F8,0) -> 45107 | I8: 1) mettre l'année civile
E9: JUILLET | F9: =EDATE(F8,1) -> 45108 | G9: =EOMONTH(F9,0) -> 45138 | I9: 2) dans chq onglet, enlever mercredi, samedi et dimanche (seulement les jours et pas les dates 1, 2 ..)
E10: AOÛT | F10: =EDATE(F9,1) -> 45139 | G10: =EOMONTH(F10,0) -> 45169 | I10: 3) chaque new usager les rajouter en bas a la ligne et non par ordre alphabetique
E11: SEPTEMBRE | F11: =EDATE(F10,1) -> 45170 | G11: =EOMONTH(F11,0) -> 45199 | I11: 4) faire attention aux formules de fin
E12: OCTOBRE | F12: =EDATE(F11,1) -> 45200 | G12: =EOMONTH(F12,0) -> 45230
E13: NOVEMBRE | F13: =EDATE(F12,1) -> 45231 | G13: =EOMONTH(F13,0) -> 45260
E14: DÉCEMBRE | F14: =EDATE(F13,1) -> 45261 | G14: =EOMONTH(F14,0) -> 45291
E16: A ne pas toucher c'est la configuration pour les formules

Sheet JANVIER
B1: ='@CONFIG'!F3 -> 44927
B2: ='@CONFIG'!G3 -> 44957
D3: =B1 -> 44927 | E3: =D3+1 -> 44928 | F3: =E3+1 -> 44929 | G3: =F3+1 -> 44930 | H3: =G3+1 -> 44931 | I3: =H3+1 -> 44932 | J3: =I3+1 -> 44933 | K3: =J3+1 -> 44934 | L3: =K3+1 -> 44935 | ... AH3: =AG3+1 -> 44957
A4: 44927
D5: =DAY(D3) -> 1 | E5: =DAY(E3) -> 2 | F5: =DAY(F3) -> 3 | G5: =DAY(G3) -> 4 | H5: =DAY(H3) -> 5 | I5: =DAY(I3) -> 6 | J5: =DAY(J3) -> 7 | K5: =DAY(K3) -> 8 | ... AH5: =DAY(AH3) -> 31 | AJ5: Journées théoriques | AK5: journées effectives mensuelles | AL5: journées effectives annuelles
B6: NOM | C6: PRENOM | D6: =WEEKDAY(D3) -> 1 | E6: =WEEKDAY(E3) -> 2 | F6: =WEEKDAY(F3) -> 3 | G6: =WEEKDAY(G3) -> 4 | H6: =WEEKDAY(H3) -> 5 | I6: =WEEKDAY(I3) -> 6 | J6: =WEEKDAY(J3) -> 7 | K6: =WEEKDAY(K3) -> 1 | ... AH6: =WEEKDAY(AH3) -> 3
B7: =+'@CONFIG'!$B$2 -> BERNARD | C7: ='@CONFIG'!$C$2 -> Jean | AJ7: =COUNTA($D$6:$AH$6) -> 31 | AK7: =AJ7-COUNTA(E7:AH7) -> 31 | AL7: =AJ7-COUNTA(E7:AH7) -> 31
B8: =+'@CONFIG'!$B$3 -> DUBOIS | C8: ='@CONFIG'!$C$3 -> Thomas | AJ8: =COUNTA($D$6:$AH$6) -> 31 | AK8: =AJ8-COUNTA(E8:AH8) -> 31 | AL8: =AJ8-COUNTA(E8:AH8) -> 31
B9: =+'@CONFIG'!$B$4 -> FLEURY | C9: ='@CONFIG'!$C$4 -> Elodie | AJ9: =COUNTA($D$6:$AH$6) -> 31 | AK9: =AJ9-COUNTA(E9:AH9) -> 31 | AL9: =AJ9-COUNTA(E9:AH9) -> 31
B10: =+'@CONFIG'!$B$5 -> HUET | C10: ='@CONFIG'!$C$5 -> Manuel | AJ10: =COUNTA($D$6:$AH$6) -> 31 | AK10: =AJ10-COUNTA(E10:AH10) -> 31 | AL10: =AJ10-COUNTA(E10:AH10) -> 31
B11: =+'@CONFIG'!$B$6 -> MARTIN | C11: ='@CONFIG'!$C$6 -> Luc | AJ11: =COUNTA($D$6:$AH$6) -> 31 | AK11: =AJ11-COUNTA(E11:AH11) -> 31 | AL11: =AJ11-COUNTA(E11:AH11) -> 31
B12: =+'@CONFIG'!$B$7 -> PETIT | C12: ='@CONFIG'!$C$7 -> Vanessa | AJ12: =COUNTA($D$6:$AH$6) -> 31 | AK12: =AJ12-COUNTA(E12:AH12) -> 31 | AL12: =AJ12-COUNTA(E12:AH12) -> 31
B13: =+'@CONFIG'!$B$8 -> RICHARD | C13: ='@CONFIG'!$C$8 -> Dorian | AJ13: =COUNTA($D$6:$AH$6) -> 31 | AK13: =AJ13-COUNTA(E13:AH13) -> 31 | AL13: =AJ13-COUNTA(E13:AH13) -> 31
B14: =+'@CONFIG'!$B$9 -> 0 | C14: ='@CONFIG'!$C$9 -> 0 | AL14: =AJ14-COUNTA(E14:AH14) -> 0
B15: =+'@CONFIG'!$B$10 -> 0 | C15: ='@CONFIG'!$C$10 -> 0
B16: =+'@CONFIG'!$B$11 -> 0 | C16: ='@CONFIG'!$C$11 -> 0
B17: =+'@CONFIG'!$B$12 -> 0 | C17: ='@CONFIG'!$C$12 -> 0
B18: =+'@CONFIG'!$B$13 -> 0 | C18: ='@CONFIG'!$C$13 -> 0
B19: =IF('@CONFIG'!B127<>"",'@CONFIG'!B127,"") | AJ19: =SUM(AJ7:AJ18) -> 217 | AK19: =SUM(AK7:AK18) -> 217 | AL19: =SUM(AL7:AL18) -> 217
B20: =IF('@CONFIG'!B128<>"",'@CONFIG'!B128,"")
B21: =IF('@CONFIG'!B129<>"",'@CONFIG'!B129,"")
B22: =IF('@CONFIG'!B130<>"",'@CONFIG'!B130,"")
B23: =IF('@CONFIG'!B131<>"",'@CONFIG'!B131,"")
B24: =IF('@CONFIG'!B132<>"",'@CONFIG'!B132,"")

Sheet FEVRIER
B1: ='@CONFIG'!F4 -> 44958
B2: ='@CONFIG'!G4 -> 44985
D3: =B1 -> 44958 | E3: =D3+1 -> 44959 | F3: =E3+1 -> 44960 | G3: =F3+1 -> 44961 | H3: =G3+1 -> 44962 | I3: =H3+1 -> 44963 | J3: =I3+1 -> 44964 | K3: =J3+1 -> 44965 | L3: =K3+1 -> 44966 | ... AE3: =AD3+1 -> 44985
A4: FEVRIER 2023
D5: =DAY(D3) -> 1 | E5: =DAY(E3) -> 2 | F5: =DAY(F3) -> 3 | G5: =DAY(G3) -> 4 | H5: =DAY(H3) -> 5 | I5: =DAY(I3) -> 6 | J5: =DAY(J3) -> 7 | K5: =DAY(K3) -> 8 | ... AE5: =DAY(AE3) -> 28 | AG5: Journées théoriques | AH5: journées effectives mensuelles | AI5: journées effectives annuelles
B6: NOM | C6: PRENOM | D6: =WEEKDAY(D3) -> 4 | E6: =WEEKDAY(E3) -> 5 | F6: =WEEKDAY(F3) -> 6 | G6: =WEEKDAY(G3) -> 7 | H6: =WEEKDAY(H3) -> 1 | I6: =WEEKDAY(I3) -> 2 | J6: =WEEKDAY(J3) -> 3 | K6: =WEEKDAY(K3) -> 4 | ... AE6: =WEEKDAY(AE3) -> 3
B7: =+'@CONFIG'!$B$2 -> BERNARD | C7: ='@CONFIG'!$C$2 -> Jean | AG7: =COUNTA($D$6:$AE$6) -> 28 | AH7: =AG7-COUNTA(D7:AE7) -> 28 | AI7: =AH7+JANVIER!AL7 -> 59
B8: =+'@CONFIG'!$B$3 -> DUBOIS | C8: ='@CONFIG'!$C$3 -> Thomas | AG8: =COUNTA($D$6:$AE$6) -> 28 | AH8: =AG8-COUNTA(D8:AE8) -> 28 | AI8: =AH8+JANVIER!AL8 -> 59
B9: =+'@CONFIG'!$B$4 -> FLEURY | C9: ='@CONFIG'!$C$4 -> Elodie | AG9: =COUNTA($D$6:$AE$6) -> 28 | AH9: =AG9-COUNTA(D9:AE9) -> 28 | AI9: =AH9+JANVIER!AL9 -> 59
B10: =+'@CONFIG'!$B$5 -> HUET | C10: ='@CONFIG'!$C$5 -> Manuel | AG10: =COUNTA($D$6:$AE$6) -> 28 | AH10: =AG10-COUNTA(D10:AE10) -> 28 | AI10: =AH10+JANVIER!AL10 -> 59
B11: =+'@CONFIG'!$B$6 -> MARTIN | C11: ='@CONFIG'!$C$6 -> Luc | AG11: =COUNTA($D$6:$AE$6) -> 28 | AH11: =AG11-COUNTA(D11:AE11) -> 28 | AI11: =AH11+JANVIER!AL11 -> 59
B12: =+'@CONFIG'!$B$7 -> PETIT | C12: ='@CONFIG'!$C$7 -> Vanessa | AG12: =COUNTA($D$6:$AE$6) -> 28 | AH12: =AG12-COUNTA(D12:AE12) -> 28 | AI12: =AH12+JANVIER!AL12 -> 59
B13: =+'@CONFIG'!$B$8 -> RICHARD | C13: ='@CONFIG'!$C$8 -> Dorian | AG13: =COUNTA($D$6:$AE$6) -> 28 | AH13: =AG13-COUNTA(D13:AE13) -> 28 | AI13: =AH13+JANVIER!AL13 -> 59
B14: =+'@CONFIG'!$B$9 -> 0 | C14: ='@CONFIG'!$C$9 -> 0 | AH14: =AG14-COUNTA(D14:AE14) -> 0 | AI14: =AG14-COUNTA(D14:AE14) -> 0
B15: =+'@CONFIG'!$B$10 -> 0 | C15: ='@CONFIG'!$C$10 -> 0
B16: =+'@CONFIG'!$B$11 -> 0 | C16: ='@CONFIG'!$C$11 -> 0
B17: =+'@CONFIG'!$B$12 -> 0 | C17: ='@CONFIG'!$C$12 -> 0
B18: =+'@CONFIG'!$B$13 -> 0 | C18: ='@CONFIG'!$C$13 -> 0
B19: =IF('@CONFIG'!B125<>"",'@CONFIG'!B125,"") | AG19: =SUM(AG7:AG18) -> 196 | AH19: =SUM(AH7:AH18) -> 196
B20: =IF('@CONFIG'!B126<>"",'@CONFIG'!B126,"") | AF20: Total annuel | AG20: =AG19+JANVIER!AJ19 -> 413 | AI20: =SUM(AI7:AI18) -> 413
B21: =IF('@CONFIG'!B127<>"",'@CONFIG'!B127,"")
B22: =IF('@CONFIG'!B128<>"",'@CONFIG'!B128,"")
B23: =IF('@CONFIG'!B129<>"",'@CONFIG'!B129,"")
B24: =IF('@CONFIG'!B130<>"",'@CONFIG'!B130,"")
B25: =IF('@CONFIG'!B131<>"",'@CONFIG'!B131,"")
B26: =IF('@CONFIG'!B132<>"",'@CONFIG'!B132,"")

Sheet MARS
B1: ='@CONFIG'!F5 -> 44986
B2: ='@CONFIG'!G5 -> 45016
D3: =B1 -> 44986 | E3: =D3+1 -> 44987 | F3: =E3+1 -> 44988 | G3: =F3+1 -> 44989 | H3: =G3+1 -> 44990 | I3: =H3+1 -> 44991 | J3: =I3+1 -> 44992 | K3: =J3+1 -> 44993 | L3: =K3+1 -> 44994 | ... AH3: =AG3+1 -> 45016
A4: 44986
D5: =DAY(D3) -> 1 | E5: =DAY(E3) -> 2 | F5: =DAY(F3) -> 3 | G5: =DAY(G3) -> 4 | H5: =DAY(H3) -> 5 | I5: =DAY(I3) -> 6 | J5: =DAY(J3) -> 7 | K5: =DAY(K3) -> 8 | ... AH5: =DAY(AH3) -> 31 | AJ5: Journées théoriques | AK5: journées effectives mensuelles | AL5: journées effectives annuelles
B6: NOM | C6: PRENOM | D6: =WEEKDAY(D3) -> 4 | E6: =WEEKDAY(E3) -> 5 | F6: =WEEKDAY(F3) -> 6 | G6: =WEEKDAY(G3) -> 7 | H6: =WEEKDAY(H3) -> 1 | I6: =WEEKDAY(I3) -> 2 | J6: =WEEKDAY(J3) -> 3 | K6: =WEEKDAY(K3) -> 4 | ... AH6: =WEEKDAY(AH3) -> 6
B7: =+'@CONFIG'!$B$2 -> BERNARD | C7: ='@CONFIG'!$C$2 -> Jean | AJ7: =COUNTA($D$6:$AH$6) -> 31 | AK7: =AJ7-COUNTA(D7:AH7) -> 31 | AL7: =AK7+FEVRIER!AI7 -> 90
B8: =+'@CONFIG'!$B$3 -> DUBOIS | C8: ='@CONFIG'!$C$3 -> Thomas | AJ8: =COUNTA($D$6:$AH$6) -> 31 | AK8: =AJ8-COUNTA(D8:AH8) -> 31 | AL8: =AK8+FEVRIER!AI8 -> 90
B9: =+'@CONFIG'!$B$4 -> FLEURY | C9: ='@CONFIG'!$C$4 -> Elodie | AJ9: =COUNTA($D$6:$AH$6) -> 31 | AK9: =AJ9-COUNTA(D9:AH9) -> 31 | AL9: =AK9+FEVRIER!AI9 -> 90
B10: =+'@CONFIG'!$B$5 -> HUET | C10: ='@CONFIG'!$C$5 -> Manuel | AJ10: =COUNTA($D$6:$AH$6) -> 31 | AK10: =AJ10-COUNTA(D10:AH10) -> 31 | AL10: =AK10+FEVRIER!AI10 -> 90
B11: =+'@CONFIG'!$B$6 -> MARTIN | C11: ='@CONFIG'!$C$6 -> Luc | AJ11: =COUNTA($D$6:$AH$6) -> 31 | AK11: =AJ11-COUNTA(D11:AH11) -> 31 | AL11: =AK11+FEVRIER!AI11 -> 90
B12: =+'@CONFIG'!$B$7 -> PETIT | C12: ='@CONFIG'!$C$7 -> Vanessa | AJ12: =COUNTA($D$6:$AH$6) -> 31 | AK12: =AJ12-COUNTA(D12:AH12) -> 31 | AL12: =AK12+FEVRIER!AI12 -> 90
B13: =+'@CONFIG'!$B$8 -> RICHARD | C13: ='@CONFIG'!$C$8 -> Dorian | AJ13: =COUNTA($D$6:$AH$6) -> 31 | AK13: =AJ13-COUNTA(D13:AH13) -> 31 | AL13: =AK13+FEVRIER!AI13 -> 90
B14: =+'@CONFIG'!$B$9 -> 0 | C14: ='@CONFIG'!$C$9 -> 0
B15: =+'@CONFIG'!$B$10 -> 0 | C15: ='@CONFIG'!$C$10 -> 0
B16: =+'@CONFIG'!$B$11 -> 0 | C16: ='@CONFIG'!$C$11 -> 0
B17: =+'@CONFIG'!$B$12 -> 0 | C17: ='@CONFIG'!$C$12 -> 0
B18: =+'@CONFIG'!$B$13 -> 0 | C18: ='@CONFIG'!$C$13 -> 0
B19: =IF('@CONFIG'!B125<>"",'@CONFIG'!B125,"") | AJ19: =SUM(AJ7:AJ18) -> 217 | AK19: =SUM(AK7:AK18) -> 217
B20: =IF('@CONFIG'!B126<>"",'@CONFIG'!B126,"") | AI20: Total annuel | AJ20: =AJ19+FEVRIER!AG20 -> 630 | AL20: =SUM(AL7:AL18) -> 630
B21: =IF('@CONFIG'!B127<>"",'@CONFIG'!B127,"")
B22: =IF('@CONFIG'!B128<>"",'@CONFIG'!B128,"")
B23: =IF('@CONFIG'!B129<>"",'@CONFIG'!B129,"")
B24: =IF('@CONFIG'!B130<>"",'@CONFIG'!B130,"")
B25: =IF('@CONFIG'!B131<>"",'@CONFIG'!B131,"")
B26: =IF('@CONFIG'!B132<>"",'@CONFIG'!B132,"")

Sheet AVRIL
B1: ='@CONFIG'!F6 -> 45017
B2: ='@CONFIG'!G6 -> 45046
D3: =B1 -> 45017 | E3: =D3+1 -> 45018 | F3: =E3+1 -> 45019 | G3: =F3+1 -> 45020 | H3: =G3+1 -> 45021 | I3: =H3+1 -> 45022 | J3: =I3+1 -> 45023 | K3: =J3+1 -> 45024 | L3: =K3+1 -> 45025 | ... AG3: =AF3+1 -> 45046
A4: 45017
D5: =DAY(D3) -> 1 | E5: =DAY(E3) -> 2 | F5: =DAY(F3) -> 3 | G5: =DAY(G3) -> 4 | H5: =DAY(H3) -> 5 | I5: =DAY(I3) -> 6 | J5: =DAY(J3) -> 7 | K5: =DAY(K3) -> 8 | ... AG5: =DAY(AG3) -> 30 | AI5: Journées théoriques | AJ5: journées effectives mensuelles | AK5: journées effectives annuelles
B6: NOM | C6: PRENOM | D6: =WEEKDAY(D3) -> 7 | E6: =WEEKDAY(E3) -> 1 | F6: =WEEKDAY(F3) -> 2 | G6: =WEEKDAY(G3) -> 3 | H6: =WEEKDAY(H3) -> 4 | I6: =WEEKDAY(I3) -> 5 | J6: =WEEKDAY(J3) -> 6 | K6: =WEEKDAY(K3) -> 7 | ... AG6: =WEEKDAY(AG3) -> 1
B7: =+'@CONFIG'!$B$2 -> BERNARD | C7: ='@CONFIG'!$C$2 -> Jean | AI7: =COUNTA($D$6:$AG$6) -> 30 | AJ7: =AI7-COUNTA(D7:AG7) -> 30 | AK7: =AJ7+MARS!AL7 -> 120
B8: =+'@CONFIG'!$B$3 -> DUBOIS | C8: ='@CONFIG'!$C$3 -> Thomas | AI8: =COUNTA($D$6:$AG$6) -> 30 | AJ8: =AI8-COUNTA(D8:AG8) -> 30 | AK8: =AJ8+MARS!AL8 -> 120
B9: =+'@CONFIG'!$B$4 -> FLEURY | C9: ='@CONFIG'!$C$4 -> Elodie | AI9: =COUNTA($D$6:$AG$6) -> 30 | AJ9: =AI9-COUNTA(D9:AG9) -> 30 | AK9: =AJ9+MARS!AL9 -> 120
B10: =+'@CONFIG'!$B$5 -> HUET | C10: ='@CONFIG'!$C$5 -> Manuel | AI10: =COUNTA($D$6:$AG$6) -> 30 | AJ10: =AI10-COUNTA(D10:AG10) -> 30 | AK10: =AJ10+MARS!AL10 -> 120
B11: =+'@CONFIG'!$B$6 -> MARTIN | C11: ='@CONFIG'!$C$6 -> Luc | AI11: =COUNTA($D$6:$AG$6) -> 30 | AJ11: =AI11-COUNTA(D11:AG11) -> 30 | AK11: =AJ11+MARS!AL11 -> 120
B12: =+'@CONFIG'!$B$7 -> PETIT | C12: ='@CONFIG'!$C$7 -> Vanessa | AI12: =COUNTA($D$6:$AG$6) -> 30 | AJ12: =AI12-COUNTA(D12:AG12) -> 30 | AK12: =AJ12+MARS!AL12 -> 120
B13: =+'@CONFIG'!$B$8 -> RICHARD | C13: ='@CONFIG'!$C$8 -> Dorian | AI13: =COUNTA($D$6:$AG$6) -> 30 | AJ13: =AI13-COUNTA(D13:AG13) -> 30 | AK13: =AJ13+MARS!AL13 -> 120
B14: =+'@CONFIG'!$B$9 -> 0 | C14: ='@CONFIG'!$C$9 -> 0
B15: =+'@CONFIG'!$B$10 -> 0 | C15: ='@CONFIG'!$C$10 -> 0
B16: =+'@CONFIG'!$B$11 -> 0 | C16: ='@CONFIG'!$C$11 -> 0
B17: =+'@CONFIG'!$B$12 -> 0 | C17: ='@CONFIG'!$C$12 -> 0
B18: =+'@CONFIG'!$B$13 -> 0 | C18: ='@CONFIG'!$C$13 -> 0
B19: =IF('@CONFIG'!B123<>"",'@CONFIG'!B123,"") | AI19: =SUM(AI7:AI18) -> 210 | AJ19: =SUM(AJ7:AJ18) -> 210
B20: =IF('@CONFIG'!B124<>"",'@CONFIG'!B124,"") | AH20: Total annuel | AI20: =AI19+MARS!AJ20 -> 840 | AK20: =SUM(AK7:AK18) -> 840
B21: =IF('@CONFIG'!B125<>"",'@CONFIG'!B125,"")
B22: =IF('@CONFIG'!B126<>"",'@CONFIG'!B126,"")
B23: =IF('@CONFIG'!B127<>"",'@CONFIG'!B127,"")
B24: =IF('@CONFIG'!B128<>"",'@CONFIG'!B128,"")
B25: =IF('@CONFIG'!B129<>"",'@CONFIG'!B129,"")
B26: =IF('@CONFIG'!B130<>"",'@CONFIG'!B130,"")
B27: =IF('@CONFIG'!B131<>"",'@CONFIG'!B131,"")
B28: =IF('@CONFIG'!B132<>"",'@CONFIG'!B132,"")

Sheet MAI
B1: ='@CONFIG'!F7 -> 45047
B2: ='@CONFIG'!G7 -> 45077
D3: =B1 -> 45047 | E3: =D3+1 -> 45048 | F3: =E3+1 -> 45049 | G3: =F3+1 -> 45050 | H3: =G3+1 -> 45051 | I3: =H3+1 -> 45052 | J3: =I3+1 -> 45053 | K3: =J3+1 -> 45054 | L3: =K3+1 -> 45055 | ... AH3: =AG3+1 -> 45077
A4: 45047
D5: =DAY(D3) -> 1 | E5: =DAY(E3) -> 2 | F5: =DAY(F3) -> 3 | G5: =DAY(G3) -> 4 | H5: =DAY(H3) -> 5 | I5: =DAY(I3) -> 6 | J5: =DAY(J3) -> 7 | K5: =DAY(K3) -> 8 | ... AH5: =DAY(AH3) -> 31 | AJ5: Journées théoriques | AK5: journées effectives mensuelles | AL5: journées effectives annuelles
B6: NOM | C6: PRENOM | D6: =WEEKDAY(D3) -> 2 | E6: =WEEKDAY(E3) -> 3 | F6: =WEEKDAY(F3) -> 4 | G6: =WEEKDAY(G3) -> 5 | H6: =WEEKDAY(H3) -> 6 | I6: =WEEKDAY(I3) -> 7 | J6: =WEEKDAY(J3) -> 1 | K6: =WEEKDAY(K3) -> 2 | ... AH6: =WEEKDAY(AH3) -> 4
B7: =+'@CONFIG'!$B$2 -> BERNARD | C7: ='@CONFIG'!$C$2 -> Jean | AJ7: =COUNTA($D$6:$AG$6) -> 30 | AK7: =AJ7-COUNTA(E7:AH7) -> 30 | AL7: =AK7+AVRIL!AK7 -> 150
B8: =+'@CONFIG'!$B$3 -> DUBOIS | C8: ='@CONFIG'!$C$3 -> Thomas | AJ8: =COUNTA($D$6:$AG$6) -> 30 | AK8: =AJ8-COUNTA(E8:AH8) -> 30 | AL8: =AK8+AVRIL!AK8 -> 150
B9: =+'@CONFIG'!$B$4 -> FLEURY | C9: ='@CONFIG'!$C$4 -> Elodie | AJ9: =COUNTA($D$6:$AG$6) -> 30 | AK9: =AJ9-COUNTA(E9:AH9) -> 30 | AL9: =AK9+AVRIL!AK9 -> 150
B10: =+'@CONFIG'!$B$5 -> HUET | C10: ='@CONFIG'!$C$5 -> Manuel | AJ10: =COUNTA($D$6:$AG$6) -> 30 | AK10: =AJ10-COUNTA(E10:AH10) -> 30 | AL10: =AK10+AVRIL!AK10 -> 150
B11: =+'@CONFIG'!$B$6 -> MARTIN | C11: ='@CONFIG'!$C$6 -> Luc | AJ11: =COUNTA($D$6:$AG$6) -> 30 | AK11: =AJ11-COUNTA(E11:AH11) -> 30 | AL11: =AK11+AVRIL!AK11 -> 150
B12: =+'@CONFIG'!$B$7 -> PETIT | C12: ='@CONFIG'!$C$7 -> Vanessa | AJ12: =COUNTA($D$6:$AG$6) -> 30 | AK12: =AJ12-COUNTA(E12:AH12) -> 30 | AL12: =AK12+AVRIL!AK12 -> 150
B13: =+'@CONFIG'!$B$8 -> RICHARD | C13: ='@CONFIG'!$C$8 -> Dorian | AJ13: =COUNTA($D$6:$AG$6) -> 30 | AK13: =AJ13-COUNTA(E13:AH13) -> 30 | AL13: =AK13+AVRIL!AK13 -> 150
B14: =+'@CONFIG'!$B$9 -> 0 | C14: ='@CONFIG'!$C$9 -> 0
B15: =+'@CONFIG'!$B$10 -> 0 | C15: ='@CONFIG'!$C$10 -> 0
B16: =+'@CONFIG'!$B$11 -> 0 | C16: ='@CONFIG'!$C$11 -> 0
B17: =+'@CONFIG'!$B$12 -> 0 | C17: ='@CONFIG'!$C$12 -> 0
B18: =+'@CONFIG'!$B$13 -> 0 | C18: ='@CONFIG'!$C$13 -> 0
B19: =IF('@CONFIG'!B123<>"",'@CONFIG'!B123,"") | AJ19: =SUM(AJ7:AJ18) -> 210 | AK19: =SUM(AK7:AK18) -> 210
B20: =IF('@CONFIG'!B124<>"",'@CONFIG'!B124,"") | AI20: Total annuel | AJ20: =AJ19+AVRIL!AI20 -> 1050 | AL20: =SUM(AL7:AL18) -> 1050
B21: =IF('@CONFIG'!B125<>"",'@CONFIG'!B125,"")
B22: =IF('@CONFIG'!B126<>"",'@CONFIG'!B126,"")
B23: =IF('@CONFIG'!B127<>"",'@CONFIG'!B127,"")
B24: =IF('@CONFIG'!B128<>"",'@CONFIG'!B128,"")
B25: =IF('@CONFIG'!B129<>"",'@CONFIG'!B129,"")
B26: =IF('@CONFIG'!B130<>"",'@CONFIG'!B130,"")
B27: =IF('@CONFIG'!B131<>"",'@CONFIG'!B131,"")
B28: =IF('@CONFIG'!B132<>"",'@CONFIG'!B132,"")

Sheet JUIN
B1: ='@CONFIG'!F8 -> 45078
B2: ='@CONFIG'!G8 -> 45107
D3: =B1 -> 45078 | E3: =D3+1 -> 45079 | F3: =E3+1 -> 45080 | G3: =F3+1 -> 45081 | H3: =G3+1 -> 45082 | I3: =H3+1 -> 45083 | J3: =I3+1 -> 45084 | K3: =J3+1 -> 45085 | L3: =K3+1 -> 45086 | ... AG3: =AF3+1 -> 45107
A4: 45078
D5: =DAY(D3) -> 1 | E5: =DAY(E3) -> 2 | F5: =DAY(F3) -> 3 | G5: =DAY(G3) -> 4 | H5: =DAY(H3) -> 5 | I5: =DAY(I3) -> 6 | J5: =DAY(J3) -> 7 | K5: =DAY(K3) -> 8 | ... AG5: =DAY(AG3) -> 30 | AI5: Journées théoriques | AJ5: journées effectives mensuelles | AK5: journées effectives annuelles
B6: NOM | C6: PRENOM | D6: =WEEKDAY(D3) -> 5 | E6: =WEEKDAY(E3) -> 6 | F6: =WEEKDAY(F3) -> 7 | G6: =WEEKDAY(G3) -> 1 | H6: =WEEKDAY(H3) -> 2 | I6: =WEEKDAY(I3) -> 3 | J6: =WEEKDAY(J3) -> 4 | K6: =WEEKDAY(K3) -> 5 | ... AG6: =WEEKDAY(AG3) -> 6
B7: =+'@CONFIG'!$B$2 -> BERNARD | C7: ='@CONFIG'!$C$2 -> Jean | AI7: =COUNTA($D$6:$AG$6) -> 30 | AJ7: =AI7-COUNTA(E7:AG7) -> 30 | AK7: =AJ7+MAI!AL7 -> 180
B8: =+'@CONFIG'!$B$3 -> DUBOIS | C8: ='@CONFIG'!$C$3 -> Thomas | AI8: =COUNTA($D$6:$AG$6) -> 30 | AJ8: =AI8-COUNTA(E8:AG8) -> 30 | AK8: =AJ8+MAI!AL8 -> 180
B9: =+'@CONFIG'!$B$4 -> FLEURY | C9: ='@CONFIG'!$C$4 -> Elodie | AI9: =COUNTA($D$6:$AG$6) -> 30 | AJ9: =AI9-COUNTA(E9:AG9) -> 30 | AK9: =AJ9+MAI!AL9 -> 180
B10: =+'@CONFIG'!$B$5 -> HUET | C10: ='@CONFIG'!$C$5 -> Manuel | AI10: =COUNTA($D$6:$AG$6) -> 30 | AJ10: =AI10-COUNTA(E10:AG10) -> 30 | AK10: =AJ10+MAI!AL10 -> 180
B11: =+'@CONFIG'!$B$6 -> MARTIN | C11: ='@CONFIG'!$C$6 -> Luc | AI11: =COUNTA($D$6:$AG$6) -> 30 | AJ11: =AI11-COUNTA(E11:AG11) -> 30 | AK11: =AJ11+MAI!AL11 -> 180
B12: =+'@CONFIG'!$B$7 -> PETIT | C12: ='@CONFIG'!$C$7 -> Vanessa | AI12: =COUNTA($D$6:$AG$6) -> 30 | AJ12: =AI12-COUNTA(E12:AG12) -> 30 | AK12: =AJ12+MAI!AL12 -> 180
B13: =+'@CONFIG'!$B$8 -> RICHARD | C13: ='@CONFIG'!$C$8 -> Dorian | AI13: =COUNTA($D$6:$AG$6) -> 30 | AJ13: =AI13-COUNTA(E13:AG13) -> 30 | AK13: =AJ13+MAI!AL13 -> 180
B14: =+'@CONFIG'!$B$9 -> 0 | C14: ='@CONFIG'!$C$9 -> 0
B15: =+'@CONFIG'!$B$10 -> 0 | C15: ='@CONFIG'!$C$10 -> 0
B16: =+'@CONFIG'!$B$11 -> 0 | C16: ='@CONFIG'!$C$11 -> 0
B17: =+'@CONFIG'!$B$12 -> 0 | C17: ='@CONFIG'!$C$12 -> 0
B18: =+'@CONFIG'!$B$13 -> 0 | C18: ='@CONFIG'!$C$13 -> 0
B19: =IF('@CONFIG'!B125<>"",'@CONFIG'!B125,"") | AI19: =SUM(AI7:AI18) -> 210 | AJ19: =SUM(AJ7:AJ18) -> 210
B20: =IF('@CONFIG'!B126<>"",'@CONFIG'!B126,"") | AH20: Total annuel | AI20: =AI19+MAI!AJ20 -> 1260 | AK20: =SUM(AK7:AK18) -> 1260
B21: =IF('@CONFIG'!B127<>"",'@CONFIG'!B127,"")
B22: =IF('@CONFIG'!B128<>"",'@CONFIG'!B128,"")
B23: =IF('@CONFIG'!B129<>"",'@CONFIG'!B129,"")
B24: =IF('@CONFIG'!B130<>"",'@CONFIG'!B130,"")
B25: =IF('@CONFIG'!B131<>"",'@CONFIG'!B131,"")
B26: =IF('@CONFIG'!B132<>"",'@CONFIG'!B132,"")

Sheet JUILLET
B1: ='@CONFIG'!F9 -> 45108
B2: ='@CONFIG'!G9 -> 45138
D3: =B1 -> 45108 | E3: =D3+1 -> 45109 | F3: =E3+1 -> 45110 | G3: =F3+1 -> 45111 | H3: =G3+1 -> 45112 | I3: =H3+1 -> 45113 | J3: =I3+1 -> 45114 | K3: =J3+1 -> 45115 | L3: =K3+1 -> 45116 | ... AH3: =AG3+1 -> 45138
A4: 45108
D5: =DAY(D3) -> 1 | E5: =DAY(E3) -> 2 | F5: =DAY(F3) -> 3 | G5: =DAY(G3) -> 4 | H5: =DAY(H3) -> 5 | I5: =DAY(I3) -> 6 | J5: =DAY(J3) -> 7 | K5: =DAY(K3) -> 8 | ... AH5: =DAY(AH3) -> 31 | AJ5: Journées théoriques | AK5: journées effectives mensuelles | AL5: journées effectives annuelles
B6: NOM | C6: PRENOM | D6: =WEEKDAY(D3) -> 7 | E6: =WEEKDAY(E3) -> 1 | F6: =WEEKDAY(F3) -> 2 | G6: =WEEKDAY(G3) -> 3 | H6: =WEEKDAY(H3) -> 4 | I6: =WEEKDAY(I3) -> 5 | J6: =WEEKDAY(J3) -> 6 | K6: =WEEKDAY(K3) -> 7 | ... AH6: =WEEKDAY(AH3) -> 2
B7: =+'@CONFIG'!$B$2 -> BERNARD | C7: ='@CONFIG'!$C$2 -> Jean | AJ7: =COUNTA($D$6:$AH$6) -> 31 | AK7: =AJ7-COUNTA(D7:AH7) -> 31 | AL7: =AK7+JUIN!AK7 -> 211
B8: =+'@CONFIG'!$B$3 -> DUBOIS | C8: ='@CONFIG'!$C$3 -> Thomas | AJ8: =COUNTA($D$6:$AH$6) -> 31 | AK8: =AJ8-COUNTA(D8:AH8) -> 31 | AL8: =AK8+JUIN!AK8 -> 211
B9: =+'@CONFIG'!$B$4 -> FLEURY | C9: ='@CONFIG'!$C$4 -> Elodie | AJ9: =COUNTA($D$6:$AH$6) -> 31 | AK9: =AJ9-COUNTA(D9:AH9) -> 31 | AL9: =AK9+JUIN!AK9 -> 211
B10: =+'@CONFIG'!$B$5 -> HUET | C10: ='@CONFIG'!$C$5 -> Manuel | AJ10: =COUNTA($D$6:$AH$6) -> 31 | AK10: =AJ10-COUNTA(D10:AH10) -> 31 | AL10: =AK10+JUIN!AK10 -> 211
B11: =+'@CONFIG'!$B$6 -> MARTIN | C11: ='@CONFIG'!$C$6 -> Luc | AJ11: =COUNTA($D$6:$AH$6) -> 31 | AK11: =AJ11-COUNTA(D11:AH11) -> 31 | AL11: =AK11+JUIN!AK11 -> 211
B12: =+'@CONFIG'!$B$7 -> PETIT | C12: ='@CONFIG'!$C$7 -> Vanessa | AJ12: =COUNTA($D$6:$AH$6) -> 31 | AK12: =AJ12-COUNTA(D12:AH12) -> 31 | AL12: =AK12+JUIN!AK12 -> 211
B13: =+'@CONFIG'!$B$8 -> RICHARD | C13: ='@CONFIG'!$C$8 -> Dorian | AJ13: =COUNTA($D$6:$AH$6) -> 31 | AK13: =AJ13-COUNTA(D13:AH13) -> 31 | AL13: =AK13+JUIN!AK13 -> 211
B14: =+'@CONFIG'!$B$9 -> 0 | C14: ='@CONFIG'!$C$9 -> 0
B15: =+'@CONFIG'!$B$10 -> 0 | C15: ='@CONFIG'!$C$10 -> 0
B16: =+'@CONFIG'!$B$11 -> 0 | C16: ='@CONFIG'!$C$11 -> 0
B17: =+'@CONFIG'!$B$12 -> 0 | C17: ='@CONFIG'!$C$12 -> 0
B18: =+'@CONFIG'!$B$13 -> 0 | C18: ='@CONFIG'!$C$13 -> 0
B19: =IF('@CONFIG'!B90<>"",'@CONFIG'!B90,"") | C19: =IF('@CONFIG'!C90<>"",'@CONFIG'!C90,"") | AJ19: =SUM(AJ7:AJ18) -> 217 | AK19: =SUM(AK7:AK18) -> 217
B20: =IF('@CONFIG'!B91<>"",'@CONFIG'!B91,"") | C20: =IF('@CONFIG'!C91<>"",'@CONFIG'!C91,"") | AI20: Total annuel | AJ20: =AJ19+JUIN!AI20 -> 1477 | AL20: =SUM(AL7:AL18) -> 1477
B21: =IF('@CONFIG'!B92<>"",'@CONFIG'!B92,"") | C21: =IF('@CONFIG'!C92<>"",'@CONFIG'!C92,"")
B22: =IF('@CONFIG'!B93<>"",'@CONFIG'!B93,"") | C22: =IF('@CONFIG'!C93<>"",'@CONFIG'!C93,"")
B23: =IF('@CONFIG'!B94<>"",'@CONFIG'!B94,"") | C23: =IF('@CONFIG'!C94<>"",'@CONFIG'!C94,"")
B24: =IF('@CONFIG'!B95<>"",'@CONFIG'!B95,"") | C24: =IF('@CONFIG'!C95<>"",'@CONFIG'!C95,"")
B25: =IF('@CONFIG'!B96<>"",'@CONFIG'!B96,"") | C25: =IF('@CONFIG'!C96<>"",'@CONFIG'!C96,"")
B26: =IF('@CONFIG'!B97<>"",'@CONFIG'!B97,"") | C26: =IF('@CONFIG'!C97<>"",'@CONFIG'!C97,"")
B27: =IF('@CONFIG'!B98<>"",'@CONFIG'!B98,"") | C27: =IF('@CONFIG'!C98<>"",'@CONFIG'!C98,"")
B28: =IF('@CONFIG'!B99<>"",'@CONFIG'!B99,"") | C28: =IF('@CONFIG'!C99<>"",'@CONFIG'!C99,"")
B29: =IF('@CONFIG'!B100<>"",'@CONFIG'!B100,"")
B30: =IF('@CONFIG'!B101<>"",'@CONFIG'!B101,"")
B31: =IF('@CONFIG'!B102<>"",'@CONFIG'!B102,"")
B32: =IF('@CONFIG'!B103<>"",'@CONFIG'!B103,"")
B33: =IF('@CONFIG'!B104<>"",'@CONFIG'!B104,"")
B34: =IF('@CONFIG'!B105<>"",'@CONFIG'!B105,"")
B35: =IF('@CONFIG'!B106<>"",'@CONFIG'!B106,"")
B36: =IF('@CONFIG'!B107<>"",'@CONFIG'!B107,"")
B37: =IF('@CONFIG'!B108<>"",'@CONFIG'!B108,"")
B38: =IF('@CONFIG'!B109<>"",'@CONFIG'!B109,"")
B39: =IF('@CONFIG'!B110<>"",'@CONFIG'!B110,"")
B40: =IF('@CONFIG'!B111<>"",'@CONFIG'!B111,"")
... B61: =IF('@CONFIG'!B132<>"",'@CONFIG'!B132,"")

Sheet SEPTEMBRE
B1: ='@CONFIG'!F11 -> 45170
B2: ='@CONFIG'!G11 -> 45199
D3: =B1 -> 45170 | E3: =D3+1 -> 45171 | F3: =E3+1 -> 45172 | G3: =F3+1 -> 45173 | H3: =G3+1 -> 45174 | I3: =H3+1 -> 45175 | J3: =I3+1 -> 45176 | K3: =J3+1 -> 45177 | L3: =K3+1 -> 45178 | ... AG3: =AF3+1 -> 45199
A4: 45170
D5: =DAY(D3) -> 1 | E5: =DAY(E3) -> 2 | F5: =DAY(F3) -> 3 | G5: =DAY(G3) -> 4 | H5: =DAY(H3) -> 5 | I5: =DAY(I3) -> 6 | J5: =DAY(J3) -> 7 | K5: =DAY(K3) -> 8 | ... AG5: =DAY(AG3) -> 30 | AI5: Journées théoriques | AJ5: journées effectives mensuelles | AK5: journées effectives annuelles
B6: NOM | C6: PRENOM | D6: =WEEKDAY(D3) -> 6 | E6: =WEEKDAY(E3) -> 7 | F6: =WEEKDAY(F3) -> 1 | G6: =WEEKDAY(G3) -> 2 | H6: =WEEKDAY(H3) -> 3 | I6: =WEEKDAY(I3) -> 4 | J6: =WEEKDAY(J3) -> 5 | K6: =WEEKDAY(K3) -> 6 | ... AG6: =WEEKDAY(AG3) -> 7
B7: =+'@CONFIG'!$B$2 -> BERNARD | C7: ='@CONFIG'!$C$2 -> Jean | AI7: =COUNTA($D$6:$AG$6) -> 30 | AJ7: =AI7-COUNTA(D7:AG7) -> 30 | AK7: =AJ7+JUILLET!AL7 -> 241
B8: =+'@CONFIG'!$B$3 -> DUBOIS | C8: ='@CONFIG'!$C$3 -> Thomas | AI8: =COUNTA($D$6:$AG$6) -> 30 | AJ8: =AI8-COUNTA(D8:AG8) -> 30 | AK8: =AJ8+JUILLET!AL8 -> 241
B9: =+'@CONFIG'!$B$4 -> FLEURY | C9: ='@CONFIG'!$C$4 -> Elodie | AI9: =COUNTA($D$6:$AG$6) -> 30 | AJ9: =AI9-COUNTA(D9:AG9) -> 30 | AK9: =AJ9+JUILLET!AL9 -> 241
B10: =+'@CONFIG'!$B$5 -> HUET | C10: ='@CONFIG'!$C$5 -> Manuel | AI10: =COUNTA($D$6:$AG$6) -> 30 | AJ10: =AI10-COUNTA(D10:AG10) -> 30 | AK10: =AJ10+JUILLET!AL10 -> 241
B11: =+'@CONFIG'!$B$6 -> MARTIN | C11: ='@CONFIG'!$C$6 -> Luc | AI11: =COUNTA($D$6:$AG$6) -> 30 | AJ11: =AI11-COUNTA(D11:AG11) -> 30 | AK11: =AJ11+JUILLET!AL11 -> 241
B12: =+'@CONFIG'!$B$7 -> PETIT | C12: ='@CONFIG'!$C$7 -> Vanessa | AI12: =COUNTA($D$6:$AG$6) -> 30 | AJ12: =AI12-COUNTA(D12:AG12) -> 30 | AK12: =AJ12+JUILLET!AL12 -> 241
B13: =+'@CONFIG'!$B$8 -> RICHARD | C13: ='@CONFIG'!$C$8 -> Dorian | AI13: =COUNTA($D$6:$AG$6) -> 30 | AJ13: =AI13-COUNTA(D13:AG13) -> 30 | AK13: =AJ13+JUILLET!AL13 -> 241
B14: =+'@CONFIG'!$B$9 -> 0 | C14: ='@CONFIG'!$C$9 -> 0
B15: =+'@CONFIG'!$B$10 -> 0 | C15: ='@CONFIG'!$C$10 -> 0
B16: =+'@CONFIG'!$B$11 -> 0 | C16: ='@CONFIG'!$C$11 -> 0
B17: =+'@CONFIG'!$B$12 -> 0 | C17: ='@CONFIG'!$C$12 -> 0
B18: =+'@CONFIG'!$B$13 -> 0 | C18: ='@CONFIG'!$C$13 -> 0
B19: =IF('@CONFIG'!B102<>"",'@CONFIG'!B102,"") | AI19: =SUM(AI7:AI18) -> 210 | AJ19: =SUM(AJ7:AJ18) -> 210
B20: =IF('@CONFIG'!B103<>"",'@CONFIG'!B103,"") | AH20: Total annuel | AI20: =AI19+JUILLET!AJ20 -> 1687 | AK20: =SUM(AK7:AK18) -> 1687
B21: =IF('@CONFIG'!B104<>"",'@CONFIG'!B104,"")
B22: =IF('@CONFIG'!B105<>"",'@CONFIG'!B105,"")
B23: =IF('@CONFIG'!B106<>"",'@CONFIG'!B106,"")
B24: =IF('@CONFIG'!B107<>"",'@CONFIG'!B107,"")
B25: =IF('@CONFIG'!B108<>"",'@CONFIG'!B108,"")
B26: =IF('@CONFIG'!B109<>"",'@CONFIG'!B109,"")
B27: =IF('@CONFIG'!B110<>"",'@CONFIG'!B110,"")
B28: =IF('@CONFIG'!B111<>"",'@CONFIG'!B111,"")
B29: =IF('@CONFIG'!B112<>"",'@CONFIG'!B112,"")
B30: =IF('@CONFIG'!B113<>"",'@CONFIG'!B113,"")
B31: =IF('@CONFIG'!B114<>"",'@CONFIG'!B114,"")
B32: =IF('@CONFIG'!B115<>"",'@CONFIG'!B115,"")
... B49: =IF('@CONFIG'!B132<>"",'@CONFIG'!B132,"")

Sheet OCTOBRE
B1: ='@CONFIG'!F12 -> 45200
B2: ='@CONFIG'!G12 -> 45230
D3: =B1 -> 45200 | E3: =D3+1 -> 45201 | F3: =E3+1 -> 45202 | G3: =F3+1 -> 45203 | H3: =G3+1 -> 45204 | I3: =H3+1 -> 45205 | J3: =I3+1 -> 45206 | K3: =J3+1 -> 45207 | L3: =K3+1 -> 45208 | ... AH3: =AG3+1 -> 45230
A4: 45200
D5: =DAY(D3) -> 1 | E5: =DAY(E3) -> 2 | F5: =DAY(F3) -> 3 | G5: =DAY(G3) -> 4 | H5: =DAY(H3) -> 5 | I5: =DAY(I3) -> 6 | J5: =DAY(J3) -> 7 | K5: =DAY(K3) -> 8 | ... AH5: =DAY(AH3) -> 31 | AJ5: Journées théoriques | AK5: journées effectives mensuelles | AL5: journées effectives annuelles
B6: NOM | C6: PRENOM | D6: =WEEKDAY(D3) -> 1 | E6: =WEEKDAY(E3) -> 2 | F6: =WEEKDAY(F3) -> 3 | G6: =WEEKDAY(G3) -> 4 | H6: =WEEKDAY(H3) -> 5 | I6: =WEEKDAY(I3) -> 6 | J6: =WEEKDAY(J3) -> 7 | K6: =WEEKDAY(K3) -> 1 | ... AH6: =WEEKDAY(AH3) -> 3
B7: =+'@CONFIG'!$B$2 -> BERNARD | C7: ='@CONFIG'!$C$2 -> Jean | AJ7: =COUNTA($D$6:$AH$6) -> 31 | AK7: =AJ7-COUNTA(D7:AH7) -> 31 | AL7: =AK7+SEPTEMBRE!AK7 -> 272
B8: =+'@CONFIG'!$B$3 -> DUBOIS | C8: ='@CONFIG'!$C$3 -> Thomas | AJ8: =COUNTA($D$6:$AH$6) -> 31 | AK8: =AJ8-COUNTA(D8:AH8) -> 31 | AL8: =AK8+SEPTEMBRE!AK8 -> 272
B9: =+'@CONFIG'!$B$4 -> FLEURY | C9: ='@CONFIG'!$C$4 -> Elodie | AJ9: =COUNTA($D$6:$AH$6) -> 31 | AK9: =AJ9-COUNTA(D9:AH9) -> 31 | AL9: =AK9+SEPTEMBRE!AK9 -> 272
B10: =+'@CONFIG'!$B$5 -> HUET | C10: ='@CONFIG'!$C$5 -> Manuel | AJ10: =COUNTA($D$6:$AH$6) -> 31 | AK10: =AJ10-COUNTA(D10:AH10) -> 31 | AL10: =AK10+SEPTEMBRE!AK10 -> 272
B11: =+'@CONFIG'!$B$6 -> MARTIN | C11: ='@CONFIG'!$C$6 -> Luc | AJ11: =COUNTA($D$6:$AH$6) -> 31 | AK11: =AJ11-COUNTA(D11:AH11) -> 31 | AL11: =AK11+SEPTEMBRE!AK11 -> 272
B12: =+'@CONFIG'!$B$7 -> PETIT | C12: ='@CONFIG'!$C$7 -> Vanessa | AJ12: =COUNTA($D$6:$AH$6) -> 31 | AK12: =AJ12-COUNTA(D12:AH12) -> 31 | AL12: =AK12+SEPTEMBRE!AK12 -> 272
B13: =+'@CONFIG'!$B$8 -> RICHARD | C13: ='@CONFIG'!$C$8 -> Dorian | AJ13: =COUNTA($D$6:$AH$6) -> 31 | AK13: =AJ13-COUNTA(D13:AH13) -> 31 | AL13: =AK13+SEPTEMBRE!AK13 -> 272
B14: =+'@CONFIG'!$B$9 -> 0 | C14: ='@CONFIG'!$C$9 -> 0
B15: =+'@CONFIG'!$B$10 -> 0 | C15: ='@CONFIG'!$C$10 -> 0
B16: =+'@CONFIG'!$B$11 -> 0 | C16: ='@CONFIG'!$C$11 -> 0
B17: =+'@CONFIG'!$B$12 -> 0 | C17: ='@CONFIG'!$C$12 -> 0
B18: =+'@CONFIG'!$B$13 -> 0 | C18: ='@CONFIG'!$C$13 -> 0
AJ19: =SUM(AJ7:AJ18) -> 217 | AK19: =SUM(AK7:AK18) -> 217
AI20: Total annuel | AJ20: =AJ19+SEPTEMBRE!AI20 -> 1904 | AL20: =SUM(AL7:AL18) -> 1904

Sheet NOVEMBRE
B1: ='@CONFIG'!F13 -> 45231
B2: ='@CONFIG'!G13 -> 45260
D3: =B1 -> 45231 | E3: =D3+1 -> 45232 | F3: =E3+1 -> 45233 | G3: =F3+1 -> 45234 | H3: =G3+1 -> 45235 | I3: =H3+1 -> 45236 | J3: =I3+1 -> 45237 | K3: =J3+1 -> 45238 | L3: =K3+1 -> 45239 | ... AG3: =AF3+1 -> 45260
A4: 45231
D5: =DAY(D3) -> 1 | E5: =DAY(E3) -> 2 | F5: =DAY(F3) -> 3 | G5: =DAY(G3) -> 4 | H5: =DAY(H3) -> 5 | I5: =DAY(I3) -> 6 | J5: =DAY(J3) -> 7 | K5: =DAY(K3) -> 8 | ... AG5: =DAY(AG3) -> 30 | AI5: Journées théoriques | AJ5: journées effectives mensuelles | AK5: journées effectives annuelles
B6: NOM | C6: PRENOM | D6: =WEEKDAY(D3) -> 4 | E6: =WEEKDAY(E3) -> 5 | F6: =WEEKDAY(F3) -> 6 | G6: =WEEKDAY(G3) -> 7 | H6: =WEEKDAY(H3) -> 1 | I6: =WEEKDAY(I3) -> 2 | J6: =WEEKDAY(J3) -> 3 | K6: =WEEKDAY(K3) -> 4 | ... AG6: =WEEKDAY(AG3) -> 5
B7: =+'@CONFIG'!$B$2 -> BERNARD | C7: ='@CONFIG'!$C$2 -> Jean | AI7: =COUNTA($D$6:$AG$6) -> 30 | AJ7: =AI7-COUNTA(D7:AG7) -> 30 | AK7: =AJ7+OCTOBRE!AL7 -> 302
B8: =+'@CONFIG'!$B$3 -> DUBOIS | C8: ='@CONFIG'!$C$3 -> Thomas | AI8: =COUNTA($D$6:$AG$6) -> 30 | AJ8: =AI8-COUNTA(D8:AG8) -> 30 | AK8: =AJ8+OCTOBRE!AL8 -> 302
B9: =+'@CONFIG'!$B$4 -> FLEURY | C9: ='@CONFIG'!$C$4 -> Elodie | AI9: =COUNTA($D$6:$AG$6) -> 30 | AJ9: =AI9-COUNTA(D9:AG9) -> 30 | AK9: =AJ9+OCTOBRE!AL9 -> 302
B10: =+'@CONFIG'!$B$5 -> HUET | C10: ='@CONFIG'!$C$5 -> Manuel | AI10: =COUNTA($D$6:$AG$6) -> 30 | AJ10: =AI10-COUNTA(D10:AG10) -> 30 | AK10: =AJ10+OCTOBRE!AL10 -> 302
B11: =+'@CONFIG'!$B$6 -> MARTIN | C11: ='@CONFIG'!$C$6 -> Luc | AI11: =COUNTA($D$6:$AG$6) -> 30 | AJ11: =AI11-COUNTA(D11:AG11) -> 30 | AK11: =AJ11+OCTOBRE!AL11 -> 302
B12: =+'@CONFIG'!$B$7 -> PETIT | C12: ='@CONFIG'!$C$7 -> Vanessa | AI12: =COUNTA($D$6:$AG$6) -> 30 | AJ12: =AI12-COUNTA(D12:AG12) -> 30 | AK12: =AJ12+OCTOBRE!AL12 -> 302
B13: =+'@CONFIG'!$B$8 -> RICHARD | C13: ='@CONFIG'!$C$8 -> Dorian | AI13: =COUNTA($D$6:$AG$6) -> 30 | AJ13: =AI13-COUNTA(D13:AG13) -> 30 | AK13: =AJ13+OCTOBRE!AL13 -> 302
B14: =+'@CONFIG'!$B$9 -> 0 | C14: ='@CONFIG'!$C$9 -> 0
B15: =+'@CONFIG'!$B$10 -> 0 | C15: ='@CONFIG'!$C$10 -> 0
B16: =+'@CONFIG'!$B$11 -> 0 | C16: ='@CONFIG'!$C$11 -> 0
B17: =+'@CONFIG'!$B$12 -> 0 | C17: ='@CONFIG'!$C$12 -> 0
B18: =+'@CONFIG'!$B$13 -> 0 | C18: ='@CONFIG'!$C$13 -> 0
B19: =IF('@CONFIG'!B125<>"",'@CONFIG'!B125,"") | AI19: =SUM(AI7:AI18) -> 210 | AJ19: =SUM(AJ7:AJ18) -> 210
B20: =IF('@CONFIG'!B126<>"",'@CONFIG'!B126,"") | AH20: Total annuel | AI20: =AI19+OCTOBRE!AJ20 -> 2114 | AK20: =SUM(AK7:AK18) -> 2114
B21: =IF('@CONFIG'!B127<>"",'@CONFIG'!B127,"")
B22: =IF('@CONFIG'!B128<>"",'@CONFIG'!B128,"")
B23: =IF('@CONFIG'!B129<>"",'@CONFIG'!B129,"")
B24: =IF('@CONFIG'!B130<>"",'@CONFIG'!B130,"")
B25: =IF('@CONFIG'!B131<>"",'@CONFIG'!B131,"")
B26: =IF('@CONFIG'!B132<>"",'@CONFIG'!B132,"")

Sheet DECEMBRE
B1: ='@CONFIG'!F14 -> 45261
B2: ='@CONFIG'!G14 -> 45291
D3: =B1 -> 45261 | E3: =D3+1 -> 45262 | F3: =E3+1 -> 45263 | G3: =F3+1 -> 45264 | H3: =G3+1 -> 45265 | I3: =H3+1 -> 45266 | J3: =I3+1 -> 45267 | K3: =J3+1 -> 45268 | L3: =K3+1 -> 45269 | ... AH3: =AG3+1 -> 45291
A4: 45261
D5: =DAY(D3) -> 1 | E5: =DAY(E3) -> 2 | F5: =DAY(F3) -> 3 | G5: =DAY(G3) -> 4 | H5: =DAY(H3) -> 5 | I5: =DAY(I3) -> 6 | J5: =DAY(J3) -> 7 | K5: =DAY(K3) -> 8 | ... AH5: =DAY(AH3) -> 31 | AJ5: Journées théoriques | AK5: journées effectives mensuelles | AL5: journées effectives annuelles
B6: NOM | C6: PRENOM | D6: =WEEKDAY(D3) -> 6 | E6: =WEEKDAY(E3) -> 7 | F6: =WEEKDAY(F3) -> 1 | G6: =WEEKDAY(G3) -> 2 | H6: =WEEKDAY(H3) -> 3 | I6: =WEEKDAY(I3) -> 4 | J6: =WEEKDAY(J3) -> 5 | K6: =WEEKDAY(K3) -> 6 | ... AH6: =WEEKDAY(AH3) -> 1
B7: =+'@CONFIG'!$B$2 -> BERNARD | C7: ='@CONFIG'!$C$2 -> Jean | AJ7: =COUNTA($D$6:$AH$6) -> 31 | AK7: =AJ7-COUNTA(D7:AH7) -> 31 | AL7: =AK7+NOVEMBRE!AK7 -> 333
B8: =+'@CONFIG'!$B$3 -> DUBOIS | C8: ='@CONFIG'!$C$3 -> Thomas | AJ8: =COUNTA($D$6:$AH$6) -> 31 | AK8: =AJ8-COUNTA(D8:AH8) -> 31 | AL8: =AK8+NOVEMBRE!AK8 -> 333
B9: =+'@CONFIG'!$B$4 -> FLEURY | C9: ='@CONFIG'!$C$4 -> Elodie | AJ9: =COUNTA($D$6:$AH$6) -> 31 | AK9: =AJ9-COUNTA(D9:AH9) -> 31 | AL9: =AK9+NOVEMBRE!AK9 -> 333
B10: =+'@CONFIG'!$B$5 -> HUET | C10: ='@CONFIG'!$C$5 -> Manuel | AJ10: =COUNTA($D$6:$AH$6) -> 31 | AK10: =AJ10-COUNTA(D10:AH10) -> 31 | AL10: =AK10+NOVEMBRE!AK10 -> 333
B11: =+'@CONFIG'!$B$6 -> MARTIN | C11: ='@CONFIG'!$C$6 -> Luc | AJ11: =COUNTA($D$6:$AH$6) -> 31 | AK11: =AJ11-COUNTA(D11:AH11) -> 31 | AL11: =AK11+NOVEMBRE!AK11 -> 333
B12: =+'@CONFIG'!$B$7 -> PETIT | C12: ='@CONFIG'!$C$7 -> Vanessa | AJ12: =COUNTA($D$6:$AH$6) -> 31 | AK12: =AJ12-COUNTA(D12:AH12) -> 31 | AL12: =AK12+NOVEMBRE!AK12 -> 333
B13: =+'@CONFIG'!$B$8 -> RICHARD | C13: ='@CONFIG'!$C$8 -> Dorian | AJ13: =COUNTA($D$6:$AH$6) -> 31 | AK13: =AJ13-COUNTA(D13:AH13) -> 31 | AL13: =AK13+NOVEMBRE!AK13 -> 333
B14: =+'@CONFIG'!$B$9 -> 0 | C14: ='@CONFIG'!$C$9 -> 0
B15: =+'@CONFIG'!$B$10 -> 0 | C15: ='@CONFIG'!$C$10 -> 0
B16: =+'@CONFIG'!$B$11 -> 0 | C16: ='@CONFIG'!$C$11 -> 0
B17: =+'@CONFIG'!$B$12 -> 0 | C17: ='@CONFIG'!$C$12 -> 0
B18: =+'@CONFIG'!$B$13 -> 0 | C18: ='@CONFIG'!$C$13 -> 0
B19: =IF('@CONFIG'!B125<>"",'@CONFIG'!B125,"") | AJ19: =SUM(AJ7:AJ18) -> 217 | AK19: =SUM(AK7:AK18) -> 217
B20: =IF('@CONFIG'!B126<>"",'@CONFIG'!B126,"") | AI20: Total annuel | AJ20: =AJ19+NOVEMBRE!AI20 -> 2331 | AL20: =SUM(AL7:AL18) -> 2331
B21: =IF('@CONFIG'!B127<>"",'@CONFIG'!B127,"")
B22: =IF('@CONFIG'!B128<>"",'@CONFIG'!B128,"")
B23: =IF('@CONFIG'!B129<>"",'@CONFIG'!B129,"")
B24: =IF('@CONFIG'!B130<>"",'@CONFIG'!B130,"")
B25: =IF('@CONFIG'!B131<>"",'@CONFIG'!B131,"")
B26: =IF('@CONFIG'!B132<>"",'@CONFIG'!B132,"")
