Workbook

Sheet Paramétres
A2: TC | B2: 0.33333333 | C2: 0.67708333
A3: CU | B3: 0.33333333 | C3: 0.58333333 | D3: 0.70833333 | E3: 0.79166667
A4: T | B4: 0.375 | C4: 0.58333333 | D4: 0.70833333 | E4: 0.83333333
A5: CD | B5: 0.33333333 | C5: 0.58333333
A6: TD | B6: 0.33333333 | C6: 0.58333333
A7: M | B7: 0.25 | C7: 0.57638889
A8: TE | D8: 0.75 | E8: 0.83333333 | F8: TRAVAIL EXCEPTIONNEL
A9: S | D9: 0.625 | E9: 0.83333333
A10: R | B10: 0.25 | C10: 0.57638889
A11: T, | B11: 0.33333333 | C11: 0.58333333 | D11: 0.70833333 | E11: 0.83333333

Sheet janvier
A1: MOIS
A2: 44927 | C2: code | D2: matin | F2: après midi | H2: Total heures | I2: dont heures nuit
D3: emb | E3: deb | F3: emb | G3: deb
A4: DIMANCHE | B4: 1 | D4: =IFERROR(VLOOKUP($C4,Paramétres!$A$2:$E$11,COLUMN()-2,FALSE),"") | E4: =IFERROR(VLOOKUP($C4,Paramétres!$A$2:$E$11,COLUMN()-2,FALSE),"") | F4: =IFERROR(VLOOKUP($C4,Paramétres!$A$2:$E$11,COLUMN()-2,FALSE),"") | G4: =IFERROR(VLOOKUP($C4,Paramétres!$A$2:$E$11,COLUMN()-2,FALSE),"") | H4: =IFERROR((E4-D4)+(G4-F4),"") | J4: =IF(H4=0,"repos","") | K4: =IF(H4="","",H4*10.85*24)
A5: LUNDI | B5: 2 | C5: T | D5: =IFERROR(VLOOKUP($C5,Paramétres!$A$2:$E$11,COLUMN()-2,FALSE),"") -> 0.375 | E5: =IFERROR(VLOOKUP($C5,Paramétres!$A$2:$E$11,COLUMN()-2,FALSE),"") -> 0.58333333 | F5: =IFERROR(VLOOKUP($C5,Paramétres!$A$2:$E$11,COLUMN()-2,FALSE),"") -> 0.70833333 | G5: =IFERROR(VLOOKUP($C5,Paramétres!$A$2:$E$11,COLUMN()-2,FALSE),"") -> 0.83333333 | H5: =IFERROR((E5-D5)+(G5-F5),"") -> 0.33333333 | J5: =IF(H5=0,"repos","") | K5: =IF(H5="","",H5*10.85*24) -> 86.8
A6: MARDI | B6: 3 | C6: CU | D6: =IFERROR(VLOOKUP($C6,Paramétres!$A$2:$E$11,COLUMN()-2,FALSE),"") -> 0.33333333 | E6: =IFERROR(VLOOKUP($C6,Paramétres!$A$2:$E$11,COLUMN()-2,FALSE),"") -> 0.58333333 | F6: =IFERROR(VLOOKUP($C6,Paramétres!$A$2:$E$11,COLUMN()-2,FALSE),"") -> 0.70833333 | G6: =IFERROR(VLOOKUP($C6,Paramétres!$A$2:$E$11,COLUMN()-2,FALSE),"") -> 0.79166667 | H6: =IFERROR((E6-D6)+(G6-F6),"") -> 0.33333333 | J6: =IF(H6=0,"repos","") | K6: =IF(H6="","",H6*10.85*24) -> 86.8
A7: MERCREDI | B7: 4 | C7: CU | D7: =IFERROR(VLOOKUP($C7,Paramétres!$A$2:$E$11,COLUMN()-2,FALSE),"") -> 0.33333333 | E7: =IFERROR(VLOOKUP($C7,Paramétres!$A$2:$E$11,COLUMN()-2,FALSE),"") -> 0.58333333 | F7: =IFERROR(VLOOKUP($C7,Paramétres!$A$2:$E$11,COLUMN()-2,FALSE),"") -> 0.70833333 | G7: =IFERROR(VLOOKUP($C7,Paramétres!$A$2:$E$11,COLUMN()-2,FALSE),"") -> 0.79166667 | H7: =IFERROR((E7-D7)+(G7-F7),"") -> 0.33333333 | J7: =IF(H7=0,"repos","") | K7: =IF(H7="","",H7*10.85*24) -> 86.8
A8: JEUDI | B8: 5 | D8: =IFERROR(VLOOKUP($C8,Paramétres!$A$2:$E$11,COLUMN()-2,FALSE),"") | E8: =IFERROR(VLOOKUP($C8,Paramétres!$A$2:$E$11,COLUMN()-2,FALSE),"") | F8: =IFERROR(VLOOKUP($C8,Paramétres!$A$2:$E$11,COLUMN()-2,FALSE),"") | G8: =IFERROR(VLOOKUP($C8,Paramétres!$A$2:$E$11,COLUMN()-2,FALSE),"") | H8: =IFERROR((E8-D8)+(G8-F8),"") | J8: =IF(H8=0,"repos","") | K8: =IF(H8="","",H8*10.85*24)
A9: VENDREDI | B9: 6 | C9: CU | D9: =IFERROR(VLOOKUP($C9,Paramétres!$A$2:$E$11,COLUMN()-2,FALSE),"") -> 0.33333333 | E9: =IFERROR(VLOOKUP($C9,Paramétres!$A$2:$E$11,COLUMN()-2,FALSE),"") -> 0.58333333 | F9: =IFERROR(VLOOKUP($C9,Paramétres!$A$2:$E$11,COLUMN()-2,FALSE),"") -> 0.70833333 | G9: =IFERROR(VLOOKUP($C9,Paramétres!$A$2:$E$11,COLUMN()-2,FALSE),"") -> 0.79166667 | H9: =IFERROR((E9-D9)+(G9-F9),"") -> 0.33333333 | J9: =IF(H9=0,"repos","") | K9: =IF(H9="","",H9*10.85*24) -> 86.8
A10: SAMEDI | B10: 7 | C10: CU | D10: =IFERROR(VLOOKUP($C10,Paramétres!$A$2:$E$11,COLUMN()-2,FALSE),"") -> 0.33333333 | E10: =IFERROR(VLOOKUP($C10,Paramétres!$A$2:$E$11,COLUMN()-2,FALSE),"") -> 0.58333333 | F10: =IFERROR(VLOOKUP($C10,Paramétres!$A$2:$E$11,COLUMN()-2,FALSE),"") -> 0.70833333 | G10: =IFERROR(VLOOKUP($C10,Paramétres!$A$2:$E$11,COLUMN()-2,FALSE),"") -> 0.79166667 | H10: =IFERROR((E10-D10)+(G10-F10),"") -> 0.33333333 | J10: =IF(H10=0,"repos","") | K10: =IF(H10="","",H10*10.85*24) -> 86.8
A11: DIMANCHE | B11: 8 | C11: CD | D11: =IFERROR(VLOOKUP($C11,Paramétres!$A$2:$E$11,COLUMN()-2,FALSE),"") -> 0.33333333 | E11: =IFERROR(VLOOKUP($C11,Paramétres!$A$2:$E$11,COLUMN()-2,FALSE),"") -> 0.58333333 | F11: =IFERROR(VLOOKUP($C11,Paramétres!$A$2:$E$11,COLUMN()-2,FALSE),"") -> 0 | G11: =IFERROR(VLOOKUP($C11,Paramétres!$A$2:$E$11,COLUMN()-2,FALSE),"") -> 0 | H11: =IFERROR((E11-D11)+(G11-F11),"") -> 0.25 | J11: =IF(H11=0,"repos","") | K11: =IF(H11="","",H11*10.85*24) -> 65.1
A12: LUNDI | B12: 9 | D12: =IFERROR(VLOOKUP($C12,Paramétres!$A$2:$E$11,COLUMN()-2,FALSE),"") | E12: =IFERROR(VLOOKUP($C12,Paramétres!$A$2:$E$11,COLUMN()-2,FALSE),"") | F12: =IFERROR(VLOOKUP($C12,Paramétres!$A$2:$E$11,COLUMN()-2,FALSE),"") | G12: =IFERROR(VLOOKUP($C12,Paramétres!$A$2:$E$11,COLUMN()-2,FALSE),"") | H12: =IFERROR((E12-D12)+(G12-F12),"") | J12: =IF(H12=0,"repos","") | K12: =IF(H12="","",H12*10.85*24)
A13: MARDI | B13: 10 | D13: =IFERROR(VLOOKUP($C13,Paramétres!$A$2:$E$11,COLUMN()-2,FALSE),"") | E13: =IFERROR(VLOOKUP($C13,Paramétres!$A$2:$E$11,COLUMN()-2,FALSE),"") | F13: =IFERROR(VLOOKUP($C13,Paramétres!$A$2:$E$11,COLUMN()-2,FALSE),"") | G13: =IFERROR(VLOOKUP($C13,Paramétres!$A$2:$E$11,COLUMN()-2,FALSE),"") | H13: =IFERROR((E13-D13)+(G13-F13),"") | J13: =IF(H13=0,"repos","") | K13: =IF(H13="","",H13*10.85*24)
A14: MERCREDI | B14: 11 | D14: =IFERROR(VLOOKUP($C14,Paramétres!$A$2:$E$11,COLUMN()-2,FALSE),"") | E14: =IFERROR(VLOOKUP($C14,Paramétres!$A$2:$E$11,COLUMN()-2,FALSE),"") | F14: =IFERROR(VLOOKUP($C14,Paramétres!$A$2:$E$11,COLUMN()-2,FALSE),"") | G14: =IFERROR(VLOOKUP($C14,Paramétres!$A$2:$E$11,COLUMN()-2,FALSE),"") | H14: =IFERROR((E14-D14)+(G14-F14),"") | J14: =IF(H14=0,"repos","") | K14: =IF(H14="","",H14*10.85*24)
A15: JEUDI | B15: 12 | C15: M | D15: =IFERROR(VLOOKUP($C15,Paramétres!$A$2:$E$11,COLUMN()-2,FALSE),"") -> 0.25 | E15: =IFERROR(VLOOKUP($C15,Paramétres!$A$2:$E$11,COLUMN()-2,FALSE),"") -> 0.57638889 | F15: =IFERROR(VLOOKUP($C15,Paramétres!$A$2:$E$11,COLUMN()-2,FALSE),"") -> 0 | G15: =IFERROR(VLOOKUP($C15,Paramétres!$A$2:$E$11,COLUMN()-2,FALSE),"") -> 0 | H15: =IFERROR((E15-D15)+(G15-F15),"") -> 0.32638889 | J15: =IF(H15=0,"repos","") | K15: =IF(H15="","",H15*10.85*24) -> 84.991667
A16: VENDREDI | B16: 13 | C16: CD | D16: =IFERROR(VLOOKUP($C16,Paramétres!$A$2:$E$11,COLUMN()-2,FALSE),"") -> 0.33333333 | E16: =IFERROR(VLOOKUP($C16,Paramétres!$A$2:$E$11,COLUMN()-2,FALSE),"") -> 0.58333333 | F16: =IFERROR(VLOOKUP($C16,Paramétres!$A$2:$E$11,COLUMN()-2,FALSE),"") -> 0 | G16: =IFERROR(VLOOKUP($C16,Paramétres!$A$2:$E$11,COLUMN()-2,FALSE),"") -> 0 | H16: =IFERROR((E16-D16)+(G16-F16),"") -> 0.25 | J16: =IF(H16=0,"repos","") | K16: =IF(H16="","",H16*10.85*24) -> 65.1
A17: SAMEDI | B17: 14 | C17: R | D17: =IFERROR(VLOOKUP($C17,Paramétres!$A$2:$E$11,COLUMN()-2,FALSE),"") -> 0.25 | E17: =IFERROR(VLOOKUP($C17,Paramétres!$A$2:$E$11,COLUMN()-2,FALSE),"") -> 0.57638889 | F17: =IFERROR(VLOOKUP($C17,Paramétres!$A$2:$E$11,COLUMN()-2,FALSE),"") -> 0 | G17: =IFERROR(VLOOKUP($C17,Paramétres!$A$2:$E$11,COLUMN()-2,FALSE),"") -> 0 | H17: =IFERROR((E17-D17)+(G17-F17),"") -> 0.32638889 | J17: =IF(H17=0,"repos","") | K17: =IF(H17="","",H17*10.85*24) -> 84.991667
A18: DIMANCHE | B18: 15 | C18: R | D18: =IFERROR(VLOOKUP($C18,Paramétres!$A$2:$E$11,COLUMN()-2,FALSE),"") -> 0.25 | E18: =IFERROR(VLOOKUP($C18,Paramétres!$A$2:$E$11,COLUMN()-2,FALSE),"") -> 0.57638889 | F18: =IFERROR(VLOOKUP($C18,Paramétres!$A$2:$E$11,COLUMN()-2,FALSE),"") -> 0 | G18: =IFERROR(VLOOKUP($C18,Paramétres!$A$2:$E$11,COLUMN()-2,FALSE),"") -> 0 | H18: =IFERROR((E18-D18)+(G18-F18),"") -> 0.32638889 | J18: =IF(H18=0,"repos","") | K18: =IF(H18="","",H18*10.85*24) -> 84.991667
A19: LUNDI | B19: 16 | D19: =IFERROR(VLOOKUP($C19,Paramétres!$A$2:$E$11,COLUMN()-2,FALSE),"") | E19: =IFERROR(VLOOKUP($C19,Paramétres!$A$2:$E$11,COLUMN()-2,FALSE),"") | F19: =IFERROR(VLOOKUP($C19,Paramétres!$A$2:$E$11,COLUMN()-2,FALSE),"") | G19: =IFERROR(VLOOKUP($C19,Paramétres!$A$2:$E$11,COLUMN()-2,FALSE),"") | H19: =IFERROR((E19-D19)+(G19-F19),"") | J19: =IF(H19=0,"repos","") | K19: =IF(H19="","",H19*10.85*24)
A20: MARDI | B20: 17 | D20: =IFERROR(VLOOKUP($C20,Paramétres!$A$2:$E$11,COLUMN()-2,FALSE),"") | E20: =IFERROR(VLOOKUP($C20,Paramétres!$A$2:$E$11,COLUMN()-2,FALSE),"") | F20: =IFERROR(VLOOKUP($C20,Paramétres!$A$2:$E$11,COLUMN()-2,FALSE),"") | G20: =IFERROR(VLOOKUP($C20,Paramétres!$A$2:$E$11,COLUMN()-2,FALSE),"") | H20: =IFERROR((E20-D20)+(G20-F20),"") | J20: =IF(H20=0,"repos","") | K20: =IF(H20="","",H20*10.85*24)
A21: MERCREDI | B21: 18 | D21: =IFERROR(VLOOKUP($C21,Paramétres!$A$2:$E$11,COLUMN()-2,FALSE),"") | E21: =IFERROR(VLOOKUP($C21,Paramétres!$A$2:$E$11,COLUMN()-2,FALSE),"") | F21: =IFERROR(VLOOKUP($C21,Paramétres!$A$2:$E$11,COLUMN()-2,FALSE),"") | G21: =IFERROR(VLOOKUP($C21,Paramétres!$A$2:$E$11,COLUMN()-2,FALSE),"") | H21: =IFERROR((E21-D21)+(G21-F21),"") | J21: =IF(H21=0,"repos","") | K21: =IF(H21="","",H21*10.85*24)
A22: JEUDI | B22: 19 | C22: TE | D22: =IFERROR(VLOOKUP($C22,Paramétres!$A$2:$E$11,COLUMN()-2,FALSE),"") -> 0 | E22: =IFERROR(VLOOKUP($C22,Paramétres!$A$2:$E$11,COLUMN()-2,FALSE),"") -> 0 | F22: =IFERROR(VLOOKUP($C22,Paramétres!$A$2:$E$11,COLUMN()-2,FALSE),"") -> 0.75 | G22: =IFERROR(VLOOKUP($C22,Paramétres!$A$2:$E$11,COLUMN()-2,FALSE),"") -> 0.83333333 | H22: =IFERROR((E22-D22)+(G22-F22),"") -> 0.083333333 | J22: =IF(H22=0,"repos","") | K22: =IF(H22="","",H22*10.85*24) -> 21.7
A23: VENDREDI | B23: 20 | D23: =IFERROR(VLOOKUP($C23,Paramétres!$A$2:$E$11,COLUMN()-2,FALSE),"") | E23: =IFERROR(VLOOKUP($C23,Paramétres!$A$2:$E$11,COLUMN()-2,FALSE),"") | F23: =IFERROR(VLOOKUP($C23,Paramétres!$A$2:$E$11,COLUMN()-2,FALSE),"") | G23: =IFERROR(VLOOKUP($C23,Paramétres!$A$2:$E$11,COLUMN()-2,FALSE),"") | H23: =IFERROR((E23-D23)+(G23-F23),"") | J23: =IF(H23=0,"repos","") | K23: =IF(H23="","",H23*10.85*24)
A24: SAMEDI | B24: 21 | D24: =IFERROR(VLOOKUP($C24,Paramétres!$A$2:$E$11,COLUMN()-2,FALSE),"") | E24: =IFERROR(VLOOKUP($C24,Paramétres!$A$2:$E$11,COLUMN()-2,FALSE),"") | F24: =IFERROR(VLOOKUP($C24,Paramétres!$A$2:$E$11,COLUMN()-2,FALSE),"") | G24: =IFERROR(VLOOKUP($C24,Paramétres!$A$2:$E$11,COLUMN()-2,FALSE),"") | H24: =IFERROR((E24-D24)+(G24-F24),"") | J24: =IF(H24=0,"repos","") | K24: =IF(H24="","",H24*10.85*24)
A25: DIMANCHE | B25: 22 | D25: =IFERROR(VLOOKUP($C25,Paramétres!$A$2:$E$11,COLUMN()-2,FALSE),"") | E25: =IFERROR(VLOOKUP($C25,Paramétres!$A$2:$E$11,COLUMN()-2,FALSE),"") | F25: =IFERROR(VLOOKUP($C25,Paramétres!$A$2:$E$11,COLUMN()-2,FALSE),"") | G25: =IFERROR(VLOOKUP($C25,Paramétres!$A$2:$E$11,COLUMN()-2,FALSE),"") | H25: =IFERROR((E25-D25)+(G25-F25),"") | J25: =IF(H25=0,"repos","") | K25: =IF(H25="","",H25*10.85*24)
A26: LUNDI | B26: 23 | D26: =IFERROR(VLOOKUP($C26,Paramétres!$A$2:$E$11,COLUMN()-2,FALSE),"") | E26: =IFERROR(VLOOKUP($C26,Paramétres!$A$2:$E$11,COLUMN()-2,FALSE),"") | F26: =IFERROR(VLOOKUP($C26,Paramétres!$A$2:$E$11,COLUMN()-2,FALSE),"") | G26: =IFERROR(VLOOKUP($C26,Paramétres!$A$2:$E$11,COLUMN()-2,FALSE),"") | H26: =IFERROR((E26-D26)+(G26-F26),"") | J26: =IF(H26=0,"repos","") | K26: =IF(H26="","",H26*10.85*24)
A27: MARDI | B27: 24 | D27: =IFERROR(VLOOKUP($C27,Paramétres!$A$2:$E$11,COLUMN()-2,FALSE),"") | E27: =IFERROR(VLOOKUP($C27,Paramétres!$A$2:$E$11,COLUMN()-2,FALSE),"") | F27: =IFERROR(VLOOKUP($C27,Paramétres!$A$2:$E$11,COLUMN()-2,FALSE),"") | G27: =IFERROR(VLOOKUP($C27,Paramétres!$A$2:$E$11,COLUMN()-2,FALSE),"") | H27: =IFERROR((E27-D27)+(G27-F27),"") | J27: =IF(H27=0,"repos","") | K27: =IF(H27="","",H27*10.85*24)
A28: MERCREDI | B28: 25 | D28: =IFERROR(VLOOKUP($C28,Paramétres!$A$2:$E$11,COLUMN()-2,FALSE),"") | E28: =IFERROR(VLOOKUP($C28,Paramétres!$A$2:$E$11,COLUMN()-2,FALSE),"") | F28: =IFERROR(VLOOKUP($C28,Paramétres!$A$2:$E$11,COLUMN()-2,FALSE),"") | G28: =IFERROR(VLOOKUP($C28,Paramétres!$A$2:$E$11,COLUMN()-2,FALSE),"") | H28: =IFERROR((E28-D28)+(G28-F28),"") | J28: =IF(H28=0,"repos","") | K28: =IF(H28="","",H28*10.85*24)
A29: JEUDI | B29: 26 | C29: T | D29: =IFERROR(VLOOKUP($C29,Paramétres!$A$2:$E$11,COLUMN()-2,FALSE),"") -> 0.375 | E29: =IFERROR(VLOOKUP($C29,Paramétres!$A$2:$E$11,COLUMN()-2,FALSE),"") -> 0.58333333 | F29: =IFERROR(VLOOKUP($C29,Paramétres!$A$2:$E$11,COLUMN()-2,FALSE),"") -> 0.70833333 | G29: =IFERROR(VLOOKUP($C29,Paramétres!$A$2:$E$11,COLUMN()-2,FALSE),"") -> 0.83333333 | H29: =IFERROR((E29-D29)+(G29-F29),"") -> 0.33333333 | J29: =IF(H29=0,"repos","") | K29: =IF(H29="","",H29*10.85*24) -> 86.8
A30: VENDREDI | B30: 27 | D30: =IFERROR(VLOOKUP($C30,Paramétres!$A$2:$E$11,COLUMN()-2,FALSE),"") | E30: =IFERROR(VLOOKUP($C30,Paramétres!$A$2:$E$11,COLUMN()-2,FALSE),"") | F30: =IFERROR(VLOOKUP($C30,Paramétres!$A$2:$E$11,COLUMN()-2,FALSE),"") | G30: =IFERROR(VLOOKUP($C30,Paramétres!$A$2:$E$11,COLUMN()-2,FALSE),"") | H30: =IFERROR((E30-D30)+(G30-F30),"") | J30: =IF(H30=0,"repos","") | K30: =IF(H30="","",H30*10.85*24)
A31: SAMEDI | B31: 28 | C31: R | D31: =IFERROR(VLOOKUP($C31,Paramétres!$A$2:$E$11,COLUMN()-2,FALSE),"") -> 0.25 | E31: =IFERROR(VLOOKUP($C31,Paramétres!$A$2:$E$11,COLUMN()-2,FALSE),"") -> 0.57638889 | F31: =IFERROR(VLOOKUP($C31,Paramétres!$A$2:$E$11,COLUMN()-2,FALSE),"") -> 0 | G31: =IFERROR(VLOOKUP($C31,Paramétres!$A$2:$E$11,COLUMN()-2,FALSE),"") -> 0 | H31: =IFERROR((E31-D31)+(G31-F31),"") -> 0.32638889 | J31: =IF(H31=0,"repos","") | K31: =IF(H31="","",H31*10.85*24) -> 84.991667
A32: DIMANCHE | B32: 29 | C32: R | D32: =IFERROR(VLOOKUP($C32,Paramétres!$A$2:$E$11,COLUMN()-2,FALSE),"") -> 0.25 | E32: =IFERROR(VLOOKUP($C32,Paramétres!$A$2:$E$11,COLUMN()-2,FALSE),"") -> 0.57638889 | F32: =IFERROR(VLOOKUP($C32,Paramétres!$A$2:$E$11,COLUMN()-2,FALSE),"") -> 0 | G32: =IFERROR(VLOOKUP($C32,Paramétres!$A$2:$E$11,COLUMN()-2,FALSE),"") -> 0 | H32: =IFERROR((E32-D32)+(G32-F32),"") -> 0.32638889 | J32: =IF(H32=0,"repos","") | K32: =IF(H32="","",H32*10.85*24) -> 84.991667
A33: LUNDI | B33: 30 | D33: =IFERROR(VLOOKUP($C33,Paramétres!$A$2:$E$11,COLUMN()-2,FALSE),"") | E33: =IFERROR(VLOOKUP($C33,Paramétres!$A$2:$E$11,COLUMN()-2,FALSE),"") | F33: =IFERROR(VLOOKUP($C33,Paramétres!$A$2:$E$11,COLUMN()-2,FALSE),"") | G33: =IFERROR(VLOOKUP($C33,Paramétres!$A$2:$E$11,COLUMN()-2,FALSE),"") | H33: =IFERROR((E33-D33)+(G33-F33),"") | J33: =IF(H33=0,"repos","") | K33: =IF(H33="","",H33*10.85*24)
A34: MARDI | B34: 31 | C34: S | D34: =IFERROR(VLOOKUP($C34,Paramétres!$A$2:$E$11,COLUMN()-2,FALSE),"") -> 0 | E34: =IFERROR(VLOOKUP($C34,Paramétres!$A$2:$E$11,COLUMN()-2,FALSE),"") -> 0 | F34: =IFERROR(VLOOKUP($C34,Paramétres!$A$2:$E$11,COLUMN()-2,FALSE),"") -> 0.625 | G34: =IFERROR(VLOOKUP($C34,Paramétres!$A$2:$E$11,COLUMN()-2,FALSE),"") -> 0.83333333 | H34: =IFERROR((E34-D34)+(G34-F34),"") -> 0.20833333 | J34: =IF(H34=0,"repos","") | K34: =IF(H34="","",H34*10.85*24) -> 54.25
A35: Total heures | H35: =SUM(H4:H33) -> 4.2152778
A36: dont heures dimanche | H36: =H32+H18+H11 -> 0.90277778
A37: dont heures jours fériés | H37: =H28
A38: dont heures de nuit | H38: =SUM(I4:I34) -> 0
A39: REPORT DECEMBRE | H39: 0.39583333
A40: TOTAL DES HEURES DECEMBRE ET JANVIER | H40: =H35+H39 -> 4.6111111
...

Sheet février
A1: MOIS
A2: 44958 | C2: code | D2: matin | F2: après midi | H2: Total heures | I2: dont heures nuit
D3: emb | E3: deb | F3: emb | G3: deb
A4: MERCREDI | B4: 1 | D4: =IFERROR(VLOOKUP($C4,Paramétres!$A$2:$E$11,COLUMN()-2,FALSE),"") | E4: =IFERROR(VLOOKUP($C4,Paramétres!$A$2:$E$11,COLUMN()-2,FALSE),"") | F4: =IFERROR(VLOOKUP($C4,Paramétres!$A$2:$E$11,COLUMN()-2,FALSE),"") | G4: =IFERROR(VLOOKUP($C4,Paramétres!$A$2:$E$11,COLUMN()-2,FALSE),"") | H4: =IFERROR((E4-D4)+(G4-F4),"") | J4: =IF(H4=0,"repos","") | K4: =IF(H4="","",H4*10.85*24)
A5: JEUDI | B5: 2 | D5: =IFERROR(VLOOKUP($C5,Paramétres!$A$2:$E$11,COLUMN()-2,FALSE),"") | E5: =IFERROR(VLOOKUP($C5,Paramétres!$A$2:$E$11,COLUMN()-2,FALSE),"") | F5: =IFERROR(VLOOKUP($C5,Paramétres!$A$2:$E$11,COLUMN()-2,FALSE),"") | G5: =IFERROR(VLOOKUP($C5,Paramétres!$A$2:$E$11,COLUMN()-2,FALSE),"") | H5: =IFERROR((E5-D5)+(G5-F5),"") | J5: =IF(H5=0,"repos","") | K5: =IF(H5="","",H5*10.85*24)
A6: VENDREDI | B6: 3 | D6: =IFERROR(VLOOKUP($C6,Paramétres!$A$2:$E$11,COLUMN()-2,FALSE),"") | E6: =IFERROR(VLOOKUP($C6,Paramétres!$A$2:$E$11,COLUMN()-2,FALSE),"") | F6: =IFERROR(VLOOKUP($C6,Paramétres!$A$2:$E$11,COLUMN()-2,FALSE),"") | G6: =IFERROR(VLOOKUP($C6,Paramétres!$A$2:$E$11,COLUMN()-2,FALSE),"") | H6: =IFERROR((E6-D6)+(G6-F6),"") | J6: =IF(H6=0,"repos","") | K6: =IF(H6="","",H6*10.85*24)
A7: SAMEDI | B7: 4 | D7: =IFERROR(VLOOKUP($C7,Paramétres!$A$2:$E$11,COLUMN()-2,FALSE),"") | E7: =IFERROR(VLOOKUP($C7,Paramétres!$A$2:$E$11,COLUMN()-2,FALSE),"") | F7: =IFERROR(VLOOKUP($C7,Paramétres!$A$2:$E$11,COLUMN()-2,FALSE),"") | G7: =IFERROR(VLOOKUP($C7,Paramétres!$A$2:$E$11,COLUMN()-2,FALSE),"") | H7: =IFERROR((E7-D7)+(G7-F7),"") | J7: =IF(H7=0,"repos","") | K7: =IF(H7="","",H7*10.85*24)
A8: DIMANCHE | B8: 5 | D8: =IFERROR(VLOOKUP($C8,Paramétres!$A$2:$E$11,COLUMN()-2,FALSE),"") | E8: =IFERROR(VLOOKUP($C8,Paramétres!$A$2:$E$11,COLUMN()-2,FALSE),"") | F8: =IFERROR(VLOOKUP($C8,Paramétres!$A$2:$E$11,COLUMN()-2,FALSE),"") | G8: =IFERROR(VLOOKUP($C8,Paramétres!$A$2:$E$11,COLUMN()-2,FALSE),"") | H8: =IFERROR((E8-D8)+(G8-F8),"") | J8: =IF(H8=0,"repos","") | K8: =IF(H8="","",H8*10.85*24)
A9: LUNDI | B9: 6 | D9: =IFERROR(VLOOKUP($C9,Paramétres!$A$2:$E$11,COLUMN()-2,FALSE),"") | E9: =IFERROR(VLOOKUP($C9,Paramétres!$A$2:$E$11,COLUMN()-2,FALSE),"") | F9: =IFERROR(VLOOKUP($C9,Paramétres!$A$2:$E$11,COLUMN()-2,FALSE),"") | G9: =IFERROR(VLOOKUP($C9,Paramétres!$A$2:$E$11,COLUMN()-2,FALSE),"") | H9: =IFERROR((E9-D9)+(G9-F9),"") | J9: =IF(H9=0,"repos","") | K9: =IF(H9="","",H9*10.85*24)
A10: MARDI | B10: 7 | D10: =IFERROR(VLOOKUP($C10,Paramétres!$A$2:$E$11,COLUMN()-2,FALSE),"") | E10: =IFERROR(VLOOKUP($C10,Paramétres!$A$2:$E$11,COLUMN()-2,FALSE),"") | F10: =IFERROR(VLOOKUP($C10,Paramétres!$A$2:$E$11,COLUMN()-2,FALSE),"") | G10: =IFERROR(VLOOKUP($C10,Paramétres!$A$2:$E$11,COLUMN()-2,FALSE),"") | H10: =IFERROR((E10-D10)+(G10-F10),"") | J10: =IF(H10=0,"repos","") | K10: =IF(H10="","",H10*10.85*24)
A11: MERCREDI | B11: 8 | D11: =IFERROR(VLOOKUP($C11,Paramétres!$A$2:$E$11,COLUMN()-2,FALSE),"") | E11: =IFERROR(VLOOKUP($C11,Paramétres!$A$2:$E$11,COLUMN()-2,FALSE),"") | F11: =IFERROR(VLOOKUP($C11,Paramétres!$A$2:$E$11,COLUMN()-2,FALSE),"") | G11: =IFERROR(VLOOKUP($C11,Paramétres!$A$2:$E$11,COLUMN()-2,FALSE),"") | H11: =IFERROR((E11-D11)+(G11-F11),"") | J11: =IF(H11=0,"repos","") | K11: =IF(H11="","",H11*10.85*24)
A12: JEUDI | B12: 9 | D12: =IFERROR(VLOOKUP($C12,Paramétres!$A$2:$E$11,COLUMN()-2,FALSE),"") | E12: =IFERROR(VLOOKUP($C12,Paramétres!$A$2:$E$11,COLUMN()-2,FALSE),"") | F12: =IFERROR(VLOOKUP($C12,Paramétres!$A$2:$E$11,COLUMN()-2,FALSE),"") | G12: =IFERROR(VLOOKUP($C12,Paramétres!$A$2:$E$11,COLUMN()-2,FALSE),"") | H12: =IFERROR((E12-D12)+(G12-F12),"") | J12: =IF(H12=0,"repos","") | K12: =IF(H12="","",H12*10.85*24)
A13: VENDREDI | B13: 10 | D13: =IFERROR(VLOOKUP($C13,Paramétres!$A$2:$E$11,COLUMN()-2,FALSE),"") | E13: =IFERROR(VLOOKUP($C13,Paramétres!$A$2:$E$11,COLUMN()-2,FALSE),"") | F13: =IFERROR(VLOOKUP($C13,Paramétres!$A$2:$E$11,COLUMN()-2,FALSE),"") | G13: =IFERROR(VLOOKUP($C13,Paramétres!$A$2:$E$11,COLUMN()-2,FALSE),"") | H13: =IFERROR((E13-D13)+(G13-F13),"") | J13: =IF(H13=0,"repos","") | K13: =IF(H13="","",H13*10.85*24)
A14: SAMEDI | B14: 11 | C14: R | D14: =IFERROR(VLOOKUP($C14,Paramétres!$A$2:$E$11,COLUMN()-2,FALSE),"") -> 0.25 | E14: =IFERROR(VLOOKUP($C14,Paramétres!$A$2:$E$11,COLUMN()-2,FALSE),"") -> 0.57638889 | F14: =IFERROR(VLOOKUP($C14,Paramétres!$A$2:$E$11,COLUMN()-2,FALSE),"") -> 0 | G14: =IFERROR(VLOOKUP($C14,Paramétres!$A$2:$E$11,COLUMN()-2,FALSE),"") -> 0 | H14: =IFERROR((E14-D14)+(G14-F14),"") -> 0.32638889 | J14: =IF(H14=0,"repos","") | K14: =IF(H14="","",H14*10.85*24) -> 84.991667
A15: DIMANCHE | B15: 12 | C15: R | D15: =IFERROR(VLOOKUP($C15,Paramétres!$A$2:$E$11,COLUMN()-2,FALSE),"") -> 0.25 | E15: =IFERROR(VLOOKUP($C15,Paramétres!$A$2:$E$11,COLUMN()-2,FALSE),"") -> 0.57638889 | F15: =IFERROR(VLOOKUP($C15,Paramétres!$A$2:$E$11,COLUMN()-2,FALSE),"") -> 0 | G15: =IFERROR(VLOOKUP($C15,Paramétres!$A$2:$E$11,COLUMN()-2,FALSE),"") -> 0 | H15: =IFERROR((E15-D15)+(G15-F15),"") -> 0.32638889 | J15: =IF(H15=0,"repos","") | K15: =IF(H15="","",H15*10.85*24) -> 84.991667
A16: LUNDI | B16: 13 | D16: =IFERROR(VLOOKUP($C16,Paramétres!$A$2:$E$11,COLUMN()-2,FALSE),"") | E16: =IFERROR(VLOOKUP($C16,Paramétres!$A$2:$E$11,COLUMN()-2,FALSE),"") | F16: =IFERROR(VLOOKUP($C16,Paramétres!$A$2:$E$11,COLUMN()-2,FALSE),"") | G16: =IFERROR(VLOOKUP($C16,Paramétres!$A$2:$E$11,COLUMN()-2,FALSE),"") | H16: =IFERROR((E16-D16)+(G16-F16),"") | J16: =IF(H16=0,"repos","") | K16: =IF(H16="","",H16*10.85*24)
A17: MARDI | B17: 14 | D17: =IFERROR(VLOOKUP($C17,Paramétres!$A$2:$E$11,COLUMN()-2,FALSE),"") | E17: =IFERROR(VLOOKUP($C17,Paramétres!$A$2:$E$11,COLUMN()-2,FALSE),"") | F17: =IFERROR(VLOOKUP($C17,Paramétres!$A$2:$E$11,COLUMN()-2,FALSE),"") | G17: =IFERROR(VLOOKUP($C17,Paramétres!$A$2:$E$11,COLUMN()-2,FALSE),"") | H17: =IFERROR((E17-D17)+(G17-F17),"") | J17: =IF(H17=0,"repos","") | K17: =IF(H17="","",H17*10.85*24)
A18: MERCREDI | B18: 15 | C18: CU | D18: =IFERROR(VLOOKUP($C18,Paramétres!$A$2:$E$11,COLUMN()-2,FALSE),"") -> 0.33333333 | E18: =IFERROR(VLOOKUP($C18,Paramétres!$A$2:$E$11,COLUMN()-2,FALSE),"") -> 0.58333333 | F18: =IFERROR(VLOOKUP($C18,Paramétres!$A$2:$E$11,COLUMN()-2,FALSE),"") -> 0.70833333 | G18: =IFERROR(VLOOKUP($C18,Paramétres!$A$2:$E$11,COLUMN()-2,FALSE),"") -> 0.79166667 | H18: =IFERROR((E18-D18)+(G18-F18),"") -> 0.33333333 | J18: =IF(H18=0,"repos","") | K18: =IF(H18="","",H18*10.85*24) -> 86.8
A19: JEUDI | B19: 16 | C19: CU | D19: =IFERROR(VLOOKUP($C19,Paramétres!$A$2:$E$11,COLUMN()-2,FALSE),"") -> 0.33333333 | E19: =IFERROR(VLOOKUP($C19,Paramétres!$A$2:$E$11,COLUMN()-2,FALSE),"") -> 0.58333333 | F19: =IFERROR(VLOOKUP($C19,Paramétres!$A$2:$E$11,COLUMN()-2,FALSE),"") -> 0.70833333 | G19: =IFERROR(VLOOKUP($C19,Paramétres!$A$2:$E$11,COLUMN()-2,FALSE),"") -> 0.79166667 | H19: =IFERROR((E19-D19)+(G19-F19),"") -> 0.33333333 | J19: =IF(H19=0,"repos","") | K19: =IF(H19="","",H19*10.85*24) -> 86.8
A20: VENDREDI | B20: 17 | C20: M | D20: =IFERROR(VLOOKUP($C20,Paramétres!$A$2:$E$11,COLUMN()-2,FALSE),"") -> 0.25 | E20: =IFERROR(VLOOKUP($C20,Paramétres!$A$2:$E$11,COLUMN()-2,FALSE),"") -> 0.57638889 | F20: =IFERROR(VLOOKUP($C20,Paramétres!$A$2:$E$11,COLUMN()-2,FALSE),"") -> 0 | G20: =IFERROR(VLOOKUP($C20,Paramétres!$A$2:$E$11,COLUMN()-2,FALSE),"") -> 0 | H20: =IFERROR((E20-D20)+(G20-F20),"") -> 0.32638889 | J20: =IF(H20=0,"repos","") | K20: =IF(H20="","",H20*10.85*24) -> 84.991667
A21: SAMEDI | B21: 18 | C21: R | D21: =IFERROR(VLOOKUP($C21,Paramétres!$A$2:$E$11,COLUMN()-2,FALSE),"") -> 0.25 | E21: =IFERROR(VLOOKUP($C21,Paramétres!$A$2:$E$11,COLUMN()-2,FALSE),"") -> 0.57638889 | F21: =IFERROR(VLOOKUP($C21,Paramétres!$A$2:$E$11,COLUMN()-2,FALSE),"") -> 0 | G21: =IFERROR(VLOOKUP($C21,Paramétres!$A$2:$E$11,COLUMN()-2,FALSE),"") -> 0 | H21: =IFERROR((E21-D21)+(G21-F21),"") -> 0.32638889 | J21: =IF(H21=0,"repos","") | K21: =IF(H21="","",H21*10.85*24) -> 84.991667
A22: DIMANCHE | B22: 19 | C22: R | D22: =IFERROR(VLOOKUP($C22,Paramétres!$A$2:$E$11,COLUMN()-2,FALSE),"") -> 0.25 | E22: =IFERROR(VLOOKUP($C22,Paramétres!$A$2:$E$11,COLUMN()-2,FALSE),"") -> 0.57638889 | F22: =IFERROR(VLOOKUP($C22,Paramétres!$A$2:$E$11,COLUMN()-2,FALSE),"") -> 0 | G22: =IFERROR(VLOOKUP($C22,Paramétres!$A$2:$E$11,COLUMN()-2,FALSE),"") -> 0 | H22: =IFERROR((E22-D22)+(G22-F22),"") -> 0.32638889 | J22: =IF(H22=0,"repos","") | K22: =IF(H22="","",H22*10.85*24) -> 84.991667
A23: LUNDI | B23: 20 | C23: T | D23: =IFERROR(VLOOKUP($C23,Paramétres!$A$2:$E$11,COLUMN()-2,FALSE),"") -> 0.375 | E23: =IFERROR(VLOOKUP($C23,Paramétres!$A$2:$E$11,COLUMN()-2,FALSE),"") -> 0.58333333 | F23: =IFERROR(VLOOKUP($C23,Paramétres!$A$2:$E$11,COLUMN()-2,FALSE),"") -> 0.70833333 | G23: =IFERROR(VLOOKUP($C23,Paramétres!$A$2:$E$11,COLUMN()-2,FALSE),"") -> 0.83333333 | H23: =IFERROR((E23-D23)+(G23-F23),"") -> 0.33333333 | J23: =IF(H23=0,"repos","") | K23: =IF(H23="","",H23*10.85*24) -> 86.8
A24: MARDI | B24: 21 | D24: =IFERROR(VLOOKUP($C24,Paramétres!$A$2:$E$11,COLUMN()-2,FALSE),"") | E24: =IFERROR(VLOOKUP($C24,Paramétres!$A$2:$E$11,COLUMN()-2,FALSE),"") | F24: =IFERROR(VLOOKUP($C24,Paramétres!$A$2:$E$11,COLUMN()-2,FALSE),"") | G24: =IFERROR(VLOOKUP($C24,Paramétres!$A$2:$E$11,COLUMN()-2,FALSE),"") | H24: =IFERROR((E24-D24)+(G24-F24),"") | J24: =IF(H24=0,"repos","") | K24: =IF(H24="","",H24*10.85*24)
A25: MERCREDI | B25: 22 | D25: =IFERROR(VLOOKUP($C25,Paramétres!$A$2:$E$11,COLUMN()-2,FALSE),"") | E25: =IFERROR(VLOOKUP($C25,Paramétres!$A$2:$E$11,COLUMN()-2,FALSE),"") | F25: =IFERROR(VLOOKUP($C25,Paramétres!$A$2:$E$11,COLUMN()-2,FALSE),"") | G25: =IFERROR(VLOOKUP($C25,Paramétres!$A$2:$E$11,COLUMN()-2,FALSE),"") | H25: =IFERROR((E25-D25)+(G25-F25),"") | J25: =IF(H25=0,"repos","") | K25: =IF(H25="","",H25*10.85*24)
A26: JEUDI | B26: 23 | C26: M | D26: =IFERROR(VLOOKUP($C26,Paramétres!$A$2:$E$11,COLUMN()-2,FALSE),"") -> 0.25 | E26: =IFERROR(VLOOKUP($C26,Paramétres!$A$2:$E$11,COLUMN()-2,FALSE),"") -> 0.57638889 | F26: =IFERROR(VLOOKUP($C26,Paramétres!$A$2:$E$11,COLUMN()-2,FALSE),"") -> 0 | G26: =IFERROR(VLOOKUP($C26,Paramétres!$A$2:$E$11,COLUMN()-2,FALSE),"") -> 0 | H26: =IFERROR((E26-D26)+(G26-F26),"") -> 0.32638889 | J26: =IF(H26=0,"repos","") | K26: =IF(H26="","",H26*10.85*24) -> 84.991667
A27: VENDREDI | B27: 24 | C27: M | D27: =IFERROR(VLOOKUP($C27,Paramétres!$A$2:$E$11,COLUMN()-2,FALSE),"") -> 0.25 | E27: =IFERROR(VLOOKUP($C27,Paramétres!$A$2:$E$11,COLUMN()-2,FALSE),"") -> 0.57638889 | F27: =IFERROR(VLOOKUP($C27,Paramétres!$A$2:$E$11,COLUMN()-2,FALSE),"") -> 0 | G27: =IFERROR(VLOOKUP($C27,Paramétres!$A$2:$E$11,COLUMN()-2,FALSE),"") -> 0 | H27: =IFERROR((E27-D27)+(G27-F27),"") -> 0.32638889 | J27: =IF(H27=0,"repos","") | K27: =IF(H27="","",H27*10.85*24) -> 84.991667
A28: SAMEDI | B28: 25 | C28: R | D28: =IFERROR(VLOOKUP($C28,Paramétres!$A$2:$E$11,COLUMN()-2,FALSE),"") -> 0.25 | E28: =IFERROR(VLOOKUP($C28,Paramétres!$A$2:$E$11,COLUMN()-2,FALSE),"") -> 0.57638889 | F28: =IFERROR(VLOOKUP($C28,Paramétres!$A$2:$E$11,COLUMN()-2,FALSE),"") -> 0 | G28: =IFERROR(VLOOKUP($C28,Paramétres!$A$2:$E$11,COLUMN()-2,FALSE),"") -> 0 | H28: =IFERROR((E28-D28)+(G28-F28),"") -> 0.32638889 | J28: =IF(H28=0,"repos","") | K28: =IF(H28="","",H28*10.85*24) -> 84.991667
A29: DIMANCHE | B29: 26 | C29: R | D29: =IFERROR(VLOOKUP($C29,Paramétres!$A$2:$E$11,COLUMN()-2,FALSE),"") -> 0.25 | E29: =IFERROR(VLOOKUP($C29,Paramétres!$A$2:$E$11,COLUMN()-2,FALSE),"") -> 0.57638889 | F29: =IFERROR(VLOOKUP($C29,Paramétres!$A$2:$E$11,COLUMN()-2,FALSE),"") -> 0 | G29: =IFERROR(VLOOKUP($C29,Paramétres!$A$2:$E$11,COLUMN()-2,FALSE),"") -> 0 | H29: =IFERROR((E29-D29)+(G29-F29),"") -> 0.32638889 | J29: =IF(H29=0,"repos","") | K29: =IF(H29="","",H29*10.85*24) -> 84.991667
A30: LUNDI | B30: 27 | D30: =IFERROR(VLOOKUP($C30,Paramétres!$A$2:$E$11,COLUMN()-2,FALSE),"") | E30: =IFERROR(VLOOKUP($C30,Paramétres!$A$2:$E$11,COLUMN()-2,FALSE),"") | F30: =IFERROR(VLOOKUP($C30,Paramétres!$A$2:$E$11,COLUMN()-2,FALSE),"") | G30: =IFERROR(VLOOKUP($C30,Paramétres!$A$2:$E$11,COLUMN()-2,FALSE),"") | H30: =IFERROR((E30-D30)+(G30-F30),"") | J30: =IF(H30=0,"repos","") | K30: =IF(H30="","",H30*10.85*24)
A31: MARDI | B31: 28 | C31: R | D31: =IFERROR(VLOOKUP($C31,Paramétres!$A$2:$E$11,COLUMN()-2,FALSE),"") -> 0.25 | E31: =IFERROR(VLOOKUP($C31,Paramétres!$A$2:$E$11,COLUMN()-2,FALSE),"") -> 0.57638889 | F31: =IFERROR(VLOOKUP($C31,Paramétres!$A$2:$E$11,COLUMN()-2,FALSE),"") -> 0 | G31: =IFERROR(VLOOKUP($C31,Paramétres!$A$2:$E$11,COLUMN()-2,FALSE),"") -> 0 | H31: =IFERROR((E31-D31)+(G31-F31),"") -> 0.32638889 | J31: =IF(H31=0,"repos","") | K31: =IF(H31="","",H31*10.85*24) -> 84.991667
D32: =IFERROR(VLOOKUP($C32,Paramétres!$A$2:$E$11,COLUMN()-2,FALSE),"") | E32: =IFERROR(VLOOKUP($C32,Paramétres!$A$2:$E$11,COLUMN()-2,FALSE),"") | F32: =IFERROR(VLOOKUP($C32,Paramétres!$A$2:$E$11,COLUMN()-2,FALSE),"") | G32: =IFERROR(VLOOKUP($C32,Paramétres!$A$2:$E$11,COLUMN()-2,FALSE),"") | H32: =IFERROR((E32-D32)+(G32-F32),"") | J32: =IF(H32=0,"repos","") | K32: =IF(H32="","",H32*10.85*24)
D33: =IFERROR(VLOOKUP($C33,Paramétres!$A$2:$E$11,COLUMN()-2,FALSE),"") | E33: =IFERROR(VLOOKUP($C33,Paramétres!$A$2:$E$11,COLUMN()-2,FALSE),"") | F33: =IFERROR(VLOOKUP($C33,Paramétres!$A$2:$E$11,COLUMN()-2,FALSE),"") | G33: =IFERROR(VLOOKUP($C33,Paramétres!$A$2:$E$11,COLUMN()-2,FALSE),"") | H33: =IFERROR((E33-D33)+(G33-F33),"") | J33: =IF(H33=0,"repos","") | K33: =IF(H33="","",H33*10.85*24)
D34: =IFERROR(VLOOKUP($C34,Paramétres!$A$2:$E$11,COLUMN()-2,FALSE),"") | E34: =IFERROR(VLOOKUP($C34,Paramétres!$A$2:$E$11,COLUMN()-2,FALSE),"") | F34: =IFERROR(VLOOKUP($C34,Paramétres!$A$2:$E$11,COLUMN()-2,FALSE),"") | G34: =IFERROR(VLOOKUP($C34,Paramétres!$A$2:$E$11,COLUMN()-2,FALSE),"") | H34: =IFERROR((E34-D34)+(G34-F34),"") | J34: =IF(H34=0,"repos","") | K34: =IF(H34="","",H34*10.85*24)
A35: Total heures | H35: 4.125
A36: dont heures dimanche | H36: 0.95138889
A37: dont heures jours fériés | H37: 0
A38: dont heures de nuit | H38: =SUM(I4:I34) -> 0
A39: REPORT DECEMBRE
A40: TOTAL DES HEURES JANVIER ET FEVRIER | H40: =H35+H39 -> 4.125
...

Sheet mars
A1: MOIS
A2: 44986 | C2: code | D2: matin | F2: après midi | H2: Total heures | I2: dont heures nuit
D3: emb | E3: deb | F3: emb | G3: deb
A4: MERCREDI | B4: 1 | D4: =IFERROR(VLOOKUP($C4,Paramétres!$A$2:$E$11,COLUMN()-2,FALSE),"") | E4: =IFERROR(VLOOKUP($C4,Paramétres!$A$2:$E$11,COLUMN()-2,FALSE),"") | F4: =IFERROR(VLOOKUP($C4,Paramétres!$A$2:$E$11,COLUMN()-2,FALSE),"") | G4: =IFERROR(VLOOKUP($C4,Paramétres!$A$2:$E$11,COLUMN()-2,FALSE),"") | H4: =IFERROR((E4-D4)+(G4-F4),"") | J4: =IF(H4=0,"repos","") | K4: =IF(H4="","",H4*10.85*24)
A5: JEUDI | B5: 2 | C5: S | D5: =IFERROR(VLOOKUP($C5,Paramétres!$A$2:$E$11,COLUMN()-2,FALSE),"") -> 0 | E5: =IFERROR(VLOOKUP($C5,Paramétres!$A$2:$E$11,COLUMN()-2,FALSE),"") -> 0 | F5: =IFERROR(VLOOKUP($C5,Paramétres!$A$2:$E$11,COLUMN()-2,FALSE),"") -> 0.625 | G5: =IFERROR(VLOOKUP($C5,Paramétres!$A$2:$E$11,COLUMN()-2,FALSE),"") -> 0.83333333 | H5: =IFERROR((E5-D5)+(G5-F5),"") -> 0.20833333 | J5: =IF(H5=0,"repos","") | K5: =IF(H5="","",H5*10.85*24) -> 54.25
A6: VENDREDI | B6: 3 | D6: =IFERROR(VLOOKUP($C6,Paramétres!$A$2:$E$11,COLUMN()-2,FALSE),"") | E6: =IFERROR(VLOOKUP($C6,Paramétres!$A$2:$E$11,COLUMN()-2,FALSE),"") | F6: =IFERROR(VLOOKUP($C6,Paramétres!$A$2:$E$11,COLUMN()-2,FALSE),"") | G6: =IFERROR(VLOOKUP($C6,Paramétres!$A$2:$E$11,COLUMN()-2,FALSE),"") | H6: =IFERROR((E6-D6)+(G6-F6),"") | J6: =IF(H6=0,"repos","") | K6: =IF(H6="","",H6*10.85*24)
A7: SAMEDI | B7: 4 | C7: R | D7: =IFERROR(VLOOKUP($C7,Paramétres!$A$2:$E$11,COLUMN()-2,FALSE),"") -> 0.25 | E7: =IFERROR(VLOOKUP($C7,Paramétres!$A$2:$E$11,COLUMN()-2,FALSE),"") -> 0.57638889 | F7: =IFERROR(VLOOKUP($C7,Paramétres!$A$2:$E$11,COLUMN()-2,FALSE),"") -> 0 | G7: =IFERROR(VLOOKUP($C7,Paramétres!$A$2:$E$11,COLUMN()-2,FALSE),"") -> 0 | H7: =IFERROR((E7-D7)+(G7-F7),"") -> 0.32638889 | J7: =IF(H7=0,"repos","") | K7: =IF(H7="","",H7*10.85*24) -> 84.991667
A8: DIMANCHE | B8: 5 | C8: R | D8: =IFERROR(VLOOKUP($C8,Paramétres!$A$2:$E$11,COLUMN()-2,FALSE),"") -> 0.25 | E8: =IFERROR(VLOOKUP($C8,Paramétres!$A$2:$E$11,COLUMN()-2,FALSE),"") -> 0.57638889 | F8: =IFERROR(VLOOKUP($C8,Paramétres!$A$2:$E$11,COLUMN()-2,FALSE),"") -> 0 | G8: =IFERROR(VLOOKUP($C8,Paramétres!$A$2:$E$11,COLUMN()-2,FALSE),"") -> 0 | H8: =IFERROR((E8-D8)+(G8-F8),"") -> 0.32638889 | J8: =IF(H8=0,"repos","") | K8: =IF(H8="","",H8*10.85*24) -> 84.991667
A9: LUNDI | B9: 6 | C9: M | D9: =IFERROR(VLOOKUP($C9,Paramétres!$A$2:$E$11,COLUMN()-2,FALSE),"") -> 0.25 | E9: =IFERROR(VLOOKUP($C9,Paramétres!$A$2:$E$11,COLUMN()-2,FALSE),"") -> 0.57638889 | F9: =IFERROR(VLOOKUP($C9,Paramétres!$A$2:$E$11,COLUMN()-2,FALSE),"") -> 0 | G9: =IFERROR(VLOOKUP($C9,Paramétres!$A$2:$E$11,COLUMN()-2,FALSE),"") -> 0 | H9: =IFERROR((E9-D9)+(G9-F9),"") -> 0.32638889 | J9: =IF(H9=0,"repos","") | K9: =IF(H9="","",H9*10.85*24) -> 84.991667
A10: MARDI | B10: 7 | C10: M | D10: =IFERROR(VLOOKUP($C10,Paramétres!$A$2:$E$11,COLUMN()-2,FALSE),"") -> 0.25 | E10: =IFERROR(VLOOKUP($C10,Paramétres!$A$2:$E$11,COLUMN()-2,FALSE),"") -> 0.57638889 | F10: =IFERROR(VLOOKUP($C10,Paramétres!$A$2:$E$11,COLUMN()-2,FALSE),"") -> 0 | G10: =IFERROR(VLOOKUP($C10,Paramétres!$A$2:$E$11,COLUMN()-2,FALSE),"") -> 0 | H10: =IFERROR((E10-D10)+(G10-F10),"") -> 0.32638889 | J10: =IF(H10=0,"repos","") | K10: =IF(H10="","",H10*10.85*24) -> 84.991667
A11: MERCREDI | B11: 8 | C11: M | D11: =IFERROR(VLOOKUP($C11,Paramétres!$A$2:$E$11,COLUMN()-2,FALSE),"") -> 0.25 | E11: =IFERROR(VLOOKUP($C11,Paramétres!$A$2:$E$11,COLUMN()-2,FALSE),"") -> 0.57638889 | F11: =IFERROR(VLOOKUP($C11,Paramétres!$A$2:$E$11,COLUMN()-2,FALSE),"") -> 0 | G11: =IFERROR(VLOOKUP($C11,Paramétres!$A$2:$E$11,COLUMN()-2,FALSE),"") -> 0 | H11: =IFERROR((E11-D11)+(G11-F11),"") -> 0.32638889 | J11: =IF(H11=0,"repos","") | K11: =IF(H11="","",H11*10.85*24) -> 84.991667
A12: JEUDI | B12: 9 | D12: =IFERROR(VLOOKUP($C12,Paramétres!$A$2:$E$11,COLUMN()-2,FALSE),"") | E12: =IFERROR(VLOOKUP($C12,Paramétres!$A$2:$E$11,COLUMN()-2,FALSE),"") | F12: =IFERROR(VLOOKUP($C12,Paramétres!$A$2:$E$11,COLUMN()-2,FALSE),"") | G12: =IFERROR(VLOOKUP($C12,Paramétres!$A$2:$E$11,COLUMN()-2,FALSE),"") | H12: =IFERROR((E12-D12)+(G12-F12),"") | J12: =IF(H12=0,"repos","") | K12: =IF(H12="","",H12*10.85*24)
A13: VENDREDI | B13: 10 | C13: M | D13: =IFERROR(VLOOKUP($C13,Paramétres!$A$2:$E$11,COLUMN()-2,FALSE),"") -> 0.25 | E13: =IFERROR(VLOOKUP($C13,Paramétres!$A$2:$E$11,COLUMN()-2,FALSE),"") -> 0.57638889 | F13: =IFERROR(VLOOKUP($C13,Paramétres!$A$2:$E$11,COLUMN()-2,FALSE),"") -> 0 | G13: =IFERROR(VLOOKUP($C13,Paramétres!$A$2:$E$11,COLUMN()-2,FALSE),"") -> 0 | H13: =IFERROR((E13-D13)+(G13-F13),"") -> 0.32638889 | J13: =IF(H13=0,"repos","") | K13: =IF(H13="","",H13*10.85*24) -> 84.991667
A14: SAMEDI | B14: 11 | C14: R | D14: =IFERROR(VLOOKUP($C14,Paramétres!$A$2:$E$11,COLUMN()-2,FALSE),"") -> 0.25 | E14: =IFERROR(VLOOKUP($C14,Paramétres!$A$2:$E$11,COLUMN()-2,FALSE),"") -> 0.57638889 | F14: =IFERROR(VLOOKUP($C14,Paramétres!$A$2:$E$11,COLUMN()-2,FALSE),"") -> 0 | G14: =IFERROR(VLOOKUP($C14,Paramétres!$A$2:$E$11,COLUMN()-2,FALSE),"") -> 0 | H14: =IFERROR((E14-D14)+(G14-F14),"") -> 0.32638889 | J14: =IF(H14=0,"repos","") | K14: =IF(H14="","",H14*10.85*24) -> 84.991667
A15: DIMANCHE | B15: 12 | C15: R | D15: =IFERROR(VLOOKUP($C15,Paramétres!$A$2:$E$11,COLUMN()-2,FALSE),"") -> 0.25 | E15: =IFERROR(VLOOKUP($C15,Paramétres!$A$2:$E$11,COLUMN()-2,FALSE),"") -> 0.57638889 | F15: =IFERROR(VLOOKUP($C15,Paramétres!$A$2:$E$11,COLUMN()-2,FALSE),"") -> 0 | G15: =IFERROR(VLOOKUP($C15,Paramétres!$A$2:$E$11,COLUMN()-2,FALSE),"") -> 0 | H15: =IFERROR((E15-D15)+(G15-F15),"") -> 0.32638889 | J15: =IF(H15=0,"repos","") | K15: =IF(H15="","",H15*10.85*24) -> 84.991667
A16: LUNDI | B16: 13 | D16: =IFERROR(VLOOKUP($C16,Paramétres!$A$2:$E$11,COLUMN()-2,FALSE),"") | E16: =IFERROR(VLOOKUP($C16,Paramétres!$A$2:$E$11,COLUMN()-2,FALSE),"") | F16: =IFERROR(VLOOKUP($C16,Paramétres!$A$2:$E$11,COLUMN()-2,FALSE),"") | G16: =IFERROR(VLOOKUP($C16,Paramétres!$A$2:$E$11,COLUMN()-2,FALSE),"") | H16: =IFERROR((E16-D16)+(G16-F16),"") | J16: =IF(H16=0,"repos","") | K16: =IF(H16="","",H16*10.85*24)
A17: MARDI | B17: 14 | C17: S | D17: =IFERROR(VLOOKUP($C17,Paramétres!$A$2:$E$11,COLUMN()-2,FALSE),"") -> 0 | E17: =IFERROR(VLOOKUP($C17,Paramétres!$A$2:$E$11,COLUMN()-2,FALSE),"") -> 0 | F17: =IFERROR(VLOOKUP($C17,Paramétres!$A$2:$E$11,COLUMN()-2,FALSE),"") -> 0.625 | G17: =IFERROR(VLOOKUP($C17,Paramétres!$A$2:$E$11,COLUMN()-2,FALSE),"") -> 0.83333333 | H17: =IFERROR((E17-D17)+(G17-F17),"") -> 0.20833333 | J17: =IF(H17=0,"repos","") | K17: =IF(H17="","",H17*10.85*24) -> 54.25
A18: MERCREDI | B18: 15 | D18: =IFERROR(VLOOKUP($C18,Paramétres!$A$2:$E$11,COLUMN()-2,FALSE),"") | E18: =IFERROR(VLOOKUP($C18,Paramétres!$A$2:$E$11,COLUMN()-2,FALSE),"") | F18: =IFERROR(VLOOKUP($C18,Paramétres!$A$2:$E$11,COLUMN()-2,FALSE),"") | G18: =IFERROR(VLOOKUP($C18,Paramétres!$A$2:$E$11,COLUMN()-2,FALSE),"") | H18: =IFERROR((E18-D18)+(G18-F18),"") | J18: =IF(H18=0,"repos","") | K18: =IF(H18="","",H18*10.85*24)
A19: JEUDI | B19: 16 | C19: S | D19: =IFERROR(VLOOKUP($C19,Paramétres!$A$2:$E$11,COLUMN()-2,FALSE),"") -> 0 | E19: =IFERROR(VLOOKUP($C19,Paramétres!$A$2:$E$11,COLUMN()-2,FALSE),"") -> 0 | F19: =IFERROR(VLOOKUP($C19,Paramétres!$A$2:$E$11,COLUMN()-2,FALSE),"") -> 0.625 | G19: =IFERROR(VLOOKUP($C19,Paramétres!$A$2:$E$11,COLUMN()-2,FALSE),"") -> 0.83333333 | H19: =IFERROR((E19-D19)+(G19-F19),"") -> 0.20833333 | J19: =IF(H19=0,"repos","") | K19: =IF(H19="","",H19*10.85*24) -> 54.25
A20: VENDREDI | B20: 17 | D20: =IFERROR(VLOOKUP($C20,Paramétres!$A$2:$E$11,COLUMN()-2,FALSE),"") | E20: =IFERROR(VLOOKUP($C20,Paramétres!$A$2:$E$11,COLUMN()-2,FALSE),"") | F20: =IFERROR(VLOOKUP($C20,Paramétres!$A$2:$E$11,COLUMN()-2,FALSE),"") | G20: =IFERROR(VLOOKUP($C20,Paramétres!$A$2:$E$11,COLUMN()-2,FALSE),"") | H20: =IFERROR((E20-D20)+(G20-F20),"") | J20: =IF(H20=0,"repos","") | K20: =IF(H20="","",H20*10.85*24)
A21: SAMEDI | B21: 18 | C21: R | D21: =IFERROR(VLOOKUP($C21,Paramétres!$A$2:$E$11,COLUMN()-2,FALSE),"") -> 0.25 | E21: =IFERROR(VLOOKUP($C21,Paramétres!$A$2:$E$11,COLUMN()-2,FALSE),"") -> 0.57638889 | F21: =IFERROR(VLOOKUP($C21,Paramétres!$A$2:$E$11,COLUMN()-2,FALSE),"") -> 0 | G21: =IFERROR(VLOOKUP($C21,Paramétres!$A$2:$E$11,COLUMN()-2,FALSE),"") -> 0 | H21: =IFERROR((E21-D21)+(G21-F21),"") -> 0.32638889 | J21: =IF(H21=0,"repos","") | K21: =IF(H21="","",H21*10.85*24) -> 84.991667
A22: DIMANCHE | B22: 19 | C22: R | D22: =IFERROR(VLOOKUP($C22,Paramétres!$A$2:$E$11,COLUMN()-2,FALSE),"") -> 0.25 | E22: =IFERROR(VLOOKUP($C22,Paramétres!$A$2:$E$11,COLUMN()-2,FALSE),"") -> 0.57638889 | F22: =IFERROR(VLOOKUP($C22,Paramétres!$A$2:$E$11,COLUMN()-2,FALSE),"") -> 0 | G22: =IFERROR(VLOOKUP($C22,Paramétres!$A$2:$E$11,COLUMN()-2,FALSE),"") -> 0 | H22: =IFERROR((E22-D22)+(G22-F22),"") -> 0.32638889 | J22: =IF(H22=0,"repos","") | K22: =IF(H22="","",H22*10.85*24) -> 84.991667
A23: LUNDI | B23: 20 | C23: S | D23: =IFERROR(VLOOKUP($C23,Paramétres!$A$2:$E$11,COLUMN()-2,FALSE),"") -> 0 | E23: =IFERROR(VLOOKUP($C23,Paramétres!$A$2:$E$11,COLUMN()-2,FALSE),"") -> 0 | F23: =IFERROR(VLOOKUP($C23,Paramétres!$A$2:$E$11,COLUMN()-2,FALSE),"") -> 0.625 | G23: =IFERROR(VLOOKUP($C23,Paramétres!$A$2:$E$11,COLUMN()-2,FALSE),"") -> 0.83333333 | H23: =IFERROR((E23-D23)+(G23-F23),"") -> 0.20833333 | J23: =IF(H23=0,"repos","") | K23: =IF(H23="","",H23*10.85*24) -> 54.25
A24: MARDI | B24: 21 | D24: =IFERROR(VLOOKUP($C24,Paramétres!$A$2:$E$11,COLUMN()-2,FALSE),"") | E24: =IFERROR(VLOOKUP($C24,Paramétres!$A$2:$E$11,COLUMN()-2,FALSE),"") | F24: =IFERROR(VLOOKUP($C24,Paramétres!$A$2:$E$11,COLUMN()-2,FALSE),"") | G24: =IFERROR(VLOOKUP($C24,Paramétres!$A$2:$E$11,COLUMN()-2,FALSE),"") | H24: =IFERROR((E24-D24)+(G24-F24),"") | J24: =IF(H24=0,"repos","") | K24: =IF(H24="","",H24*10.85*24)
A25: MERCREDI | B25: 22 | D25: =IFERROR(VLOOKUP($C25,Paramétres!$A$2:$E$11,COLUMN()-2,FALSE),"") | E25: =IFERROR(VLOOKUP($C25,Paramétres!$A$2:$E$11,COLUMN()-2,FALSE),"") | F25: =IFERROR(VLOOKUP($C25,Paramétres!$A$2:$E$11,COLUMN()-2,FALSE),"") | G25: =IFERROR(VLOOKUP($C25,Paramétres!$A$2:$E$11,COLUMN()-2,FALSE),"") | H25: =IFERROR((E25-D25)+(G25-F25),"") | J25: =IF(H25=0,"repos","") | K25: =IF(H25="","",H25*10.85*24)
A26: JEUDI | B26: 23 | D26: =IFERROR(VLOOKUP($C26,Paramétres!$A$2:$E$11,COLUMN()-2,FALSE),"") | E26: =IFERROR(VLOOKUP($C26,Paramétres!$A$2:$E$11,COLUMN()-2,FALSE),"") | F26: =IFERROR(VLOOKUP($C26,Paramétres!$A$2:$E$11,COLUMN()-2,FALSE),"") | G26: =IFERROR(VLOOKUP($C26,Paramétres!$A$2:$E$11,COLUMN()-2,FALSE),"") | H26: =IFERROR((E26-D26)+(G26-F26),"") | J26: =IF(H26=0,"repos","") | K26: =IF(H26="","",H26*10.85*24)
A27: VENDREDI | B27: 24 | D27: =IFERROR(VLOOKUP($C27,Paramétres!$A$2:$E$11,COLUMN()-2,FALSE),"") | E27: =IFERROR(VLOOKUP($C27,Paramétres!$A$2:$E$11,COLUMN()-2,FALSE),"") | F27: =IFERROR(VLOOKUP($C27,Paramétres!$A$2:$E$11,COLUMN()-2,FALSE),"") | G27: =IFERROR(VLOOKUP($C27,Paramétres!$A$2:$E$11,COLUMN()-2,FALSE),"") | H27: =IFERROR((E27-D27)+(G27-F27),"") | J27: =IF(H27=0,"repos","") | K27: =IF(H27="","",H27*10.85*24)
A28: SAMEDI | B28: 25 | C28: R | D28: =IFERROR(VLOOKUP($C28,Paramétres!$A$2:$E$11,COLUMN()-2,FALSE),"") -> 0.25 | E28: =IFERROR(VLOOKUP($C28,Paramétres!$A$2:$E$11,COLUMN()-2,FALSE),"") -> 0.57638889 | F28: =IFERROR(VLOOKUP($C28,Paramétres!$A$2:$E$11,COLUMN()-2,FALSE),"") -> 0 | G28: =IFERROR(VLOOKUP($C28,Paramétres!$A$2:$E$11,COLUMN()-2,FALSE),"") -> 0 | H28: =IFERROR((E28-D28)+(G28-F28),"") -> 0.32638889 | J28: =IF(H28=0,"repos","") | K28: =IF(H28="","",H28*10.85*24) -> 84.991667
A29: DIMANCHE | B29: 26 | C29: R | D29: =IFERROR(VLOOKUP($C29,Paramétres!$A$2:$E$11,COLUMN()-2,FALSE),"") -> 0.25 | E29: =IFERROR(VLOOKUP($C29,Paramétres!$A$2:$E$11,COLUMN()-2,FALSE),"") -> 0.57638889 | F29: =IFERROR(VLOOKUP($C29,Paramétres!$A$2:$E$11,COLUMN()-2,FALSE),"") -> 0 | G29: =IFERROR(VLOOKUP($C29,Paramétres!$A$2:$E$11,COLUMN()-2,FALSE),"") -> 0 | H29: =IFERROR((E29-D29)+(G29-F29),"") -> 0.32638889 | J29: =IF(H29=0,"repos","") | K29: =IF(H29="","",H29*10.85*24) -> 84.991667
A30: LUNDI | B30: 27 | D30: =IFERROR(VLOOKUP($C30,Paramétres!$A$2:$E$11,COLUMN()-2,FALSE),"") | E30: =IFERROR(VLOOKUP($C30,Paramétres!$A$2:$E$11,COLUMN()-2,FALSE),"") | F30: =IFERROR(VLOOKUP($C30,Paramétres!$A$2:$E$11,COLUMN()-2,FALSE),"") | G30: =IFERROR(VLOOKUP($C30,Paramétres!$A$2:$E$11,COLUMN()-2,FALSE),"") | H30: =IFERROR((E30-D30)+(G30-F30),"") | J30: =IF(H30=0,"repos","") | K30: =IF(H30="","",H30*10.85*24)
A31: MARDI | B31: 28 | C31: S | D31: =IFERROR(VLOOKUP($C31,Paramétres!$A$2:$E$11,COLUMN()-2,FALSE),"") -> 0 | E31: =IFERROR(VLOOKUP($C31,Paramétres!$A$2:$E$11,COLUMN()-2,FALSE),"") -> 0 | F31: =IFERROR(VLOOKUP($C31,Paramétres!$A$2:$E$11,COLUMN()-2,FALSE),"") -> 0.625 | G31: =IFERROR(VLOOKUP($C31,Paramétres!$A$2:$E$11,COLUMN()-2,FALSE),"") -> 0.83333333 | H31: =IFERROR((E31-D31)+(G31-F31),"") -> 0.20833333 | J31: =IF(H31=0,"repos","") | K31: =IF(H31="","",H31*10.85*24) -> 54.25
A32: MERCREDI | B32: 29 | D32: =IFERROR(VLOOKUP($C32,Paramétres!$A$2:$E$11,COLUMN()-2,FALSE),"") | E32: =IFERROR(VLOOKUP($C32,Paramétres!$A$2:$E$11,COLUMN()-2,FALSE),"") | F32: =IFERROR(VLOOKUP($C32,Paramétres!$A$2:$E$11,COLUMN()-2,FALSE),"") | G32: =IFERROR(VLOOKUP($C32,Paramétres!$A$2:$E$11,COLUMN()-2,FALSE),"") | H32: =IFERROR((E32-D32)+(G32-F32),"") | J32: =IF(H32=0,"repos","") | K32: =IF(H32="","",H32*10.85*24)
A33: JEUDI | B33: 30 | C33: S | D33: =IFERROR(VLOOKUP($C33,Paramétres!$A$2:$E$11,COLUMN()-2,FALSE),"") -> 0 | E33: =IFERROR(VLOOKUP($C33,Paramétres!$A$2:$E$11,COLUMN()-2,FALSE),"") -> 0 | F33: =IFERROR(VLOOKUP($C33,Paramétres!$A$2:$E$11,COLUMN()-2,FALSE),"") -> 0.625 | G33: =IFERROR(VLOOKUP($C33,Paramétres!$A$2:$E$11,COLUMN()-2,FALSE),"") -> 0.83333333 | H33: =IFERROR((E33-D33)+(G33-F33),"") -> 0.20833333 | J33: =IF(H33=0,"repos","") | K33: =IF(H33="","",H33*10.85*24) -> 54.25
A34: VENDREDI | B34: 31 | D34: =IFERROR(VLOOKUP($C34,Paramétres!$A$2:$E$11,COLUMN()-2,FALSE),"") | E34: =IFERROR(VLOOKUP($C34,Paramétres!$A$2:$E$11,COLUMN()-2,FALSE),"") | F34: =IFERROR(VLOOKUP($C34,Paramétres!$A$2:$E$11,COLUMN()-2,FALSE),"") | G34: =IFERROR(VLOOKUP($C34,Paramétres!$A$2:$E$11,COLUMN()-2,FALSE),"") | H34: =IFERROR((E34-D34)+(G34-F34),"") | J34: =IF(H34=0,"repos","") | K34: =IF(H34="","",H34*10.85*24)
A35: Total heures | H35: 5
A36: dont heures dimanche | H36: 1.25
A37: dont heures jours fériés
A38: dont heures de nuit | H38: =SUM(I4:I34) -> 0
A39: REPORT DECEMBRE
A40: TOTAL DES HEURES FEVRIER ET MARS | H40: =H35+H39 -> 5
...

Sheet avril
A1: MOIS
A2: 45017 | C2: code | D2: matin | F2: après midi | H2: Total heures | I2: dont heures nuit
D3: emb | E3: deb | F3: emb | G3: deb
A4: SAMEDI | B4: 1 | D4: =IFERROR(VLOOKUP($C4,Paramétres!$A$2:$E$11,COLUMN()-2,FALSE),"") | E4: =IFERROR(VLOOKUP($C4,Paramétres!$A$2:$E$11,COLUMN()-2,FALSE),"") | F4: =IFERROR(VLOOKUP($C4,Paramétres!$A$2:$E$11,COLUMN()-2,FALSE),"") | G4: =IFERROR(VLOOKUP($C4,Paramétres!$A$2:$E$11,COLUMN()-2,FALSE),"") | H4: =IFERROR((E4-D4)+(G4-F4),"") | J4: =IF(H4=0,"repos","") | K4: =IF(H4="","",H4*10.85*24)
A5: DIMANCHE | B5: 2 | D5: =IFERROR(VLOOKUP($C5,Paramétres!$A$2:$E$11,COLUMN()-2,FALSE),"") | E5: =IFERROR(VLOOKUP($C5,Paramétres!$A$2:$E$11,COLUMN()-2,FALSE),"") | F5: =IFERROR(VLOOKUP($C5,Paramétres!$A$2:$E$11,COLUMN()-2,FALSE),"") | G5: =IFERROR(VLOOKUP($C5,Paramétres!$A$2:$E$11,COLUMN()-2,FALSE),"") | H5: =IFERROR((E5-D5)+(G5-F5),"") | J5: =IF(H5=0,"repos","") | K5: =IF(H5="","",H5*10.85*24)
A6: LUNDI | B6: 3 | D6: =IFERROR(VLOOKUP($C6,Paramétres!$A$2:$E$11,COLUMN()-2,FALSE),"") | E6: =IFERROR(VLOOKUP($C6,Paramétres!$A$2:$E$11,COLUMN()-2,FALSE),"") | F6: =IFERROR(VLOOKUP($C6,Paramétres!$A$2:$E$11,COLUMN()-2,FALSE),"") | G6: =IFERROR(VLOOKUP($C6,Paramétres!$A$2:$E$11,COLUMN()-2,FALSE),"") | H6: =IFERROR((E6-D6)+(G6-F6),"") | J6: =IF(H6=0,"repos","") | K6: =IF(H6="","",H6*10.85*24)
A7: MARDI | B7: 4 | D7: =IFERROR(VLOOKUP($C7,Paramétres!$A$2:$E$11,COLUMN()-2,FALSE),"") | E7: =IFERROR(VLOOKUP($C7,Paramétres!$A$2:$E$11,COLUMN()-2,FALSE),"") | F7: =IFERROR(VLOOKUP($C7,Paramétres!$A$2:$E$11,COLUMN()-2,FALSE),"") | G7: =IFERROR(VLOOKUP($C7,Paramétres!$A$2:$E$11,COLUMN()-2,FALSE),"") | H7: =IFERROR((E7-D7)+(G7-F7),"") | J7: =IF(H7=0,"repos","") | K7: =IF(H7="","",H7*10.85*24)
A8: MERCREDI | B8: 5 | D8: =IFERROR(VLOOKUP($C8,Paramétres!$A$2:$E$11,COLUMN()-2,FALSE),"") | E8: =IFERROR(VLOOKUP($C8,Paramétres!$A$2:$E$11,COLUMN()-2,FALSE),"") | F8: =IFERROR(VLOOKUP($C8,Paramétres!$A$2:$E$11,COLUMN()-2,FALSE),"") | G8: =IFERROR(VLOOKUP($C8,Paramétres!$A$2:$E$11,COLUMN()-2,FALSE),"") | H8: =IFERROR((E8-D8)+(G8-F8),"") | J8: =IF(H8=0,"repos","") | K8: =IF(H8="","",H8*10.85*24)
A9: JEUDI | B9: 6 | D9: =IFERROR(VLOOKUP($C9,Paramétres!$A$2:$E$11,COLUMN()-2,FALSE),"") | E9: =IFERROR(VLOOKUP($C9,Paramétres!$A$2:$E$11,COLUMN()-2,FALSE),"") | F9: =IFERROR(VLOOKUP($C9,Paramétres!$A$2:$E$11,COLUMN()-2,FALSE),"") | G9: =IFERROR(VLOOKUP($C9,Paramétres!$A$2:$E$11,COLUMN()-2,FALSE),"") | H9: =IFERROR((E9-D9)+(G9-F9),"") | J9: =IF(H9=0,"repos","") | K9: =IF(H9="","",H9*10.85*24)
A10: VENDREDI | B10: 7 | D10: =IFERROR(VLOOKUP($C10,Paramétres!$A$2:$E$11,COLUMN()-2,FALSE),"") | E10: =IFERROR(VLOOKUP($C10,Paramétres!$A$2:$E$11,COLUMN()-2,FALSE),"") | F10: =IFERROR(VLOOKUP($C10,Paramétres!$A$2:$E$11,COLUMN()-2,FALSE),"") | G10: =IFERROR(VLOOKUP($C10,Paramétres!$A$2:$E$11,COLUMN()-2,FALSE),"") | H10: =IFERROR((E10-D10)+(G10-F10),"") | J10: =IF(H10=0,"repos","") | K10: =IF(H10="","",H10*10.85*24)
A11: SAMEDI | B11: 8 | D11: =IFERROR(VLOOKUP($C11,Paramétres!$A$2:$E$11,COLUMN()-2,FALSE),"") | E11: =IFERROR(VLOOKUP($C11,Paramétres!$A$2:$E$11,COLUMN()-2,FALSE),"") | F11: =IFERROR(VLOOKUP($C11,Paramétres!$A$2:$E$11,COLUMN()-2,FALSE),"") | G11: =IFERROR(VLOOKUP($C11,Paramétres!$A$2:$E$11,COLUMN()-2,FALSE),"") | H11: =IFERROR((E11-D11)+(G11-F11),"") | J11: =IF(H11=0,"repos","") | K11: =IF(H11="","",H11*10.85*24)
A12: DIMANCHE | B12: 9 | D12: =IFERROR(VLOOKUP($C12,Paramétres!$A$2:$E$11,COLUMN()-2,FALSE),"") | E12: =IFERROR(VLOOKUP($C12,Paramétres!$A$2:$E$11,COLUMN()-2,FALSE),"") | F12: =IFERROR(VLOOKUP($C12,Paramétres!$A$2:$E$11,COLUMN()-2,FALSE),"") | G12: =IFERROR(VLOOKUP($C12,Paramétres!$A$2:$E$11,COLUMN()-2,FALSE),"") | H12: =IFERROR((E12-D12)+(G12-F12),"") | J12: =IF(H12=0,"repos","") | K12: =IF(H12="","",H12*10.85*24)
A13: LUNDI | B13: 10 | D13: =IFERROR(VLOOKUP($C13,Paramétres!$A$2:$E$11,COLUMN()-2,FALSE),"") | E13: =IFERROR(VLOOKUP($C13,Paramétres!$A$2:$E$11,COLUMN()-2,FALSE),"") | F13: =IFERROR(VLOOKUP($C13,Paramétres!$A$2:$E$11,COLUMN()-2,FALSE),"") | G13: =IFERROR(VLOOKUP($C13,Paramétres!$A$2:$E$11,COLUMN()-2,FALSE),"") | H13: =IFERROR((E13-D13)+(G13-F13),"") | J13: =IF(H13=0,"repos","") | K13: =IF(H13="","",H13*10.85*24)
A14: MARDI | B14: 11 | D14: =IFERROR(VLOOKUP($C14,Paramétres!$A$2:$E$11,COLUMN()-2,FALSE),"") | E14: =IFERROR(VLOOKUP($C14,Paramétres!$A$2:$E$11,COLUMN()-2,FALSE),"") | F14: =IFERROR(VLOOKUP($C14,Paramétres!$A$2:$E$11,COLUMN()-2,FALSE),"") | G14: =IFERROR(VLOOKUP($C14,Paramétres!$A$2:$E$11,COLUMN()-2,FALSE),"") | H14: =IFERROR((E14-D14)+(G14-F14),"") | J14: =IF(H14=0,"repos","") | K14: =IF(H14="","",H14*10.85*24)
A15: MERCREDI | B15: 12 | D15: =IFERROR(VLOOKUP($C15,Paramétres!$A$2:$E$11,COLUMN()-2,FALSE),"") | E15: =IFERROR(VLOOKUP($C15,Paramétres!$A$2:$E$11,COLUMN()-2,FALSE),"") | F15: =IFERROR(VLOOKUP($C15,Paramétres!$A$2:$E$11,COLUMN()-2,FALSE),"") | G15: =IFERROR(VLOOKUP($C15,Paramétres!$A$2:$E$11,COLUMN()-2,FALSE),"") | H15: =IFERROR((E15-D15)+(G15-F15),"") | J15: =IF(H15=0,"repos","") | K15: =IF(H15="","",H15*10.85*24)
... A33: DIMANCHE | B33: 30 | D33: =IFERROR(VLOOKUP($C33,Paramétres!$A$2:$E$11,COLUMN()-2,FALSE),"") | E33: =IFERROR(VLOOKUP($C33,Paramétres!$A$2:$E$11,COLUMN()-2,FALSE),"") | F33: =IFERROR(VLOOKUP($C33,Paramétres!$A$2:$E$11,COLUMN()-2,FALSE),"") | G33: =IFERROR(VLOOKUP($C33,Paramétres!$A$2:$E$11,COLUMN()-2,FALSE),"") | H33: =IFERROR((E33-D33)+(G33-F33),"") | J33: =IF(H33=0,"repos","") | K33: =IF(H33="","",H33*10.85*24)
D34: =IFERROR(VLOOKUP($C34,Paramétres!$A$2:$E$11,COLUMN()-2,FALSE),"") | E34: =IFERROR(VLOOKUP($C34,Paramétres!$A$2:$E$11,COLUMN()-2,FALSE),"") | F34: =IFERROR(VLOOKUP($C34,Paramétres!$A$2:$E$11,COLUMN()-2,FALSE),"") | G34: =IFERROR(VLOOKUP($C34,Paramétres!$A$2:$E$11,COLUMN()-2,FALSE),"") | H34: =IFERROR((E34-D34)+(G34-F34),"") | J34: =IF(H34=0,"repos","") | K34: =IF(H34="","",H34*10.85*24)
A35: Total heures | H35: =SUM(H4:H33) -> 0
A36: dont heures dimanche | H36: =H21
A37: dont heures jours fériés | H37: =H28
A38: dont heures de nuit | H38: =SUM(I4:I34) -> 0
A39: REPORT DECEMBRE
A40: TOTAL DES HEURES MARS ET AVRIL | H40: =H35+H39 -> 0
G41: BRUT | H41: =H35*10.85*24 -> 0
G42: NET | H42: =H41-(H41*19.8%) -> 0

Sheet mai
A1: MOIS
A2: 45047 | C2: code | D2: matin | F2: après midi | H2: Total heures | I2: dont heures nuit
D3: emb | E3: deb | F3: emb | G3: deb
A4: LUNDI | B4: 1 | D4: =IFERROR(VLOOKUP($C4,Paramétres!$A$2:$E$11,COLUMN()-2,FALSE),"") | E4: =IFERROR(VLOOKUP($C4,Paramétres!$A$2:$E$11,COLUMN()-2,FALSE),"") | F4: =IFERROR(VLOOKUP($C4,Paramétres!$A$2:$E$11,COLUMN()-2,FALSE),"") | G4: =IFERROR(VLOOKUP($C4,Paramétres!$A$2:$E$11,COLUMN()-2,FALSE),"") | H4: =IFERROR((E4-D4)+(G4-F4),"") | J4: =IF(H4=0,"repos","") | K4: =IF(H4="","",H4*10.85*24)
A5: MARDI | B5: 2 | D5: =IFERROR(VLOOKUP($C5,Paramétres!$A$2:$E$11,COLUMN()-2,FALSE),"") | E5: =IFERROR(VLOOKUP($C5,Paramétres!$A$2:$E$11,COLUMN()-2,FALSE),"") | F5: =IFERROR(VLOOKUP($C5,Paramétres!$A$2:$E$11,COLUMN()-2,FALSE),"") | G5: =IFERROR(VLOOKUP($C5,Paramétres!$A$2:$E$11,COLUMN()-2,FALSE),"") | H5: =IFERROR((E5-D5)+(G5-F5),"") | J5: =IF(H5=0,"repos","") | K5: =IF(H5="","",H5*10.85*24)
A6: MERCREDI | B6: 3 | D6: =IFERROR(VLOOKUP($C6,Paramétres!$A$2:$E$11,COLUMN()-2,FALSE),"") | E6: =IFERROR(VLOOKUP($C6,Paramétres!$A$2:$E$11,COLUMN()-2,FALSE),"") | F6: =IFERROR(VLOOKUP($C6,Paramétres!$A$2:$E$11,COLUMN()-2,FALSE),"") | G6: =IFERROR(VLOOKUP($C6,Paramétres!$A$2:$E$11,COLUMN()-2,FALSE),"") | H6: =IFERROR((E6-D6)+(G6-F6),"") | J6: =IF(H6=0,"repos","") | K6: =IF(H6="","",H6*10.85*24)
A7: JEUDI | B7: 4 | D7: =IFERROR(VLOOKUP($C7,Paramétres!$A$2:$E$11,COLUMN()-2,FALSE),"") | E7: =IFERROR(VLOOKUP($C7,Paramétres!$A$2:$E$11,COLUMN()-2,FALSE),"") | F7: =IFERROR(VLOOKUP($C7,Paramétres!$A$2:$E$11,COLUMN()-2,FALSE),"") | G7: =IFERROR(VLOOKUP($C7,Paramétres!$A$2:$E$11,COLUMN()-2,FALSE),"") | H7: =IFERROR((E7-D7)+(G7-F7),"") | J7: =IF(H7=0,"repos","") | K7: =IF(H7="","",H7*10.85*24)
A8: VENDREDI | B8: 5 | D8: =IFERROR(VLOOKUP($C8,Paramétres!$A$2:$E$11,COLUMN()-2,FALSE),"") | E8: =IFERROR(VLOOKUP($C8,Paramétres!$A$2:$E$11,COLUMN()-2,FALSE),"") | F8: =IFERROR(VLOOKUP($C8,Paramétres!$A$2:$E$11,COLUMN()-2,FALSE),"") | G8: =IFERROR(VLOOKUP($C8,Paramétres!$A$2:$E$11,COLUMN()-2,FALSE),"") | H8: =IFERROR((E8-D8)+(G8-F8),"") | J8: =IF(H8=0,"repos","") | K8: =IF(H8="","",H8*10.85*24)
A9: SAMEDI | B9: 6 | D9: =IFERROR(VLOOKUP($C9,Paramétres!$A$2:$E$11,COLUMN()-2,FALSE),"") | E9: =IFERROR(VLOOKUP($C9,Paramétres!$A$2:$E$11,COLUMN()-2,FALSE),"") | F9: =IFERROR(VLOOKUP($C9,Paramétres!$A$2:$E$11,COLUMN()-2,FALSE),"") | G9: =IFERROR(VLOOKUP($C9,Paramétres!$A$2:$E$11,COLUMN()-2,FALSE),"") | H9: =IFERROR((E9-D9)+(G9-F9),"") | J9: =IF(H9=0,"repos","") | K9: =IF(H9="","",H9*10.85*24)
A10: DIMANCHE | B10: 7 | D10: =IFERROR(VLOOKUP($C10,Paramétres!$A$2:$E$11,COLUMN()-2,FALSE),"") | E10: =IFERROR(VLOOKUP($C10,Paramétres!$A$2:$E$11,COLUMN()-2,FALSE),"") | F10: =IFERROR(VLOOKUP($C10,Paramétres!$A$2:$E$11,COLUMN()-2,FALSE),"") | G10: =IFERROR(VLOOKUP($C10,Paramétres!$A$2:$E$11,COLUMN()-2,FALSE),"") | H10: =IFERROR((E10-D10)+(G10-F10),"") | J10: =IF(H10=0,"repos","") | K10: =IF(H10="","",H10*10.85*24)
A11: LUNDI | B11: 8 | D11: =IFERROR(VLOOKUP($C11,Paramétres!$A$2:$E$11,COLUMN()-2,FALSE),"") | E11: =IFERROR(VLOOKUP($C11,Paramétres!$A$2:$E$11,COLUMN()-2,FALSE),"") | F11: =IFERROR(VLOOKUP($C11,Paramétres!$A$2:$E$11,COLUMN()-2,FALSE),"") | G11: =IFERROR(VLOOKUP($C11,Paramétres!$A$2:$E$11,COLUMN()-2,FALSE),"") | H11: =IFERROR((E11-D11)+(G11-F11),"") | J11: =IF(H11=0,"repos","") | K11: =IF(H11="","",H11*10.85*24)
A12: MARDI | B12: 9 | D12: =IFERROR(VLOOKUP($C12,Paramétres!$A$2:$E$11,COLUMN()-2,FALSE),"") | E12: =IFERROR(VLOOKUP($C12,Paramétres!$A$2:$E$11,COLUMN()-2,FALSE),"") | F12: =IFERROR(VLOOKUP($C12,Paramétres!$A$2:$E$11,COLUMN()-2,FALSE),"") | G12: =IFERROR(VLOOKUP($C12,Paramétres!$A$2:$E$11,COLUMN()-2,FALSE),"") | H12: =IFERROR((E12-D12)+(G12-F12),"") | J12: =IF(H12=0,"repos","") | K12: =IF(H12="","",H12*10.85*24)
A13: MERCREDI | B13: 10 | D13: =IFERROR(VLOOKUP($C13,Paramétres!$A$2:$E$11,COLUMN()-2,FALSE),"") | E13: =IFERROR(VLOOKUP($C13,Paramétres!$A$2:$E$11,COLUMN()-2,FALSE),"") | F13: =IFERROR(VLOOKUP($C13,Paramétres!$A$2:$E$11,COLUMN()-2,FALSE),"") | G13: =IFERROR(VLOOKUP($C13,Paramétres!$A$2:$E$11,COLUMN()-2,FALSE),"") | H13: =IFERROR((E13-D13)+(G13-F13),"") | J13: =IF(H13=0,"repos","") | K13: =IF(H13="","",H13*10.85*24)
A14: JEUDI | B14: 11 | D14: =IFERROR(VLOOKUP($C14,Paramétres!$A$2:$E$11,COLUMN()-2,FALSE),"") | E14: =IFERROR(VLOOKUP($C14,Paramétres!$A$2:$E$11,COLUMN()-2,FALSE),"") | F14: =IFERROR(VLOOKUP($C14,Paramétres!$A$2:$E$11,COLUMN()-2,FALSE),"") | G14: =IFERROR(VLOOKUP($C14,Paramétres!$A$2:$E$11,COLUMN()-2,FALSE),"") | H14: =IFERROR((E14-D14)+(G14-F14),"") | J14: =IF(H14=0,"repos","") | K14: =IF(H14="","",H14*10.85*24)
A15: VENDREDI | B15: 12 | D15: =IFERROR(VLOOKUP($C15,Paramétres!$A$2:$E$11,COLUMN()-2,FALSE),"") | E15: =IFERROR(VLOOKUP($C15,Paramétres!$A$2:$E$11,COLUMN()-2,FALSE),"") | F15: =IFERROR(VLOOKUP($C15,Paramétres!$A$2:$E$11,COLUMN()-2,FALSE),"") | G15: =IFERROR(VLOOKUP($C15,Paramétres!$A$2:$E$11,COLUMN()-2,FALSE),"") | H15: =IFERROR((E15-D15)+(G15-F15),"") | J15: =IF(H15=0,"repos","") | K15: =IF(H15="","",H15*10.85*24)
... A34: MERCREDI | B34: 31 | D34: =IFERROR(VLOOKUP($C34,Paramétres!$A$2:$E$11,COLUMN()-2,FALSE),"") | E34: =IFERROR(VLOOKUP($C34,Paramétres!$A$2:$E$11,COLUMN()-2,FALSE),"") | F34: =IFERROR(VLOOKUP($C34,Paramétres!$A$2:$E$11,COLUMN()-2,FALSE),"") | G34: =IFERROR(VLOOKUP($C34,Paramétres!$A$2:$E$11,COLUMN()-2,FALSE),"") | H34: =IFERROR((E34-D34)+(G34-F34),"") | J34: =IF(H34=0,"repos","") | K34: =IF(H34="","",H34*10.85*24)
A35: Total heures | H35: =SUM(H4:H33) -> 0
A36: dont heures dimanche | H36: =H21
A37: dont heures jours fériés | H37: =H28
A38: dont heures de nuit | H38: =SUM(I4:I34) -> 0
A39: REPORT DECEMBRE
A40: TOTAL DES HEURES DECEMBRE ET JANVIER | H40: =H35+H39 -> 0
G41: BRUT | H41: =H35*10.85*24 -> 0
G42: NET | H42: =H41-(H41*19.8%) -> 0

Sheet juin
A1: MOIS
A2: 45078 | C2: code | D2: matin | F2: après midi | H2: Total heures | I2: dont heures nuit
D3: emb | E3: deb | F3: emb | G3: deb
A4: JEUDI | B4: 1 | D4: =IFERROR(VLOOKUP($C4,Paramétres!$A$2:$E$11,COLUMN()-2,FALSE),"") | E4: =IFERROR(VLOOKUP($C4,Paramétres!$A$2:$E$11,COLUMN()-2,FALSE),"") | F4: =IFERROR(VLOOKUP($C4,Paramétres!$A$2:$E$11,COLUMN()-2,FALSE),"") | G4: =IFERROR(VLOOKUP($C4,Paramétres!$A$2:$E$11,COLUMN()-2,FALSE),"") | H4: =IFERROR((E4-D4)+(G4-F4),"") | J4: =IF(H4=0,"repos","") | K4: =IF(H4="","",H4*10.85*24)
A5: VENDREDI | B5: 2 | D5: =IFERROR(VLOOKUP($C5,Paramétres!$A$2:$E$11,COLUMN()-2,FALSE),"") | E5: =IFERROR(VLOOKUP($C5,Paramétres!$A$2:$E$11,COLUMN()-2,FALSE),"") | F5: =IFERROR(VLOOKUP($C5,Paramétres!$A$2:$E$11,COLUMN()-2,FALSE),"") | G5: =IFERROR(VLOOKUP($C5,Paramétres!$A$2:$E$11,COLUMN()-2,FALSE),"") | H5: =IFERROR((E5-D5)+(G5-F5),"") | J5: =IF(H5=0,"repos","") | K5: =IF(H5="","",H5*10.85*24)
A6: SAMEDI | B6: 3 | D6: =IFERROR(VLOOKUP($C6,Paramétres!$A$2:$E$11,COLUMN()-2,FALSE),"") | E6: =IFERROR(VLOOKUP($C6,Paramétres!$A$2:$E$11,COLUMN()-2,FALSE),"") | F6: =IFERROR(VLOOKUP($C6,Paramétres!$A$2:$E$11,COLUMN()-2,FALSE),"") | G6: =IFERROR(VLOOKUP($C6,Paramétres!$A$2:$E$11,COLUMN()-2,FALSE),"") | H6: =IFERROR((E6-D6)+(G6-F6),"") | J6: =IF(H6=0,"repos","") | K6: =IF(H6="","",H6*10.85*24)
A7: DIMANCHE | B7: 4 | D7: =IFERROR(VLOOKUP($C7,Paramétres!$A$2:$E$11,COLUMN()-2,FALSE),"") | E7: =IFERROR(VLOOKUP($C7,Paramétres!$A$2:$E$11,COLUMN()-2,FALSE),"") | F7: =IFERROR(VLOOKUP($C7,Paramétres!$A$2:$E$11,COLUMN()-2,FALSE),"") | G7: =IFERROR(VLOOKUP($C7,Paramétres!$A$2:$E$11,COLUMN()-2,FALSE),"") | H7: =IFERROR((E7-D7)+(G7-F7),"") | J7: =IF(H7=0,"repos","") | K7: =IF(H7="","",H7*10.85*24)
A8: LUNDI | B8: 5 | D8: =IFERROR(VLOOKUP($C8,Paramétres!$A$2:$E$11,COLUMN()-2,FALSE),"") | E8: =IFERROR(VLOOKUP($C8,Paramétres!$A$2:$E$11,COLUMN()-2,FALSE),"") | F8: =IFERROR(VLOOKUP($C8,Paramétres!$A$2:$E$11,COLUMN()-2,FALSE),"") | G8: =IFERROR(VLOOKUP($C8,Paramétres!$A$2:$E$11,COLUMN()-2,FALSE),"") | H8: =IFERROR((E8-D8)+(G8-F8),"") | J8: =IF(H8=0,"repos","") | K8: =IF(H8="","",H8*10.85*24)
A9: MARDI | B9: 6 | D9: =IFERROR(VLOOKUP($C9,Paramétres!$A$2:$E$11,COLUMN()-2,FALSE),"") | E9: =IFERROR(VLOOKUP($C9,Paramétres!$A$2:$E$11,COLUMN()-2,FALSE),"") | F9: =IFERROR(VLOOKUP($C9,Paramétres!$A$2:$E$11,COLUMN()-2,FALSE),"") | G9: =IFERROR(VLOOKUP($C9,Paramétres!$A$2:$E$11,COLUMN()-2,FALSE),"") | H9: =IFERROR((E9-D9)+(G9-F9),"") | J9: =IF(H9=0,"repos","") | K9: =IF(H9="","",H9*10.85*24)
A10: MERCREDI | B10: 7 | D10: =IFERROR(VLOOKUP($C10,Paramétres!$A$2:$E$11,COLUMN()-2,FALSE),"") | E10: =IFERROR(VLOOKUP($C10,Paramétres!$A$2:$E$11,COLUMN()-2,FALSE),"") | F10: =IFERROR(VLOOKUP($C10,Paramétres!$A$2:$E$11,COLUMN()-2,FALSE),"") | G10: =IFERROR(VLOOKUP($C10,Paramétres!$A$2:$E$11,COLUMN()-2,FALSE),"") | H10: =IFERROR((E10-D10)+(G10-F10),"") | J10: =IF(H10=0,"repos","") | K10: =IF(H10="","",H10*10.85*24)
A11: JEUDI | B11: 8 | D11: =IFERROR(VLOOKUP($C11,Paramétres!$A$2:$E$11,COLUMN()-2,FALSE),"") | E11: =IFERROR(VLOOKUP($C11,Paramétres!$A$2:$E$11,COLUMN()-2,FALSE),"") | F11: =IFERROR(VLOOKUP($C11,Paramétres!$A$2:$E$11,COLUMN()-2,FALSE),"") | G11: =IFERROR(VLOOKUP($C11,Paramétres!$A$2:$E$11,COLUMN()-2,FALSE),"") | H11: =IFERROR((E11-D11)+(G11-F11),"") | J11: =IF(H11=0,"repos","") | K11: =IF(H11="","",H11*10.85*24)
A12: VENDREDI | B12: 9 | D12: =IFERROR(VLOOKUP($C12,Paramétres!$A$2:$E$11,COLUMN()-2,FALSE),"") | E12: =IFERROR(VLOOKUP($C12,Paramétres!$A$2:$E$11,COLUMN()-2,FALSE),"") | F12: =IFERROR(VLOOKUP($C12,Paramétres!$A$2:$E$11,COLUMN()-2,FALSE),"") | G12: =IFERROR(VLOOKUP($C12,Paramétres!$A$2:$E$11,COLUMN()-2,FALSE),"") | H12: =IFERROR((E12-D12)+(G12-F12),"") | J12: =IF(H12=0,"repos","") | K12: =IF(H12="","",H12*10.85*24)
A13: SAMEDI | B13: 10 | D13: =IFERROR(VLOOKUP($C13,Paramétres!$A$2:$E$11,COLUMN()-2,FALSE),"") | E13: =IFERROR(VLOOKUP($C13,Paramétres!$A$2:$E$11,COLUMN()-2,FALSE),"") | F13: =IFERROR(VLOOKUP($C13,Paramétres!$A$2:$E$11,COLUMN()-2,FALSE),"") | G13: =IFERROR(VLOOKUP($C13,Paramétres!$A$2:$E$11,COLUMN()-2,FALSE),"") | H13: =IFERROR((E13-D13)+(G13-F13),"") | J13: =IF(H13=0,"repos","") | K13: =IF(H13="","",H13*10.85*24)
