Workbook

Sheet Source
A1: Famille | B1: LIBELLE | C1: N° Ordre | D1: LIB_PROD | E1: GENCOD
A2: 501 | B2: textile | C2: 24 | D2: chaussure | E2: 23456789
A3: 501 | B3: alimentaire | C3: 26 | D3: salade | E3: 2345678
A4: 504 | B4: informatique | C4: 386 | D4: clé usb | E4: 9876543
A5: 504 | B5: bazar | C5: 387 | D5: lampe | E5: 23456789
A6: 804 | B6: droguerie | C6: 1802 | D6: lessive | E6: 98765432
A7: 857 | B7: alimentaire | C7: 2466 | D7: beurre | E7: 2345678
A8: 857 | B8: sport | C8: 2469 | D8: ski | E8: 987654
A9: 863 | B9: sport | C9: 1340 | D9: ballon | E9: 345678
A10: 863 | B10: bazar | C10: 1346 | D10: table | E10: 987654

Sheet chemin de fer
B1: N° Ordre | C1: Libéllé | D1: Famille | E1: Prix | F1: Offre | G1: Com | H1: Page | I1: Position dans la page | N1: Type d'offre | O1: Com
B2: 24 | C2: =IF(B2="","",INDEX(Source!D:D,MATCH(B:B,Source!C:C,0))) -> chaussure | D2: =IF(B2="","",INDEX(Source!B:B,MATCH(B:B,Source!C:C,0))) -> textile | E2: 69 | F2: 2eme à moitié prix | G2: grande taille | H2: 1 | I2: 1 | N2: 6+6 | O2: GH
B3: 26 | C3: =IF(B3="","",INDEX(Source!D:D,MATCH(B:B,Source!C:C,0))) -> salade | D3: =IF(B3="","",INDEX(Source!B:B,MATCH(B:B,Source!C:C,0))) -> alimentaire | H3: =IF(I3=1,H2+1,H2) -> 1 | I3: 2 | N3: 3+3 | O3: C2C
B4: 386 | C4: =IF(B4="","",INDEX(Source!D:D,MATCH(B:B,Source!C:C,0))) -> clé usb | D4: =IF(B4="","",INDEX(Source!B:B,MATCH(B:B,Source!C:C,0))) -> informatique | H4: =IF(I4=1,H3+1,H3) -> 1 | I4: 3 | N4: 4+2 | O4: T
B5: 1802 | C5: =IF(B5="","",INDEX(Source!D:D,MATCH(B:B,Source!C:C,0))) -> lessive | D5: =IF(B5="","",INDEX(Source!B:B,MATCH(B:B,Source!C:C,0))) -> droguerie | H5: =IF(I5=1,H4+1,H4) -> 1 | I5: 4 | N5: 2+1 | O5: Bio
C6: =IF(B6="","",INDEX(Source!D:D,MATCH(B:B,Source!C:C,0))) | D6: =IF(B6="","",INDEX(Source!B:B,MATCH(B:B,Source!C:C,0))) | H6: =IF(I6=1,H5+1,H5) -> 1 | I6: 5 | N6: 1bll+1bll | O6: Parker
C7: =IF(B7="","",INDEX(Source!D:D,MATCH(B:B,Source!C:C,0))) | D7: =IF(B7="","",INDEX(Source!B:B,MATCH(B:B,Source!C:C,0))) | H7: =IF(I7=1,H6+1,H6) -> 1 | I7: 6 | N7: 2eme -50%
C8: =IF(B8="","",INDEX(Source!D:D,MATCH(B:B,Source!C:C,0))) | D8: =IF(B8="","",INDEX(Source!B:B,MATCH(B:B,Source!C:C,0))) | H8: =IF(I8=1,H7+1,H7) -> 1 | I8: 7 | N8: COC 50%
C9: =IF(B9="","",INDEX(Source!D:D,MATCH(B:B,Source!C:C,0))) | D9: =IF(B9="","",INDEX(Source!B:B,MATCH(B:B,Source!C:C,0))) | H9: =IF(I9=1,H8+1,H8) -> 1 | I9: 8 | N9: Mega Bombe
C10: =IF(B10="","",INDEX(Source!D:D,MATCH(B:B,Source!C:C,0))) | D10: =IF(B10="","",INDEX(Source!B:B,MATCH(B:B,Source!C:C,0))) | H10: =IF(I10=1,H9+1,H9) -> 1 | I10: 9
C11: =IF(B11="","",INDEX(Source!D:D,MATCH(B:B,Source!C:C,0))) | D11: =IF(B11="","",INDEX(Source!B:B,MATCH(B:B,Source!C:C,0))) | H11: =IF(I11=1,H10+1,H10) -> 1 | I11: 10
C12: =IF(B12="","",INDEX(Source!D:D,MATCH(B:B,Source!C:C,0))) | D12: =IF(B12="","",INDEX(Source!B:B,MATCH(B:B,Source!C:C,0))) | H12: =IF(I12=1,H11+1,H11) -> 1 | I12: 11
C13: =IF(B13="","",INDEX(Source!D:D,MATCH(B:B,Source!C:C,0))) | D13: =IF(B13="","",INDEX(Source!B:B,MATCH(B:B,Source!C:C,0))) | H13: =IF(I13=1,H12+1,H12) -> 1 | I13: 12
C14: =IF(B14="","",INDEX(Source!D:D,MATCH(B:B,Source!C:C,0))) | D14: =IF(B14="","",INDEX(Source!B:B,MATCH(B:B,Source!C:C,0))) | H14: =IF(I14=1,H13+1,H13) -> 1 | I14: 13
C15: =IF(B15="","",INDEX(Source!D:D,MATCH(B:B,Source!C:C,0))) | D15: =IF(B15="","",INDEX(Source!B:B,MATCH(B:B,Source!C:C,0))) | H15: =IF(I15=1,H14+1,H14) -> 1 | I15: 14
C16: =IF(B16="","",INDEX(Source!D:D,MATCH(B:B,Source!C:C,0))) | D16: =IF(B16="","",INDEX(Source!B:B,MATCH(B:B,Source!C:C,0))) | H16: =IF(I16=1,H15+1,H15) -> 1 | I16: 15
B17: 2469 | C17: =IF(B17="","",INDEX(Source!D:D,MATCH(B:B,Source!C:C,0))) -> ski | D17: =IF(B17="","",INDEX(Source!B:B,MATCH(B:B,Source!C:C,0))) -> sport | H17: =IF(I17=1,H16+1,H16) -> 2 | I17: 1
B18: 1340 | C18: =IF(B18="","",INDEX(Source!D:D,MATCH(B:B,Source!C:C,0))) -> ballon | D18: =IF(B18="","",INDEX(Source!B:B,MATCH(B:B,Source!C:C,0))) -> sport | H18: =IF(I18=1,H17+1,H17) -> 2 | I18: 2
B19: 1346 | C19: =IF(B19="","",INDEX(Source!D:D,MATCH(B:B,Source!C:C,0))) -> table | D19: =IF(B19="","",INDEX(Source!B:B,MATCH(B:B,Source!C:C,0))) -> bazar | H19: =IF(I19=1,H18+1,H18) -> 2 | I19: 3
C20: =IF(B20="","",INDEX(Source!D:D,MATCH(B:B,Source!C:C,0))) | D20: =IF(B20="","",INDEX(Source!B:B,MATCH(B:B,Source!C:C,0))) | H20: =IF(I20=1,H19+1,H19) -> 2 | I20: 4
C21: =IF(B21="","",INDEX(Source!D:D,MATCH(B:B,Source!C:C,0))) | D21: =IF(B21="","",INDEX(Source!B:B,MATCH(B:B,Source!C:C,0))) | H21: =IF(I21=1,H20+1,H20) -> 2 | I21: 5
C22: =IF(B22="","",INDEX(Source!D:D,MATCH(B:B,Source!C:C,0))) | D22: =IF(B22="","",INDEX(Source!B:B,MATCH(B:B,Source!C:C,0))) | H22: =IF(I22=1,H21+1,H21) -> 2 | I22: 6
C23: =IF(B23="","",INDEX(Source!D:D,MATCH(B:B,Source!C:C,0))) | D23: =IF(B23="","",INDEX(Source!B:B,MATCH(B:B,Source!C:C,0))) | H23: =IF(I23=1,H22+1,H22) -> 2 | I23: 7
C24: =IF(B24="","",INDEX(Source!D:D,MATCH(B:B,Source!C:C,0))) | D24: =IF(B24="","",INDEX(Source!B:B,MATCH(B:B,Source!C:C,0))) | H24: =IF(I24=1,H23+1,H23) -> 2 | I24: 8
C25: =IF(B25="","",INDEX(Source!D:D,MATCH(B:B,Source!C:C,0))) | D25: =IF(B25="","",INDEX(Source!B:B,MATCH(B:B,Source!C:C,0))) | H25: =IF(I25=1,H24+1,H24) -> 2 | I25: 9
C26: =IF(B26="","",INDEX(Source!D:D,MATCH(B:B,Source!C:C,0))) | D26: =IF(B26="","",INDEX(Source!B:B,MATCH(B:B,Source!C:C,0))) | H26: =IF(I26=1,H25+1,H25) -> 2 | I26: 10
C27: =IF(B27="","",INDEX(Source!D:D,MATCH(B:B,Source!C:C,0))) | D27: =IF(B27="","",INDEX(Source!B:B,MATCH(B:B,Source!C:C,0))) | H27: =IF(I27=1,H26+1,H26) -> 2 | I27: 11
C28: =IF(B28="","",INDEX(Source!D:D,MATCH(B:B,Source!C:C,0))) | D28: =IF(B28="","",INDEX(Source!B:B,MATCH(B:B,Source!C:C,0))) | H28: =IF(I28=1,H27+1,H27) -> 2 | I28: 12
C29: =IF(B29="","",INDEX(Source!D:D,MATCH(B:B,Source!C:C,0))) | D29: =IF(B29="","",INDEX(Source!B:B,MATCH(B:B,Source!C:C,0))) | H29: =IF(I29=1,H28+1,H28) -> 2 | I29: 13
C30: =IF(B30="","",INDEX(Source!D:D,MATCH(B:B,Source!C:C,0))) | D30: =IF(B30="","",INDEX(Source!B:B,MATCH(B:B,Source!C:C,0))) | H30: =IF(I30=1,H29+1,H29) -> 2 | I30: 14
C31: =IF(B31="","",INDEX(Source!D:D,MATCH(B:B,Source!C:C,0))) | D31: =IF(B31="","",INDEX(Source!B:B,MATCH(B:B,Source!C:C,0))) | H31: =IF(I31=1,H30+1,H30) -> 2 | I31: 15
... C1081: =IF(B1081="","",INDEX(Source!D:D,MATCH(B:B,Source!C:C,0))) | D1081: =IF(B1081="","",INDEX(Source!B:B,MATCH(B:B,Source!C:C,0))) | H1081: =IF(I1081=1,H1080+1,H1080) -> 72 | I1081: 15
C1083: =IF(B1083="","",INDEX(Source!D:D,MATCH(B:B,Source!C:C,0))) | D1083: =IF(B1083="","",INDEX(Source!B:B,MATCH(B:B,Source!C:C,0))) | H1083: Liste | I1083: 1
C1084: =IF(B1084="","",INDEX(Source!D:D,MATCH(B:B,Source!C:C,0))) | D1084: =IF(B1084="","",INDEX(Source!B:B,MATCH(B:B,Source!C:C,0))) | H1084: Liste | I1084: 2
C1085: =IF(B1085="","",INDEX(Source!D:D,MATCH(B:B,Source!C:C,0))) | D1085: =IF(B1085="","",INDEX(Source!B:B,MATCH(B:B,Source!C:C,0))) | H1085: Liste | I1085: 3
C1086: =IF(B1086="","",INDEX(Source!D:D,MATCH(B:B,Source!C:C,0))) | D1086: =IF(B1086="","",INDEX(Source!B:B,MATCH(B:B,Source!C:C,0))) | H1086: Liste | I1086: 4
C1087: =IF(B1087="","",INDEX(Source!D:D,MATCH(B:B,Source!C:C,0))) | D1087: =IF(B1087="","",INDEX(Source!B:B,MATCH(B:B,Source!C:C,0))) | H1087: Liste | I1087: 5
C1088: =IF(B1088="","",INDEX(Source!D:D,MATCH(B:B,Source!C:C,0))) | D1088: =IF(B1088="","",INDEX(Source!B:B,MATCH(B:B,Source!C:C,0))) | H1088: Liste | I1088: 6
C1089: =IF(B1089="","",INDEX(Source!D:D,MATCH(B:B,Source!C:C,0))) | D1089: =IF(B1089="","",INDEX(Source!B:B,MATCH(B:B,Source!C:C,0))) | H1089: Liste | I1089: 7
C1090: =IF(B1090="","",INDEX(Source!D:D,MATCH(B:B,Source!C:C,0))) | D1090: =IF(B1090="","",INDEX(Source!B:B,MATCH(B:B,Source!C:C,0))) | H1090: Liste | I1090: 8
...

Sheet Par PAGE
O1: Numéro de la page : | P1: 1
A4: =INDEX('chemin de fer'!C:I,MATCH(A13,'chemin de fer'!I:I,0),MATCH($P$1,'chemin de fer'!H:H,0)) -> textile
A7: =INDEX('chemin de fer'!$A$2:$B$500,MATCH(A13,'chemin de fer'!$I$2:$I$500,0),MATCH($P$1,'chemin de fer'!$H$1:$H$500,0)) -> 24 | D7: =INDEX('chemin de fer'!$A$2:$B$500,MATCH(D13,'chemin de fer'!$I$2:$I$500,0),MATCH($P$1,'chemin de fer'!$H$1:$H$500,0)) -> 26 | G7: =INDEX('chemin de fer'!$A$2:$B$500,MATCH(G13,'chemin de fer'!$I$2:$I$500,0),MATCH($P$1,'chemin de fer'!$H$1:$H$500,0)) -> 386 | J7: =INDEX('chemin de fer'!$A$2:$B$500,MATCH(J13,'chemin de fer'!$I$2:$I$500,0),MATCH($P$1,'chemin de fer'!$H$1:$H$500,0)) -> 1802 | M7: =INDEX('chemin de fer'!$A$2:$B$500,MATCH(M13,'chemin de fer'!$I$2:$I$500,0),MATCH($P$1,'chemin de fer'!$H$1:$H$500,0)) -> 0
A8: =INDEX('chemin de fer'!$B$2:$I$500,MATCH(A13,'chemin de fer'!$I$2:$I$500,0),MATCH($P$1,'chemin de fer'!$H$1:$H$500,0)) -> chaussure | D8: =INDEX('chemin de fer'!$B$2:$I$5000,MATCH(D13,'chemin de fer'!$I$2:$I$500,0),MATCH($P$1,'chemin de fer'!$H$1:$H$200,0)) -> salade | G8: =INDEX('chemin de fer'!$B$2:$I$5000,MATCH(G13,'chemin de fer'!$I$2:$I$500,0),MATCH($P$1,'chemin de fer'!$H$1:$H$200,0)) -> clé usb | J8: =INDEX('chemin de fer'!$B$2:$I$5000,MATCH(J13,'chemin de fer'!$I$2:$I$500,0),MATCH($P$1,'chemin de fer'!$H$1:$H$200,0)) -> lessive | M8: =INDEX('chemin de fer'!$B$2:$I$5000,MATCH(M13,'chemin de fer'!$I$2:$I$500,0),MATCH($P$1,'chemin de fer'!$H$1:$H$200,0)) | S8: =INDEX('chemin de fer'!A2:H200,MATCH(P1,'chemin de fer'!H:H,0),MATCH(D13,'chemin de fer'!I:I,0)) -> salade | T8: =INDEX('chemin de fer'!A2:H200,MATCH(P1,'chemin de fer'!H:H,0),MATCH(G13,'chemin de fer'!I:I,0)) -> alimentaire | U8: =INDEX('chemin de fer'!A2:H200,MATCH(P1,'chemin de fer'!H:H,0),MATCH(G13,'chemin de fer'!I:I,0)) -> alimentaire
P9: =INDEX('chemin de fer'!$B$2:$I$500,MATCH(1,(A1:E3)*(B1:F3),0)) -> #VALUE! | S9: =INDEX('chemin de fer'!A2:H200,MATCH(P1,'chemin de fer'!H:H,0),MATCH(A13,'chemin de fer'!I:I,0)) -> 26
A10: =INDEX('chemin de fer'!$E$2:$J$500,MATCH(A13,'chemin de fer'!$I$2:$I$500,0),MATCH($P$1,'chemin de fer'!$H$1:$H$500,0)) -> 2eme à moitié prix | D10: =INDEX('chemin de fer'!$E$2:$J$500,MATCH(D13,'chemin de fer'!$I$2:$I$500,0),MATCH($P$1,'chemin de fer'!$H$1:$H$500,0)) -> 0 | G10: =INDEX('chemin de fer'!$E$2:$J$500,MATCH(G13,'chemin de fer'!$I$2:$I$500,0),MATCH($P$1,'chemin de fer'!$H$1:$H$500,0)) -> 0 | J10: =INDEX('chemin de fer'!$E$2:$J$500,MATCH(J13,'chemin de fer'!$I$2:$I$500,0),MATCH($P$1,'chemin de fer'!$H$1:$H$500,0)) -> 0 | M10: =INDEX('chemin de fer'!$E$2:$J$500,MATCH(M13,'chemin de fer'!$I$2:$I$500,0),MATCH($P$1,'chemin de fer'!$H$1:$H$500,0)) -> 0
A13: 1 | B13: =INDEX('chemin de fer'!$D$2:$J$500,MATCH(A13,'chemin de fer'!$I$2:$I$500,0),MATCH($P$1,'chemin de fer'!$H$1:$H$500,0)) -> 69 | D13: 2 | E13: =INDEX('chemin de fer'!$D$2:$J$500,MATCH(D13,'chemin de fer'!$I$2:$I$500,0),MATCH($P$1,'chemin de fer'!$H$1:$H$500,0)) -> 0 | G13: 3 | H13: =INDEX('chemin de fer'!$D$2:$J$500,MATCH(G13,'chemin de fer'!$I$2:$I$500,0),MATCH($P$1,'chemin de fer'!$H$1:$H$500,0)) -> 0 | J13: 4 | K13: =INDEX('chemin de fer'!$D$2:$J$500,MATCH(J13,'chemin de fer'!$I$2:$I$500,0),MATCH($P$1,'chemin de fer'!$H$1:$H$500,0)) -> 0 | M13: 5 | N13: =INDEX('chemin de fer'!$D$2:$J$500,MATCH(M13,'chemin de fer'!$I$2:$I$500,0),MATCH($P$1,'chemin de fer'!$H$1:$H$500,0)) -> 0
A15: =INDEX('chemin de fer'!$A$2:$B$500,MATCH(A21,'chemin de fer'!$I$2:$I$500,0),MATCH($P$1,'chemin de fer'!$H$1:$H$500,0)) -> 0 | D15: =INDEX('chemin de fer'!$A$2:$B$500,MATCH(D21,'chemin de fer'!$I$2:$I$500,0),MATCH($P$1,'chemin de fer'!$H$1:$H$500,0)) -> 0 | G15: =INDEX('chemin de fer'!$A$2:$B$500,MATCH(G21,'chemin de fer'!$I$2:$I$500,0),MATCH($P$1,'chemin de fer'!$H$1:$H$500,0)) -> 0 | J15: =INDEX('chemin de fer'!$A$2:$B$500,MATCH(J21,'chemin de fer'!$I$2:$I$500,0),MATCH($P$1,'chemin de fer'!$H$1:$H$500,0)) -> 0 | M15: =INDEX('chemin de fer'!$A$2:$B$500,MATCH(M21,'chemin de fer'!$I$2:$I$500,0),MATCH($P$1,'chemin de fer'!$H$1:$H$500,0)) -> 0
A16: =INDEX('chemin de fer'!$B$2:$I$5000,MATCH(A21,'chemin de fer'!$I$2:$I$500,0),MATCH($P$1,'chemin de fer'!$H$1:$H$200,0)) | D16: =INDEX('chemin de fer'!$B$2:$I$5000,MATCH(D21,'chemin de fer'!$I$2:$I$500,0),MATCH($P$1,'chemin de fer'!$H$1:$H$200,0)) | G16: =INDEX('chemin de fer'!$B$2:$I$5000,MATCH(G21,'chemin de fer'!$I$2:$I$500,0),MATCH($P$1,'chemin de fer'!$H$1:$H$200,0)) | J16: =INDEX('chemin de fer'!$B$2:$I$5000,MATCH(J21,'chemin de fer'!$I$2:$I$500,0),MATCH($P$1,'chemin de fer'!$H$1:$H$200,0)) | M16: =INDEX('chemin de fer'!$B$2:$I$5000,MATCH(M21,'chemin de fer'!$I$2:$I$500,0),MATCH($P$1,'chemin de fer'!$H$1:$H$200,0))
A18: =INDEX('chemin de fer'!$E$2:$J$500,MATCH(A21,'chemin de fer'!$I$2:$I$500,0),MATCH($P$1,'chemin de fer'!$H$1:$H$500,0)) -> 0 | D18: =INDEX('chemin de fer'!$E$2:$J$500,MATCH(D21,'chemin de fer'!$I$2:$I$500,0),MATCH($P$1,'chemin de fer'!$H$1:$H$500,0)) -> 0 | G18: =INDEX('chemin de fer'!$E$2:$J$500,MATCH(G21,'chemin de fer'!$I$2:$I$500,0),MATCH($P$1,'chemin de fer'!$H$1:$H$500,0)) -> 0 | J18: =INDEX('chemin de fer'!$E$2:$J$500,MATCH(J21,'chemin de fer'!$I$2:$I$500,0),MATCH($P$1,'chemin de fer'!$H$1:$H$500,0)) -> 0 | M18: =INDEX('chemin de fer'!$E$2:$J$500,MATCH(M21,'chemin de fer'!$I$2:$I$500,0),MATCH($P$1,'chemin de fer'!$H$1:$H$500,0)) -> 0
A21: 6 | B21: =INDEX('chemin de fer'!$D$2:$J$500,MATCH(A21,'chemin de fer'!$I$2:$I$500,0),MATCH($P$1,'chemin de fer'!$H$1:$H$500,0)) -> 0 | D21: 7 | E21: =INDEX('chemin de fer'!$D$2:$J$500,MATCH(D21,'chemin de fer'!$I$2:$I$500,0),MATCH($P$1,'chemin de fer'!$H$1:$H$500,0)) -> 0 | G21: 8 | H21: =INDEX('chemin de fer'!$D$2:$J$500,MATCH(G21,'chemin de fer'!$I$2:$I$500,0),MATCH($P$1,'chemin de fer'!$H$1:$H$500,0)) -> 0 | J21: 9 | K21: =INDEX('chemin de fer'!$D$2:$J$500,MATCH(J21,'chemin de fer'!$I$2:$I$500,0),MATCH($P$1,'chemin de fer'!$H$1:$H$500,0)) -> 0 | M21: 10 | N21: =INDEX('chemin de fer'!$D$2:$J$500,MATCH(M21,'chemin de fer'!$I$2:$I$500,0),MATCH($P$1,'chemin de fer'!$H$1:$H$500,0)) -> 0
A23: =INDEX('chemin de fer'!$A$2:$B$500,MATCH(A29,'chemin de fer'!$I$2:$I$500,0),MATCH($P$1,'chemin de fer'!$H$1:$H$500,0)) -> 0 | D23: =INDEX('chemin de fer'!$A$2:$B$500,MATCH(D29,'chemin de fer'!$I$2:$I$500,0),MATCH($P$1,'chemin de fer'!$H$1:$H$500,0)) -> 0 | G23: =INDEX('chemin de fer'!$A$2:$B$500,MATCH(G29,'chemin de fer'!$I$2:$I$500,0),MATCH($P$1,'chemin de fer'!$H$1:$H$500,0)) -> 0 | J23: =INDEX('chemin de fer'!$A$2:$B$500,MATCH(J29,'chemin de fer'!$I$2:$I$500,0),MATCH($P$1,'chemin de fer'!$H$1:$H$500,0)) -> 0 | M23: =INDEX('chemin de fer'!$A$2:$B$500,MATCH(M29,'chemin de fer'!$I$2:$I$500,0),MATCH($P$1,'chemin de fer'!$H$1:$H$500,0)) -> 0
A24: =INDEX('chemin de fer'!$B$2:$I$5000,MATCH(A29,'chemin de fer'!$I$2:$I$500,0),MATCH($P$1,'chemin de fer'!$H$1:$H$200,0)) | D24: =INDEX('chemin de fer'!$B$2:$I$5000,MATCH(D29,'chemin de fer'!$I$2:$I$500,0),MATCH($P$1,'chemin de fer'!$H$1:$H$200,0)) | G24: =INDEX('chemin de fer'!$B$2:$I$5000,MATCH(G29,'chemin de fer'!$I$2:$I$500,0),MATCH($P$1,'chemin de fer'!$H$1:$H$200,0)) | J24: =INDEX('chemin de fer'!$B$2:$I$5000,MATCH(J29,'chemin de fer'!$I$2:$I$500,0),MATCH($P$1,'chemin de fer'!$H$1:$H$200,0)) | M24: =INDEX('chemin de fer'!$B$2:$I$5000,MATCH(M29,'chemin de fer'!$I$2:$I$500,0),MATCH($P$1,'chemin de fer'!$H$1:$H$200,0))
A26: =INDEX('chemin de fer'!$E$2:$J$500,MATCH(A29,'chemin de fer'!$I$2:$I$500,0),MATCH($P$1,'chemin de fer'!$H$1:$H$500,0)) -> 0 | D26: =INDEX('chemin de fer'!$E$2:$J$500,MATCH(D29,'chemin de fer'!$I$2:$I$500,0),MATCH($P$1,'chemin de fer'!$H$1:$H$500,0)) -> 0 | G26: =INDEX('chemin de fer'!$E$2:$J$500,MATCH(G29,'chemin de fer'!$I$2:$I$500,0),MATCH($P$1,'chemin de fer'!$H$1:$H$500,0)) -> 0 | J26: =INDEX('chemin de fer'!$E$2:$J$500,MATCH(J29,'chemin de fer'!$I$2:$I$500,0),MATCH($P$1,'chemin de fer'!$H$1:$H$500,0)) -> 0 | M26: =INDEX('chemin de fer'!$E$2:$J$500,MATCH(M29,'chemin de fer'!$I$2:$I$500,0),MATCH($P$1,'chemin de fer'!$H$1:$H$500,0)) -> 0
A29: 11 | B29: =INDEX('chemin de fer'!$D$2:$J$500,MATCH(A29,'chemin de fer'!$I$2:$I$500,0),MATCH($P$1,'chemin de fer'!$H$1:$H$500,0)) -> 0 | D29: 12 | E29: =INDEX('chemin de fer'!$D$2:$J$500,MATCH(D29,'chemin de fer'!$I$2:$I$500,0),MATCH($P$1,'chemin de fer'!$H$1:$H$500,0)) -> 0 | G29: 13 | H29: =INDEX('chemin de fer'!$D$2:$J$500,MATCH(G29,'chemin de fer'!$I$2:$I$500,0),MATCH($P$1,'chemin de fer'!$H$1:$H$500,0)) -> 0 | J29: 14 | K29: =INDEX('chemin de fer'!$D$2:$J$500,MATCH(J29,'chemin de fer'!$I$2:$I$500,0),MATCH($P$1,'chemin de fer'!$H$1:$H$500,0)) -> 0 | M29: 15 | N29: =INDEX('chemin de fer'!$D$2:$J$500,MATCH(M29,'chemin de fer'!$I$2:$I$500,0),MATCH($P$1,'chemin de fer'!$H$1:$H$500,0)) -> 0
M31: PAGE | N31: =P1 -> 1
