Workbook

Sheet Liste Casiers
A1: CASIERS 2023-2024
A5: NOM | B5: Prénom | C5: n° CASIER | D5: CODE | E5: Classe
A6: WNOTWY | B6: Evygg | C6: 1 | D6: 1357 | E6: 6-
A7: ZJHMZ | B7: Nrani | C7: 2 | D7: 5968 | E7: 2-
A8: OVVXTC | B8: Rxqi | C8: 3 | D8: 7135 | E8: D-
A9: HOUGN | B9: Ceip | C9: 4 | D9: 9019 | E9: 2-
A10: AROLIDKK | B10: Rbwhk | C10: 5 | D10: 3207 | E10: 7-
A11: PLPYWQ ZJXFPK | B11: Hmdonbm | C11: 6 | D11: 2085 | E11: 8-
A12: XVOUSV | B12: Taprcxcdnb | C12: 7 | D12: 7352 | E12: 8-
A13: DSHDHKK | B13: Tbshjqt | C13: 8 | D13: 3701 | E13: 7-
A14: KJRROJX | B14: Avebnp | C14: 9 | D14: 4612 | E14: 8-
A15: YNBTN | B15: Agsx | C15: 10 | D15: 7236 | E15: 2-
A16: VS RXE | B16: Aqgub | C16: 11 | D16: 6735 | E16: 8-
A17: LVZLQR | B17: Lioqj | C17: 12 | D17: 7821 | E17: 4-
... A67: LMYWA-BENG | B67: Ydkaju | C67: 62 | D67: 4950 | E67: 7-
C68: 63 | D68: 4250 | E68: V-
A69: BWKSGW | B69: Yqmhq | C69: 64 | D69: 1434 | E69: 2-
C70: 65 | D70: 5032 | E70: 6-
A71: BYQYD | B71: Zbrjtst | C71: 66 | D71: 8727 | E71: 7-
A72: EHZRUFOYRM | B72: Qgcn | C72: 67 | D72: 2301 | E72: O-
A73: USXPNWL | B73: Tzyhlm | C73: 68 | D73: 8467 | E73: X-
A74: PAJSR BZYIPU | B74: Yzw | C74: 69 | D74: 5315 | E74: 2-
C75: 70 | D75: 1102 | E75: 9-
A76: UL PNCZU | B76: Rqsffl | C76: 71 | D76: 1468 | E76: 1-
A77: YJHXSR | B77: Wcidg | C77: 72 | D77: 3492 | E77: 5-
A78: EYPDGFBR | B78: Elahd | C78: 73 | D78: 8601 | E78: 1-
C79: 74 | D79: 6583 | E79: 4-
A80: BFOSBBX | B80: Rmlw | C80: 75 | D80: 1508 | E80: 2-
C81: 76 | D81: 5878 | E81: 7-
A82: HCQCVIK | B82: Amtmjh | C82: 77 | D82: 1777 | E82: 4-
C83: 78 | D83: 9037 | E83: 2-
A84: VDEX | B84: Vrixek | C84: 79 | D84: 3429 | E84: 2-
C85: 80 | D85: 8160 | E85: 5-
A86: EBMQGK | B86: Rqkyich | C86: 81 | D86: 8852 | E86: 6-
C87: 82 | D87: 1656 | E87: 5-
A88: CLHHU | B88: Dnegfaxd | C88: 83 | D88: 7632 | E88: 4-
C89: 84 | D89: 2991 | E89: 5-
A90: OPZVHE | B90: Stxyb | C90: 85 | D90: 2149 | E90: 3-
C91: 86 | D91: 4793 | E91: 9-
A92: KSCMHD | B92: Sycfm | C92: 87 | D92: 6267 | E92: 1-
...

Sheet Coupons casiers
C2: Nom : | D2: ='Liste Casiers'!A6 -> WNOTWY | G2: Nom : | H2: ='Liste Casiers'!A7 -> ZJHMZ | K2: Nom : | L2: ='Liste Casiers'!A8 -> OVVXTC
D3: ='Liste Casiers'!B6 -> Evygg | H3: ='Liste Casiers'!B7 -> Nrani | L3: ='Liste Casiers'!B8 -> Rxqi
C4: Classe : | D4: ='Liste Casiers'!E6 -> 6- | G4: Classe : | H4: ='Liste Casiers'!E7 -> 2- | K4: Classe : | L4: ='Liste Casiers'!E8 -> D-
C5: Casier n° : | G5: Casier n° : | K5: Casier n° :
C6: ='Liste Casiers'!C6 -> 1 | G6: ='Liste Casiers'!C7 -> 2 | K6: ='Liste Casiers'!C8 -> 3
C7: Code confidentiel : | G7: Code confidentiel : | K7: Code confidentiel :
C8: ='Liste Casiers'!D6 -> 1357 | G8: ='Liste Casiers'!D7 -> 5968 | K8: ='Liste Casiers'!D8 -> 7135
C11: Nom : | D11: ='Liste Casiers'!A9 -> HOUGN | G11: Nom : | H11: ='Liste Casiers'!A10 -> AROLIDKK | K11: Nom : | L11: ='Liste Casiers'!A11 -> PLPYWQ ZJXFPK
D12: ='Liste Casiers'!B9 -> Ceip | H12: ='Liste Casiers'!B10 -> Rbwhk | L12: ='Liste Casiers'!B11 -> Hmdonbm
C13: Classe : | D13: ='Liste Casiers'!E9 -> 2- | G13: Classe : | H13: ='Liste Casiers'!E10 -> 7- | K13: Classe : | L13: ='Liste Casiers'!E11 -> 8-
C14: Casier n° : | G14: Casier n° : | K14: Casier n° :
C15: ='Liste Casiers'!C9 -> 4 | G15: ='Liste Casiers'!C10 -> 5 | K15: ='Liste Casiers'!C11 -> 6
C16: Code confidentiel : | G16: Code confidentiel : | K16: Code confidentiel :
C17: ='Liste Casiers'!D9 -> 9019 | G17: ='Liste Casiers'!D10 -> 3207 | K17: ='Liste Casiers'!D11 -> 2085
C20: Nom : | D20: ='Liste Casiers'!A12 -> XVOUSV | G20: Nom : | H20: ='Liste Casiers'!A13 -> DSHDHKK | K20: Nom : | L20: ='Liste Casiers'!A14 -> KJRROJX
D21: ='Liste Casiers'!B12 -> Taprcxcdnb | H21: ='Liste Casiers'!B13 -> Tbshjqt | L21: ='Liste Casiers'!B14 -> Avebnp
C22: Classe : | D22: ='Liste Casiers'!E12 -> 8- | G22: Classe : | H22: ='Liste Casiers'!E13 -> 7- | K22: Classe : | L22: ='Liste Casiers'!E14 -> 8-
C23: Casier n° : | G23: Casier n° : | K23: Casier n° :
C24: ='Liste Casiers'!C12 -> 7 | G24: ='Liste Casiers'!C13 -> 8 | K24: ='Liste Casiers'!C14 -> 9
C25: Code confidentiel : | G25: Code confidentiel : | K25: Code confidentiel :
C26: ='Liste Casiers'!D12 -> 7352 | G26: ='Liste Casiers'!D13 -> 3701 | K26: ='Liste Casiers'!D14 -> 4612
C29: Nom : | D29: ='Liste Casiers'!A33 -> QHGVIJ | G29: Nom : | H29: ='Liste Casiers'!A34 -> WTHDJR-JVPSWNK | K29: Nom : | L29: ='Liste Casiers'!A35 -> WZBDZXK
D30: ='Liste Casiers'!B33 -> Hjwk | H30: ='Liste Casiers'!B34 -> Uqbix | L30: ='Liste Casiers'!B35 -> Bvvkbs
C31: Classe : | D31: ='Liste Casiers'!E33 -> 2- | G31: Classe : | H31: ='Liste Casiers'!E34 -> 1- | K31: Classe : | L31: ='Liste Casiers'!E35 -> 2-
C32: Casier n° : | G32: Casier n° : | K32: Casier n° :
C33: ='Liste Casiers'!C33 -> 28 | G33: ='Liste Casiers'!C34 -> 29 | K33: ='Liste Casiers'!C35 -> 30
C34: Code confidentiel : | G34: Code confidentiel : | K34: Code confidentiel :
C35: ='Liste Casiers'!D33 -> 2756 | G35: ='Liste Casiers'!D34 -> 6840 | K35: ='Liste Casiers'!D35 -> 3814
C38: Nom : | D38: ='Liste Casiers'!A36 -> ELBMNB | G38: Nom : | H38: ='Liste Casiers'!A37 -> HQMAK | K38: Nom : | L38: ='Liste Casiers'!A38 -> LCQYTXD
D39: ='Liste Casiers'!B36 -> Ergv | H39: ='Liste Casiers'!B37 -> Jynwa | L39: ='Liste Casiers'!B38 -> Pskij
C40: Classe : | D40: ='Liste Casiers'!E36 -> 3- | G40: Classe : | H40: ='Liste Casiers'!E37 -> 6- | K40: Classe : | L40: ='Liste Casiers'!E38 -> 8-
C41: Casier n° : | G41: Casier n° : | K41: Casier n° :
C42: ='Liste Casiers'!C36 -> 31 | G42: ='Liste Casiers'!C37 -> 32 | K42: ='Liste Casiers'!C38 -> 33
C43: Code confidentiel : | G43: Code confidentiel : | K43: Code confidentiel :
C44: ='Liste Casiers'!D36 -> 1817 | G44: ='Liste Casiers'!D37 -> 4774 | K44: ='Liste Casiers'!D38 -> 6275
C47: Nom : | D47: ='Liste Casiers'!A39 -> ZZBWRM | G47: Nom : | H47: ='Liste Casiers'!A40 -> AUTOMA | K47: Nom : | L47: ='Liste Casiers'!A41 -> ORNELLKXP
D48: ='Liste Casiers'!B39 -> Xgoxp | H48: ='Liste Casiers'!B40 -> Ljtcxzlx | L48: ='Liste Casiers'!B41 -> Brudff
C49: Classe : | D49: ='Liste Casiers'!E39 -> 8- | G49: Classe : | H49: ='Liste Casiers'!E40 -> 8- | K49: Classe : | L49: ='Liste Casiers'!E41 -> 5-
C50: Casier n° : | G50: Casier n° : | K50: Casier n° :
C51: ='Liste Casiers'!C39 -> 34 | G51: ='Liste Casiers'!C40 -> 35 | K51: ='Liste Casiers'!C41 -> 36
...
