Workbook

Sheet Liste Casiers
A1: CASIERS 2023-2024
A5: NOM | B5: Prénom | C5: n° CASIER | D5: CODE | E5: Classe
A6: WNOTWY | B6: Evygg | C6: 1 | D6: 1357 | E6: 6-
A7: ZJHMZ | B7: Nrani | C7: 2 | D7: 5968 | E7: 2-
A8: OVVXTC | B8: Rxqi | C8: 3 | D8: 7135 | E8: D-
A9: HOUGN | B9: Ceip | C9: 4 | D9: 9019 | E9: 2-
A10: AROLIDKK | B10: Rbwhk | C10: 5 | D10: 3207 | E10: 7-
A11: PLPYWQ ZJXFPK | B11: Hmdonbm | C11: 6 | D11: 2085 | E11: 8-
A12: XVOUSV | B12: Taprcxcdnb | C12: 7 | D12: 7352 | E12: 8-
A13: DSHDHKK | B13: Tbshjqt | C13: 8 | D13: 3701 | E13: 7-
A14: KJRROJX | B14: Avebnp | C14: 9 | D14: 4612 | E14: 8-
A15: YNBTN | B15: Agsx | C15: 10 | D15: 7236 | E15: 2-
A16: VS RXE | B16: Aqgub | C16: 11 | D16: 6735 | E16: 8-
A17: LVZLQR | B17: Lioqj | C17: 12 | D17: 7821 | E17: 4-
... A67: LMYWA-BENG | B67: Ydkaju | C67: 62 | D67: 4950 | E67: 7-
C68: 63 | D68: 4250 | E68: V-
A69: BWKSGW | B69: Yqmhq | C69: 64 | D69: 1434 | E69: 2-
C70: 65 | D70: 5032 | E70: 6-
A71: BYQYD | B71: Zbrjtst | C71: 66 | D71: 8727 | E71: 7-
A72: EHZRUFOYRM | B72: Qgcn | C72: 67 | D72: 2301 | E72: O-
A73: USXPNWL | B73: Tzyhlm | C73: 68 | D73: 8467 | E73: X-
A74: PAJSR BZYIPU | B74: Yzw | C74: 69 | D74: 5315 | E74: 2-
C75: 70 | D75: 1102 | E75: 9-
A76: UL PNCZU | B76: Rqsffl | C76: 71 | D76: 1468 | E76: 1-
A77: YJHXSR | B77: Wcidg | C77: 72 | D77: 3492 | E77: 5-
A78: EYPDGFBR | B78: Elahd | C78: 73 | D78: 8601 | E78: 1-
C79: 74 | D79: 6583 | E79: 4-
A80: BFOSBBX | B80: Rmlw | C80: 75 | D80: 1508 | E80: 2-
C81: 76 | D81: 5878 | E81: 7-
A82: HCQCVIK | B82: Amtmjh | C82: 77 | D82: 1777 | E82: 4-
C83: 78 | D83: 9037 | E83: 2-
A84: VDEX | B84: Vrixek | C84: 79 | D84: 3429 | E84: 2-
C85: 80 | D85: 8160 | E85: 5-
A86: EBMQGK | B86: Rqkyich | C86: 81 | D86: 8852 | E86: 6-
C87: 82 | D87: 1656 | E87: 5-
A88: CLHHU | B88: Dnegfaxd | C88: 83 | D88: 7632 | E88: 4-
C89: 84 | D89: 2991 | E89: 5-
A90: OPZVHE | B90: Stxyb | C90: 85 | D90: 2149 | E90: 3-
C91: 86 | D91: 4793 | E91: 9-
A92: KSCMHD | B92: Sycfm | C92: 87 | D92: 6267 | E92: 1-
C93: 88 | D93: 8421 | E93: 3-
A94: YZSSFVNJ | B94: Iwvxispy | C94: 89 | D94: 3194 | E94: 3-
C95: 90 | D95: 3747 | E95: 1-
A96: WSFFUCVFN | B96: Fjlilf | C96: 91 | D96: 5444 | E96: 2-
C97: 92 | D97: 8775 | E97: 6-
A98: CAGFPV | B98: Cixyhf | C98: 93 | D98: 7438 | E98: 1-
C99: 94 | D99: 1624 | E99: 6-
A100: BRWVTQ | B100: Dfpydr | C100: 95 | D100: 5797 | E100: 8-
C101: 96 | D101: 4638 | E101: 8-
A102: QGOWQGO | B102: Qltdlvp | C102: 97 | D102: 6221 | E102: 2-
C103: 98 | D103: 6720 | E103: 2-
A104: NZAGDRHQRC | B104: Xwznl | C104: 99 | D104: 2709 | E104: 4-
A105: SYOTRUQ | B105: Mdatxzr | C105: 100 | D105: 9540 | E105: 8-
A106: VUNKYISH | B106: Xnh | C106: 101 | D106: 6239 | E106: 8-
A107: GZNAJL | B107: Tzctsn | C107: 102 | D107: 7153 | E107: 9-
A108: TZUZY | B108: Meckmi | C108: 103 | D108: 5103 | E108: 6-
A109: DSVUYR | B109: Khihchl | C109: 104 | D109: 6585 | E109: 7-
A110: LJXJGPNBB | B110: Popho | C110: 105 | D110: 3760 | E110: 6-
A111: FUQKDGT | B111: Eqblxk | C111: 106 | D111: 5061 | E111: 1-
A112: GKYRERE | B112: Oyofp | C112: 107 | D112: 5309 | E112: 1-
A113: NYNF | B113: Yqohj | C113: 108 | D113: 9231 | E113: 6-
C114: 109 | D114: 2796 | E114: 4-
A115: LNOAGX | B115: Slrati | C115: 110 | D115: 6673 | E115: 9-
C116: 111 | D116: 9802 | E116: 8-
A117: CFNSND | B117: Iaxczg | C117: 112 | D117: 8525 | E117: 5-
C118: 113 | D118: 7095 | E118: 2-
C119: 114 | D119: 7956 | E119: 9-
A120: BCISVM | B120: Dpt | C120: 115 | D120: 2957 | E120: 1-
C121: 116 | D121: 7125 | E121: 2-
A122: NIALIB | B122: Xsxa | C122: 117 | D122: 5043 | E122: 9-
C123: 118 | D123: 7605 | E123: 1-
A124: DMMXWTNL | B124: Wbbeugg | C124: 119 | D124: 9158 | E124: 3-
A125: VHAQBXWQN | B125: Hcmtef | C125: 120 | D125: 5439 | E125: 1-
A126: ECDUYNY | B126: Dcisg | C126: 121 | D126: 4319 | E126: 9-
C127: 122 | D127: 1274 | E127: 7-
A128: SCVBDEBP | B128: Qxloym | C128: 123 | D128: 7678 | E128: 1-
A129: URKTMNJC | B129: Yoq | C129: 124 | D129: 2573 | E129: 1-
A130: NOPMRSVRQ | B130: Ujhkuik | C130: 125 | D130: 4104 | E130: 5-
C131: 126 | D131: 1469 | E131: 8-
A132: YFXOWRY | B132: Kfromeo | C132: 127 | D132: 5789 | E132: 4-
A133: PYQMENK | B133: Uyfxmki | C133: 128 | D133: 3073 | E133: J-
A134: NWEMIT | B134: Pkdwcmyu | C134: 129 | D134: 4548 | E134: 2-
A135: SFBYWO | B135: Gwhqnwxk | C135: 130 | D135: 4273 | E135: 8-
C136: 131 | D136: 7779 | E136: 5-
C137: 132 | D137: 4300 | E137: 6-
A138: ZEFQNAT | B138: Pxcgksnk | C138: 133 | D138: 8148 | E138: 2-
A139: BETNTZZYIZ | B139: Aqlycrce | C139: 134 | D139: 8190 | E139: 4-
A140: MQFWHEGB | B140: Obfr | C140: 135 | D140: 2987 | E140: 3-
A141: JKUSLH | B141: Ltmabc | C141: 136 | D141: 3199 | E141: 4-
A142: IGQXMDUIGY | B142: Nbfzg | C142: 137 | D142: 9148 | E142: 8-
A143: EUNAQG | B143: Ejsydhzy | C143: 138 | D143: 9426 | E143: T-
A144: MHJKTARWRY-NHFQHW | B144: Xebss | C144: 139 | D144: 4633 | E144: 6-
C145: 140 | D145: 4206 | E145: 3-
A146: EBJXTZ | B146: Whujvp | C146: 141 | D146: 3002 | E146: 2-
A147: FAWAMFDWIK | B147: Ldlxv | C147: 142 | D147: 1504 | E147: K-
A148: WMTPBNFDLJO | B148: Gjywybti | C148: 143 | D148: 2087 | E148: 8-
C149: 144 | D149: 7021 | E149: 2-
A150: EUYDXS | B150: Vaei-Jhsp | C150: 145 | D150: 2970 | E150: 9-
A151: GGRCNFW | B151: Bmxdq | C151: 146 | D151: 6785 | E151: O-
C152: 147 | D152: 2554 | E152: 5-
...

Sheet Coupons casiers
C2: Nom : | D2: ='Liste Casiers'!A6 -> WNOTWY | G2: Nom : | H2: ='Liste Casiers'!A7 -> ZJHMZ | K2: Nom : | L2: ='Liste Casiers'!A8 -> OVVXTC
D3: ='Liste Casiers'!B6 -> Evygg | H3: ='Liste Casiers'!B7 -> Nrani | L3: ='Liste Casiers'!B8 -> Rxqi
C4: Classe : | D4: ='Liste Casiers'!E6 -> 6- | G4: Classe : | H4: ='Liste Casiers'!E7 -> 2- | K4: Classe : | L4: ='Liste Casiers'!E8 -> D-
C5: Casier n° : | G5: Casier n° : | K5: Casier n° :
C6: ='Liste Casiers'!C6 -> 1 | G6: ='Liste Casiers'!C7 -> 2 | K6: ='Liste Casiers'!C8 -> 3
C7: Code confidentiel : | G7: Code confidentiel : | K7: Code confidentiel :
C8: ='Liste Casiers'!D6 -> 1357 | G8: ='Liste Casiers'!D7 -> 5968 | K8: ='Liste Casiers'!D8 -> 7135
C11: Nom : | D11: ='Liste Casiers'!A9 -> HOUGN | G11: Nom : | H11: ='Liste Casiers'!A10 -> AROLIDKK | K11: Nom : | L11: ='Liste Casiers'!A11 -> PLPYWQ ZJXFPK
D12: ='Liste Casiers'!B9 -> Ceip | H12: ='Liste Casiers'!B10 -> Rbwhk | L12: ='Liste Casiers'!B11 -> Hmdonbm
C13: Classe : | D13: ='Liste Casiers'!E9 -> 2- | G13: Classe : | H13: ='Liste Casiers'!E10 -> 7- | K13: Classe : | L13: ='Liste Casiers'!E11 -> 8-
C14: Casier n° : | G14: Casier n° : | K14: Casier n° :
C15: ='Liste Casiers'!C9 -> 4 | G15: ='Liste Casiers'!C10 -> 5 | K15: ='Liste Casiers'!C11 -> 6
C16: Code confidentiel : | G16: Code confidentiel : | K16: Code confidentiel :
C17: ='Liste Casiers'!D9 -> 9019 | G17: ='Liste Casiers'!D10 -> 3207 | K17: ='Liste Casiers'!D11 -> 2085
C20: Nom : | D20: ='Liste Casiers'!A12 -> XVOUSV | G20: Nom : | H20: ='Liste Casiers'!A13 -> DSHDHKK | K20: Nom : | L20: ='Liste Casiers'!A14 -> KJRROJX
D21: ='Liste Casiers'!B12 -> Taprcxcdnb | H21: ='Liste Casiers'!B13 -> Tbshjqt | L21: ='Liste Casiers'!B14 -> Avebnp
C22: Classe : | D22: ='Liste Casiers'!E12 -> 8- | G22: Classe : | H22: ='Liste Casiers'!E13 -> 7- | K22: Classe : | L22: ='Liste Casiers'!E14 -> 8-
C23: Casier n° : | G23: Casier n° : | K23: Casier n° :
C24: ='Liste Casiers'!C12 -> 7 | G24: ='Liste Casiers'!C13 -> 8 | K24: ='Liste Casiers'!C14 -> 9
C25: Code confidentiel : | G25: Code confidentiel : | K25: Code confidentiel :
C26: ='Liste Casiers'!D12 -> 7352 | G26: ='Liste Casiers'!D13 -> 3701 | K26: ='Liste Casiers'!D14 -> 4612
C29: Nom : | D29: ='Liste Casiers'!A33 -> QHGVIJ | G29: Nom : | H29: ='Liste Casiers'!A34 -> WTHDJR-JVPSWNK | K29: Nom : | L29: ='Liste Casiers'!A35 -> WZBDZXK
D30: ='Liste Casiers'!B33 -> Hjwk | H30: ='Liste Casiers'!B34 -> Uqbix | L30: ='Liste Casiers'!B35 -> Bvvkbs
C31: Classe : | D31: ='Liste Casiers'!E33 -> 2- | G31: Classe : | H31: ='Liste Casiers'!E34 -> 1- | K31: Classe : | L31: ='Liste Casiers'!E35 -> 2-
C32: Casier n° : | G32: Casier n° : | K32: Casier n° :
C33: ='Liste Casiers'!C33 -> 28 | G33: ='Liste Casiers'!C34 -> 29 | K33: ='Liste Casiers'!C35 -> 30
C34: Code confidentiel : | G34: Code confidentiel : | K34: Code confidentiel :
C35: ='Liste Casiers'!D33 -> 2756 | G35: ='Liste Casiers'!D34 -> 6840 | K35: ='Liste Casiers'!D35 -> 3814
C38: Nom : | D38: ='Liste Casiers'!A36 -> ELBMNB | G38: Nom : | H38: ='Liste Casiers'!A37 -> HQMAK | K38: Nom : | L38: ='Liste Casiers'!A38 -> LCQYTXD
D39: ='Liste Casiers'!B36 -> Ergv | H39: ='Liste Casiers'!B37 -> Jynwa | L39: ='Liste Casiers'!B38 -> Pskij
C40: Classe : | D40: ='Liste Casiers'!E36 -> 3- | G40: Classe : | H40: ='Liste Casiers'!E37 -> 6- | K40: Classe : | L40: ='Liste Casiers'!E38 -> 8-
C41: Casier n° : | G41: Casier n° : | K41: Casier n° :
C42: ='Liste Casiers'!C36 -> 31 | G42: ='Liste Casiers'!C37 -> 32 | K42: ='Liste Casiers'!C38 -> 33
C43: Code confidentiel : | G43: Code confidentiel : | K43: Code confidentiel :
C44: ='Liste Casiers'!D36 -> 1817 | G44: ='Liste Casiers'!D37 -> 4774 | K44: ='Liste Casiers'!D38 -> 6275
C47: Nom : | D47: ='Liste Casiers'!A39 -> ZZBWRM | G47: Nom : | H47: ='Liste Casiers'!A40 -> AUTOMA | K47: Nom : | L47: ='Liste Casiers'!A41 -> ORNELLKXP
D48: ='Liste Casiers'!B39 -> Xgoxp | H48: ='Liste Casiers'!B40 -> Ljtcxzlx | L48: ='Liste Casiers'!B41 -> Brudff
C49: Classe : | D49: ='Liste Casiers'!E39 -> 8- | G49: Classe : | H49: ='Liste Casiers'!E40 -> 8- | K49: Classe : | L49: ='Liste Casiers'!E41 -> 5-
C50: Casier n° : | G50: Casier n° : | K50: Casier n° :
C51: ='Liste Casiers'!C39 -> 34 | G51: ='Liste Casiers'!C40 -> 35 | K51: ='Liste Casiers'!C41 -> 36
C52: Code confidentiel : | G52: Code confidentiel : | K52: Code confidentiel :
C53: ='Liste Casiers'!D39 -> 4864 | G53: ='Liste Casiers'!D40 -> 9287 | K53: ='Liste Casiers'!D41 -> 8912
C56: Nom : | D56: ='Liste Casiers'!A61 -> FETNBBL | G56: Nom : | H56: ='Liste Casiers'!A62 -> RYOSQVSCOUMU | K56: Nom : | L56: ='Liste Casiers'!A63 -> EMABQUVB
D57: ='Liste Casiers'!B61 -> Qsxgmmmer | H57: ='Liste Casiers'!B62 -> Yrplc | L57: ='Liste Casiers'!B63 -> Vcfrmbr
C58: Classe : | D58: ='Liste Casiers'!E61 -> 9- | G58: Classe : | H58: ='Liste Casiers'!E62 -> E- | K58: Classe : | L58: ='Liste Casiers'!E63 -> 8-
C59: Casier n° : | G59: Casier n° : | K59: Casier n° :
C60: ='Liste Casiers'!C61 -> 56 | G60: ='Liste Casiers'!C62 -> 57 | K60: ='Liste Casiers'!C63 -> 58
C61: Code confidentiel : | G61: Code confidentiel : | K61: Code confidentiel :
C62: ='Liste Casiers'!D61 -> 9538 | G62: ='Liste Casiers'!D62 -> 9986 | K62: ='Liste Casiers'!D63 -> 8926
C65: Nom : | D65: ='Liste Casiers'!A70 -> 0 | G65: Nom : | H65: ='Liste Casiers'!A71 -> BYQYD | K65: Nom : | L65: ='Liste Casiers'!A72 -> EHZRUFOYRM
D66: ='Liste Casiers'!B70 -> 0 | H66: ='Liste Casiers'!B71 -> Zbrjtst | L66: ='Liste Casiers'!B72 -> Qgcn
C67: Classe : | D67: ='Liste Casiers'!E70 -> 6- | G67: Classe : | H67: ='Liste Casiers'!E71 -> 7- | K67: Classe : | L67: ='Liste Casiers'!E72 -> O-
C68: Casier n° : | G68: Casier n° : | K68: Casier n° :
C69: ='Liste Casiers'!C70 -> 65 | G69: ='Liste Casiers'!C71 -> 66 | K69: ='Liste Casiers'!C72 -> 67
C70: Code confidentiel : | G70: Code confidentiel : | K70: Code confidentiel :
C71: ='Liste Casiers'!D70 -> 5032 | G71: ='Liste Casiers'!D71 -> 8727 | K71: ='Liste Casiers'!D72 -> 2301
