Workbook

Sheet Noms & Dates
A1: Semaines | B1: Noms | C1: Dates
A3: 1 | B3: PT | C3: 45292
A4: 2 | B4: EAQ | C4: 45299
A5: 3 | B5: AQQ | C5: 45306
A6: 4 | B6: HYR | C6: 45313
A7: 5 | B7: OMF | C7: 45321
A8: 6 | B8: LSH | C8: 45335
A9: 7
A10: 8 | B10: HNJ | C10: 45342
A11: 9 | B11: NYW | C11: 45349
A12: 10 | B12: ZZRX | C12: 45357
A13: 11 | B13: CS | C13: 45364
A14: 12 | B14: BQ | C14: 45371
A15: 13 | B15: QT | C15: 45378
A16: 14 | B16: OO | C16: 45385
A17: 15 | B17: QU | C17: 45393
A18: 16 | B18: BN | C18: 45399
A19: 17 | B19: AH | C19: 45407
A20: 18 | B20: YP | C20: 45414
A21: 19 | B21: KB | C21: 45421
A22: 20 | B22: UX | C22: 45427
A23: 21
A24: 22 | B24: OP | C24: 45442
A25: 23 | B25: QQI | C25: 45448
A26: 24 | B26: KQ | C26: 45455
A27: 25 | B27: MR | C27: 45462
A28: 26 | B28: JP | C28: 45471
A29: 27 | B29: JJ | C29: 45476
A30: 28 | B30: PHW | C30: 45483
A31: 29 | B31: HL | C31: 45490
A32: 30 | B32: FZ | C32: lundi 24 juillet 2024
A33: 31 | B33: IM | C33: 45504
A34: 32 | B34: HQ | C34: 45417
A35: 33
A36: 34
A37: 35
A38: 36
A39: 37
A40: 38
A41: 39
...

Sheet Plaudière
A1: Plaudière | R1: Observations
A2: Semaines | B2: Noms | C2: Dates | D2: 1ère Analyse | F2: 2ème Analyse | H2: Moyenne | J2: Affichage | K2: Valeur calibrée | L2: Température | M2: pH | N2: Conductivité | O2: Vanne modulante | P2: Bouteilles Chlore
D3: Cl Libre | E3: Cl Total | F3: Cl Libre | G3: Cl Total | H3: Cl Libre | I3: Cl Total | L3: °C | N3: µs/cm | O3: gr/h | P3: N°en service | Q3: N°en attente
A4: 1 | B4: ='Noms & Dates'!B3 -> PT | C4: ='Noms & Dates'!C3 -> 45292 | D4: 7.67 | E4: 9.66 | F4: 8.83 | G4: 1.47 | H4: 8.69 | J4: 7.33 | L4: 30.13 | M4: 1.47 | N4: 636 | O4: 949 | P4: 531596 | Q4: 205478
A5: 2 | B5: ='Noms & Dates'!B4 -> EAQ | C5: ='Noms & Dates'!C4 -> 45299 | H5: 9.69 | I5: 4.99 | J5: 2.69 | K5: / | L5: 70.47 | M5: 1.99 | N5: 423 | O5: 901 | P5: 532034 | R5: qtsdfyotg d movgklq
A6: 3 | B6: ='Noms & Dates'!B5 -> AQQ | C6: ='Noms & Dates'!C5 -> 45306 | D6: 3.84 | E6: 8.94 | F6: 2.41 | H6: 4.37 | I6: 6.15 | J6: 8.14 | K6: / | L6: 62.89 | M6: 8.03 | N6: 366 | O6: 729 | P6: 702473 | Q6: 728396
A7: 4 | B7: ='Noms & Dates'!B6 -> HYR | C7: ='Noms & Dates'!C6 -> 45313 | D7: 7.97 | E7: 5.05 | F7: 8.65 | H7: 3.76 | I7: 9.17 | J7: 4.48 | K7: 2.11 | L7: 56.02 | M7: 7.49 | N7: 269 | O7: 566 | P7: 382409 | Q7: 968923
A8: 5 | B8: ='Noms & Dates'!B7 -> OMF | C8: ='Noms & Dates'!C7 -> 45321 | D8: 1.32 | E8: 4.89 | F8: 6.53 | J8: 7.32 | L8: 63 | M8: 1 | N8: 787 | O8: 539 | P8: 804777 | Q8: 392764
A9: 6 | B9: ='Noms & Dates'!B8 -> LSH | C9: ='Noms & Dates'!C8 -> 45335 | D9: 5.29 | E9: 7.17 | F9: 8.36 | J9: 3.49 | L9: 47 | M9: 2.91 | N9: 650 | O9: 627 | P9: 630651 | Q9: 387465
A10: 7 | B10: ='Noms & Dates'!B9 -> 0 | C10: ='Noms & Dates'!C9 -> 0
A11: 8 | B11: ='Noms & Dates'!B10 -> HNJ | C11: ='Noms & Dates'!C10 -> 45342 | D11: 4.8 | E11: 7.3 | F11: 8.64 | H11: 6 | J11: 2.43 | L11: 9.3 | M11: 1.91 | N11: 350 | O11: 145 | P11: 806678 | Q11: 668758
A12: 9 | B12: ='Noms & Dates'!B11 -> NYW | C12: ='Noms & Dates'!C11 -> 45349 | D12: 2.36 | E12: 5.11 | F12: 3.29 | G12: / | H12: 1.84 | I12: / | J12: 1.99 | K12: / | L12: 44 | M12: 6.78 | N12: 751 | O12: 721 | P12: 379677 | Q12: 438700
A13: 10 | B13: ='Noms & Dates'!B12 -> ZZRX | C13: ='Noms & Dates'!C12 -> 45357 | D13: 3.01 | E13: 5.26 | F13: 7.95 | G13: 4.86 | H13: 7.96 | I13: 5.94 | J13: 3.11 | K13: / | L13: 85 | M13: 5.1 | N13: 446 | O13: 540 | P13: 594425 | Q13: 622265
A14: 11 | B14: ='Noms & Dates'!B13 -> CS | C14: ='Noms & Dates'!C13 -> 45364 | D14: 8.44 | E14: 7.03 | F14: 9.15 | H14: 4.55 | J14: 3.43 | K14: 9.5 | L14: 24 | M14: 8.83 | N14: 996 | O14: 484 | P14: 624867 | Q14: 861018
A15: 12 | B15: ='Noms & Dates'!B14 -> BQ | C15: ='Noms & Dates'!C14 -> 45371 | D15: 5.96 | E15: 9.52 | F15: 1.77 | G15: / | H15: 6.22 | I15: / | J15: 8.39 | K15: / | L15: 13.5 | M15: 5.56 | N15: 975 | O15: 20 | P15: 865717 | Q15: 136029
A16: 13 | B16: ='Noms & Dates'!B15 -> QT | C16: ='Noms & Dates'!C15 -> 45378 | D16: 6.59 | E16: 5.31 | F16: 1.31 | J16: 8.7 | K16: 8.52 | L16: 34 | M16: 5.73 | N16: 4622 | O16: 168 | P16: 883282 | Q16: 728502
A17: 14 | B17: ='Noms & Dates'!B16 -> OO | C17: ='Noms & Dates'!C16 -> 45385 | D17: 6.33 | E17: 5.4 | F17: 2.18 | G17: / | H17: 8.79 | I17: / | J17: 2.18 | K17: 6.33 | L17: 25.3 | M17: 4.68 | N17: 225 | O17: 69 | P17: 188904 | Q17: 315461
A18: 15 | B18: ='Noms & Dates'!B17 -> QU | C18: ='Noms & Dates'!C17 -> 45393 | D18: 6.21 | E18: 1.27 | F18: 3.28 | H18: 6.32 | J18: 4.93 | K18: 1.33 | L18: 30.6 | M18: 1.5 | N18: 988 | O18: 410 | P18: 173705 | Q18: 218459
A19: 16 | B19: ='Noms & Dates'!B18 -> BN | C19: ='Noms & Dates'!C18 -> 45399 | D19: 4.51 | E19: 8.1 | F19: 9.04 | J19: 3.64 | L19: 24.9 | M19: 1.3 | N19: 139 | O19: 398 | P19: 897238 | Q19: 252408
A20: 17 | B20: ='Noms & Dates'!B19 -> AH | C20: ='Noms & Dates'!C19 -> 45407 | D20: 7 | E20: 5.74 | F20: 4.14 | G20: 9.62 | H20: 2.12 | I20: 9.59 | J20: 5 | K20: / | L20: 26.9 | M20: 7.03 | N20: 604 | P20: 976772 | Q20: 569100
A21: 18 | B21: ='Noms & Dates'!B20 -> YP | C21: ='Noms & Dates'!C20 -> 45414 | D21: 9.04 | E21: 7.29 | F21: 7.83 | G21: 1.55 | H21: 6.73 | I21: 8.72 | J21: 7.38 | K21: / | L21: 45.3 | M21: 8.95 | N21: 915 | O21: 487 | P21: 251353 | Q21: 420716
A22: 19 | B22: ='Noms & Dates'!B21 -> KB | C22: ='Noms & Dates'!C21 -> 45421 | D22: 5.55 | E22: 6.62 | F22: 4.48 | H22: 3.34 | J22: 7.97 | K22: 1.8 | L22: 19.8 | M22: 8.37 | N22: 640 | O22: 643 | P22: 782380 | Q22: 508923
A23: 20 | B23: ='Noms & Dates'!B22 -> UX | C23: ='Noms & Dates'!C22 -> 45427 | D23: 5.4 | E23: 1.37 | F23: 3.03 | G23: 7.7 | H23: 7.89 | I23: 4.17 | J23: 8.59 | K23: 1.67 | L23: 52.7 | M23: 6.47 | N23: 259 | O23: 672 | P23: 878424 | R23: Zkvj : 018974
A24: 21 | B24: ='Noms & Dates'!B23 -> 0 | C24: ='Noms & Dates'!C23 -> 0
A25: 22 | B25: ='Noms & Dates'!B24 -> OP | C25: ='Noms & Dates'!C24 -> 45442 | D25: 9.41 | E25: 5.81 | F25: 4.74 | G25: 9.66 | H25: 2.07 | I25: 8.53 | J25: 4.41 | K25: 9.99 | L25: 46.2 | M25: 3.89 | N25: 898 | O25: 511 | P25: 839771 | Q25: 661967
A26: 23 | B26: ='Noms & Dates'!B25 -> QQI | C26: ='Noms & Dates'!C25 -> 45448 | H26: 2.23 | I26: 4.6 | J26: 8.92 | K26: 9.23 | L26: 98 | M26: 3.9 | N26: 236 | O26: 622 | P26: 485632 | Q26: 706537
A27: 24 | B27: ='Noms & Dates'!B26 -> KQ | C27: ='Noms & Dates'!C26 -> 45455 | D27: 6.61 | E27: 6.65 | F27: 1.09 | G27: 4.76 | H27: 9.3 | I27: 7.64 | J27: 6.73 | K27: / | L27: 18 | M27: 1.32 | N27: 679 | O27: 455 | P27: 947748 | R27: Uerc : 316250
A28: 25 | B28: ='Noms & Dates'!B27 -> MR | C28: ='Noms & Dates'!C27 -> 45462 | D28: 3.1 | E28: 8.6 | F28: 4.23 | H28: 5.44 | J28: 3.69 | K28: 9.95 | L28: 25 | M28: 6.1 | N28: 459 | O28: 432 | P28: 292854
A29: 26 | B29: ='Noms & Dates'!B28 -> JP | C29: ='Noms & Dates'!C28 -> 45471 | D29: 5.96 | E29: 7.32 | F29: 8.04 | G29: / | H29: 3.36 | I29: / | J29: 5.1 | K29: 5.77 | L29: 10.4 | M29: 3.82 | N29: 6310 | O29: 49 | P29: 607466 | Q29: 961280
A30: 27 | B30: ='Noms & Dates'!B29 -> JJ | C30: ='Noms & Dates'!C29 -> 45476 | D30: 6.25 | E30: 8.85 | F30: 6.33 | G30: 4.31 | H30: 1 | I30: 2.48 | J30: 5.97 | K30: 2.9 | L30: 64.9 | M30: 3.83 | N30: 386 | O30: 915 | P30: 816817 | Q30: 520357
A31: 28 | B31: ='Noms & Dates'!B30 -> PHW | C31: ='Noms & Dates'!C30 -> 45483 | D31: 5.78 | E31: 2.15 | F31: 6.12 | J31: 5.24 | K31: 2.8 | L31: 93.3 | M31: 8.3 | N31: 6172 | O31: 493 | P31: 396157 | R31: 799581
A32: 29 | B32: ='Noms & Dates'!B31 -> HL | C32: ='Noms & Dates'!C31 -> 45490 | D32: 3.05 | E32: 7.86 | F32: 1.99 | G32: 1.08 | J32: 5.17 | L32: 59.8 | M32: 4.89 | N32: 427 | O32: 843 | P32: 364799 | R32: mvvf 979619
A33: 30 | B33: ='Noms & Dates'!B32 -> FZ | C33: ='Noms & Dates'!C32 -> lundi 24 juillet 2024 | D33: 5.31 | E33: 9.26 | F33: 2.49 | G33: 3.16 | J33: 8.4 | K33: 4.88 | L33: 33.4 | M33: 4.76 | N33: 844 | O33: 629 | P33: 380610 | Q33: 133994
A34: 31 | B34: ='Noms & Dates'!B33 -> IM | C34: ='Noms & Dates'!C33 -> 45504 | D34: 4.98 | E34: 3.66 | F34: 2.33 | G34: 7.06 | H34: 3.55 | I34: 6.75 | J34: 6.38 | K34: 9.73 | L34: 86.9 | M34: 7 | N34: 686 | O34: 457 | P34: 212121 | R34: rbfi 447653
A35: 32 | B35: ='Noms & Dates'!B34 -> HQ | C35: ='Noms & Dates'!C34 -> 45417 | D35: 5.83 | E35: 3.37 | F35: 6.75 | G35: 2.49 | H35: 0.36 | I35: 0.99 | J35: 1.03 | K35: 9.64 | L35: 52.6 | M35: 9.84 | N35: 169 | O35: 165 | P35: 238624 | R35: 605363 wq
A36: 33 | B36: ='Noms & Dates'!B35 -> 0 | C36: ='Noms & Dates'!C35 -> 0
A37: 34 | B37: ='Noms & Dates'!B36 -> 0 | C37: ='Noms & Dates'!C36 -> 0
A38: 35 | B38: ='Noms & Dates'!B37 -> 0 | C38: ='Noms & Dates'!C37 -> 0
A39: 36 | B39: ='Noms & Dates'!B38 -> 0 | C39: ='Noms & Dates'!C38 -> 0
A40: 37 | B40: ='Noms & Dates'!B39 -> 0 | C40: ='Noms & Dates'!C39 -> 0
...

Sheet Vigneux DN 500
A1: Vigneux DN500 | R1: Observations
A2: Semaines | B2: Noms | C2: Dates | D2: 1ère Analyse | F2: 2ème Analyse | H2: Moyenne | J2: Affichage | K2: Valeur calibrée | L2: Température | M2: pH | N2: Conductivité | O2: Vanne modulante | P2: Bouteilles Chlore
D3: Cl Libre | E3: Cl Total | F3: Cl Libre | G3: Cl Total | H3: Cl Libre | I3: Cl Total | L3: °C | N3: µs/cm | O3: gr/h | P3: N°en service | Q3: N°en attente
A4: 1 | B4: ='Noms & Dates'!B3 -> PT | C4: ='Noms & Dates'!C3 -> 45292 | D4: 2.85 | E4: 6.94 | J4: 1.83 | L4: 13.91 | M4: 3.21 | O4: 83 | P4: 427844 | Q4: 770492
A5: 2 | B5: ='Noms & Dates'!B4 -> EAQ | C5: ='Noms & Dates'!C4 -> 45299 | D5: 6.78 | E5: 8.94 | F5: 7.41 | G5: / | H5: 7.64 | I5: / | J5: 9.64 | K5: / | L5: 83.06 | M5: 6.32 | N5: 336 | O5: 69 | P5: 614846 | Q5: 176983
A6: 3 | B6: ='Noms & Dates'!B5 -> AQQ | C6: ='Noms & Dates'!C5 -> 45306 | D6: 6.26 | E6: 5.56 | H6: 4.3 | I6: 7.15 | J6: 4.64 | K6: / | L6: 72.07 | M6: 5.41 | P6: 606576 | Q6: 558221
A7: 4 | B7: ='Noms & Dates'!B6 -> HYR | C7: ='Noms & Dates'!C6 -> 45313 | D7: 5.41 | E7: 7.46 | F7: 3.66 | H7: 7.59 | I7: 6.69 | J7: 4.95 | K7: / | L7: 1.24 | M7: 4.6 | N7: 286 | O7: 616 | P7: 385468 | Q7: 908320
A8: 5 | B8: ='Noms & Dates'!B7 -> OMF | C8: ='Noms & Dates'!C7 -> 45321 | D8: 6.29 | E8: 6.67 | F8: 7.65 | J8: 6.7 | L8: 7.38 | M8: 6.22 | N8: 813 | O8: 63 | P8: 591615 | Q8: 264633
A9: 6 | B9: ='Noms & Dates'!B8 -> LSH | C9: ='Noms & Dates'!C8 -> 45335 | D9: 5.43 | E9: 9.39 | F9: 8.12 | J9: 6.49 | K9: 4.02 | L9: 66.5 | M9: 8.11 | N9: 571 | O9: 233
A10: 7 | B10: ='Noms & Dates'!B9 -> 0 | C10: ='Noms & Dates'!C9 -> 0
A11: 8 | B11: ='Noms & Dates'!B10 -> HNJ | C11: ='Noms & Dates'!C10 -> 45342 | D11: 8.31 | E11: 8.5 | F11: 4.52 | H11: 5.08 | J11: 2.41 | K11: 3.18 | L11: 4.1 | M11: 8,,96 | N11: 514 | O11: 19 | P11: 715370 | Q11: 657026
A12: 9 | B12: ='Noms & Dates'!B11 -> NYW | C12: ='Noms & Dates'!C11 -> 45349 | D12: 3.94 | E12: 1.37 | F12: 6.86 | G12: / | H12: 7.6 | J12: 1.29 | K12: / | L12: 39.9 | M12: 2.71 | N12: 862 | O12: 81 | P12: 313041 | Q12: 553488
A13: 10 | B13: ='Noms & Dates'!B12 -> ZZRX | C13: ='Noms & Dates'!C12 -> 45357 | D13: 3.5 | E13: 3.53 | F13: 7.04 | G13: 3.77 | H13: 3.23 | I13: 9.72 | J13: 5.37 | K13: / | L13: 24 | M13: 1.08 | N13: 876 | O13: 13 | P13: 529466 | Q13: 423288
A14: 11 | B14: ='Noms & Dates'!B13 -> CS | C14: ='Noms & Dates'!C13 -> 45364 | D14: 1.42 | E14: 9.28 | F14: 1.3 | H14: 1.52 | J14: 9.43 | K14: 4.74 | L14: 55.7 | M14: 3.8 | N14: 585 | O14: 49 | P14: 353932 | Q14: 329520
A15: 12 | B15: ='Noms & Dates'!B14 -> BQ | C15: ='Noms & Dates'!C14 -> 45371 | D15: 6.1 | E15: 1.39 | F15: 4.83 | G15: / | H15: 2.5 | I15: / | J15: 8.83 | K15: / | L15: 15.8 | M15: 5.55 | N15: 403 | O15: 64 | P15: 319416 | Q15: 570850
A16: 13 | B16: ='Noms & Dates'!B15 -> QT | C16: ='Noms & Dates'!C15 -> 45378 | D16: 6.51 | E16: 5.63 | F16: 8.96 | H16: 2.46 | J16: 7.26 | L16: 17 | M16: 263 | N16: 502 | O16: 98 | P16: 265655 | Q16: 912395
A17: 14 | B17: ='Noms & Dates'!B16 -> OO | C17: ='Noms & Dates'!C16 -> 45385 | D17: 6.95 | E17: 1.43 | F17: 3.02 | G17: / | H17: 9.65 | I17: / | J17: 7.98 | K17: / | L17: 69.2 | M17: 3.34 | N17: 426 | O17: 48 | P17: 721355 | Q17: 418649
A18: 15 | B18: ='Noms & Dates'!B17 -> QU | C18: ='Noms & Dates'!C17 -> 45393 | D18: 3 | E18: 4.77 | J18: 1.87 | L18: 77.9 | M18: 1.89
A19: 16 | B19: ='Noms & Dates'!B18 -> BN | C19: ='Noms & Dates'!C18 -> 45399 | D19: 3.85 | E19: 9.26 | J19: 3.22 | L19: 24.6 | M19: 1.3 | N19: 633 | O19: 29 | P19: 339732 | Q19: 456255
A20: 17 | B20: ='Noms & Dates'!B19 -> AH | C20: ='Noms & Dates'!C19 -> 45407 | D20: 9.84 | E20: 4.42 | F20: 6.31 | G20: 6.53 | H20: 4.2 | I20: 7.72 | J20: 6.12 | K20: 2.75 | L20: 85.6 | M20: 1.83 | N20: 457 | O20: 71 | P20: 859857 | Q20: 268993
A21: 18 | B21: ='Noms & Dates'!B20 -> YP | C21: ='Noms & Dates'!C20 -> 45414 | D21: 8.04 | E21: 7.61 | F21: 7.66 | G21: 9.07 | H21: 2.29 | I21: 2.77 | J21: 3.04 | K21: / | L21: 99 | M21: 9.52 | N21: 434 | O21: 21 | P21: 808121 | Q21: 652933
A22: 19 | B22: ='Noms & Dates'!B21 -> KB | C22: ='Noms & Dates'!C21 -> 45421
A23: 20 | B23: ='Noms & Dates'!B22 -> UX | C23: ='Noms & Dates'!C22 -> 45427 | D23: 2.92 | E23: 8.44 | F23: 4 | G23: 3.09 | H23: 9.4 | I23: 6.18 | J23: 5.2 | K23: / | L23: / | M23: / | N23: / | O23: / | P23: 624285 | Q23: 157988
A24: 21 | B24: ='Noms & Dates'!B23 -> 0 | C24: ='Noms & Dates'!C23 -> 0
A25: 22 | B25: ='Noms & Dates'!B24 -> OP | C25: ='Noms & Dates'!C24 -> 45442 | D25: 3.15 | E25: 5.4 | F25: 3.05 | G25: 9.92 | H25: 6.49 | I25: 3.92 | J25: 3.77 | K25: 9.87 | L25: 44.6 | M25: 1.79 | N25: 305 | O25: 76 | P25: 806076 | Q25: 122309
A26: 23 | B26: ='Noms & Dates'!B25 -> QQI | C26: ='Noms & Dates'!C25 -> 45448 | D26: 7.34 | E26: 5.31 | F26: 1.62 | J26: 5.89 | K26: 4.31 | L26: 34 | M26: 8.8 | N26: 834 | O26: 815 | P26: 125687 | Q26: 156195 | R26: hodrxlwf wzcdxlpxx c 7.2c
A27: 24 | B27: ='Noms & Dates'!B26 -> KQ | C27: ='Noms & Dates'!C26 -> 45455 | D27: 8.29 | E27: 9.5 | F27: 9.45 | G27: 5.99 | H27: 7.46 | I27: 3.11 | J27: 7.6 | K27: 7.11 | L27: 17 | M27: 7.06 | N27: 320 | O27: 89 | P27: 407574 | Q27: 699899
A28: 25 | B28: ='Noms & Dates'!B27 -> MR | C28: ='Noms & Dates'!C27 -> 45462 | D28: 4.9 | E28: 1.49 | F28: 6.95 | H28: 7.4 | J28: 2.17 | O28: 15 | P28: 605107 | Q28: 453371
A29: 26 | B29: ='Noms & Dates'!B28 -> JP | C29: ='Noms & Dates'!C28 -> 45471 | D29: 1.55 | E29: 8.82 | F29: 2.17 | G29: / | H29: 1.38 | I29: / | J29: 6.08 | K29: / | L29: 75.2 | M29: 4.86 | N29: 292 | O29: 64 | P29: 166202 | Q29: 439923
A30: 27 | B30: ='Noms & Dates'!B29 -> JJ | C30: ='Noms & Dates'!C29 -> 45476 | L30: 11.8 | M30: 7.17 | N30: 514
A31: 28 | B31: ='Noms & Dates'!B30 -> PHW | C31: ='Noms & Dates'!C30 -> 45483 | D31: 9.22 | E31: 2.43 | K31: 3.37 | L31: 51.3 | M31: 9.8 | N31: 683 | O31: 65 | P31: 299419 | Q31: 426926
A32: 29 | B32: ='Noms & Dates'!B31 -> HL | C32: ='Noms & Dates'!C31 -> 45490 | D32: 2.53 | E32: 6.51 | J32: 1.55 | L32: 89.7 | M32: 7.79 | N32: 444 | O32: 46 | P32: 801888 | Q32: 927164
A33: 30 | B33: ='Noms & Dates'!B32 -> FZ | C33: ='Noms & Dates'!C32 -> lundi 24 juillet 2024 | D33: 3.47 | E33: 7.43 | F33: 9.66 | G33: 3.76 | J33: 1.95 | L33: 31.2 | M33: 9.8 | N33: 524 | O33: 20 | P33: 276413 | Q33: 290795
A34: 31 | B34: ='Noms & Dates'!B33 -> IM | C34: ='Noms & Dates'!C33 -> 45504 | D34: 4 | E34: 3.86 | F34: 7.78 | G34: 2.65 | H34: 2.61 | I34: 6.28 | J34: 5 | K34: 2.1 | L34: 50.4 | M34: 7.78 | N34: 305 | O34: 37
A35: 32 | B35: ='Noms & Dates'!B34 -> HQ | C35: ='Noms & Dates'!C34 -> 45417 | D35: 4.3 | E35: 630 | F35: 4.89 | G35: / | H35: 8.346 | I35: / | J35: 6.39 | K35: / | L35: 57 | M35: 5.96 | N35: 343 | O35: 28 | P35: 330451 | Q35: 70
A36: 33 | B36: ='Noms & Dates'!B35 -> 0 | C36: ='Noms & Dates'!C35 -> 0
A37: 34 | B37: ='Noms & Dates'!B36 -> 0 | C37: ='Noms & Dates'!C36 -> 0
A38: 35 | B38: ='Noms & Dates'!B37 -> 0 | C38: ='Noms & Dates'!C37 -> 0
A39: 36 | B39: ='Noms & Dates'!B38 -> 0 | C39: ='Noms & Dates'!C38 -> 0
A40: 37 | B40: ='Noms & Dates'!B39 -> 0 | C40: ='Noms & Dates'!C39 -> 0
...

Sheet Vigneux DN 700
A1: Vigneux DN700 | R1: Observations
A2: Semaines | B2: Noms | C2: Dates | D2: 1ère Analyse | F2: 2ème Analyse | H2: Moyenne | J2: Affichage | K2: Valeur calibrée | L2: Température | M2: pH | N2: Conductivité | O2: Vanne modulante | P2: Bouteilles Chlore
D3: Cl Libre | E3: Cl Total | F3: Cl Libre | G3: Cl Total | H3: Cl Libre | I3: Cl Total | L3: °C | N3: µs/cm | O3: gr/h | P3: N°en service | Q3: N°en attente
A4: 1 | B4: ='Noms & Dates'!B3 -> PT | C4: ='Noms & Dates'!C3 -> 45292 | D4: 6.29 | E4: 4 | F4: 9.44 | G4: 3.23 | H4: 3.56 | J4: 9.85 | L4: 49.06 | M4: 2.62 | O4: 89 | P4: 922650 | Q4: 979663
A5: 2 | B5: ='Noms & Dates'!B4 -> EAQ | C5: ='Noms & Dates'!C4 -> 45299 | D5: 4.87 | E5: 5.39 | F5: 2.41 | G5: / | H5: 2.77 | I5: / | J5: 1 | K5: / | L5: 31.56 | M5: 5.21 | N5: 852.78 | O5: 17 | P5: 956120 | Q5: 877678
A6: 3 | B6: ='Noms & Dates'!B5 -> AQQ | C6: ='Noms & Dates'!C5 -> 45306 | D6: 1.87 | E6: 2.87 | H6: 1.97 | I6: 3.51 | J6: 9.97 | K6: / | L6: 86.95 | M6: 7.9 | P6: 508868 | Q6: 883539
A7: 4 | B7: ='Noms & Dates'!B6 -> HYR | C7: ='Noms & Dates'!C6 -> 45313 | D7: 4.83 | E7: 8.25 | F7: 9.89 | H7: 9.82 | I7: 5.39 | J7: 5.74 | K7: / | L7: 4.25 | M7: 7.52 | N7: 992.65 | O7: 50 | P7: 276487 | Q7: 301415
A8: 5 | B8: ='Noms & Dates'!B7 -> OMF | C8: ='Noms & Dates'!C7 -> 45321 | D8: 4.9 | E8: 2.61 | F8: 6.75 | J8: 2.2 | L8: 30 | M8: 7.7 | N8: 487 | P8: 963624 | Q8: 983938
A9: 6 | B9: ='Noms & Dates'!B8 -> LSH | C9: ='Noms & Dates'!C8 -> 45335 | D9: 3.13 | E9: 6.85 | F9: 9.77 | J9: 3.16 | L9: 58.1 | M9: 1.8 | N9: 733
A10: 7 | B10: ='Noms & Dates'!B9 -> 0 | C10: ='Noms & Dates'!C9 -> 0
A11: 8 | B11: ='Noms & Dates'!B10 -> HNJ | C11: ='Noms & Dates'!C10 -> 45342 | D11: 6.05 | E11: 2.67 | F11: 6.17 | H11: 2.66 | J11: 6.41 | L11: 8.7 | M11: 8.4 | N11: 279 | P11: 391438 | Q11: 918853
A12: 9 | B12: ='Noms & Dates'!B11 -> NYW | C12: ='Noms & Dates'!C11 -> 45349 | D12: 1.39 | E12: 4.01 | F12: 6.33 | G12: / | H12: 2.65 | I12: / | J12: 2.39 | K12: / | L12: 54.7 | M12: 5.79 | N12: 567 | P12: 450019 | Q12: 772478
A13: 10 | B13: ='Noms & Dates'!B12 -> ZZRX | C13: ='Noms & Dates'!C12 -> 45357 | D13: 2 | E13: 1.6 | F13: 4.86 | G13: 7 | H13: 2.05 | I13: 3 | J13: 7.1 | K13: 9.39 | L13: 91 | M13: 1.4 | N13: 925 | O13: 13 | P13: 512300 | Q13: 172946
A14: 11 | B14: ='Noms & Dates'!B13 -> CS | C14: ='Noms & Dates'!C13 -> 45364 | D14: 5.73 | F14: 9.8 | G14: 1.66 | H14: 8 | J14: 2.7 | K14: 5.9 | L14: 12.3 | M14: 3.03 | N14: 231 | O14: 33 | P14: 611196 | Q14: 823875
A15: 12 | B15: ='Noms & Dates'!B14 -> BQ | C15: ='Noms & Dates'!C14 -> 45371 | D15: 5.7 | E15: 3.48 | F15: 3.89 | G15: / | H15: 4.8 | I15: / | J15: 5.88 | K15: 5.9 | L15: 86.4 | M15: 2.96 | N15: 532 | O15: 48 | P15: 534802 | Q15: 390645
A16: 13 | B16: ='Noms & Dates'!B15 -> QT | C16: ='Noms & Dates'!C15 -> 45378 | D16: 5.7 | E16: 5.63 | F16: 7.62 | G16: 9.13 | H16: 2.41 | J16: 7.3 | K16: 7.7 | L16: 87.2 | M16: 9.1 | N16: 471 | P16: 739792 | Q16: 824713
A17: 14 | B17: ='Noms & Dates'!B16 -> OO | C17: ='Noms & Dates'!C16 -> 45385 | D17: 3.43 | E17: 7.9 | F17: 1.8 | G17: / | H17: 6.18 | I17: / | J17: 3.29 | K17: 5.79 | L17: 33.5 | M17: 7.84 | N17: 474 | O17: 98 | P17: 546196 | Q17: 347888
A18: 15 | B18: ='Noms & Dates'!B17 -> QU | C18: ='Noms & Dates'!C17 -> 45393 | D18: 6.7 | E18: 9.84 | J18: 5.3 | L18: 33.3
A19: 16 | B19: ='Noms & Dates'!B18 -> BN | C19: ='Noms & Dates'!C18 -> 45399 | D19: 1.2 | E19: 3.88 | F19: 4.79 | H19: 6.83 | J19: 4.63 | K19: 2.47 | L19: 56.1 | M19: 9.32 | N19: 750 | O19: 36 | P19: 556249 | Q19: 926107
A20: 17 | B20: ='Noms & Dates'!B19 -> AH | C20: ='Noms & Dates'!C19 -> 45407 | D20: 7.01 | E20: 3.38 | F20: 1.31 | G20: 6.19 | H20: 7.06 | I20: 6.43 | J20: 6.09 | K20: 6.8 | L20: 13.6 | M20: 3.81 | N20: 690 | O20: 30 | P20: 615724 | Q20: 440283
A21: 18 | B21: ='Noms & Dates'!B20 -> YP | C21: ='Noms & Dates'!C20 -> 45414 | D21: 3.47 | E21: 3.58 | F21: 9.57 | G21: 3.75 | H21: 4.63 | I21: 2.66 | J21: 8.52 | K21: / | L21: 35 | M21: 1.14 | N21: 283 | P21: 545950 | Q21: 229554
A22: 19 | B22: ='Noms & Dates'!B21 -> KB | C22: ='Noms & Dates'!C21 -> 45421
A23: 20 | B23: ='Noms & Dates'!B22 -> UX | C23: ='Noms & Dates'!C22 -> 45427 | D23: 3.04 | E23: 5.03 | F23: 1.64 | G23: 5.67 | H23: 3.25 | I23: 9.39 | J23: 8.93 | K23: / | L23: / | M23: / | N23: / | O23: / | P23: 164374 | Q23: 399460
A24: 21 | B24: ='Noms & Dates'!B23 -> 0 | C24: ='Noms & Dates'!C23 -> 0
A25: 22 | B25: ='Noms & Dates'!B24 -> OP | C25: ='Noms & Dates'!C24 -> 45442 | D25: 4.88 | E25: 3.95 | F25: 9.89 | G25: 8.05 | H25: 7.72 | I25: 1.54 | J25: 8.88 | K25: / | L25: 43.8 | M25: 1.41 | N25: 295 | O25: 56 | P25: 328376 | Q25: 966826
A26: 23 | B26: ='Noms & Dates'!B25 -> QQI | C26: ='Noms & Dates'!C25 -> 45448 | D26: 6.39 | E26: 3.57 | J26: 2.81 | K26: 1.17 | L26: 58 | M26: 3.4 | N26: 625 | O26: 30 | P26: 481444 | Q26: 949649 | R26: dgeimdtf dlsjqgkwj x 9.2q
A27: 24 | B27: ='Noms & Dates'!B26 -> KQ | C27: ='Noms & Dates'!C26 -> 45455 | D27: 9.66 | E27: 6.88 | F27: 2.01 | G27: 7.46 | H27: 4.9 | I27: 4.1 | J27: 8.53 | K27: 7 | L27: 11 | M27: 4 | N27: 856 | O27: 28 | P27: 345417 | Q27: 726517
A28: 25 | B28: ='Noms & Dates'!B27 -> MR | C28: ='Noms & Dates'!C27 -> 45462 | D28: 4.9 | E28: 9.3 | F28: 2.65 | H28: 3.13 | J28: 8.98 | O28: 629 | P28: 464079 | Q28: 115301
A29: 26 | B29: ='Noms & Dates'!B28 -> JP | C29: ='Noms & Dates'!C28 -> 45471 | D29: 5.14 | E29: 5.1 | F29: 1.28 | G29: / | H29: 6.93 | I29: / | J29: 6.94 | K29: 2.65 | L29: 83.7 | M29: 4.53 | N29: 859 | O29: 49 | P29: 499241 | Q29: 476237
A30: 27 | B30: ='Noms & Dates'!B29 -> JJ | C30: ='Noms & Dates'!C29 -> 45476 | D30: 5.75 | E30: 5.68 | F30: 5.82 | G30: 2.03 | H30: 3.78 | I30: 1.31 | J30: 6.42 | K30: 3.72 | L30: 16.1 | M30: 2.33 | N30: 873
A31: 28 | B31: ='Noms & Dates'!B30 -> PHW | C31: ='Noms & Dates'!C30 -> 45483 | D31: 8.16 | E31: 1.92 | F31: 3.19 | J31: 5.38 | L31: 10.6 | M31: 9.19 | N31: 807 | P31: 959763 | Q31: 887547
A32: 29 | B32: ='Noms & Dates'!B31 -> HL | C32: ='Noms & Dates'!C31 -> 45490 | D32: 2.47 | E32: 8 | F32: 5.16 | J32: 7.03 | K32: 1.07 | L32: 18 | M32: 8.21 | N32: 156 | O32: 952 | P32: 454546 | Q32: 247904
A33: 30 | B33: ='Noms & Dates'!B32 -> FZ | C33: ='Noms & Dates'!C32 -> lundi 24 juillet 2024 | D33: 4.01 | E33: 3.53 | J33: 4.99 | L33: 69.8 | M33: 5.94 | N33: 353 | O33: 11 | P33: 252202 | Q33: 268028
A34: 31 | B34: ='Noms & Dates'!B33 -> IM | C34: ='Noms & Dates'!C33 -> 45504 | D34: 2.52 | E34: 9.44 | F34: 7.22 | G34: 1.27 | H34: 5.5 | I34: 5.32 | J34: 5.99 | K34: 9.86 | L34: 71.9 | M34: 5.67 | N34: 387 | O34: 21
A35: 32 | B35: ='Noms & Dates'!B34 -> HQ | C35: ='Noms & Dates'!C34 -> 45417 | D35: 5.55 | E35: 4.69 | F35: 8.28 | G35: 8.8 | H35: 9.85 | I35: / | J35: 5.36 | K35: 1 | L35: 42.9 | M35: 9.02 | N35: 139 | O35: 215 | P35: 927869 | Q35: 27
A36: 33 | B36: ='Noms & Dates'!B35 -> 0 | C36: ='Noms & Dates'!C35 -> 0
A37: 34 | B37: ='Noms & Dates'!B36 -> 0 | C37: ='Noms & Dates'!C36 -> 0
A38: 35 | B38: ='Noms & Dates'!B37 -> 0 | C38: ='Noms & Dates'!C37 -> 0
A39: 36 | B39: ='Noms & Dates'!B38 -> 0 | C39: ='Noms & Dates'!C38 -> 0
A40: 37 | B40: ='Noms & Dates'!B39 -> 0 | C40: ='Noms & Dates'!C39 -> 0
...

Sheet Donges
A1: Donges | T1: Observations
A2: Semaines | B2: Noms | C2: Dates | D2: Distribution | O2: Adduction
D3: 1ère Analyse | F3: 2ème Analyse | H3: Moyenne | J3: Affichage | K3: Valeur calibrée | L3: Température | M3: pH | N3: Conductivité | O3: Cl Libre | P3: Cl Total | Q3: Température | R3: pH | S3: Conductivité
D4: Cl Libre | E4: Cl Total | F4: Cl Libre | G4: Cl Total | H4: Cl Libre | I4: Cl Total | L4: °C | N4: µs/cm | Q4: °C | S4: µs/cm
A5: 1 | B5: ='Noms & Dates'!B3 -> PT | C5: ='Noms & Dates'!C3 -> 45292 | D5: 9.53 | E5: 4.15 | J5: 3.7 | L5: 18.26 | M5: 3.37 | N5: 882 | O5: 6.91 | Q5: 39.13 | R5: 4.2 | S5: 169
A6: 2 | B6: ='Noms & Dates'!B4 -> EAQ | C6: ='Noms & Dates'!C4 -> 45299 | D6: 2.88 | E6: 3.96 | F6: 6.28 | G6: 9.23 | H6: 4.58 | I6: / | J6: 7.99 | K6: / | L6: 76.78 | M6: 6.55 | N6: 352 | O6: 3.5 | P6: 6.22 | Q6: 38.42 | R6: 8.26 | S6: 865
A7: 3 | B7: ='Noms & Dates'!B5 -> AQQ | C7: ='Noms & Dates'!C5 -> 45306 | D7: 5.19 | E7: 3.41 | F7: 4.01 | H7: 6.23 | I7: 9 | J7: 4.07 | K7: / | L7: 92.03 | M7: 2.46 | N7: 263 | O7: 7.03 | P7: 6.35 | Q7: 93.42 | R7: 3.44 | S7: 692
A8: 4 | B8: ='Noms & Dates'!B6 -> HYR | C8: ='Noms & Dates'!C6 -> 45313 | D8: 3.84 | E8: 8.01 | F8: 1.43 | H8: 4.46 | I8: 7.66 | K8: / | L8: 64.9 | M8: 6.71 | N8: 5101 | O8: 3.31 | P8: 1.87 | Q8: 8 | R8: 8.8 | S8: 9548
A9: 5 | B9: ='Noms & Dates'!B7 -> OMF | C9: ='Noms & Dates'!C7 -> 45321 | G9: 4.44 | H9: 1.7 | I9: 1.5 | J9: 4.85 | L9: 60 | M9: 8.22 | N9: 537 | O9: 2.25 | P9: 7.23 | Q9: 75 | R9: 4 | S9: 515
A10: 6 | B10: ='Noms & Dates'!B8 -> LSH | C10: ='Noms & Dates'!C8 -> 45335 | D10: 4.82 | E10: 4.83 | F10: 4.85 | J10: 9.13 | L10: 65.7 | M10: 3.95 | N10: 881 | O10: 4.02 | P10: 9.8 | Q10: 45.7 | R10: 6.07 | S10: 633
A11: 7 | B11: ='Noms & Dates'!B9 -> 0 | C11: ='Noms & Dates'!C9 -> 0
A12: 8 | B12: ='Noms & Dates'!B10 -> HNJ | C12: ='Noms & Dates'!C10 -> 45342 | D12: 6.2 | E12: 8.57 | F12: 7.76 | H12: 5.69 | J12: 9.85 | L12: 23.2 | M12: 1.17 | N12: 843 | O12: 9.64 | P12: 5.6 | Q12: 76.3 | R12: 8.37 | S12: 456
A13: 9 | B13: ='Noms & Dates'!B11 -> NYW | C13: ='Noms & Dates'!C11 -> 45349 | D13: 8.21 | E13: 6.07 | F13: 9.14 | G13: / | H13: 6.85 | I13: / | J13: 6.01 | K13: / | L13: 21.3 | M13: 8.06 | N13: 469 | O13: 4.93 | P13: 8.9 | Q13: 57.1 | R13: 4.01 | S13: 108
A14: 10 | B14: ='Noms & Dates'!B12 -> ZZRX | C14: ='Noms & Dates'!C12 -> 45357 | D14: 2.8 | E14: 4.17 | F14: 5.61 | G14: 2.89 | H14: 9.8 | I14: 3.34 | J14: 9.24 | K14: / | L14: 63 | M14: 3.81 | N14: 123 | O14: 8.53 | P14: 9.08 | Q14: 92.6 | R14: 1.8 | S14: 649
A15: 11 | B15: ='Noms & Dates'!B13 -> CS | C15: ='Noms & Dates'!C13 -> 45364
A16: 12 | B16: ='Noms & Dates'!B14 -> BQ | C16: ='Noms & Dates'!C14 -> 45371 | D16: 5.56 | E16: 6.29 | F16: 2.2 | G16: / | H16: 7.756 | I16: / | J16: 8.06 | K16: / | L16: 66.6 | M16: 7.12 | N16: 334 | O16: 7.97 | P16: 5.15 | Q16: 12.2 | R16: 7.8 | S16: 435
A17: 13 | B17: ='Noms & Dates'!B15 -> QT | C17: ='Noms & Dates'!C15 -> 45378 | D17: 3.43 | E17: 1.52 | J17: 7.28 | L17: 12.6 | M17: 2.15 | N17: 561 | O17: 4.93 | P17: 5.94 | Q17: 69 | R17: 7.83 | S17: 300
A18: 14 | B18: ='Noms & Dates'!B16 -> OO | C18: ='Noms & Dates'!C16 -> 45385 | D18: 7.65 | E18: 2.86 | F18: 2.47 | G18: / | H18: 1.32 | I18: / | J18: 9.65 | K18: / | L18: 13.7 | M18: 5.73 | N18: 629 | O18: 2.49 | P18: 6.7 | Q18: 55.5 | R18: 2 | S18: 619
A19: 15 | B19: ='Noms & Dates'!B17 -> QU | C19: ='Noms & Dates'!C17 -> 45393 | D19: 1.22 | E19: 4.30 | F19: 4.43 | H19: 4.22 | J19: 1.65 | L19: 34.2 | M19: 1.78 | N19: 330 | O19: 4.12 | P19: 1.29 | Q19: 50.1 | R19: 9.10 | S19: 609
A20: 16 | B20: ='Noms & Dates'!B18 -> BN | C20: ='Noms & Dates'!C18 -> 45399 | D20: 7.26 | E20: 9.08 | J20: 2.48 | L20: 93.8 | M20: 8.86 | N20: 940 | O20: 2.52 | P20: 4.3 | Q20: 41.2 | R20: 8.76 | S20: 647
A21: 17 | B21: ='Noms & Dates'!B19 -> AH | C21: ='Noms & Dates'!C19 -> 45407 | D21: 8.3 | E21: 9.68 | F21: 4.47 | G21: 9.42 | H21: 9.59 | I21: 7 | J21: 9.68 | K21: / | L21: 21.6 | M21: 4.1 | N21: 390 | O21: 7.77 | P21: 1.46 | Q21: 67.3 | R21: 2.02 | S21: 836
A22: 18 | B22: ='Noms & Dates'!B20 -> YP | C22: ='Noms & Dates'!C20 -> 45414 | D22: 1.39 | E22: 5 | F22: 7.98 | G22: 7.72 | H22: 2.31 | I22: 7.05 | J22: 9.1 | K22: / | L22: 37.9 | M22: 3.8 | N22: 827 | O22: 5.91 | P22: 1.81 | Q22: 68.3 | R22: 9.04 | S22: 145
A23: 19 | B23: ='Noms & Dates'!B21 -> KB | C23: ='Noms & Dates'!C21 -> 45421 | D23: 2.23 | E23: 2.58 | F23: 7.74 | H23: 6.40 | J23: 7.82 | L23: 43.0 | M23: 1.59 | N23: 748 | O23: 4.70 | P23: 7.72 | Q23: 46 | R23: 1.08 | S23: 5314
A24: 20 | B24: ='Noms & Dates'!B22 -> UX | C24: ='Noms & Dates'!C22 -> 45427 | D24: 2.6 | E24: 2.74 | F24: 5.16 | G24: 1.83 | H24: 6.1 | I24: 5.02 | J24: 8.37 | K24: 6.78 | L24: 98.8 | M24: 9.9 | N24: 114 | O24: 1.05 | P24: 3.6 | Q24: 32.2 | R24: 8.5 | S24: 680
A25: 21 | B25: ='Noms & Dates'!B23 -> 0 | C25: ='Noms & Dates'!C23 -> 0
A26: 22 | B26: ='Noms & Dates'!B24 -> OP | C26: ='Noms & Dates'!C24 -> 45442 | D26: 8.8 | E26: 4.63 | F26: 7.6 | G26: 8.02 | H26: 8.22 | I26: 5.5 | J26: 3.58 | K26: / | L26: 96 | M26: 4.71 | N26: 587 | O26: 3.13 | P26: 3.11 | Q26: 94.6 | R26: 5.66 | S26: 825
A27: 23 | B27: ='Noms & Dates'!B25 -> QQI | C27: ='Noms & Dates'!C25 -> 45448 | D27: 3.11 | E27: 4.69 | F27: 4.02 | J27: 9.27 | L27: 33 | M27: 6.1 | N27: 391 | O27: 5.69 | P27: 7.85 | Q27: 80 | R27: 5 | S27: 345
A28: 24 | B28: ='Noms & Dates'!B26 -> KQ | C28: ='Noms & Dates'!C26 -> 45455 | D28: 1.55 | E28: 7.83 | F28: 1.05 | G28: 8.35 | H28: 2.57 | I28: 2.16 | J28: 1.46 | K28: / | L28: 14.7 | M28: 1 | N28: 759 | O28: 4.56 | P28: 1.63 | Q28: 95 | R28: 6.12 | S28: 647
A29: 25 | B29: ='Noms & Dates'!B27 -> MR | C29: ='Noms & Dates'!C27 -> 45462 | D29: 3.72 | E29: 9.73 | F29: 1.09 | H29: 3.17 | J29: 3.48 | L29: 16.6 | M29: 6.78 | N29: 761 | O29: 9.1 | P29: 5.05 | Q29: 29.3 | R29: 8.98 | S29: 234
A30: 26 | B30: ='Noms & Dates'!B28 -> JP | C30: ='Noms & Dates'!C28 -> 45471 | D30: 8.24 | E30: 4.56 | F30: 9.55 | G30: / | H30: 5.616 | I30: 7.87 | J30: 9.6 | K30: / | L30: 33.2 | M30: 9.72 | N30: 349 | O30: 9.75 | P30: 5.97 | Q30: 75.9 | R30: 4.78 | S30: 333
A31: 27 | B31: ='Noms & Dates'!B29 -> JJ | C31: ='Noms & Dates'!C29 -> 45476
A32: 28 | B32: ='Noms & Dates'!B30 -> PHW | C32: ='Noms & Dates'!C30 -> 45483 | D32: 1.29 | E32: 4.18 | F32: 3.41 | J32: 1.2 | L32: 97.6 | M32: 4.1 | N32: 481 | O32: 4.21 | P32: 3.36 | Q32: 71.3 | R32: 8.88 | S32: 555
A33: 29 | B33: ='Noms & Dates'!B31 -> HL | C33: ='Noms & Dates'!C31 -> 45490 | D33: 4.84 | E33: 3.2 | F33: 5.33 | J33: 3.6 | L33: 37.8 | M33: 5.3 | N33: 178 | O33: 2.36 | P33: 1.36 | Q33: 96.1 | R33: 5.15 | S33: 303
A34: 30 | B34: ='Noms & Dates'!B32 -> FZ | C34: ='Noms & Dates'!C32 -> lundi 24 juillet 2024 | D34: 8.18 | E34: 5.21 | J34: 2.09 | L34: 18.7 | M34: 1.67 | N34: 975 | Q34: 50.1 | R34: 7.38 | S34: 434
A35: 31 | B35: ='Noms & Dates'!B33 -> IM | C35: ='Noms & Dates'!C33 -> 45504 | T35: Oeqvccarcu Czyxbtw
A36: 32 | B36: ='Noms & Dates'!B34 -> HQ | C36: ='Noms & Dates'!C34 -> 45417 | D36: 5.57 | E36: 6.37 | F36: 9.94 | G36: / | H36: 4.597 | J36: 5.8 | K36: / | L36: 35.5 | M36: 9.39 | N36: 951 | O36: 8.81 | P36: 3.15 | Q36: 50.6 | R36: 6.63 | S36: 4
A37: 33 | B37: ='Noms & Dates'!B35 -> 0 | C37: ='Noms & Dates'!C35 -> 0
A38: 34 | B38: ='Noms & Dates'!B36 -> 0 | C38: ='Noms & Dates'!C36 -> 0
A39: 35 | B39: ='Noms & Dates'!B37 -> 0 | C39: ='Noms & Dates'!C37 -> 0
A40: 36 | B40: ='Noms & Dates'!B38 -> 0 | C40: ='Noms & Dates'!C38 -> 0
...

Sheet SEM
A1: SEM | O1: Observations
A2: Semaines | B2: Noms | C2: Dates | D2: 1ère Analyse | F2: 2ème Analyse | H2: Moyenne | J2: Affichage | K2: Valeur calibrée | L2: Température | M2: pH | N2: Conductivité
D3: Cl Libre | E3: Cl Total | F3: Cl Libre | G3: Cl Total | H3: Cl Libre | I3: Cl Total | L3: °C | N3: µs/cm
A4: 1 | B4: ='Noms & Dates'!B3 -> PT | C4: ='Noms & Dates'!C3 -> 45292 | D4: 5.56 | E4: 5.57 | F4: 8.97 | H4: 3.62 | I4: 1.35 | J4: 2.23
A5: 2 | B5: ='Noms & Dates'!B4 -> EAQ | C5: ='Noms & Dates'!C4 -> 45299 | D5: 4.65 | E5: 8.33 | F5: 2.25 | G5: / | H5: 1.41 | I5: / | J5: 6.08 | K5: 8.3 | L5: 86.5 | M5: 8.8 | N5: 367
A6: 3 | B6: ='Noms & Dates'!B5 -> AQQ | C6: ='Noms & Dates'!C5 -> 45306 | D6: 2.86 | E6: 4.82 | F6: 2.8 | H6: 2.3 | I6: 9.8 | J6: 9.33 | K6: 7.9 | L6: 81.3 | M6: 4.03 | N6: 243
A7: 4 | B7: ='Noms & Dates'!B6 -> HYR | C7: ='Noms & Dates'!C6 -> 45313 | D7: 1.86 | E7: 7.88 | F7: 1.27 | H7: 6.57 | I7: 3.19 | J7: 9.42 | K7: / | L7: 73.6 | M7: 4.67 | N7: 616
A8: 5 | B8: ='Noms & Dates'!B7 -> OMF | C8: ='Noms & Dates'!C7 -> 45321 | D8: 3.89 | E8: 3.03 | F8: 2.5 | J8: 8.1 | K8: 7.28 | L8: 75 | M8: 4.76 | N8: 392
A9: 6 | B9: ='Noms & Dates'!B8 -> LSH | C9: ='Noms & Dates'!C8 -> 45335 | D9: 7.38 | E9: 4.79 | F9: 2.13 | J9: 1.71 | L9: 59.1 | M9: 9.98 | N9: 624
A10: 7 | B10: ='Noms & Dates'!B9 -> 0 | C10: ='Noms & Dates'!C9 -> 0
A11: 8 | B11: ='Noms & Dates'!B10 -> HNJ | C11: ='Noms & Dates'!C10 -> 45342 | D11: 4.87 | E11: 2.3 | F11: 1.05 | H11: 4.81 | J11: 9.26 | L11: 28.8 | M11: 7 | N11: 988
A12: 9 | B12: ='Noms & Dates'!B11 -> NYW | C12: ='Noms & Dates'!C11 -> 45349 | D12: 1.45 | E12: 8.9 | F12: 3.91 | G12: / | H12: 2.99 | I12: / | J12: 8.26 | K12: 5.05 | L12: 71.7 | M12: 2.74 | N12: 620
A13: 10 | B13: ='Noms & Dates'!B12 -> ZZRX | C13: ='Noms & Dates'!C12 -> 45357 | D13: 1.29 | E13: 1.08 | F13: 7.2 | G13: 7.2 | H13: 3.78 | I13: 4.75 | J13: 2.58 | K13: / | L13: 49 | M13: 1.93 | N13: 363
A14: 11 | B14: ='Noms & Dates'!B13 -> CS | C14: ='Noms & Dates'!C13 -> 45364 | D14: 1.1 | E14: 8.23 | F14: 9.39 | H14: 1.72 | J14: 9.89 | L14: 81.5 | M14: 1.47 | N14: 916
A15: 12 | B15: ='Noms & Dates'!B14 -> BQ | C15: ='Noms & Dates'!C14 -> 45371 | D15: 4 | E15: 2.8 | F15: 9.19 | G15: / | H15: 8.321 | I15: / | J15: 2.43 | K15: 2.04 | L15: 27.7 | M15: 3.12 | N15: 152
A16: 13 | B16: ='Noms & Dates'!B15 -> QT | C16: ='Noms & Dates'!C15 -> 45378 | D16: 5.98 | E16: 8.79 | F16: 4.84 | H16: 3.11 | J16: 7.4 | K16: 2.96 | L16: 26.33 | M16: 3.8 | N16: 8016
A17: 14 | B17: ='Noms & Dates'!B16 -> OO | C17: ='Noms & Dates'!C16 -> 45385 | D17: 8.64 | E17: 4.72 | F17: 4.8 | G17: / | H17: 3 | I17: / | J17: 8.92 | K17: / | L17: 69.2 | M17: 4.02 | N17: 218
A18: 15 | B18: ='Noms & Dates'!B17 -> QU | C18: ='Noms & Dates'!C17 -> 45393 | D18: 2.68 | E18: 5.48 | F18: 3.27 | H18: 4.21 | J18: 6.16 | L18: 87.5 | M18: 3.77 | N18: 709
A19: 16 | B19: ='Noms & Dates'!B18 -> BN | C19: ='Noms & Dates'!C18 -> 45399 | D19: 1.63 | E19: 6.45 | J19: 5.71 | L19: 13.8 | M19: 9.23 | N19: 938
A20: 17 | B20: ='Noms & Dates'!B19 -> AH | C20: ='Noms & Dates'!C19 -> 45407 | D20: 7.47 | E20: 2.71 | F20: 9.87 | G20: 4.03 | H20: 9.11 | I20: 2.05 | J20: 5.63 | K20: 7.95 | L20: 39.8 | M20: 1.86 | N20: 927
A21: 18 | B21: ='Noms & Dates'!B20 -> YP | C21: ='Noms & Dates'!C20 -> 45414 | D21: 8.27 | E21: 3.48 | F21: 5.8 | G21: 1.69 | H21: 5.56 | I21: 1.65 | J21: 5.2 | K21: / | L21: 97.7 | M21: 9.96 | N21: 245
A22: 19 | B22: ='Noms & Dates'!B21 -> KB | C22: ='Noms & Dates'!C21 -> 45421 | D22: 8.51 | E22: 4.44 | F22: 7.52 | J22: 6.40 | L22: 71.4 | M22: 9.82 | N22: 9737
A23: 20 | B23: ='Noms & Dates'!B22 -> UX | C23: ='Noms & Dates'!C22 -> 45427 | D23: 5.5 | E23: 8.03 | F23: 3.52 | G23: 1.13 | H23: 7.7 | I23: 2.8 | J23: 8.54 | K23: / | L23: 42.1 | M23: 7.1 | N23: 192
A24: 21 | B24: ='Noms & Dates'!B23 -> 0 | C24: ='Noms & Dates'!C23 -> 0
A25: 22 | B25: ='Noms & Dates'!B24 -> OP | C25: ='Noms & Dates'!C24 -> 45442 | D25: 4.36 | E25: 5.08 | F25: 1.08 | G25: 3.69 | H25: 4.8 | I25: 2.28 | J25: 4.7 | K25: / | L25: 99.5 | M25: 4.91 | N25: 410
A26: 23 | B26: ='Noms & Dates'!B25 -> QQI | C26: ='Noms & Dates'!C25 -> 45448 | D26: 5.8 | E26: 8.88 | F26: 3.22 | J26: 4.11 | L26: 93 | M26: 7.71 | N26: 453
A27: 24 | B27: ='Noms & Dates'!B26 -> KQ | C27: ='Noms & Dates'!C26 -> 45455 | D27: 5.62 | E27: 2.69 | F27: 4.15 | G27: 8.72 | H27: 7.97 | I27: 7.71 | J27: 6.67 | K27: / | L27: 68.4 | M27: 6.23 | N27: 995
A28: 25 | B28: ='Noms & Dates'!B27 -> MR | C28: ='Noms & Dates'!C27 -> 45462 | D28: 8.02 | E28: 4.83 | F28: 5.97 | H28: 8.74 | J28: 2.52 | K28: 6.12 | L28: 45.3 | M28: 4.3 | N28: 753
A29: 26 | B29: ='Noms & Dates'!B28 -> JP | C29: ='Noms & Dates'!C28 -> 45471 | D29: 5.37 | E29: 5.95 | F29: 3.79 | G29: / | H29: 3.46 | I29: 4.03 | J29: 3.62 | K29: 5.15 | L29: 67.9 | M29: 9.18 | N29: 196
A30: 27 | B30: ='Noms & Dates'!B29 -> JJ | C30: ='Noms & Dates'!C29 -> 45476 | D30: 8.16 | E30: 2.53 | F30: 6.29 | G30: 2.16 | H30: 1.7 | I30: 4.83 | J30: 4.25 | K30: / | L30: 18 | M30: 3.84 | N30: 544
A31: 28 | B31: ='Noms & Dates'!B30 -> PHW | C31: ='Noms & Dates'!C30 -> 45483 | D31: 4.8 | E31: 9.74 | F31: 4.32 | J31: 7.6 | L31: 88.8 | M31: 8.53 | N31: 740
A32: 29 | B32: ='Noms & Dates'!B31 -> HL | C32: ='Noms & Dates'!C31 -> 45490 | D32: 8.83 | E32: 4.32 | F32: 1.8 | J32: 1.62 | L32: 92.2 | M32: 5.5 | N32: 601
A33: 30 | B33: ='Noms & Dates'!B32 -> FZ | C33: ='Noms & Dates'!C32 -> lundi 24 juillet 2024 | D33: 2.59 | E33: 4.03 | J33: 1.34 | L33: 81.2 | M33: 5.78 | N33: 521
A34: 31 | B34: ='Noms & Dates'!B33 -> IM | C34: ='Noms & Dates'!C33 -> 45504 | D34: 3.19 | E34: 6 | F34: 2.14 | G34: 6.1 | H34: 8.58 | I34: 5 | J34: 5.05 | K34: / | L34: 68.7 | M34: 8.93 | N34: 662
A35: 32 | B35: ='Noms & Dates'!B34 -> HQ | C35: ='Noms & Dates'!C34 -> 45417 | D35: 5.7 | E35: 8.28 | F35: 6.59 | G35: / | H35: 3.861 | I35: 2.82 | J35: 7.86 | K35: / | L35: 93.5 | M35: 6.6 | N35: 734
A36: 33 | B36: ='Noms & Dates'!B35 -> 0 | C36: ='Noms & Dates'!C35 -> 0
A37: 34 | B37: ='Noms & Dates'!B36 -> 0 | C37: ='Noms & Dates'!C36 -> 0
A38: 35 | B38: ='Noms & Dates'!B37 -> 0 | C38: ='Noms & Dates'!C37 -> 0
A39: 36 | B39: ='Noms & Dates'!B38 -> 0 | C39: ='Noms & Dates'!C38 -> 0
A40: 37 | B40: ='Noms & Dates'!B39 -> 0 | C40: ='Noms & Dates'!C39 -> 0
...

Sheet Cordionnais
A1: Cordionnais | T1: Observations
A2: Semaines | B2: Noms | C2: Dates | D2: Distribution | O2: Adduction
D3: 1ère Analyse | F3: 2ème Analyse | H3: Moyenne | J3: Affichage | K3: Valeur calibrée | L3: Température | M3: pH | N3: Conductivité | O3: Cl Libre | P3: Cl Total | Q3: Température | R3: pH | S3: Conductivité
D4: Cl Libre | E4: Cl Total | F4: Cl Libre | G4: Cl Total | H4: Cl Libre | I4: Cl Total | L4: °C | N4: µs/cm | Q4: °C | S4: µs/cm
A5: 1 | B5: ='Noms & Dates'!B3 -> PT | C5: ='Noms & Dates'!C3 -> 45292 | D5: 0.46 | E5: 0.58 | F5: 0.45 | G5: 5.725 | I5: 69.4 | J5: 1.79 | K5: 394 | N5: 16.7 | O5: 2.46 | P5: 625
A6: 2 | B6: ='Noms & Dates'!B4 -> EAQ | C6: ='Noms & Dates'!C4 -> 45299 | D6: 0.46 | E6: 0.57 | F6: 0.46 | G6: / | H6: 4.55 | I6: / | J6: 2.99 | K6: / | L6: 42.5 | M6: 2.72 | N6: 981 | O6: 1.42 | P6: / | Q6: 14.6 | R6: 5 | S6: 271
A7: 3 | B7: ='Noms & Dates'!B5 -> AQQ | C7: ='Noms & Dates'!C5 -> 45306 | D7: 0.45 | E7: 0.57 | F7: 0.46 | H7: 1.32 | I7: 6.97 | J7: 3.26 | K7: 1.28 | L7: 53 | M7: 2.55 | N7: 298 | O7: 9.1 | P7: 3.82 | Q7: 40.9 | R7: 3.6 | S7: 880
A8: 4 | B8: ='Noms & Dates'!B6 -> HYR | C8: ='Noms & Dates'!C6 -> 45313 | D8: 0.31 | E8: 0.53 | F8: 0.41 | H8: 1.91 | I8: 7.97 | J8: 3.9 | K8: / | L8: 36.6 | M8: 5.2 | N8: 5793 | O8: 6.14 | P8: 5.64 | Q8: 1.9 | R8: 3.71 | S8: 8499
A9: 5 | B9: ='Noms & Dates'!B7 -> OMF | C9: ='Noms & Dates'!C7 -> 45321 | D9: 0.42 | E9: 0.62 | F9: 0.43 | J9: 5.74 | L9: 68 | M9: 4.78 | N9: 570 | O9: 3.59 | P9: 2.1 | Q9: 95 | R9: 2.62 | S9: 263
A10: 6 | B10: ='Noms & Dates'!B8 -> LSH | C10: ='Noms & Dates'!C8 -> 45335 | D10: 0.33 | E10: 0.42 | F10: 0.36 | J10: 4.3 | L10: 15.3 | M10: 1.21 | N10: 721 | O10: 8.4 | P10: 9.61 | Q10: 74 | R10: 8.43 | S10: 797
A11: 7 | B11: ='Noms & Dates'!B9 -> 0 | C11: ='Noms & Dates'!C9 -> 0
A12: 8 | B12: ='Noms & Dates'!B10 -> HNJ | C12: ='Noms & Dates'!C10 -> 45342 | D12: 0.33 | E12: 0.44 | F12: 0.35 | H12: 9.2 | J12: 7.889 | L12: 31 | M12: 9.16 | N12: 224 | O12: 6.51 | P12: 2.75 | Q12: 19.3 | R12: 7.4 | S12: 746
A13: 9 | B13: ='Noms & Dates'!B11 -> NYW | C13: ='Noms & Dates'!C11 -> 45349 | D13: 0.35 | E13: 0.48 | F13: 0.37 | G13: / | H13: 6.78 | J13: 6.72 | K13: / | L13: 43.7 | M13: 2.49 | N13: 846 | O13: 8.4 | P13: 4.42 | Q13: 1 | R13: 4.41 | S13: 364
A14: 10 | B14: ='Noms & Dates'!B12 -> ZZRX | C14: ='Noms & Dates'!C12 -> 45357 | D14: 0.35 | E14: 0.49 | F14: 0.37 | G14: 3.36 | H14: 9.45 | I14: 2.76 | J14: 5.56 | K14: / | L14: 32.2 | M14: 3.01 | N14: 440 | O14: 3.57 | P14: 1.22 | Q14: 31.4 | R14: 5.22 | S14: 603
A15: 11 | B15: ='Noms & Dates'!B13 -> CS | C15: ='Noms & Dates'!C13 -> 45364
A16: 12 | B16: ='Noms & Dates'!B14 -> BQ | C16: ='Noms & Dates'!C14 -> 45371 | D16: 0.31 | E16: 0.43 | F16: 0.32 | G16: / | H16: 8.511 | I16: / | J16: 9.6 | K16: / | L16: 25 | M16: 5.6 | N16: 384 | O16: 8.76 | P16: 7.42 | Q16: 81.7 | R16: 8.77 | S16: 959
A17: 13 | B17: ='Noms & Dates'!B15 -> QT | C17: ='Noms & Dates'!C15 -> 45378 | D17: 0.33 | E17: 0.39 | F17: 0.34 | J17: 6.297 | L17: 58.8 | M17: 2.5 | N17: 188 | O17: 2.6 | P17: 6.41 | Q17: 53 | R17: 3.42 | S17: 4408
A18: 14 | B18: ='Noms & Dates'!B16 -> OO | C18: ='Noms & Dates'!C16 -> 45385 | D18: 0.39 | E18: 0.49 | F18: 0.39 | G18: / | H18: 4.49 | I18: / | J18: 5.5 | K18: / | L18: 74 | M18: 1.4 | N18: 900 | O18: 9 | P18: 6.23 | Q18: 67.5 | R18: 1.6 | S18: 3
A19: 15 | B19: ='Noms & Dates'!B17 -> QU | C19: ='Noms & Dates'!C17 -> 45393 | D19: 0.33 | E19: 0.42 | F19: 0.30 | H19: 7.57 | J19: 5.09 | L19: 49.8 | M19: 9.46 | N19: 386 | O19: 6.32 | P19: 4.99 | Q19: 33.8 | R19: 2.21 | S19: 985
A20: 16 | B20: ='Noms & Dates'!B18 -> BN | C20: ='Noms & Dates'!C18 -> 45399 | D20: 0.33 | E20: 0.46 | J20: 5.64 | L20: 11.6 | M20: 8.52 | N20: 290 | O20: 1.59 | P20: 3.7 | Q20: 16.7 | R20: 2.79 | S20: 347
A21: 17 | B21: ='Noms & Dates'!B19 -> AH | C21: ='Noms & Dates'!C19 -> 45407 | D21: 0.32 | E21: 0.49 | F21: 0.32 | G21: 1.11 | H21: 8.14 | I21: 3.38 | J21: 4.2 | K21: 7.37 | L21: 30 | M21: 9.15 | N21: 951 | O21: 2.31 | P21: 7.69 | Q21: 55 | R21: 9.91 | S21: 125
A22: 18 | B22: ='Noms & Dates'!B20 -> YP | C22: ='Noms & Dates'!C20 -> 45414 | D22: 0.27 | E22: 0.41 | F22: 0.3 | G22: 9.5 | H22: 6.1 | I22: 1.38 | J22: 8.4 | K22: / | L22: 17 | M22: 6.18 | N22: 645 | O22: 1.2 | P22: 9.26 | Q22: 68.9 | R22: 6.31 | S22: 180
A23: 19 | B23: ='Noms & Dates'!B21 -> KB | C23: ='Noms & Dates'!C21 -> 45421 | D23: 0.24 | E23: 0.34 | F23: 0.24 | H23: 9.04 | J23: 8.84 | L23: 40 | M23: 1.4 | N23: 937 | O23: 5.2 | P23: 2.39 | Q23: 29.0 | R23: 1.15 | S23: 842
A24: 20 | B24: ='Noms & Dates'!B22 -> UX | C24: ='Noms & Dates'!C22 -> 45427 | D24: 0.3 | E24: 0.49 | F24: 0.34 | G24: 4.31 | H24: 8.9 | I24: 2.33 | J24: 1.41 | K24: / | L24: 92.4 | M24: 4.85 | N24: 571 | O24: 9.67 | P24: 3.84 | Q24: 98.4 | R24: 5.95 | S24: 498
A25: 21 | B25: ='Noms & Dates'!B23 -> 0 | C25: ='Noms & Dates'!C23 -> 0
A26: 22 | B26: ='Noms & Dates'!B24 -> OP | C26: ='Noms & Dates'!C24 -> 45442 | D26: 0.29 | E26: 0.38 | F26: 0.27 | G26: 2.33 | H26: 4.79 | I26: 9.45 | J26: 3.2 | K26: / | L26: 80 | M26: 8.4 | N26: 461 | O26: 1.72 | P26: 7.66 | Q26: 96.6 | R26: 8.54 | S26: 737
A27: 23 | B27: ='Noms & Dates'!B25 -> QQI | C27: ='Noms & Dates'!C25 -> 45448 | D27: 0.32 | E27: 0.42 | F27: 0.32 | J27: 6.26 | L27: 10 | M27: 3.7 | N27: 693 | O27: 5.38 | P27: 7.37 | Q27: 53 | R27: 8 | S27: 985
A28: 24 | B28: ='Noms & Dates'!B26 -> KQ | C28: ='Noms & Dates'!C26 -> 45455 | D28: 0.26 | E28: 0.45 | F28: 0.34 | G28: 3.67 | H28: 9.39 | I28: 5.1 | J28: 3 | K28: / | L28: 14.4 | M28: 4.61 | N28: 511 | O28: 1.7 | P28: 9.77 | Q28: 37.5 | R28: 3.88 | S28: 790
A29: 25 | B29: ='Noms & Dates'!B27 -> MR | C29: ='Noms & Dates'!C27 -> 45462 | D29: 0.3 | E29: 0.48 | F29: 0.31 | H29: 8.7 | J29: 2.8 | L29: 57.5 | M29: 8.4 | N29: 480 | O29: 7.56 | P29: 4.41 | Q29: 56.7 | R29: 5.03 | S29: 715
A30: 26 | B30: ='Noms & Dates'!B28 -> JP | C30: ='Noms & Dates'!C28 -> 45471 | D30: 0.21 | E30: 0.34 | F30: 0.24 | G30: / | H30: 3.054 | I30: / | J30: 8.63 | K30: / | L30: 64.7 | M30: 2.87 | N30: 489 | O30: 7.81 | P30: 2.47 | Q30: 86 | R30: 4.6 | S30: 744
A31: 27 | B31: ='Noms & Dates'!B29 -> JJ | C31: ='Noms & Dates'!C29 -> 45476 | D31: 0.28 | E31: 0.39 | F31: 0.28 | G31: 2.53 | H31: 9.08 | I31: 4.18 | J31: 5.55 | K31: 8.15 | L31: 37.8 | M31: 1.9 | N31: 587 | O31: 3.3 | P31: 4.3 | Q31: 15 | R31: 2 | S31: 255
A32: 28 | B32: ='Noms & Dates'!B30 -> PHW | C32: ='Noms & Dates'!C30 -> 45483 | D32: 0.36 | E32: 0.45 | F32: 0.39 | J32: 2.62 | L32: 66 | M32: 4.92 | N32: 297 | O32: 6.8 | P32: 3.07 | Q32: 58.3 | R32: 6.19 | S32: 207
A33: 29 | B33: ='Noms & Dates'!B31 -> HL | C33: ='Noms & Dates'!C31 -> 45490 | D33: 0.3 | E33: 0.35 | F33: 0.31 | H33: 4.91 | I33: 5.66 | J33: 2.23 | L33: 75.1 | M33: 8.02 | N33: 333 | O33: 6.51 | P33: 4.1 | Q33: 86.8 | R33: 4.46 | S33: 277
A34: 30 | B34: ='Noms & Dates'!B32 -> FZ | C34: ='Noms & Dates'!C32 -> lundi 24 juillet 2024
A35: 31 | B35: ='Noms & Dates'!B33 -> IM | C35: ='Noms & Dates'!C33 -> 45504 | D35: 0.28 | E35: 0.43 | F35: 0.31 | G35: 7.18 | H35: 9.9 | I35: 6.09 | J35: 7.81 | K35: / | L35: 32 | M35: 6.69 | N35: 311 | O35: 3.12 | P35: 8.29 | Q35: 81 | R35: 9.64 | S35: 113
A36: 32 | B36: ='Noms & Dates'!B34 -> HQ | C36: ='Noms & Dates'!C34 -> 45417 | D36: 0.29 | E36: 0.29 | F36: 0.28 | G36: / | H36: 1.518 | J36: 8.04 | K36: / | L36: 92 | M36: 7.1 | N36: 527 | O36: 8.03 | P36: 9.9 | Q36: 76.7 | R36: 8.54 | S36: 111
A37: 33 | B37: ='Noms & Dates'!B35 -> 0 | C37: ='Noms & Dates'!C35 -> 0
A38: 34 | B38: ='Noms & Dates'!B36 -> 0 | C38: ='Noms & Dates'!C36 -> 0
A39: 35 | B39: ='Noms & Dates'!B37 -> 0 | C39: ='Noms & Dates'!C37 -> 0
A40: 36 | B40: ='Noms & Dates'!B38 -> 0 | C40: ='Noms & Dates'!C38 -> 0
...

Sheet Méan
A1: Méan | Z1: Observations
A2: Semaines | B2: Noms | C2: Dates | D2: Distribution | O2: Adduction | T2: Javel
D3: 1ère Analyse | F3: 2ème Analyse | H3: Moyenne | J3: Affichage | K3: Valeur calibrée | L3: Température | M3: pH | N3: Conductivité | O3: Cl Libre | P3: Cl Total | Q3: Température | R3: pH | S3: Conductivité | T3: Niveau cuve | X3: Stocks bidons
D4: Cl Libre | E4: Cl Total | F4: Cl Libre | G4: Cl Total | H4: Cl Libre | I4: Cl Total | L4: °C | N4: µs/cm | Q4: °C | S4: µs/cm | T4: Niveau précedent | U4: Niveau actuel | V4: Consommation | W4: Rajouts | X4: Pleins | Y4: Vides
A5: 1 | B5: ='Noms & Dates'!B3 -> PT | C5: ='Noms & Dates'!C3 -> 45292 | D5: 4.58 | E5: 4.55 | J5: 1.56 | L5: 73.1 | M5: 9 | N5: 228 | T5: 29 | U5: 20 | V5: 50 | X5: 57 | Y5: 38
A6: 2 | B6: ='Noms & Dates'!B4 -> EAQ | C6: ='Noms & Dates'!C4 -> 45299 | D6: 9.37 | E6: 3.07 | F6: 4.99 | G6: / | H6: 9.722 | I6: / | J6: 6.62 | K6: / | L6: 92.1 | M6: 2.7 | N6: 368 | O6: 1 | P6: 6.28 | Q6: 85 | R6: 4.3 | S6: 894 | T6: 74 | U6: 940 | V6: 17 | W6: 74 | X6: 19 | Y6: 76
A7: 3 | B7: ='Noms & Dates'!B5 -> AQQ | C7: ='Noms & Dates'!C5 -> 45306 | D7: 8.13 | E7: 7.8 | F7: 9.59 | H7: 2.72 | I7: 5.76 | J7: 3.32 | K7: 6.39 | L7: 98.6 | M7: 5.54 | N7: 799 | O7: 3.5 | P7: 1.3 | Q7: 87.7 | R7: 3.88 | S7: 947 | T7: 597 | U7: 82 | V7: 49 | W7: 28 | X7: 10 | Y7: 76 | Z7: gmndwgvj lmbfdxxsi zm 9,53 a 9,67
A8: 4 | B8: ='Noms & Dates'!B6 -> HYR | C8: ='Noms & Dates'!C6 -> 45313 | D8: 8.41 | E8: 7.55 | F8: 5.96 | H8: 3.3 | I8: 2.05 | J8: 6.58 | K8: / | L8: 4 | M8: 6.2 | N8: 802 | O8: 5.42 | P8: 6.19 | Q8: 24.5 | R8: 4.91 | S8: 606 | T8: 877 | U8: 44 | V8: 79 | W8: 23 | X8: 4 | Y8: 78
A9: 5 | B9: ='Noms & Dates'!B7 -> OMF | C9: ='Noms & Dates'!C7 -> 45321 | D9: 9.19 | E9: 5.9 | F9: 9.41 | J9: 9.93 | L9: 55 | M9: 3.6 | N9: 347 | P9: 9.1 | Q9: 86 | R9: 6.2 | S9: 572 | T9: 58 | U9: 25 | V9: 20 | W9: 27 | X9: 3 | Y9: 37
A10: 6 | B10: ='Noms & Dates'!B8 -> LSH | C10: ='Noms & Dates'!C8 -> 45335 | T10: 92
A11: 7 | B11: ='Noms & Dates'!B9 -> 0 | C11: ='Noms & Dates'!C9 -> 0 | D11: 5.15 | E11: 2.45 | F11: 7.04 | J11: 6.87 | L11: 38 | M11: 2 | N11: 991 | Q11: 60.5 | R11: 6.23 | S11: 370 | T11: ? | U11: 61 | V11: ? | W11: 98 | X11: 1 | Y11: 89
A12: 8 | B12: ='Noms & Dates'!B10 -> HNJ | C12: ='Noms & Dates'!C10 -> 45342 | D12: 5.6 | E12: 1.4 | F12: 8.48 | H12: 3.72 | J12: 2.9 | K12: 3.65 | L12: 41.6 | M12: 4.26 | N12: 673 | O12: 5.7 | P12: 3.51 | Q12: 1.4 | R12: 6.17 | S12: 379 | T12: 98 | U12: 19 | V12: 53 | X12: 8 | Y12: 42
A13: 9 | B13: ='Noms & Dates'!B11 -> NYW | C13: ='Noms & Dates'!C11 -> 45349 | D13: 6.24 | E13: 7.31 | F13: 8.1 | G13: / | H13: 3.15 | J13: 7.87 | K13: / | L13: 11.5 | M13: 8.76 | N13: 563 | O13: 4.55 | P13: 9.42 | Q13: 7.2 | R13: 6.84 | S13: 985 | T13: 61 | U13: 30 | V13: 91 | W13: 44 | X13: 91 | Y13: 4
A14: 10 | B14: ='Noms & Dates'!B12 -> ZZRX | C14: ='Noms & Dates'!C12 -> 45357 | D14: 9.79 | E14: 1.67 | F14: 2.66 | G14: 3.41 | H14: 5.43 | I14: 4.36 | J14: 9.74 | K14: 3.89 | L14: 9.7 | M14: 2.34 | N14: 627 | O14: 7.53 | P14: 3.24 | Q14: 7.1 | R14: 4.49 | S14: 376 | T14: 49 | U14: 38 | V14: 49 | W14: 97 | X14: 35 | Y14: 55
A15: 11 | B15: ='Noms & Dates'!B13 -> CS | C15: ='Noms & Dates'!C13 -> 45364 | D15: 1.5 | E15: 3.4 | F15: 7.68 | H15: 6.45 | J15: 5.79 | L15: 63.6 | M15: 7.76 | N15: 687 | O15: 8.17 | P15: 3.23 | Q15: 88 | R15: 7.5 | S15: 813 | T15: 73 | U15: 22 | V15: 78 | X15: 76 | Y15: 83
A16: 12 | B16: ='Noms & Dates'!B14 -> BQ | C16: ='Noms & Dates'!C14 -> 45371 | D16: 7.39 | E16: 3.1 | F16: 7.06 | G16: / | H16: 1.1 | J16: 1.03 | K16: / | L16: 60.3 | M16: 5.91 | N16: 552 | P16: 5.28 | Q16: 50.1 | R16: 5.6 | S16: 585 | T16: 66 | U16: 96 | V16: 13 | W16: 14 | X16: 55 | Y16: 46
A17: 13 | B17: ='Noms & Dates'!B15 -> QT | C17: ='Noms & Dates'!C15 -> 45378 | D17: 4.7 | E17: 9.7 | F17: 2.17 | G17: 2.51 | H17: 5.7 | J17: 8.51 | K17: 8.34 | L17: 79.7 | M17: 9.4 | N17: 631 | O17: 3.76 | P17: 9.97 | Q17: 45.5 | R17: 5.7 | S17: 174 | T17: 13 | U17: 75 | V17: 5 | X17: 81 | Y17: 63
A18: 14 | B18: ='Noms & Dates'!B16 -> OO | C18: ='Noms & Dates'!C16 -> 45385 | D18: 1.88 | E18: 1.63 | F18: 1.16 | G18: / | H18: 4.98 | I18: / | J18: 3.35 | K18: 8.18 | L18: 89.5 | M18: 3.47 | N18: 832 | O18: 7.12 | P18: 5.16 | Q18: 57.3 | R18: 7.59 | S18: 817 | T18: 94 | U18: 57 | V18: 71 | W18: 22 | X18: 13 | Y18: 28
A19: 15 | B19: ='Noms & Dates'!B17 -> QU | C19: ='Noms & Dates'!C17 -> 45393 | D19: 1.44 | E19: 3.22 | F19: 1.90 | H19: 3.45 | J19: 5.97 | L19: 97.0 | M19: 1.38 | N19: 610 | O19: 3.88 | P19: 9.14 | Q19: 20.1 | R19: 5.4 | S19: 400 | T19: 18 | U19: 41 | V19: 85 | X19: 95 | Y19: 11 | Z19: 56 dsmniw flyahj
A20: 16 | B20: ='Noms & Dates'!B18 -> BN | C20: ='Noms & Dates'!C18 -> 45399 | D20: 6.3 | E20: 6.6 | J20: 3.48 | L20: 74.9 | M20: 8.52 | N20: 829 | O20: 4.9 | P20: 5.66 | Q20: 22.9 | R20: 3.1 | S20: 894 | T20: 29 | U20: 46 | V20: 99 | W20: 43 | X20: 61 | Y20: 64
A21: 17 | B21: ='Noms & Dates'!B19 -> AH | C21: ='Noms & Dates'!C19 -> 45407 | D21: 2.73 | E21: 3.49 | F21: 2.46 | G21: 4 | H21: 9.34 | I21: 1.35 | J21: 2.59 | K21: / | L21: 24 | M21: 2.09 | N21: 403 | O21: 8.7 | P21: 9.77 | Q21: 50.8 | R21: 4.33 | S21: 980 | T21: 50 | U21: 82 | V21: 35 | X21: 44 | Y21: 63
A22: 18 | B22: ='Noms & Dates'!B20 -> YP | C22: ='Noms & Dates'!C20 -> 45414 | D22: 7.49 | E22: 7.69 | F22: 3.03 | G22: 7.2 | H22: 2.95 | I22: 2.48 | J22: 3.61 | K22: / | L22: 67 | M22: 4.03 | N22: 905 | O22: 5.59 | P22: 4.31 | Q22: 72.9 | R22: 1.53 | S22: 885 | T22: 87 | U22: 13 | V22: 27 | X22: 34 | Y22: 48
A23: 19 | B23: ='Noms & Dates'!B21 -> KB | C23: ='Noms & Dates'!C21 -> 45421 | D23: 7.69 | E23: 1.70 | F23: 2.17 | H23: 6.50 | J23: 7.24 | L23: 60.8 | M23: 4.11 | N23: 964 | O23: 6.5 | P23: 6.67 | Q23: 59.9 | R23: 5.7 | S23: 326 | T23: 20 | U23: 77 | V23: 81 | X23: 25 | Y23: 99
A24: 20 | B24: ='Noms & Dates'!B22 -> UX | C24: ='Noms & Dates'!C22 -> 45427 | D24: 9.5 | E24: 9.74 | F24: 7.52 | G24: 2.69 | H24: 8.2 | I24: 4.28 | J24: 3.6 | K24: 9.9 | L24: 94 | M24: 8.62 | N24: 383 | O24: 2.15 | P24: 3.19 | Q24: 33 | R24: 3.92 | S24: 524 | T24: 74 | U24: 57 | V24: 14 | W24: 67 | X24: 26 | Y24: 44 | Z24: mjxjkxli savfhadb s 8,73
A25: 21 | B25: ='Noms & Dates'!B23 -> 0 | C25: ='Noms & Dates'!C23 -> 0 | T25: 20
A26: 22 | B26: ='Noms & Dates'!B24 -> OP | C26: ='Noms & Dates'!C24 -> 45442 | D26: 1.61 | E26: 6.36 | F26: 3.97 | G26: 9.23 | H26: 1.85 | I26: 4.17 | J26: 8.91 | K26: / | L26: 43.4 | M26: 6.59 | N26: 121 | O26: 3.01 | P26: 8.8 | Q26: 28.4 | R26: 1.62 | S26: 654 | T26: 71 | U26: 87 | V26: 39 | X26: 30 | Y26: 46
A27: 23 | B27: ='Noms & Dates'!B25 -> QQI | C27: ='Noms & Dates'!C25 -> 45448 | D27: 7.47 | E27: 2.3 | F27: 240 | J27: 6.91 | L27: 99 | M27: 2.4 | N27: 680 | O27: 2.95 | P27: 2.96 | Q27: 56 | R27: 4.7 | S27: 348 | T27: 87 | U27: 54 | V27: 75 | W27: 55
A28: 24 | B28: ='Noms & Dates'!B26 -> KQ | C28: ='Noms & Dates'!C26 -> 45455 | D28: 8.76 | E28: 4 | F28: 5.46 | G28: 1 | H28: 3.28 | I28: 4.86 | J28: 1.02 | K28: 5.72 | L28: 29.3 | M28: 3.48 | N28: 735 | O28: 7.18 | P28: 5.39 | Q28: 49.39 | R28: 5.25 | S28: 363 | T28: 87 | U28: 99 | V28: 83 | X28: 7 | Y28: 66 | Z28: uzdrcgjq tkuovrzis gy 4,55 l 4,09
A29: 25 | B29: ='Noms & Dates'!B27 -> MR | C29: ='Noms & Dates'!C27 -> 45462 | D29: 4 | E29: 6.92 | F29: 3 | H29: 6.8 | J29: 3.19 | L29: 69.9 | M29: 3.85 | N29: 221 | O29: 7.11 | P29: 7.7 | Q29: 47.4 | R29: 8.56 | S29: 471 | T29: 76 | U29: 26 | V29: 8 | X29: 64
A30: 26 | B30: ='Noms & Dates'!B28 -> JP | C30: ='Noms & Dates'!C28 -> 45471 | D30: 7.03 | F30: 5.46 | H30: 5.61 | J30: 6.97 | K30: 5.63 | L30: 35.6 | M30: 3.33 | N30: 381 | O30: 1.59 | P30: 7.18 | Q30: 16.4 | R30: 5.29 | S30: 947 | T30: 82 | U30: 84 | V30: 51 | W30: 47 | X30: 78 | Y30: 4 | Z30: crfjakwe ctwubxedg sy 5,16 g 3,91
A31: 27 | B31: ='Noms & Dates'!B29 -> JJ | C31: ='Noms & Dates'!C29 -> 45476 | D31: 2.6 | E31: 1.77 | F31: 9.43 | G31: 4.48 | H31: 5.11 | I31: 2.05 | J31: 9.97 | K31: / | L31: 15.4 | M31: 7.62 | N31: 642 | O31: 1.63 | P31: 5.45 | Q31: 10 | R31: 2.13 | S31: 258 | T31: 86 | U31: 95 | V31: 93 | X31: 26 | Y31: 4
A32: 28 | B32: ='Noms & Dates'!B30 -> PHW | C32: ='Noms & Dates'!C30 -> 45483 | D32: 3.72 | E32: 5.7 | F32: 3.31 | J32: 8.35 | L32: 16.8 | M32: 6.11 | N32: 136 | O32: 8.8 | P32: 5.24 | Q32: 44 | R32: 1 | S32: 551 | T32: 89 | U32: 67 | V32: 12 | W32: 65 | X32: 85 | Y32: 5
A33: 29 | B33: ='Noms & Dates'!B31 -> HL | C33: ='Noms & Dates'!C31 -> 45490 | D33: 4.25 | E33: 3.47 | F33: 3.7 | J33: 3.33 | L33: 29.6 | M33: 2.47 | N33: 797 | O33: 9.75 | P33: 2.06 | Q33: 15.3 | R33: 5.21 | S33: 790 | T33: 86 | U33: 52 | V33: 4 | W33: 92 | X33: 12 | Y33: 6
A34: 30 | B34: ='Noms & Dates'!B32 -> FZ | C34: ='Noms & Dates'!C32 -> lundi 24 juillet 2024 | D34: 1.36 | E34: 8.9 | J34: 4.51 | L34: 13.2 | M34: 6.39 | N34: 963 | Q34: 34.9 | R34: 7.61 | S34: 173 | T34: 50 | U34: 85 | V34: 44 | W34: 81 | X34: 99 | Y34: 4 | Z34: 5 jmykb thmewg qreb Lxybs
A35: 31 | B35: ='Noms & Dates'!B33 -> IM | C35: ='Noms & Dates'!C33 -> 45504 | D35: 3.56 | E35: 5.39 | F35: 6.64 | G35: 5.91 | H35: 8.32 | I35: 7.95 | J35: 1.88 | K35: / | L35: 54.3 | M35: 4.16 | N35: 324 | O35: 2.36 | P35: 4.63 | Q35: 21.9 | R35: 8.8 | S35: 749 | T35: 62 | U35: 42 | V35: 8 | X35: 98 | Y35: 6
A36: 32 | B36: ='Noms & Dates'!B34 -> HQ | C36: ='Noms & Dates'!C34 -> 45417 | D36: 2.6 | E36: 1.61 | F36: 8.1 | G36: / | H36: 7.734 | I36: / | J36: 5.3 | K36: / | L36: 80 | M36: 8.55 | N36: 187 | O36: 5.01 | P36: 8.81 | Q36: 10.3 | R36: 2.67 | S36: 381 | T36: 66 | U36: 8
A37: 33 | B37: ='Noms & Dates'!B35 -> 0 | C37: ='Noms & Dates'!C35 -> 0
A38: 34 | B38: ='Noms & Dates'!B36 -> 0 | C38: ='Noms & Dates'!C36 -> 0
A39: 35 | B39: ='Noms & Dates'!B37 -> 0 | C39: ='Noms & Dates'!C37 -> 0
A40: 36 | B40: ='Noms & Dates'!B38 -> 0 | C40: ='Noms & Dates'!C38 -> 0
...

Sheet MDP
A1: MDP | W1: Observations
A2: Semaines | B2: Noms | C2: Dates | D2: Distribution | O2: Adduction | T2: Javel
D3: 1ère Analyse | F3: 2ème Analyse | H3: Moyenne | J3: Affichage | K3: Valeur calibrée | L3: Température | M3: pH | N3: Conductivité | O3: Cl Libre | P3: Cl Total | Q3: Température | R3: pH | S3: Conductivité | T3: Niveau cuve (1000L)
D4: Cl Libre | E4: Cl Total | F4: Cl Libre | G4: Cl Total | H4: Cl Libre | I4: Cl Total | L4: °C | N4: µs/cm | Q4: °C | S4: µs/cm | T4: Niveau précedent | U4: Niveau actuel | V4: Consommation
A5: 1 | B5: ='Noms & Dates'!B3 -> PT | C5: ='Noms & Dates'!C3 -> 45292 | D5: 2.94 | E5: 5.55 | F5: 1.18 | G5: 5.7 | H5: 3.17 | J5: 2.23 | L5: 22.5 | M5: 5.84 | N5: 382 | O5: / | Q5: 98.4 | R5: 4.87 | S5: 613 | T5: 947 | U5: 854 | V5: 43
A6: 2 | B6: ='Noms & Dates'!B4 -> EAQ | C6: ='Noms & Dates'!C4 -> 45299 | D6: 4.48 | E6: 3.33 | F6: 2.44 | G6: / | H6: 2.31 | I6: / | J6: 5.6 | K6: 3.38 | L6: 65.8 | M6: 1.5 | N6: 836 | O6: 7.77 | P6: 4.19 | Q6: 33.1 | R6: 2.9 | S6: 402 | T6: 799 | U6: 799 | V6: 25
A7: 3 | B7: ='Noms & Dates'!B5 -> AQQ | C7: ='Noms & Dates'!C5 -> 45306 | D7: 2.9 | E7: 3.09 | F7: 5.46 | H7: 5.92 | I7: 7.15 | J7: 5.03 | K7: / | L7: 91 | M7: 4.47 | N7: 903 | O7: 9.53 | P7: 6.51 | Q7: 78.1 | R7: 3.59 | S7: 824 | T7: 200 | U7: 549 | V7: 92
A8: 4 | B8: ='Noms & Dates'!B6 -> HYR | C8: ='Noms & Dates'!C6 -> 45313 | D8: 7.42 | E8: 4.59 | F8: 8.1 | H8: 7.7 | I8: 1.4 | J8: 2.03 | K8: 5.9 | L8: 2.2 | M8: 2.66 | N8: 175 | O8: 7.95 | P8: 8.63 | Q8: 3.1 | R8: 2.55 | S8: 497 | T8: 414 | U8: 747 | V8: 14 | W8: nkztqf vl cyscryds gijnq pj 126tx/w h 945gl/c
A9: 5 | B9: ='Noms & Dates'!B7 -> OMF | C9: ='Noms & Dates'!C7 -> 45321 | D9: 1.7 | E9: 9.66 | F9: 2.9 | J9: 7.48 | K9: 1.7 | L9: 8 | M9: 7.69 | N9: 379 | O9: 3.86 | P9: 9.84 | Q9: 7 | R9: 5.57 | S9: 153 | T9: 178 | U9: 146 | V9: 93
A10: 6 | B10: ='Noms & Dates'!B8 -> LSH | C10: ='Noms & Dates'!C8 -> 45335 | D10: 1.52 | E10: 2.63 | F10: 7.03 | J10: 1.03 | K10: 5.88 | L10: 5.6 | M10: 2.41 | N10: 645 | O10: 4.48 | P10: 8.01 | Q10: 79 | R10: 4.07 | S10: 921 | U10: 866
A11: 7 | B11: ='Noms & Dates'!B9 -> 0 | C11: ='Noms & Dates'!C9 -> 0
A12: 8 | B12: ='Noms & Dates'!B10 -> HNJ | C12: ='Noms & Dates'!C10 -> 45342 | D12: 1.87 | E12: 8.65 | F12: 6.83 | H12: 1.01 | J12: 6.52 | K12: 6.2 | L12: 9.1 | M12: 6.49 | N12: 702 | O12: 2.9 | P12: 7.1 | Q12: 7.7 | R12: 1.26 | S12: 724 | T12: 168 | U12: 265 | V12: 87 | W12: wjbddn sohssptd fmane ou 950wq/n v 313mc/u
A13: 9 | B13: ='Noms & Dates'!B11 -> NYW | C13: ='Noms & Dates'!C11 -> 45349 | D13: 6.52 | E13: 1.5 | F13: 2.81 | G13: / | H13: 6.28 | I13: / | J13: 5.07 | K13: / | L13: 38.3 | M13: 5.65 | N13: 958 | O13: 1.08 | P13: 3.7 | Q13: 7.7 | R13: 1.01 | S13: 612 | T13: 525 | U13: 985 | V13: 28
A14: 10 | B14: ='Noms & Dates'!B12 -> ZZRX | C14: ='Noms & Dates'!C12 -> 45357 | D14: 9.52 | E14: 9.36 | F14: 7.22 | G14: 3.58 | H14: 1.03 | I14: 6.37 | J14: 9.08 | K14: / | L14: 79 | M14: 4.32 | N14: 996 | O14: 4.13 | P14: 2.37 | Q14: 6 | R14: 2.19 | S14: 525 | T14: 739 | U14: 858 | V14: 35
A15: 11 | B15: ='Noms & Dates'!B13 -> CS | C15: ='Noms & Dates'!C13 -> 45364 | D15: 4.54 | E15: 7.19 | F15: 7.02 | H15: 6 | J15: 9.54 | L15: 75 | M15: 5.28 | N15: 349 | O15: 9.47 | P15: 4.88 | Q15: 29.3 | R15: 2.19 | S15: 208 | T15: 715 | U15: 716 | V15: 67
A16: 12 | B16: ='Noms & Dates'!B14 -> BQ | C16: ='Noms & Dates'!C14 -> 45371 | D16: 5.22 | E16: 9.57 | F16: 4.8 | G16: / | H16: 4.53 | I16: / | J16: 5.15 | K16: 8.41 | L16: 46 | M16: 6.68 | N16: 759 | O16: 4.38 | P16: 2.23 | Q16: 78 | R16: 7.17 | S16: 430 | T16: 968 | U16: 715 | V16: 51
A17: 13 | B17: ='Noms & Dates'!B15 -> QT | C17: ='Noms & Dates'!C15 -> 45378 | D17: 8.28 | E17: 8.19 | F17: 5.27 | G17: 2.91 | J17: 6.31 | L17: 91.3 | M17: 3.63 | N17: 755 | O17: 7.24 | P17: 5.06 | Q17: 30 | R17: 8.5 | S17: 4854 | T17: 169 | U17: 220 | V17: 12
A18: 14 | B18: ='Noms & Dates'!B16 -> OO | C18: ='Noms & Dates'!C16 -> 45385 | D18: 3.2 | E18: 5.92 | F18: 6.21 | G18: / | H18: 8.9 | I18: / | J18: 3.93 | K18: / | L18: 49 | M18: 7 | N18: 119 | O18: 6.7 | P18: 8.4 | Q18: 38.8 | R18: 6.83 | S18: 749 | T18: 514 | U18: 954 | V18: 37
A19: 15 | B19: ='Noms & Dates'!B17 -> QU | C19: ='Noms & Dates'!C17 -> 45393 | D19: 1.34 | E19: 8.23 | F19: 3.34 | H19: 9.97 | J19: 2.31 | L19: 93.7 | M19: 6.90 | N19: 793 | O19: 4.13 | P19: 9.70 | Q19: 97 | R19: 9.91 | S19: 708 | T19: 426 | U19: 947 | V19: 55
A20: 16 | B20: ='Noms & Dates'!B18 -> BN | C20: ='Noms & Dates'!C18 -> 45399 | D20: 6.91 | E20: 5.99 | J20: 7.39 | L20: 82.9 | M20: 6.09 | N20: 621 | O20: 7.16 | P20: 6.54 | Q20: 64.9 | R20: 1.33 | S20: 895 | T20: 293 | U20: 306 | V20: 76
A21: 17 | B21: ='Noms & Dates'!B19 -> AH | C21: ='Noms & Dates'!C19 -> 45407 | D21: 7.17 | E21: 9.9 | F21: 7.69 | G21: 9.2 | H21: 4.63 | I21: 5.1 | J21: 6.62 | K21: 9.8 | L21: 50.4 | M21: 4.52 | N21: 663 | O21: 1.82 | P21: 8.85 | Q21: 27.4 | R21: 3.24 | S21: 343 | T21: 430 | U21: 676 | V21: 84
A22: 18 | B22: ='Noms & Dates'!B20 -> YP | C22: ='Noms & Dates'!C20 -> 45414 | D22: 5.8 | E22: 9.73 | F22: 6.66 | G22: 8.46 | H22: 9.73 | I22: 3.34 | J22: 8.3 | K22: / | L22: 53.1 | M22: 6.97 | N22: 953 | O22: 5.57 | P22: 3.84 | Q22: 25.2 | R22: 5.49 | S22: 668 | T22: 721 | U22: 324 | V22: 70
A23: 19 | B23: ='Noms & Dates'!B21 -> KB | C23: ='Noms & Dates'!C21 -> 45421 | D23: 5.52 | E23: 5.37 | F23: 4.06 | H23: 5.04 | J23: 6.73 | L23: 50.2 | M23: 8.72 | N23: 4939 | O23: 9.92 | P23: 1.14 | Q23: 73.5 | R23: 1.02 | S23: 765 | T23: 816 | U23: 6597
A24: 20 | B24: ='Noms & Dates'!B22 -> UX | C24: ='Noms & Dates'!C22 -> 45427 | D24: 1.76 | E24: 9.91 | F24: 3.21 | G24: 8.97 | H24: 4.7 | I24: 8.65 | J24: 4.29 | K24: / | L24: 33 | M24: 7.22 | N24: 333 | O24: 7.12 | P24: 8.6 | Q24: 56.6 | R24: 5.2 | S24: 567 | T24: 9795 | U24: 892 | V24: 39
A25: 21 | B25: ='Noms & Dates'!B23 -> 0 | C25: ='Noms & Dates'!C23 -> 0
