Workbook
Name Liste: Liste_Pâtisseries!$A$2:$A$13

Sheet Recettes
A1: Combien de pâtisseries | C1: 1 | D1: 1 | E1: 1 | F1: 1 | G1: 1
A3: RECETTES pour | C3: FLAN 6 | E3: CHEESECAKE 10
A4: INGREDIENTS et quantité souhaitée pour | C4: PÂTE SUCREE | D4: CREME PATISSIERE | E4: BISCUIT CHEESECAKE | F4: CREME CHEESE | G4: MOUSSE OREO | H4: GENOISE NATURE | I4: BISCUIT JOCONDE | J4: BISCUIT SNICKERS | K4: BISCUIT SUCCES AMANDE
B5: Total ingrédients | C5: 0.5 | D5: 1 | E5: 0.45 | F5: 0.5 | G5: 0.5
A6: Ingrédients | B6: Colonne15 | C6: Colonne1 | D6: Colonne2 | E6: Colonne3 | F6: Colonne4 | G6: Colonne5 | H6: Colonne6 | I6: Colonne7 | J6: Colonne8 | K6: Colonne9 | L6: Colonne10 | M6: Colonne11 | N6: Colonne12 | O6: Colonne13 | P6: Colonne14 | Q6: Colonne15 | R6: Colonne16 | S6: Colonne17 | T6: Colonne18 | U6: Colonne19 | V6: Colonne20 | W6: Colonne21 | X6: Colonne22 | Y6: Colonne23 | Z6: Colonne24 | AA6: Colonne25 | AB6: Colonne26 | AC6: Colonne27 | AD6: Colonne28 | AE6: Colonne29 | AF6: Colonne30 | AG6: Colonne31 | AH6: Colonne32 | AI6: Colonne33 | AJ6: Colonne34 | AK6: Colonne35
A7: Sucre Glace | B7: =SUM(C7:AK7) -> 0.11547344 | C7: {=IFERROR((INDEX(Tab_Composants[#All],MATCH(Tab_Recettes[[#This Row],[Ingrédients]:[Ingrédients]],Tab_Composants[[#All],[RECETTES et INGREDIENTS]:[RECETTES et INGREDIENTS]],0),MATCH(C$4,Tab_Composants[#Headers],0))*C$5)/HLOOKUP(C$4,Composant!$A$1:$AAB$2,2,0)*C$1,0)} -> 0.11547344 | D7: {=IFERROR((INDEX(Tab_Composants[#All],MATCH(Tab_Recettes[[#This Row],[Ingrédients]:[Ingrédients]],Tab_Composants[[#All],[RECETTES et INGREDIENTS]:[RECETTES et INGREDIENTS]],0),MATCH(D$4,Tab_Composants[#Headers],0))*D$5)/HLOOKUP(D$4,Composant!$A$1:$AAB$2,2,0)*D$1,0)} -> 0 | E7: {=IFERROR((INDEX(Tab_Composants[#All],MATCH(Tab_Recettes[[#This Row],[Ingrédients]:[Ingrédients]],Tab_Composants[[#All],[RECETTES et INGREDIENTS]:[RECETTES et INGREDIENTS]],0),MATCH(E$4,Tab_Composants[#Headers],0))*E$5)/HLOOKUP(E$4,Composant!$A$1:$AAB$2,2,0)*E$1,0)} -> 0 | F7: {=IFERROR((INDEX(Tab_Composants[#All],MATCH(Tab_Recettes[[#This Row],[Ingrédients]:[Ingrédients]],Tab_Composants[[#All],[RECETTES et INGREDIENTS]:[RECETTES et INGREDIENTS]],0),MATCH(F$4,Tab_Composants[#Headers],0))*F$5)/HLOOKUP(F$4,Composant!$A$1:$AAB$2,2,0)*F$1,0)} -> 0 | G7: {=IFERROR((INDEX(Tab_Composants[#All],MATCH(Tab_Recettes[[#This Row],[Ingrédients]:[Ingrédients]],Tab_Composants[[#All],[RECETTES et INGREDIENTS]:[RECETTES et INGREDIENTS]],0),MATCH(G$4,Tab_Composants[#Headers],0))*G$5)/HLOOKUP(G$4,Composant!$A$1:$AAB$2,2,0)*G$1,0)} -> 0 | H7: {=IFERROR((INDEX(Tab_Composants[#All],MATCH(Tab_Recettes[[#This Row],[Ingrédients]:[Ingrédients]],Tab_Composants[[#All],[RECETTES et INGREDIENTS]:[RECETTES et INGREDIENTS]],0),MATCH(H$4,Tab_Composants[#Headers],0))*H$5)/HLOOKUP(H$4,Composant!$A$1:$AAB$2,2,0)*H$1,0)} -> 0 | I7: {=IFERROR((INDEX(Tab_Composants[#All],MATCH(Tab_Recettes[[#This Row],[Ingrédients]:[Ingrédients]],Tab_Composants[[#All],[RECETTES et INGREDIENTS]:[RECETTES et INGREDIENTS]],0),MATCH(I$4,Tab_Composants[#Headers],0))*I$5)/HLOOKUP(I$4,Composant!$A$1:$AAB$2,2,0)*I$1,0)} -> 0 | J7: {=IFERROR((INDEX(Tab_Composants[#All],MATCH(Tab_Recettes[[#This Row],[Ingrédients]:[Ingrédients]],Tab_Composants[[#All],[RECETTES et INGREDIENTS]:[RECETTES et INGREDIENTS]],0),MATCH(J$4,Tab_Composants[#Headers],0))*J$5)/HLOOKUP(J$4,Composant!$A$1:$AAB$2,2,0)*J$1,0)} -> 0 | ... AK7: {=IFERROR((INDEX(Tab_Composants[#All],MATCH(Tab_Recettes[[#This Row],[Ingrédients]:[Ingrédients]],Tab_Composants[[#All],[RECETTES et INGREDIENTS]:[RECETTES et INGREDIENTS]],0),MATCH(AK$4,Tab_Composants[#Headers],0))*AK$5)/HLOOKUP(AK$4,Composant!$A$1:$AAB$2,2,0)*AK$1,0)} -> 0
A8: Œuf | B8: =SUM(C8:AK8) -> 0.099456875 | C8: {=IFERROR((INDEX(Tab_Composants[#All],MATCH(Tab_Recettes[[#This Row],[Ingrédients]:[Ingrédients]],Tab_Composants[[#All],[RECETTES et INGREDIENTS]:[RECETTES et INGREDIENTS]],0),MATCH(C$4,Tab_Composants[#Headers],0))*C$5)/HLOOKUP(C$4,Composant!$A$1:$AAB$2,2,0)*C$1,0)} -> 0.057736721 | D8: {=IFERROR((INDEX(Tab_Composants[#All],MATCH(Tab_Recettes[[#This Row],[Ingrédients]:[Ingrédients]],Tab_Composants[[#All],[RECETTES et INGREDIENTS]:[RECETTES et INGREDIENTS]],0),MATCH(D$4,Tab_Composants[#Headers],0))*D$5)/HLOOKUP(D$4,Composant!$A$1:$AAB$2,2,0)*D$1,0)} -> 0 | E8: {=IFERROR((INDEX(Tab_Composants[#All],MATCH(Tab_Recettes[[#This Row],[Ingrédients]:[Ingrédients]],Tab_Composants[[#All],[RECETTES et INGREDIENTS]:[RECETTES et INGREDIENTS]],0),MATCH(E$4,Tab_Composants[#Headers],0))*E$5)/HLOOKUP(E$4,Composant!$A$1:$AAB$2,2,0)*E$1,0)} -> 0 | F8: {=IFERROR((INDEX(Tab_Composants[#All],MATCH(Tab_Recettes[[#This Row],[Ingrédients]:[Ingrédients]],Tab_Composants[[#All],[RECETTES et INGREDIENTS]:[RECETTES et INGREDIENTS]],0),MATCH(F$4,Tab_Composants[#Headers],0))*F$5)/HLOOKUP(F$4,Composant!$A$1:$AAB$2,2,0)*F$1,0)} -> 0.041720154 | G8: {=IFERROR((INDEX(Tab_Composants[#All],MATCH(Tab_Recettes[[#This Row],[Ingrédients]:[Ingrédients]],Tab_Composants[[#All],[RECETTES et INGREDIENTS]:[RECETTES et INGREDIENTS]],0),MATCH(G$4,Tab_Composants[#Headers],0))*G$5)/HLOOKUP(G$4,Composant!$A$1:$AAB$2,2,0)*G$1,0)} -> 0 | H8: {=IFERROR((INDEX(Tab_Composants[#All],MATCH(Tab_Recettes[[#This Row],[Ingrédients]:[Ingrédients]],Tab_Composants[[#All],[RECETTES et INGREDIENTS]:[RECETTES et INGREDIENTS]],0),MATCH(H$4,Tab_Composants[#Headers],0))*H$5)/HLOOKUP(H$4,Composant!$A$1:$AAB$2,2,0)*H$1,0)} -> 0 | I8: {=IFERROR((INDEX(Tab_Composants[#All],MATCH(Tab_Recettes[[#This Row],[Ingrédients]:[Ingrédients]],Tab_Composants[[#All],[RECETTES et INGREDIENTS]:[RECETTES et INGREDIENTS]],0),MATCH(I$4,Tab_Composants[#Headers],0))*I$5)/HLOOKUP(I$4,Composant!$A$1:$AAB$2,2,0)*I$1,0)} -> 0 | J8: {=IFERROR((INDEX(Tab_Composants[#All],MATCH(Tab_Recettes[[#This Row],[Ingrédients]:[Ingrédients]],Tab_Composants[[#All],[RECETTES et INGREDIENTS]:[RECETTES et INGREDIENTS]],0),MATCH(J$4,Tab_Composants[#Headers],0))*J$5)/HLOOKUP(J$4,Composant!$A$1:$AAB$2,2,0)*J$1,0)} -> 0 | ... AK8: {=IFERROR((INDEX(Tab_Composants[#All],MATCH(Tab_Recettes[[#This Row],[Ingrédients]:[Ingrédients]],Tab_Composants[[#All],[RECETTES et INGREDIENTS]:[RECETTES et INGREDIENTS]],0),MATCH(AK$4,Tab_Composants[#Headers],0))*AK$5)/HLOOKUP(AK$4,Composant!$A$1:$AAB$2,2,0)*AK$1,0)} -> 0
A9: Levure | B9: =SUM(C9:AK9) -> 0 | C9: {=IFERROR((INDEX(Tab_Composants[#All],MATCH(Tab_Recettes[[#This Row],[Ingrédients]:[Ingrédients]],Tab_Composants[[#All],[RECETTES et INGREDIENTS]:[RECETTES et INGREDIENTS]],0),MATCH(C$4,Tab_Composants[#Headers],0))*C$5)/HLOOKUP(C$4,Composant!$A$1:$AAB$2,2,0)*C$1,0)} -> 0 | D9: {=IFERROR((INDEX(Tab_Composants[#All],MATCH(Tab_Recettes[[#This Row],[Ingrédients]:[Ingrédients]],Tab_Composants[[#All],[RECETTES et INGREDIENTS]:[RECETTES et INGREDIENTS]],0),MATCH(D$4,Tab_Composants[#Headers],0))*D$5)/HLOOKUP(D$4,Composant!$A$1:$AAB$2,2,0)*D$1,0)} -> 0 | E9: {=IFERROR((INDEX(Tab_Composants[#All],MATCH(Tab_Recettes[[#This Row],[Ingrédients]:[Ingrédients]],Tab_Composants[[#All],[RECETTES et INGREDIENTS]:[RECETTES et INGREDIENTS]],0),MATCH(E$4,Tab_Composants[#Headers],0))*E$5)/HLOOKUP(E$4,Composant!$A$1:$AAB$2,2,0)*E$1,0)} -> 0 | F9: {=IFERROR((INDEX(Tab_Composants[#All],MATCH(Tab_Recettes[[#This Row],[Ingrédients]:[Ingrédients]],Tab_Composants[[#All],[RECETTES et INGREDIENTS]:[RECETTES et INGREDIENTS]],0),MATCH(F$4,Tab_Composants[#Headers],0))*F$5)/HLOOKUP(F$4,Composant!$A$1:$AAB$2,2,0)*F$1,0)} -> 0 | G9: {=IFERROR((INDEX(Tab_Composants[#All],MATCH(Tab_Recettes[[#This Row],[Ingrédients]:[Ingrédients]],Tab_Composants[[#All],[RECETTES et INGREDIENTS]:[RECETTES et INGREDIENTS]],0),MATCH(G$4,Tab_Composants[#Headers],0))*G$5)/HLOOKUP(G$4,Composant!$A$1:$AAB$2,2,0)*G$1,0)} -> 0 | H9: {=IFERROR((INDEX(Tab_Composants[#All],MATCH(Tab_Recettes[[#This Row],[Ingrédients]:[Ingrédients]],Tab_Composants[[#All],[RECETTES et INGREDIENTS]:[RECETTES et INGREDIENTS]],0),MATCH(H$4,Tab_Composants[#Headers],0))*H$5)/HLOOKUP(H$4,Composant!$A$1:$AAB$2,2,0)*H$1,0)} -> 0 | I9: {=IFERROR((INDEX(Tab_Composants[#All],MATCH(Tab_Recettes[[#This Row],[Ingrédients]:[Ingrédients]],Tab_Composants[[#All],[RECETTES et INGREDIENTS]:[RECETTES et INGREDIENTS]],0),MATCH(I$4,Tab_Composants[#Headers],0))*I$5)/HLOOKUP(I$4,Composant!$A$1:$AAB$2,2,0)*I$1,0)} -> 0 | J9: {=IFERROR((INDEX(Tab_Composants[#All],MATCH(Tab_Recettes[[#This Row],[Ingrédients]:[Ingrédients]],Tab_Composants[[#All],[RECETTES et INGREDIENTS]:[RECETTES et INGREDIENTS]],0),MATCH(J$4,Tab_Composants[#Headers],0))*J$5)/HLOOKUP(J$4,Composant!$A$1:$AAB$2,2,0)*J$1,0)} -> 0 | ... AK9: {=IFERROR((INDEX(Tab_Composants[#All],MATCH(Tab_Recettes[[#This Row],[Ingrédients]:[Ingrédients]],Tab_Composants[[#All],[RECETTES et INGREDIENTS]:[RECETTES et INGREDIENTS]],0),MATCH(AK$4,Tab_Composants[#Headers],0))*AK$5)/HLOOKUP(AK$4,Composant!$A$1:$AAB$2,2,0)*AK$1,0)} -> 0
A10: Beurre | B10: =SUM(C10:AK10) -> 0.23705617 | C10: {=IFERROR((INDEX(Tab_Composants[#All],MATCH(Tab_Recettes[[#This Row],[Ingrédients]:[Ingrédients]],Tab_Composants[[#All],[RECETTES et INGREDIENTS]:[RECETTES et INGREDIENTS]],0),MATCH(C$4,Tab_Composants[#Headers],0))*C$5)/HLOOKUP(C$4,Composant!$A$1:$AAB$2,2,0)*C$1,0)} -> 0.092378753 | D10: {=IFERROR((INDEX(Tab_Composants[#All],MATCH(Tab_Recettes[[#This Row],[Ingrédients]:[Ingrédients]],Tab_Composants[[#All],[RECETTES et INGREDIENTS]:[RECETTES et INGREDIENTS]],0),MATCH(D$4,Tab_Composants[#Headers],0))*D$5)/HLOOKUP(D$4,Composant!$A$1:$AAB$2,2,0)*D$1,0)} -> 0 | E10: {=IFERROR((INDEX(Tab_Composants[#All],MATCH(Tab_Recettes[[#This Row],[Ingrédients]:[Ingrédients]],Tab_Composants[[#All],[RECETTES et INGREDIENTS]:[RECETTES et INGREDIENTS]],0),MATCH(E$4,Tab_Composants[#Headers],0))*E$5)/HLOOKUP(E$4,Composant!$A$1:$AAB$2,2,0)*E$1,0)} -> 0.14467742 | F10: {=IFERROR((INDEX(Tab_Composants[#All],MATCH(Tab_Recettes[[#This Row],[Ingrédients]:[Ingrédients]],Tab_Composants[[#All],[RECETTES et INGREDIENTS]:[RECETTES et INGREDIENTS]],0),MATCH(F$4,Tab_Composants[#Headers],0))*F$5)/HLOOKUP(F$4,Composant!$A$1:$AAB$2,2,0)*F$1,0)} -> 0 | G10: {=IFERROR((INDEX(Tab_Composants[#All],MATCH(Tab_Recettes[[#This Row],[Ingrédients]:[Ingrédients]],Tab_Composants[[#All],[RECETTES et INGREDIENTS]:[RECETTES et INGREDIENTS]],0),MATCH(G$4,Tab_Composants[#Headers],0))*G$5)/HLOOKUP(G$4,Composant!$A$1:$AAB$2,2,0)*G$1,0)} -> 0 | H10: {=IFERROR((INDEX(Tab_Composants[#All],MATCH(Tab_Recettes[[#This Row],[Ingrédients]:[Ingrédients]],Tab_Composants[[#All],[RECETTES et INGREDIENTS]:[RECETTES et INGREDIENTS]],0),MATCH(H$4,Tab_Composants[#Headers],0))*H$5)/HLOOKUP(H$4,Composant!$A$1:$AAB$2,2,0)*H$1,0)} -> 0 | I10: {=IFERROR((INDEX(Tab_Composants[#All],MATCH(Tab_Recettes[[#This Row],[Ingrédients]:[Ingrédients]],Tab_Composants[[#All],[RECETTES et INGREDIENTS]:[RECETTES et INGREDIENTS]],0),MATCH(I$4,Tab_Composants[#Headers],0))*I$5)/HLOOKUP(I$4,Composant!$A$1:$AAB$2,2,0)*I$1,0)} -> 0 | J10: {=IFERROR((INDEX(Tab_Composants[#All],MATCH(Tab_Recettes[[#This Row],[Ingrédients]:[Ingrédients]],Tab_Composants[[#All],[RECETTES et INGREDIENTS]:[RECETTES et INGREDIENTS]],0),MATCH(J$4,Tab_Composants[#Headers],0))*J$5)/HLOOKUP(J$4,Composant!$A$1:$AAB$2,2,0)*J$1,0)} -> 0 | ... AK10: {=IFERROR((INDEX(Tab_Composants[#All],MATCH(Tab_Recettes[[#This Row],[Ingrédients]:[Ingrédients]],Tab_Composants[[#All],[RECETTES et INGREDIENTS]:[RECETTES et INGREDIENTS]],0),MATCH(AK$4,Tab_Composants[#Headers],0))*AK$5)/HLOOKUP(AK$4,Composant!$A$1:$AAB$2,2,0)*AK$1,0)} -> 0
A11: Sel | B11: =SUM(C11:AK11) -> 0.0027933398 | C11: {=IFERROR((INDEX(Tab_Composants[#All],MATCH(Tab_Recettes[[#This Row],[Ingrédients]:[Ingrédients]],Tab_Composants[[#All],[RECETTES et INGREDIENTS]:[RECETTES et INGREDIENTS]],0),MATCH(C$4,Tab_Composants[#Headers],0))*C$5)/HLOOKUP(C$4,Composant!$A$1:$AAB$2,2,0)*C$1,0)} -> 0.0023094688 | D11: {=IFERROR((INDEX(Tab_Composants[#All],MATCH(Tab_Recettes[[#This Row],[Ingrédients]:[Ingrédients]],Tab_Composants[[#All],[RECETTES et INGREDIENTS]:[RECETTES et INGREDIENTS]],0),MATCH(D$4,Tab_Composants[#Headers],0))*D$5)/HLOOKUP(D$4,Composant!$A$1:$AAB$2,2,0)*D$1,0)} -> 0 | E11: {=IFERROR((INDEX(Tab_Composants[#All],MATCH(Tab_Recettes[[#This Row],[Ingrédients]:[Ingrédients]],Tab_Composants[[#All],[RECETTES et INGREDIENTS]:[RECETTES et INGREDIENTS]],0),MATCH(E$4,Tab_Composants[#Headers],0))*E$5)/HLOOKUP(E$4,Composant!$A$1:$AAB$2,2,0)*E$1,0)} -> 0.00048387097 | F11: {=IFERROR((INDEX(Tab_Composants[#All],MATCH(Tab_Recettes[[#This Row],[Ingrédients]:[Ingrédients]],Tab_Composants[[#All],[RECETTES et INGREDIENTS]:[RECETTES et INGREDIENTS]],0),MATCH(F$4,Tab_Composants[#Headers],0))*F$5)/HLOOKUP(F$4,Composant!$A$1:$AAB$2,2,0)*F$1,0)} -> 0 | G11: {=IFERROR((INDEX(Tab_Composants[#All],MATCH(Tab_Recettes[[#This Row],[Ingrédients]:[Ingrédients]],Tab_Composants[[#All],[RECETTES et INGREDIENTS]:[RECETTES et INGREDIENTS]],0),MATCH(G$4,Tab_Composants[#Headers],0))*G$5)/HLOOKUP(G$4,Composant!$A$1:$AAB$2,2,0)*G$1,0)} -> 0 | H11: {=IFERROR((INDEX(Tab_Composants[#All],MATCH(Tab_Recettes[[#This Row],[Ingrédients]:[Ingrédients]],Tab_Composants[[#All],[RECETTES et INGREDIENTS]:[RECETTES et INGREDIENTS]],0),MATCH(H$4,Tab_Composants[#Headers],0))*H$5)/HLOOKUP(H$4,Composant!$A$1:$AAB$2,2,0)*H$1,0)} -> 0 | I11: {=IFERROR((INDEX(Tab_Composants[#All],MATCH(Tab_Recettes[[#This Row],[Ingrédients]:[Ingrédients]],Tab_Composants[[#All],[RECETTES et INGREDIENTS]:[RECETTES et INGREDIENTS]],0),MATCH(I$4,Tab_Composants[#Headers],0))*I$5)/HLOOKUP(I$4,Composant!$A$1:$AAB$2,2,0)*I$1,0)} -> 0 | J11: {=IFERROR((INDEX(Tab_Composants[#All],MATCH(Tab_Recettes[[#This Row],[Ingrédients]:[Ingrédients]],Tab_Composants[[#All],[RECETTES et INGREDIENTS]:[RECETTES et INGREDIENTS]],0),MATCH(J$4,Tab_Composants[#Headers],0))*J$5)/HLOOKUP(J$4,Composant!$A$1:$AAB$2,2,0)*J$1,0)} -> 0 | ... AK11: {=IFERROR((INDEX(Tab_Composants[#All],MATCH(Tab_Recettes[[#This Row],[Ingrédients]:[Ingrédients]],Tab_Composants[[#All],[RECETTES et INGREDIENTS]:[RECETTES et INGREDIENTS]],0),MATCH(AK$4,Tab_Composants[#Headers],0))*AK$5)/HLOOKUP(AK$4,Composant!$A$1:$AAB$2,2,0)*AK$1,0)} -> 0
A12: Poudre à crème | B12: =SUM(C12:AK12) -> 0.08 | C12: {=IFERROR((INDEX(Tab_Composants[#All],MATCH(Tab_Recettes[[#This Row],[Ingrédients]:[Ingrédients]],Tab_Composants[[#All],[RECETTES et INGREDIENTS]:[RECETTES et INGREDIENTS]],0),MATCH(C$4,Tab_Composants[#Headers],0))*C$5)/HLOOKUP(C$4,Composant!$A$1:$AAB$2,2,0)*C$1,0)} -> 0 | D12: {=IFERROR((INDEX(Tab_Composants[#All],MATCH(Tab_Recettes[[#This Row],[Ingrédients]:[Ingrédients]],Tab_Composants[[#All],[RECETTES et INGREDIENTS]:[RECETTES et INGREDIENTS]],0),MATCH(D$4,Tab_Composants[#Headers],0))*D$5)/HLOOKUP(D$4,Composant!$A$1:$AAB$2,2,0)*D$1,0)} -> 0.08 | E12: {=IFERROR((INDEX(Tab_Composants[#All],MATCH(Tab_Recettes[[#This Row],[Ingrédients]:[Ingrédients]],Tab_Composants[[#All],[RECETTES et INGREDIENTS]:[RECETTES et INGREDIENTS]],0),MATCH(E$4,Tab_Composants[#Headers],0))*E$5)/HLOOKUP(E$4,Composant!$A$1:$AAB$2,2,0)*E$1,0)} -> 0 | F12: {=IFERROR((INDEX(Tab_Composants[#All],MATCH(Tab_Recettes[[#This Row],[Ingrédients]:[Ingrédients]],Tab_Composants[[#All],[RECETTES et INGREDIENTS]:[RECETTES et INGREDIENTS]],0),MATCH(F$4,Tab_Composants[#Headers],0))*F$5)/HLOOKUP(F$4,Composant!$A$1:$AAB$2,2,0)*F$1,0)} -> 0 | G12: {=IFERROR((INDEX(Tab_Composants[#All],MATCH(Tab_Recettes[[#This Row],[Ingrédients]:[Ingrédients]],Tab_Composants[[#All],[RECETTES et INGREDIENTS]:[RECETTES et INGREDIENTS]],0),MATCH(G$4,Tab_Composants[#Headers],0))*G$5)/HLOOKUP(G$4,Composant!$A$1:$AAB$2,2,0)*G$1,0)} -> 0 | H12: {=IFERROR((INDEX(Tab_Composants[#All],MATCH(Tab_Recettes[[#This Row],[Ingrédients]:[Ingrédients]],Tab_Composants[[#All],[RECETTES et INGREDIENTS]:[RECETTES et INGREDIENTS]],0),MATCH(H$4,Tab_Composants[#Headers],0))*H$5)/HLOOKUP(H$4,Composant!$A$1:$AAB$2,2,0)*H$1,0)} -> 0 | I12: {=IFERROR((INDEX(Tab_Composants[#All],MATCH(Tab_Recettes[[#This Row],[Ingrédients]:[Ingrédients]],Tab_Composants[[#All],[RECETTES et INGREDIENTS]:[RECETTES et INGREDIENTS]],0),MATCH(I$4,Tab_Composants[#Headers],0))*I$5)/HLOOKUP(I$4,Composant!$A$1:$AAB$2,2,0)*I$1,0)} -> 0 | J12: {=IFERROR((INDEX(Tab_Composants[#All],MATCH(Tab_Recettes[[#This Row],[Ingrédients]:[Ingrédients]],Tab_Composants[[#All],[RECETTES et INGREDIENTS]:[RECETTES et INGREDIENTS]],0),MATCH(J$4,Tab_Composants[#Headers],0))*J$5)/HLOOKUP(J$4,Composant!$A$1:$AAB$2,2,0)*J$1,0)} -> 0 | ... AK12: {=IFERROR((INDEX(Tab_Composants[#All],MATCH(Tab_Recettes[[#This Row],[Ingrédients]:[Ingrédients]],Tab_Composants[[#All],[RECETTES et INGREDIENTS]:[RECETTES et INGREDIENTS]],0),MATCH(AK$4,Tab_Composants[#Headers],0))*AK$5)/HLOOKUP(AK$4,Composant!$A$1:$AAB$2,2,0)*AK$1,0)} -> 0
A13: Sucre en Poudre | B13: =SUM(C13:AK13) -> 0.24800613 | C13: {=IFERROR((INDEX(Tab_Composants[#All],MATCH(Tab_Recettes[[#This Row],[Ingrédients]:[Ingrédients]],Tab_Composants[[#All],[RECETTES et INGREDIENTS]:[RECETTES et INGREDIENTS]],0),MATCH(C$4,Tab_Composants[#Headers],0))*C$5)/HLOOKUP(C$4,Composant!$A$1:$AAB$2,2,0)*C$1,0)} -> 0 | D13: {=IFERROR((INDEX(Tab_Composants[#All],MATCH(Tab_Recettes[[#This Row],[Ingrédients]:[Ingrédients]],Tab_Composants[[#All],[RECETTES et INGREDIENTS]:[RECETTES et INGREDIENTS]],0),MATCH(D$4,Tab_Composants[#Headers],0))*D$5)/HLOOKUP(D$4,Composant!$A$1:$AAB$2,2,0)*D$1,0)} -> 0.12 | E13: {=IFERROR((INDEX(Tab_Composants[#All],MATCH(Tab_Recettes[[#This Row],[Ingrédients]:[Ingrédients]],Tab_Composants[[#All],[RECETTES et INGREDIENTS]:[RECETTES et INGREDIENTS]],0),MATCH(E$4,Tab_Composants[#Headers],0))*E$5)/HLOOKUP(E$4,Composant!$A$1:$AAB$2,2,0)*E$1,0)} -> 0.054193548 | F13: {=IFERROR((INDEX(Tab_Composants[#All],MATCH(Tab_Recettes[[#This Row],[Ingrédients]:[Ingrédients]],Tab_Composants[[#All],[RECETTES et INGREDIENTS]:[RECETTES et INGREDIENTS]],0),MATCH(F$4,Tab_Composants[#Headers],0))*F$5)/HLOOKUP(F$4,Composant!$A$1:$AAB$2,2,0)*F$1,0)} -> 0.07381258 | G13: {=IFERROR((INDEX(Tab_Composants[#All],MATCH(Tab_Recettes[[#This Row],[Ingrédients]:[Ingrédients]],Tab_Composants[[#All],[RECETTES et INGREDIENTS]:[RECETTES et INGREDIENTS]],0),MATCH(G$4,Tab_Composants[#Headers],0))*G$5)/HLOOKUP(G$4,Composant!$A$1:$AAB$2,2,0)*G$1,0)} -> 0 | H13: {=IFERROR((INDEX(Tab_Composants[#All],MATCH(Tab_Recettes[[#This Row],[Ingrédients]:[Ingrédients]],Tab_Composants[[#All],[RECETTES et INGREDIENTS]:[RECETTES et INGREDIENTS]],0),MATCH(H$4,Tab_Composants[#Headers],0))*H$5)/HLOOKUP(H$4,Composant!$A$1:$AAB$2,2,0)*H$1,0)} -> 0 | I13: {=IFERROR((INDEX(Tab_Composants[#All],MATCH(Tab_Recettes[[#This Row],[Ingrédients]:[Ingrédients]],Tab_Composants[[#All],[RECETTES et INGREDIENTS]:[RECETTES et INGREDIENTS]],0),MATCH(I$4,Tab_Composants[#Headers],0))*I$5)/HLOOKUP(I$4,Composant!$A$1:$AAB$2,2,0)*I$1,0)} -> 0 | J13: {=IFERROR((INDEX(Tab_Composants[#All],MATCH(Tab_Recettes[[#This Row],[Ingrédients]:[Ingrédients]],Tab_Composants[[#All],[RECETTES et INGREDIENTS]:[RECETTES et INGREDIENTS]],0),MATCH(J$4,Tab_Composants[#Headers],0))*J$5)/HLOOKUP(J$4,Composant!$A$1:$AAB$2,2,0)*J$1,0)} -> 0 | ... AK13: {=IFERROR((INDEX(Tab_Composants[#All],MATCH(Tab_Recettes[[#This Row],[Ingrédients]:[Ingrédients]],Tab_Composants[[#All],[RECETTES et INGREDIENTS]:[RECETTES et INGREDIENTS]],0),MATCH(AK$4,Tab_Composants[#Headers],0))*AK$5)/HLOOKUP(AK$4,Composant!$A$1:$AAB$2,2,0)*AK$1,0)} -> 0
A14: Lait en Poudre | B14: =SUM(C14:AK14) -> 0.08 | C14: {=IFERROR((INDEX(Tab_Composants[#All],MATCH(Tab_Recettes[[#This Row],[Ingrédients]:[Ingrédients]],Tab_Composants[[#All],[RECETTES et INGREDIENTS]:[RECETTES et INGREDIENTS]],0),MATCH(C$4,Tab_Composants[#Headers],0))*C$5)/HLOOKUP(C$4,Composant!$A$1:$AAB$2,2,0)*C$1,0)} -> 0 | D14: {=IFERROR((INDEX(Tab_Composants[#All],MATCH(Tab_Recettes[[#This Row],[Ingrédients]:[Ingrédients]],Tab_Composants[[#All],[RECETTES et INGREDIENTS]:[RECETTES et INGREDIENTS]],0),MATCH(D$4,Tab_Composants[#Headers],0))*D$5)/HLOOKUP(D$4,Composant!$A$1:$AAB$2,2,0)*D$1,0)} -> 0.08 | E14: {=IFERROR((INDEX(Tab_Composants[#All],MATCH(Tab_Recettes[[#This Row],[Ingrédients]:[Ingrédients]],Tab_Composants[[#All],[RECETTES et INGREDIENTS]:[RECETTES et INGREDIENTS]],0),MATCH(E$4,Tab_Composants[#Headers],0))*E$5)/HLOOKUP(E$4,Composant!$A$1:$AAB$2,2,0)*E$1,0)} -> 0 | F14: {=IFERROR((INDEX(Tab_Composants[#All],MATCH(Tab_Recettes[[#This Row],[Ingrédients]:[Ingrédients]],Tab_Composants[[#All],[RECETTES et INGREDIENTS]:[RECETTES et INGREDIENTS]],0),MATCH(F$4,Tab_Composants[#Headers],0))*F$5)/HLOOKUP(F$4,Composant!$A$1:$AAB$2,2,0)*F$1,0)} -> 0 | G14: {=IFERROR((INDEX(Tab_Composants[#All],MATCH(Tab_Recettes[[#This Row],[Ingrédients]:[Ingrédients]],Tab_Composants[[#All],[RECETTES et INGREDIENTS]:[RECETTES et INGREDIENTS]],0),MATCH(G$4,Tab_Composants[#Headers],0))*G$5)/HLOOKUP(G$4,Composant!$A$1:$AAB$2,2,0)*G$1,0)} -> 0 | H14: {=IFERROR((INDEX(Tab_Composants[#All],MATCH(Tab_Recettes[[#This Row],[Ingrédients]:[Ingrédients]],Tab_Composants[[#All],[RECETTES et INGREDIENTS]:[RECETTES et INGREDIENTS]],0),MATCH(H$4,Tab_Composants[#Headers],0))*H$5)/HLOOKUP(H$4,Composant!$A$1:$AAB$2,2,0)*H$1,0)} -> 0 | I14: {=IFERROR((INDEX(Tab_Composants[#All],MATCH(Tab_Recettes[[#This Row],[Ingrédients]:[Ingrédients]],Tab_Composants[[#All],[RECETTES et INGREDIENTS]:[RECETTES et INGREDIENTS]],0),MATCH(I$4,Tab_Composants[#Headers],0))*I$5)/HLOOKUP(I$4,Composant!$A$1:$AAB$2,2,0)*I$1,0)} -> 0 | J14: {=IFERROR((INDEX(Tab_Composants[#All],MATCH(Tab_Recettes[[#This Row],[Ingrédients]:[Ingrédients]],Tab_Composants[[#All],[RECETTES et INGREDIENTS]:[RECETTES et INGREDIENTS]],0),MATCH(J$4,Tab_Composants[#Headers],0))*J$5)/HLOOKUP(J$4,Composant!$A$1:$AAB$2,2,0)*J$1,0)} -> 0 | ... AK14: {=IFERROR((INDEX(Tab_Composants[#All],MATCH(Tab_Recettes[[#This Row],[Ingrédients]:[Ingrédients]],Tab_Composants[[#All],[RECETTES et INGREDIENTS]:[RECETTES et INGREDIENTS]],0),MATCH(AK$4,Tab_Composants[#Headers],0))*AK$5)/HLOOKUP(AK$4,Composant!$A$1:$AAB$2,2,0)*AK$1,0)} -> 0
A15: Eau | B15: =SUM(C15:AK15) -> 0.72 | C15: {=IFERROR((INDEX(Tab_Composants[#All],MATCH(Tab_Recettes[[#This Row],[Ingrédients]:[Ingrédients]],Tab_Composants[[#All],[RECETTES et INGREDIENTS]:[RECETTES et INGREDIENTS]],0),MATCH(C$4,Tab_Composants[#Headers],0))*C$5)/HLOOKUP(C$4,Composant!$A$1:$AAB$2,2,0)*C$1,0)} -> 0 | D15: {=IFERROR((INDEX(Tab_Composants[#All],MATCH(Tab_Recettes[[#This Row],[Ingrédients]:[Ingrédients]],Tab_Composants[[#All],[RECETTES et INGREDIENTS]:[RECETTES et INGREDIENTS]],0),MATCH(D$4,Tab_Composants[#Headers],0))*D$5)/HLOOKUP(D$4,Composant!$A$1:$AAB$2,2,0)*D$1,0)} -> 0.72 | E15: {=IFERROR((INDEX(Tab_Composants[#All],MATCH(Tab_Recettes[[#This Row],[Ingrédients]:[Ingrédients]],Tab_Composants[[#All],[RECETTES et INGREDIENTS]:[RECETTES et INGREDIENTS]],0),MATCH(E$4,Tab_Composants[#Headers],0))*E$5)/HLOOKUP(E$4,Composant!$A$1:$AAB$2,2,0)*E$1,0)} -> 0 | F15: {=IFERROR((INDEX(Tab_Composants[#All],MATCH(Tab_Recettes[[#This Row],[Ingrédients]:[Ingrédients]],Tab_Composants[[#All],[RECETTES et INGREDIENTS]:[RECETTES et INGREDIENTS]],0),MATCH(F$4,Tab_Composants[#Headers],0))*F$5)/HLOOKUP(F$4,Composant!$A$1:$AAB$2,2,0)*F$1,0)} -> 0 | G15: {=IFERROR((INDEX(Tab_Composants[#All],MATCH(Tab_Recettes[[#This Row],[Ingrédients]:[Ingrédients]],Tab_Composants[[#All],[RECETTES et INGREDIENTS]:[RECETTES et INGREDIENTS]],0),MATCH(G$4,Tab_Composants[#Headers],0))*G$5)/HLOOKUP(G$4,Composant!$A$1:$AAB$2,2,0)*G$1,0)} -> 0 | H15: {=IFERROR((INDEX(Tab_Composants[#All],MATCH(Tab_Recettes[[#This Row],[Ingrédients]:[Ingrédients]],Tab_Composants[[#All],[RECETTES et INGREDIENTS]:[RECETTES et INGREDIENTS]],0),MATCH(H$4,Tab_Composants[#Headers],0))*H$5)/HLOOKUP(H$4,Composant!$A$1:$AAB$2,2,0)*H$1,0)} -> 0 | I15: {=IFERROR((INDEX(Tab_Composants[#All],MATCH(Tab_Recettes[[#This Row],[Ingrédients]:[Ingrédients]],Tab_Composants[[#All],[RECETTES et INGREDIENTS]:[RECETTES et INGREDIENTS]],0),MATCH(I$4,Tab_Composants[#Headers],0))*I$5)/HLOOKUP(I$4,Composant!$A$1:$AAB$2,2,0)*I$1,0)} -> 0 | J15: {=IFERROR((INDEX(Tab_Composants[#All],MATCH(Tab_Recettes[[#This Row],[Ingrédients]:[Ingrédients]],Tab_Composants[[#All],[RECETTES et INGREDIENTS]:[RECETTES et INGREDIENTS]],0),MATCH(J$4,Tab_Composants[#Headers],0))*J$5)/HLOOKUP(J$4,Composant!$A$1:$AAB$2,2,0)*J$1,0)} -> 0 | ... AK15: {=IFERROR((INDEX(Tab_Composants[#All],MATCH(Tab_Recettes[[#This Row],[Ingrédients]:[Ingrédients]],Tab_Composants[[#All],[RECETTES et INGREDIENTS]:[RECETTES et INGREDIENTS]],0),MATCH(AK$4,Tab_Composants[#Headers],0))*AK$5)/HLOOKUP(AK$4,Composant!$A$1:$AAB$2,2,0)*AK$1,0)} -> 0
A16: Farine | B16: =SUM(C16:AK16) -> 0.33532388 | C16: {=IFERROR((INDEX(Tab_Composants[#All],MATCH(Tab_Recettes[[#This Row],[Ingrédients]:[Ingrédients]],Tab_Composants[[#All],[RECETTES et INGREDIENTS]:[RECETTES et INGREDIENTS]],0),MATCH(C$4,Tab_Composants[#Headers],0))*C$5)/HLOOKUP(C$4,Composant!$A$1:$AAB$2,2,0)*C$1,0)} -> 0.23094688 | D16: {=IFERROR((INDEX(Tab_Composants[#All],MATCH(Tab_Recettes[[#This Row],[Ingrédients]:[Ingrédients]],Tab_Composants[[#All],[RECETTES et INGREDIENTS]:[RECETTES et INGREDIENTS]],0),MATCH(D$4,Tab_Composants[#Headers],0))*D$5)/HLOOKUP(D$4,Composant!$A$1:$AAB$2,2,0)*D$1,0)} -> 0 | E16: {=IFERROR((INDEX(Tab_Composants[#All],MATCH(Tab_Recettes[[#This Row],[Ingrédients]:[Ingrédients]],Tab_Composants[[#All],[RECETTES et INGREDIENTS]:[RECETTES et INGREDIENTS]],0),MATCH(E$4,Tab_Composants[#Headers],0))*E$5)/HLOOKUP(E$4,Composant!$A$1:$AAB$2,2,0)*E$1,0)} -> 0.077419355 | F16: {=IFERROR((INDEX(Tab_Composants[#All],MATCH(Tab_Recettes[[#This Row],[Ingrédients]:[Ingrédients]],Tab_Composants[[#All],[RECETTES et INGREDIENTS]:[RECETTES et INGREDIENTS]],0),MATCH(F$4,Tab_Composants[#Headers],0))*F$5)/HLOOKUP(F$4,Composant!$A$1:$AAB$2,2,0)*F$1,0)} -> 0.026957638 | G16: {=IFERROR((INDEX(Tab_Composants[#All],MATCH(Tab_Recettes[[#This Row],[Ingrédients]:[Ingrédients]],Tab_Composants[[#All],[RECETTES et INGREDIENTS]:[RECETTES et INGREDIENTS]],0),MATCH(G$4,Tab_Composants[#Headers],0))*G$5)/HLOOKUP(G$4,Composant!$A$1:$AAB$2,2,0)*G$1,0)} -> 0 | H16: {=IFERROR((INDEX(Tab_Composants[#All],MATCH(Tab_Recettes[[#This Row],[Ingrédients]:[Ingrédients]],Tab_Composants[[#All],[RECETTES et INGREDIENTS]:[RECETTES et INGREDIENTS]],0),MATCH(H$4,Tab_Composants[#Headers],0))*H$5)/HLOOKUP(H$4,Composant!$A$1:$AAB$2,2,0)*H$1,0)} -> 0 | I16: {=IFERROR((INDEX(Tab_Composants[#All],MATCH(Tab_Recettes[[#This Row],[Ingrédients]:[Ingrédients]],Tab_Composants[[#All],[RECETTES et INGREDIENTS]:[RECETTES et INGREDIENTS]],0),MATCH(I$4,Tab_Composants[#Headers],0))*I$5)/HLOOKUP(I$4,Composant!$A$1:$AAB$2,2,0)*I$1,0)} -> 0 | J16: {=IFERROR((INDEX(Tab_Composants[#All],MATCH(Tab_Recettes[[#This Row],[Ingrédients]:[Ingrédients]],Tab_Composants[[#All],[RECETTES et INGREDIENTS]:[RECETTES et INGREDIENTS]],0),MATCH(J$4,Tab_Composants[#Headers],0))*J$5)/HLOOKUP(J$4,Composant!$A$1:$AAB$2,2,0)*J$1,0)} -> 0 | ... AK16: {=IFERROR((INDEX(Tab_Composants[#All],MATCH(Tab_Recettes[[#This Row],[Ingrédients]:[Ingrédients]],Tab_Composants[[#All],[RECETTES et INGREDIENTS]:[RECETTES et INGREDIENTS]],0),MATCH(AK$4,Tab_Composants[#Headers],0))*AK$5)/HLOOKUP(AK$4,Composant!$A$1:$AAB$2,2,0)*AK$1,0)} -> 0

Sheet Composant
A1: RECETTES et INGREDIENTS | B1: PÂTE SUCREE | C1: CREME PATISSIERE | D1: BISCUIT CHEESECAKE | E1: CREME CHEESE | F1: MOUSSE OREO | G1: GENOISE AMANDE | H1: GENOISE CACAO | I1: GENOISE NATURE | J1: BISCUIT JOCONDE | K1: BISCUIT SNICKERS | L1: BISCUIT SUCCES AMANDE | M1: Colonne1 | N1: Colonne2
A2: POIDS | B2: =SUM(B3:B12) -> 12.99 | C2: =SUM(C3:C12) -> 1.25 | D2: =SUM(D3:D14) -> 0.93 | E2: =SUM(E3:E17) -> 3.895 | F2: =SUM(F3:F17) -> 0 | G2: =SUM(G3:G17) -> 0 | H2: =SUM(H3:H17) -> 0 | I2: =SUM(I3:I17) -> 0 | J2: =SUM(J3:J17) -> 0 | K2: =SUM(K3:K17) -> 0 | L2: =SUM(L3:L17) -> 0 | ... N2: =SUM(N3:N17) -> 0
A3: Sucre Glace | B3: 3
A4: Œuf | B4: 1.5 | E4: 0.325
A5: Levure Chimique | B5: 0.03 | D5: 0.011
A6: Beurre | B6: 2.4 | D6: 0.299
A7: Sel | B7: 0.06 | D7: 0.001
A8: Poudre à crème | C8: 0.1
A9: Sucre en Poudre | C9: 0.15 | D9: 0.112 | E9: 0.575
A10: Lait en Poudre | C10: 0.1
A11: Eau | C11: 0.9
A12: Farine | B12: 6 | D12: 0.16 | E12: 0.21
A13: Jaune d'œuf | D13: 0.047 | E13: 0.085
A14: Petit henry's | D14: 0.3
A15: Crème | E15: 0.7
A16: Fromage | E16: 2
D63: 1
D69: 20
C82: 20
C87: 6 | D87: 10 | H87: 6

Sheet Liste_Pâtisseries
A1: Liste_Patisseries
A2: BISCUIT CHEESECAKE
A3: BISCUIT JOCONDE
A4: BISCUIT SNICKERS
A5: BISCUIT SUCCES AMANDE
A6: CREME CHEESE
A7: CREME PATISSIERE
A8: GENOISE AMANDE
A9: GENOISE CACAO
A10: GENOISE NATURE
A11: MOUSSE OREO
A12: PÂTE SUCREE
A13: PÂTE SABLEE BRETON
