Workbook
Name Liste: Tab_Liste[[#All],[PÂTE SUCREE]]

Sheet Recettes
A1: RECETTES pour | C1: FLAN | E1: CHEESECAKE
A2: INGREDIENTS et quantité souhaitée pour | C2: PÂTE SUCREE | D2: CREME PATISSIERE | E2: BISCUIT CHEESECAKE | F2: CREME CHEESE | G2: MOUSSE OREO | H2: GENOISE NATURE | I2: BISCUIT JOCONDE | J2: BISCUIT SNICKERS | K2: BISCUIT SUCCES AMANDE
B3: Total ingrédients | C3: 0,5 | D3: 1 | E3: 2 | F3: 1
A4: Ingrédients | B4: Colonne15 | C4: Colonne1 | D4: Colonne2 | E4: Colonne3 | F4: Colonne4 | G4: Colonne5 | H4: Colonne6 | I4: Colonne7 | J4: Colonne8 | K4: Colonne9 | L4: Colonne10 | M4: Colonne11 | N4: Colonne12 | O4: Colonne13 | P4: Colonne14 | Q4: Colonne15 | R4: Colonne16 | S4: Colonne17 | T4: Colonne18 | U4: Colonne19 | V4: Colonne20 | W4: Colonne21 | X4: Colonne22 | Y4: Colonne23 | Z4: Colonne24 | AA4: Colonne25 | AB4: Colonne26 | AC4: Colonne27 | AD4: Colonne28 | AE4: Colonne29 | AF4: Colonne30 | AG4: Colonne31 | AH4: Colonne32 | AI4: Colonne33 | AJ4: Colonne34 | AK4: Colonne35
A5: Sucre Glace | B5: =SUM(C5:AK5) -> 0 | C5: {=IFERROR((INDEX(Tab_Composants[#All],MATCH(Tab_Recettes[[#This Row],[Ingrédients]:[Ingrédients]],Tab_Composants[[#All],[RECETTES et INGREDIENTS]:[RECETTES et INGREDIENTS]],0),MATCH(C$2,Tab_Composants[#Headers],0))*C$3)/HLOOKUP(C$2,Composant!$A$1:$ZZ$2,2,0),0)} -> 0 | D5: {=IFERROR((INDEX(Tab_Composants[#All],MATCH(Tab_Recettes[[#This Row],[Ingrédients]:[Ingrédients]],Tab_Composants[[#All],[RECETTES et INGREDIENTS]:[RECETTES et INGREDIENTS]],0),MATCH(D$2,Tab_Composants[#Headers],0))*D$3)/HLOOKUP(D$2,Composant!$A$1:$ZZ$2,2,0),0)} -> 0 | E5: {=IFERROR((INDEX(Tab_Composants[#All],MATCH(Tab_Recettes[[#This Row],[Ingrédients]:[Ingrédients]],Tab_Composants[[#All],[RECETTES et INGREDIENTS]:[RECETTES et INGREDIENTS]],0),MATCH(E$2,Tab_Composants[#Headers],0))*E$3)/HLOOKUP(E$2,Composant!$A$1:$ZZ$2,2,0),0)} -> 0 | F5: {=IFERROR((INDEX(Tab_Composants[#All],MATCH(Tab_Recettes[[#This Row],[Ingrédients]:[Ingrédients]],Tab_Composants[[#All],[RECETTES et INGREDIENTS]:[RECETTES et INGREDIENTS]],0),MATCH(F$2,Tab_Composants[#Headers],0))*F$3)/HLOOKUP(F$2,Composant!$A$1:$ZZ$2,2,0),0)} -> 0 | G5: {=IFERROR((INDEX(Tab_Composants[#All],MATCH(Tab_Recettes[[#This Row],[Ingrédients]:[Ingrédients]],Tab_Composants[[#All],[RECETTES et INGREDIENTS]:[RECETTES et INGREDIENTS]],0),MATCH(G$2,Tab_Composants[#Headers],0))*G$3)/HLOOKUP(G$2,Composant!$A$1:$ZZ$2,2,0),0)} -> 0 | H5: {=IFERROR((INDEX(Tab_Composants[#All],MATCH(Tab_Recettes[[#This Row],[Ingrédients]:[Ingrédients]],Tab_Composants[[#All],[RECETTES et INGREDIENTS]:[RECETTES et INGREDIENTS]],0),MATCH(H$2,Tab_Composants[#Headers],0))*H$3)/HLOOKUP(H$2,Composant!$A$1:$ZZ$2,2,0),0)} -> 0 | I5: {=IFERROR((INDEX(Tab_Composants[#All],MATCH(Tab_Recettes[[#This Row],[Ingrédients]:[Ingrédients]],Tab_Composants[[#All],[RECETTES et INGREDIENTS]:[RECETTES et INGREDIENTS]],0),MATCH(I$2,Tab_Composants[#Headers],0))*I$3)/HLOOKUP(I$2,Composant!$A$1:$ZZ$2,2,0),0)} -> 0 | J5: {=IFERROR((INDEX(Tab_Composants[#All],MATCH(Tab_Recettes[[#This Row],[Ingrédients]:[Ingrédients]],Tab_Composants[[#All],[RECETTES et INGREDIENTS]:[RECETTES et INGREDIENTS]],0),MATCH(J$2,Tab_Composants[#Headers],0))*J$3)/HLOOKUP(J$2,Composant!$A$1:$ZZ$2,2,0),0)} -> 0 | ... AK5: {=IFERROR((INDEX(Tab_Composants[#All],MATCH(Tab_Recettes[[#This Row],[Ingrédients]:[Ingrédients]],Tab_Composants[[#All],[RECETTES et INGREDIENTS]:[RECETTES et INGREDIENTS]],0),MATCH(AK$2,Tab_Composants[#Headers],0))*AK$3)/HLOOKUP(AK$2,Composant!$A$1:$ZZ$2,2,0),0)} -> 0
A6: Œuf | B6: =SUM(C6:AK6) -> 0 | C6: {=IFERROR((INDEX(Tab_Composants[#All],MATCH(Tab_Recettes[[#This Row],[Ingrédients]:[Ingrédients]],Tab_Composants[[#All],[RECETTES et INGREDIENTS]:[RECETTES et INGREDIENTS]],0),MATCH(C$2,Tab_Composants[#Headers],0))*C$3)/HLOOKUP(C$2,Composant!$A$1:$ZZ$2,2,0),0)} -> 0 | D6: {=IFERROR((INDEX(Tab_Composants[#All],MATCH(Tab_Recettes[[#This Row],[Ingrédients]:[Ingrédients]],Tab_Composants[[#All],[RECETTES et INGREDIENTS]:[RECETTES et INGREDIENTS]],0),MATCH(D$2,Tab_Composants[#Headers],0))*D$3)/HLOOKUP(D$2,Composant!$A$1:$ZZ$2,2,0),0)} -> 0 | E6: {=IFERROR((INDEX(Tab_Composants[#All],MATCH(Tab_Recettes[[#This Row],[Ingrédients]:[Ingrédients]],Tab_Composants[[#All],[RECETTES et INGREDIENTS]:[RECETTES et INGREDIENTS]],0),MATCH(E$2,Tab_Composants[#Headers],0))*E$3)/HLOOKUP(E$2,Composant!$A$1:$ZZ$2,2,0),0)} -> 0 | F6: {=IFERROR((INDEX(Tab_Composants[#All],MATCH(Tab_Recettes[[#This Row],[Ingrédients]:[Ingrédients]],Tab_Composants[[#All],[RECETTES et INGREDIENTS]:[RECETTES et INGREDIENTS]],0),MATCH(F$2,Tab_Composants[#Headers],0))*F$3)/HLOOKUP(F$2,Composant!$A$1:$ZZ$2,2,0),0)} -> 0 | G6: {=IFERROR((INDEX(Tab_Composants[#All],MATCH(Tab_Recettes[[#This Row],[Ingrédients]:[Ingrédients]],Tab_Composants[[#All],[RECETTES et INGREDIENTS]:[RECETTES et INGREDIENTS]],0),MATCH(G$2,Tab_Composants[#Headers],0))*G$3)/HLOOKUP(G$2,Composant!$A$1:$ZZ$2,2,0),0)} -> 0 | H6: {=IFERROR((INDEX(Tab_Composants[#All],MATCH(Tab_Recettes[[#This Row],[Ingrédients]:[Ingrédients]],Tab_Composants[[#All],[RECETTES et INGREDIENTS]:[RECETTES et INGREDIENTS]],0),MATCH(H$2,Tab_Composants[#Headers],0))*H$3)/HLOOKUP(H$2,Composant!$A$1:$ZZ$2,2,0),0)} -> 0 | I6: {=IFERROR((INDEX(Tab_Composants[#All],MATCH(Tab_Recettes[[#This Row],[Ingrédients]:[Ingrédients]],Tab_Composants[[#All],[RECETTES et INGREDIENTS]:[RECETTES et INGREDIENTS]],0),MATCH(I$2,Tab_Composants[#Headers],0))*I$3)/HLOOKUP(I$2,Composant!$A$1:$ZZ$2,2,0),0)} -> 0 | J6: {=IFERROR((INDEX(Tab_Composants[#All],MATCH(Tab_Recettes[[#This Row],[Ingrédients]:[Ingrédients]],Tab_Composants[[#All],[RECETTES et INGREDIENTS]:[RECETTES et INGREDIENTS]],0),MATCH(J$2,Tab_Composants[#Headers],0))*J$3)/HLOOKUP(J$2,Composant!$A$1:$ZZ$2,2,0),0)} -> 0 | ... AK6: {=IFERROR((INDEX(Tab_Composants[#All],MATCH(Tab_Recettes[[#This Row],[Ingrédients]:[Ingrédients]],Tab_Composants[[#All],[RECETTES et INGREDIENTS]:[RECETTES et INGREDIENTS]],0),MATCH(AK$2,Tab_Composants[#Headers],0))*AK$3)/HLOOKUP(AK$2,Composant!$A$1:$ZZ$2,2,0),0)} -> 0
A7: Levure | B7: =SUM(C7:AK7) -> 0 | C7: {=IFERROR((INDEX(Tab_Composants[#All],MATCH(Tab_Recettes[[#This Row],[Ingrédients]:[Ingrédients]],Tab_Composants[[#All],[RECETTES et INGREDIENTS]:[RECETTES et INGREDIENTS]],0),MATCH(C$2,Tab_Composants[#Headers],0))*C$3)/HLOOKUP(C$2,Composant!$A$1:$ZZ$2,2,0),0)} -> 0 | D7: {=IFERROR((INDEX(Tab_Composants[#All],MATCH(Tab_Recettes[[#This Row],[Ingrédients]:[Ingrédients]],Tab_Composants[[#All],[RECETTES et INGREDIENTS]:[RECETTES et INGREDIENTS]],0),MATCH(D$2,Tab_Composants[#Headers],0))*D$3)/HLOOKUP(D$2,Composant!$A$1:$ZZ$2,2,0),0)} -> 0 | E7: {=IFERROR((INDEX(Tab_Composants[#All],MATCH(Tab_Recettes[[#This Row],[Ingrédients]:[Ingrédients]],Tab_Composants[[#All],[RECETTES et INGREDIENTS]:[RECETTES et INGREDIENTS]],0),MATCH(E$2,Tab_Composants[#Headers],0))*E$3)/HLOOKUP(E$2,Composant!$A$1:$ZZ$2,2,0),0)} -> 0 | F7: {=IFERROR((INDEX(Tab_Composants[#All],MATCH(Tab_Recettes[[#This Row],[Ingrédients]:[Ingrédients]],Tab_Composants[[#All],[RECETTES et INGREDIENTS]:[RECETTES et INGREDIENTS]],0),MATCH(F$2,Tab_Composants[#Headers],0))*F$3)/HLOOKUP(F$2,Composant!$A$1:$ZZ$2,2,0),0)} -> 0 | G7: {=IFERROR((INDEX(Tab_Composants[#All],MATCH(Tab_Recettes[[#This Row],[Ingrédients]:[Ingrédients]],Tab_Composants[[#All],[RECETTES et INGREDIENTS]:[RECETTES et INGREDIENTS]],0),MATCH(G$2,Tab_Composants[#Headers],0))*G$3)/HLOOKUP(G$2,Composant!$A$1:$ZZ$2,2,0),0)} -> 0 | H7: {=IFERROR((INDEX(Tab_Composants[#All],MATCH(Tab_Recettes[[#This Row],[Ingrédients]:[Ingrédients]],Tab_Composants[[#All],[RECETTES et INGREDIENTS]:[RECETTES et INGREDIENTS]],0),MATCH(H$2,Tab_Composants[#Headers],0))*H$3)/HLOOKUP(H$2,Composant!$A$1:$ZZ$2,2,0),0)} -> 0 | I7: {=IFERROR((INDEX(Tab_Composants[#All],MATCH(Tab_Recettes[[#This Row],[Ingrédients]:[Ingrédients]],Tab_Composants[[#All],[RECETTES et INGREDIENTS]:[RECETTES et INGREDIENTS]],0),MATCH(I$2,Tab_Composants[#Headers],0))*I$3)/HLOOKUP(I$2,Composant!$A$1:$ZZ$2,2,0),0)} -> 0 | J7: {=IFERROR((INDEX(Tab_Composants[#All],MATCH(Tab_Recettes[[#This Row],[Ingrédients]:[Ingrédients]],Tab_Composants[[#All],[RECETTES et INGREDIENTS]:[RECETTES et INGREDIENTS]],0),MATCH(J$2,Tab_Composants[#Headers],0))*J$3)/HLOOKUP(J$2,Composant!$A$1:$ZZ$2,2,0),0)} -> 0 | ... AK7: {=IFERROR((INDEX(Tab_Composants[#All],MATCH(Tab_Recettes[[#This Row],[Ingrédients]:[Ingrédients]],Tab_Composants[[#All],[RECETTES et INGREDIENTS]:[RECETTES et INGREDIENTS]],0),MATCH(AK$2,Tab_Composants[#Headers],0))*AK$3)/HLOOKUP(AK$2,Composant!$A$1:$ZZ$2,2,0),0)} -> 0
A8: Beurre | B8: =SUM(C8:AK8) -> 0 | C8: {=IFERROR((INDEX(Tab_Composants[#All],MATCH(Tab_Recettes[[#This Row],[Ingrédients]:[Ingrédients]],Tab_Composants[[#All],[RECETTES et INGREDIENTS]:[RECETTES et INGREDIENTS]],0),MATCH(C$2,Tab_Composants[#Headers],0))*C$3)/HLOOKUP(C$2,Composant!$A$1:$ZZ$2,2,0),0)} -> 0 | D8: {=IFERROR((INDEX(Tab_Composants[#All],MATCH(Tab_Recettes[[#This Row],[Ingrédients]:[Ingrédients]],Tab_Composants[[#All],[RECETTES et INGREDIENTS]:[RECETTES et INGREDIENTS]],0),MATCH(D$2,Tab_Composants[#Headers],0))*D$3)/HLOOKUP(D$2,Composant!$A$1:$ZZ$2,2,0),0)} -> 0 | E8: {=IFERROR((INDEX(Tab_Composants[#All],MATCH(Tab_Recettes[[#This Row],[Ingrédients]:[Ingrédients]],Tab_Composants[[#All],[RECETTES et INGREDIENTS]:[RECETTES et INGREDIENTS]],0),MATCH(E$2,Tab_Composants[#Headers],0))*E$3)/HLOOKUP(E$2,Composant!$A$1:$ZZ$2,2,0),0)} -> 0 | F8: {=IFERROR((INDEX(Tab_Composants[#All],MATCH(Tab_Recettes[[#This Row],[Ingrédients]:[Ingrédients]],Tab_Composants[[#All],[RECETTES et INGREDIENTS]:[RECETTES et INGREDIENTS]],0),MATCH(F$2,Tab_Composants[#Headers],0))*F$3)/HLOOKUP(F$2,Composant!$A$1:$ZZ$2,2,0),0)} -> 0 | G8: {=IFERROR((INDEX(Tab_Composants[#All],MATCH(Tab_Recettes[[#This Row],[Ingrédients]:[Ingrédients]],Tab_Composants[[#All],[RECETTES et INGREDIENTS]:[RECETTES et INGREDIENTS]],0),MATCH(G$2,Tab_Composants[#Headers],0))*G$3)/HLOOKUP(G$2,Composant!$A$1:$ZZ$2,2,0),0)} -> 0 | H8: {=IFERROR((INDEX(Tab_Composants[#All],MATCH(Tab_Recettes[[#This Row],[Ingrédients]:[Ingrédients]],Tab_Composants[[#All],[RECETTES et INGREDIENTS]:[RECETTES et INGREDIENTS]],0),MATCH(H$2,Tab_Composants[#Headers],0))*H$3)/HLOOKUP(H$2,Composant!$A$1:$ZZ$2,2,0),0)} -> 0 | I8: {=IFERROR((INDEX(Tab_Composants[#All],MATCH(Tab_Recettes[[#This Row],[Ingrédients]:[Ingrédients]],Tab_Composants[[#All],[RECETTES et INGREDIENTS]:[RECETTES et INGREDIENTS]],0),MATCH(I$2,Tab_Composants[#Headers],0))*I$3)/HLOOKUP(I$2,Composant!$A$1:$ZZ$2,2,0),0)} -> 0 | J8: {=IFERROR((INDEX(Tab_Composants[#All],MATCH(Tab_Recettes[[#This Row],[Ingrédients]:[Ingrédients]],Tab_Composants[[#All],[RECETTES et INGREDIENTS]:[RECETTES et INGREDIENTS]],0),MATCH(J$2,Tab_Composants[#Headers],0))*J$3)/HLOOKUP(J$2,Composant!$A$1:$ZZ$2,2,0),0)} -> 0 | ... AK8: {=IFERROR((INDEX(Tab_Composants[#All],MATCH(Tab_Recettes[[#This Row],[Ingrédients]:[Ingrédients]],Tab_Composants[[#All],[RECETTES et INGREDIENTS]:[RECETTES et INGREDIENTS]],0),MATCH(AK$2,Tab_Composants[#Headers],0))*AK$3)/HLOOKUP(AK$2,Composant!$A$1:$ZZ$2,2,0),0)} -> 0
A9: Sel | B9: =SUM(C9:AK9) -> 0 | C9: {=IFERROR((INDEX(Tab_Composants[#All],MATCH(Tab_Recettes[[#This Row],[Ingrédients]:[Ingrédients]],Tab_Composants[[#All],[RECETTES et INGREDIENTS]:[RECETTES et INGREDIENTS]],0),MATCH(C$2,Tab_Composants[#Headers],0))*C$3)/HLOOKUP(C$2,Composant!$A$1:$ZZ$2,2,0),0)} -> 0 | D9: {=IFERROR((INDEX(Tab_Composants[#All],MATCH(Tab_Recettes[[#This Row],[Ingrédients]:[Ingrédients]],Tab_Composants[[#All],[RECETTES et INGREDIENTS]:[RECETTES et INGREDIENTS]],0),MATCH(D$2,Tab_Composants[#Headers],0))*D$3)/HLOOKUP(D$2,Composant!$A$1:$ZZ$2,2,0),0)} -> 0 | E9: {=IFERROR((INDEX(Tab_Composants[#All],MATCH(Tab_Recettes[[#This Row],[Ingrédients]:[Ingrédients]],Tab_Composants[[#All],[RECETTES et INGREDIENTS]:[RECETTES et INGREDIENTS]],0),MATCH(E$2,Tab_Composants[#Headers],0))*E$3)/HLOOKUP(E$2,Composant!$A$1:$ZZ$2,2,0),0)} -> 0 | F9: {=IFERROR((INDEX(Tab_Composants[#All],MATCH(Tab_Recettes[[#This Row],[Ingrédients]:[Ingrédients]],Tab_Composants[[#All],[RECETTES et INGREDIENTS]:[RECETTES et INGREDIENTS]],0),MATCH(F$2,Tab_Composants[#Headers],0))*F$3)/HLOOKUP(F$2,Composant!$A$1:$ZZ$2,2,0),0)} -> 0 | G9: {=IFERROR((INDEX(Tab_Composants[#All],MATCH(Tab_Recettes[[#This Row],[Ingrédients]:[Ingrédients]],Tab_Composants[[#All],[RECETTES et INGREDIENTS]:[RECETTES et INGREDIENTS]],0),MATCH(G$2,Tab_Composants[#Headers],0))*G$3)/HLOOKUP(G$2,Composant!$A$1:$ZZ$2,2,0),0)} -> 0 | H9: {=IFERROR((INDEX(Tab_Composants[#All],MATCH(Tab_Recettes[[#This Row],[Ingrédients]:[Ingrédients]],Tab_Composants[[#All],[RECETTES et INGREDIENTS]:[RECETTES et INGREDIENTS]],0),MATCH(H$2,Tab_Composants[#Headers],0))*H$3)/HLOOKUP(H$2,Composant!$A$1:$ZZ$2,2,0),0)} -> 0 | I9: {=IFERROR((INDEX(Tab_Composants[#All],MATCH(Tab_Recettes[[#This Row],[Ingrédients]:[Ingrédients]],Tab_Composants[[#All],[RECETTES et INGREDIENTS]:[RECETTES et INGREDIENTS]],0),MATCH(I$2,Tab_Composants[#Headers],0))*I$3)/HLOOKUP(I$2,Composant!$A$1:$ZZ$2,2,0),0)} -> 0 | J9: {=IFERROR((INDEX(Tab_Composants[#All],MATCH(Tab_Recettes[[#This Row],[Ingrédients]:[Ingrédients]],Tab_Composants[[#All],[RECETTES et INGREDIENTS]:[RECETTES et INGREDIENTS]],0),MATCH(J$2,Tab_Composants[#Headers],0))*J$3)/HLOOKUP(J$2,Composant!$A$1:$ZZ$2,2,0),0)} -> 0 | ... AK9: {=IFERROR((INDEX(Tab_Composants[#All],MATCH(Tab_Recettes[[#This Row],[Ingrédients]:[Ingrédients]],Tab_Composants[[#All],[RECETTES et INGREDIENTS]:[RECETTES et INGREDIENTS]],0),MATCH(AK$2,Tab_Composants[#Headers],0))*AK$3)/HLOOKUP(AK$2,Composant!$A$1:$ZZ$2,2,0),0)} -> 0
A10: Poudre à crème | B10: =SUM(C10:AK10) -> 0.08 | C10: {=IFERROR((INDEX(Tab_Composants[#All],MATCH(Tab_Recettes[[#This Row],[Ingrédients]:[Ingrédients]],Tab_Composants[[#All],[RECETTES et INGREDIENTS]:[RECETTES et INGREDIENTS]],0),MATCH(C$2,Tab_Composants[#Headers],0))*C$3)/HLOOKUP(C$2,Composant!$A$1:$ZZ$2,2,0),0)} -> 0 | D10: {=IFERROR((INDEX(Tab_Composants[#All],MATCH(Tab_Recettes[[#This Row],[Ingrédients]:[Ingrédients]],Tab_Composants[[#All],[RECETTES et INGREDIENTS]:[RECETTES et INGREDIENTS]],0),MATCH(D$2,Tab_Composants[#Headers],0))*D$3)/HLOOKUP(D$2,Composant!$A$1:$ZZ$2,2,0),0)} -> 0.08 | E10: {=IFERROR((INDEX(Tab_Composants[#All],MATCH(Tab_Recettes[[#This Row],[Ingrédients]:[Ingrédients]],Tab_Composants[[#All],[RECETTES et INGREDIENTS]:[RECETTES et INGREDIENTS]],0),MATCH(E$2,Tab_Composants[#Headers],0))*E$3)/HLOOKUP(E$2,Composant!$A$1:$ZZ$2,2,0),0)} -> 0 | F10: {=IFERROR((INDEX(Tab_Composants[#All],MATCH(Tab_Recettes[[#This Row],[Ingrédients]:[Ingrédients]],Tab_Composants[[#All],[RECETTES et INGREDIENTS]:[RECETTES et INGREDIENTS]],0),MATCH(F$2,Tab_Composants[#Headers],0))*F$3)/HLOOKUP(F$2,Composant!$A$1:$ZZ$2,2,0),0)} -> 0 | G10: {=IFERROR((INDEX(Tab_Composants[#All],MATCH(Tab_Recettes[[#This Row],[Ingrédients]:[Ingrédients]],Tab_Composants[[#All],[RECETTES et INGREDIENTS]:[RECETTES et INGREDIENTS]],0),MATCH(G$2,Tab_Composants[#Headers],0))*G$3)/HLOOKUP(G$2,Composant!$A$1:$ZZ$2,2,0),0)} -> 0 | H10: {=IFERROR((INDEX(Tab_Composants[#All],MATCH(Tab_Recettes[[#This Row],[Ingrédients]:[Ingrédients]],Tab_Composants[[#All],[RECETTES et INGREDIENTS]:[RECETTES et INGREDIENTS]],0),MATCH(H$2,Tab_Composants[#Headers],0))*H$3)/HLOOKUP(H$2,Composant!$A$1:$ZZ$2,2,0),0)} -> 0 | I10: {=IFERROR((INDEX(Tab_Composants[#All],MATCH(Tab_Recettes[[#This Row],[Ingrédients]:[Ingrédients]],Tab_Composants[[#All],[RECETTES et INGREDIENTS]:[RECETTES et INGREDIENTS]],0),MATCH(I$2,Tab_Composants[#Headers],0))*I$3)/HLOOKUP(I$2,Composant!$A$1:$ZZ$2,2,0),0)} -> 0 | J10: {=IFERROR((INDEX(Tab_Composants[#All],MATCH(Tab_Recettes[[#This Row],[Ingrédients]:[Ingrédients]],Tab_Composants[[#All],[RECETTES et INGREDIENTS]:[RECETTES et INGREDIENTS]],0),MATCH(J$2,Tab_Composants[#Headers],0))*J$3)/HLOOKUP(J$2,Composant!$A$1:$ZZ$2,2,0),0)} -> 0 | ... AK10: {=IFERROR((INDEX(Tab_Composants[#All],MATCH(Tab_Recettes[[#This Row],[Ingrédients]:[Ingrédients]],Tab_Composants[[#All],[RECETTES et INGREDIENTS]:[RECETTES et INGREDIENTS]],0),MATCH(AK$2,Tab_Composants[#Headers],0))*AK$3)/HLOOKUP(AK$2,Composant!$A$1:$ZZ$2,2,0),0)} -> 0
A11: Sucre en Poudre | B11: =SUM(C11:AK11) -> 0.12 | C11: {=IFERROR((INDEX(Tab_Composants[#All],MATCH(Tab_Recettes[[#This Row],[Ingrédients]:[Ingrédients]],Tab_Composants[[#All],[RECETTES et INGREDIENTS]:[RECETTES et INGREDIENTS]],0),MATCH(C$2,Tab_Composants[#Headers],0))*C$3)/HLOOKUP(C$2,Composant!$A$1:$ZZ$2,2,0),0)} -> 0 | D11: {=IFERROR((INDEX(Tab_Composants[#All],MATCH(Tab_Recettes[[#This Row],[Ingrédients]:[Ingrédients]],Tab_Composants[[#All],[RECETTES et INGREDIENTS]:[RECETTES et INGREDIENTS]],0),MATCH(D$2,Tab_Composants[#Headers],0))*D$3)/HLOOKUP(D$2,Composant!$A$1:$ZZ$2,2,0),0)} -> 0.12 | E11: {=IFERROR((INDEX(Tab_Composants[#All],MATCH(Tab_Recettes[[#This Row],[Ingrédients]:[Ingrédients]],Tab_Composants[[#All],[RECETTES et INGREDIENTS]:[RECETTES et INGREDIENTS]],0),MATCH(E$2,Tab_Composants[#Headers],0))*E$3)/HLOOKUP(E$2,Composant!$A$1:$ZZ$2,2,0),0)} -> 0 | F11: {=IFERROR((INDEX(Tab_Composants[#All],MATCH(Tab_Recettes[[#This Row],[Ingrédients]:[Ingrédients]],Tab_Composants[[#All],[RECETTES et INGREDIENTS]:[RECETTES et INGREDIENTS]],0),MATCH(F$2,Tab_Composants[#Headers],0))*F$3)/HLOOKUP(F$2,Composant!$A$1:$ZZ$2,2,0),0)} -> 0 | G11: {=IFERROR((INDEX(Tab_Composants[#All],MATCH(Tab_Recettes[[#This Row],[Ingrédients]:[Ingrédients]],Tab_Composants[[#All],[RECETTES et INGREDIENTS]:[RECETTES et INGREDIENTS]],0),MATCH(G$2,Tab_Composants[#Headers],0))*G$3)/HLOOKUP(G$2,Composant!$A$1:$ZZ$2,2,0),0)} -> 0 | H11: {=IFERROR((INDEX(Tab_Composants[#All],MATCH(Tab_Recettes[[#This Row],[Ingrédients]:[Ingrédients]],Tab_Composants[[#All],[RECETTES et INGREDIENTS]:[RECETTES et INGREDIENTS]],0),MATCH(H$2,Tab_Composants[#Headers],0))*H$3)/HLOOKUP(H$2,Composant!$A$1:$ZZ$2,2,0),0)} -> 0 | I11: {=IFERROR((INDEX(Tab_Composants[#All],MATCH(Tab_Recettes[[#This Row],[Ingrédients]:[Ingrédients]],Tab_Composants[[#All],[RECETTES et INGREDIENTS]:[RECETTES et INGREDIENTS]],0),MATCH(I$2,Tab_Composants[#Headers],0))*I$3)/HLOOKUP(I$2,Composant!$A$1:$ZZ$2,2,0),0)} -> 0 | J11: {=IFERROR((INDEX(Tab_Composants[#All],MATCH(Tab_Recettes[[#This Row],[Ingrédients]:[Ingrédients]],Tab_Composants[[#All],[RECETTES et INGREDIENTS]:[RECETTES et INGREDIENTS]],0),MATCH(J$2,Tab_Composants[#Headers],0))*J$3)/HLOOKUP(J$2,Composant!$A$1:$ZZ$2,2,0),0)} -> 0 | ... AK11: {=IFERROR((INDEX(Tab_Composants[#All],MATCH(Tab_Recettes[[#This Row],[Ingrédients]:[Ingrédients]],Tab_Composants[[#All],[RECETTES et INGREDIENTS]:[RECETTES et INGREDIENTS]],0),MATCH(AK$2,Tab_Composants[#Headers],0))*AK$3)/HLOOKUP(AK$2,Composant!$A$1:$ZZ$2,2,0),0)} -> 0
A12: Lait en Poudre | B12: =SUM(C12:AK12) -> 0.08 | C12: {=IFERROR((INDEX(Tab_Composants[#All],MATCH(Tab_Recettes[[#This Row],[Ingrédients]:[Ingrédients]],Tab_Composants[[#All],[RECETTES et INGREDIENTS]:[RECETTES et INGREDIENTS]],0),MATCH(C$2,Tab_Composants[#Headers],0))*C$3)/HLOOKUP(C$2,Composant!$A$1:$ZZ$2,2,0),0)} -> 0 | D12: {=IFERROR((INDEX(Tab_Composants[#All],MATCH(Tab_Recettes[[#This Row],[Ingrédients]:[Ingrédients]],Tab_Composants[[#All],[RECETTES et INGREDIENTS]:[RECETTES et INGREDIENTS]],0),MATCH(D$2,Tab_Composants[#Headers],0))*D$3)/HLOOKUP(D$2,Composant!$A$1:$ZZ$2,2,0),0)} -> 0.08 | E12: {=IFERROR((INDEX(Tab_Composants[#All],MATCH(Tab_Recettes[[#This Row],[Ingrédients]:[Ingrédients]],Tab_Composants[[#All],[RECETTES et INGREDIENTS]:[RECETTES et INGREDIENTS]],0),MATCH(E$2,Tab_Composants[#Headers],0))*E$3)/HLOOKUP(E$2,Composant!$A$1:$ZZ$2,2,0),0)} -> 0 | F12: {=IFERROR((INDEX(Tab_Composants[#All],MATCH(Tab_Recettes[[#This Row],[Ingrédients]:[Ingrédients]],Tab_Composants[[#All],[RECETTES et INGREDIENTS]:[RECETTES et INGREDIENTS]],0),MATCH(F$2,Tab_Composants[#Headers],0))*F$3)/HLOOKUP(F$2,Composant!$A$1:$ZZ$2,2,0),0)} -> 0 | G12: {=IFERROR((INDEX(Tab_Composants[#All],MATCH(Tab_Recettes[[#This Row],[Ingrédients]:[Ingrédients]],Tab_Composants[[#All],[RECETTES et INGREDIENTS]:[RECETTES et INGREDIENTS]],0),MATCH(G$2,Tab_Composants[#Headers],0))*G$3)/HLOOKUP(G$2,Composant!$A$1:$ZZ$2,2,0),0)} -> 0 | H12: {=IFERROR((INDEX(Tab_Composants[#All],MATCH(Tab_Recettes[[#This Row],[Ingrédients]:[Ingrédients]],Tab_Composants[[#All],[RECETTES et INGREDIENTS]:[RECETTES et INGREDIENTS]],0),MATCH(H$2,Tab_Composants[#Headers],0))*H$3)/HLOOKUP(H$2,Composant!$A$1:$ZZ$2,2,0),0)} -> 0 | I12: {=IFERROR((INDEX(Tab_Composants[#All],MATCH(Tab_Recettes[[#This Row],[Ingrédients]:[Ingrédients]],Tab_Composants[[#All],[RECETTES et INGREDIENTS]:[RECETTES et INGREDIENTS]],0),MATCH(I$2,Tab_Composants[#Headers],0))*I$3)/HLOOKUP(I$2,Composant!$A$1:$ZZ$2,2,0),0)} -> 0 | J12: {=IFERROR((INDEX(Tab_Composants[#All],MATCH(Tab_Recettes[[#This Row],[Ingrédients]:[Ingrédients]],Tab_Composants[[#All],[RECETTES et INGREDIENTS]:[RECETTES et INGREDIENTS]],0),MATCH(J$2,Tab_Composants[#Headers],0))*J$3)/HLOOKUP(J$2,Composant!$A$1:$ZZ$2,2,0),0)} -> 0 | ... AK12: {=IFERROR((INDEX(Tab_Composants[#All],MATCH(Tab_Recettes[[#This Row],[Ingrédients]:[Ingrédients]],Tab_Composants[[#All],[RECETTES et INGREDIENTS]:[RECETTES et INGREDIENTS]],0),MATCH(AK$2,Tab_Composants[#Headers],0))*AK$3)/HLOOKUP(AK$2,Composant!$A$1:$ZZ$2,2,0),0)} -> 0
A13: Eau | B13: =SUM(C13:AK13) -> 0.72 | C13: {=IFERROR((INDEX(Tab_Composants[#All],MATCH(Tab_Recettes[[#This Row],[Ingrédients]:[Ingrédients]],Tab_Composants[[#All],[RECETTES et INGREDIENTS]:[RECETTES et INGREDIENTS]],0),MATCH(C$2,Tab_Composants[#Headers],0))*C$3)/HLOOKUP(C$2,Composant!$A$1:$ZZ$2,2,0),0)} -> 0 | D13: {=IFERROR((INDEX(Tab_Composants[#All],MATCH(Tab_Recettes[[#This Row],[Ingrédients]:[Ingrédients]],Tab_Composants[[#All],[RECETTES et INGREDIENTS]:[RECETTES et INGREDIENTS]],0),MATCH(D$2,Tab_Composants[#Headers],0))*D$3)/HLOOKUP(D$2,Composant!$A$1:$ZZ$2,2,0),0)} -> 0.72 | E13: {=IFERROR((INDEX(Tab_Composants[#All],MATCH(Tab_Recettes[[#This Row],[Ingrédients]:[Ingrédients]],Tab_Composants[[#All],[RECETTES et INGREDIENTS]:[RECETTES et INGREDIENTS]],0),MATCH(E$2,Tab_Composants[#Headers],0))*E$3)/HLOOKUP(E$2,Composant!$A$1:$ZZ$2,2,0),0)} -> 0 | F13: {=IFERROR((INDEX(Tab_Composants[#All],MATCH(Tab_Recettes[[#This Row],[Ingrédients]:[Ingrédients]],Tab_Composants[[#All],[RECETTES et INGREDIENTS]:[RECETTES et INGREDIENTS]],0),MATCH(F$2,Tab_Composants[#Headers],0))*F$3)/HLOOKUP(F$2,Composant!$A$1:$ZZ$2,2,0),0)} -> 0 | G13: {=IFERROR((INDEX(Tab_Composants[#All],MATCH(Tab_Recettes[[#This Row],[Ingrédients]:[Ingrédients]],Tab_Composants[[#All],[RECETTES et INGREDIENTS]:[RECETTES et INGREDIENTS]],0),MATCH(G$2,Tab_Composants[#Headers],0))*G$3)/HLOOKUP(G$2,Composant!$A$1:$ZZ$2,2,0),0)} -> 0 | H13: {=IFERROR((INDEX(Tab_Composants[#All],MATCH(Tab_Recettes[[#This Row],[Ingrédients]:[Ingrédients]],Tab_Composants[[#All],[RECETTES et INGREDIENTS]:[RECETTES et INGREDIENTS]],0),MATCH(H$2,Tab_Composants[#Headers],0))*H$3)/HLOOKUP(H$2,Composant!$A$1:$ZZ$2,2,0),0)} -> 0 | I13: {=IFERROR((INDEX(Tab_Composants[#All],MATCH(Tab_Recettes[[#This Row],[Ingrédients]:[Ingrédients]],Tab_Composants[[#All],[RECETTES et INGREDIENTS]:[RECETTES et INGREDIENTS]],0),MATCH(I$2,Tab_Composants[#Headers],0))*I$3)/HLOOKUP(I$2,Composant!$A$1:$ZZ$2,2,0),0)} -> 0 | J13: {=IFERROR((INDEX(Tab_Composants[#All],MATCH(Tab_Recettes[[#This Row],[Ingrédients]:[Ingrédients]],Tab_Composants[[#All],[RECETTES et INGREDIENTS]:[RECETTES et INGREDIENTS]],0),MATCH(J$2,Tab_Composants[#Headers],0))*J$3)/HLOOKUP(J$2,Composant!$A$1:$ZZ$2,2,0),0)} -> 0 | ... AK13: {=IFERROR((INDEX(Tab_Composants[#All],MATCH(Tab_Recettes[[#This Row],[Ingrédients]:[Ingrédients]],Tab_Composants[[#All],[RECETTES et INGREDIENTS]:[RECETTES et INGREDIENTS]],0),MATCH(AK$2,Tab_Composants[#Headers],0))*AK$3)/HLOOKUP(AK$2,Composant!$A$1:$ZZ$2,2,0),0)} -> 0
A14: Farine | B14: =SUM(C14:AK14) -> 0 | C14: {=IFERROR((INDEX(Tab_Composants[#All],MATCH(Tab_Recettes[[#This Row],[Ingrédients]:[Ingrédients]],Tab_Composants[[#All],[RECETTES et INGREDIENTS]:[RECETTES et INGREDIENTS]],0),MATCH(C$2,Tab_Composants[#Headers],0))*C$3)/HLOOKUP(C$2,Composant!$A$1:$ZZ$2,2,0),0)} -> 0 | D14: {=IFERROR((INDEX(Tab_Composants[#All],MATCH(Tab_Recettes[[#This Row],[Ingrédients]:[Ingrédients]],Tab_Composants[[#All],[RECETTES et INGREDIENTS]:[RECETTES et INGREDIENTS]],0),MATCH(D$2,Tab_Composants[#Headers],0))*D$3)/HLOOKUP(D$2,Composant!$A$1:$ZZ$2,2,0),0)} -> 0 | E14: {=IFERROR((INDEX(Tab_Composants[#All],MATCH(Tab_Recettes[[#This Row],[Ingrédients]:[Ingrédients]],Tab_Composants[[#All],[RECETTES et INGREDIENTS]:[RECETTES et INGREDIENTS]],0),MATCH(E$2,Tab_Composants[#Headers],0))*E$3)/HLOOKUP(E$2,Composant!$A$1:$ZZ$2,2,0),0)} -> 0 | F14: {=IFERROR((INDEX(Tab_Composants[#All],MATCH(Tab_Recettes[[#This Row],[Ingrédients]:[Ingrédients]],Tab_Composants[[#All],[RECETTES et INGREDIENTS]:[RECETTES et INGREDIENTS]],0),MATCH(F$2,Tab_Composants[#Headers],0))*F$3)/HLOOKUP(F$2,Composant!$A$1:$ZZ$2,2,0),0)} -> 0 | G14: {=IFERROR((INDEX(Tab_Composants[#All],MATCH(Tab_Recettes[[#This Row],[Ingrédients]:[Ingrédients]],Tab_Composants[[#All],[RECETTES et INGREDIENTS]:[RECETTES et INGREDIENTS]],0),MATCH(G$2,Tab_Composants[#Headers],0))*G$3)/HLOOKUP(G$2,Composant!$A$1:$ZZ$2,2,0),0)} -> 0 | H14: {=IFERROR((INDEX(Tab_Composants[#All],MATCH(Tab_Recettes[[#This Row],[Ingrédients]:[Ingrédients]],Tab_Composants[[#All],[RECETTES et INGREDIENTS]:[RECETTES et INGREDIENTS]],0),MATCH(H$2,Tab_Composants[#Headers],0))*H$3)/HLOOKUP(H$2,Composant!$A$1:$ZZ$2,2,0),0)} -> 0 | I14: {=IFERROR((INDEX(Tab_Composants[#All],MATCH(Tab_Recettes[[#This Row],[Ingrédients]:[Ingrédients]],Tab_Composants[[#All],[RECETTES et INGREDIENTS]:[RECETTES et INGREDIENTS]],0),MATCH(I$2,Tab_Composants[#Headers],0))*I$3)/HLOOKUP(I$2,Composant!$A$1:$ZZ$2,2,0),0)} -> 0 | J14: {=IFERROR((INDEX(Tab_Composants[#All],MATCH(Tab_Recettes[[#This Row],[Ingrédients]:[Ingrédients]],Tab_Composants[[#All],[RECETTES et INGREDIENTS]:[RECETTES et INGREDIENTS]],0),MATCH(J$2,Tab_Composants[#Headers],0))*J$3)/HLOOKUP(J$2,Composant!$A$1:$ZZ$2,2,0),0)} -> 0 | ... AK14: {=IFERROR((INDEX(Tab_Composants[#All],MATCH(Tab_Recettes[[#This Row],[Ingrédients]:[Ingrédients]],Tab_Composants[[#All],[RECETTES et INGREDIENTS]:[RECETTES et INGREDIENTS]],0),MATCH(AK$2,Tab_Composants[#Headers],0))*AK$3)/HLOOKUP(AK$2,Composant!$A$1:$ZZ$2,2,0),0)} -> 0

Sheet Composant
A1: RECETTES et INGREDIENTS | B1: PÂTE SUCREE | C1: CREME PATISSIERE | D1: BISCUIT CHEESECAKE | E1: GENOISE AMANDE | F1: GENOISE CACAO | G1: GENOISE NATURE | H1: BISCUIT JOCONDE | I1: BISCUIT SNICKERS | J1: BISCUIT SUCCES AMANDE | K1: CREME CHEESE
A2: POIDS | B2: =SUM(B3:B12) -> 12.99 | C2: =SUM(C3:C12) -> 1.25 | E2: 3
A3: Sucre Glace | B3: 3 | E3: 2
A4: Œuf | B4: 1.5 | E4: 2
A5: Levure | B5: 0.03 | E5: 0.05
A6: Beurre | B6: 2.4 | E6: 3
A7: Sel | B7: 0.06 | E7: 0.05
A8: Poudre à crème | C8: 0.1
A9: Sucre en Poudre | C9: 0.15
A10: Lait en Poudre | C10: 0.1
A11: Eau | C11: 0.9
A12: Farine | B12: 6 | E12: 4
D63: 1 | E63: 2
D69: 20
C82: 20
C87: 6 | D87: 10 | F87: 6

Sheet Liste_Pâtisseries
A1: PÂTE SUCREE
A2: CREME PATISSIERE
A3: BISCUIT CHEESECAKE
A4: GENOISE AMANDE
A5: GENOISE CACAO
A6: GENOISE NATURE
A7: BISCUIT JOCONDE
A8: BISCUIT SNICKERS
A9: BISCUIT SUCCES AMANDE
A10: CREME CHEESE
A11: MOUSSE OREO

Sheet Liste course
A1: Liste de course
A3: Ingrédient | B3: Quantité
A4: =Recettes!A5 -> Sucre Glace | B4: =Tab_Recettes[[#This Row],[Colonne15]] -> #VALUE!
A5: =Recettes!A6 -> Œuf | B5: =Tab_Recettes[[#This Row],[Colonne15]] -> 0
A6: =Recettes!A7 -> Levure | B6: =Tab_Recettes[[#This Row],[Colonne15]] -> 0
A7: =Recettes!A8 -> Beurre | B7: =Tab_Recettes[[#This Row],[Colonne15]] -> 0
A8: =Recettes!A9 -> Sel | B8: =Tab_Recettes[[#This Row],[Colonne15]] -> 0
A9: =Recettes!A10 -> Poudre à crème | B9: =Tab_Recettes[[#This Row],[Colonne15]] -> 0
A10: =Recettes!A11 -> Sucre en Poudre | B10: =Tab_Recettes[[#This Row],[Colonne15]] -> 0.08
A11: =Recettes!A12 -> Lait en Poudre | B11: =Tab_Recettes[[#This Row],[Colonne15]] -> 0.12
A12: =Recettes!A13 -> Eau | B12: =Tab_Recettes[[#This Row],[Colonne15]] -> 0.08
A13: =Recettes!A14 -> Farine | B13: =Tab_Recettes[[#This Row],[Colonne15]] -> 0.72
B14: =Tab_Recettes[[#This Row],[Colonne15]] -> 0
B15: =Tab_Recettes[[#This Row],[Colonne15]] -> #VALUE!
A16: =Recettes!A15 -> 0 | B16: =SUM(Recettes!15:15) -> 0
A17: =Recettes!A16 -> 0 | B17: =SUM(Recettes!16:16) -> 0
A18: =Recettes!A17 -> 0 | B18: =SUM(Recettes!17:17) -> 0
A19: =Recettes!A18 -> 0 | B19: =SUM(Recettes!18:18) -> 0
B20: =SUM(Recettes!19:19) -> 0
A21: =Recettes!A20 -> 0 | B21: =SUM(Recettes!20:20) -> 0
A22: =Recettes!A21 -> 0 | B22: =SUM(Recettes!21:21) -> 0
A23: =Recettes!A22 -> 0 | B23: =SUM(Recettes!22:22) -> 0
A24: =Recettes!A23 -> 0 | B24: =SUM(Recettes!23:23) -> 0
A25: =Recettes!A24 -> 0 | B25: =SUM(Recettes!24:24) -> 0
A26: =Recettes!A25 -> 0 | B26: =SUM(Recettes!25:25) -> 0
A27: =Recettes!A26 -> 0 | B27: =SUM(Recettes!26:26) -> 0
A28: =Recettes!A27 -> 0 | B28: =SUM(Recettes!27:27) -> 0
A29: =Recettes!A28 -> 0 | B29: =SUM(Recettes!28:28) -> 0
A30: =Recettes!A29 -> 0 | B30: =SUM(Recettes!29:29) -> 0
A31: =Recettes!A30 -> 0 | B31: =SUM(Recettes!30:30) -> 0
A32: =Recettes!A31 -> 0 | B32: =SUM(Recettes!31:31) -> 0
A33: =Recettes!A32 -> 0 | B33: =SUM(Recettes!32:32) -> 0
A34: =Recettes!A33 -> 0 | B34: =SUM(Recettes!33:33) -> 0
A35: =Recettes!A34 -> 0 | B35: =SUM(Recettes!34:34) -> 0
A36: =Recettes!A35 -> 0 | B36: =SUM(Recettes!35:35) -> 0
A37: =Recettes!A36 -> 0 | B37: =SUM(Recettes!36:36) -> 0
A38: =Recettes!A37 -> 0 | B38: =SUM(Recettes!37:37) -> 0
A39: =Recettes!A38 -> 0 | B39: =SUM(Recettes!38:38) -> 0
A40: =Recettes!A39 -> 0 | B40: =SUM(Recettes!39:39) -> 0
A41: =Recettes!A40 -> 0 | B41: =SUM(Recettes!40:40) -> 0
...
