Workbook
Name Liste: Tab_Liste[[#All],[PÂTE SUCREE]]

Sheet Recettes
A1: RECETTES pour | C1: FLAN | E1: CHEESECAKE
A2: INGREDIENTS et quantité souhaitée pour | C2: PÂTE SUCREE | D2: CREME PATISSIERE | E2: BISCUIT CHEESECAKE | F2: CREME CHEESE | G2: MOUSSE OREO | H2: GENOISE NATURE | I2: BISCUIT JOCONDE | J2: BISCUIT SNICKERS | K2: BISCUIT SUCCES AMANDE
B3: Total ingrédients | C3: 0,5 | D3: 1 | E3: 2 | F3: 1
A4: Ingrédients | B4: Colonne15 | C4: Colonne1 | D4: Colonne2 | E4: Colonne3 | F4: Colonne4 | G4: Colonne5 | H4: Colonne6 | I4: Colonne7 | J4: Colonne8 | K4: Colonne9 | L4: Colonne10 | M4: Colonne11 | N4: Colonne12 | O4: Colonne13 | P4: Colonne14 | Q4: Colonne15 | R4: Colonne16 | S4: Colonne17 | T4: Colonne18 | U4: Colonne19 | V4: Colonne20 | W4: Colonne21 | X4: Colonne22 | Y4: Colonne23 | Z4: Colonne24 | AA4: Colonne25 | AB4: Colonne26 | AC4: Colonne27 | AD4: Colonne28 | AE4: Colonne29 | AF4: Colonne30 | AG4: Colonne31 | AH4: Colonne32 | AI4: Colonne33 | AJ4: Colonne34 | AK4: Colonne35
A5: Sucre Glace | B5: =SUM(C5:AK5) -> 0 | C5: {=IFERROR((INDEX(Tab_Composants[#All],MATCH(Tab_Recettes[[#This Row],[Ingrédients]:[Ingrédients]],Tab_Composants[[#All],[RECETTES et INGREDIENTS]:[RECETTES et INGREDIENTS]],0),MATCH(C$2,Tab_Composants[#Headers],0))*C$3)/HLOOKUP(C$2,Composant!$A$1:$ZZ$2,2,0),0)} -> 0 | D5: {=IFERROR((INDEX(Tab_Composants[#All],MATCH(Tab_Recettes[[#This Row],[Ingrédients]:[Ingrédients]],Tab_Composants[[#All],[RECETTES et INGREDIENTS]:[RECETTES et INGREDIENTS]],0),MATCH(D$2,Tab_Composants[#Headers],0))*D$3)/HLOOKUP(D$2,Composant!$A$1:$ZZ$2,2,0),0)} -> 0 | E5: {=IFERROR((INDEX(Tab_Composants[#All],MATCH(Tab_Recettes[[#This Row],[Ingrédients]:[Ingrédients]],Tab_Composants[[#All],[RECETTES et INGREDIENTS]:[RECETTES et INGREDIENTS]],0),MATCH(E$2,Tab_Composants[#Headers],0))*E$3)/HLOOKUP(E$2,Composant!$A$1:$ZZ$2,2,0),0)} -> 0 | F5: {=IFERROR((INDEX(Tab_Composants[#All],MATCH(Tab_Recettes[[#This Row],[Ingrédients]:[Ingrédients]],Tab_Composants[[#All],[RECETTES et INGREDIENTS]:[RECETTES et INGREDIENTS]],0),MATCH(F$2,Tab_Composants[#Headers],0))*F$3)/HLOOKUP(F$2,Composant!$A$1:$ZZ$2,2,0),0)} -> 0 | G5: {=IFERROR((INDEX(Tab_Composants[#All],MATCH(Tab_Recettes[[#This Row],[Ingrédients]:[Ingrédients]],Tab_Composants[[#All],[RECETTES et INGREDIENTS]:[RECETTES et INGREDIENTS]],0),MATCH(G$2,Tab_Composants[#Headers],0))*G$3)/HLOOKUP(G$2,Composant!$A$1:$ZZ$2,2,0),0)} -> 0 | H5: {=IFERROR((INDEX(Tab_Composants[#All],MATCH(Tab_Recettes[[#This Row],[Ingrédients]:[Ingrédients]],Tab_Composants[[#All],[RECETTES et INGREDIENTS]:[RECETTES et INGREDIENTS]],0),MATCH(H$2,Tab_Composants[#Headers],0))*H$3)/HLOOKUP(H$2,Composant!$A$1:$ZZ$2,2,0),0)} -> 0 | I5: {=IFERROR((INDEX(Tab_Composants[#All],MATCH(Tab_Recettes[[#This Row],[Ingrédients]:[Ingrédients]],Tab_Composants[[#All],[RECETTES et INGREDIENTS]:[RECETTES et INGREDIENTS]],0),MATCH(I$2,Tab_Composants[#Headers],0))*I$3)/HLOOKUP(I$2,Composant!$A$1:$ZZ$2,2,0),0)} -> 0 | J5: {=IFERROR((INDEX(Tab_Composants[#All],MATCH(Tab_Recettes[[#This Row],[Ingrédients]:[Ingrédients]],Tab_Composants[[#All],[RECETTES et INGREDIENTS]:[RECETTES et INGREDIENTS]],0),MATCH(J$2,Tab_Composants[#Headers],0))*J$3)/HLOOKUP(J$2,Composant!$A$1:$ZZ$2,2,0),0)} -> 0 | ... AK5: {=IFERROR((INDEX(Tab_Composants[#All],MATCH(Tab_Recettes[[#This Row],[Ingrédients]:[Ingrédients]],Tab_Composants[[#All],[RECETTES et INGREDIENTS]:[RECETTES et INGREDIENTS]],0),MATCH(AK$2,Tab_Composants[#Headers],0))*AK$3)/HLOOKUP(AK$2,Composant!$A$1:$ZZ$2,2,0),0)} -> 0
A6: Œuf | B6: =SUM(C6:AK6) -> 0 | C6: {=IFERROR((INDEX(Tab_Composants[#All],MATCH(Tab_Recettes[[#This Row],[Ingrédients]:[Ingrédients]],Tab_Composants[[#All],[RECETTES et INGREDIENTS]:[RECETTES et INGREDIENTS]],0),MATCH(C$2,Tab_Composants[#Headers],0))*C$3)/HLOOKUP(C$2,Composant!$A$1:$ZZ$2,2,0),0)} -> 0 | D6: {=IFERROR((INDEX(Tab_Composants[#All],MATCH(Tab_Recettes[[#This Row],[Ingrédients]:[Ingrédients]],Tab_Composants[[#All],[RECETTES et INGREDIENTS]:[RECETTES et INGREDIENTS]],0),MATCH(D$2,Tab_Composants[#Headers],0))*D$3)/HLOOKUP(D$2,Composant!$A$1:$ZZ$2,2,0),0)} -> 0 | E6: {=IFERROR((INDEX(Tab_Composants[#All],MATCH(Tab_Recettes[[#This Row],[Ingrédients]:[Ingrédients]],Tab_Composants[[#All],[RECETTES et INGREDIENTS]:[RECETTES et INGREDIENTS]],0),MATCH(E$2,Tab_Composants[#Headers],0))*E$3)/HLOOKUP(E$2,Composant!$A$1:$ZZ$2,2,0),0)} -> 0 | F6: {=IFERROR((INDEX(Tab_Composants[#All],MATCH(Tab_Recettes[[#This Row],[Ingrédients]:[Ingrédients]],Tab_Composants[[#All],[RECETTES et INGREDIENTS]:[RECETTES et INGREDIENTS]],0),MATCH(F$2,Tab_Composants[#Headers],0))*F$3)/HLOOKUP(F$2,Composant!$A$1:$ZZ$2,2,0),0)} -> 0 | G6: {=IFERROR((INDEX(Tab_Composants[#All],MATCH(Tab_Recettes[[#This Row],[Ingrédients]:[Ingrédients]],Tab_Composants[[#All],[RECETTES et INGREDIENTS]:[RECETTES et INGREDIENTS]],0),MATCH(G$2,Tab_Composants[#Headers],0))*G$3)/HLOOKUP(G$2,Composant!$A$1:$ZZ$2,2,0),0)} -> 0 | H6: {=IFERROR((INDEX(Tab_Composants[#All],MATCH(Tab_Recettes[[#This Row],[Ingrédients]:[Ingrédients]],Tab_Composants[[#All],[RECETTES et INGREDIENTS]:[RECETTES et INGREDIENTS]],0),MATCH(H$2,Tab_Composants[#Headers],0))*H$3)/HLOOKUP(H$2,Composant!$A$1:$ZZ$2,2,0),0)} -> 0 | I6: {=IFERROR((INDEX(Tab_Composants[#All],MATCH(Tab_Recettes[[#This Row],[Ingrédients]:[Ingrédients]],Tab_Composants[[#All],[RECETTES et INGREDIENTS]:[RECETTES et INGREDIENTS]],0),MATCH(I$2,Tab_Composants[#Headers],0))*I$3)/HLOOKUP(I$2,Composant!$A$1:$ZZ$2,2,0),0)} -> 0 | J6: {=IFERROR((INDEX(Tab_Composants[#All],MATCH(Tab_Recettes[[#This Row],[Ingrédients]:[Ingrédients]],Tab_Composants[[#All],[RECETTES et INGREDIENTS]:[RECETTES et INGREDIENTS]],0),MATCH(J$2,Tab_Composants[#Headers],0))*J$3)/HLOOKUP(J$2,Composant!$A$1:$ZZ$2,2,0),0)} -> 0 | ... AK6: {=IFERROR((INDEX(Tab_Composants[#All],MATCH(Tab_Recettes[[#This Row],[Ingrédients]:[Ingrédients]],Tab_Composants[[#All],[RECETTES et INGREDIENTS]:[RECETTES et INGREDIENTS]],0),MATCH(AK$2,Tab_Composants[#Headers],0))*AK$3)/HLOOKUP(AK$2,Composant!$A$1:$ZZ$2,2,0),0)} -> 0
A7: Levure | B7: =SUM(C7:AK7) -> 0 | C7: {=IFERROR((INDEX(Tab_Composants[#All],MATCH(Tab_Recettes[[#This Row],[Ingrédients]:[Ingrédients]],Tab_Composants[[#All],[RECETTES et INGREDIENTS]:[RECETTES et INGREDIENTS]],0),MATCH(C$2,Tab_Composants[#Headers],0))*C$3)/HLOOKUP(C$2,Composant!$A$1:$ZZ$2,2,0),0)} -> 0 | D7: {=IFERROR((INDEX(Tab_Composants[#All],MATCH(Tab_Recettes[[#This Row],[Ingrédients]:[Ingrédients]],Tab_Composants[[#All],[RECETTES et INGREDIENTS]:[RECETTES et INGREDIENTS]],0),MATCH(D$2,Tab_Composants[#Headers],0))*D$3)/HLOOKUP(D$2,Composant!$A$1:$ZZ$2,2,0),0)} -> 0 | E7: {=IFERROR((INDEX(Tab_Composants[#All],MATCH(Tab_Recettes[[#This Row],[Ingrédients]:[Ingrédients]],Tab_Composants[[#All],[RECETTES et INGREDIENTS]:[RECETTES et INGREDIENTS]],0),MATCH(E$2,Tab_Composants[#Headers],0))*E$3)/HLOOKUP(E$2,Composant!$A$1:$ZZ$2,2,0),0)} -> 0 | F7: {=IFERROR((INDEX(Tab_Composants[#All],MATCH(Tab_Recettes[[#This Row],[Ingrédients]:[Ingrédients]],Tab_Composants[[#All],[RECETTES et INGREDIENTS]:[RECETTES et INGREDIENTS]],0),MATCH(F$2,Tab_Composants[#Headers],0))*F$3)/HLOOKUP(F$2,Composant!$A$1:$ZZ$2,2,0),0)} -> 0 | G7: {=IFERROR((INDEX(Tab_Composants[#All],MATCH(Tab_Recettes[[#This Row],[Ingrédients]:[Ingrédients]],Tab_Composants[[#All],[RECETTES et INGREDIENTS]:[RECETTES et INGREDIENTS]],0),MATCH(G$2,Tab_Composants[#Headers],0))*G$3)/HLOOKUP(G$2,Composant!$A$1:$ZZ$2,2,0),0)} -> 0 | H7: {=IFERROR((INDEX(Tab_Composants[#All],MATCH(Tab_Recettes[[#This Row],[Ingrédients]:[Ingrédients]],Tab_Composants[[#All],[RECETTES et INGREDIENTS]:[RECETTES et INGREDIENTS]],0),MATCH(H$2,Tab_Composants[#Headers],0))*H$3)/HLOOKUP(H$2,Composant!$A$1:$ZZ$2,2,0),0)} -> 0 | I7: {=IFERROR((INDEX(Tab_Composants[#All],MATCH(Tab_Recettes[[#This Row],[Ingrédients]:[Ingrédients]],Tab_Composants[[#All],[RECETTES et INGREDIENTS]:[RECETTES et INGREDIENTS]],0),MATCH(I$2,Tab_Composants[#Headers],0))*I$3)/HLOOKUP(I$2,Composant!$A$1:$ZZ$2,2,0),0)} -> 0 | J7: {=IFERROR((INDEX(Tab_Composants[#All],MATCH(Tab_Recettes[[#This Row],[Ingrédients]:[Ingrédients]],Tab_Composants[[#All],[RECETTES et INGREDIENTS]:[RECETTES et INGREDIENTS]],0),MATCH(J$2,Tab_Composants[#Headers],0))*J$3)/HLOOKUP(J$2,Composant!$A$1:$ZZ$2,2,0),0)} -> 0 | ... AK7: {=IFERROR((INDEX(Tab_Composants[#All],MATCH(Tab_Recettes[[#This Row],[Ingrédients]:[Ingrédients]],Tab_Composants[[#All],[RECETTES et INGREDIENTS]:[RECETTES et INGREDIENTS]],0),MATCH(AK$2,Tab_Composants[#Headers],0))*AK$3)/HLOOKUP(AK$2,Composant!$A$1:$ZZ$2,2,0),0)} -> 0
A8: Beurre | B8: =SUM(C8:AK8) -> 0 | C8: {=IFERROR((INDEX(Tab_Composants[#All],MATCH(Tab_Recettes[[#This Row],[Ingrédients]:[Ingrédients]],Tab_Composants[[#All],[RECETTES et INGREDIENTS]:[RECETTES et INGREDIENTS]],0),MATCH(C$2,Tab_Composants[#Headers],0))*C$3)/HLOOKUP(C$2,Composant!$A$1:$ZZ$2,2,0),0)} -> 0 | D8: {=IFERROR((INDEX(Tab_Composants[#All],MATCH(Tab_Recettes[[#This Row],[Ingrédients]:[Ingrédients]],Tab_Composants[[#All],[RECETTES et INGREDIENTS]:[RECETTES et INGREDIENTS]],0),MATCH(D$2,Tab_Composants[#Headers],0))*D$3)/HLOOKUP(D$2,Composant!$A$1:$ZZ$2,2,0),0)} -> 0 | E8: {=IFERROR((INDEX(Tab_Composants[#All],MATCH(Tab_Recettes[[#This Row],[Ingrédients]:[Ingrédients]],Tab_Composants[[#All],[RECETTES et INGREDIENTS]:[RECETTES et INGREDIENTS]],0),MATCH(E$2,Tab_Composants[#Headers],0))*E$3)/HLOOKUP(E$2,Composant!$A$1:$ZZ$2,2,0),0)} -> 0 | F8: {=IFERROR((INDEX(Tab_Composants[#All],MATCH(Tab_Recettes[[#This Row],[Ingrédients]:[Ingrédients]],Tab_Composants[[#All],[RECETTES et INGREDIENTS]:[RECETTES et INGREDIENTS]],0),MATCH(F$2,Tab_Composants[#Headers],0))*F$3)/HLOOKUP(F$2,Composant!$A$1:$ZZ$2,2,0),0)} -> 0 | G8: {=IFERROR((INDEX(Tab_Composants[#All],MATCH(Tab_Recettes[[#This Row],[Ingrédients]:[Ingrédients]],Tab_Composants[[#All],[RECETTES et INGREDIENTS]:[RECETTES et INGREDIENTS]],0),MATCH(G$2,Tab_Composants[#Headers],0))*G$3)/HLOOKUP(G$2,Composant!$A$1:$ZZ$2,2,0),0)} -> 0 | H8: {=IFERROR((INDEX(Tab_Composants[#All],MATCH(Tab_Recettes[[#This Row],[Ingrédients]:[Ingrédients]],Tab_Composants[[#All],[RECETTES et INGREDIENTS]:[RECETTES et INGREDIENTS]],0),MATCH(H$2,Tab_Composants[#Headers],0))*H$3)/HLOOKUP(H$2,Composant!$A$1:$ZZ$2,2,0),0)} -> 0 | I8: {=IFERROR((INDEX(Tab_Composants[#All],MATCH(Tab_Recettes[[#This Row],[Ingrédients]:[Ingrédients]],Tab_Composants[[#All],[RECETTES et INGREDIENTS]:[RECETTES et INGREDIENTS]],0),MATCH(I$2,Tab_Composants[#Headers],0))*I$3)/HLOOKUP(I$2,Composant!$A$1:$ZZ$2,2,0),0)} -> 0 | J8: {=IFERROR((INDEX(Tab_Composants[#All],MATCH(Tab_Recettes[[#This Row],[Ingrédients]:[Ingrédients]],Tab_Composants[[#All],[RECETTES et INGREDIENTS]:[RECETTES et INGREDIENTS]],0),MATCH(J$2,Tab_Composants[#Headers],0))*J$3)/HLOOKUP(J$2,Composant!$A$1:$ZZ$2,2,0),0)} -> 0 | ... AK8: {=IFERROR((INDEX(Tab_Composants[#All],MATCH(Tab_Recettes[[#This Row],[Ingrédients]:[Ingrédients]],Tab_Composants[[#All],[RECETTES et INGREDIENTS]:[RECETTES et INGREDIENTS]],0),MATCH(AK$2,Tab_Composants[#Headers],0))*AK$3)/HLOOKUP(AK$2,Composant!$A$1:$ZZ$2,2,0),0)} -> 0
A9: Sel | B9: =SUM(C9:AK9) -> 0 | C9: {=IFERROR((INDEX(Tab_Composants[#All],MATCH(Tab_Recettes[[#This Row],[Ingrédients]:[Ingrédients]],Tab_Composants[[#All],[RECETTES et INGREDIENTS]:[RECETTES et INGREDIENTS]],0),MATCH(C$2,Tab_Composants[#Headers],0))*C$3)/HLOOKUP(C$2,Composant!$A$1:$ZZ$2,2,0),0)} -> 0 | D9: {=IFERROR((INDEX(Tab_Composants[#All],MATCH(Tab_Recettes[[#This Row],[Ingrédients]:[Ingrédients]],Tab_Composants[[#All],[RECETTES et INGREDIENTS]:[RECETTES et INGREDIENTS]],0),MATCH(D$2,Tab_Composants[#Headers],0))*D$3)/HLOOKUP(D$2,Composant!$A$1:$ZZ$2,2,0),0)} -> 0 | E9: {=IFERROR((INDEX(Tab_Composants[#All],MATCH(Tab_Recettes[[#This Row],[Ingrédients]:[Ingrédients]],Tab_Composants[[#All],[RECETTES et INGREDIENTS]:[RECETTES et INGREDIENTS]],0),MATCH(E$2,Tab_Composants[#Headers],0))*E$3)/HLOOKUP(E$2,Composant!$A$1:$ZZ$2,2,0),0)} -> 0 | F9: {=IFERROR((INDEX(Tab_Composants[#All],MATCH(Tab_Recettes[[#This Row],[Ingrédients]:[Ingrédients]],Tab_Composants[[#All],[RECETTES et INGREDIENTS]:[RECETTES et INGREDIENTS]],0),MATCH(F$2,Tab_Composants[#Headers],0))*F$3)/HLOOKUP(F$2,Composant!$A$1:$ZZ$2,2,0),0)} -> 0 | G9: {=IFERROR((INDEX(Tab_Composants[#All],MATCH(Tab_Recettes[[#This Row],[Ingrédients]:[Ingrédients]],Tab_Composants[[#All],[RECETTES et INGREDIENTS]:[RECETTES et INGREDIENTS]],0),MATCH(G$2,Tab_Composants[#Headers],0))*G$3)/HLOOKUP(G$2,Composant!$A$1:$ZZ$2,2,0),0)} -> 0 | H9: {=IFERROR((INDEX(Tab_Composants[#All],MATCH(Tab_Recettes[[#This Row],[Ingrédients]:[Ingrédients]],Tab_Composants[[#All],[RECETTES et INGREDIENTS]:[RECETTES et INGREDIENTS]],0),MATCH(H$2,Tab_Composants[#Headers],0))*H$3)/HLOOKUP(H$2,Composant!$A$1:$ZZ$2,2,0),0)} -> 0 | I9: {=IFERROR((INDEX(Tab_Composants[#All],MATCH(Tab_Recettes[[#This Row],[Ingrédients]:[Ingrédients]],Tab_Composants[[#All],[RECETTES et INGREDIENTS]:[RECETTES et INGREDIENTS]],0),MATCH(I$2,Tab_Composants[#Headers],0))*I$3)/HLOOKUP(I$2,Composant!$A$1:$ZZ$2,2,0),0)} -> 0 | J9: {=IFERROR((INDEX(Tab_Composants[#All],MATCH(Tab_Recettes[[#This Row],[Ingrédients]:[Ingrédients]],Tab_Composants[[#All],[RECETTES et INGREDIENTS]:[RECETTES et INGREDIENTS]],0),MATCH(J$2,Tab_Composants[#Headers],0))*J$3)/HLOOKUP(J$2,Composant!$A$1:$ZZ$2,2,0),0)} -> 0 | ... AK9: {=IFERROR((INDEX(Tab_Composants[#All],MATCH(Tab_Recettes[[#This Row],[Ingrédients]:[Ingrédients]],Tab_Composants[[#All],[RECETTES et INGREDIENTS]:[RECETTES et INGREDIENTS]],0),MATCH(AK$2,Tab_Composants[#Headers],0))*AK$3)/HLOOKUP(AK$2,Composant!$A$1:$ZZ$2,2,0),0)} -> 0
A10: Poudre à crème | B10: =SUM(C10:AK10) -> 0.08 | C10: {=IFERROR((INDEX(Tab_Composants[#All],MATCH(Tab_Recettes[[#This Row],[Ingrédients]:[Ingrédients]],Tab_Composants[[#All],[RECETTES et INGREDIENTS]:[RECETTES et INGREDIENTS]],0),MATCH(C$2,Tab_Composants[#Headers],0))*C$3)/HLOOKUP(C$2,Composant!$A$1:$ZZ$2,2,0),0)} -> 0 | D10: {=IFERROR((INDEX(Tab_Composants[#All],MATCH(Tab_Recettes[[#This Row],[Ingrédients]:[Ingrédients]],Tab_Composants[[#All],[RECETTES et INGREDIENTS]:[RECETTES et INGREDIENTS]],0),MATCH(D$2,Tab_Composants[#Headers],0))*D$3)/HLOOKUP(D$2,Composant!$A$1:$ZZ$2,2,0),0)} -> 0.08 | E10: {=IFERROR((INDEX(Tab_Composants[#All],MATCH(Tab_Recettes[[#This Row],[Ingrédients]:[Ingrédients]],Tab_Composants[[#All],[RECETTES et INGREDIENTS]:[RECETTES et INGREDIENTS]],0),MATCH(E$2,Tab_Composants[#Headers],0))*E$3)/HLOOKUP(E$2,Composant!$A$1:$ZZ$2,2,0),0)} -> 0 | F10: {=IFERROR((INDEX(Tab_Composants[#All],MATCH(Tab_Recettes[[#This Row],[Ingrédients]:[Ingrédients]],Tab_Composants[[#All],[RECETTES et INGREDIENTS]:[RECETTES et INGREDIENTS]],0),MATCH(F$2,Tab_Composants[#Headers],0))*F$3)/HLOOKUP(F$2,Composant!$A$1:$ZZ$2,2,0),0)} -> 0 | G10: {=IFERROR((INDEX(Tab_Composants[#All],MATCH(Tab_Recettes[[#This Row],[Ingrédients]:[Ingrédients]],Tab_Composants[[#All],[RECETTES et INGREDIENTS]:[RECETTES et INGREDIENTS]],0),MATCH(G$2,Tab_Composants[#Headers],0))*G$3)/HLOOKUP(G$2,Composant!$A$1:$ZZ$2,2,0),0)} -> 0 | H10: {=IFERROR((INDEX(Tab_Composants[#All],MATCH(Tab_Recettes[[#This Row],[Ingrédients]:[Ingrédients]],Tab_Composants[[#All],[RECETTES et INGREDIENTS]:[RECETTES et INGREDIENTS]],0),MATCH(H$2,Tab_Composants[#Headers],0))*H$3)/HLOOKUP(H$2,Composant!$A$1:$ZZ$2,2,0),0)} -> 0 | I10: {=IFERROR((INDEX(Tab_Composants[#All],MATCH(Tab_Recettes[[#This Row],[Ingrédients]:[Ingrédients]],Tab_Composants[[#All],[RECETTES et INGREDIENTS]:[RECETTES et INGREDIENTS]],0),MATCH(I$2,Tab_Composants[#Headers],0))*I$3)/HLOOKUP(I$2,Composant!$A$1:$ZZ$2,2,0),0)} -> 0 | J10: {=IFERROR((INDEX(Tab_Composants[#All],MATCH(Tab_Recettes[[#This Row],[Ingrédients]:[Ingrédients]],Tab_Composants[[#All],[RECETTES et INGREDIENTS]:[RECETTES et INGREDIENTS]],0),MATCH(J$2,Tab_Composants[#Headers],0))*J$3)/HLOOKUP(J$2,Composant!$A$1:$ZZ$2,2,0),0)} -> 0 | ... AK10: {=IFERROR((INDEX(Tab_Composants[#All],MATCH(Tab_Recettes[[#This Row],[Ingrédients]:[Ingrédients]],Tab_Composants[[#All],[RECETTES et INGREDIENTS]:[RECETTES et INGREDIENTS]],0),MATCH(AK$2,Tab_Composants[#Headers],0))*AK$3)/HLOOKUP(AK$2,Composant!$A$1:$ZZ$2,2,0),0)} -> 0
A11: Sucre en Poudre | B11: =SUM(C11:AK11) -> 0.12 | C11: {=IFERROR((INDEX(Tab_Composants[#All],MATCH(Tab_Recettes[[#This Row],[Ingrédients]:[Ingrédients]],Tab_Composants[[#All],[RECETTES et INGREDIENTS]:[RECETTES et INGREDIENTS]],0),MATCH(C$2,Tab_Composants[#Headers],0))*C$3)/HLOOKUP(C$2,Composant!$A$1:$ZZ$2,2,0),0)} -> 0 | D11: {=IFERROR((INDEX(Tab_Composants[#All],MATCH(Tab_Recettes[[#This Row],[Ingrédients]:[Ingrédients]],Tab_Composants[[#All],[RECETTES et INGREDIENTS]:[RECETTES et INGREDIENTS]],0),MATCH(D$2,Tab_Composants[#Headers],0))*D$3)/HLOOKUP(D$2,Composant!$A$1:$ZZ$2,2,0),0)} -> 0.12 | E11: {=IFERROR((INDEX(Tab_Composants[#All],MATCH(Tab_Recettes[[#This Row],[Ingrédients]:[Ingrédients]],Tab_Composants[[#All],[RECETTES et INGREDIENTS]:[RECETTES et INGREDIENTS]],0),MATCH(E$2,Tab_Composants[#Headers],0))*E$3)/HLOOKUP(E$2,Composant!$A$1:$ZZ$2,2,0),0)} -> 0 | F11: {=IFERROR((INDEX(Tab_Composants[#All],MATCH(Tab_Recettes[[#This Row],[Ingrédients]:[Ingrédients]],Tab_Composants[[#All],[RECETTES et INGREDIENTS]:[RECETTES et INGREDIENTS]],0),MATCH(F$2,Tab_Composants[#Headers],0))*F$3)/HLOOKUP(F$2,Composant!$A$1:$ZZ$2,2,0),0)} -> 0 | G11: {=IFERROR((INDEX(Tab_Composants[#All],MATCH(Tab_Recettes[[#This Row],[Ingrédients]:[Ingrédients]],Tab_Composants[[#All],[RECETTES et INGREDIENTS]:[RECETTES et INGREDIENTS]],0),MATCH(G$2,Tab_Composants[#Headers],0))*G$3)/HLOOKUP(G$2,Composant!$A$1:$ZZ$2,2,0),0)} -> 0 | H11: {=IFERROR((INDEX(Tab_Composants[#All],MATCH(Tab_Recettes[[#This Row],[Ingrédients]:[Ingrédients]],Tab_Composants[[#All],[RECETTES et INGREDIENTS]:[RECETTES et INGREDIENTS]],0),MATCH(H$2,Tab_Composants[#Headers],0))*H$3)/HLOOKUP(H$2,Composant!$A$1:$ZZ$2,2,0),0)} -> 0 | I11: {=IFERROR((INDEX(Tab_Composants[#All],MATCH(Tab_Recettes[[#This Row],[Ingrédients]:[Ingrédients]],Tab_Composants[[#All],[RECETTES et INGREDIENTS]:[RECETTES et INGREDIENTS]],0),MATCH(I$2,Tab_Composants[#Headers],0))*I$3)/HLOOKUP(I$2,Composant!$A$1:$ZZ$2,2,0),0)} -> 0 | J11: {=IFERROR((INDEX(Tab_Composants[#All],MATCH(Tab_Recettes[[#This Row],[Ingrédients]:[Ingrédients]],Tab_Composants[[#All],[RECETTES et INGREDIENTS]:[RECETTES et INGREDIENTS]],0),MATCH(J$2,Tab_Composants[#Headers],0))*J$3)/HLOOKUP(J$2,Composant!$A$1:$ZZ$2,2,0),0)} -> 0 | ... AK11: {=IFERROR((INDEX(Tab_Composants[#All],MATCH(Tab_Recettes[[#This Row],[Ingrédients]:[Ingrédients]],Tab_Composants[[#All],[RECETTES et INGREDIENTS]:[RECETTES et INGREDIENTS]],0),MATCH(AK$2,Tab_Composants[#Headers],0))*AK$3)/HLOOKUP(AK$2,Composant!$A$1:$ZZ$2,2,0),0)} -> 0
A12: Lait en Poudre | B12: =SUM(C12:AK12) -> 0.08 | C12: {=IFERROR((INDEX(Tab_Composants[#All],MATCH(Tab_Recettes[[#This Row],[Ingrédients]:[Ingrédients]],Tab_Composants[[#All],[RECETTES et INGREDIENTS]:[RECETTES et INGREDIENTS]],0),MATCH(C$2,Tab_Composants[#Headers],0))*C$3)/HLOOKUP(C$2,Composant!$A$1:$ZZ$2,2,0),0)} -> 0 | D12: {=IFERROR((INDEX(Tab_Composants[#All],MATCH(Tab_Recettes[[#This Row],[Ingrédients]:[Ingrédients]],Tab_Composants[[#All],[RECETTES et INGREDIENTS]:[RECETTES et INGREDIENTS]],0),MATCH(D$2,Tab_Composants[#Headers],0))*D$3)/HLOOKUP(D$2,Composant!$A$1:$ZZ$2,2,0),0)} -> 0.08 | E12: {=IFERROR((INDEX(Tab_Composants[#All],MATCH(Tab_Recettes[[#This Row],[Ingrédients]:[Ingrédients]],Tab_Composants[[#All],[RECETTES et INGREDIENTS]:[RECETTES et INGREDIENTS]],0),MATCH(E$2,Tab_Composants[#Headers],0))*E$3)/HLOOKUP(E$2,Composant!$A$1:$ZZ$2,2,0),0)} -> 0 | F12: {=IFERROR((INDEX(Tab_Composants[#All],MATCH(Tab_Recettes[[#This Row],[Ingrédients]:[Ingrédients]],Tab_Composants[[#All],[RECETTES et INGREDIENTS]:[RECETTES et INGREDIENTS]],0),MATCH(F$2,Tab_Composants[#Headers],0))*F$3)/HLOOKUP(F$2,Composant!$A$1:$ZZ$2,2,0),0)} -> 0 | G12: {=IFERROR((INDEX(Tab_Composants[#All],MATCH(Tab_Recettes[[#This Row],[Ingrédients]:[Ingrédients]],Tab_Composants[[#All],[RECETTES et INGREDIENTS]:[RECETTES et INGREDIENTS]],0),MATCH(G$2,Tab_Composants[#Headers],0))*G$3)/HLOOKUP(G$2,Composant!$A$1:$ZZ$2,2,0),0)} -> 0 | H12: {=IFERROR((INDEX(Tab_Composants[#All],MATCH(Tab_Recettes[[#This Row],[Ingrédients]:[Ingrédients]],Tab_Composants[[#All],[RECETTES et INGREDIENTS]:[RECETTES et INGREDIENTS]],0),MATCH(H$2,Tab_Composants[#Headers],0))*H$3)/HLOOKUP(H$2,Composant!$A$1:$ZZ$2,2,0),0)} -> 0 | I12: {=IFERROR((INDEX(Tab_Composants[#All],MATCH(Tab_Recettes[[#This Row],[Ingrédients]:[Ingrédients]],Tab_Composants[[#All],[RECETTES et INGREDIENTS]:[RECETTES et INGREDIENTS]],0),MATCH(I$2,Tab_Composants[#Headers],0))*I$3)/HLOOKUP(I$2,Composant!$A$1:$ZZ$2,2,0),0)} -> 0 | J12: {=IFERROR((INDEX(Tab_Composants[#All],MATCH(Tab_Recettes[[#This Row],[Ingrédients]:[Ingrédients]],Tab_Composants[[#All],[RECETTES et INGREDIENTS]:[RECETTES et INGREDIENTS]],0),MATCH(J$2,Tab_Composants[#Headers],0))*J$3)/HLOOKUP(J$2,Composant!$A$1:$ZZ$2,2,0),0)} -> 0 | ... AK12: {=IFERROR((INDEX(Tab_Composants[#All],MATCH(Tab_Recettes[[#This Row],[Ingrédients]:[Ingrédients]],Tab_Composants[[#All],[RECETTES et INGREDIENTS]:[RECETTES et INGREDIENTS]],0),MATCH(AK$2,Tab_Composants[#Headers],0))*AK$3)/HLOOKUP(AK$2,Composant!$A$1:$ZZ$2,2,0),0)} -> 0
A13: Eau | B13: =SUM(C13:AK13) -> 0.72 | C13: {=IFERROR((INDEX(Tab_Composants[#All],MATCH(Tab_Recettes[[#This Row],[Ingrédients]:[Ingrédients]],Tab_Composants[[#All],[RECETTES et INGREDIENTS]:[RECETTES et INGREDIENTS]],0),MATCH(C$2,Tab_Composants[#Headers],0))*C$3)/HLOOKUP(C$2,Composant!$A$1:$ZZ$2,2,0),0)} -> 0 | D13: {=IFERROR((INDEX(Tab_Composants[#All],MATCH(Tab_Recettes[[#This Row],[Ingrédients]:[Ingrédients]],Tab_Composants[[#All],[RECETTES et INGREDIENTS]:[RECETTES et INGREDIENTS]],0),MATCH(D$2,Tab_Composants[#Headers],0))*D$3)/HLOOKUP(D$2,Composant!$A$1:$ZZ$2,2,0),0)} -> 0.72 | E13: {=IFERROR((INDEX(Tab_Composants[#All],MATCH(Tab_Recettes[[#This Row],[Ingrédients]:[Ingrédients]],Tab_Composants[[#All],[RECETTES et INGREDIENTS]:[RECETTES et INGREDIENTS]],0),MATCH(E$2,Tab_Composants[#Headers],0))*E$3)/HLOOKUP(E$2,Composant!$A$1:$ZZ$2,2,0),0)} -> 0 | F13: {=IFERROR((INDEX(Tab_Composants[#All],MATCH(Tab_Recettes[[#This Row],[Ingrédients]:[Ingrédients]],Tab_Composants[[#All],[RECETTES et INGREDIENTS]:[RECETTES et INGREDIENTS]],0),MATCH(F$2,Tab_Composants[#Headers],0))*F$3)/HLOOKUP(F$2,Composant!$A$1:$ZZ$2,2,0),0)} -> 0 | G13: {=IFERROR((INDEX(Tab_Composants[#All],MATCH(Tab_Recettes[[#This Row],[Ingrédients]:[Ingrédients]],Tab_Composants[[#All],[RECETTES et INGREDIENTS]:[RECETTES et INGREDIENTS]],0),MATCH(G$2,Tab_Composants[#Headers],0))*G$3)/HLOOKUP(G$2,Composant!$A$1:$ZZ$2,2,0),0)} -> 0 | H13: {=IFERROR((INDEX(Tab_Composants[#All],MATCH(Tab_Recettes[[#This Row],[Ingrédients]:[Ingrédients]],Tab_Composants[[#All],[RECETTES et INGREDIENTS]:[RECETTES et INGREDIENTS]],0),MATCH(H$2,Tab_Composants[#Headers],0))*H$3)/HLOOKUP(H$2,Composant!$A$1:$ZZ$2,2,0),0)} -> 0 | I13: {=IFERROR((INDEX(Tab_Composants[#All],MATCH(Tab_Recettes[[#This Row],[Ingrédients]:[Ingrédients]],Tab_Composants[[#All],[RECETTES et INGREDIENTS]:[RECETTES et INGREDIENTS]],0),MATCH(I$2,Tab_Composants[#Headers],0))*I$3)/HLOOKUP(I$2,Composant!$A$1:$ZZ$2,2,0),0)} -> 0 | J13: {=IFERROR((INDEX(Tab_Composants[#All],MATCH(Tab_Recettes[[#This Row],[Ingrédients]:[Ingrédients]],Tab_Composants[[#All],[RECETTES et INGREDIENTS]:[RECETTES et INGREDIENTS]],0),MATCH(J$2,Tab_Composants[#Headers],0))*J$3)/HLOOKUP(J$2,Composant!$A$1:$ZZ$2,2,0),0)} -> 0 | ... AK13: {=IFERROR((INDEX(Tab_Composants[#All],MATCH(Tab_Recettes[[#This Row],[Ingrédients]:[Ingrédients]],Tab_Composants[[#All],[RECETTES et INGREDIENTS]:[RECETTES et INGREDIENTS]],0),MATCH(AK$2,Tab_Composants[#Headers],0))*AK$3)/HLOOKUP(AK$2,Composant!$A$1:$ZZ$2,2,0),0)} -> 0
A14: Farine | B14: =SUM(C14:AK14) -> 0 | C14: {=IFERROR((INDEX(Tab_Composants[#All],MATCH(Tab_Recettes[[#This Row],[Ingrédients]:[Ingrédients]],Tab_Composants[[#All],[RECETTES et INGREDIENTS]:[RECETTES et INGREDIENTS]],0),MATCH(C$2,Tab_Composants[#Headers],0))*C$3)/HLOOKUP(C$2,Composant!$A$1:$ZZ$2,2,0),0)} -> 0 | D14: {=IFERROR((INDEX(Tab_Composants[#All],MATCH(Tab_Recettes[[#This Row],[Ingrédients]:[Ingrédients]],Tab_Composants[[#All],[RECETTES et INGREDIENTS]:[RECETTES et INGREDIENTS]],0),MATCH(D$2,Tab_Composants[#Headers],0))*D$3)/HLOOKUP(D$2,Composant!$A$1:$ZZ$2,2,0),0)} -> 0 | E14: {=IFERROR((INDEX(Tab_Composants[#All],MATCH(Tab_Recettes[[#This Row],[Ingrédients]:[Ingrédients]],Tab_Composants[[#All],[RECETTES et INGREDIENTS]:[RECETTES et INGREDIENTS]],0),MATCH(E$2,Tab_Composants[#Headers],0))*E$3)/HLOOKUP(E$2,Composant!$A$1:$ZZ$2,2,0),0)} -> 0 | F14: {=IFERROR((INDEX(Tab_Composants[#All],MATCH(Tab_Recettes[[#This Row],[Ingrédients]:[Ingrédients]],Tab_Composants[[#All],[RECETTES et INGREDIENTS]:[RECETTES et INGREDIENTS]],0),MATCH(F$2,Tab_Composants[#Headers],0))*F$3)/HLOOKUP(F$2,Composant!$A$1:$ZZ$2,2,0),0)} -> 0 | G14: {=IFERROR((INDEX(Tab_Composants[#All],MATCH(Tab_Recettes[[#This Row],[Ingrédients]:[Ingrédients]],Tab_Composants[[#All],[RECETTES et INGREDIENTS]:[RECETTES et INGREDIENTS]],0),MATCH(G$2,Tab_Composants[#Headers],0))*G$3)/HLOOKUP(G$2,Composant!$A$1:$ZZ$2,2,0),0)} -> 0 | H14: {=IFERROR((INDEX(Tab_Composants[#All],MATCH(Tab_Recettes[[#This Row],[Ingrédients]:[Ingrédients]],Tab_Composants[[#All],[RECETTES et INGREDIENTS]:[RECETTES et INGREDIENTS]],0),MATCH(H$2,Tab_Composants[#Headers],0))*H$3)/HLOOKUP(H$2,Composant!$A$1:$ZZ$2,2,0),0)} -> 0 | I14: {=IFERROR((INDEX(Tab_Composants[#All],MATCH(Tab_Recettes[[#This Row],[Ingrédients]:[Ingrédients]],Tab_Composants[[#All],[RECETTES et INGREDIENTS]:[RECETTES et INGREDIENTS]],0),MATCH(I$2,Tab_Composants[#Headers],0))*I$3)/HLOOKUP(I$2,Composant!$A$1:$ZZ$2,2,0),0)} -> 0 | J14: {=IFERROR((INDEX(Tab_Composants[#All],MATCH(Tab_Recettes[[#This Row],[Ingrédients]:[Ingrédients]],Tab_Composants[[#All],[RECETTES et INGREDIENTS]:[RECETTES et INGREDIENTS]],0),MATCH(J$2,Tab_Composants[#Headers],0))*J$3)/HLOOKUP(J$2,Composant!$A$1:$ZZ$2,2,0),0)} -> 0 | ... AK14: {=IFERROR((INDEX(Tab_Composants[#All],MATCH(Tab_Recettes[[#This Row],[Ingrédients]:[Ingrédients]],Tab_Composants[[#All],[RECETTES et INGREDIENTS]:[RECETTES et INGREDIENTS]],0),MATCH(AK$2,Tab_Composants[#Headers],0))*AK$3)/HLOOKUP(AK$2,Composant!$A$1:$ZZ$2,2,0),0)} -> 0

Sheet Composant
A1: RECETTES et INGREDIENTS | B1: PÂTE SUCREE | C1: CREME PATISSIERE | D1: BISCUIT CHEESECAKE | E1: GENOISE AMANDE | F1: GENOISE CACAO | G1: GENOISE NATURE | H1: BISCUIT JOCONDE | I1: BISCUIT SNICKERS | J1: BISCUIT SUCCES AMANDE | K1: CREME CHEESE
A2: POIDS | B2: =SUM(B3:B12) -> 12.99 | C2: =SUM(C3:C12) -> 1.25 | E2: 3
A3: Sucre Glace | B3: 3 | E3: 2
A4: Œuf | B4: 1.5 | E4: 2
A5: Levure | B5: 0.03 | E5: 0.05
A6: Beurre | B6: 2.4 | E6: 3
A7: Sel | B7: 0.06 | E7: 0.05
A8: Poudre à crème | C8: 0.1
A9: Sucre en Poudre | C9: 0.15
A10: Lait en Poudre | C10: 0.1
A11: Eau | C11: 0.9
A12: Farine | B12: 6 | E12: 4
D63: 1 | E63: 2
D69: 20
C82: 20
C87: 6 | D87: 10 | F87: 6

Sheet Liste_Pâtisseries
A1: PÂTE SUCREE
A2: CREME PATISSIERE
A3: BISCUIT CHEESECAKE
A4: GENOISE AMANDE
A5: GENOISE CACAO
A6: GENOISE NATURE
A7: BISCUIT JOCONDE
A8: BISCUIT SNICKERS
A9: BISCUIT SUCCES AMANDE
A10: CREME CHEESE
A11: MOUSSE OREO

Sheet Liste course
A1: Liste de course
A3: Ingrédient | B3: Quantité
A4: =Recettes!A5 -> Sucre Glace | B4: =Tab_Recettes[[#This Row],[Colonne15]] -> #VALUE!
A5: =Recettes!A6 -> Œuf | B5: =Tab_Recettes[[#This Row],[Colonne15]] -> 0
A6: =Recettes!A7 -> Levure | B6: =Tab_Recettes[[#This Row],[Colonne15]] -> 0
A7: =Recettes!A8 -> Beurre | B7: =Tab_Recettes[[#This Row],[Colonne15]] -> 0
A8: =Recettes!A9 -> Sel | B8: =Tab_Recettes[[#This Row],[Colonne15]] -> 0
A9: =Recettes!A10 -> Poudre à crème | B9: =Tab_Recettes[[#This Row],[Colonne15]] -> 0
A10: =Recettes!A11 -> Sucre en Poudre | B10: =Tab_Recettes[[#This Row],[Colonne15]] -> 0.08
A11: =Recettes!A12 -> Lait en Poudre | B11: =Tab_Recettes[[#This Row],[Colonne15]] -> 0.12
A12: =Recettes!A13 -> Eau | B12: =Tab_Recettes[[#This Row],[Colonne15]] -> 0.08
A13: =Recettes!A14 -> Farine | B13: =Tab_Recettes[[#This Row],[Colonne15]] -> 0.72
B14: =Tab_Recettes[[#This Row],[Colonne15]] -> 0
B15: =Tab_Recettes[[#This Row],[Colonne15]] -> #VALUE!
A16: =Recettes!A15 -> 0 | B16: =SUM(Recettes!15:15) -> 0
A17: =Recettes!A16 -> 0 | B17: =SUM(Recettes!16:16) -> 0
A18: =Recettes!A17 -> 0 | B18: =SUM(Recettes!17:17) -> 0
A19: =Recettes!A18 -> 0 | B19: =SUM(Recettes!18:18) -> 0
B20: =SUM(Recettes!19:19) -> 0
A21: =Recettes!A20 -> 0 | B21: =SUM(Recettes!20:20) -> 0
A22: =Recettes!A21 -> 0 | B22: =SUM(Recettes!21:21) -> 0
A23: =Recettes!A22 -> 0 | B23: =SUM(Recettes!22:22) -> 0
A24: =Recettes!A23 -> 0 | B24: =SUM(Recettes!23:23) -> 0
A25: =Recettes!A24 -> 0 | B25: =SUM(Recettes!24:24) -> 0
A26: =Recettes!A25 -> 0 | B26: =SUM(Recettes!25:25) -> 0
A27: =Recettes!A26 -> 0 | B27: =SUM(Recettes!26:26) -> 0
A28: =Recettes!A27 -> 0 | B28: =SUM(Recettes!27:27) -> 0
A29: =Recettes!A28 -> 0 | B29: =SUM(Recettes!28:28) -> 0
A30: =Recettes!A29 -> 0 | B30: =SUM(Recettes!29:29) -> 0
A31: =Recettes!A30 -> 0 | B31: =SUM(Recettes!30:30) -> 0
A32: =Recettes!A31 -> 0 | B32: =SUM(Recettes!31:31) -> 0
A33: =Recettes!A32 -> 0 | B33: =SUM(Recettes!32:32) -> 0
A34: =Recettes!A33 -> 0 | B34: =SUM(Recettes!33:33) -> 0
A35: =Recettes!A34 -> 0 | B35: =SUM(Recettes!34:34) -> 0
A36: =Recettes!A35 -> 0 | B36: =SUM(Recettes!35:35) -> 0
A37: =Recettes!A36 -> 0 | B37: =SUM(Recettes!36:36) -> 0
A38: =Recettes!A37 -> 0 | B38: =SUM(Recettes!37:37) -> 0
A39: =Recettes!A38 -> 0 | B39: =SUM(Recettes!38:38) -> 0
A40: =Recettes!A39 -> 0 | B40: =SUM(Recettes!39:39) -> 0
A41: =Recettes!A40 -> 0 | B41: =SUM(Recettes!40:40) -> 0
A42: =Recettes!A41 -> 0 | B42: =SUM(Recettes!41:41) -> 0
A43: =Recettes!A42 -> 0 | B43: =SUM(Recettes!42:42) -> 0
A44: =Recettes!A43 -> 0 | B44: =SUM(Recettes!43:43) -> 0
A45: =Recettes!A44 -> 0 | B45: =SUM(Recettes!44:44) -> 0
A46: =Recettes!A45 -> 0 | B46: =SUM(Recettes!45:45) -> 0
A47: =Recettes!A46 -> 0 | B47: =SUM(Recettes!46:46) -> 0
A48: =Recettes!A47 -> 0 | B48: =SUM(Recettes!47:47) -> 0
A49: =Recettes!A48 -> 0 | B49: =SUM(Recettes!48:48) -> 0
A50: =Recettes!A49 -> 0 | B50: =SUM(Recettes!49:49) -> 0
A51: =Recettes!A50 -> 0 | B51: =SUM(Recettes!50:50) -> 0
A52: =Recettes!A51 -> 0 | B52: =SUM(Recettes!51:51) -> 0
A53: =Recettes!A52 -> 0 | B53: =SUM(Recettes!52:52) -> 0
A54: =Recettes!A53 -> 0 | B54: =SUM(Recettes!53:53) -> 0
A55: =Recettes!A54 -> 0 | B55: =SUM(Recettes!54:54) -> 0
A56: =Recettes!A55 -> 0 | B56: =SUM(Recettes!55:55) -> 0
A57: =Recettes!A56 -> 0 | B57: =SUM(Recettes!56:56) -> 0
A58: =Recettes!A57 -> 0 | B58: =SUM(Recettes!57:57) -> 0
A59: =Recettes!A58 -> 0 | B59: =SUM(Recettes!58:58) -> 0
A60: =Recettes!A59 -> 0 | B60: =SUM(Recettes!59:59) -> 0
A61: =Recettes!A60 -> 0 | B61: =SUM(Recettes!60:60) -> 0
A62: =Recettes!A61 -> 0 | B62: =SUM(Recettes!61:61) -> 0
A63: =Recettes!A62 -> 0 | B63: =SUM(Recettes!62:62) -> 0
A64: =Recettes!A63 -> 0 | B64: =SUM(Recettes!63:63) -> 0
A65: =Recettes!A64 -> 0
A66: =Recettes!A65 -> 0 | B66: =SUM(Recettes!65:65) -> 0
A67: =Recettes!A66 -> 0 | B67: =SUM(Recettes!66:66) -> 0
A68: =Recettes!A67 -> 0 | B68: =SUM(Recettes!67:67) -> 0
A69: =Recettes!A68 -> 0 | B69: =SUM(Recettes!68:68) -> 0
A70: =Recettes!A69 -> 0 | B70: =SUM(Recettes!69:69) -> 0
A71: =Recettes!A70 -> 0
A72: =Recettes!A71 -> 0 | B72: =SUM(Recettes!71:71) -> 0
A73: =Recettes!A72 -> 0 | B73: =SUM(Recettes!72:72) -> 0
A74: =Recettes!A73 -> 0 | B74: =SUM(Recettes!73:73) -> 0
A75: =Recettes!A74 -> 0 | B75: =SUM(Recettes!74:74) -> 0
A76: =Recettes!A75 -> 0 | B76: =SUM(Recettes!75:75) -> 0
A77: =Recettes!A76 -> 0 | B77: =SUM(Recettes!76:76) -> 0
A78: =Recettes!A77 -> 0 | B78: =SUM(Recettes!77:77) -> 0
A79: =Recettes!A78 -> 0 | B79: =SUM(Recettes!78:78) -> 0
A80: =Recettes!A79 -> 0 | B80: =SUM(Recettes!79:79) -> 0
A81: =Recettes!A80 -> 0 | B81: =SUM(Recettes!80:80) -> 0
A82: =Recettes!A81 -> 0 | B82: =SUM(Recettes!81:81) -> 0
A83: =Recettes!A82 -> 0 | B83: =SUM(Recettes!82:82) -> 0
A84: =Recettes!A83 -> 0
A85: =Recettes!A84 -> 0 | B85: =SUM(Recettes!84:84) -> 0
A86: =Recettes!A85 -> 0 | B86: =SUM(Recettes!85:85) -> 0
A87: =Recettes!A86 -> 0 | B87: =SUM(Recettes!86:86) -> 0
A88: =Recettes!A87 -> 0 | B88: =SUM(Recettes!87:87) -> 0
A89: =Recettes!A88 -> 0
A90: =Recettes!A89 -> 0 | B90: =SUM(Recettes!89:89) -> 0
A91: =Recettes!A90 -> 0 | B91: =SUM(Recettes!90:90) -> 0
A92: =Recettes!A91 -> 0 | B92: =SUM(Recettes!91:91) -> 0
A93: =Recettes!A92 -> 0 | B93: =SUM(Recettes!92:92) -> 0
A94: =Recettes!A93 -> 0 | B94: =SUM(Recettes!93:93) -> 0
A95: =Recettes!A94 -> 0 | B95: =SUM(Recettes!94:94) -> 0
A96: =Recettes!A95 -> 0 | B96: =SUM(Recettes!95:95) -> 0
A97: =Recettes!A96 -> 0 | B97: =SUM(Recettes!96:96) -> 0
A98: =Recettes!A97 -> 0 | B98: =SUM(Recettes!97:97) -> 0
A99: =Recettes!A98 -> 0 | B99: =SUM(Recettes!98:98) -> 0
A100: =Recettes!A99 -> 0 | B100: =SUM(Recettes!99:99) -> 0
A101: =Recettes!A100 -> 0
...
