Workbook

Sheet Recettes
A1: Recettes | B1: Colonne1 | C1: Colonne2 | D1: Colonne3 | E1: Colonne4 | F1: Colonne5 | G1: Colonne6 | H1: Colonne7 | I1: Colonne8 | J1: Colonne9 | K1: Colonne10 | L1: Colonne11 | M1: Colonne12 | N1: Colonne13 | O1: Colonne14 | P1: Colonne15 | Q1: Colonne16 | R1: Colonne17 | S1: Colonne18 | T1: Colonne19 | U1: Colonne20 | V1: Colonne21 | W1: Colonne22 | X1: Colonne23 | Y1: Colonne24 | Z1: Colonne25 | AA1: Colonne26 | AB1: Colonne27 | AC1: Colonne28 | AD1: Colonne29 | AE1: Colonne30 | AF1: Colonne31 | AG1: Colonne32 | AH1: Colonne33 | AI1: Colonne34 | AJ1: Colonne35 | AK1: Colonne36 | AL1: Colonne37 | AM1: Colonne38 | AN1: Colonne39
A2: INGREDIENT | B2: flan
A4: Sucre Glace
A5: Œuf
A6: Levure
A7: Beurre
A8: Sel
A9: Poudre à crème
A10: Sucre en Poudre
A11: Lait en Poudre
A12: Eau
A13: Farine
A14: Pâte sucrée | B14: 0.5
A15: Crème patissière | B15: 1
D65: 1 | E65: 2
D71: 20
C84: 20
C89: 6 | D89: 10 | F89: 6

Sheet Composant
A1: Recettes | B1: Colonne1 | C1: Colonne2 | D1: Colonne3 | E1: Colonne4 | F1: Colonne5 | G1: Colonne6 | H1: Colonne7 | I1: Colonne8 | J1: Colonne9 | K1: Colonne10 | L1: Colonne11 | M1: Colonne12 | N1: Colonne13 | O1: Colonne14 | P1: Colonne15 | Q1: Colonne16 | R1: Colonne17 | S1: Colonne18 | T1: Colonne19 | U1: Colonne20 | V1: Colonne21 | W1: Colonne22 | X1: Colonne23 | Y1: Colonne24 | Z1: Colonne25 | AA1: Colonne26 | AB1: Colonne27 | AC1: Colonne28 | AD1: Colonne29 | AE1: Colonne30 | AF1: Colonne31 | AG1: Colonne32 | AH1: Colonne33 | AI1: Colonne34 | AJ1: Colonne35 | AK1: Colonne36 | AL1: Colonne37 | AM1: Colonne38 | AN1: Colonne39
A2: INGREDIENT | B2: PÂTE SUCREE | C2: CREME PATISSIERE | D2: BISCUIT CHEESECAKE | E2: GENOISE AMANDE | F2: GENOISE CACAO | G2: GENOISE NATURE | H2: BISCUIT JOCONDE | I2: BISCUIT SNICKERS | J2: BISCUIT SUCCES AMANDE
A3: POIDS | B3: =SUM(B4:B13) -> 12.99 | C3: =SUM(C4:C13) -> 1.25
A4: Sucre Glace | B4: 3
A5: Œuf | B5: 1.5
A6: Levure | B6: 0.03
A7: Beurre | B7: 2.4
A8: Sel | B8: 0.06
A9: Poudre à crème | C9: 0.1
A10: Sucre en Poudre | C10: 0.15
A11: Lait en Poudre | C11: 0.1
A12: Eau | C12: 0.9
A13: Farine | B13: 6
D64: 1 | E64: 2
D70: 20
C83: 20
C88: 6 | D88: 10 | F88: 6

Sheet Liste course
A1: Liste de course
A3: Ingrédient | B3: Quantité
A4: =Recettes!A4 -> Sucre Glace | B4: =SUM(Recettes!4:4) -> 0
A5: =Recettes!A5 -> Œuf | B5: =SUM(Recettes!5:5) -> 0
A6: =Recettes!A6 -> Levure | B6: =SUM(Recettes!6:6) -> 0
A7: =Recettes!A7 -> Beurre | B7: =SUM(Recettes!7:7) -> 0
A8: =Recettes!A8 -> Sel | B8: =SUM(Recettes!8:8) -> 0
A9: =Recettes!A9 -> Poudre à crème | B9: =SUM(Recettes!9:9) -> 0
A10: =Recettes!A10 -> Sucre en Poudre | B10: =SUM(Recettes!10:10) -> 0
A11: =Recettes!A11 -> Lait en Poudre | B11: =SUM(Recettes!11:11) -> 0
A12: =Recettes!A12 -> Eau | B12: =SUM(Recettes!12:12) -> 0
A13: =Recettes!A13 -> Farine | B13: =SUM(Recettes!13:13) -> 0
A14: =Recettes!A14 -> Pâte sucrée | B14: =SUM(Recettes!14:14) -> 0.5
A15: =Recettes!A15 -> Crème patissière | B15: =SUM(Recettes!15:15) -> 1
A16: =Recettes!A16 -> 0 | B16: =SUM(Recettes!16:16) -> 0
A17: =Recettes!A17 -> 0 | B17: =SUM(Recettes!17:17) -> 0
A18: =Recettes!A18 -> 0 | B18: =SUM(Recettes!18:18) -> 0
A19: =Recettes!A19 -> 0 | B19: =SUM(Recettes!19:19) -> 0
A20: =Recettes!A20 -> 0 | B20: =SUM(Recettes!20:20) -> 0
A21: =Recettes!A21 -> 0 | B21: =SUM(Recettes!21:21) -> 0
A22: =Recettes!A22 -> 0 | B22: =SUM(Recettes!22:22) -> 0
A23: =Recettes!A23 -> 0 | B23: =SUM(Recettes!23:23) -> 0
A24: =Recettes!A24 -> 0 | B24: =SUM(Recettes!24:24) -> 0
A25: =Recettes!A25 -> 0 | B25: =SUM(Recettes!25:25) -> 0
A26: =Recettes!A26 -> 0 | B26: =SUM(Recettes!26:26) -> 0
A27: =Recettes!A27 -> 0 | B27: =SUM(Recettes!27:27) -> 0
A28: =Recettes!A28 -> 0 | B28: =SUM(Recettes!28:28) -> 0
A29: =Recettes!A29 -> 0 | B29: =SUM(Recettes!29:29) -> 0
A30: =Recettes!A30 -> 0 | B30: =SUM(Recettes!30:30) -> 0
A31: =Recettes!A31 -> 0 | B31: =SUM(Recettes!31:31) -> 0
A32: =Recettes!A32 -> 0 | B32: =SUM(Recettes!32:32) -> 0
A33: =Recettes!A33 -> 0 | B33: =SUM(Recettes!33:33) -> 0
A34: =Recettes!A34 -> 0 | B34: =SUM(Recettes!34:34) -> 0
A35: =Recettes!A35 -> 0 | B35: =SUM(Recettes!35:35) -> 0
A36: =Recettes!A36 -> 0 | B36: =SUM(Recettes!36:36) -> 0
A37: =Recettes!A37 -> 0 | B37: =SUM(Recettes!37:37) -> 0
A38: =Recettes!A38 -> 0 | B38: =SUM(Recettes!38:38) -> 0
A39: =Recettes!A39 -> 0 | B39: =SUM(Recettes!39:39) -> 0
A40: =Recettes!A40 -> 0 | B40: =SUM(Recettes!40:40) -> 0
A41: =Recettes!A41 -> 0 | B41: =SUM(Recettes!41:41) -> 0
...
