Workbook
Name numerornc: Tableau1[N° NC interne]
Name RNC: Tableau1[N° NC interne]

Sheet Registre NC
A1: N° NC interne | B1: Date d'ouverture NC | C1: ORIGINE | D1: NOM CLIENT | E1: N° Fiche de travail | F1: N° commande | G1: Référence NC Client | H1: Référence pièce | I1: Coût | J1: Commerciaux concernés | K1: Administration concernée | L1: Programmateurs concernés | M1: Fabrication concernée | N1: Expédition concernée | O1: Description NC | P1: Causes | Q1: Solution | R1: Date validation client | S1: Date validation interne | T1: Date de clôture NC | U1: Mois | V1: Année | W1: Trimestre
A2: 21062010NC1 | B2: 40350 | C2: Client | D2: A | F2: ST396 | G2: 100618 | H2: 30194463/01 & 30194459/01 | M2: X | O2: A | P2: A | Q2: A | R2: 40350 | S2: 40350 | T2: 40351 | U2: =MONTH($B2) -> 6 | V2: =YEAR($B2) -> 2010
A3: 15072010NC1 | B3: 40374 | C3: Client | D3: B | E3: 90554 | F3: 1015866 | G3: 0 | H3: A0830066 | M3: X | O3: B | P3: B | Q3: B | R3: 40374 | S3: 40374 | T3: 40374 | U3: =MONTH($B3) -> 7 | V3: =YEAR($B3) -> 2010 | W3: =OR(IF(Tableau1[[#This Row],[Mois ]]=OR(1,2,3),"Trim. 1",""),IF(Tableau1[[#This Row],[Mois ]]=OR(4,5,6),"Trim. 2",""),IF(Tableau1[[#This Row],[Mois ]]=OR(7,8,9),"Trim. 3",""),IF(Tableau1[[#This Row],[Mois ]]=OR(10,11,12),"Trim. 4","")) -> #VALUE!
A4: 12072010NC1 | B4: 40371 | C4: Client | D4: C | E4: 89662 | F4: MA06321 | G4: 0 | H4: 87544101F | M4: X | O4: C | P4: C | Q4: C | R4: 40371 | S4: 40371 | T4: 40379 | U4: =MONTH($B4) -> 7 | V4: =YEAR($B4) -> 2010
A5: 21072010NC1 | B5: 40380 | C5: Client | D5: D | E5: 90053 | F5: CDE 24/06/10 | G5: 0 | H5: refare2000 | M5: x | N5: x | O5: D | P5: D | Q5: D | R5: 40380 | U5: =MONTH($B5) -> 7 | V5: =YEAR($B5) -> 2010 | W5: =OR(IF(Tableau1[[#This Row],[Mois ]]=OR(1,2,3),"Trim. 1",""),IF(Tableau1[[#This Row],[Mois ]]=OR(4,5,6),"Trim. 2",""),IF(Tableau1[[#This Row],[Mois ]]=OR(7,8,9),"Trim. 3",""),IF(Tableau1[[#This Row],[Mois ]]=OR(10,11,12),"Trim. 4","")) -> #VALUE!
A6: 10092010NC1 | B6: 40431 | C6: Client | D6: E | E6: 91481 | F6: ST/007059 | G6: 7047 | H6: 10R1004 | M6: X | O6: E | P6: E | Q6: E | R6: 40431 | S6: 40431 | T6: 40434 | U6: =MONTH($B6) -> 9 | V6: =YEAR($B6) -> 2010 | W6: =OR(IF(Tableau1[[#This Row],[Mois ]]=OR(1,2,3),"Trim. 1",""),IF(Tableau1[[#This Row],[Mois ]]=OR(4,5,6),"Trim. 2",""),IF(Tableau1[[#This Row],[Mois ]]=OR(7,8,9),"Trim. 3",""),IF(Tableau1[[#This Row],[Mois ]]=OR(10,11,12),"Trim. 4","")) -> #VALUE!
A7: 13092010NC1 | B7: 40435 | C7: Client | D7: F | E7: 90829 | F7: 13713 | G7: 9201012296 | H7: 522336 | O7: F | P7: F | Q7: F | R7: 40434 | S7: 40434 | U7: =MONTH($B7) -> 9 | V7: =YEAR($B7) -> 2010 | W7: =OR(IF(Tableau1[[#This Row],[Mois ]]=OR(1,2,3),"Trim. 1",""),IF(Tableau1[[#This Row],[Mois ]]=OR(4,5,6),"Trim. 2",""),IF(Tableau1[[#This Row],[Mois ]]=OR(7,8,9),"Trim. 3",""),IF(Tableau1[[#This Row],[Mois ]]=OR(10,11,12),"Trim. 4","")) -> #VALUE!
A8: 14092010NC1 | B8: 40435 | C8: Client | D8: G | F8: 0910870OD128 | H8: CED24905 | J8: X | O8: G | P8: G | Q8: G | R8: 40435 | S8: 40435 | T8: 40436 | U8: =MONTH($B8) -> 9 | V8: =YEAR($B8) -> 2010 | W8: =OR(IF(Tableau1[[#This Row],[Mois ]]=OR(1,2,3),"Trim. 1",""),IF(Tableau1[[#This Row],[Mois ]]=OR(4,5,6),"Trim. 2",""),IF(Tableau1[[#This Row],[Mois ]]=OR(7,8,9),"Trim. 3",""),IF(Tableau1[[#This Row],[Mois ]]=OR(10,11,12),"Trim. 4","")) -> #VALUE!
A9: 17092010NC1 | B9: 40438 | C9: Client | D9: H | E9: 91462 | F9: 1016974 | G9: 89 | H9: A0800067 | J9: X | O9: H | P9: H | Q9: H | R9: 40438 | S9: 40438 | T9: 40441 | U9: =MONTH($B9) -> 9 | V9: =YEAR($B9) -> 2010 | W9: =OR(IF(Tableau1[[#This Row],[Mois ]]=OR(1,2,3),"Trim. 1",""),IF(Tableau1[[#This Row],[Mois ]]=OR(4,5,6),"Trim. 2",""),IF(Tableau1[[#This Row],[Mois ]]=OR(7,8,9),"Trim. 3",""),IF(Tableau1[[#This Row],[Mois ]]=OR(10,11,12),"Trim. 4","")) -> #VALUE!
A10: 17092010nC2 | B10: 40438 | C10: Client | D10: I | E10: 88060 | F10: 7003759 | G10: 0 | H10: MH060369A | M10: X | O10: I | P10: I | Q10: I | R10: 40438 | S10: 40438 | T10: 40441 | U10: =MONTH($B10) -> 9 | V10: =YEAR($B10) -> 2010 | W10: =OR(IF(Tableau1[[#This Row],[Mois ]]=OR(1,2,3),"Trim. 1",""),IF(Tableau1[[#This Row],[Mois ]]=OR(4,5,6),"Trim. 2",""),IF(Tableau1[[#This Row],[Mois ]]=OR(7,8,9),"Trim. 3",""),IF(Tableau1[[#This Row],[Mois ]]=OR(10,11,12),"Trim. 4","")) -> #VALUE!
A11: 22092010NC1 | B11: 40443 | C11: INT | D11: J | E11: 9127 | F11: 40437 | G11: 0 | H11: MEV244101 | L11: X | O11: J | P11: J | Q11: J | R11: 40443 | S11: 40443 | T11: 40443 | U11: =MONTH($B11) -> 9 | V11: =YEAR($B11) -> 2010 | W11: =OR(IF(Tableau1[[#This Row],[Mois ]]=OR(1,2,3),"Trim. 1",""),IF(Tableau1[[#This Row],[Mois ]]=OR(4,5,6),"Trim. 2",""),IF(Tableau1[[#This Row],[Mois ]]=OR(7,8,9),"Trim. 3",""),IF(Tableau1[[#This Row],[Mois ]]=OR(10,11,12),"Trim. 4","")) -> #VALUE!
A12: 24092010NC1 | B12: 40445 | C12: Client | D12: K | E12: 91665 | F12: 40436 | G12: 0 | H12: STM25801 | L12: X | O12: K | P12: K | Q12: K | R12: 40445 | S12: 40445 | T12: 40449 | U12: =MONTH($B12) -> 9 | V12: =YEAR($B12) -> 2010 | W12: =OR(IF(Tableau1[[#This Row],[Mois ]]=OR(1,2,3),"Trim. 1",""),IF(Tableau1[[#This Row],[Mois ]]=OR(4,5,6),"Trim. 2",""),IF(Tableau1[[#This Row],[Mois ]]=OR(7,8,9),"Trim. 3",""),IF(Tableau1[[#This Row],[Mois ]]=OR(10,11,12),"Trim. 4","")) -> #VALUE!
A13: 24092010NC2 | B13: 40445 | C13: Client | D13: L | E13: 91665 | F13: 40436 | G13: 0 | H13: STM25802 | L13: X | O13: L | P13: L | Q13: L | R13: 40445 | S13: 40445 | T13: 40449 | U13: =MONTH($B13) -> 9 | V13: =YEAR($B13) -> 2010 | W13: =OR(IF(Tableau1[[#This Row],[Mois ]]=OR(1,2,3),"Trim. 1",""),IF(Tableau1[[#This Row],[Mois ]]=OR(4,5,6),"Trim. 2",""),IF(Tableau1[[#This Row],[Mois ]]=OR(7,8,9),"Trim. 3",""),IF(Tableau1[[#This Row],[Mois ]]=OR(10,11,12),"Trim. 4","")) -> #VALUE!
A14: 30092010NC1 | B14: 40451 | C14: Client | D14: M | E14: 91143 | F14: ST620 | G14: 0 | H14: X101983B | M14: X | O14: M | P14: M | Q14: M | R14: 40451 | S14: 40451 | T14: 40452 | U14: =MONTH($B14) -> 9 | V14: =YEAR($B14) -> 2010 | W14: =OR(IF(Tableau1[[#This Row],[Mois ]]=OR(1,2,3),"Trim. 1",""),IF(Tableau1[[#This Row],[Mois ]]=OR(4,5,6),"Trim. 2",""),IF(Tableau1[[#This Row],[Mois ]]=OR(7,8,9),"Trim. 3",""),IF(Tableau1[[#This Row],[Mois ]]=OR(10,11,12),"Trim. 4","")) -> #VALUE!
A15: 04102010NC1 | B15: 40455 | C15: Client | D15: N | E15: 91041 | F15: 6895 | G15: 0 | H15: VM261005C | M15: X | O15: N | P15: N | Q15: N | R15: 40455 | S15: 40455 | T15: 40459 | U15: =MONTH($B15) -> 10 | V15: =YEAR($B15) -> 2010 | W15: =OR(IF(Tableau1[[#This Row],[Mois ]]=OR(1,2,3),"Trim. 1",""),IF(Tableau1[[#This Row],[Mois ]]=OR(4,5,6),"Trim. 2",""),IF(Tableau1[[#This Row],[Mois ]]=OR(7,8,9),"Trim. 3",""),IF(Tableau1[[#This Row],[Mois ]]=OR(10,11,12),"Trim. 4","")) -> #VALUE!
A16: 15102010NC1 | B16: 40466 | C16: Client | D16: O | E16: 92263 | F16: ST780 | G16: 101026 | H16: 30208078/1 | L16: X | O16: O | P16: O | Q16: O | R16: 40466 | S16: 40466 | T16: 40469 | U16: =MONTH($B16) -> 10 | V16: =YEAR($B16) -> 2010 | W16: =OR(IF(Tableau1[[#This Row],[Mois ]]=OR(1,2,3),"Trim. 1",""),IF(Tableau1[[#This Row],[Mois ]]=OR(4,5,6),"Trim. 2",""),IF(Tableau1[[#This Row],[Mois ]]=OR(7,8,9),"Trim. 3",""),IF(Tableau1[[#This Row],[Mois ]]=OR(10,11,12),"Trim. 4","")) -> #VALUE!
A17: 03112010NC1 | B17: 40485 | C17: Client | D17: P | E17: 92158 | F17: 12900 | G17: 0 | H17: 5000-19 | L17: X | O17: P | P17: P | Q17: P | R17: 40485 | S17: 40485 | T17: 40487 | U17: =MONTH($B17) -> 11 | V17: =YEAR($B17) -> 2010 | W17: =OR(IF(Tableau1[[#This Row],[Mois ]]=OR(1,2,3),"Trim. 1",""),IF(Tableau1[[#This Row],[Mois ]]=OR(4,5,6),"Trim. 2",""),IF(Tableau1[[#This Row],[Mois ]]=OR(7,8,9),"Trim. 3",""),IF(Tableau1[[#This Row],[Mois ]]=OR(10,11,12),"Trim. 4","")) -> #VALUE!
A18: 08112010NC1 | B18: 40490 | C18: Client | D18: Q | E18: 92735 | F18: A201001143 | G18: 0 | H18: 10386429 | J18: X | O18: Q | P18: Q | Q18: Q | R18: 40490 | S18: 40490 | T18: 40490 | U18: =MONTH($B18) -> 11 | V18: =YEAR($B18) -> 2010 | W18: =OR(IF(Tableau1[[#This Row],[Mois ]]=OR(1,2,3),"Trim. 1",""),IF(Tableau1[[#This Row],[Mois ]]=OR(4,5,6),"Trim. 2",""),IF(Tableau1[[#This Row],[Mois ]]=OR(7,8,9),"Trim. 3",""),IF(Tableau1[[#This Row],[Mois ]]=OR(10,11,12),"Trim. 4","")) -> #VALUE!
U19: =MONTH($B19) -> 1 | V19: =YEAR($B19) -> 1900 | W19: =OR(IF(Tableau1[[#This Row],[Mois ]]=OR(1,2,3),"Trim. 1",""),IF(Tableau1[[#This Row],[Mois ]]=OR(4,5,6),"Trim. 2",""),IF(Tableau1[[#This Row],[Mois ]]=OR(7,8,9),"Trim. 3",""),IF(Tableau1[[#This Row],[Mois ]]=OR(10,11,12),"Trim. 4","")) -> #VALUE!
U20: =MONTH($B20) -> 1 | V20: =YEAR($B20) -> 1900 | W20: =OR(IF(Tableau1[[#This Row],[Mois ]]=OR(1,2,3),"Trim. 1",""),IF(Tableau1[[#This Row],[Mois ]]=OR(4,5,6),"Trim. 2",""),IF(Tableau1[[#This Row],[Mois ]]=OR(7,8,9),"Trim. 3",""),IF(Tableau1[[#This Row],[Mois ]]=OR(10,11,12),"Trim. 4","")) -> #VALUE!
U21: =MONTH($B21) -> 1 | V21: =YEAR($B21) -> 1900 | W21: =OR(IF(Tableau1[[#This Row],[Mois ]]=OR(1,2,3),"Trim. 1",""),IF(Tableau1[[#This Row],[Mois ]]=OR(4,5,6),"Trim. 2",""),IF(Tableau1[[#This Row],[Mois ]]=OR(7,8,9),"Trim. 3",""),IF(Tableau1[[#This Row],[Mois ]]=OR(10,11,12),"Trim. 4","")) -> #VALUE!
U22: =MONTH($B22) -> 1 | V22: =YEAR($B22) -> 1900 | W22: =OR(IF(Tableau1[[#This Row],[Mois ]]=OR(1,2,3),"Trim. 1",""),IF(Tableau1[[#This Row],[Mois ]]=OR(4,5,6),"Trim. 2",""),IF(Tableau1[[#This Row],[Mois ]]=OR(7,8,9),"Trim. 3",""),IF(Tableau1[[#This Row],[Mois ]]=OR(10,11,12),"Trim. 4","")) -> #VALUE!
U23: =MONTH($B23) -> 1 | V23: =YEAR($B23) -> 1900 | W23: =OR(IF(Tableau1[[#This Row],[Mois ]]=OR(1,2,3),"Trim. 1",""),IF(Tableau1[[#This Row],[Mois ]]=OR(4,5,6),"Trim. 2",""),IF(Tableau1[[#This Row],[Mois ]]=OR(7,8,9),"Trim. 3",""),IF(Tableau1[[#This Row],[Mois ]]=OR(10,11,12),"Trim. 4","")) -> #VALUE!
U24: =MONTH($B24) -> 1 | V24: =YEAR($B24) -> 1900 | W24: =OR(IF(Tableau1[[#This Row],[Mois ]]=OR(1,2,3),"Trim. 1",""),IF(Tableau1[[#This Row],[Mois ]]=OR(4,5,6),"Trim. 2",""),IF(Tableau1[[#This Row],[Mois ]]=OR(7,8,9),"Trim. 3",""),IF(Tableau1[[#This Row],[Mois ]]=OR(10,11,12),"Trim. 4","")) -> #VALUE!
U25: =MONTH($B25) -> 1 | V25: =YEAR($B25) -> 1900 | W25: =OR(IF(Tableau1[[#This Row],[Mois ]]=OR(1,2,3),"Trim. 1",""),IF(Tableau1[[#This Row],[Mois ]]=OR(4,5,6),"Trim. 2",""),IF(Tableau1[[#This Row],[Mois ]]=OR(7,8,9),"Trim. 3",""),IF(Tableau1[[#This Row],[Mois ]]=OR(10,11,12),"Trim. 4","")) -> #VALUE!
U26: =MONTH($B26) -> 1 | V26: =YEAR($B26) -> 1900 | W26: =OR(IF(Tableau1[[#This Row],[Mois ]]=OR(1,2,3),"Trim. 1",""),IF(Tableau1[[#This Row],[Mois ]]=OR(4,5,6),"Trim. 2",""),IF(Tableau1[[#This Row],[Mois ]]=OR(7,8,9),"Trim. 3",""),IF(Tableau1[[#This Row],[Mois ]]=OR(10,11,12),"Trim. 4","")) -> #VALUE!
U27: =MONTH($B27) -> 1 | V27: =YEAR($B27) -> 1900 | W27: =OR(IF(Tableau1[[#This Row],[Mois ]]=OR(1,2,3),"Trim. 1",""),IF(Tableau1[[#This Row],[Mois ]]=OR(4,5,6),"Trim. 2",""),IF(Tableau1[[#This Row],[Mois ]]=OR(7,8,9),"Trim. 3",""),IF(Tableau1[[#This Row],[Mois ]]=OR(10,11,12),"Trim. 4","")) -> #VALUE!
U28: =MONTH($B28) -> 1 | V28: =YEAR($B28) -> 1900 | W28: =OR(IF(Tableau1[[#This Row],[Mois ]]=OR(1,2,3),"Trim. 1",""),IF(Tableau1[[#This Row],[Mois ]]=OR(4,5,6),"Trim. 2",""),IF(Tableau1[[#This Row],[Mois ]]=OR(7,8,9),"Trim. 3",""),IF(Tableau1[[#This Row],[Mois ]]=OR(10,11,12),"Trim. 4","")) -> #VALUE!
U29: =MONTH($B29) -> 1 | V29: =YEAR($B29) -> 1900 | W29: =OR(IF(Tableau1[[#This Row],[Mois ]]=OR(1,2,3),"Trim. 1",""),IF(Tableau1[[#This Row],[Mois ]]=OR(4,5,6),"Trim. 2",""),IF(Tableau1[[#This Row],[Mois ]]=OR(7,8,9),"Trim. 3",""),IF(Tableau1[[#This Row],[Mois ]]=OR(10,11,12),"Trim. 4","")) -> #VALUE!
U30: =MONTH($B30) -> 1 | V30: =YEAR($B30) -> 1900 | W30: =OR(IF(Tableau1[[#This Row],[Mois ]]=OR(1,2,3),"Trim. 1",""),IF(Tableau1[[#This Row],[Mois ]]=OR(4,5,6),"Trim. 2",""),IF(Tableau1[[#This Row],[Mois ]]=OR(7,8,9),"Trim. 3",""),IF(Tableau1[[#This Row],[Mois ]]=OR(10,11,12),"Trim. 4","")) -> #VALUE!
... U47: =MONTH($B47) -> 1 | V47: =YEAR($B47) -> 1900 | W47: =OR(IF(Tableau1[[#This Row],[Mois ]]=OR(1,2,3),"Trim. 1",""),IF(Tableau1[[#This Row],[Mois ]]=OR(4,5,6),"Trim. 2",""),IF(Tableau1[[#This Row],[Mois ]]=OR(7,8,9),"Trim. 3",""),IF(Tableau1[[#This Row],[Mois ]]=OR(10,11,12),"Trim. 4","")) -> #VALUE!
A48: =SUBTOTAL(103,[N° NC interne]) -> 17 | C48: =SUBTOTAL(109,[ORIGINE]) -> 0 | I48: =SUM([Coût]) -> 0 | J48: =SUBTOTAL(103,[Commerciaux concernés]) -> 3 | K48: =SUBTOTAL(103,[Administration concernée]) -> 0 | L48: =SUBTOTAL(103,[Programmateurs concernés]) -> 5 | M48: =SUBTOTAL(103,[Fabrication concernée]) -> 8 | N48: =SUBTOTAL(103,[Expédition concernée]) -> 1
C49: =SUMIF(Tableau1[ORIGINE],"=Client") -> 0

Sheet Fiche NC
A2: FICHE DE NON CONFORMITE
A4: REFERENCE NC | E4: ORIGINE | H4: SERVICES CONCERNES
A5: 08112010NC1
F6: =IF(VLOOKUP(A5,Tableau1[],3)="Client","X","") -> #N/A | G6: Client | I6: =IF(VLOOKUP(A5,Tableau1[],10)="X","X","") -> #N/A | J6: Commerciaux
F7: =IF(VLOOKUP(A5,Tableau1[],3)="Interne","X","") -> #N/A | G7: Interne | I7: =IF(VLOOKUP(A5,Tableau1[],11)="X","X","") -> #N/A | J7: Administration
A9: CLIENT | B9: =VLOOKUP(A5,'Registre NC'!A2:T47,4) -> #N/A | D9: N° Commande | E9: =VLOOKUP(A5,'Registre NC'!A2:T47,6) -> #N/A | I9: =IF(VLOOKUP(A5,Tableau1[],12)="X","X","") -> #N/A | J9: Programmation
A10: N° Fiche de travail | B10: =VLOOKUP(A5,'Registre NC'!A2:T47,5) -> #N/A | D10: Réf. NC client | E10: =VLOOKUP(A5,'Registre NC'!A2:T47,7) -> #N/A | I10: =IF(VLOOKUP(A5,Tableau1[],13)="X","X","") -> #N/A | J10: Fabrication
A11: Réf. pièce | B11: =VLOOKUP(A5,'Registre NC'!A2:T47,8) -> #N/A | I11: =IF(VLOOKUP(A5,Tableau1[],14)="X","X","") -> #N/A | J11: Expédition
A14: DESCRIPTION DE LA NON-CONFORMITE
A16: =VLOOKUP(A5,'Registre NC'!A2:T47,15) -> #N/A
A23: CAUSES
A25: =VLOOKUP(A5,'Registre NC'!A2:T47,16) -> #N/A
A29: SOLUTION
A31: =VLOOKUP(A5,'Registre NC'!A2:T47,17) -> #N/A
A38: VALIDATION CLIENT | E38: VALIDATION INTERNE
A39: =VLOOKUP(A5,'Registre NC'!A2:T47,18) -> #N/A | E39: Date | H39: Visa
A43: TRAVAUX EFFECTUES
A44: PAR : | C44: LE : | E44: VISA : | H44: DUREE NECESSAIRE :
A47: VERIFICATION EFFECTUEE | H47: DATE DE CLOTURE NC :
A48: PAR : | C48: LE : | E48: VISA :

Sheet Feuil3

Sheet Feuil1
