Workbook

Sheet Décompte caisse
A2: Date | B2: N° pers | D2: Entrée / sorties | F2: Check-up | J2: À ne pas oublier
C3: Solde en caisse restant précédent | D3: 2831.75 | F3: 200 | G3: 4 | H3: =G3*F3 -> 800
F4: 100 | G4: 2 | H4: =G4*100 -> 200
A5: 45669 | B5: 1 | C5: Barbara, Pause | D5: 20 | F5: 50 | G5: 18 | H5: =G5*50 -> 900
F6: 20 | G6: 37 | H6: =F6*G6 -> 740
F7: 10 | G7: 13 | H7: =G7*10 -> 130
F9: 5 | G9: 5 | H9: =G9*5 -> 25
F10: 2 | G10: 6 | H10: =F10*G10 -> 12
F11: 1 | G11: 10 | H11: =F11*G11 -> 10
F12: 0.5 | G12: 25 | H12: =F12*G12 -> 12.5
F13: 0.2 | G13: 7 | H13: =F13*G13 -> 1.4
F14: 0.1 | G14: 6 | H14: =F14*G14 -> 0.6
F15: 0.05 | G15: 5 | H15: =F15*G15 -> 0.25
H16: =SUM(H3:H15) -> 2831.75
C54: Total entrées/sorties | D54: =SUM(D6:D53) -> 0
C56: Solde (total dans la caisse) | D56: =SUM(D3:D53) -> 2851.75

Sheet 1
A1: Décompte personnel | H1: 1
A3: N° pers | B3: Personnel | C3: Tarif mensuel | D3: Solde au 1er du mois | E3: Solde actuel | G3: Pourcentage | H3: Tarifs
A4: 1 | B4: Barbara 80% | C4: 16 | D4: 169 | E4: ='1'!D4+ SUMIF('Décompte caisse'!$B$3:$B$53,'1'!A4,'Décompte caisse'!$D$3:$D$53) -> 189 | G4: 1 | H4: 20
A5: 2 | B5: Pierre 100% | C5: 20 | D5: -40 | E5: ='1'!D5+ SUMIF('Décompte caisse'!$B$3:$B$53,'1'!A5,'Décompte caisse'!$D$3:$D$53) -> -40 | G5: 0.9 | H5: 18
A6: 3 | B6: Mélanie 100% | C6: 20 | D6: 25 | E6: ='1'!D6+ SUMIF('Décompte caisse'!$B$3:$B$53,'1'!A6,'Décompte caisse'!$D$3:$D$53) -> 25 | G6: 0.8 | H6: 16
A7: 4 | B7: Nathalie 70%* | C7: 10 | D7: -10 | E7: ='1'!D7+ SUMIF('Décompte caisse'!$B$3:$B$53,'1'!A7,'Décompte caisse'!$D$3:$D$53) -> -10 | G7: 0.7 | H7: 14
A8: 5 | B8: Christina 90% | C8: 18 | D8: -36 | E8: ='1'!D8+ SUMIF('Décompte caisse'!$B$3:$B$53,'1'!A8,'Décompte caisse'!$D$3:$D$53) -> -36 | G8: 0.6 | H8: 12
A9: 6 | B9: Kévin 100% | C9: 20 | D9: -60 | E9: ='1'!D9+ SUMIF('Décompte caisse'!$B$3:$B$53,'1'!A9,'Décompte caisse'!$D$3:$D$53) -> -60 | G9: 0.5 | H9: 10
A10: 7 | B10: Alexia 90% | C10: 10 | D10: -130 | E10: ='1'!D10+ SUMIF('Décompte caisse'!$B$3:$B$53,'1'!A10,'Décompte caisse'!$D$3:$D$53) -> -130 | G10: 0.4 | H10: 8
A11: 9 | B11: Alexi 100% | C11: 20 | D11: 60 | E11: ='1'!D11+ SUMIF('Décompte caisse'!$B$3:$B$53,'1'!A11,'Décompte caisse'!$D$3:$D$53) -> 60
A12: 10 | B12: Cristiana 100% | C12: 20 | D12: -20 | E12: ='1'!D12+ SUMIF('Décompte caisse'!$B$3:$B$53,'1'!A12,'Décompte caisse'!$D$3:$D$53) -> -20
A13: 11 | B13: Patricia 80% | C13: 16 | D13: -16 | E13: ='1'!D13+ SUMIF('Décompte caisse'!$B$3:$B$53,'1'!A13,'Décompte caisse'!$D$3:$D$53) -> -16
A14: 12 | B14: Marie 80% | C14: 16 | D14: -10 | E14: ='1'!D14+ SUMIF('Décompte caisse'!$B$3:$B$53,'1'!A14,'Décompte caisse'!$D$3:$D$53) -> -10
A15: 13 | B15: Kiko 100% | C15: 20 | D15: -20 | E15: ='1'!D15+ SUMIF('Décompte caisse'!$B$3:$B$53,'1'!A15,'Décompte caisse'!$D$3:$D$53) -> -20
A16: 14 | B16: Catarina 100% | C16: 20 | D16: -80 | E16: ='1'!D16+ SUMIF('Décompte caisse'!$B$3:$B$53,'1'!A16,'Décompte caisse'!$D$3:$D$53) -> -80
A17: 15 | B17: Flavienne 80% | C17: 18 | D17: -72 | E17: ='1'!D17+ SUMIF('Décompte caisse'!$B$3:$B$53,'1'!A17,'Décompte caisse'!$D$3:$D$53) -> -72
A18: 16 | B18: Jana 50% | C18: 10 | D18: -40 | E18: ='1'!D18+ SUMIF('Décompte caisse'!$B$3:$B$53,'1'!A18,'Décompte caisse'!$D$3:$D$53) -> -40
A19: 17 | B19: Prisca 60% | C19: 12 | D19: 26 | E19: ='1'!D19+ SUMIF('Décompte caisse'!$B$3:$B$53,'1'!A19,'Décompte caisse'!$D$3:$D$53) -> 26
A20: 21 | B20: Aline 100% | C20: 10 | D20: -20 | E20: ='1'!D20+ SUMIF('Décompte caisse'!$B$3:$B$53,'1'!A20,'Décompte caisse'!$D$3:$D$53) -> -20
A21: 22 | B21: Amélie 100% | C21: 20 | D21: -60 | E21: ='1'!D21+ SUMIF('Décompte caisse'!$B$3:$B$53,'1'!A21,'Décompte caisse'!$D$3:$D$53) -> -60
A22: 23 | B22: Audace 80% | C22: 16 | D22: -32 | E22: ='1'!D22+ SUMIF('Décompte caisse'!$B$3:$B$53,'1'!A22,'Décompte caisse'!$D$3:$D$53) -> -32
A23: 24 | B23: Isaline 100% | C23: 20 | D23: -20 | E23: ='1'!D23+ SUMIF('Décompte caisse'!$B$3:$B$53,'1'!A23,'Décompte caisse'!$D$3:$D$53) -> -20
B26: TOTAL = | C26: =SUM(C4:C25) -> 332 | D26: =SUM(D4:D25) -> -386 | E26: =SUM(E4:E25) -> -366

Sheet 2
A1: Décompte personnel | H1: 2
A3: N° pers | B3: Personnel | C3: Tarif mensuel | D3: Solde au 1er du mois | E3: Solde actuel | G3: Pourcentage | H3: Tarifs
A4: 1 | B4: Barbara 80% | C4: 16 | D4: ='1'!E4-'2'!C4 -> 173 | E4: ='2'!D4+ SUMIF('Décompte caisse'!$B$3:$B$53,'2'!A4,'Décompte caisse'!$D$3:$D$53) -> 193 | G4: 1 | H4: 20
A5: 2 | B5: Pierre 100% | C5: 20 | D5: ='1'!E5-'2'!C5 -> -60 | E5: -60 | G5: 0.9 | H5: 18
A6: 3 | B6: Mélanie 100% | C6: 20 | D6: ='1'!E6-'2'!C6 -> 5 | E6: 5 | G6: 0.8 | H6: 16
A7: 4 | B7: Nathalie 70%* | C7: 10 | D7: ='1'!E7-'2'!C7 -> -20 | E7: -20 | G7: 0.7 | H7: 14
A8: 5 | B8: Christina 90% | C8: 18 | D8: ='1'!E8-'2'!C8 -> -54 | E8: -54 | G8: 0.6 | H8: 12
A9: 6 | B9: Kévin 100% | C9: 20 | D9: ='1'!E9-'2'!C9 -> -80 | E9: -80 | G9: 0.5 | H9: 10
A10: 7 | B10: Alexia 90% | C10: 10 | D10: ='1'!E10-'2'!C10 -> -140 | E10: -140 | G10: 0.4 | H10: 8
A11: 9 | B11: Alexi 100% | C11: 20 | D11: ='1'!E11-'2'!C11 -> 40 | E11: 40
A12: 10 | B12: Cristiana 100% | C12: 20 | D12: ='1'!E12-'2'!C12 -> -40 | E12: -40
A13: 11 | B13: Patricia 80% | C13: 16 | D13: ='1'!E13-'2'!C13 -> -32 | E13: -32
A14: 12 | B14: Marie 80% | C14: 16 | D14: ='1'!E14-'2'!C14 -> -26 | E14: -26
A15: 13 | B15: Kiko 100% | C15: 20 | D15: ='1'!E15-'2'!C15 -> -40 | E15: -40
A16: 14 | B16: Catarina 100% | C16: 20 | D16: ='1'!E16-'2'!C16 -> -100 | E16: -100
A17: 15 | B17: Flavienne 80% | C17: 18 | D17: ='1'!E17-'2'!C17 -> -90 | E17: -90
A18: 16 | B18: Jana 50% | C18: 10 | D18: ='1'!E18-'2'!C18 -> -50 | E18: -50
A19: 17 | B19: Prisca 60% | C19: 12 | D19: ='1'!E19-'2'!C19 -> 14 | E19: 14
A20: 21 | B20: Aline 100% | C20: 10 | D20: ='1'!E20-'2'!C20 -> -30 | E20: -30
A21: 22 | B21: Amélie 100% | C21: 20 | D21: ='1'!E21-'2'!C21 -> -80 | E21: -80
A22: 23 | B22: Audace 80% | C22: 16 | D22: ='1'!E22-'2'!C22 -> -48 | E22: -48
A23: 24 | B23: Isaline 100% | C23: 20 | D23: ='1'!E23-'2'!C23 -> -40 | E23: -40
B26: TOTAL = | C26: =SUM(C4:C25) -> 332 | D26: =SUM(D4:D25) -> -698 | E26: =SUM(E4:E25) -> -678

Sheet 3
A1: Décompte personnel | H1: 3
A3: N° pers | B3: Personnel | C3: Tarif mensuel | D3: Solde au 1er du mois | E3: Solde actuel | G3: Pourcentage | H3: Tarifs
A4: 1 | B4: Barbara 80% | C4: 16 | D4: ='2'!E4-'3'!C4 -> 177 | E4: 169 | G4: 1 | H4: 20
A5: 2 | B5: Pierre 100% | C5: 20 | D5: ='2'!E5-'3'!C5 -> -80 | E5: -40 | G5: 0.9 | H5: 18
A6: 3 | B6: Mélanie 100% | C6: 20 | D6: ='2'!E6-'3'!C6 -> -15 | E6: 25 | G6: 0.8 | H6: 16
A7: 4 | B7: Nathalie 70%* | C7: 10 | D7: ='2'!E7-'3'!C7 -> -30 | E7: -10 | G7: 0.7 | H7: 14
A8: 5 | B8: Christina 90% | C8: 18 | D8: ='2'!E8-'3'!C8 -> -72 | E8: -36 | G8: 0.6 | H8: 12
A9: 6 | B9: Kévin 100% | C9: 20 | D9: ='2'!E9-'3'!C9 -> -100 | E9: -60 | G9: 0.5 | H9: 10
A10: 7 | B10: Alexia 90% | C10: 10 | D10: ='2'!E10-'3'!C10 -> -150 | E10: -130 | G10: 0.4 | H10: 8
A11: 9 | B11: Alexi 100% | C11: 20 | D11: ='2'!E11-'3'!C11 -> 20 | E11: 60
A12: 10 | B12: Cristiana 100% | C12: 20 | D12: ='2'!E12-'3'!C12 -> -60 | E12: -20
A13: 11 | B13: Patricia 80% | C13: 16 | D13: ='2'!E13-'3'!C13 -> -48 | E13: -16
A14: 12 | B14: Marie 80% | C14: 16 | D14: ='2'!E14-'3'!C14 -> -42 | E14: -10
A15: 13 | B15: Kiko 100% | C15: 20 | D15: ='2'!E15-'3'!C15 -> -60 | E15: -20
A16: 14 | B16: Catarina 100% | C16: 20 | D16: ='2'!E16-'3'!C16 -> -120 | E16: -80
A17: 15 | B17: Flavienne 80% | C17: 18 | D17: ='2'!E17-'3'!C17 -> -108 | E17: -72
A18: 16 | B18: Jana 50% | C18: 10 | D18: ='2'!E18-'3'!C18 -> -60 | E18: -40
A19: 17 | B19: Prisca 60% | C19: 12 | D19: ='2'!E19-'3'!C19 -> 2 | E19: 26
A20: 21 | B20: Aline 100% | C20: 10 | D20: ='2'!E20-'3'!C20 -> -40 | E20: -20
A21: 22 | B21: Amélie 100% | C21: 20 | D21: ='2'!E21-'3'!C21 -> -100 | E21: -60
A22: 23 | B22: Audace 80% | C22: 16 | D22: ='2'!E22-'3'!C22 -> -64 | E22: -32
A23: 24 | B23: Isaline 100% | C23: 20 | D23: ='2'!E23-'3'!C23 -> -60 | E23: -20
B26: TOTAL = | C26: =SUM(C4:C25) -> 332 | D26: =SUM(D4:D25) -> -1010 | E26: =SUM(E4:E25) -> -386

Sheet 4
A1: Décompte personnel | H1: 4
A3: N° pers | B3: Personnel | C3: Tarif mensuel | D3: Solde au 1er du mois | E3: Solde actuel | G3: Pourcentage | H3: Tarifs
A4: 1 | B4: Barbara 80% | C4: 16 | D4: ='3'!E4-'4'!C4 -> 153 | E4: 169 | G4: 1 | H4: 20
A5: 2 | B5: Pierre 100% | C5: 20 | D5: ='3'!E5-'4'!C5 -> -60 | E5: -40 | G5: 0.9 | H5: 18
A6: 3 | B6: Mélanie 100% | C6: 20 | D6: ='3'!E6-'4'!C6 -> 5 | E6: 25 | G6: 0.8 | H6: 16
A7: 4 | B7: Nathalie 70%* | C7: 10 | D7: ='3'!E7-'4'!C7 -> -20 | E7: -10 | G7: 0.7 | H7: 14
A8: 5 | B8: Christina 90% | C8: 18 | D8: ='3'!E8-'4'!C8 -> -54 | E8: -36 | G8: 0.6 | H8: 12
A9: 6 | B9: Kévin 100% | C9: 20 | D9: ='3'!E9-'4'!C9 -> -80 | E9: -60 | G9: 0.5 | H9: 10
A10: 7 | B10: Alexia 90% | C10: 10 | D10: ='3'!E10-'4'!C10 -> -140 | E10: -130 | G10: 0.4 | H10: 8
A11: 9 | B11: Alexi 100% | C11: 20 | D11: ='3'!E11-'4'!C11 -> 40 | E11: 60
A12: 10 | B12: Cristiana 100% | C12: 20 | D12: ='3'!E12-'4'!C12 -> -40 | E12: -20
A13: 11 | B13: Patricia 80% | C13: 16 | D13: ='3'!E13-'4'!C13 -> -32 | E13: -16
A14: 12 | B14: Marie 80% | C14: 16 | D14: ='3'!E14-'4'!C14 -> -26 | E14: -10
A15: 13 | B15: Kiko 100% | C15: 20 | D15: ='3'!E15-'4'!C15 -> -40 | E15: -20
A16: 14 | B16: Catarina 100% | C16: 20 | D16: ='3'!E16-'4'!C16 -> -100 | E16: -80
A17: 15 | B17: Flavienne 80% | C17: 18 | D17: ='3'!E17-'4'!C17 -> -90 | E17: -72
A18: 16 | B18: Jana 50% | C18: 10 | D18: ='3'!E18-'4'!C18 -> -50 | E18: -40
A19: 17 | B19: Prisca 60% | C19: 12 | D19: ='3'!E19-'4'!C19 -> 14 | E19: 26
A20: 21 | B20: Aline 100% | C20: 10 | D20: ='3'!E20-'4'!C20 -> -30 | E20: -20
A21: 22 | B21: Amélie 100% | C21: 20 | D21: ='3'!E21-'4'!C21 -> -80 | E21: -60
A22: 23 | B22: Audace 80% | C22: 16 | D22: ='3'!E22-'4'!C22 -> -48 | E22: -32
A23: 24 | B23: Isaline 100% | C23: 20 | D23: ='3'!E23-'4'!C23 -> -40 | E23: -20
B26: TOTAL = | C26: =SUM(C4:C25) -> 332 | D26: =SUM(D4:D25) -> -718 | E26: =SUM(E4:E25) -> -386

Sheet 5
A1: Décompte personnel | H1: 5
A3: N° pers | B3: Personnel | C3: Tarif mensuel | D3: Solde au 1er du mois | E3: Solde actuel | G3: Pourcentage | H3: Tarifs
A4: 1 | B4: Barbara 80% | C4: 16 | D4: ='4'!E4-'5'!C4 -> 153 | E4: 169 | G4: 1 | H4: 20
A5: 2 | B5: Pierre 100% | C5: 20 | D5: ='4'!E5-'5'!C5 -> -60 | E5: -40 | G5: 0.9 | H5: 18
A6: 3 | B6: Mélanie 100% | C6: 20 | D6: ='4'!E6-'5'!C6 -> 5 | E6: 25 | G6: 0.8 | H6: 16
A7: 4 | B7: Nathalie 70%* | C7: 10 | D7: ='4'!E7-'5'!C7 -> -20 | E7: -10 | G7: 0.7 | H7: 14
A8: 5 | B8: Christina 90% | C8: 18 | D8: ='4'!E8-'5'!C8 -> -54 | E8: -36 | G8: 0.6 | H8: 12
A9: 6 | B9: Kévin 100% | C9: 20 | D9: ='4'!E9-'5'!C9 -> -80 | E9: -60 | G9: 0.5 | H9: 10
A10: 7 | B10: Alexia 90% | C10: 10 | D10: ='4'!E10-'5'!C10 -> -140 | E10: -130 | G10: 0.4 | H10: 8
A11: 9 | B11: Alexi 100% | C11: 20 | D11: ='4'!E11-'5'!C11 -> 40 | E11: 60
A12: 10 | B12: Cristiana 100% | C12: 20 | D12: ='4'!E12-'5'!C12 -> -40 | E12: -20
A13: 11 | B13: Patricia 80% | C13: 16 | D13: ='4'!E13-'5'!C13 -> -32 | E13: -16
A14: 12 | B14: Marie 80% | C14: 16 | D14: ='4'!E14-'5'!C14 -> -26 | E14: -10
A15: 13 | B15: Kiko 100% | C15: 20 | D15: ='4'!E15-'5'!C15 -> -40 | E15: -20
A16: 14 | B16: Catarina 100% | C16: 20 | D16: ='4'!E16-'5'!C16 -> -100 | E16: -80
A17: 15 | B17: Flavienne 80% | C17: 18 | D17: ='4'!E17-'5'!C17 -> -90 | E17: -72
A18: 16 | B18: Jana 50% | C18: 10 | D18: ='4'!E18-'5'!C18 -> -50 | E18: -40
A19: 17 | B19: Prisca 60% | C19: 12 | D19: ='4'!E19-'5'!C19 -> 14 | E19: 26
A20: 21 | B20: Aline 100% | C20: 10 | D20: ='4'!E20-'5'!C20 -> -30 | E20: -20
A21: 22 | B21: Amélie 100% | C21: 20 | D21: ='4'!E21-'5'!C21 -> -80 | E21: -60
A22: 23 | B22: Audace 80% | C22: 16 | D22: ='4'!E22-'5'!C22 -> -48 | E22: -32
A23: 24 | B23: Isaline 100% | C23: 20 | D23: ='4'!E23-'5'!C23 -> -40 | E23: -20
B26: TOTAL = | C26: =SUM(C4:C25) -> 332 | D26: =SUM(D4:D25) -> -718 | E26: =SUM(E4:E25) -> -386

Sheet 6
A1: Décompte personnel | H1: 6
A3: N° pers | B3: Personnel | C3: Tarif mensuel | D3: Solde au 1er du mois | E3: Solde actuel | G3: Pourcentage | H3: Tarifs
A4: 1 | B4: Barbara 80% | C4: 16 | D4: ='5'!E4-'6'!C4 -> 153 | E4: 169 | G4: 1 | H4: 20
A5: 2 | B5: Pierre 100% | C5: 20 | D5: ='5'!E5-'6'!C5 -> -60 | E5: -40 | G5: 0.9 | H5: 18
A6: 3 | B6: Mélanie 100% | C6: 20 | D6: ='5'!E6-'6'!C6 -> 5 | E6: 25 | G6: 0.8 | H6: 16
A7: 4 | B7: Nathalie 70%* | C7: 10 | D7: ='5'!E7-'6'!C7 -> -20 | E7: -10 | G7: 0.7 | H7: 14
A8: 5 | B8: Christina 90% | C8: 18 | D8: ='5'!E8-'6'!C8 -> -54 | E8: -36 | G8: 0.6 | H8: 12
A9: 6 | B9: Kévin 100% | C9: 20 | D9: ='5'!E9-'6'!C9 -> -80 | E9: -60 | G9: 0.5 | H9: 10
A10: 7 | B10: Alexia 90% | C10: 10 | D10: ='5'!E10-'6'!C10 -> -140 | E10: -130 | G10: 0.4 | H10: 8
A11: 9 | B11: Alexi 100% | C11: 20 | D11: ='5'!E11-'6'!C11 -> 40 | E11: 60
A12: 10 | B12: Cristiana 100% | C12: 20 | D12: ='5'!E12-'6'!C12 -> -40 | E12: -20
A13: 11 | B13: Patricia 80% | C13: 16 | D13: ='5'!E13-'6'!C13 -> -32 | E13: -16
A14: 12 | B14: Marie 80% | C14: 16 | D14: ='5'!E14-'6'!C14 -> -26 | E14: -10
A15: 13 | B15: Kiko 100% | C15: 20 | D15: ='5'!E15-'6'!C15 -> -40 | E15: -20
A16: 14 | B16: Catarina 100% | C16: 20 | D16: ='5'!E16-'6'!C16 -> -100 | E16: -80
A17: 15 | B17: Flavienne 80% | C17: 18 | D17: ='5'!E17-'6'!C17 -> -90 | E17: -72
A18: 16 | B18: Jana 50% | C18: 10 | D18: ='5'!E18-'6'!C18 -> -50 | E18: -40
A19: 17 | B19: Prisca 60% | C19: 12 | D19: ='5'!E19-'6'!C19 -> 14 | E19: 26
A20: 21 | B20: Aline 100% | C20: 10 | D20: ='5'!E20-'6'!C20 -> -30 | E20: -20
A21: 22 | B21: Amélie 100% | C21: 20 | D21: ='5'!E21-'6'!C21 -> -80 | E21: -60
A22: 23 | B22: Audace 80% | C22: 16 | D22: ='5'!E22-'6'!C22 -> -48 | E22: -32
A23: 24 | B23: Isaline 100% | C23: 20 | D23: ='5'!E23-'6'!C23 -> -40 | E23: -20
B26: TOTAL = | C26: =SUM(C4:C25) -> 332 | D26: =SUM(D4:D25) -> -718 | E26: =SUM(E4:E25) -> -386

Sheet 7
A1: Décompte personnel | H1: 7
A3: N° pers | B3: Personnel | C3: Tarif mensuel | D3: Solde au 1er du mois | E3: Solde actuel | G3: Pourcentage | H3: Tarifs
A4: 1 | B4: Barbara 80% | C4: 16 | D4: ='6'!E4-'7'!C4 -> 153 | E4: 169 | G4: 1 | H4: 20
A5: 2 | B5: Pierre 100% | C5: 20 | D5: ='6'!E5-'7'!C5 -> -60 | E5: -40 | G5: 0.9 | H5: 18
A6: 3 | B6: Mélanie 100% | C6: 20 | D6: ='6'!E6-'7'!C6 -> 5 | E6: 25 | G6: 0.8 | H6: 16
A7: 4 | B7: Nathalie 70%* | C7: 10 | D7: ='6'!E7-'7'!C7 -> -20 | E7: -10 | G7: 0.7 | H7: 14
A8: 5 | B8: Christina 90% | C8: 18 | D8: ='6'!E8-'7'!C8 -> -54 | E8: -36 | G8: 0.6 | H8: 12
A9: 6 | B9: Kévin 100% | C9: 20 | D9: ='6'!E9-'7'!C9 -> -80 | E9: -60 | G9: 0.5 | H9: 10
A10: 7 | B10: Alexia 90% | C10: 10 | D10: ='6'!E10-'7'!C10 -> -140 | E10: -130 | G10: 0.4 | H10: 8
A11: 9 | B11: Alexi 100% | C11: 20 | D11: ='6'!E11-'7'!C11 -> 40 | E11: 60
A12: 10 | B12: Cristiana 100% | C12: 20 | D12: ='6'!E12-'7'!C12 -> -40 | E12: -20
A13: 11 | B13: Patricia 80% | C13: 16 | D13: ='6'!E13-'7'!C13 -> -32 | E13: -16
A14: 12 | B14: Marie 80% | C14: 16 | D14: ='6'!E14-'7'!C14 -> -26 | E14: -10
A15: 13 | B15: Kiko 100% | C15: 20 | D15: ='6'!E15-'7'!C15 -> -40 | E15: -20
A16: 14 | B16: Catarina 100% | C16: 20 | D16: ='6'!E16-'7'!C16 -> -100 | E16: -80
A17: 15 | B17: Flavienne 80% | C17: 18 | D17: ='6'!E17-'7'!C17 -> -90 | E17: -72
A18: 16 | B18: Jana 50% | C18: 10 | D18: ='6'!E18-'7'!C18 -> -50 | E18: -40
A19: 17 | B19: Prisca 60% | C19: 12 | D19: ='6'!E19-'7'!C19 -> 14 | E19: 26
A20: 21 | B20: Aline 100% | C20: 10 | D20: ='6'!E20-'7'!C20 -> -30 | E20: -20
A21: 22 | B21: Amélie 100% | C21: 20 | D21: ='6'!E21-'7'!C21 -> -80 | E21: -60
A22: 23 | B22: Audace 80% | C22: 16 | D22: ='6'!E22-'7'!C22 -> -48 | E22: -32
A23: 24 | B23: Isaline 100% | C23: 20 | D23: ='6'!E23-'7'!C23 -> -40 | E23: -20
B26: TOTAL = | C26: =SUM(C4:C25) -> 332 | D26: =SUM(D4:D25) -> -718 | E26: =SUM(E4:E25) -> -386

Sheet 8
A1: Décompte personnel | H1: 8
A3: N° pers | B3: Personnel | C3: Tarif mensuel | D3: Solde au 1er du mois | E3: Solde actuel | G3: Pourcentage | H3: Tarifs
A4: 1 | B4: Barbara 80% | C4: 16 | D4: ='7'!E4-'8'!C4 -> 153 | E4: 169 | G4: 1 | H4: 20
A5: 2 | B5: Pierre 100% | C5: 20 | D5: ='7'!E5-'8'!C5 -> -60 | E5: -40 | G5: 0.9 | H5: 18
A6: 3 | B6: Mélanie 100% | C6: 20 | D6: ='7'!E6-'8'!C6 -> 5 | E6: 25 | G6: 0.8 | H6: 16
A7: 4 | B7: Nathalie 70%* | C7: 10 | D7: ='7'!E7-'8'!C7 -> -20 | E7: -10 | G7: 0.7 | H7: 14
A8: 5 | B8: Christina 90% | C8: 18 | D8: ='7'!E8-'8'!C8 -> -54 | E8: -36 | G8: 0.6 | H8: 12
A9: 6 | B9: Kévin 100% | C9: 20 | D9: ='7'!E9-'8'!C9 -> -80 | E9: -60 | G9: 0.5 | H9: 10
A10: 7 | B10: Alexia 90% | C10: 10 | D10: ='7'!E10-'8'!C10 -> -140 | E10: -130 | G10: 0.4 | H10: 8
A11: 9 | B11: Alexi 100% | C11: 20 | D11: ='7'!E11-'8'!C11 -> 40 | E11: 60
A12: 10 | B12: Cristiana 100% | C12: 20 | D12: ='7'!E12-'8'!C12 -> -40 | E12: -20
A13: 11 | B13: Patricia 80% | C13: 16 | D13: ='7'!E13-'8'!C13 -> -32 | E13: -16
A14: 12 | B14: Marie 80% | C14: 16 | D14: ='7'!E14-'8'!C14 -> -26 | E14: -10
A15: 13 | B15: Kiko 100% | C15: 20 | D15: ='7'!E15-'8'!C15 -> -40 | E15: -20
A16: 14 | B16: Catarina 100% | C16: 20 | D16: ='7'!E16-'8'!C16 -> -100 | E16: -80
A17: 15 | B17: Flavienne 80% | C17: 18 | D17: ='7'!E17-'8'!C17 -> -90 | E17: -72
A18: 16 | B18: Jana 50% | C18: 10 | D18: ='7'!E18-'8'!C18 -> -50 | E18: -40
A19: 17 | B19: Prisca 60% | C19: 12 | D19: ='7'!E19-'8'!C19 -> 14 | E19: 26
A20: 21 | B20: Aline 100% | C20: 10 | D20: ='7'!E20-'8'!C20 -> -30 | E20: -20
A21: 22 | B21: Amélie 100% | C21: 20 | D21: ='7'!E21-'8'!C21 -> -80 | E21: -60
A22: 23 | B22: Audace 80% | C22: 16 | D22: ='7'!E22-'8'!C22 -> -48 | E22: -32
A23: 24 | B23: Isaline 100% | C23: 20 | D23: ='7'!E23-'8'!C23 -> -40 | E23: -20
B26: TOTAL = | C26: =SUM(C4:C25) -> 332 | D26: =SUM(D4:D25) -> -718 | E26: =SUM(E4:E25) -> -386

Sheet 9
A1: Décompte personnel | H1: 9
A3: N° pers | B3: Personnel | C3: Tarif mensuel | D3: Solde au 1er du mois | E3: Solde actuel | G3: Pourcentage | H3: Tarifs
A4: 1 | B4: Barbara 80% | C4: 16 | D4: ='8'!E4-'9'!C4 -> 153 | E4: 169 | G4: 1 | H4: 20
A5: 2 | B5: Pierre 100% | C5: 20 | D5: ='8'!E5-'9'!C5 -> -60 | E5: -40 | G5: 0.9 | H5: 18
A6: 3 | B6: Mélanie 100% | C6: 20 | D6: ='8'!E6-'9'!C6 -> 5 | E6: 25 | G6: 0.8 | H6: 16
A7: 4 | B7: Nathalie 70%* | C7: 10 | D7: ='8'!E7-'9'!C7 -> -20 | E7: -10 | G7: 0.7 | H7: 14
A8: 5 | B8: Christina 90% | C8: 18 | D8: ='8'!E8-'9'!C8 -> -54 | E8: -36 | G8: 0.6 | H8: 12
A9: 6 | B9: Kévin 100% | C9: 20 | D9: ='8'!E9-'9'!C9 -> -80 | E9: -60 | G9: 0.5 | H9: 10
A10: 7 | B10: Alexia 90% | C10: 10 | D10: ='8'!E10-'9'!C10 -> -140 | E10: -130 | G10: 0.4 | H10: 8
A11: 9 | B11: Alexi 100% | C11: 20 | D11: ='8'!E11-'9'!C11 -> 40 | E11: 60
A12: 10 | B12: Cristiana 100% | C12: 20 | D12: ='8'!E12-'9'!C12 -> -40 | E12: -20
A13: 11 | B13: Patricia 80% | C13: 16 | D13: ='8'!E13-'9'!C13 -> -32 | E13: -16
A14: 12 | B14: Marie 80% | C14: 16 | D14: ='8'!E14-'9'!C14 -> -26 | E14: -10
A15: 13 | B15: Kiko 100% | C15: 20 | D15: ='8'!E15-'9'!C15 -> -40 | E15: -20
A16: 14 | B16: Catarina 100% | C16: 20 | D16: ='8'!E16-'9'!C16 -> -100 | E16: -80
A17: 15 | B17: Flavienne 80% | C17: 18 | D17: ='8'!E17-'9'!C17 -> -90 | E17: -72
A18: 16 | B18: Jana 50% | C18: 10 | D18: ='8'!E18-'9'!C18 -> -50 | E18: -40
A19: 17 | B19: Prisca 60% | C19: 12 | D19: ='8'!E19-'9'!C19 -> 14 | E19: 26
A20: 21 | B20: Aline 100% | C20: 10 | D20: ='8'!E20-'9'!C20 -> -30 | E20: -20
A21: 22 | B21: Amélie 100% | C21: 20 | D21: ='8'!E21-'9'!C21 -> -80 | E21: -60
A22: 23 | B22: Audace 80% | C22: 16 | D22: ='8'!E22-'9'!C22 -> -48 | E22: -32
A23: 24 | B23: Isaline 100% | C23: 20 | D23: ='8'!E23-'9'!C23 -> -40 | E23: -20
B26: TOTAL = | C26: =SUM(C4:C25) -> 332 | D26: =SUM(D4:D25) -> -718 | E26: =SUM(E4:E25) -> -386

Sheet 10
A1: Décompte personnel | H1: 10
A3: N° pers | B3: Personnel | C3: Tarif mensuel | D3: Solde au 1er du mois | E3: Solde actuel | G3: Pourcentage | H3: Tarifs
A4: 1 | B4: Barbara 80% | C4: 16 | D4: ='9'!E4-'10'!C4 -> 153 | E4: 169 | G4: 1 | H4: 20
A5: 2 | B5: Pierre 100% | C5: 20 | D5: ='9'!E5-'10'!C5 -> -60 | E5: -40 | G5: 0.9 | H5: 18
A6: 3 | B6: Mélanie 100% | C6: 20 | D6: ='9'!E6-'10'!C6 -> 5 | E6: 25 | G6: 0.8 | H6: 16
A7: 4 | B7: Nathalie 70%* | C7: 10 | D7: ='9'!E7-'10'!C7 -> -20 | E7: -10 | G7: 0.7 | H7: 14
A8: 5 | B8: Christina 90% | C8: 18 | D8: ='9'!E8-'10'!C8 -> -54 | E8: -36 | G8: 0.6 | H8: 12
A9: 6 | B9: Kévin 100% | C9: 20 | D9: ='9'!E9-'10'!C9 -> -80 | E9: -60 | G9: 0.5 | H9: 10
A10: 7 | B10: Alexia 90% | C10: 10 | D10: ='9'!E10-'10'!C10 -> -140 | E10: -130 | G10: 0.4 | H10: 8
A11: 9 | B11: Alexi 100% | C11: 20 | D11: ='9'!E11-'10'!C11 -> 40 | E11: 60
A12: 10 | B12: Cristiana 100% | C12: 20 | D12: ='9'!E12-'10'!C12 -> -40 | E12: -20
A13: 11 | B13: Patricia 80% | C13: 16 | D13: ='9'!E13-'10'!C13 -> -32 | E13: -16
A14: 12 | B14: Marie 80% | C14: 16 | D14: ='9'!E14-'10'!C14 -> -26 | E14: -10
A15: 13 | B15: Kiko 100% | C15: 20 | D15: ='9'!E15-'10'!C15 -> -40 | E15: -20
A16: 14 | B16: Catarina 100% | C16: 20 | D16: ='9'!E16-'10'!C16 -> -100 | E16: -80
A17: 15 | B17: Flavienne 80% | C17: 18 | D17: ='9'!E17-'10'!C17 -> -90 | E17: -72
A18: 16 | B18: Jana 50% | C18: 10 | D18: ='9'!E18-'10'!C18 -> -50 | E18: -40
A19: 17 | B19: Prisca 60% | C19: 12 | D19: ='9'!E19-'10'!C19 -> 14 | E19: 26
A20: 21 | B20: Aline 100% | C20: 10 | D20: ='9'!E20-'10'!C20 -> -30 | E20: -20
A21: 22 | B21: Amélie 100% | C21: 20 | D21: ='9'!E21-'10'!C21 -> -80 | E21: -60
A22: 23 | B22: Audace 80% | C22: 16 | D22: ='9'!E22-'10'!C22 -> -48 | E22: -32
A23: 24 | B23: Isaline 100% | C23: 20 | D23: ='9'!E23-'10'!C23 -> -40 | E23: -20
B26: TOTAL = | C26: =SUM(C4:C25) -> 332 | D26: =SUM(D4:D25) -> -718 | E26: =SUM(E4:E25) -> -386

Sheet 11
A1: Décompte personnel | H1: 11
A3: N° pers | B3: Personnel | C3: Tarif mensuel | D3: Solde au 1er du mois | E3: Solde actuel | G3: Pourcentage | H3: Tarifs
A4: 1 | B4: Barbara 80% | C4: 16 | D4: ='10'!E4-'11'!C4 -> 153 | E4: 169 | G4: 1 | H4: 20
A5: 2 | B5: Pierre 100% | C5: 20 | D5: ='10'!E5-'11'!C5 -> -60 | E5: -40 | G5: 0.9 | H5: 18
A6: 3 | B6: Mélanie 100% | C6: 20 | D6: ='10'!E6-'11'!C6 -> 5 | E6: 25 | G6: 0.8 | H6: 16
A7: 4 | B7: Nathalie 70%* | C7: 10 | D7: ='10'!E7-'11'!C7 -> -20 | E7: -10 | G7: 0.7 | H7: 14
A8: 5 | B8: Christina 90% | C8: 18 | D8: ='10'!E8-'11'!C8 -> -54 | E8: -36 | G8: 0.6 | H8: 12
A9: 6 | B9: Kévin 100% | C9: 20 | D9: ='10'!E9-'11'!C9 -> -80 | E9: -60 | G9: 0.5 | H9: 10
A10: 7 | B10: Alexia 90% | C10: 10 | D10: ='10'!E10-'11'!C10 -> -140 | E10: -130 | G10: 0.4 | H10: 8
A11: 9 | B11: Alexi 100% | C11: 20 | D11: ='10'!E11-'11'!C11 -> 40 | E11: 60
A12: 10 | B12: Cristiana 100% | C12: 20 | D12: ='10'!E12-'11'!C12 -> -40 | E12: -20
A13: 11 | B13: Patricia 80% | C13: 16 | D13: ='10'!E13-'11'!C13 -> -32 | E13: -16
A14: 12 | B14: Marie 80% | C14: 16 | D14: ='10'!E14-'11'!C14 -> -26 | E14: -10
A15: 13 | B15: Kiko 100% | C15: 20 | D15: ='10'!E15-'11'!C15 -> -40 | E15: -20
A16: 14 | B16: Catarina 100% | C16: 20 | D16: ='10'!E16-'11'!C16 -> -100 | E16: -80
A17: 15 | B17: Flavienne 80% | C17: 18 | D17: ='10'!E17-'11'!C17 -> -90 | E17: -72
A18: 16 | B18: Jana 50% | C18: 10 | D18: ='10'!E18-'11'!C18 -> -50 | E18: -40
A19: 17 | B19: Prisca 60% | C19: 12 | D19: ='10'!E19-'11'!C19 -> 14 | E19: 26
A20: 21 | B20: Aline 100% | C20: 10 | D20: ='10'!E20-'11'!C20 -> -30 | E20: -20
A21: 22 | B21: Amélie 100% | C21: 20 | D21: ='10'!E21-'11'!C21 -> -80 | E21: -60
A22: 23 | B22: Audace 80% | C22: 16 | D22: ='10'!E22-'11'!C22 -> -48 | E22: -32
A23: 24 | B23: Isaline 100% | C23: 20 | D23: ='10'!E23-'11'!C23 -> -40 | E23: -20
B26: TOTAL = | C26: =SUM(C4:C25) -> 332 | D26: =SUM(D4:D25) -> -718 | E26: =SUM(E4:E25) -> -386

Sheet 12
A1: Décompte personnel | H1: 12
A3: N° pers | B3: Personnel | C3: Tarif mensuel | D3: Solde au 1er du mois | E3: Solde actuel | G3: Pourcentage | H3: Tarifs
A4: 1 | B4: Barbara 80% | C4: 16 | D4: ='11'!E4-'12'!C4 -> 153 | E4: 169 | G4: 1 | H4: 20
A5: 2 | B5: Pierre 100% | C5: 20 | D5: ='11'!E5-'12'!C5 -> -60 | E5: -40 | G5: 0.9 | H5: 18
A6: 3 | B6: Mélanie 100% | C6: 20 | D6: ='11'!E6-'12'!C6 -> 5 | E6: 25 | G6: 0.8 | H6: 16
A7: 4 | B7: Nathalie 70%* | C7: 10 | D7: ='11'!E7-'12'!C7 -> -20 | E7: -10 | G7: 0.7 | H7: 14
A8: 5 | B8: Christina 90% | C8: 18 | D8: ='11'!E8-'12'!C8 -> -54 | E8: -36 | G8: 0.6 | H8: 12
A9: 6 | B9: Kévin 100% | C9: 20 | D9: ='11'!E9-'12'!C9 -> -80 | E9: -60 | G9: 0.5 | H9: 10
A10: 7 | B10: Alexia 90% | C10: 10 | D10: ='11'!E10-'12'!C10 -> -140 | E10: -130 | G10: 0.4 | H10: 8
A11: 9 | B11: Alexi 100% | C11: 20 | D11: ='11'!E11-'12'!C11 -> 40 | E11: 60
A12: 10 | B12: Cristiana 100% | C12: 20 | D12: ='11'!E12-'12'!C12 -> -40 | E12: -20
A13: 11 | B13: Patricia 80% | C13: 16 | D13: ='11'!E13-'12'!C13 -> -32 | E13: -16
A14: 12 | B14: Marie 80% | C14: 16 | D14: ='11'!E14-'12'!C14 -> -26 | E14: -10
A15: 13 | B15: Kiko 100% | C15: 20 | D15: ='11'!E15-'12'!C15 -> -40 | E15: -20
A16: 14 | B16: Catarina 100% | C16: 20 | D16: ='11'!E16-'12'!C16 -> -100 | E16: -80
A17: 15 | B17: Flavienne 80% | C17: 18 | D17: ='11'!E17-'12'!C17 -> -90 | E17: -72
A18: 16 | B18: Jana 50% | C18: 10 | D18: ='11'!E18-'12'!C18 -> -50 | E18: -40
A19: 17 | B19: Prisca 60% | C19: 12 | D19: ='11'!E19-'12'!C19 -> 14 | E19: 26
A20: 21 | B20: Aline 100% | C20: 10 | D20: ='11'!E20-'12'!C20 -> -30 | E20: -20
A21: 22 | B21: Amélie 100% | C21: 20 | D21: ='11'!E21-'12'!C21 -> -80 | E21: -60
A22: 23 | B22: Audace 80% | C22: 16 | D22: ='11'!E22-'12'!C22 -> -48 | E22: -32
A23: 24 | B23: Isaline 100% | C23: 20 | D23: ='11'!E23-'12'!C23 -> -40 | E23: -20
B26: TOTAL = | C26: =SUM(C4:C25) -> 332 | D26: =SUM(D4:D25) -> -718 | E26: =SUM(E4:E25) -> -386
