Workbook

Sheet Décompte caisse
A1: Caisse d'équipe Thalassa
A3: Date | B3: N° pers | D3: Entrée / sorties | F3: Check-up
C4: Solde en caisse restant précédent | F4: 200 | H4: 0
A5: 45559 | C5: Confitures Nina | D5: -12 | F5: 100 | H5: =G5*100 -> 0
A6: 45559 | C6: Souper d'équipe | D6: -1280 | F6: 50 | G6: 4 | H6: =G6*50 -> 200
A7: 45559 | B7: 17 | C7: Prisca | D7: 20 | F7: 20 | G7: 26 | H7: =F7*G7 -> 520
A8: 45559 | C8: Emballage cadeau | D8: -8.9 | F8: 10 | G8: 11 | H8: =G8*10 -> 110
A9: 45559 | C9: Dionita | D9: 60
A10: 45559 | C10: Adeline | D10: 120 | F10: 5 | G10: 28 | H10: =G10*5 -> 140
A11: 45559 | B11: 16 | C11: Jana | D11: 50 | F11: 2 | G11: 62 | H11: =F11*G11 -> 124
F12: 1 | G12: 95 | H12: =F12*G12 -> 95
F13: 0.5 | G13: 65 | H13: =F13*G13 -> 32.5
F14: 0.2 | G14: 58 | H14: =F14*G14 -> 11.6
F15: 0.1 | G15: 45 | H15: =F15*G15 -> 4.5
F16: 0.05 | G16: 25 | H16: =F16*G16 -> 1.25
H17: =SUM(H4:H16) -> 1238.85
F24: =IF(D57=H17,"Check juste",IF(D57<H17,"Il manque une entrée de dépense",IF(D57>H17,"Le check des billets est à refaire"))) -> Il manque une entrée de dépense
C55: Total entrées/sorties | D55: =SUM(D5:D54) -> -1050.9
C57: Solde (total dans la caisse) | D57: =SUM(H17,D55) -> 187.95

Sheet Décompte personnel 10.2024
A1: Décompte personnel | F1: Mois | G1: 01.09.2024
A3: N° pers | B3: Personnel | C3: Tarif mensuel | D3: Solde actuel | F3: Pourcentage | G3: Tarifs
A4: 1 | B4: Barbara 80% | C4: 16 | D4: 217 | F4: 1 | G4: 20
A5: 2 | B5: Pierre 100% | C5: 20 | D5: -175 | F5: 0.9 | G5: 18
A6: 3 | B6: Mélanie 100% | C6: 20 | D6: -115 | F6: 0.8 | G6: 16
A7: 4 | B7: Nathalie 70%* | C7: 10 | D7: -30 | F7: 0.7 | G7: 14
A8: 5 | B8: Christina 90% | C8: 18 | D8: -36 | F8: 0.6 | G8: 12
A9: 6 | B9: Kévin 100% | C9: 20 | D9: 10 | F9: 0.5 | G9: 10
A10: 7 | B10: Alexia 90% | C10: 18 | D10: -112 | F10: 0.4 | G10: 8
A11: 8 | B11: Natacha 100% | C11: 20 | D11: -180
A12: 9 | B12: Alexi 100% | C12: 20 | D12: -180
A13: 10 | B13: Cristiana 100% | C13: 20 | D13: -120
A14: 11 | B14: Patricia 90% | C14: 18 | D14: -18
A15: 12 | B15: Marie 80% | C15: 16 | D15: -16
A16: 13 | B16: Kiko 100% | C16: 20 | D16: -80
A17: 14 | B17: Catarina 100% | C17: 20 | D17: -260
A18: 15 | B18: Flavienne 100% | C18: 20 | D18: -20
A19: 16 | B19: Jana 50% | C19: 10 | D19: -60
A20: 17 | B20: Prisca 60% | C20: 12 | D20: 42
A21: 18 | B21: Majlinda 100% | C21: 20 | D21: -40
A22: 19 | B22: Michal 100% | C22: 20 | D22: -40
A23: 20 | B23: Nicolas 100% | C23: 20 | D23: -60
B27: TOTAL = | C27: =SUM(C4:C26) -> 358 | D27: =SUM(D4:D26) -> -1273
D31: rajouter règle si pour numéro personnel et selon entrées et sorties

Sheet 06.07.18-08.11.2018
A1: Caisse Empreinte / Fond Frs 500.00
A3: Date | B3: N° de cpte | D3: Entrée | E3: Sorties | F3: Solde
B4: plan comptable
C5: Solde | F5: 102.35
C6: Entrée Tremplin | D6: =500-F5 -> 397.65 | F6: =F5+D6 -> 500
B8: 410000 | C8: Alimentation
A9: 43320 | C9: Migros :Dîner accueil Riccardo | E9: 39.05
A10: 43343 | C10: Crème à café Denner | E10: 2
A11: 43360 | C11: Jus d'orange + Jus de pomme + Thé froid pour 'clients' | E11: 5.75
A12: 43371 | C12: Crème à café Denner | E12: 1.1
A13: 43376 | C13: Sirops Denner | E13: 4
A14: 43383 | C14: Jus de pomme (De Riccardo) | E14: 13
B15: 481350/10/901 | C15: Prévention « Boulevard »
A16: 43319 | C16: Fourniture bureau | E16: 30.7
A17: 43326 | C17: Fourniture bureau | E17: 7.7
A18: 43362 | C18: 1er apéro | E18: 25.65
A19: 43382 | C19: 2ème apéro | E19: 13.55
A20: 43411 | C20: Stylos atelier genre | E20: 13
B22: 420100 | C22: Menage
A23: 43315 | C23: DENNER/ Sacs poubelle + lingettes | E23: 17.75
A24: 43377 | C24: WC + Liquide vaisselle | E24: 9.65
B27: 481300 | C27: Prévention
A28: 43292 | C28: ALIGRO/ Sucettes | E28: 46.7
A29: 43292 | C29: GRISELIDIS/ Lubrifiants | E29: 75
A30: 43336 | C30: ALIGRO/ Sucettes | E30: 20.7
B33: 470000 | C33: Bureau
A34: 43409 | C34: Timbre | E34: 10
B37: 209000 | C37: HSH
B42: 209000 | C42: Tests de dépistages
A43: 43334 | C43: Merfen 100ml | E43: 12.4
A44: 43411 | C44: Sterrillium désinfectant | E44: 6.45
B45: 209000 | C45: Migrants
B48: 680900 | C48: Divers
B52: 470110 | C52: Frais de port
C55: Total entrées/sorties | E55: =SUM(E6:E54) -> 354.15
C57: Solde | F57: =F6-E55 -> 145.85

Sheet 14.06.18-06.07.18
A1: Caisse Empreinte / Fond Frs 500.00
A3: Date | B3: N° de cpte | D3: Entrée | E3: Sorties | F3: Solde
B4: plan comptable
C5: Solde | F5: 97.1
C6: Entrée Tremplin | D6: =500-F5 -> 402.9 | F6: =F5+D6 -> 500
B8: 410000 | C8: Alimentation
B15: 481350/10/901 | C15: Prévention « Boulevard »
B20: 420100 | C20: Menage
A21: 43272 | C21: MIGROS/ produits | E21: 6.2
B25: 481300 | C25: prévention
A26: 43265 | C26: ALIGRO/ sucettes | E26: 115
A27: 43272 | C27: MIGROS/ préservatifs | E27: 13.5
A28: 43283 | C28: EN LIGNE/ préservatifs | E28: 14.2
A29: 43284 | C29: GRISELIDIS/ Lubrifiants | E29: 50
B31: 470000 | C31: Bureau
A32: 43273 | C32: SCHWALLER/ Clef pour garage | E32: 15
A33: 43278 | C33: SPIDS/ cartes de visite | E33: 150
B35: 209000 | C35: HSH
B40: 209000 | C40: Tests de dépistages
B43: 209000 | C43: Migrants
B46: 680900 | C46: Divers
A47: 43267 | C47: Au Vieux Grenier/ 12H de l'Auge | E47: 33.75
B50: 470110 | C50: Frais de port
C54: Total entrées/sorties | D54: 402.9 | E54: =SUM(E8:E53) -> 397.65
C56: Solde | F56: =F6-E54 -> 102.35

Sheet 05.04.18-14.06.18
A1: Caisse Empreinte / Fond Frs 500.00
A3: Date | B3: N° de cpte | D3: Entrée | E3: Sorties | F3: Solde
B4: plan comptable
C5: Solde | F5: 98.3
C6: Entrée Tremplin | D6: =500-F5 -> 401.7 | F6: =F5+D6 -> 500
B8: 410000 | C8: Alimentation
A9: 43207 | C9: DENNER/ Collation Boulevard | E9: 15.1
A10: 43223 | C10: DENNER/ Apéro AS Tremplin | E10: 29.55
A11: 43235 | C11: DENNER/ Collation Boulevard | E11: 27.8
A12: 43235 | C12: MIGROS/ Collation Boulevard | E12: 2.55
B15: 481350/10/901 | C15: Prévention « Boulevard »
B21: 420100 | C21: Menage
A22: 43220 | C22: MIGROS/ thé+pastilles lave-vaisselle | E22: 21.75
A23: 43223 | C23: MIGROS/ Ampoule | E23: 6.95
A24: 43238 | C24: MIGROS/ Sucre + thé | E24: 4.55
A25: 43258 | C25: MIGROS, lessive | E25: 15.9
A26: 43263 | C26: MIGROS/ Sac poubelle | E26: 10.5
A27: 43263 | C27: MIGROS/ scotch, crème, Kleenex | E27: 13.05
B29: 481300 | C29: prévention
B33: 470000 | C33: Bureau
A34: 43236 | C34: MIGROS/ Casier de rangement | E34: 28
A35: 43214 | C35: MIGROS/ Blocs feuille | E35: 9.9
B37: 209000 | C37: HSH
A38: 43229 | C38: DENNER/ thé froid | E38: 2.1
A39: 43229 | C39: DENNER/ biscuits salés | E39: 7.9
A40: 43229 | C40: SUARD/ Sandwichs | E40: 30.4
A41: 43244 | C41: DENNER/ Coca-Cola | E41: 2.05
A42: 43244 | C42: POULY/ Sandwichs | E42: 13.9
A43: 43244 | C43: SUARD/ Sandwichs | E43: 13.8
A44: 43244 | C44: SUARD/ Sandwichs | E44: 6.9
B46: 209000 | C46: Tests de dépistages
A47: 43228 | C47: PHARMACIE/ Sterilium + Merfen | E47: 36.75
B49: 209000 | C49: Afrimedia
B52: 680900 | C52: Divers
A53: 43229 | C53: ATELIER COUTURE/ réparations stand | E53: 85
A54: 43244 | C54: POSTE/ Timbres | E54: 18.5
B56: 470110 | C56: Frais de port
C60: Total entrées/sorties | D60: =SUM(D8:D59) -> 0 | E60: =SUM(E8:E59) -> 402.9
C62: Solde | F62: =SUM(F6-E60+D60) -> 97.1

Sheet 19.12.17-05.04.18
A1: Caisse Empreinte / Fond Frs 500.00
A3: Date | B3: N° de cpte | D3: Entrée | E3: Sorties | F3: Solde
B4: plan comptable
C5: Solde | F5: 185.75
C6: Entrée Tremplin | D6: =185.75+128.5 -> 314.25 | F6: =F5+D6 -> 500
B8: 410000 | C8: Alimentation
A9: 43146 | C9: DENNER/ apéro Seuil | E9: 10.95
A10: 43165 | C10: MIGROS/ Collation Boulevard | E10: 19.5
A11: 43186 | C11: DENNER/ Collation Boulevard | E11: 9.9
B15: 481350/10/901 | C15: Prévention « Boulevard »
B21: 4201100 | C21: Menage
A22: 43145 | C22: MIGROS/ Détergent et autres | E22: 9.85
A23: 43145 | C23: MIGROS/ Sacs poubelle | E23: 10.5
A24: 43158 | C24: DENNER/ Savon, crème café | E24: 5.9
A25: 43175 | C25: DENNER/ Papier toilettes et autres | E25: 25.4
B27: 481300 | C27: prévention
A28: 43159 | C28: MEYER/ Etiquettes et scotch | E28: 25.8
B31: 470000 | C31: Bureau
A32: 43089 | C32: LA POSTE/ Timbres | E32: 50.6
B35: 209000 | C35: HSH
A36: 43099 | C36: MIGROS/ collation | E36: 10.4
B39: 209000 | C39: Tests de dépistages
A40: 43179 | C40: PHARMACIE/ Désinfectant | E40: 8.5
A41: 43188 | C41: MEYER/ étiquettes | E41: 16.5
B42: 209000 | C42: Afrimedia
A43: 43112 | C43: Repas Passerelles | E43: 120
C46: Divers
A47: 43089 | C47: MIGROS/ Aerateur | E47: 12.9
A48: 43173 | C48: SPIDS/ cartes de visite | E48: 65
B52: 470110 | C52: Frais de port
C56: Total entrées/sorties | D56: =SUM(D8:D55) -> 0 | E56: =SUM(E8:E55) -> 401.7
C58: Solde | F58: =SUM(F6-E56+D56) -> 98.3

Sheet 14.11.17-18.12.17
A1: Caisse Empreinte / Fond Frs 500.00
A3: Date | B3: N° de cpte | D3: Entrée | E3: Sorties | F3: Solde
B4: plan comptable
C5: Solde | F5: 145.05
C6: Entrée Tremplin | D6: 354.95 | F6: 500
B8: 410000 | C8: Alimentation
A9: 43070 | C9: TREMPLIN/ bières cadeau | E9: 24
A10: 43074 | C10: SAUDAN/ pain d'anis | E10: 12.2
A11: 43081 | C11: DENNER/ Collation boulevard | E11: 4.85
B16: 481350/10/901 | C16: Prévention « Boulevard »
B22: 4201100 | C22: Menage
A23: 43054 | C23: DENNER/ Lingettes | E23: 0.9
A24: 43059 | C24: MAXI BAZAR/ Décorations Noël | E24: 27.8
A25: 43081 | C25: DENNER/ Sacs-poubelles | E25: 10.5
B29: 481300 | C29: prévention
B33: 470000 | C33: Bureau
A34: 43087 | C34: Saint-Paul/ Cartes de vœux | E34: 50
B37: 209000 | C37: HSH
B41: 209000 | C41: Tests de dépistages
A42: 43053 | C42: COOP/ Caisse monnaie | E42: 19.95
A43: 43053 | C43: INTERDISCOUNT/ Chronomètre | E43: 14.95
A44: 43055 | C44: OCHSNER/ Chronomètre | E44: 19.9
A45: 43055 | C45: PHARMACIE/ Désinfectant | E45: 30.15
A46: 43059 | C46: MIGROS/ Boîtes pour tests mobiles | E46: 25.3
B48: 209000 | C48: Divers
A49: 43060 | C49: IKEA/ Tunnels (12h de l'Auge) | E49: 89.75
B55: 470110 | C55: Frais de port
A56: 43060 | C56: Remboursement ASS | D56: 16
C59: Total entrées/sorties | D59: =SUM(D8:D58) -> 16 | E59: =SUM(E8:E58) -> 330.25
C61: Solde | F61: =SUM(F6-E59+D59) -> 185.75

Sheet 24.08.2017-14.11.17
A1: Caisse Empreinte / Fond Frs 500.00
A3: Date | B3: N° de cpte | D3: Entrée | E3: Sorties | F3: Solde
B4: plan comptable
C5: Solde | F5: 12
C6: Entrée Tremplin | D6: =F6-F5 -> 488 | F6: 500
B8: 410000 | C8: Alimentation
A9: 43004 | C9: MIGROS/ Collation Boulevard | E9: 74.55
A10: 43025 | C10: DENNER/ Collation Boulevard | E10: 11.05
B16: 481350/10/901 | C16: Prévention « Boulevard »
A17: 43039 | C17: SAINT-PAUL/ Cartes Boulevard | E17: 160
B22: 4230 | C22: Menage
A23: 43021 | C23: DENNER/ Kleenex et sacs poubelle | E23: 13.95
B29: 4800 | C29: prévention
B33: 4700 | C33: Bureau
A34: 42986 | C34: MIGROS/ Bande adhésive magnétique | E34: 9
A35: 43033 | C35: MEYER/ Bostik Blu-Tack | E35: 5.2
B37: 209000 | C37: HSH
A38: 43047 | C38: DENNER/ Collation Sécurion | E38: 7.35
A39: 43047 | C39: SUARD/ Sandwich | E39: 26.4
B41: ??? | C41: Tests de dépistages
C42: PHAMACIE/ désinfectant mains | E42: 6.45
C45: Divers
A46: 43021 | C46: ASPHALT KREATORS/ 1er décembre : Molotow film canvas | E46: 25
C50: Fonds ASS
B52: 4711 | C52: Frais de port
A53: 43011 | C53: POSTE/ envoi gilets Florent Jouinot | E53: 16
C56: Total sorties | E56: =SUM(E8:E55) -> 354.95
C58: Solde | F58: =SUM(F6-E56) -> 145.05

Sheet 24.04.2017-24.08.2017
A1: Caisse Empreinte / Fond Frs 500.00
A3: Date | B3: N° de cpte | D3: Entrée | E3: Sorties | F3: Solde
B4: plan comptable
C5: Solde | F5: ='19.01.2017-24.04.2017'!F55 -> 48.8
C6: Entrée Tremplin | D6: =F6-F5 -> 451.2 | F6: 500
B8: 410000 | C8: Alimentation
A9: 42929 | C9: DENNER / Croissants bilan HSH | E9: 12.2 | G9: x
B16: 481350/10/901 | C16: Prévention « Boulevard »
A17: 42867 | C17: Meyer / Velcro et autres | E17: 13.2 | G17: x
A18: 42878 | C18: CDFF / SpanSet | E18: 20.5 | G18: x
A19: 42894 | C19: Apéro pair-e-s | E19: 31 | G19: x
A20: 42894 | C20: DENNER / apéro pair-e-s | E20: 3.5 | G20: x
A21: 42935 | C21: MEYER / Velcro | E21: 8.6 | G21: x
B22: 4230 | C22: Menage
A23: 42866 | C23: MIGROS / détartrant et sirop | E23: 9.5 | G23: x
A24: 42909 | C24: DENNER / poubelles et autres | E24: 19.75 | G24: x
A25: 42937 | C25: MIGROS / WC détergent | E25: 2.9 | G25: x
A26: 42968 | C26: MIGROS / savon et autres | E26: 7.9 | G26: x
B29: 4800 | C29: prévention
A30: 42863 | C30: Saint-Paul / Autocollants HEdS | E30: 30 | G30: x
A31: 42893 | C31: CDFF / 12h de l'Auge | E31: 14.25 | G31: x
A32: 42896 | C32: Au vieux grenier Sa / 12h de l'Auge | E32: 30 | G32: x
B33: 4700 | C33: Bureau
A34: 42971 | C34: Cartes de visite (200x) | E34: 135 | G34: x
B37: 209000 | C37: HSH
A38: 42863 | C38: Frais envoi Lgbt
A39: 42865 | C39: SUARD / Sandwichs ORW | E39: 30.9 | G39: x
A40: 42865 | C40: DENNER / Apéro Blabla | E40: 20.6 | G40: x
A41: 42878 | C41: SUARD / Sandwichs ORW | E41: 26.8 | G41: x
A42: 42871 | C42: Station Tamoil | E42: 1.2 | G42: x
A43: 42900 | C43: Denner / Apéro Blabla | E43: 29.2 | G43: x
C44: Divers
A45: 42877 | C45: CDFF / Safe clé | E45: 36 | G45: x
A46: 42914 | C46: MEYER / carte | E46: 5 | G46: x
C49: Fonds ASS
B51: 4711 | C51: Frais de port
C55: Total sorties | E55: =SUM(E8:E54) -> 488
C57: Solde | F57: =SUM(F6-E55) -> 12

Sheet 19.01.2017-24.04.2017
A1: Caisse Empreinte / Fond Frs 500.00
A3: Date | B3: N° de cpte | D3: Entrée | E3: Sorties | F3: Solde
B4: plan comptable
C5: Solde | F5: =#REF! -> #REF!
C6: Entrée Tremplin | D6: =F6-F5 -> #REF! | F6: 500
B8: 410000 | C8: Alimentation
A9: 42787 | C9: DENNER / Apéro Coord. Sida Frib. | E9: 7.9
A10: 42789 | C10: MIGROS / Thés | E10: 3.35
A11: 42800 | C11: DENNER / jus orange planning | E11: 3.3
A12: 42800 | C12: Migros / Biscuits planning familial | E12: 9.1
A13: 42830 | C13: Au vieux grenier SA / Apéro PHO | E13: 14.5
A14: 42826 | C14: Boulangerie Grangier / WE Gourdiflots | E14: 28.1
B16: 481350/10/901 | C16: Prévention « Boulevard »
A17: 42808 | C17: DENNER / apéro pairs | E17: 15.35
A18: 42850 | C18: SAINT-PAUL / Autocollants FriAir | E18: 30
B21: 4230 | C21: Menage
A22: 42801 | C22: Migros / savon et thé | E22: 5.05
A23: 42801 | C23: Migros / sac poubelle | E23: 10.5
A24: 42815 | C24: DENNER / Lingettes universelles | E24: 2.95
B28: 4800 | C28: prévention
A29: 42767 | C29: Saint-Paul / Impression cartes jeu | E29: 64.15
A30: 42773 | C30: Saint-Paul / Autocollants | E30: 80
B31: 4700 | C31: Bureau
A32: 42779 | C32: MEYER / Feuilles à laminer | E32: 16
A33: 42810 | C33: CASH / Casque audio | E33: 39
A34: 42849 | C34: INTERDISCOUNT / pile calculatrice | E34: 4.5
B35: 209000 | C35: HSH
A36: 42772 | C36: DENNER / Apéro Blabla | E36: 13.2
A37: 42837 | C37: Denner / Apéro Blabla | E37: 18.15
C41: Divers
A42: 42830 | C42: FNAC / DVD Dallas Buyers Club | E42: 14.9
A43: 42843 | C43: FNAC / DVD Philadelphia | E43: 12.9
A44: 42844 | C44: Albert-le-Grand / Livre santé-psy | E44: 21.7
C47: Fonds ASS
B49: 4711 | C49: Frais de port
A50: 42767 | C50: Poste / Recommandé | E50: 6.3
A51: 42796 | C51: Poste / PostPac Economy | E51: 9
A52: 42830 | C52: Poste / Timbres + lettre taxe | E52: 21.3
C53: Total sorties | E53: =SUM(E8:E52) -> 451.2
C55: Solde | F55: =SUM(F6-E53) -> 48.8

Sheet Décompte personnel 11.2024
A1: Décompte personnel
A3: N° pers | B3: Personnel | C3: Tarif mensuel | D3: Solde actuel | F3: Pourcentage | G3: Tarifs
A4: 1 | B4: Barbara 80% | C4: 16 | D4: ='Décompte personnel 10.2024'!D4-'Décompte personnel 11.2024'!C4 -> 201 | F4: 1 | G4: 20
A5: 2 | B5: Pierre 100% | C5: 20 | D5: ='Décompte personnel 10.2024'!D5-'Décompte personnel 11.2024'!C5 -> -195 | F5: 0.9 | G5: 18
A6: 3 | B6: Mélanie 100% | C6: 20 | D6: ='Décompte personnel 10.2024'!D6-'Décompte personnel 11.2024'!C6 -> -135 | F6: 0.8 | G6: 16
A7: 4 | B7: Nathalie 70%* | C7: 10 | D7: ='Décompte personnel 10.2024'!D7-'Décompte personnel 11.2024'!C7 -> -40 | F7: 0.7 | G7: 14
A8: 5 | B8: Christina 90% | C8: 18 | D8: ='Décompte personnel 10.2024'!D8-'Décompte personnel 11.2024'!C8 -> -54 | F8: 0.6 | G8: 12
A9: 6 | B9: Kévin 100% | C9: 20 | D9: ='Décompte personnel 10.2024'!D9-'Décompte personnel 11.2024'!C9 -> -10 | F9: 0.5 | G9: 10
A10: 7 | B10: Alexia 90% | C10: 18 | D10: ='Décompte personnel 10.2024'!D10-'Décompte personnel 11.2024'!C10 -> -130 | F10: 0.4 | G10: 8
A11: 8 | B11: Natacha 100% | C11: 20 | D11: ='Décompte personnel 10.2024'!D11-'Décompte personnel 11.2024'!C11 -> -200
A12: 9 | B12: Alexi 100% | C12: 20 | D12: ='Décompte personnel 10.2024'!D12-'Décompte personnel 11.2024'!C12 -> -200
A13: 10 | B13: Cristiana 100% | C13: 20 | D13: ='Décompte personnel 10.2024'!D13-'Décompte personnel 11.2024'!C13 -> -140
A14: 11 | B14: Patricia 90% | C14: 18 | D14: ='Décompte personnel 10.2024'!D14-'Décompte personnel 11.2024'!C14 -> -36
A15: 12 | B15: Marie 80% | C15: 16 | D15: ='Décompte personnel 10.2024'!D15-'Décompte personnel 11.2024'!C15 -> -32
A16: 13 | B16: Kiko 100% | C16: 20 | D16: ='Décompte personnel 10.2024'!D16-'Décompte personnel 11.2024'!C16 -> -100
A17: 14 | B17: Catarina 100% | C17: 20 | D17: ='Décompte personnel 10.2024'!D17-'Décompte personnel 11.2024'!C17 -> -280
A18: 15 | B18: Flavienne 100% | C18: 20 | D18: ='Décompte personnel 10.2024'!D18-'Décompte personnel 11.2024'!C18 -> -40
A19: 16 | B19: Jana 50% | C19: 10 | D19: ='Décompte personnel 10.2024'!D19-'Décompte personnel 11.2024'!C19 -> -70
A20: 17 | B20: Prisca 60% | C20: 12 | D20: ='Décompte personnel 10.2024'!D20-'Décompte personnel 11.2024'!C20 -> 30
A21: 18 | B21: Majlinda 100% | C21: 20 | D21: ='Décompte personnel 10.2024'!D21-'Décompte personnel 11.2024'!C21 -> -60
A22: 19 | B22: Michal 100% | C22: 20 | D22: ='Décompte personnel 10.2024'!D22-'Décompte personnel 11.2024'!C22 -> -60
A23: 20 | B23: Nicolas 100% | C23: 20 | D23: ='Décompte personnel 10.2024'!D23-'Décompte personnel 11.2024'!C23 -> -80
D24: ='Décompte personnel 10.2024'!D24-'Décompte personnel 11.2024'!C24 -> 0
D25: ='Décompte personnel 10.2024'!D25-'Décompte personnel 11.2024'!C25 -> 0
D26: ='Décompte personnel 10.2024'!D26-'Décompte personnel 11.2024'!C26 -> 0
B27: TOTAL = | C27: =SUM(C4:C26) -> 358 | D27: =SUM(D4:D26) -> -1631
D31: rajouter règle si pour numéro personnel et selon entrées et sorties
