Workbook
Name Année_civile: 'Planning des véhicules'!$C$3
Name Bruno: Employés[Véhicule / Immatriculation]
Name ColumnTitleRegion..AC22.1: 'Planning des véhicules'!$C$19:$E$19
Name Invité: Suivi_des_congés[Date de fin d''intervention]
Name lstCongés: JoursFériés[Jours fériés]
Name lstDatesD: Suivi_des_congés[Date de fin d''intervention]
Name lstDatesF: Suivi_des_congés[Date de début d''intervention]
Name lstEmployés: Employés[Véhicule / Immatriculation]
Name lstNomsEmpl: Suivi_des_congés[Véhicule / Immatriculation]
Name lstTypesC: Suivi_des_congés[Type d''intervention]
Name lstTypesCongés: TypesCongés[Liste des types d''interventions]
Name Raymond: JoursFériés[Jours fériés]
Name Titre1: RegistrePrésence[[#Headers],[Jour de la semaine/mois]]
Name Titre2: Suivi_des_congés[[#Headers],[Véhicule / Immatriculation]]
Name TitreColonne3: Employés[[#Headers],[Véhicule / Immatriculation]]
Name TitreColonne4: TypesCongés[[#Headers],[Liste des types d''interventions]]
Name TitreColonne5: JoursFériés[[#Headers],[Jours fériés]]
Name valSelEmployé: 'Planning des véhicules'!$C$2

Sheet Enregistrement
A1: ENREGISTREMENT DES ASA ET DAS DES SYNDIQUES
G2: En cas de 1/2 journées
B3: Véhicule / Immatriculation | C3: Date de début d'intervention | D3: Date de fin d'intervention | E3: Type d'intervention | F3: Jours d'immobilisation | G3: Matinée | H3: Après-midi
B4: Véhicule 1 | C4: 45187 | D4: 45187 | E4: OR demande | F4: =NETWORKDAYS(Suivi_des_congés[[#This Row],[Date de début d''intervention]],Suivi_des_congés[[#This Row],[Date de fin d''intervention]],lstCongés) -> 1
B5: Véhicule 3 | C5: 45187 | D5: 45187 | E5: OR demande | F5: =NETWORKDAYS(Suivi_des_congés[[#This Row],[Date de début d''intervention]],Suivi_des_congés[[#This Row],[Date de fin d''intervention]],lstCongés) -> 1
B6: Véhicule 2 | C6: 45187 | D6: 45187 | E6: OR demande | F6: =NETWORKDAYS(Suivi_des_congés[[#This Row],[Date de début d''intervention]],Suivi_des_congés[[#This Row],[Date de fin d''intervention]],lstCongés) -> 1
F7: =NETWORKDAYS(Suivi_des_congés[[#This Row],[Date de début d''intervention]],Suivi_des_congés[[#This Row],[Date de fin d''intervention]],lstCongés) -> 0
F8: =NETWORKDAYS(Suivi_des_congés[[#This Row],[Date de début d''intervention]],Suivi_des_congés[[#This Row],[Date de fin d''intervention]],lstCongés) -> 0
F9: =NETWORKDAYS(Suivi_des_congés[[#This Row],[Date de début d''intervention]],Suivi_des_congés[[#This Row],[Date de fin d''intervention]],lstCongés) -> 0
F10: =NETWORKDAYS(Suivi_des_congés[[#This Row],[Date de début d''intervention]],Suivi_des_congés[[#This Row],[Date de fin d''intervention]],lstCongés) -> 0
F11: =NETWORKDAYS(Suivi_des_congés[[#This Row],[Date de début d''intervention]],Suivi_des_congés[[#This Row],[Date de fin d''intervention]],lstCongés) -> 0
F12: =NETWORKDAYS(Suivi_des_congés[[#This Row],[Date de début d''intervention]],Suivi_des_congés[[#This Row],[Date de fin d''intervention]],lstCongés) -> 0
F13: =NETWORKDAYS(Suivi_des_congés[[#This Row],[Date de début d''intervention]],Suivi_des_congés[[#This Row],[Date de fin d''intervention]],lstCongés) -> 0
F14: =NETWORKDAYS(Suivi_des_congés[[#This Row],[Date de début d''intervention]],Suivi_des_congés[[#This Row],[Date de fin d''intervention]],lstCongés) -> 0
F15: =NETWORKDAYS(Suivi_des_congés[[#This Row],[Date de début d''intervention]],Suivi_des_congés[[#This Row],[Date de fin d''intervention]],lstCongés) -> 0
F16: =NETWORKDAYS(Suivi_des_congés[[#This Row],[Date de début d''intervention]],Suivi_des_congés[[#This Row],[Date de fin d''intervention]],lstCongés) -> 0
F17: =NETWORKDAYS(Suivi_des_congés[[#This Row],[Date de début d''intervention]],Suivi_des_congés[[#This Row],[Date de fin d''intervention]],lstCongés) -> 0
F18: =NETWORKDAYS(Suivi_des_congés[[#This Row],[Date de début d''intervention]],Suivi_des_congés[[#This Row],[Date de fin d''intervention]],lstCongés) -> 0
... F58: =NETWORKDAYS(Suivi_des_congés[[#This Row],[Date de début d''intervention]],Suivi_des_congés[[#This Row],[Date de fin d''intervention]],lstCongés) -> 0

Sheet Planning des véhicules
A1: PLANNING D'INTERVENTION DES VEHICULES
B2: Nom du véhicule | C2: Véhicule 1 | AV2: =C20+valSelEmployé -> #VALUE!
B3: Entrez l’année : | C3: 2023
B5: Jour de la semaine/mois | C5: DIM | D5: LUN | E5: MAR | F5: MER | G5: JEU | H5: VEN | I5: SAM | J5: DIM | K5: LUN | L5: MAR | M5: MER | N5: JEU | O5: VEN | P5: SAM | Q5: DIM | R5: LUN | S5: MAR | T5: MER | U5: JEU | V5: VEN | W5: SAM | X5: DIM | Y5: LUN | Z5: MAR | AA5: MER | AB5: JEU | AC5: VEN | AD5: SAM | AE5: DIM | AF5: LUN | AG5: MAR | AH5: MER | AI5: JEU | AJ5: VEN | AK5: SAM | AL5: DIM | AM5: LUN | AN5: MAR | AO5: MER | AP5: JEU 2 | AQ5: VEN | AR5: SAM
B6: Janvier | C6: =IFERROR(IF(TEXT(DATE(Année_civile,ROW(#REF!),1),"jjj")=LEFT(C$5,3),DATE(Année_civile,ROW(#REF!),1),""),"") | D6: =IFERROR(IF(TEXT(DATE(Année_civile,ROW(#REF!),1),"jjj")=LEFT(D$5,3),DATE(Année_civile,ROW(#REF!),1),IF(C6>=1,C6+1,"")),"") | E6: =IFERROR(IF(TEXT(DATE(Année_civile,ROW(#REF!),1),"jjj")=LEFT(E$5,3),DATE(Année_civile,ROW(#REF!),1),IF(D6>=1,D6+1,"")),"") | F6: =IFERROR(IF(TEXT(DATE(Année_civile,ROW(#REF!),1),"jjj")=LEFT(F$5,3),DATE(Année_civile,ROW(#REF!),1),IF(E6>=1,E6+1,"")),"") | G6: =IFERROR(IF(TEXT(DATE(Année_civile,ROW(#REF!),1),"jjj")=LEFT(G$5,3),DATE(Année_civile,ROW(#REF!),1),IF(F6>=1,F6+1,"")),"") | H6: =IFERROR(IF(TEXT(DATE(Année_civile,ROW(#REF!),1),"jjj")=LEFT(H$5,3),DATE(Année_civile,ROW(#REF!),1),IF(G6>=1,G6+1,"")),"") | I6: =IFERROR(IF(TEXT(DATE(Année_civile,ROW(#REF!),1),"jjj")=LEFT(I$5,3),DATE(Année_civile,ROW(#REF!),1),IF(H6>=1,H6+1,"")),"") | J6: =IFERROR(IF(I6>=1,I6+1,""),"") | K6: =IFERROR(IF(J6>=1,J6+1,""),"") | L6: =IFERROR(IF(K6>=1,K6+1,""),"") | M6: =IFERROR(IF(L6>=1,L6+1,""),"") | N6: =IFERROR(IF(M6>=1,M6+1,""),"") | O6: =IFERROR(IF(N6>=1,N6+1,""),"") | P6: =IFERROR(IF(O6>=1,O6+1,""),"") | Q6: =IFERROR(IF(P6>=1,P6+1,""),"") | ... AK6: =IFERROR(IF(AJ6>=1,AJ6+1,""),"") | AL6: =IFERROR(IF(AND(AK6>=1,AK6+1<=DATE(Année_civile,ROW(#REF!)+1,0)),AK6+1,""),"") | AM6: =IFERROR(IF(AND(AL6>=1,AL6+1<=DATE(Année_civile,ROW(#REF!)+1,0)),AL6+1,""),"") | AN6: =IFERROR(IF(AND(AM6>=1,AM6+1<=DATE(Année_civile,ROW(#REF!)+1,0)),AM6+1,""),"") | AO6: =IFERROR(IF(AND(AN6>=1,AN6+1<=DATE(Année_civile,ROW(#REF!)+1,0)),AN6+1,""),"") | AP6: =IFERROR(IF(AND(AO6>=1,AO6+1<=DATE(Année_civile,ROW(#REF!)+1,0)),AO6+1,""),"") | AQ6: =IFERROR(IF(AND(AP6>=1,AP6+1<=DATE(Année_civile,ROW(#REF!)+1,0)),AP6+1,""),"") | AR6: =IFERROR(IF(AND(AQ6>=1,AQ6+1<=DATE(Année_civile,ROW(#REF!)+1,0)),AQ6+1,""),"")
B7: Février | C7: =IFERROR(IF(TEXT(DATE(Année_civile,ROW($A2),1),"jjj")=LEFT(C$5,3),DATE(Année_civile,ROW($A2),1),""),"") | D7: =IFERROR(IF(TEXT(DATE(Année_civile,ROW($A2),1),"jjj")=LEFT(D$5,3),DATE(Année_civile,ROW($A2),1),IF(C7>=1,C7+1,"")),"") | E7: =IFERROR(IF(TEXT(DATE(Année_civile,ROW($A2),1),"jjj")=LEFT(E$5,3),DATE(Année_civile,ROW($A2),1),IF(D7>=1,D7+1,"")),"") | F7: =IFERROR(IF(TEXT(DATE(Année_civile,ROW($A2),1),"jjj")=LEFT(F$5,3),DATE(Année_civile,ROW($A2),1),IF(E7>=1,E7+1,"")),"") -> 44958 | G7: =IFERROR(IF(TEXT(DATE(Année_civile,ROW($A2),1),"jjj")=LEFT(G$5,3),DATE(Année_civile,ROW($A2),1),IF(F7>=1,F7+1,"")),"") -> 44959 | H7: =IFERROR(IF(TEXT(DATE(Année_civile,ROW($A2),1),"jjj")=LEFT(H$5,3),DATE(Année_civile,ROW($A2),1),IF(G7>=1,G7+1,"")),"") -> 44960 | I7: =IFERROR(IF(TEXT(DATE(Année_civile,ROW($A2),1),"jjj")=LEFT(I$5,3),DATE(Année_civile,ROW($A2),1),IF(H7>=1,H7+1,"")),"") -> 44961 | J7: =IFERROR(IF(I7>=1,I7+1,""),"") -> 44962 | K7: =IFERROR(IF(J7>=1,J7+1,""),"") -> 44963 | L7: =IFERROR(IF(K7>=1,K7+1,""),"") -> 44964 | M7: =IFERROR(IF(L7>=1,L7+1,""),"") -> 44965 | N7: =IFERROR(IF(M7>=1,M7+1,""),"") -> 44966 | O7: =IFERROR(IF(N7>=1,N7+1,""),"") -> 44967 | P7: =IFERROR(IF(O7>=1,O7+1,""),"") -> 44968 | Q7: =IFERROR(IF(P7>=1,P7+1,""),"") -> 44969 | ... AK7: =IFERROR(IF(AJ7>=1,AJ7+1,""),"") -> 44989 | AL7: =IFERROR(IF(AND(AK7>=1,AK7+1<=DATE(Année_civile,ROW($A2)+1,0)),AK7+1,""),"") | AM7: =IFERROR(IF(AND(AL7>=1,AL7+1<=DATE(Année_civile,ROW($A2)+1,0)),AL7+1,""),"") | AN7: =IFERROR(IF(AND(AM7>=1,AM7+1<=DATE(Année_civile,ROW($A2)+1,0)),AM7+1,""),"") | AO7: =IFERROR(IF(AND(AN7>=1,AN7+1<=DATE(Année_civile,ROW($A2)+1,0)),AN7+1,""),"") | AP7: =IFERROR(IF(AND(AO7>=1,AO7+1<=DATE(Année_civile,ROW($A2)+1,0)),AO7+1,""),"") | AQ7: =IFERROR(IF(AND(AP7>=1,AP7+1<=DATE(Année_civile,ROW($A2)+1,0)),AP7+1,""),"") | AR7: =IFERROR(IF(AND(AQ7>=1,AQ7+1<=DATE(Année_civile,ROW($A2)+1,0)),AQ7+1,""),"")
B8: Mars | C8: =IFERROR(IF(TEXT(DATE(Année_civile,ROW($A3),1),"jjj")=LEFT(C$5,3),DATE(Année_civile,ROW($A3),1),""),"") | D8: =IFERROR(IF(TEXT(DATE(Année_civile,ROW($A3),1),"jjj")=LEFT(D$5,3),DATE(Année_civile,ROW($A3),1),IF(C8>=1,C8+1,"")),"") | E8: =IFERROR(IF(TEXT(DATE(Année_civile,ROW($A3),1),"jjj")=LEFT(E$5,3),DATE(Année_civile,ROW($A3),1),IF(D8>=1,D8+1,"")),"") | F8: =IFERROR(IF(TEXT(DATE(Année_civile,ROW($A3),1),"jjj")=LEFT(F$5,3),DATE(Année_civile,ROW($A3),1),IF(E8>=1,E8+1,"")),"") -> 44986 | G8: =IFERROR(IF(TEXT(DATE(Année_civile,ROW($A3),1),"jjj")=LEFT(G$5,3),DATE(Année_civile,ROW($A3),1),IF(F8>=1,F8+1,"")),"") -> 44987 | H8: =IFERROR(IF(TEXT(DATE(Année_civile,ROW($A3),1),"jjj")=LEFT(H$5,3),DATE(Année_civile,ROW($A3),1),IF(G8>=1,G8+1,"")),"") -> 44988 | I8: =IFERROR(IF(TEXT(DATE(Année_civile,ROW($A3),1),"jjj")=LEFT(I$5,3),DATE(Année_civile,ROW($A3),1),IF(H8>=1,H8+1,"")),"") -> 44989 | J8: =IFERROR(IF(I8>=1,I8+1,""),"") -> 44990 | K8: =IFERROR(IF(J8>=1,J8+1,""),"") -> 44991 | L8: =IFERROR(IF(K8>=1,K8+1,""),"") -> 44992 | M8: =IFERROR(IF(L8>=1,L8+1,""),"") -> 44993 | N8: =IFERROR(IF(M8>=1,M8+1,""),"") -> 44994 | O8: =IFERROR(IF(N8>=1,N8+1,""),"") -> 44995 | P8: =IFERROR(IF(O8>=1,O8+1,""),"") -> 44996 | Q8: =IFERROR(IF(P8>=1,P8+1,""),"") -> 44997 | ... AK8: =IFERROR(IF(AJ8>=1,AJ8+1,""),"") -> 45017 | AL8: =IFERROR(IF(AND(AK8>=1,AK8+1<=DATE(Année_civile,ROW($A3)+1,0)),AK8+1,""),"") | AM8: =IFERROR(IF(AND(AL8>=1,AL8+1<=DATE(Année_civile,ROW($A3)+1,0)),AL8+1,""),"") | AN8: =IFERROR(IF(AND(AM8>=1,AM8+1<=DATE(Année_civile,ROW($A3)+1,0)),AM8+1,""),"") | AO8: =IFERROR(IF(AND(AN8>=1,AN8+1<=DATE(Année_civile,ROW($A3)+1,0)),AN8+1,""),"") | AP8: =IFERROR(IF(AND(AO8>=1,AO8+1<=DATE(Année_civile,ROW($A3)+1,0)),AO8+1,""),"") | AQ8: =IFERROR(IF(AND(AP8>=1,AP8+1<=DATE(Année_civile,ROW($A3)+1,0)),AP8+1,""),"") | AR8: =IFERROR(IF(AND(AQ8>=1,AQ8+1<=DATE(Année_civile,ROW($A3)+1,0)),AQ8+1,""),"")
B9: Avril | C9: =IFERROR(IF(TEXT(DATE(Année_civile,ROW($A4),1),"jjj")=LEFT(C$5,3),DATE(Année_civile,ROW($A4),1),""),"") | D9: =IFERROR(IF(TEXT(DATE(Année_civile,ROW($A4),1),"jjj")=LEFT(D$5,3),DATE(Année_civile,ROW($A4),1),IF(C9>=1,C9+1,"")),"") | E9: =IFERROR(IF(TEXT(DATE(Année_civile,ROW($A4),1),"jjj")=LEFT(E$5,3),DATE(Année_civile,ROW($A4),1),IF(D9>=1,D9+1,"")),"") | F9: =IFERROR(IF(TEXT(DATE(Année_civile,ROW($A4),1),"jjj")=LEFT(F$5,3),DATE(Année_civile,ROW($A4),1),IF(E9>=1,E9+1,"")),"") | G9: =IFERROR(IF(TEXT(DATE(Année_civile,ROW($A4),1),"jjj")=LEFT(G$5,3),DATE(Année_civile,ROW($A4),1),IF(F9>=1,F9+1,"")),"") | H9: =IFERROR(IF(TEXT(DATE(Année_civile,ROW($A4),1),"jjj")=LEFT(H$5,3),DATE(Année_civile,ROW($A4),1),IF(G9>=1,G9+1,"")),"") | I9: =IFERROR(IF(TEXT(DATE(Année_civile,ROW($A4),1),"jjj")=LEFT(I$5,3),DATE(Année_civile,ROW($A4),1),IF(H9>=1,H9+1,"")),"") -> 45017 | J9: =IFERROR(IF(I9>=1,I9+1,""),"") -> 45018 | K9: =IFERROR(IF(J9>=1,J9+1,""),"") -> 45019 | L9: =IFERROR(IF(K9>=1,K9+1,""),"") -> 45020 | M9: =IFERROR(IF(L9>=1,L9+1,""),"") -> 45021 | N9: =IFERROR(IF(M9>=1,M9+1,""),"") -> 45022 | O9: =IFERROR(IF(N9>=1,N9+1,""),"") -> 45023 | P9: =IFERROR(IF(O9>=1,O9+1,""),"") -> 45024 | Q9: =IFERROR(IF(P9>=1,P9+1,""),"") -> 45025 | ... AK9: =IFERROR(IF(AJ9>=1,AJ9+1,""),"") -> 45045 | AL9: =IFERROR(IF(AND(AK9>=1,AK9+1<=DATE(Année_civile,ROW($A4)+1,0)),AK9+1,""),"") -> 45046 | AM9: =IFERROR(IF(AND(AL9>=1,AL9+1<=DATE(Année_civile,ROW($A4)+1,0)),AL9+1,""),"") | AN9: =IFERROR(IF(AND(AM9>=1,AM9+1<=DATE(Année_civile,ROW($A4)+1,0)),AM9+1,""),"") | AO9: =IFERROR(IF(AND(AN9>=1,AN9+1<=DATE(Année_civile,ROW($A4)+1,0)),AN9+1,""),"") | AP9: =IFERROR(IF(AND(AO9>=1,AO9+1<=DATE(Année_civile,ROW($A4)+1,0)),AO9+1,""),"") | AQ9: =IFERROR(IF(AND(AP9>=1,AP9+1<=DATE(Année_civile,ROW($A4)+1,0)),AP9+1,""),"") | AR9: =IFERROR(IF(AND(AQ9>=1,AQ9+1<=DATE(Année_civile,ROW($A4)+1,0)),AQ9+1,""),"")
B10: Mai | C10: =IFERROR(IF(TEXT(DATE(Année_civile,ROW($A5),1),"jjj")=LEFT(C$5,3),DATE(Année_civile,ROW($A5),1),""),"") | D10: =IFERROR(IF(TEXT(DATE(Année_civile,ROW($A5),1),"jjj")=LEFT(D$5,3),DATE(Année_civile,ROW($A5),1),IF(C10>=1,C10+1,"")),"") -> 45047 | E10: =IFERROR(IF(TEXT(DATE(Année_civile,ROW($A5),1),"jjj")=LEFT(E$5,3),DATE(Année_civile,ROW($A5),1),IF(D10>=1,D10+1,"")),"") -> 45048 | F10: =IFERROR(IF(TEXT(DATE(Année_civile,ROW($A5),1),"jjj")=LEFT(F$5,3),DATE(Année_civile,ROW($A5),1),IF(E10>=1,E10+1,"")),"") -> 45049 | G10: =IFERROR(IF(TEXT(DATE(Année_civile,ROW($A5),1),"jjj")=LEFT(G$5,3),DATE(Année_civile,ROW($A5),1),IF(F10>=1,F10+1,"")),"") -> 45050 | H10: =IFERROR(IF(TEXT(DATE(Année_civile,ROW($A5),1),"jjj")=LEFT(H$5,3),DATE(Année_civile,ROW($A5),1),IF(G10>=1,G10+1,"")),"") -> 45051 | I10: =IFERROR(IF(TEXT(DATE(Année_civile,ROW($A5),1),"jjj")=LEFT(I$5,3),DATE(Année_civile,ROW($A5),1),IF(H10>=1,H10+1,"")),"") -> 45052 | J10: =IFERROR(IF(I10>=1,I10+1,""),"") -> 45053 | K10: =IFERROR(IF(J10>=1,J10+1,""),"") -> 45054 | L10: =IFERROR(IF(K10>=1,K10+1,""),"") -> 45055 | M10: =IFERROR(IF(L10>=1,L10+1,""),"") -> 45056 | N10: =IFERROR(IF(M10>=1,M10+1,""),"") -> 45057 | O10: =IFERROR(IF(N10>=1,N10+1,""),"") -> 45058 | P10: =IFERROR(IF(O10>=1,O10+1,""),"") -> 45059 | Q10: =IFERROR(IF(P10>=1,P10+1,""),"") -> 45060 | ... AK10: =IFERROR(IF(AJ10>=1,AJ10+1,""),"") -> 45080 | AL10: =IFERROR(IF(AND(AK10>=1,AK10+1<=DATE(Année_civile,ROW($A5)+1,0)),AK10+1,""),"") | AM10: =IFERROR(IF(AND(AL10>=1,AL10+1<=DATE(Année_civile,ROW($A5)+1,0)),AL10+1,""),"") | AN10: =IFERROR(IF(AND(AM10>=1,AM10+1<=DATE(Année_civile,ROW($A5)+1,0)),AM10+1,""),"") | AO10: =IFERROR(IF(AND(AN10>=1,AN10+1<=DATE(Année_civile,ROW($A5)+1,0)),AN10+1,""),"") | AP10: =IFERROR(IF(AND(AO10>=1,AO10+1<=DATE(Année_civile,ROW($A5)+1,0)),AO10+1,""),"") | AQ10: =IFERROR(IF(AND(AP10>=1,AP10+1<=DATE(Année_civile,ROW($A5)+1,0)),AP10+1,""),"") | AR10: =IFERROR(IF(AND(AQ10>=1,AQ10+1<=DATE(Année_civile,ROW($A5)+1,0)),AQ10+1,""),"")
B11: Juin | C11: =IFERROR(IF(TEXT(DATE(Année_civile,ROW($A6),1),"jjj")=LEFT(C$5,3),DATE(Année_civile,ROW($A6),1),""),"") | D11: =IFERROR(IF(TEXT(DATE(Année_civile,ROW($A6),1),"jjj")=LEFT(D$5,3),DATE(Année_civile,ROW($A6),1),IF(C11>=1,C11+1,"")),"") | E11: =IFERROR(IF(TEXT(DATE(Année_civile,ROW($A6),1),"jjj")=LEFT(E$5,3),DATE(Année_civile,ROW($A6),1),IF(D11>=1,D11+1,"")),"") | F11: =IFERROR(IF(TEXT(DATE(Année_civile,ROW($A6),1),"jjj")=LEFT(F$5,3),DATE(Année_civile,ROW($A6),1),IF(E11>=1,E11+1,"")),"") | G11: =IFERROR(IF(TEXT(DATE(Année_civile,ROW($A6),1),"jjj")=LEFT(G$5,3),DATE(Année_civile,ROW($A6),1),IF(F11>=1,F11+1,"")),"") -> 45078 | H11: =IFERROR(IF(TEXT(DATE(Année_civile,ROW($A6),1),"jjj")=LEFT(H$5,3),DATE(Année_civile,ROW($A6),1),IF(G11>=1,G11+1,"")),"") -> 45079 | I11: =IFERROR(IF(TEXT(DATE(Année_civile,ROW($A6),1),"jjj")=LEFT(I$5,3),DATE(Année_civile,ROW($A6),1),IF(H11>=1,H11+1,"")),"") -> 45080 | J11: =IFERROR(IF(I11>=1,I11+1,""),"") -> 45081 | K11: =IFERROR(IF(J11>=1,J11+1,""),"") -> 45082 | L11: =IFERROR(IF(K11>=1,K11+1,""),"") -> 45083 | M11: =IFERROR(IF(L11>=1,L11+1,""),"") -> 45084 | N11: =IFERROR(IF(M11>=1,M11+1,""),"") -> 45085 | O11: =IFERROR(IF(N11>=1,N11+1,""),"") -> 45086 | P11: =IFERROR(IF(O11>=1,O11+1,""),"") -> 45087 | Q11: =IFERROR(IF(P11>=1,P11+1,""),"") -> 45088 | ... AK11: =IFERROR(IF(AJ11>=1,AJ11+1,""),"") -> 45108 | AL11: =IFERROR(IF(AND(AK11>=1,AK11+1<=DATE(Année_civile,ROW($A6)+1,0)),AK11+1,""),"") | AM11: =IFERROR(IF(AND(AL11>=1,AL11+1<=DATE(Année_civile,ROW($A6)+1,0)),AL11+1,""),"") | AN11: =IFERROR(IF(AND(AM11>=1,AM11+1<=DATE(Année_civile,ROW($A6)+1,0)),AM11+1,""),"") | AO11: =IFERROR(IF(AND(AN11>=1,AN11+1<=DATE(Année_civile,ROW($A6)+1,0)),AN11+1,""),"") | AP11: =IFERROR(IF(AND(AO11>=1,AO11+1<=DATE(Année_civile,ROW($A6)+1,0)),AO11+1,""),"") | AQ11: =IFERROR(IF(AND(AP11>=1,AP11+1<=DATE(Année_civile,ROW($A6)+1,0)),AP11+1,""),"") | AR11: =IFERROR(IF(AND(AQ11>=1,AQ11+1<=DATE(Année_civile,ROW($A6)+1,0)),AQ11+1,""),"")
B12: Juillet | C12: =IFERROR(IF(TEXT(DATE(Année_civile,ROW($A7),1),"jjj")=LEFT(C$5,3),DATE(Année_civile,ROW($A7),1),""),"") | D12: =IFERROR(IF(TEXT(DATE(Année_civile,ROW($A7),1),"jjj")=LEFT(D$5,3),DATE(Année_civile,ROW($A7),1),IF(C12>=1,C12+1,"")),"") | E12: =IFERROR(IF(TEXT(DATE(Année_civile,ROW($A7),1),"jjj")=LEFT(E$5,3),DATE(Année_civile,ROW($A7),1),IF(D12>=1,D12+1,"")),"") | F12: =IFERROR(IF(TEXT(DATE(Année_civile,ROW($A7),1),"jjj")=LEFT(F$5,3),DATE(Année_civile,ROW($A7),1),IF(E12>=1,E12+1,"")),"") | G12: =IFERROR(IF(TEXT(DATE(Année_civile,ROW($A7),1),"jjj")=LEFT(G$5,3),DATE(Année_civile,ROW($A7),1),IF(F12>=1,F12+1,"")),"") | H12: =IFERROR(IF(TEXT(DATE(Année_civile,ROW($A7),1),"jjj")=LEFT(H$5,3),DATE(Année_civile,ROW($A7),1),IF(G12>=1,G12+1,"")),"") | I12: =IFERROR(IF(TEXT(DATE(Année_civile,ROW($A7),1),"jjj")=LEFT(I$5,3),DATE(Année_civile,ROW($A7),1),IF(H12>=1,H12+1,"")),"") -> 45108 | J12: =IFERROR(IF(I12>=1,I12+1,""),"") -> 45109 | K12: =IFERROR(IF(J12>=1,J12+1,""),"") -> 45110 | L12: =IFERROR(IF(K12>=1,K12+1,""),"") -> 45111 | M12: =IFERROR(IF(L12>=1,L12+1,""),"") -> 45112 | N12: =IFERROR(IF(M12>=1,M12+1,""),"") -> 45113 | O12: =IFERROR(IF(N12>=1,N12+1,""),"") -> 45114 | P12: =IFERROR(IF(O12>=1,O12+1,""),"") -> 45115 | Q12: =IFERROR(IF(P12>=1,P12+1,""),"") -> 45116 | ... AK12: =IFERROR(IF(AJ12>=1,AJ12+1,""),"") -> 45136 | AL12: =IFERROR(IF(AND(AK12>=1,AK12+1<=DATE(Année_civile,ROW($A7)+1,0)),AK12+1,""),"") -> 45137 | AM12: =IFERROR(IF(AND(AL12>=1,AL12+1<=DATE(Année_civile,ROW($A7)+1,0)),AL12+1,""),"") -> 45138 | AN12: =IFERROR(IF(AND(AM12>=1,AM12+1<=DATE(Année_civile,ROW($A7)+1,0)),AM12+1,""),"") | AO12: =IFERROR(IF(AND(AN12>=1,AN12+1<=DATE(Année_civile,ROW($A7)+1,0)),AN12+1,""),"") | AP12: =IFERROR(IF(AND(AO12>=1,AO12+1<=DATE(Année_civile,ROW($A7)+1,0)),AO12+1,""),"") | AQ12: =IFERROR(IF(AND(AP12>=1,AP12+1<=DATE(Année_civile,ROW($A7)+1,0)),AP12+1,""),"") | AR12: =IFERROR(IF(AND(AQ12>=1,AQ12+1<=DATE(Année_civile,ROW($A7)+1,0)),AQ12+1,""),"")
B13: Août | C13: =IFERROR(IF(TEXT(DATE(Année_civile,ROW($A8),1),"jjj")=LEFT(C$5,3),DATE(Année_civile,ROW($A8),1),""),"") | D13: =IFERROR(IF(TEXT(DATE(Année_civile,ROW($A8),1),"jjj")=LEFT(D$5,3),DATE(Année_civile,ROW($A8),1),IF(C13>=1,C13+1,"")),"") | E13: =IFERROR(IF(TEXT(DATE(Année_civile,ROW($A8),1),"jjj")=LEFT(E$5,3),DATE(Année_civile,ROW($A8),1),IF(D13>=1,D13+1,"")),"") -> 45139 | F13: =IFERROR(IF(TEXT(DATE(Année_civile,ROW($A8),1),"jjj")=LEFT(F$5,3),DATE(Année_civile,ROW($A8),1),IF(E13>=1,E13+1,"")),"") -> 45140 | G13: =IFERROR(IF(TEXT(DATE(Année_civile,ROW($A8),1),"jjj")=LEFT(G$5,3),DATE(Année_civile,ROW($A8),1),IF(F13>=1,F13+1,"")),"") -> 45141 | H13: =IFERROR(IF(TEXT(DATE(Année_civile,ROW($A8),1),"jjj")=LEFT(H$5,3),DATE(Année_civile,ROW($A8),1),IF(G13>=1,G13+1,"")),"") -> 45142 | I13: =IFERROR(IF(TEXT(DATE(Année_civile,ROW($A8),1),"jjj")=LEFT(I$5,3),DATE(Année_civile,ROW($A8),1),IF(H13>=1,H13+1,"")),"") -> 45143 | J13: =IFERROR(IF(I13>=1,I13+1,""),"") -> 45144 | K13: =IFERROR(IF(J13>=1,J13+1,""),"") -> 45145 | L13: =IFERROR(IF(K13>=1,K13+1,""),"") -> 45146 | M13: =IFERROR(IF(L13>=1,L13+1,""),"") -> 45147 | N13: =IFERROR(IF(M13>=1,M13+1,""),"") -> 45148 | O13: =IFERROR(IF(N13>=1,N13+1,""),"") -> 45149 | P13: =IFERROR(IF(O13>=1,O13+1,""),"") -> 45150 | Q13: =IFERROR(IF(P13>=1,P13+1,""),"") -> 45151 | ... AK13: =IFERROR(IF(AJ13>=1,AJ13+1,""),"") -> 45171 | AL13: =IFERROR(IF(AND(AK13>=1,AK13+1<=DATE(Année_civile,ROW($A8)+1,0)),AK13+1,""),"") | AM13: =IFERROR(IF(AND(AL13>=1,AL13+1<=DATE(Année_civile,ROW($A8)+1,0)),AL13+1,""),"") | AN13: =IFERROR(IF(AND(AM13>=1,AM13+1<=DATE(Année_civile,ROW($A8)+1,0)),AM13+1,""),"") | AO13: =IFERROR(IF(AND(AN13>=1,AN13+1<=DATE(Année_civile,ROW($A8)+1,0)),AN13+1,""),"") | AP13: =IFERROR(IF(AND(AO13>=1,AO13+1<=DATE(Année_civile,ROW($A8)+1,0)),AO13+1,""),"") | AQ13: =IFERROR(IF(AND(AP13>=1,AP13+1<=DATE(Année_civile,ROW($A8)+1,0)),AP13+1,""),"") | AR13: =IFERROR(IF(AND(AQ13>=1,AQ13+1<=DATE(Année_civile,ROW($A8)+1,0)),AQ13+1,""),"")
B14: Septembre | C14: =IFERROR(IF(TEXT(DATE(Année_civile,ROW($A9),1),"jjj")=LEFT(C$5,3),DATE(Année_civile,ROW($A9),1),""),"") | D14: =IFERROR(IF(TEXT(DATE(Année_civile,ROW($A9),1),"jjj")=LEFT(D$5,3),DATE(Année_civile,ROW($A9),1),IF(C14>=1,C14+1,"")),"") | E14: =IFERROR(IF(TEXT(DATE(Année_civile,ROW($A9),1),"jjj")=LEFT(E$5,3),DATE(Année_civile,ROW($A9),1),IF(D14>=1,D14+1,"")),"") | F14: =IFERROR(IF(TEXT(DATE(Année_civile,ROW($A9),1),"jjj")=LEFT(F$5,3),DATE(Année_civile,ROW($A9),1),IF(E14>=1,E14+1,"")),"") | G14: =IFERROR(IF(TEXT(DATE(Année_civile,ROW($A9),1),"jjj")=LEFT(G$5,3),DATE(Année_civile,ROW($A9),1),IF(F14>=1,F14+1,"")),"") | H14: =IFERROR(IF(TEXT(DATE(Année_civile,ROW($A9),1),"jjj")=LEFT(H$5,3),DATE(Année_civile,ROW($A9),1),IF(G14>=1,G14+1,"")),"") -> 45170 | I14: =IFERROR(IF(TEXT(DATE(Année_civile,ROW($A9),1),"jjj")=LEFT(I$5,3),DATE(Année_civile,ROW($A9),1),IF(H14>=1,H14+1,"")),"") -> 45171 | J14: =IFERROR(IF(I14>=1,I14+1,""),"") -> 45172 | K14: =IFERROR(IF(J14>=1,J14+1,""),"") -> 45173 | L14: =IFERROR(IF(K14>=1,K14+1,""),"") -> 45174 | M14: =IFERROR(IF(L14>=1,L14+1,""),"") -> 45175 | N14: =IFERROR(IF(M14>=1,M14+1,""),"") -> 45176 | O14: =IFERROR(IF(N14>=1,N14+1,""),"") -> 45177 | P14: =IFERROR(IF(O14>=1,O14+1,""),"") -> 45178 | Q14: =IFERROR(IF(P14>=1,P14+1,""),"") -> 45179 | ... AK14: =IFERROR(IF(AJ14>=1,AJ14+1,""),"") -> 45199 | AL14: =IFERROR(IF(AND(AK14>=1,AK14+1<=DATE(Année_civile,ROW($A9)+1,0)),AK14+1,""),"") | AM14: =IFERROR(IF(AND(AL14>=1,AL14+1<=DATE(Année_civile,ROW($A9)+1,0)),AL14+1,""),"") | AN14: =IFERROR(IF(AND(AM14>=1,AM14+1<=DATE(Année_civile,ROW($A9)+1,0)),AM14+1,""),"") | AO14: =IFERROR(IF(AND(AN14>=1,AN14+1<=DATE(Année_civile,ROW($A9)+1,0)),AN14+1,""),"") | AP14: =IFERROR(IF(AND(AO14>=1,AO14+1<=DATE(Année_civile,ROW($A9)+1,0)),AO14+1,""),"") | AQ14: =IFERROR(IF(AND(AP14>=1,AP14+1<=DATE(Année_civile,ROW($A9)+1,0)),AP14+1,""),"") | AR14: =IFERROR(IF(AND(AQ14>=1,AQ14+1<=DATE(Année_civile,ROW($A9)+1,0)),AQ14+1,""),"")
B15: Octobre | C15: =IFERROR(IF(TEXT(DATE(Année_civile,ROW($A10),1),"jjj")=LEFT(C$5,3),DATE(Année_civile,ROW($A10),1),""),"") -> 45200 | D15: =IFERROR(IF(TEXT(DATE(Année_civile,ROW($A10),1),"jjj")=LEFT(D$5,3),DATE(Année_civile,ROW($A10),1),IF(C15>=1,C15+1,"")),"") -> 45201 | E15: =IFERROR(IF(TEXT(DATE(Année_civile,ROW($A10),1),"jjj")=LEFT(E$5,3),DATE(Année_civile,ROW($A10),1),IF(D15>=1,D15+1,"")),"") -> 45202 | F15: =IFERROR(IF(TEXT(DATE(Année_civile,ROW($A10),1),"jjj")=LEFT(F$5,3),DATE(Année_civile,ROW($A10),1),IF(E15>=1,E15+1,"")),"") -> 45203 | G15: =IFERROR(IF(TEXT(DATE(Année_civile,ROW($A10),1),"jjj")=LEFT(G$5,3),DATE(Année_civile,ROW($A10),1),IF(F15>=1,F15+1,"")),"") -> 45204 | H15: =IFERROR(IF(TEXT(DATE(Année_civile,ROW($A10),1),"jjj")=LEFT(H$5,3),DATE(Année_civile,ROW($A10),1),IF(G15>=1,G15+1,"")),"") -> 45205 | I15: =IFERROR(IF(TEXT(DATE(Année_civile,ROW($A10),1),"jjj")=LEFT(I$5,3),DATE(Année_civile,ROW($A10),1),IF(H15>=1,H15+1,"")),"") -> 45206 | J15: =IFERROR(IF(I15>=1,I15+1,""),"") -> 45207 | K15: =IFERROR(IF(J15>=1,J15+1,""),"") -> 45208 | L15: =IFERROR(IF(K15>=1,K15+1,""),"") -> 45209 | M15: =IFERROR(IF(L15>=1,L15+1,""),"") -> 45210 | N15: =IFERROR(IF(M15>=1,M15+1,""),"") -> 45211 | O15: =IFERROR(IF(N15>=1,N15+1,""),"") -> 45212 | P15: =IFERROR(IF(O15>=1,O15+1,""),"") -> 45213 | Q15: =IFERROR(IF(P15>=1,P15+1,""),"") -> 45214 | ... AK15: =IFERROR(IF(AJ15>=1,AJ15+1,""),"") -> 45234 | AL15: =IFERROR(IF(AND(AK15>=1,AK15+1<=DATE(Année_civile,ROW($A10)+1,0)),AK15+1,""),"") | AM15: =IFERROR(IF(AND(AL15>=1,AL15+1<=DATE(Année_civile,ROW($A10)+1,0)),AL15+1,""),"") | AN15: =IFERROR(IF(AND(AM15>=1,AM15+1<=DATE(Année_civile,ROW($A10)+1,0)),AM15+1,""),"") | AO15: =IFERROR(IF(AND(AN15>=1,AN15+1<=DATE(Année_civile,ROW($A10)+1,0)),AN15+1,""),"") | AP15: =IFERROR(IF(AND(AO15>=1,AO15+1<=DATE(Année_civile,ROW($A10)+1,0)),AO15+1,""),"") | AQ15: =IFERROR(IF(AND(AP15>=1,AP15+1<=DATE(Année_civile,ROW($A10)+1,0)),AP15+1,""),"") | AR15: =IFERROR(IF(AND(AQ15>=1,AQ15+1<=DATE(Année_civile,ROW($A10)+1,0)),AQ15+1,""),"")
B16: Novembre | C16: =IFERROR(IF(TEXT(DATE(Année_civile,ROW($A11),1),"jjj")=LEFT(C$5,3),DATE(Année_civile,ROW($A11),1),""),"") | D16: =IFERROR(IF(TEXT(DATE(Année_civile,ROW($A11),1),"jjj")=LEFT(D$5,3),DATE(Année_civile,ROW($A11),1),IF(C16>=1,C16+1,"")),"") | E16: =IFERROR(IF(TEXT(DATE(Année_civile,ROW($A11),1),"jjj")=LEFT(E$5,3),DATE(Année_civile,ROW($A11),1),IF(D16>=1,D16+1,"")),"") | F16: =IFERROR(IF(TEXT(DATE(Année_civile,ROW($A11),1),"jjj")=LEFT(F$5,3),DATE(Année_civile,ROW($A11),1),IF(E16>=1,E16+1,"")),"") -> 45231 | G16: =IFERROR(IF(TEXT(DATE(Année_civile,ROW($A11),1),"jjj")=LEFT(G$5,3),DATE(Année_civile,ROW($A11),1),IF(F16>=1,F16+1,"")),"") -> 45232 | H16: =IFERROR(IF(TEXT(DATE(Année_civile,ROW($A11),1),"jjj")=LEFT(H$5,3),DATE(Année_civile,ROW($A11),1),IF(G16>=1,G16+1,"")),"") -> 45233 | I16: =IFERROR(IF(TEXT(DATE(Année_civile,ROW($A11),1),"jjj")=LEFT(I$5,3),DATE(Année_civile,ROW($A11),1),IF(H16>=1,H16+1,"")),"") -> 45234 | J16: =IFERROR(IF(I16>=1,I16+1,""),"") -> 45235 | K16: =IFERROR(IF(J16>=1,J16+1,""),"") -> 45236 | L16: =IFERROR(IF(K16>=1,K16+1,""),"") -> 45237 | M16: =IFERROR(IF(L16>=1,L16+1,""),"") -> 45238 | N16: =IFERROR(IF(M16>=1,M16+1,""),"") -> 45239 | O16: =IFERROR(IF(N16>=1,N16+1,""),"") -> 45240 | P16: =IFERROR(IF(O16>=1,O16+1,""),"") -> 45241 | Q16: =IFERROR(IF(P16>=1,P16+1,""),"") -> 45242 | ... AK16: =IFERROR(IF(AJ16>=1,AJ16+1,""),"") -> 45262 | AL16: =IFERROR(IF(AND(AK16>=1,AK16+1<=DATE(Année_civile,ROW($A11)+1,0)),AK16+1,""),"") | AM16: =IFERROR(IF(AND(AL16>=1,AL16+1<=DATE(Année_civile,ROW($A11)+1,0)),AL16+1,""),"") | AN16: =IFERROR(IF(AND(AM16>=1,AM16+1<=DATE(Année_civile,ROW($A11)+1,0)),AM16+1,""),"") | AO16: =IFERROR(IF(AND(AN16>=1,AN16+1<=DATE(Année_civile,ROW($A11)+1,0)),AN16+1,""),"") | AP16: =IFERROR(IF(AND(AO16>=1,AO16+1<=DATE(Année_civile,ROW($A11)+1,0)),AO16+1,""),"") | AQ16: =IFERROR(IF(AND(AP16>=1,AP16+1<=DATE(Année_civile,ROW($A11)+1,0)),AP16+1,""),"") | AR16: =IFERROR(IF(AND(AQ16>=1,AQ16+1<=DATE(Année_civile,ROW($A11)+1,0)),AQ16+1,""),"")
B17: Décembre | C17: =IFERROR(IF(TEXT(DATE(Année_civile,ROW($A12),1),"jjj")=LEFT(C$5,3),DATE(Année_civile,ROW($A12),1),""),"") | D17: =IFERROR(IF(TEXT(DATE(Année_civile,ROW($A12),1),"jjj")=LEFT(D$5,3),DATE(Année_civile,ROW($A12),1),IF(C17>=1,C17+1,"")),"") | E17: =IFERROR(IF(TEXT(DATE(Année_civile,ROW($A12),1),"jjj")=LEFT(E$5,3),DATE(Année_civile,ROW($A12),1),IF(D17>=1,D17+1,"")),"") | F17: =IFERROR(IF(TEXT(DATE(Année_civile,ROW($A12),1),"jjj")=LEFT(F$5,3),DATE(Année_civile,ROW($A12),1),IF(E17>=1,E17+1,"")),"") | G17: =IFERROR(IF(TEXT(DATE(Année_civile,ROW($A12),1),"jjj")=LEFT(G$5,3),DATE(Année_civile,ROW($A12),1),IF(F17>=1,F17+1,"")),"") | H17: =IFERROR(IF(TEXT(DATE(Année_civile,ROW($A12),1),"jjj")=LEFT(H$5,3),DATE(Année_civile,ROW($A12),1),IF(G17>=1,G17+1,"")),"") -> 45261 | I17: =IFERROR(IF(TEXT(DATE(Année_civile,ROW($A12),1),"jjj")=LEFT(I$5,3),DATE(Année_civile,ROW($A12),1),IF(H17>=1,H17+1,"")),"") -> 45262 | J17: =IFERROR(IF(I17>=1,I17+1,""),"") -> 45263 | K17: =IFERROR(IF(J17>=1,J17+1,""),"") -> 45264 | L17: =IFERROR(IF(K17>=1,K17+1,""),"") -> 45265 | M17: =IFERROR(IF(L17>=1,L17+1,""),"") -> 45266 | N17: =IFERROR(IF(M17>=1,M17+1,""),"") -> 45267 | O17: =IFERROR(IF(N17>=1,N17+1,""),"") -> 45268 | P17: =IFERROR(IF(O17>=1,O17+1,""),"") -> 45269 | Q17: =IFERROR(IF(P17>=1,P17+1,""),"") -> 45270 | ... AK17: =IFERROR(IF(AJ17>=1,AJ17+1,""),"") -> 45290 | AL17: =IFERROR(IF(AND(AK17>=1,AK17+1<=DATE(Année_civile,ROW($A12)+1,0)),AK17+1,""),"") -> 45291 | AM17: =IFERROR(IF(AND(AL17>=1,AL17+1<=DATE(Année_civile,ROW($A12)+1,0)),AL17+1,""),"") | AN17: =IFERROR(IF(AND(AM17>=1,AM17+1<=DATE(Année_civile,ROW($A12)+1,0)),AM17+1,""),"") | AO17: =IFERROR(IF(AND(AN17>=1,AN17+1<=DATE(Année_civile,ROW($A12)+1,0)),AN17+1,""),"") | AP17: =IFERROR(IF(AND(AO17>=1,AO17+1<=DATE(Année_civile,ROW($A12)+1,0)),AO17+1,""),"") | AQ17: =IFERROR(IF(AND(AP17>=1,AP17+1<=DATE(Année_civile,ROW($A12)+1,0)),AP17+1,""),"") | AR17: =IFERROR(IF(AND(AQ17>=1,AQ17+1<=DATE(Année_civile,ROW($A12)+1,0)),AQ17+1,""),"")
B18: CHIFFRES CLÉS
C19: OR Demande | I19: Entretien | O19: Levage | U19: Anti pollution | AA19: Contrôle technique | AG19: Distribution
C20: =SUMIFS(Suivi_des_congés[Jours d''immobilisation],Suivi_des_congés[Véhicule / Immatriculation],valSelEmployé,Suivi_des_congés[Date de début d''intervention],">="&DATE(Année_civile,1,1),Suivi_des_congés[Date de fin d''intervention],"<"&DATE(Année_civile+1,1,1),Suivi_des_congés[Type d''intervention],'Types d''interventions'!B9) -> 1 | I20: =SUMIFS(Suivi_des_congés[Jours d''immobilisation],Suivi_des_congés[Véhicule / Immatriculation],valSelEmployé,Suivi_des_congés[Date de début d''intervention],">="&DATE(Année_civile,1,1),Suivi_des_congés[Date de fin d''intervention],"<"&DATE(Année_civile+1,1,1),Suivi_des_congés[Type d''intervention],'Types d''interventions'!B8) -> 0 | O20: =SUMIFS(Suivi_des_congés[Jours d''immobilisation],Suivi_des_congés[Véhicule / Immatriculation],valSelEmployé,Suivi_des_congés[Date de début d''intervention],">="&DATE(Année_civile,1,1),Suivi_des_congés[Date de fin d''intervention],"<"&DATE(Année_civile+1,1,1),Suivi_des_congés[Type d''intervention],'Types d''interventions'!B6)*1 -> 0 | U20: =SUMIFS(Suivi_des_congés[Jours d''immobilisation],Suivi_des_congés[Véhicule / Immatriculation],valSelEmployé,Suivi_des_congés[Date de début d''intervention],">="&DATE(Année_civile,1,1),Suivi_des_congés[Date de fin d''intervention],"<"&DATE(Année_civile+1,1,1),Suivi_des_congés[Type d''intervention],'Types d''interventions'!B5) -> 0 | AA20: =SUMIFS(Suivi_des_congés[Jours d''immobilisation],Suivi_des_congés[Véhicule / Immatriculation],valSelEmployé,Suivi_des_congés[Date de début d''intervention],">="&DATE(Année_civile,1,1),Suivi_des_congés[Date de fin d''intervention],"<"&DATE(Année_civile+1,1,1),Suivi_des_congés[Type d''intervention],'Types d''interventions'!B4) -> 0 | AG20: =SUMIFS(Suivi_des_congés[Jours d''immobilisation],Suivi_des_congés[Véhicule / Immatriculation],valSelEmployé,Suivi_des_congés[Date de début d''intervention],">="&DATE(Année_civile,1,1),Suivi_des_congés[Date de fin d''intervention],"<"&DATE(Année_civile+1,1,1),Suivi_des_congés[Type d''intervention],'Types d''interventions'!B7) -> 0

Sheet Liste des véhicules
B1: Liste des véhicules
B3: Véhicule / Immatriculation
B4: Véhicule 1
B5: Véhicule 2
B6: Véhicule 3
B7: Véhicule 4
B8: Véhicule 5
B9: Véhicule 6
B10: Véhicule 7
B11: Véhicule 8
B12: Véhicule 9
B13: Véhicule 10

Sheet Feuil1
A3: OR Demande | B3: =SUM('Planning des véhicules'!C20+'Planning des véhicules'!C20) -> 2
A9: Entretien | B9: =SUMIFS(Suivi_des_congés[Jours d''immobilisation],Suivi_des_congés[Véhicule / Immatriculation],valSelEmployé,Suivi_des_congés[Date de début d''intervention],">="&DATE(Année_civile,1,1),Suivi_des_congés[Date de fin d''intervention],"<"&DATE(Année_civile+1,1,1),Suivi_des_congés[Type d''intervention],'Types d''interventions'!#REF!) -> 0
A15: Levage | B15: =SUMIFS(Suivi_des_congés[Jours d''immobilisation],Suivi_des_congés[Véhicule / Immatriculation],valSelEmployé,Suivi_des_congés[Date de début d''intervention],">="&DATE(Année_civile,1,1),Suivi_des_congés[Date de fin d''intervention],"<"&DATE(Année_civile+1,1,1),Suivi_des_congés[Type d''intervention],'Types d''interventions'!#REF!)*1 -> 0 | D15: =SUM('Planning des véhicules'!C2:I2,'Planning des véhicules'!C20:F20) -> 1
A21: Anti pollution | B21: =SUMIFS(Suivi_des_congés[Jours d''immobilisation],Suivi_des_congés[Véhicule / Immatriculation],valSelEmployé,Suivi_des_congés[Date de début d''intervention],">="&DATE(Année_civile,1,1),Suivi_des_congés[Date de fin d''intervention],"<"&DATE(Année_civile+1,1,1),Suivi_des_congés[Type d''intervention],'Types d''interventions'!#REF!) -> 0
A27: Contrôle technique | B27: =SUMIFS(Suivi_des_congés[Jours d''immobilisation],Suivi_des_congés[Véhicule / Immatriculation],valSelEmployé,Suivi_des_congés[Date de début d''intervention],">="&DATE(Année_civile,1,1),Suivi_des_congés[Date de fin d''intervention],"<"&DATE(Année_civile+1,1,1),Suivi_des_congés[Type d''intervention],'Types d''interventions'!#REF!) -> 0
A33: Distribution | B33: =SUMIFS(Suivi_des_congés[Jours d''immobilisation],Suivi_des_congés[Véhicule / Immatriculation],valSelEmployé,Suivi_des_congés[Date de début d''intervention],">="&DATE(Année_civile,1,1),Suivi_des_congés[Date de fin d''intervention],"<"&DATE(Année_civile+1,1,1),Suivi_des_congés[Type d''intervention],'Types d''interventions'!#REF!) -> 0

Sheet Types d'interventions
B1: Types d'interventions
B3: Liste des types d'interventions
B4: Contrôle Technique
B5: Anti Pollution
B6: Levage
B7: Distribution
B8: Entretien
B9: OR demande

Sheet Jours fériés
B1: Jours fériés
B3: Jours fériés | C3: Description
B4: =DATE(YEAR(TODAY()),1,1) -> 44927 | C4: Nouvel An
B5: =DATE(YEAR(TODAY()),7,4) -> 45111 | C5: Jour de l’Indépendance
B6: =DATE(YEAR(TODAY()),11,24) -> 45254 | C6: Action de grâces
B7: =DATE(YEAR(TODAY()),11,25) -> 45255 | C7: Action de grâces
B8: =DATE(YEAR(TODAY()),12,24) -> 45284 | C8: Noël
B9: =DATE(YEAR(TODAY()),12,25) -> 45285 | C9: Noël
