Workbook
Name formation: formation!$1:$1048576
Name liste_competences: #REF!

Sheet formation
A1: =B1&"_"&COUNTIF($B1:B$2,B1) -> ADF_20220017_2 | B1: ADF_20220017 | C1: NOM DE L'ENTREPRISE | D1: Adresse mail 1 | E1: NOM TOTO 1 | F1: PRENOM TOTO 1
A2: =B2&"_"&COUNTIF($B$2:B2,B2) -> ADF_20220017_1 | B2: ADF_20220017 | C2: NOM DE L'ENTREPRISE | D2: Adresse mail 2 | E2: NOM TOTO 2 | F2: PRENOM TOTO 2
A3: =B3&"_"&COUNTIF($B$2:B3,B3) -> ADF_20220017_2 | B3: ADF_20220017 | C3: NOM DE L'ENTREPRISE | D3: Adresse mail 3 | E3: NOM TOTO 3 | F3: PRENOM TOTO 3
A4: =B4&"_"&COUNTIF($B$2:B4,B4) -> ADF_20220017_3 | B4: ADF_20220017 | C4: NOM DE L'ENTREPRISE | D4: Adresse mail 4 | E4: NOM TOTO 4 | F4: PRENOM TOTO 4
A5: =B5&"_"&COUNTIF($B$2:B5,B5) -> ADF_20220017_4 | B5: ADF_20220017 | C5: NOM DE L'ENTREPRISE | D5: Adresse mail 5 | E5: NOM TOTO 5 | F5: PRENOM TOTO 5
A6: =B6&"_"&COUNTIF($B$2:B6,B6) -> ADF_20220017_5 | B6: ADF_20220017 | C6: NOM DE L'ENTREPRISE | D6: Adresse mail 6 | E6: NOM TOTO 6 | F6: PRENOM TOTO 6

Sheet Récap
B2: EVALUATION DES STAGIAIRES
A7: N° ADF | B7: ADF_20220017
A10: Nom de l'entité | B10: =IFERROR(VLOOKUP($B$7&"_"&A17,#REF!,3,FALSE),"")
A11: Nom de la formation | B11: =IFERROR(VLOOKUP($B$7&"_"&A17,#REF!,20,FALSE),"")
A12: Date début | B12: =IFERROR(VLOOKUP($B$7&"_"&A17,#REF!,28,FALSE),"")
A13: Date fin | B13: =IFERROR(VLOOKUP($B$7&"_"&A17,#REF!,29,FALSE),"")
A15: Liste des stagiaires | E15: Statut
A17: 1 | B17: =IFERROR(VLOOKUP($B$7&"_"&A17,formation,5,FALSE),"") -> NOM TOTO 2 | C17: =IFERROR(VLOOKUP($B$7&"_"&A17,formation,6,FALSE),"") -> PRENOM TOTO 2 | E17: =IF(B17>"",Stagiaire1!$B$22,"") -> Acquis
A18: 2 | B18: =IFERROR(VLOOKUP($B$7&"_"&A18,formation,5,FALSE),"") -> NOM TOTO 1 | C18: =IFERROR(VLOOKUP($B$7&"_"&A18,formation,6,FALSE),"") -> PRENOM TOTO 1 | E18: =IF(B18>"",Stagiaire2!$B$22,"") -> Acquis
A19: 3 | B19: =IFERROR(VLOOKUP($B$7&"_"&A19,formation,5,FALSE),"") -> NOM TOTO 4 | C19: =IFERROR(VLOOKUP($B$7&"_"&A19,formation,6,FALSE),"") -> PRENOM TOTO 4 | E19: =IF(B19>"",Stagiaire3!$B$22,"") -> Acquis
A20: 4 | B20: =IFERROR(VLOOKUP($B$7&"_"&A20,formation,5,FALSE),"") -> NOM TOTO 5 | C20: =IFERROR(VLOOKUP($B$7&"_"&A20,formation,6,FALSE),"") -> PRENOM TOTO 5 | E20: =IF(B20>"",Stagiaire4!$B$22,"") -> Acquis
A21: 5 | B21: =IFERROR(VLOOKUP($B$7&"_"&A21,formation,5,FALSE),"") -> NOM TOTO 6 | C21: =IFERROR(VLOOKUP($B$7&"_"&A21,formation,6,FALSE),"") -> PRENOM TOTO 6 | E21: =IF(B21>"",Stagiaire5!$B$22,"") -> Acquis
A22: 6 | B22: =IFERROR(VLOOKUP($B$7&"_"&A22,formation,5,FALSE),"") | C22: =IFERROR(VLOOKUP($B$7&"_"&A22,formation,6,FALSE),"") | E22: =IF(B22>"",#REF!,"")
A23: 7 | B23: =IFERROR(VLOOKUP($B$7&"_"&A23,formation,5,FALSE),"") | C23: =IFERROR(VLOOKUP($B$7&"_"&A23,formation,6,FALSE),"") | E23: =IF(B23>"",#REF!,"")
A24: 8 | B24: =IFERROR(VLOOKUP($B$7&"_"&A24,formation,5,FALSE),"") | C24: =IFERROR(VLOOKUP($B$7&"_"&A24,formation,6,FALSE),"") | E24: =IF(B24>"",#REF!,"")
A25: 9 | B25: =IFERROR(VLOOKUP($B$7&"_"&A25,formation,5,FALSE),"") | C25: =IFERROR(VLOOKUP($B$7&"_"&A25,formation,6,FALSE),"") | E25: =IF(B25>"",#REF!,"")
A26: 10 | B26: =IFERROR(VLOOKUP($B$7&"_"&A26,formation,5,FALSE),"") | C26: =IFERROR(VLOOKUP($B$7&"_"&A26,formation,6,FALSE),"") | E26: =IF(B26>"",#REF!,"")
A27: 11 | B27: =IFERROR(VLOOKUP($B$7&"_"&A27,formation,5,FALSE),"") | C27: =IFERROR(VLOOKUP($B$7&"_"&A27,formation,6,FALSE),"") | E27: =IF(B27>"",#REF!,"")
A28: 12 | B28: =IFERROR(VLOOKUP($B$7&"_"&A28,formation,5,FALSE),"") | C28: =IFERROR(VLOOKUP($B$7&"_"&A28,formation,6,FALSE),"") | E28: =IF(B28>"",#REF!,"")
A29: 13 | B29: =IFERROR(VLOOKUP($B$7&"_"&A29,formation,5,FALSE),"") | C29: =IFERROR(VLOOKUP($B$7&"_"&A29,formation,6,FALSE),"") | E29: =IF(B29>"",#REF!,"")
A30: 14 | B30: =IFERROR(VLOOKUP($B$7&"_"&A30,formation,5,FALSE),"") | C30: =IFERROR(VLOOKUP($B$7&"_"&A30,formation,6,FALSE),"") | E30: =IF(B30>"",#REF!,"")
A31: 15 | B31: =IFERROR(VLOOKUP($B$7&"_"&A31,formation,5,FALSE),"") | C31: =IFERROR(VLOOKUP($B$7&"_"&A31,formation,6,FALSE),"") | E31: =IF(B31>"",#REF!,"")
A32: 16 | B32: =IFERROR(VLOOKUP($B$7&"_"&A32,formation,5,FALSE),"") | C32: =IFERROR(VLOOKUP($B$7&"_"&A32,formation,6,FALSE),"") | E32: =IF(B32>"",#REF!,"")
A33: 17 | B33: =IFERROR(VLOOKUP($B$7&"_"&A33,formation,5,FALSE),"") | C33: =IFERROR(VLOOKUP($B$7&"_"&A33,formation,6,FALSE),"") | E33: =IF(B33>"",#REF!,"")
... A36: 20 | B36: =IFERROR(VLOOKUP($B$7&"_"&A36,formation,5,FALSE),"") | C36: =IFERROR(VLOOKUP($B$7&"_"&A36,formation,6,FALSE),"") | E36: =IF(B36>"",#REF!,"")

Sheet Stagiaire1
C2: EVALUATION DU STAGIAIRE
B6: 1 - Identité de la formation
B8: =Récap!A7 -> N° ADF | C8: =Récap!B7 -> ADF_20220017
B10: =Récap!A10 -> Nom de l'entité | C10: =Récap!B10
B11: =Récap!A11 -> Nom de la formation | C11: =Récap!B11
B12: =Récap!A12 -> Date début | C12: =Récap!B12
B13: =Récap!A13 -> Date fin | C13: =Récap!B13
B16: 2 - Identité du stagiaire
B18: Nom : | C18: =Récap!C17 -> PRENOM TOTO 2 | E18: Prénom : | F18: =Récap!B17 -> NOM TOTO 2
B21: 3 - Résultat de l'évaluation :
B22: Acquis | G22: =IF(C18>"","Acquis","Non-Acquis") -> Acquis
B24: 4 - Remarques du formateur
B25: RAS
H26: Légende | I26: Non-Acquis
I27: En Cours
I28: Acquis
B31: Compétences | G31: Statut
A33: 1 | B33: =IFERROR(VLOOKUP($C$11&"_"&A33,liste_competences,3,FALSE),"") | G33: =IFERROR(VLOOKUP($C$11&"_"&A33,liste_competences,4,FALSE),"")
A34: 2 | B34: =IFERROR(VLOOKUP($C$11&"_"&A34,liste_competences,3,FALSE),"") | G34: =IFERROR(VLOOKUP($C$11&"_"&A34,liste_competences,4,FALSE),"")
A35: 3 | B35: =IFERROR(VLOOKUP($C$11&"_"&A35,liste_competences,3,FALSE),"") | G35: =IFERROR(VLOOKUP($C$11&"_"&A35,liste_competences,4,FALSE),"")
A36: 4 | B36: =IFERROR(VLOOKUP($C$11&"_"&A36,liste_competences,3,FALSE),"") | G36: =IFERROR(VLOOKUP($C$11&"_"&A36,liste_competences,4,FALSE),"")
A37: 5 | B37: =IFERROR(VLOOKUP($C$11&"_"&A37,liste_competences,3,FALSE),"") | G37: =IFERROR(VLOOKUP($C$11&"_"&A37,liste_competences,4,FALSE),"")
A38: 6 | B38: =IFERROR(VLOOKUP($C$11&"_"&A38,liste_competences,3,FALSE),"") | G38: =IFERROR(VLOOKUP($C$11&"_"&A38,liste_competences,4,FALSE),"")
A39: 7 | B39: =IFERROR(VLOOKUP($C$11&"_"&A39,liste_competences,3,FALSE),"") | G39: =IFERROR(VLOOKUP($C$11&"_"&A39,liste_competences,4,FALSE),"")
A40: 8 | B40: =IFERROR(VLOOKUP($C$11&"_"&A40,liste_competences,3,FALSE),"") | G40: =IFERROR(VLOOKUP($C$11&"_"&A40,liste_competences,4,FALSE),"")
A41: 9 | B41: =IFERROR(VLOOKUP($C$11&"_"&A41,liste_competences,3,FALSE),"") | G41: =IFERROR(VLOOKUP($C$11&"_"&A41,liste_competences,4,FALSE),"")
A42: 10 | B42: =IFERROR(VLOOKUP($C$11&"_"&A42,liste_competences,3,FALSE),"") | G42: =IFERROR(VLOOKUP($C$11&"_"&A42,liste_competences,4,FALSE),"")
A43: 11 | B43: =IFERROR(VLOOKUP($C$11&"_"&A43,liste_competences,3,FALSE),"") | G43: =IFERROR(VLOOKUP($C$11&"_"&A43,liste_competences,4,FALSE),"")
A44: 12 | B44: =IFERROR(VLOOKUP($C$11&"_"&A44,liste_competences,3,FALSE),"") | G44: =IFERROR(VLOOKUP($C$11&"_"&A44,liste_competences,4,FALSE),"")
... A100: 68 | B100: =IFERROR(VLOOKUP($C$11&"_"&A100,liste_competences,3,FALSE),"") | G100: =IFERROR(VLOOKUP($C$11&"_"&A100,liste_competences,4,FALSE),"")
A101: 69 | G101: =IFERROR(VLOOKUP($C$11&"_"&A101,liste_competences,4,FALSE),"")
A102: 70 | G102: =IFERROR(VLOOKUP($C$11&"_"&A102,liste_competences,4,FALSE),"")
A103: 71 | G103: =IFERROR(VLOOKUP($C$11&"_"&A103,liste_competences,4,FALSE),"")
A104: 72 | G104: =IFERROR(VLOOKUP($C$11&"_"&A104,liste_competences,4,FALSE),"")
A105: 73 | G105: =IFERROR(VLOOKUP($C$11&"_"&A105,liste_competences,4,FALSE),"")
A106: 74 | G106: =IFERROR(VLOOKUP($C$11&"_"&A106,liste_competences,4,FALSE),"")
A107: 75 | G107: =IFERROR(VLOOKUP($C$11&"_"&A107,liste_competences,4,FALSE),"")
A108: 76 | G108: =IFERROR(VLOOKUP($C$11&"_"&A108,liste_competences,4,FALSE),"")
A109: 77 | G109: =IFERROR(VLOOKUP($C$11&"_"&A109,liste_competences,4,FALSE),"")
A110: 78 | G110: =IFERROR(VLOOKUP($C$11&"_"&A110,liste_competences,4,FALSE),"")
...

Sheet Stagiaire2
C2: EVALUATION DU STAGIAIRE
B6: 1 - Identité de la formation
B8: =Récap!A7 -> N° ADF | C8: =Récap!B7 -> ADF_20220017
B10: =Récap!A10 -> Nom de l'entité | C10: =Récap!B10
B11: =Récap!A11 -> Nom de la formation | C11: =Récap!B11
B12: =Récap!A12 -> Date début | C12: =Récap!B12
B13: =Récap!A13 -> Date fin | C13: =Récap!B13
B16: 2 - Identité du stagiaire
B18: Nom : | C18: =Récap!C18 -> PRENOM TOTO 1 | E18: Prénom : | F18: =Récap!B18 -> NOM TOTO 1
B21: 3 - Résultat de l'évaluation :
B22: =G22 -> Acquis | G22: =IF(C18>"","Acquis","Non-Acquis") -> Acquis
B24: 4 - Remarques du formateur
B25: RAS
H26: Légende | I26: Non-Acquis
I27: En Cours
I28: Acquis
B31: Compétences | G31: Statut
A33: 1 | B33: =IFERROR(VLOOKUP($C$11&"_"&A33,liste_competences,3,FALSE),"") | G33: =IFERROR(VLOOKUP($C$11&"_"&A33,liste_competences,4,FALSE),"")
A34: 2 | B34: =IFERROR(VLOOKUP($C$11&"_"&A34,liste_competences,3,FALSE),"") | G34: =IFERROR(VLOOKUP($C$11&"_"&A34,liste_competences,4,FALSE),"")
A35: 3 | B35: =IFERROR(VLOOKUP($C$11&"_"&A35,liste_competences,3,FALSE),"") | G35: =IFERROR(VLOOKUP($C$11&"_"&A35,liste_competences,4,FALSE),"")
A36: 4 | B36: =IFERROR(VLOOKUP($C$11&"_"&A36,liste_competences,3,FALSE),"") | G36: =IFERROR(VLOOKUP($C$11&"_"&A36,liste_competences,4,FALSE),"")
A37: 5 | B37: =IFERROR(VLOOKUP($C$11&"_"&A37,liste_competences,3,FALSE),"") | G37: =IFERROR(VLOOKUP($C$11&"_"&A37,liste_competences,4,FALSE),"")
A38: 6 | B38: =IFERROR(VLOOKUP($C$11&"_"&A38,liste_competences,3,FALSE),"") | G38: =IFERROR(VLOOKUP($C$11&"_"&A38,liste_competences,4,FALSE),"")
A39: 7 | B39: =IFERROR(VLOOKUP($C$11&"_"&A39,liste_competences,3,FALSE),"") | G39: =IFERROR(VLOOKUP($C$11&"_"&A39,liste_competences,4,FALSE),"")
A40: 8 | B40: =IFERROR(VLOOKUP($C$11&"_"&A40,liste_competences,3,FALSE),"") | G40: =IFERROR(VLOOKUP($C$11&"_"&A40,liste_competences,4,FALSE),"")
A41: 9 | B41: =IFERROR(VLOOKUP($C$11&"_"&A41,liste_competences,3,FALSE),"") | G41: =IFERROR(VLOOKUP($C$11&"_"&A41,liste_competences,4,FALSE),"")
A42: 10 | B42: =IFERROR(VLOOKUP($C$11&"_"&A42,liste_competences,3,FALSE),"") | G42: =IFERROR(VLOOKUP($C$11&"_"&A42,liste_competences,4,FALSE),"")
A43: 11 | B43: =IFERROR(VLOOKUP($C$11&"_"&A43,liste_competences,3,FALSE),"") | G43: =IFERROR(VLOOKUP($C$11&"_"&A43,liste_competences,4,FALSE),"")
A44: 12 | B44: =IFERROR(VLOOKUP($C$11&"_"&A44,liste_competences,3,FALSE),"") | G44: =IFERROR(VLOOKUP($C$11&"_"&A44,liste_competences,4,FALSE),"")
... A100: 68 | B100: =IFERROR(VLOOKUP($C$11&"_"&A100,liste_competences,3,FALSE),"") | G100: =IFERROR(VLOOKUP($C$11&"_"&A100,liste_competences,4,FALSE),"")
A101: 69 | G101: =IFERROR(VLOOKUP($C$11&"_"&A101,liste_competences,4,FALSE),"")
A102: 70 | G102: =IFERROR(VLOOKUP($C$11&"_"&A102,liste_competences,4,FALSE),"")
A103: 71 | G103: =IFERROR(VLOOKUP($C$11&"_"&A103,liste_competences,4,FALSE),"")
A104: 72 | G104: =IFERROR(VLOOKUP($C$11&"_"&A104,liste_competences,4,FALSE),"")
A105: 73 | G105: =IFERROR(VLOOKUP($C$11&"_"&A105,liste_competences,4,FALSE),"")
A106: 74 | G106: =IFERROR(VLOOKUP($C$11&"_"&A106,liste_competences,4,FALSE),"")
A107: 75 | G107: =IFERROR(VLOOKUP($C$11&"_"&A107,liste_competences,4,FALSE),"")
A108: 76 | G108: =IFERROR(VLOOKUP($C$11&"_"&A108,liste_competences,4,FALSE),"")
A109: 77 | G109: =IFERROR(VLOOKUP($C$11&"_"&A109,liste_competences,4,FALSE),"")
A110: 78 | G110: =IFERROR(VLOOKUP($C$11&"_"&A110,liste_competences,4,FALSE),"")
...

Sheet Stagiaire3
C2: EVALUATION DU STAGIAIRE
B6: 1 - Identité de la formation
B8: =Récap!A7 -> N° ADF | C8: =Récap!B7 -> ADF_20220017
B10: =Récap!A10 -> Nom de l'entité | C10: =Récap!B10
B11: =Récap!A11 -> Nom de la formation | C11: =Récap!B11
B12: =Récap!A12 -> Date début | C12: =Récap!B12
B13: =Récap!A13 -> Date fin | C13: =Récap!B13
B16: 2 - Identité du stagiaire
B18: Nom : | C18: =Récap!C19 -> PRENOM TOTO 4 | E18: Prénom : | F18: =Récap!B19 -> NOM TOTO 4
B21: 3 - Résultat de l'évaluation :
B22: =G22 -> Acquis | G22: =IF(C18>"","Acquis","Non-Acquis") -> Acquis
B24: 4 - Remarques du formateur
B25: RAS
H26: Légende | I26: Non-Acquis
I27: En Cours
I28: Acquis
B31: Compétences | G31: Statut
A33: 1 | B33: =IFERROR(VLOOKUP($C$11&"_"&A33,liste_competences,3,FALSE),"") | G33: =IFERROR(VLOOKUP($C$11&"_"&A33,liste_competences,4,FALSE),"")
A34: 2 | B34: =IFERROR(VLOOKUP($C$11&"_"&A34,liste_competences,3,FALSE),"") | G34: =IFERROR(VLOOKUP($C$11&"_"&A34,liste_competences,4,FALSE),"")
A35: 3 | B35: =IFERROR(VLOOKUP($C$11&"_"&A35,liste_competences,3,FALSE),"") | G35: =IFERROR(VLOOKUP($C$11&"_"&A35,liste_competences,4,FALSE),"")
A36: 4 | B36: =IFERROR(VLOOKUP($C$11&"_"&A36,liste_competences,3,FALSE),"") | G36: =IFERROR(VLOOKUP($C$11&"_"&A36,liste_competences,4,FALSE),"")
A37: 5 | B37: =IFERROR(VLOOKUP($C$11&"_"&A37,liste_competences,3,FALSE),"") | G37: =IFERROR(VLOOKUP($C$11&"_"&A37,liste_competences,4,FALSE),"")
A38: 6 | B38: =IFERROR(VLOOKUP($C$11&"_"&A38,liste_competences,3,FALSE),"") | G38: =IFERROR(VLOOKUP($C$11&"_"&A38,liste_competences,4,FALSE),"")
A39: 7 | B39: =IFERROR(VLOOKUP($C$11&"_"&A39,liste_competences,3,FALSE),"") | G39: =IFERROR(VLOOKUP($C$11&"_"&A39,liste_competences,4,FALSE),"")
A40: 8 | B40: =IFERROR(VLOOKUP($C$11&"_"&A40,liste_competences,3,FALSE),"") | G40: =IFERROR(VLOOKUP($C$11&"_"&A40,liste_competences,4,FALSE),"")
A41: 9 | B41: =IFERROR(VLOOKUP($C$11&"_"&A41,liste_competences,3,FALSE),"") | G41: =IFERROR(VLOOKUP($C$11&"_"&A41,liste_competences,4,FALSE),"")
A42: 10 | B42: =IFERROR(VLOOKUP($C$11&"_"&A42,liste_competences,3,FALSE),"") | G42: =IFERROR(VLOOKUP($C$11&"_"&A42,liste_competences,4,FALSE),"")
A43: 11 | B43: =IFERROR(VLOOKUP($C$11&"_"&A43,liste_competences,3,FALSE),"") | G43: =IFERROR(VLOOKUP($C$11&"_"&A43,liste_competences,4,FALSE),"")
A44: 12 | B44: =IFERROR(VLOOKUP($C$11&"_"&A44,liste_competences,3,FALSE),"") | G44: =IFERROR(VLOOKUP($C$11&"_"&A44,liste_competences,4,FALSE),"")
... A100: 68 | B100: =IFERROR(VLOOKUP($C$11&"_"&A100,liste_competences,3,FALSE),"") | G100: =IFERROR(VLOOKUP($C$11&"_"&A100,liste_competences,4,FALSE),"")
A101: 69 | G101: =IFERROR(VLOOKUP($C$11&"_"&A101,liste_competences,4,FALSE),"")
A102: 70 | G102: =IFERROR(VLOOKUP($C$11&"_"&A102,liste_competences,4,FALSE),"")
A103: 71 | G103: =IFERROR(VLOOKUP($C$11&"_"&A103,liste_competences,4,FALSE),"")
A104: 72 | G104: =IFERROR(VLOOKUP($C$11&"_"&A104,liste_competences,4,FALSE),"")
A105: 73 | G105: =IFERROR(VLOOKUP($C$11&"_"&A105,liste_competences,4,FALSE),"")
A106: 74 | G106: =IFERROR(VLOOKUP($C$11&"_"&A106,liste_competences,4,FALSE),"")
A107: 75 | G107: =IFERROR(VLOOKUP($C$11&"_"&A107,liste_competences,4,FALSE),"")
A108: 76 | G108: =IFERROR(VLOOKUP($C$11&"_"&A108,liste_competences,4,FALSE),"")
A109: 77 | G109: =IFERROR(VLOOKUP($C$11&"_"&A109,liste_competences,4,FALSE),"")
A110: 78 | G110: =IFERROR(VLOOKUP($C$11&"_"&A110,liste_competences,4,FALSE),"")
...

Sheet Stagiaire4
C2: EVALUATION DU STAGIAIRE
B6: 1 - Identité de la formation
B8: =Récap!A7 -> N° ADF | C8: =Récap!B7 -> ADF_20220017
B10: =Récap!A10 -> Nom de l'entité | C10: =Récap!B10
B11: =Récap!A11 -> Nom de la formation | C11: =Récap!B11
B12: =Récap!A12 -> Date début | C12: =Récap!B12
B13: =Récap!A13 -> Date fin | C13: =Récap!B13
B16: 2 - Identité du stagiaire
B18: Nom : | C18: =Récap!C20 -> PRENOM TOTO 5 | E18: Prénom : | F18: =Récap!B20 -> NOM TOTO 5
B21: 3 - Résultat de l'évaluation :
B22: =G22 -> Acquis | G22: =IF(C18>"","Acquis","Non-Acquis") -> Acquis
B24: 4 - Remarques du formateur
B25: RAS
H26: Légende | I26: Non-Acquis
I27: En Cours
I28: Acquis
B31: Compétences | G31: Statut
A33: 1 | B33: =IFERROR(VLOOKUP($C$11&"_"&A33,liste_competences,3,FALSE),"") | G33: =IFERROR(VLOOKUP($C$11&"_"&A33,liste_competences,4,FALSE),"")
A34: 2 | B34: =IFERROR(VLOOKUP($C$11&"_"&A34,liste_competences,3,FALSE),"") | G34: =IFERROR(VLOOKUP($C$11&"_"&A34,liste_competences,4,FALSE),"")
A35: 3 | B35: =IFERROR(VLOOKUP($C$11&"_"&A35,liste_competences,3,FALSE),"") | G35: =IFERROR(VLOOKUP($C$11&"_"&A35,liste_competences,4,FALSE),"")
A36: 4 | B36: =IFERROR(VLOOKUP($C$11&"_"&A36,liste_competences,3,FALSE),"") | G36: =IFERROR(VLOOKUP($C$11&"_"&A36,liste_competences,4,FALSE),"")
A37: 5 | B37: =IFERROR(VLOOKUP($C$11&"_"&A37,liste_competences,3,FALSE),"") | G37: =IFERROR(VLOOKUP($C$11&"_"&A37,liste_competences,4,FALSE),"")
A38: 6 | B38: =IFERROR(VLOOKUP($C$11&"_"&A38,liste_competences,3,FALSE),"") | G38: =IFERROR(VLOOKUP($C$11&"_"&A38,liste_competences,4,FALSE),"")
A39: 7 | B39: =IFERROR(VLOOKUP($C$11&"_"&A39,liste_competences,3,FALSE),"") | G39: =IFERROR(VLOOKUP($C$11&"_"&A39,liste_competences,4,FALSE),"")
A40: 8 | B40: =IFERROR(VLOOKUP($C$11&"_"&A40,liste_competences,3,FALSE),"") | G40: =IFERROR(VLOOKUP($C$11&"_"&A40,liste_competences,4,FALSE),"")
A41: 9 | B41: =IFERROR(VLOOKUP($C$11&"_"&A41,liste_competences,3,FALSE),"") | G41: =IFERROR(VLOOKUP($C$11&"_"&A41,liste_competences,4,FALSE),"")
A42: 10 | B42: =IFERROR(VLOOKUP($C$11&"_"&A42,liste_competences,3,FALSE),"") | G42: =IFERROR(VLOOKUP($C$11&"_"&A42,liste_competences,4,FALSE),"")
A43: 11 | B43: =IFERROR(VLOOKUP($C$11&"_"&A43,liste_competences,3,FALSE),"") | G43: =IFERROR(VLOOKUP($C$11&"_"&A43,liste_competences,4,FALSE),"")
A44: 12 | B44: =IFERROR(VLOOKUP($C$11&"_"&A44,liste_competences,3,FALSE),"") | G44: =IFERROR(VLOOKUP($C$11&"_"&A44,liste_competences,4,FALSE),"")
... A100: 68 | B100: =IFERROR(VLOOKUP($C$11&"_"&A100,liste_competences,3,FALSE),"") | G100: =IFERROR(VLOOKUP($C$11&"_"&A100,liste_competences,4,FALSE),"")
A101: 69 | G101: =IFERROR(VLOOKUP($C$11&"_"&A101,liste_competences,4,FALSE),"")
A102: 70 | G102: =IFERROR(VLOOKUP($C$11&"_"&A102,liste_competences,4,FALSE),"")
A103: 71 | G103: =IFERROR(VLOOKUP($C$11&"_"&A103,liste_competences,4,FALSE),"")
A104: 72 | G104: =IFERROR(VLOOKUP($C$11&"_"&A104,liste_competences,4,FALSE),"")
A105: 73 | G105: =IFERROR(VLOOKUP($C$11&"_"&A105,liste_competences,4,FALSE),"")
A106: 74 | G106: =IFERROR(VLOOKUP($C$11&"_"&A106,liste_competences,4,FALSE),"")
A107: 75 | G107: =IFERROR(VLOOKUP($C$11&"_"&A107,liste_competences,4,FALSE),"")
A108: 76 | G108: =IFERROR(VLOOKUP($C$11&"_"&A108,liste_competences,4,FALSE),"")
A109: 77 | G109: =IFERROR(VLOOKUP($C$11&"_"&A109,liste_competences,4,FALSE),"")
A110: 78 | G110: =IFERROR(VLOOKUP($C$11&"_"&A110,liste_competences,4,FALSE),"")
...

Sheet Stagiaire5
C2: EVALUATION DU STAGIAIRE
B6: 1 - Identité de la formation
B8: =Récap!A7 -> N° ADF | C8: =Récap!B7 -> ADF_20220017
B10: =Récap!A10 -> Nom de l'entité | C10: =Récap!B10
B11: =Récap!A11 -> Nom de la formation | C11: =Récap!B11
B12: =Récap!A12 -> Date début | C12: =Récap!B12
B13: =Récap!A13 -> Date fin | C13: =Récap!B13
B16: 2 - Identité du stagiaire
B18: Nom : | C18: =Récap!C21 -> PRENOM TOTO 6 | E18: Prénom : | F18: =Récap!B21 -> NOM TOTO 6
B21: 3 - Résultat de l'évaluation :
B22: =G22 -> Acquis | G22: =IF(C18>"","Acquis","Non-Acquis") -> Acquis
B24: 4 - Remarques du formateur
B25: RAS
H26: Légende | I26: Non-Acquis
I27: En Cours
I28: Acquis
B31: Compétences | G31: Statut
A33: 1 | B33: =IFERROR(VLOOKUP($C$11&"_"&A33,liste_competences,3,FALSE),"") | G33: =IFERROR(VLOOKUP($C$11&"_"&A33,liste_competences,4,FALSE),"")
A34: 2 | B34: =IFERROR(VLOOKUP($C$11&"_"&A34,liste_competences,3,FALSE),"") | G34: =IFERROR(VLOOKUP($C$11&"_"&A34,liste_competences,4,FALSE),"")
A35: 3 | B35: =IFERROR(VLOOKUP($C$11&"_"&A35,liste_competences,3,FALSE),"") | G35: =IFERROR(VLOOKUP($C$11&"_"&A35,liste_competences,4,FALSE),"")
A36: 4 | B36: =IFERROR(VLOOKUP($C$11&"_"&A36,liste_competences,3,FALSE),"") | G36: =IFERROR(VLOOKUP($C$11&"_"&A36,liste_competences,4,FALSE),"")
A37: 5 | B37: =IFERROR(VLOOKUP($C$11&"_"&A37,liste_competences,3,FALSE),"") | G37: =IFERROR(VLOOKUP($C$11&"_"&A37,liste_competences,4,FALSE),"")
A38: 6 | B38: =IFERROR(VLOOKUP($C$11&"_"&A38,liste_competences,3,FALSE),"") | G38: =IFERROR(VLOOKUP($C$11&"_"&A38,liste_competences,4,FALSE),"")
A39: 7 | B39: =IFERROR(VLOOKUP($C$11&"_"&A39,liste_competences,3,FALSE),"") | G39: =IFERROR(VLOOKUP($C$11&"_"&A39,liste_competences,4,FALSE),"")
A40: 8 | B40: =IFERROR(VLOOKUP($C$11&"_"&A40,liste_competences,3,FALSE),"") | G40: =IFERROR(VLOOKUP($C$11&"_"&A40,liste_competences,4,FALSE),"")
A41: 9 | B41: =IFERROR(VLOOKUP($C$11&"_"&A41,liste_competences,3,FALSE),"") | G41: =IFERROR(VLOOKUP($C$11&"_"&A41,liste_competences,4,FALSE),"")
A42: 10 | B42: =IFERROR(VLOOKUP($C$11&"_"&A42,liste_competences,3,FALSE),"") | G42: =IFERROR(VLOOKUP($C$11&"_"&A42,liste_competences,4,FALSE),"")
A43: 11 | B43: =IFERROR(VLOOKUP($C$11&"_"&A43,liste_competences,3,FALSE),"") | G43: =IFERROR(VLOOKUP($C$11&"_"&A43,liste_competences,4,FALSE),"")
A44: 12 | B44: =IFERROR(VLOOKUP($C$11&"_"&A44,liste_competences,3,FALSE),"") | G44: =IFERROR(VLOOKUP($C$11&"_"&A44,liste_competences,4,FALSE),"")
... A100: 68 | B100: =IFERROR(VLOOKUP($C$11&"_"&A100,liste_competences,3,FALSE),"") | G100: =IFERROR(VLOOKUP($C$11&"_"&A100,liste_competences,4,FALSE),"")
A101: 69 | G101: =IFERROR(VLOOKUP($C$11&"_"&A101,liste_competences,4,FALSE),"")
A102: 70 | G102: =IFERROR(VLOOKUP($C$11&"_"&A102,liste_competences,4,FALSE),"")
A103: 71 | G103: =IFERROR(VLOOKUP($C$11&"_"&A103,liste_competences,4,FALSE),"")
A104: 72 | G104: =IFERROR(VLOOKUP($C$11&"_"&A104,liste_competences,4,FALSE),"")
A105: 73 | G105: =IFERROR(VLOOKUP($C$11&"_"&A105,liste_competences,4,FALSE),"")
A106: 74 | G106: =IFERROR(VLOOKUP($C$11&"_"&A106,liste_competences,4,FALSE),"")
A107: 75 | G107: =IFERROR(VLOOKUP($C$11&"_"&A107,liste_competences,4,FALSE),"")
A108: 76 | G108: =IFERROR(VLOOKUP($C$11&"_"&A108,liste_competences,4,FALSE),"")
A109: 77 | G109: =IFERROR(VLOOKUP($C$11&"_"&A109,liste_competences,4,FALSE),"")
A110: 78 | G110: =IFERROR(VLOOKUP($C$11&"_"&A110,liste_competences,4,FALSE),"")
...
