Workbook

Sheet base
A1: TYPE DEPENSE | B1: CDF | C1: Écriture | D1: RUBRIQUE | E1: MONTANT | F1: ANNEE COMPTABILISATION | G1: MOIS COMPTABILISATION | H1: JOUR | I1: Ordre | J1: CDF + Ordre
A2: OPER DIVERS | B2: 1 | C2: 13111 | D2: 42 | E2: 23388.25 | F2: 2018 | G2: 5 | H2: 31 | I2: =COUNTIF(B$1:B2,B2)+1 -> 2 | J2: =CONCATENATE(TEXT(B2,"000"),TEXT(I2,"000")) -> 001002
A3: OPER DIVERS | B3: 1 | C3: 67028 | D3: 28 | E3: 223.40873 | F3: 2018 | G3: 5 | H3: 28 | I3: 1 | J3: =CONCATENATE(TEXT(B3,"000"),TEXT(I3,"000")) -> 001001
A4: OPER DIVERS | B4: 1 | C4: 67063 | D4: 63 | E4: 3808.8098 | F4: 2018 | G4: 5 | H4: 28 | I4: =COUNTIF(B$2:B3,B4)+1 -> 3 | J4: =CONCATENATE(TEXT(B4,"000"),TEXT(I4,"000")) -> 001003
A5: OPER DIVERS | B5: 1 | C5: 67080 | D5: 80 | E5: 784.43563 | F5: 2018 | G5: 5 | H5: 28 | I5: =COUNTIF(B$2:B4,B5)+1 -> 4 | J5: =CONCATENATE(TEXT(B5,"000"),TEXT(I5,"000")) -> 001004
A6: OPER DIVERS | B6: 1 | C6: 67083 | D6: 83 | E6: 1554.2431 | F6: 2018 | G6: 5 | H6: 28 | I6: =COUNTIF(B$2:B5,B6)+1 -> 5 | J6: =CONCATENATE(TEXT(B6,"000"),TEXT(I6,"000")) -> 001005
A7: RECEPT HS | B7: 1 | C7: 78182 | D7: 51 | E7: 237.70777 | F7: 2018 | G7: 5 | H7: 15 | I7: =COUNTIF(B$2:B6,B7)+1 -> 6 | J7: =CONCATENATE(TEXT(B7,"000"),TEXT(I7,"000")) -> 001006
A8: OPER DIVERS | B8: 1 | C8: 78502 | D8: 51 | E8: 1843.5151 | F8: 2018 | G8: 5 | H8: 21 | I8: =COUNTIF(B$2:B7,B8)+1 -> 7 | J8: =CONCATENATE(TEXT(B8,"000"),TEXT(I8,"000")) -> 001007
A9: OPER DIVERS | B9: 1 | C9: 78510 | D9: 51 | E9: 97.643036 | F9: 2018 | G9: 5 | H9: 3 | I9: =COUNTIF(B$2:B8,B9)+1 -> 8 | J9: =CONCATENATE(TEXT(B9,"000"),TEXT(I9,"000")) -> 001008
A10: RECEPT HS | B10: 1 | C10: 78550 | D10: 49 | E10: 6399.8245 | F10: 2018 | G10: 5 | H10: 17 | I10: =COUNTIF(B$2:B9,B10)+1 -> 9 | J10: =CONCATENATE(TEXT(B10,"000"),TEXT(I10,"000")) -> 001009
A11: RECEPT HS | B11: 1 | C11: 78614 | D11: 51 | E11: 239.53629 | F11: 2018 | G11: 5 | H11: 17 | I11: =COUNTIF(B$2:B10,B11)+1 -> 10 | J11: =CONCATENATE(TEXT(B11,"000"),TEXT(I11,"000")) -> 001010
A12: RECEPT HS | B12: 1 | C12: 79793 | D12: 51 | E12: 248.67889 | F12: 2018 | G12: 5 | H12: 25 | I12: =COUNTIF(B$2:B11,B12)+1 -> 11 | J12: =CONCATENATE(TEXT(B12,"000"),TEXT(I12,"000")) -> 001011
A13: RECEPT HS | B13: 1 | C13: 79843 | D13: 59 | E13: 1682.2396 | F13: 2018 | G13: 5 | H13: 25 | I13: =COUNTIF(B$2:B12,B13)+1 -> 12 | J13: =CONCATENATE(TEXT(B13,"000"),TEXT(I13,"000")) -> 001012
A14: OPER DIVERS | B14: 1 | C14: 121403 | D14: 51 | E14: 403.51807 | F14: 2018 | G14: 5 | H14: 21 | I14: =COUNTIF(B$2:B13,B14)+1 -> 13 | J14: =CONCATENATE(TEXT(B14,"000"),TEXT(I14,"000")) -> 001013
A15: OPER DIVERS | B15: 1 | C15: 121404 | D15: 51 | E15: 300.9746 | F15: 2018 | G15: 5 | H15: 21 | I15: =COUNTIF(B$2:B14,B15)+1 -> 14 | J15: =CONCATENATE(TEXT(B15,"000"),TEXT(I15,"000")) -> 001014
... A193: OPER DIVERS | B193: 8 | C193: 202310 | D193: 51 | E193: 181.66359 | F193: 2018 | G193: 5 | H193: 31 | I193: =COUNTIF(B$2:B192,B193)+1 -> 35 | J193: =CONCATENATE(TEXT(B193,"000"),TEXT(I193,"000")) -> 008035

Sheet CDF1
A1: CDF | B1: 1 | F1: Nombre | G1: =COUNTIF(base!B:B,'CDF1'!B1) -> 19
A5: N° | B5: Écriture | C5: CDF | D5: RUBRIQUE | E5: MONTANT | F5: ANNEE COMPTABILISATION | G5: MOIS COMPTABILISATION | H5: JOUR
A6: 1 | B6: =+IF($A6>0,SUMIFS(base!C:C,base!J:J,CONCATENATE(TEXT($B$1,"000"),TEXT(A6,"000")))," ") -> 67028 | C6: =IF($A6<>"",$B$1,"") -> 1 | D6: =IF($A6<>"",VLOOKUP($B6,base!C:H,2,0)," ") -> 28 | E6: =IF($A6<>"",VLOOKUP($B6,base!C:H,3,0)," ") -> 223.40873 | F6: =IF($A6<>"",VLOOKUP($B6,base!C:H,4,0)," ") -> 2018 | G6: =IF($A6<>"",VLOOKUP($B6,base!C:H,5,0)," ") -> 5 | H6: =IF($A6<>"",VLOOKUP($B6,base!C:H,6,0)," ") -> 28
A7: =IF(LEN(A6)>0,IF(VALUE(A6+1)<=$G$1,A6+1,""),"") -> 2 | B7: =+IF($A7>0,SUMIFS(base!C:C,base!J:J,CONCATENATE(TEXT($B$1,"000"),TEXT(A7,"000")))," ") -> 13111 | C7: =IF($A7<>"",$B$1,"") -> 1 | D7: =IF($A7<>"",VLOOKUP($B7,base!C:H,2,0)," ") -> 42 | E7: =IF($A7<>"",VLOOKUP($B7,base!C:H,3,0)," ") -> 23388.25 | F7: =IF($A7<>"",VLOOKUP($B7,base!C:H,4,0)," ") -> 2018 | G7: =IF($A7<>"",VLOOKUP($B7,base!C:H,5,0)," ") -> 5 | H7: =IF($A7<>"",VLOOKUP($B7,base!C:H,6,0)," ") -> 31
A8: =IF(LEN(A7)>0,IF(VALUE(A7+1)<=$G$1,A7+1,""),"") -> 3 | B8: =+IF($A8>0,SUMIFS(base!C:C,base!J:J,CONCATENATE(TEXT($B$1,"000"),TEXT(A8,"000")))," ") -> 67063 | C8: =IF($A8<>"",$B$1,"") -> 1 | D8: =IF($A8<>"",VLOOKUP($B8,base!C:H,2,0)," ") -> 63 | E8: =IF($A8<>"",VLOOKUP($B8,base!C:H,3,0)," ") -> 3808.8098 | F8: =IF($A8<>"",VLOOKUP($B8,base!C:H,4,0)," ") -> 2018 | G8: =IF($A8<>"",VLOOKUP($B8,base!C:H,5,0)," ") -> 5 | H8: =IF($A8<>"",VLOOKUP($B8,base!C:H,6,0)," ") -> 28
A9: =IF(LEN(A8)>0,IF(VALUE(A8+1)<=$G$1,A8+1,""),"") -> 4 | B9: =+IF($A9>0,SUMIFS(base!C:C,base!J:J,CONCATENATE(TEXT($B$1,"000"),TEXT(A9,"000")))," ") -> 67080 | C9: =IF($A9<>"",$B$1,"") -> 1 | D9: =IF($A9<>"",VLOOKUP($B9,base!C:H,2,0)," ") -> 80 | E9: =IF($A9<>"",VLOOKUP($B9,base!C:H,3,0)," ") -> 784.43563 | F9: =IF($A9<>"",VLOOKUP($B9,base!C:H,4,0)," ") -> 2018 | G9: =IF($A9<>"",VLOOKUP($B9,base!C:H,5,0)," ") -> 5 | H9: =IF($A9<>"",VLOOKUP($B9,base!C:H,6,0)," ") -> 28
A10: =IF(LEN(A9)>0,IF(VALUE(A9+1)<=$G$1,A9+1,""),"") -> 5 | B10: =+IF($A10>0,SUMIFS(base!C:C,base!J:J,CONCATENATE(TEXT($B$1,"000"),TEXT(A10,"000")))," ") -> 67083 | C10: =IF($A10<>"",$B$1,"") -> 1 | D10: =IF($A10<>"",VLOOKUP($B10,base!C:H,2,0)," ") -> 83 | E10: =IF($A10<>"",VLOOKUP($B10,base!C:H,3,0)," ") -> 1554.2431 | F10: =IF($A10<>"",VLOOKUP($B10,base!C:H,4,0)," ") -> 2018 | G10: =IF($A10<>"",VLOOKUP($B10,base!C:H,5,0)," ") -> 5 | H10: =IF($A10<>"",VLOOKUP($B10,base!C:H,6,0)," ") -> 28
A11: =IF(LEN(A10)>0,IF(VALUE(A10+1)<=$G$1,A10+1,""),"") -> 6 | B11: =+IF($A11>0,SUMIFS(base!C:C,base!J:J,CONCATENATE(TEXT($B$1,"000"),TEXT(A11,"000")))," ") -> 78182 | C11: =IF($A11<>"",$B$1,"") -> 1 | D11: =IF($A11<>"",VLOOKUP($B11,base!C:H,2,0)," ") -> 51 | E11: =IF($A11<>"",VLOOKUP($B11,base!C:H,3,0)," ") -> 237.70777 | F11: =IF($A11<>"",VLOOKUP($B11,base!C:H,4,0)," ") -> 2018 | G11: =IF($A11<>"",VLOOKUP($B11,base!C:H,5,0)," ") -> 5 | H11: =IF($A11<>"",VLOOKUP($B11,base!C:H,6,0)," ") -> 15
A12: =IF(LEN(A11)>0,IF(VALUE(A11+1)<=$G$1,A11+1,""),"") -> 7 | B12: =+IF($A12>0,SUMIFS(base!C:C,base!J:J,CONCATENATE(TEXT($B$1,"000"),TEXT(A12,"000")))," ") -> 78502 | C12: =IF($A12<>"",$B$1,"") -> 1 | D12: =IF($A12<>"",VLOOKUP($B12,base!C:H,2,0)," ") -> 51 | E12: =IF($A12<>"",VLOOKUP($B12,base!C:H,3,0)," ") -> 1843.5151 | F12: =IF($A12<>"",VLOOKUP($B12,base!C:H,4,0)," ") -> 2018 | G12: =IF($A12<>"",VLOOKUP($B12,base!C:H,5,0)," ") -> 5 | H12: =IF($A12<>"",VLOOKUP($B12,base!C:H,6,0)," ") -> 21
A13: =IF(LEN(A12)>0,IF(VALUE(A12+1)<=$G$1,A12+1,""),"") -> 8 | B13: =+IF($A13>0,SUMIFS(base!C:C,base!J:J,CONCATENATE(TEXT($B$1,"000"),TEXT(A13,"000")))," ") -> 78510 | C13: =IF($A13<>"",$B$1,"") -> 1 | D13: =IF($A13<>"",VLOOKUP($B13,base!C:H,2,0)," ") -> 51 | E13: =IF($A13<>"",VLOOKUP($B13,base!C:H,3,0)," ") -> 97.643036 | F13: =IF($A13<>"",VLOOKUP($B13,base!C:H,4,0)," ") -> 2018 | G13: =IF($A13<>"",VLOOKUP($B13,base!C:H,5,0)," ") -> 5 | H13: =IF($A13<>"",VLOOKUP($B13,base!C:H,6,0)," ") -> 3
A14: =IF(LEN(A13)>0,IF(VALUE(A13+1)<=$G$1,A13+1,""),"") -> 9 | B14: =+IF($A14>0,SUMIFS(base!C:C,base!J:J,CONCATENATE(TEXT($B$1,"000"),TEXT(A14,"000")))," ") -> 78550 | C14: =IF($A14<>"",$B$1,"") -> 1 | D14: =IF($A14<>"",VLOOKUP($B14,base!C:H,2,0)," ") -> 49 | E14: =IF($A14<>"",VLOOKUP($B14,base!C:H,3,0)," ") -> 6399.8245 | F14: =IF($A14<>"",VLOOKUP($B14,base!C:H,4,0)," ") -> 2018 | G14: =IF($A14<>"",VLOOKUP($B14,base!C:H,5,0)," ") -> 5 | H14: =IF($A14<>"",VLOOKUP($B14,base!C:H,6,0)," ") -> 17
A15: =IF(LEN(A14)>0,IF(VALUE(A14+1)<=$G$1,A14+1,""),"") -> 10 | B15: =+IF($A15>0,SUMIFS(base!C:C,base!J:J,CONCATENATE(TEXT($B$1,"000"),TEXT(A15,"000")))," ") -> 78614 | C15: =IF($A15<>"",$B$1,"") -> 1 | D15: =IF($A15<>"",VLOOKUP($B15,base!C:H,2,0)," ") -> 51 | E15: =IF($A15<>"",VLOOKUP($B15,base!C:H,3,0)," ") -> 239.53629 | F15: =IF($A15<>"",VLOOKUP($B15,base!C:H,4,0)," ") -> 2018 | G15: =IF($A15<>"",VLOOKUP($B15,base!C:H,5,0)," ") -> 5 | H15: =IF($A15<>"",VLOOKUP($B15,base!C:H,6,0)," ") -> 17
A16: =IF(LEN(A15)>0,IF(VALUE(A15+1)<=$G$1,A15+1,""),"") -> 11 | B16: =+IF($A16>0,SUMIFS(base!C:C,base!J:J,CONCATENATE(TEXT($B$1,"000"),TEXT(A16,"000")))," ") -> 79793 | C16: =IF($A16<>"",$B$1,"") -> 1 | D16: =IF($A16<>"",VLOOKUP($B16,base!C:H,2,0)," ") -> 51 | E16: =IF($A16<>"",VLOOKUP($B16,base!C:H,3,0)," ") -> 248.67889 | F16: =IF($A16<>"",VLOOKUP($B16,base!C:H,4,0)," ") -> 2018 | G16: =IF($A16<>"",VLOOKUP($B16,base!C:H,5,0)," ") -> 5 | H16: =IF($A16<>"",VLOOKUP($B16,base!C:H,6,0)," ") -> 25
A17: =IF(LEN(A16)>0,IF(VALUE(A16+1)<=$G$1,A16+1,""),"") -> 12 | B17: =+IF($A17>0,SUMIFS(base!C:C,base!J:J,CONCATENATE(TEXT($B$1,"000"),TEXT(A17,"000")))," ") -> 79843 | C17: =IF($A17<>"",$B$1,"") -> 1 | D17: =IF($A17<>"",VLOOKUP($B17,base!C:H,2,0)," ") -> 59 | E17: =IF($A17<>"",VLOOKUP($B17,base!C:H,3,0)," ") -> 1682.2396 | F17: =IF($A17<>"",VLOOKUP($B17,base!C:H,4,0)," ") -> 2018 | G17: =IF($A17<>"",VLOOKUP($B17,base!C:H,5,0)," ") -> 5 | H17: =IF($A17<>"",VLOOKUP($B17,base!C:H,6,0)," ") -> 25
A18: =IF(LEN(A17)>0,IF(VALUE(A17+1)<=$G$1,A17+1,""),"") -> 13 | B18: =+IF($A18>0,SUMIFS(base!C:C,base!J:J,CONCATENATE(TEXT($B$1,"000"),TEXT(A18,"000")))," ") -> 121403 | C18: =IF($A18<>"",$B$1,"") -> 1 | D18: =IF($A18<>"",VLOOKUP($B18,base!C:H,2,0)," ") -> 51 | E18: =IF($A18<>"",VLOOKUP($B18,base!C:H,3,0)," ") -> 403.51807 | F18: =IF($A18<>"",VLOOKUP($B18,base!C:H,4,0)," ") -> 2018 | G18: =IF($A18<>"",VLOOKUP($B18,base!C:H,5,0)," ") -> 5 | H18: =IF($A18<>"",VLOOKUP($B18,base!C:H,6,0)," ") -> 21
... A400: =IF(LEN(A399)>0,IF(VALUE(A399+1)<=$G$1,A399+1,""),"") | B400: =+IF($A400>0,SUMIFS(base!C:C,base!J:J,CONCATENATE(TEXT($B$1,"000"),TEXT(A400,"000")))," ") -> 0 | C400: =IF($A400<>"",$B$1,"") | D400: =IF($A400<>"",VLOOKUP($B400,base!C:H,2,0)," ") | E400: =IF($A400<>"",VLOOKUP($B400,base!C:H,3,0)," ") | F400: =IF($A400<>"",VLOOKUP($B400,base!C:H,4,0)," ") | G400: =IF($A400<>"",VLOOKUP($B400,base!C:H,5,0)," ") | H400: =IF($A400<>"",VLOOKUP($B400,base!C:H,6,0)," ")

Sheet CDF2
A1: CDF | B1: 2 | F1: Nombre | G1: =COUNTIF(base!B:B,'CDF2'!B1) -> 38
A5: N° | B5: Écriture | C5: CDF | D5: RUBRIQUE | E5: MONTANT | F5: ANNEE COMPTABILISATION | G5: MOIS COMPTABILISATION | H5: JOUR
A6: 1 | B6: =+IF($A6>0,SUMIFS(base!C:C,base!J:J,CONCATENATE(TEXT($B$1,"000"),TEXT(A6,"000")))," ") -> 67063 | C6: =IF($A6<>"",$B$1,"") -> 2 | D6: =IF($A6<>"",VLOOKUP($B6,base!C:H,2,0)," ") -> 63 | E6: =IF($A6<>"",VLOOKUP($B6,base!C:H,3,0)," ") -> 3808.8098 | F6: =IF($A6<>"",VLOOKUP($B6,base!C:H,4,0)," ") -> 2018 | G6: =IF($A6<>"",VLOOKUP($B6,base!C:H,5,0)," ") -> 5 | H6: =IF($A6<>"",VLOOKUP($B6,base!C:H,6,0)," ") -> 28
A7: =IF(LEN(A6)>0,IF(VALUE(A6+1)<=$G$1,A6+1,""),"") -> 2 | B7: =+IF($A7>0,SUMIFS(base!C:C,base!J:J,CONCATENATE(TEXT($B$1,"000"),TEXT(A7,"000")))," ") -> 67063 | C7: =IF($A7<>"",$B$1,"") -> 2 | D7: =IF($A7<>"",VLOOKUP($B7,base!C:H,2,0)," ") -> 63 | E7: =IF($A7<>"",VLOOKUP($B7,base!C:H,3,0)," ") -> 3808.8098 | F7: =IF($A7<>"",VLOOKUP($B7,base!C:H,4,0)," ") -> 2018 | G7: =IF($A7<>"",VLOOKUP($B7,base!C:H,5,0)," ") -> 5 | H7: =IF($A7<>"",VLOOKUP($B7,base!C:H,6,0)," ") -> 28
A8: =IF(LEN(A7)>0,IF(VALUE(A7+1)<=$G$1,A7+1,""),"") -> 3 | B8: =+IF($A8>0,SUMIFS(base!C:C,base!J:J,CONCATENATE(TEXT($B$1,"000"),TEXT(A8,"000")))," ") -> 67067 | C8: =IF($A8<>"",$B$1,"") -> 2 | D8: =IF($A8<>"",VLOOKUP($B8,base!C:H,2,0)," ") -> 67 | E8: =IF($A8<>"",VLOOKUP($B8,base!C:H,3,0)," ") -> -152377.99 | F8: =IF($A8<>"",VLOOKUP($B8,base!C:H,4,0)," ") -> 2018 | G8: =IF($A8<>"",VLOOKUP($B8,base!C:H,5,0)," ") -> 5 | H8: =IF($A8<>"",VLOOKUP($B8,base!C:H,6,0)," ") -> 28
A9: =IF(LEN(A8)>0,IF(VALUE(A8+1)<=$G$1,A8+1,""),"") -> 4 | B9: =+IF($A9>0,SUMIFS(base!C:C,base!J:J,CONCATENATE(TEXT($B$1,"000"),TEXT(A9,"000")))," ") -> 67067 | C9: =IF($A9<>"",$B$1,"") -> 2 | D9: =IF($A9<>"",VLOOKUP($B9,base!C:H,2,0)," ") -> 67 | E9: =IF($A9<>"",VLOOKUP($B9,base!C:H,3,0)," ") -> -152377.99 | F9: =IF($A9<>"",VLOOKUP($B9,base!C:H,4,0)," ") -> 2018 | G9: =IF($A9<>"",VLOOKUP($B9,base!C:H,5,0)," ") -> 5 | H9: =IF($A9<>"",VLOOKUP($B9,base!C:H,6,0)," ") -> 28
A10: =IF(LEN(A9)>0,IF(VALUE(A9+1)<=$G$1,A9+1,""),"") -> 5 | B10: =+IF($A10>0,SUMIFS(base!C:C,base!J:J,CONCATENATE(TEXT($B$1,"000"),TEXT(A10,"000")))," ") -> 67080 | C10: =IF($A10<>"",$B$1,"") -> 2 | D10: =IF($A10<>"",VLOOKUP($B10,base!C:H,2,0)," ") -> 80 | E10: =IF($A10<>"",VLOOKUP($B10,base!C:H,3,0)," ") -> 784.43563 | F10: =IF($A10<>"",VLOOKUP($B10,base!C:H,4,0)," ") -> 2018 | G10: =IF($A10<>"",VLOOKUP($B10,base!C:H,5,0)," ") -> 5 | H10: =IF($A10<>"",VLOOKUP($B10,base!C:H,6,0)," ") -> 28
A11: =IF(LEN(A10)>0,IF(VALUE(A10+1)<=$G$1,A10+1,""),"") -> 6 | B11: =+IF($A11>0,SUMIFS(base!C:C,base!J:J,CONCATENATE(TEXT($B$1,"000"),TEXT(A11,"000")))," ") -> 77501 | C11: =IF($A11<>"",$B$1,"") -> 2 | D11: =IF($A11<>"",VLOOKUP($B11,base!C:H,2,0)," ") -> 58 | E11: =IF($A11<>"",VLOOKUP($B11,base!C:H,3,0)," ") -> 2230.796 | F11: =IF($A11<>"",VLOOKUP($B11,base!C:H,4,0)," ") -> 2018 | G11: =IF($A11<>"",VLOOKUP($B11,base!C:H,5,0)," ") -> 5 | H11: =IF($A11<>"",VLOOKUP($B11,base!C:H,6,0)," ") -> 2
A12: =IF(LEN(A11)>0,IF(VALUE(A11+1)<=$G$1,A11+1,""),"") -> 7 | B12: =+IF($A12>0,SUMIFS(base!C:C,base!J:J,CONCATENATE(TEXT($B$1,"000"),TEXT(A12,"000")))," ") -> 77540 | C12: =IF($A12<>"",$B$1,"") -> 2 | D12: =IF($A12<>"",VLOOKUP($B12,base!C:H,2,0)," ") -> 58 | E12: =IF($A12<>"",VLOOKUP($B12,base!C:H,3,0)," ") -> 16349.284 | F12: =IF($A12<>"",VLOOKUP($B12,base!C:H,4,0)," ") -> 2018 | G12: =IF($A12<>"",VLOOKUP($B12,base!C:H,5,0)," ") -> 5 | H12: =IF($A12<>"",VLOOKUP($B12,base!C:H,6,0)," ") -> 3
A13: =IF(LEN(A12)>0,IF(VALUE(A12+1)<=$G$1,A12+1,""),"") -> 8 | B13: =+IF($A13>0,SUMIFS(base!C:C,base!J:J,CONCATENATE(TEXT($B$1,"000"),TEXT(A13,"000")))," ") -> 77560 | C13: =IF($A13<>"",$B$1,"") -> 2 | D13: =IF($A13<>"",VLOOKUP($B13,base!C:H,2,0)," ") -> 58 | E13: =IF($A13<>"",VLOOKUP($B13,base!C:H,3,0)," ") -> 16282.982 | F13: =IF($A13<>"",VLOOKUP($B13,base!C:H,4,0)," ") -> 2018 | G13: =IF($A13<>"",VLOOKUP($B13,base!C:H,5,0)," ") -> 5 | H13: =IF($A13<>"",VLOOKUP($B13,base!C:H,6,0)," ") -> 3
A14: =IF(LEN(A13)>0,IF(VALUE(A13+1)<=$G$1,A13+1,""),"") -> 9 | B14: =+IF($A14>0,SUMIFS(base!C:C,base!J:J,CONCATENATE(TEXT($B$1,"000"),TEXT(A14,"000")))," ") -> 77562 | C14: =IF($A14<>"",$B$1,"") -> 2 | D14: =IF($A14<>"",VLOOKUP($B14,base!C:H,2,0)," ") -> 58 | E14: =IF($A14<>"",VLOOKUP($B14,base!C:H,3,0)," ") -> 822.83457 | F14: =IF($A14<>"",VLOOKUP($B14,base!C:H,4,0)," ") -> 2018 | G14: =IF($A14<>"",VLOOKUP($B14,base!C:H,5,0)," ") -> 5 | H14: =IF($A14<>"",VLOOKUP($B14,base!C:H,6,0)," ") -> 3
A15: =IF(LEN(A14)>0,IF(VALUE(A14+1)<=$G$1,A14+1,""),"") -> 10 | B15: =+IF($A15>0,SUMIFS(base!C:C,base!J:J,CONCATENATE(TEXT($B$1,"000"),TEXT(A15,"000")))," ") -> 77563 | C15: =IF($A15<>"",$B$1,"") -> 2 | D15: =IF($A15<>"",VLOOKUP($B15,base!C:H,2,0)," ") -> 58 | E15: =IF($A15<>"",VLOOKUP($B15,base!C:H,3,0)," ") -> 4073.0311 | F15: =IF($A15<>"",VLOOKUP($B15,base!C:H,4,0)," ") -> 2018 | G15: =IF($A15<>"",VLOOKUP($B15,base!C:H,5,0)," ") -> 5 | H15: =IF($A15<>"",VLOOKUP($B15,base!C:H,6,0)," ") -> 3
A16: =IF(LEN(A15)>0,IF(VALUE(A15+1)<=$G$1,A15+1,""),"") -> 11 | B16: =+IF($A16>0,SUMIFS(base!C:C,base!J:J,CONCATENATE(TEXT($B$1,"000"),TEXT(A16,"000")))," ") -> 77564 | C16: =IF($A16<>"",$B$1,"") -> 2 | D16: =IF($A16<>"",VLOOKUP($B16,base!C:H,2,0)," ") -> 58 | E16: =IF($A16<>"",VLOOKUP($B16,base!C:H,3,0)," ") -> 10927.243 | F16: =IF($A16<>"",VLOOKUP($B16,base!C:H,4,0)," ") -> 2018 | G16: =IF($A16<>"",VLOOKUP($B16,base!C:H,5,0)," ") -> 5 | H16: =IF($A16<>"",VLOOKUP($B16,base!C:H,6,0)," ") -> 3
A17: =IF(LEN(A16)>0,IF(VALUE(A16+1)<=$G$1,A16+1,""),"") -> 12 | B17: =+IF($A17>0,SUMIFS(base!C:C,base!J:J,CONCATENATE(TEXT($B$1,"000"),TEXT(A17,"000")))," ") -> 77565 | C17: =IF($A17<>"",$B$1,"") -> 2 | D17: =IF($A17<>"",VLOOKUP($B17,base!C:H,2,0)," ") -> 58 | E17: =IF($A17<>"",VLOOKUP($B17,base!C:H,3,0)," ") -> -10927.243 | F17: =IF($A17<>"",VLOOKUP($B17,base!C:H,4,0)," ") -> 2018 | G17: =IF($A17<>"",VLOOKUP($B17,base!C:H,5,0)," ") -> 5 | H17: =IF($A17<>"",VLOOKUP($B17,base!C:H,6,0)," ") -> 3
A18: =IF(LEN(A17)>0,IF(VALUE(A17+1)<=$G$1,A17+1,""),"") -> 13 | B18: =+IF($A18>0,SUMIFS(base!C:C,base!J:J,CONCATENATE(TEXT($B$1,"000"),TEXT(A18,"000")))," ") -> 77566 | C18: =IF($A18<>"",$B$1,"") -> 2 | D18: =IF($A18<>"",VLOOKUP($B18,base!C:H,2,0)," ") -> 58 | E18: =IF($A18<>"",VLOOKUP($B18,base!C:H,3,0)," ") -> 10927.243 | F18: =IF($A18<>"",VLOOKUP($B18,base!C:H,4,0)," ") -> 2018 | G18: =IF($A18<>"",VLOOKUP($B18,base!C:H,5,0)," ") -> 5 | H18: =IF($A18<>"",VLOOKUP($B18,base!C:H,6,0)," ") -> 3
... A400: =IF(LEN(A399)>0,IF(VALUE(A399+1)<=$G$1,A399+1,""),"") | B400: =+IF($A400>0,SUMIFS(base!C:C,base!J:J,CONCATENATE(TEXT($B$1,"000"),TEXT(A400,"000")))," ") -> 0 | C400: =IF($A400<>"",$B$1,"") | D400: =IF($A400<>"",VLOOKUP($B400,base!C:H,2,0)," ") | E400: =IF($A400<>"",VLOOKUP($B400,base!C:H,3,0)," ") | F400: =IF($A400<>"",VLOOKUP($B400,base!C:H,4,0)," ") | G400: =IF($A400<>"",VLOOKUP($B400,base!C:H,5,0)," ") | H400: =IF($A400<>"",VLOOKUP($B400,base!C:H,6,0)," ")

Sheet CDF3
A1: CDF | B1: 3 | F1: Nombre | G1: =COUNTIF(base!B:B,'CDF3'!B1) -> 8
A5: N° | B5: Écriture | C5: CDF | D5: RUBRIQUE | E5: MONTANT | F5: ANNEE COMPTABILISATION | G5: MOIS COMPTABILISATION | H5: JOUR
A6: 1 | B6: =+IF($A6>0,SUMIFS(base!C:C,base!J:J,CONCATENATE(TEXT($B$1,"000"),TEXT(A6,"000")))," ") -> 13111 | C6: =IF($A6<>"",$B$1,"") -> 3 | D6: =IF($A6<>"",VLOOKUP($B6,base!C:H,2,0)," ") -> 42 | E6: =IF($A6<>"",VLOOKUP($B6,base!C:H,3,0)," ") -> 23388.25 | F6: =IF($A6<>"",VLOOKUP($B6,base!C:H,4,0)," ") -> 2018 | G6: =IF($A6<>"",VLOOKUP($B6,base!C:H,5,0)," ") -> 5 | H6: =IF($A6<>"",VLOOKUP($B6,base!C:H,6,0)," ") -> 31
A7: =IF(LEN(A6)>0,IF(VALUE(A6+1)<=$G$1,A6+1,""),"") -> 2 | B7: =+IF($A7>0,SUMIFS(base!C:C,base!J:J,CONCATENATE(TEXT($B$1,"000"),TEXT(A7,"000")))," ") -> 67028 | C7: =IF($A7<>"",$B$1,"") -> 3 | D7: =IF($A7<>"",VLOOKUP($B7,base!C:H,2,0)," ") -> 28 | E7: =IF($A7<>"",VLOOKUP($B7,base!C:H,3,0)," ") -> 223.40873 | F7: =IF($A7<>"",VLOOKUP($B7,base!C:H,4,0)," ") -> 2018 | G7: =IF($A7<>"",VLOOKUP($B7,base!C:H,5,0)," ") -> 5 | H7: =IF($A7<>"",VLOOKUP($B7,base!C:H,6,0)," ") -> 28
A8: =IF(LEN(A7)>0,IF(VALUE(A7+1)<=$G$1,A7+1,""),"") -> 3 | B8: =+IF($A8>0,SUMIFS(base!C:C,base!J:J,CONCATENATE(TEXT($B$1,"000"),TEXT(A8,"000")))," ") -> 67080 | C8: =IF($A8<>"",$B$1,"") -> 3 | D8: =IF($A8<>"",VLOOKUP($B8,base!C:H,2,0)," ") -> 80 | E8: =IF($A8<>"",VLOOKUP($B8,base!C:H,3,0)," ") -> 784.43563 | F8: =IF($A8<>"",VLOOKUP($B8,base!C:H,4,0)," ") -> 2018 | G8: =IF($A8<>"",VLOOKUP($B8,base!C:H,5,0)," ") -> 5 | H8: =IF($A8<>"",VLOOKUP($B8,base!C:H,6,0)," ") -> 28
A9: =IF(LEN(A8)>0,IF(VALUE(A8+1)<=$G$1,A8+1,""),"") -> 4 | B9: =+IF($A9>0,SUMIFS(base!C:C,base!J:J,CONCATENATE(TEXT($B$1,"000"),TEXT(A9,"000")))," ") -> 67083 | C9: =IF($A9<>"",$B$1,"") -> 3 | D9: =IF($A9<>"",VLOOKUP($B9,base!C:H,2,0)," ") -> 83 | E9: =IF($A9<>"",VLOOKUP($B9,base!C:H,3,0)," ") -> 1554.2431 | F9: =IF($A9<>"",VLOOKUP($B9,base!C:H,4,0)," ") -> 2018 | G9: =IF($A9<>"",VLOOKUP($B9,base!C:H,5,0)," ") -> 5 | H9: =IF($A9<>"",VLOOKUP($B9,base!C:H,6,0)," ") -> 28
A10: =IF(LEN(A9)>0,IF(VALUE(A9+1)<=$G$1,A9+1,""),"") -> 5 | B10: =+IF($A10>0,SUMIFS(base!C:C,base!J:J,CONCATENATE(TEXT($B$1,"000"),TEXT(A10,"000")))," ") -> 77635 | C10: =IF($A10<>"",$B$1,"") -> 3 | D10: =IF($A10<>"",VLOOKUP($B10,base!C:H,2,0)," ") -> 61 | E10: =IF($A10<>"",VLOOKUP($B10,base!C:H,3,0)," ") -> 44798.771 | F10: =IF($A10<>"",VLOOKUP($B10,base!C:H,4,0)," ") -> 2018 | G10: =IF($A10<>"",VLOOKUP($B10,base!C:H,5,0)," ") -> 5 | H10: =IF($A10<>"",VLOOKUP($B10,base!C:H,6,0)," ") -> 4
A11: =IF(LEN(A10)>0,IF(VALUE(A10+1)<=$G$1,A10+1,""),"") -> 6 | B11: =+IF($A11>0,SUMIFS(base!C:C,base!J:J,CONCATENATE(TEXT($B$1,"000"),TEXT(A11,"000")))," ") -> 78428 | C11: =IF($A11<>"",$B$1,"") -> 3 | D11: =IF($A11<>"",VLOOKUP($B11,base!C:H,2,0)," ") -> 58 | E11: =IF($A11<>"",VLOOKUP($B11,base!C:H,3,0)," ") -> 43218.527 | F11: =IF($A11<>"",VLOOKUP($B11,base!C:H,4,0)," ") -> 2018 | G11: =IF($A11<>"",VLOOKUP($B11,base!C:H,5,0)," ") -> 5 | H11: =IF($A11<>"",VLOOKUP($B11,base!C:H,6,0)," ") -> 16
A12: =IF(LEN(A11)>0,IF(VALUE(A11+1)<=$G$1,A11+1,""),"") -> 7 | B12: =+IF($A12>0,SUMIFS(base!C:C,base!J:J,CONCATENATE(TEXT($B$1,"000"),TEXT(A12,"000")))," ") -> 78766 | C12: =IF($A12<>"",$B$1,"") -> 3 | D12: =IF($A12<>"",VLOOKUP($B12,base!C:H,2,0)," ") -> 61 | E12: =IF($A12<>"",VLOOKUP($B12,base!C:H,3,0)," ") -> 3765.291 | F12: =IF($A12<>"",VLOOKUP($B12,base!C:H,4,0)," ") -> 2018 | G12: =IF($A12<>"",VLOOKUP($B12,base!C:H,5,0)," ") -> 5 | H12: =IF($A12<>"",VLOOKUP($B12,base!C:H,6,0)," ") -> 18
A13: =IF(LEN(A12)>0,IF(VALUE(A12+1)<=$G$1,A12+1,""),"") -> 8 | B13: =+IF($A13>0,SUMIFS(base!C:C,base!J:J,CONCATENATE(TEXT($B$1,"000"),TEXT(A13,"000")))," ") -> 79790 | C13: =IF($A13<>"",$B$1,"") -> 3 | D13: =IF($A13<>"",VLOOKUP($B13,base!C:H,2,0)," ") -> 51 | E13: =IF($A13<>"",VLOOKUP($B13,base!C:H,3,0)," ") -> 206.53148 | F13: =IF($A13<>"",VLOOKUP($B13,base!C:H,4,0)," ") -> 2018 | G13: =IF($A13<>"",VLOOKUP($B13,base!C:H,5,0)," ") -> 5 | H13: =IF($A13<>"",VLOOKUP($B13,base!C:H,6,0)," ") -> 25
A14: =IF(LEN(A13)>0,IF(VALUE(A13+1)<=$G$1,A13+1,""),"") | B14: =+IF($A14>0,SUMIFS(base!C:C,base!J:J,CONCATENATE(TEXT($B$1,"000"),TEXT(A14,"000")))," ") -> 0 | C14: =IF($A14<>"",$B$1,"") | D14: =IF($A14<>"",VLOOKUP($B14,base!C:H,2,0)," ") | E14: =IF($A14<>"",VLOOKUP($B14,base!C:H,3,0)," ") | F14: =IF($A14<>"",VLOOKUP($B14,base!C:H,4,0)," ") | G14: =IF($A14<>"",VLOOKUP($B14,base!C:H,5,0)," ") | H14: =IF($A14<>"",VLOOKUP($B14,base!C:H,6,0)," ")
A15: =IF(LEN(A14)>0,IF(VALUE(A14+1)<=$G$1,A14+1,""),"") | B15: =+IF($A15>0,SUMIFS(base!C:C,base!J:J,CONCATENATE(TEXT($B$1,"000"),TEXT(A15,"000")))," ") -> 0 | C15: =IF($A15<>"",$B$1,"") | D15: =IF($A15<>"",VLOOKUP($B15,base!C:H,2,0)," ") | E15: =IF($A15<>"",VLOOKUP($B15,base!C:H,3,0)," ") | F15: =IF($A15<>"",VLOOKUP($B15,base!C:H,4,0)," ") | G15: =IF($A15<>"",VLOOKUP($B15,base!C:H,5,0)," ") | H15: =IF($A15<>"",VLOOKUP($B15,base!C:H,6,0)," ")
A16: =IF(LEN(A15)>0,IF(VALUE(A15+1)<=$G$1,A15+1,""),"") | B16: =+IF($A16>0,SUMIFS(base!C:C,base!J:J,CONCATENATE(TEXT($B$1,"000"),TEXT(A16,"000")))," ") -> 0 | C16: =IF($A16<>"",$B$1,"") | D16: =IF($A16<>"",VLOOKUP($B16,base!C:H,2,0)," ") | E16: =IF($A16<>"",VLOOKUP($B16,base!C:H,3,0)," ") | F16: =IF($A16<>"",VLOOKUP($B16,base!C:H,4,0)," ") | G16: =IF($A16<>"",VLOOKUP($B16,base!C:H,5,0)," ") | H16: =IF($A16<>"",VLOOKUP($B16,base!C:H,6,0)," ")
A17: =IF(LEN(A16)>0,IF(VALUE(A16+1)<=$G$1,A16+1,""),"") | B17: =+IF($A17>0,SUMIFS(base!C:C,base!J:J,CONCATENATE(TEXT($B$1,"000"),TEXT(A17,"000")))," ") -> 0 | C17: =IF($A17<>"",$B$1,"") | D17: =IF($A17<>"",VLOOKUP($B17,base!C:H,2,0)," ") | E17: =IF($A17<>"",VLOOKUP($B17,base!C:H,3,0)," ") | F17: =IF($A17<>"",VLOOKUP($B17,base!C:H,4,0)," ") | G17: =IF($A17<>"",VLOOKUP($B17,base!C:H,5,0)," ") | H17: =IF($A17<>"",VLOOKUP($B17,base!C:H,6,0)," ")
A18: =IF(LEN(A17)>0,IF(VALUE(A17+1)<=$G$1,A17+1,""),"") | B18: =+IF($A18>0,SUMIFS(base!C:C,base!J:J,CONCATENATE(TEXT($B$1,"000"),TEXT(A18,"000")))," ") -> 0 | C18: =IF($A18<>"",$B$1,"") | D18: =IF($A18<>"",VLOOKUP($B18,base!C:H,2,0)," ") | E18: =IF($A18<>"",VLOOKUP($B18,base!C:H,3,0)," ") | F18: =IF($A18<>"",VLOOKUP($B18,base!C:H,4,0)," ") | G18: =IF($A18<>"",VLOOKUP($B18,base!C:H,5,0)," ") | H18: =IF($A18<>"",VLOOKUP($B18,base!C:H,6,0)," ")
... A400: =IF(LEN(A399)>0,IF(VALUE(A399+1)<=$G$1,A399+1,""),"") | B400: =+IF($A400>0,SUMIFS(base!C:C,base!J:J,CONCATENATE(TEXT($B$1,"000"),TEXT(A400,"000")))," ") -> 0 | C400: =IF($A400<>"",$B$1,"") | D400: =IF($A400<>"",VLOOKUP($B400,base!C:H,2,0)," ") | E400: =IF($A400<>"",VLOOKUP($B400,base!C:H,3,0)," ") | F400: =IF($A400<>"",VLOOKUP($B400,base!C:H,4,0)," ") | G400: =IF($A400<>"",VLOOKUP($B400,base!C:H,5,0)," ") | H400: =IF($A400<>"",VLOOKUP($B400,base!C:H,6,0)," ")
