Workbook

Sheet Feuil2
A1: Données
A2: 1 | B2: 2 | C2: 3 | D2: 4 | E2: 5 | F2: 6 | G2: 7 | H2: 8 | I2: 9 | J2: 10 | K2: 11 | L2: 12 | M2: 13 | N2: 14
A3: 10 | B3: 11 | C3: 12 | D3: 13 | E3: 14 | F3: 15 | G3: 16 | H3: 17 | I3: 18 | J3: 19 | K3: 20 | L3: 21 | M3: 22 | N3: 23
A4: 20 | B4: 21 | C4: 22 | D4: 23 | E4: 24 | F4: 25 | G4: 26 | H4: 27 | I4: 28 | J4: 29 | K4: 30 | L4: 31 | M4: 32 | N4: 33
A5: 30 | B5: 31 | C5: 32 | D5: 33 | E5: 34 | F5: 35 | G5: 36 | H5: 37 | I5: 38 | J5: 39 | K5: 40 | L5: 41 | M5: 42 | N5: 43

Sheet Feuil1
A2: 001 | B2: 44562 | C2: 44593 | D2: 44621 | E2: 44652 | F2: 44682 | G2: 44713 | H2: 44743 | I2: 44774 | J2: 44805 | K2: 44835 | L2: 44866 | M2: 44896
A3: Order Point
A4: Stock
A5: Safety Stock
A6: Average Stock
A7: 002 | B7: 44562 | C7: 44593 | D7: 44621 | E7: 44652 | F7: 44682 | G7: 44713 | H7: 44743 | I7: 44774 | J7: 44805 | K7: 44835 | L7: 44866 | M7: 44896
A8: Order Point
A9: Stock
A10: Safety Stock
A11: Average Consumption
A12: Stock en palette
A13: 003 | B13: 44562 | C13: 44593 | D13: 44621 | E13: 44652 | F13: 44682 | G13: 44713 | H13: 44743 | I13: 44774 | J13: 44805 | K13: 44835 | L13: 44866 | M13: 44896
A14: Order Point
A15: Stock
A16: Safety Stock
A17: Average Consumption
A18: Stock en palette | B18: =[1]Stock!Q4 -> 10 | C18: =[1]Stock!V4 -> 8.5 | D18: =[1]Stock!AA4 -> 8.5625 | E18: =[1]Stock!AF4 -> 9.5625 | F18: =[1]Stock!AK4 -> 11.578125 | G18: =[1]Stock!AP4 -> 12.078125 | H18: =[1]Stock!AU4 -> 10.5 | I18: =[1]Stock!AZ4 -> 10.609375 | J18: =[1]Stock!BE4 -> 10.71875 | K18: =[1]Stock!BJ4 -> 10.109375 | L18: =[1]Stock!BO4 -> 10 | M18: =[1]Stock!BT4 -> 9.3
A19: 004 | B19: 44562 | C19: 44593 | D19: 44621 | E19: 44652 | F19: 44682 | G19: 44713 | H19: 44743 | I19: 44774 | J19: 44805 | K19: 44835 | L19: 44866 | M19: 44896
A20: Order Point
A21: Stock
A22: Safety Stock
A23: Average Consumption
A24: Stock en palette
B30: =Feuil2!A$2 -> 1 | C30: =Feuil2!B$2 -> 2 | D30: =Feuil2!C$2 -> 3 | E30: =Feuil2!D$2 -> 4 | F30: =Feuil2!E$2 -> 5 | G30: =Feuil2!F$2 -> 6 | H30: =Feuil2!G$2 -> 7 | I30: =Feuil2!H$2 -> 8 | ... M30: =Feuil2!L$2 -> 12
B31: =Feuil2!A$3 -> 10 | C31: =Feuil2!B$3 -> 11 | D31: =Feuil2!C$3 -> 12 | E31: =Feuil2!D$3 -> 13 | F31: =Feuil2!E$3 -> 14 | G31: =Feuil2!F$3 -> 15 | H31: =Feuil2!G$3 -> 16 | I31: =Feuil2!H$3 -> 17 | ... M31: =Feuil2!L$3 -> 21
B32: =Feuil2!A$4 -> 20 | C32: =Feuil2!B$4 -> 21 | D32: =Feuil2!C$4 -> 22 | E32: =Feuil2!D$4 -> 23 | F32: =Feuil2!E$4 -> 24 | G32: =Feuil2!F$4 -> 25 | H32: =Feuil2!G$4 -> 26 | I32: =Feuil2!H$4 -> 27 | ... M32: =Feuil2!L$4 -> 31
B33: =Feuil2!A$5 -> 30 | C33: =Feuil2!B$5 -> 31 | D33: =Feuil2!C$5 -> 32 | E33: =Feuil2!D$5 -> 33 | F33: =Feuil2!E$5 -> 34 | G33: =Feuil2!F$5 -> 35 | H33: =Feuil2!G$5 -> 36 | I33: =Feuil2!H$5 -> 37 | ... M33: =Feuil2!L$5 -> 41
