Workbook

Sheet DATA 2024
A1: KAM | B1: Marque | C1: 1 | D1: 2 | E1: 3 | F1: 4 | G1: 5 | H1: 6 | I1: 7 | J1: 8 | K1: 9 | L1: 10 | M1: 11 | N1: 12 | O1: FY
A2: Pierre | B2: Marque 1 | C2: 841.0392 | D2: 10485.688 | E2: 1310.0832 | F2: 3028.4496 | G2: 3045.9672 | H2: 31903.751 | I2: 11392.067 | J2: 6805.9872 | K2: 4861.4148 | L2: 18587.61 | M2: 7125.4944 | N2: 2812.2768 | O2: =SUM(C2:N2) -> 102199.83
A3: Pierre | B3: Marque 2 | C3: 655.6356 | D3: 163.6632 | E3: 247.428 | F3: 113.0112 | G3: 513.6048 | H3: 12391.855 | I3: 5882.0256 | J3: 3988.1808 | K3: 453.7944 | L3: 2480.922 | M3: 393.1092 | N3: 433.944 | O3: =SUM(C3:N3) -> 27717.174
A4: Pierre | B4: Marque 3 | C4: 997.218 | D4: 666.036 | E4: 1414.7676 | F4: 1038.4092 | G4: 2752.4124 | H4: 12179.776 | I4: 4988.0124 | J4: 1722.0276 | K4: 653.8536 | L4: 8259.2028 | M4: 3802.0968 | N4: 1050.84 | O4: =SUM(C4:N4) -> 39524.652
A5: Pierre | B5: Marque 1 | D5: 5269.536 | E5: 6752.8188 | F5: 4875.93 | G5: 13570.178 | H5: 22070.761 | I5: 17187.552 | J5: 14734.084 | K5: 12340.058 | L5: 18526.871 | M5: 11077.808 | N5: 2236.2264 | O5: =SUM(C5:N5) -> 128641.82
A6: Pierre | B6: Marque 2 | D6: 0 | E6: 2415.852 | F6: 1591.704 | G6: 1599.3504 | H6: 11812.651 | I6: 12028.392 | J6: 4819.3164 | K6: 2530.6236 | L6: 1875.5604 | M6: 960.768 | N6: 101.8656 | O6: =SUM(C6:N6) -> 39736.084
A7: Pierre | B7: Marque 3 | D7: 0 | E7: 1758.4344 | F7: 107.892 | G7: 593.406 | H7: 11921.386 | I7: 6725.268 | J7: 2747.52 | K7: 4909.626 | L7: 3167.6184 | M7: 269.73 | N7: 572.9292 | O7: =SUM(C7:N7) -> 32773.81
A8: Pierre | B8: Marque 1 | C8: 3530.0664 | D8: 110274.99 | E8: 32772.103 | F8: 4305.6036 | G8: 4583.52 | H8: 37872.22 | I8: -1410.5664 | J8: 58290.43 | K8: 30872.416 | L8: 1710.7632 | M8: 1143.828 | N8: 0 | O8: =SUM(C8:N8) -> 283945.37
A9: Pierre | B9: Marque 2 | C9: 993.384 | D9: 2607.6816 | E9: 9795.1032 | F9: 7799.6952 | G9: 762.8472 | H9: 12561.772 | I9: 1065.582 | J9: 18613.638 | K9: 590.1336 | L9: 7451.2224 | O9: =SUM(C9:N9) -> 62241.059
A10: Pierre | B10: Marque 3 | C10: 2491.5276 | D10: 3340.116 | E10: 11766.751 | F10: 4019.5116 | G10: 4528.0836 | H10: 42292.519 | I10: 891.9828 | J10: 15470.46 | K10: 3733.6464 | L10: 6225.9732 | M10: 2427.57 | N10: 0 | O10: =SUM(C10:N10) -> 97188.142
A11: Pierre | B11: Marque 1 | C11: 0 | D11: 4352.7456 | E11: 0 | F11: 578.664 | G11: 4680.828 | H11: 8248.6296 | I11: 19250.352 | J11: 81987.077 | K11: 3773.736 | L11: 4088.448 | M11: 8943.048 | N11: 4392.144 | O11: =SUM(C11:N11) -> 140295.67
A12: Pierre | B12: Marque 2 | C12: 0 | D12: 425.088 | F12: 1487.808 | G12: 8123.5008 | H12: 504.1872 | I12: 3180.384 | J12: 1065.8304 | K12: 466.992 | L12: 4866.48 | M12: 5248.1088 | N12: 0 | O12: =SUM(C12:N12) -> 25368.379
A13: Pierre | B13: Marque 3 | C13: 2627.316 | D13: 6113.5344 | E13: 515.16 | F13: 7405.6032 | G13: 16899.516 | H13: 2146.878 | I13: 6814.368 | J13: 9421.92 | K13: 0 | L13: 8242.56 | M13: 4121.28 | N13: 515.16 | O13: =SUM(C13:N13) -> 64823.296
A14: Pierre | B14: Marque 1 | C14: 20033.039 | D14: 0 | E14: 41402.74 | F14: 12923.366 | G14: 12997.562 | H14: 661.0896 | I14: 8578.5156 | J14: 63792.284 | K14: 52498.411 | L14: 1243.7064 | M14: 90831.283 | N14: 11437.222 | O14: =SUM(C14:N14) -> 316399.22
A15: Pierre | B15: Marque 2 | C15: 21945.805 | D15: 0 | E15: 15888.182 | F15: 7090.74 | G15: 6889.6548 | H15: 3953.4048 | I15: 9070.5312 | J15: 30108.024 | K15: 8624.7936 | L15: 622.7712 | M15: 27747.187 | N15: 5521.6512 | O15: =SUM(C15:N15) -> 137462.75
A16: Pierre | B16: Marque 3 | C16: 7235.3196 | D16: 0 | E16: 13540.651 | F16: 2929.6512 | G16: 12957.419 | H16: 1027.5768 | I16: 313.1244 | J16: 22560.703 | K16: 5730.858 | L16: 0 | M16: 17639.618 | N16: 4690.3212 | O16: =SUM(C16:N16) -> 88625.243
A17: Pierre | B17: Marque 1 | F17: 0 | G17: 0 | H17: 20700 | I17: 7080 | J17: 38499 | M17: 0 | N17: 4800 | O17: =SUM(C17:N17) -> 71079
A18: Pierre | B18: Marque 2 | F18: 0 | G18: 0 | H18: 20460 | I18: 1508.4 | M18: 0 | N18: 29509.68 | O18: =SUM(C18:N18) -> 51478.08
A19: Pierre | B19: Marque 1 | C19: 20200.244 | D19: 16558.603 | E19: 12076.43 | F19: 12901.658 | G19: 11038.907 | H19: 48951.907 | I19: 9621.9792 | J19: 50722.589 | K19: 66831.188 | L19: 22148.467 | M19: 18371.059 | N19: 11470.993 | O19: =SUM(C19:N19) -> 300894.03
A20: Pierre | B20: Marque 2 | C20: 5697.5076 | D20: 4820.8284 | E20: 3772.0404 | F20: 3116.9448 | G20: 1627.0632 | H20: 1366.4376 | I20: 3138.6096 | J20: 27150.466 | K20: 3356.964 | L20: 5497.2972 | M20: 1550.2752 | N20: 0 | O20: =SUM(C20:N20) -> 61094.434
A21: Pierre | B21: Marque 3 | C21: 4728.0132 | D21: 3513.0564 | E21: 8618.6376 | F21: 6439.8672 | G21: 5068.494 | H21: 6024.4452 | I21: 18758.984 | J21: 16970.461 | K21: 12118.637 | L21: 11211.782 | M21: 23663.383 | N21: 12766.205 | O21: =SUM(C21:N21) -> 129881.97
A22: Pierre | B22: Marque 1 | D22: 44082.425 | E22: 22055.825 | F22: 1630.3032 | G22: 789.912 | H22: 5754.6288 | I22: 19446.134 | J22: 29354.378 | K22: 16385.22 | N22: 7291.62 | O22: =SUM(C22:N22) -> 146790.45
A23: Pierre | B23: Marque 2 | D23: 10282.054 | F23: 4089.6144 | H23: 294.3216 | I23: 14940.677 | J23: 26252.878 | K23: 7179.7536 | N23: 1843.4304 | O23: =SUM(C23:N23) -> 64882.728
A24: Pierre | B24: Marque 3 | D24: 17372.21 | F24: 1106.784 | G24: 3689.28 | H24: 2002.3416 | I24: 15391.728 | J24: 45527.076 | K24: 5759.208 | L24: 0 | N24: 15451.495 | O24: =SUM(C24:N24) -> 106300.12
A25: Pierre | B25: Marque 1 | F25: 0 | H25: 18240 | N25: 0 | O25: =SUM(C25:N25) -> 18240
A26: Pierre | B26: Marque 1 | E26: 0 | F26: 0 | H26: 111979.2 | N26: 0 | O26: =SUM(C26:N26) -> 111979.2
A27: Pierre | B27: Marque 2 | E27: 0 | H27: 8188 | N27: 0 | O27: =SUM(C27:N27) -> 8188
A28: Simone | B28: Marque 1 | D28: 602.964 | E28: 489.564 | F28: 1414.9296 | G28: 225.8928 | H28: 12246.66 | I28: 2608.1676 | J28: 2431.836 | K28: 1087.0416 | L28: 2348.1144 | M28: 1149.0768 | N28: 2337.4872 | O28: =SUM(C28:N28) -> 26941.734
A29: Simone | B29: Marque 2 | D29: 380.5056 | E29: 246.0672 | F29: 94.6944 | G29: 324.162 | H29: 2102.1444 | I29: 682.9596 | J29: 600.0912 | K29: 0 | L29: 51.516 | M29: 154.548 | N29: 255.8304 | O29: =SUM(C29:N29) -> 4892.5188
A30: Simone | B30: Marque 3 | D30: 620.4384 | E30: 699.0408 | F30: 202.5 | G30: 0 | H30: 5497.7292 | I30: 947.4624 | J30: 1484.136 | K30: 0 | L30: 1058.616 | M30: 841.32 | N30: 162.1296 | O30: =SUM(C30:N30) -> 11513.372
A31: Simone | B31: Marque 1 | C31: 1844.3592 | D31: 1565.0496 | E31: 242.676 | F31: 437.6592 | G31: 1842.912 | H31: 996.4944 | K31: 0 | L31: 1163.808 | M31: 683.1216 | N31: 683.208 | O31: =SUM(C31:N31) -> 9459.288
A32: Simone | B32: Marque 3 | C32: 0 | D32: 378.594 | F32: 126.198 | J32: 0 | M32: 168.264 | O32: =SUM(C32:N32) -> 673.056
A33: Simone | B33: Marque 1 | C33: 0 | D33: 13224.946 | E33: 1426.9824 | F33: 920.6784 | G33: 2868.6312 | H33: 3855.7944 | I33: 7287.8832 | J33: 2793.6468 | K33: 12716.86 | L33: 5515.344 | M33: 7235.1576 | N33: 3706.0416 | O33: =SUM(C33:N33) -> 61551.965
A34: Simone | B34: Marque 2 | C34: 0 | D34: 2134.5336 | E34: 161.136 | F34: 141.5232 | G34: 452.3688 | H34: 1213.3476 | I34: 792.6228 | J34: 405.5184 | K34: 636.7032 | L34: 704.3328 | M34: 1150.7616 | N34: 776.0988 | O34: =SUM(C34:N34) -> 8568.9468
A35: Simone | B35: Marque 3 | C35: 0 | D35: 2751.3324 | E35: 0 | F35: 396.954 | G35: 2458.836 | H35: 1029.888 | I35: 826.3404 | J35: 369.5868 | K35: 1572.7716 | L35: 1148.0832 | M35: 2150.5932 | N35: 451.548 | O35: =SUM(C35:N35) -> 13155.934
A36: Simone | B36: Marque 1 | C36: 0 | D36: 1122.9192 | F36: 330.912 | G36: -330.912 | H36: 0 | O36: =SUM(C36:N36) -> 1122.9192
A37: Simone | B37: Marque 2 | C37: 0 | D37: 62.7264 | F37: 172.3248 | G37: -172.3248 | H37: 0 | O37: =SUM(C37:N37) -> 62.7264
A38: Simone | B38: Marque 3 | C38: 0 | D38: 67.4352 | O38: =SUM(C38:N38) -> 67.4352
A39: Simone | B39: Marque 1 | E39: 6712.1784 | F39: 9173.4984 | G39: 14693.184 | H39: 6527.4336 | I39: 12554.136 | J39: 1055.4624 | K39: 511.0776 | N39: 418.1544 | O39: =SUM(C39:N39) -> 51645.125
A40: Simone | B40: Marque 2 | E40: 3464.424 | F40: 3947.832 | H40: 2177.3664 | I40: 3760.9056 | O40: =SUM(C40:N40) -> 13350.528
A41: Simone | B41: Marque 3 | E41: 1219.914 | F41: 42.066 | G41: 1514.376 | O41: =SUM(C41:N41) -> 2776.356
A42: Simone | B42: Marque 1 | C42: 0 | D42: 5578.6968 | E42: 1620.9504 | F42: 1365.984 | G42: 0 | H42: 582.5952 | I42: 2291.1984 | J42: 596.16 | K42: 2261.52 | L42: 792.1152 | M42: 990.144 | N42: 0 | O42: =SUM(C42:N42) -> 16079.364
A43: Simone | B43: Marque 3 | C43: 0 | D43: 0 | E43: 740.3616 | F43: 454.3128 | G43: 0 | H43: 757.188 | I43: 841.32 | J43: 504.792 | N43: 0 | O43: =SUM(C43:N43) -> 3297.9744
A44: Simone | B44: Marque 1 | C44: 310.2192 | D44: 9911.592 | E44: 17233.344 | F44: 3025.5336 | G44: 1749.06 | H44: 7270.992 | I44: 19675.85 | J44: 25845.21 | K44: 12150.832 | L44: 15340.504 | M44: 101699.56 | N44: 105428.4 | O44: =SUM(C44:N44) -> 319641.1
A45: Simone | B45: Marque 2 | C45: 91.9296 | D45: 6527.0016 | E45: 91.9296 | F45: 2206.3104 | G45: 225.8496 | H45: 430.704 | I45: 2411.1648 | J45: 453.7296 | L45: 91.9296 | M45: 135.9504 | O45: =SUM(C45:N45) -> 12666.499
A46: Simone | B46: Marque 3 | C46: 228.8736 | D46: 749.1852 | E46: 4260.924 | F46: 893.3976 | G46: 2348.6004 | H46: 3876.8328 | I46: 2978.8884 | J46: 14250.395 | K46: 6894.8388 | L46: 12403.94 | M46: 6126.4404 | N46: 40633.736 | O46: =SUM(C46:N46) -> 95646.053
A47: Simone | B47: Marque 1 | C47: 0 | D47: 414.342 | F47: 8341.4448 | G47: 0 | H47: 0 | I47: 13601.887 | J47: 4051.0368 | K47: 6478.0884 | L47: 1420.9776 | M47: 0 | N47: 0 | O47: =SUM(C47:N47) -> 34307.777
A48: Simone | B48: Marque 2 | C48: 0 | D48: 272.5272 | F48: 930.2904 | G48: 0 | H48: 0 | I48: 2723.6088 | K48: 726.732 | L48: 324.162 | O48: =SUM(C48:N48) -> 4977.3204
A49: Simone | B49: Marque 3 | F49: 2754.3672 | G49: 0 | H49: 0 | I49: 3681.5904 | J49: 115.3008 | K49: 459.1512 | L49: 903.8952 | N49: 0 | O49: =SUM(C49:N49) -> 7914.3048
A50: Simone | B50: Marque 1 | L50: 0 | N50: 212932.2 | O50: =SUM(C50:N50) -> 212932.2
A51: Simone | B51: Marque 1 | C51: 4109.1732 | D51: 662.0616 | E51: 1014.2928 | F51: 41.6016 | G51: 630.4608 | H51: 2343.5784 | I51: 5280.228 | J51: 0 | K51: 6128.9136 | L51: 1189.3824 | M51: 2416.1112 | N51: 3107.5056 | O51: =SUM(C51:N51) -> 26923.309
A52: Simone | B52: Marque 2 | C52: 150.3792 | D52: 241.704 | F52: 0 | G52: 151.9236 | H52: 171.4176 | I52: 587.8656 | K52: 208.4832 | L52: 329.8752 | M52: 186.1056 | N52: 130.248 | O52: =SUM(C52:N52) -> 2158.002
A53: Simone | B53: Marque 3 | C53: 84.132 | D53: 336.528 | F53: 84.132 | G53: 420.66 | H53: 42.066 | I53: 1772.7876 | J53: 0 | K53: 597.294 | L53: 499.6728 | M53: 1357.7004 | N53: 436.32 | O53: =SUM(C53:N53) -> 5631.2928
A54: Simone | B54: Marque 1 | G54: 0 | I54: 172.8 | K54: 8640 | L54: 0 | O54: =SUM(C54:N54) -> 8812.8
A55: Simone | B55: Marque 1 | D55: 493.5168 | E55: 6513.264 | F55: 5824.2024 | G55: 2650.4928 | H55: 2852.3232 | I55: 3139.3008 | J55: 14701.306 | K55: 6833.4624 | L55: 8179.3368 | M55: 2824.5672 | N55: 1275.6528 | O55: =SUM(C55:N55) -> 55287.425
A56: Simone | B56: Marque 3 | D56: 830.8332 | E56: 467.7264 | F56: 1436.2272 | G56: 857.0016 | H56: 610.9344 | I56: 202.23 | J56: 1820.6208 | K56: 455.0256 | L56: 2235.276 | M56: 0 | O56: =SUM(C56:N56) -> 8915.8752
A57: Simone | B57: Marque 1 | D57: 700.9848 | G57: 92.1024 | H57: 139.3848 | J57: 0 | K57: 11740.896 | L57: 311.04 | M57: 0 | N57: 1721.088 | O57: =SUM(C57:N57) -> 14705.496
A58: Simone | B58: Marque 2 | K58: 8470.9152 | M58: 761.184 | N58: 0 | O58: =SUM(C58:N58) -> 9232.0992
A59: Simone | B59: Marque 3 | D59: 162.1296 | G59: 84.132 | H59: 42.066 | I59: 180.2412 | J59: 0 | K59: 7338.06 | M59: 0 | N59: 2080.08 | O59: =SUM(C59:N59) -> 9886.7088
A60: Simone | B60: Marque 1 | K60: 8152.812 | N60: 0 | O60: =SUM(C60:N60) -> 8152.812
A61: Simone | B61: Marque 1 | C61: 805.6044 | D61: 0 | J61: 0 | O61: =SUM(C61:N61) -> 805.6044
A62: Simone | B62: Marque 1 | C62: 4127.1984 | D62: 3043.17 | E62: 185.8464 | F62: 92.1024 | G62: 0 | O62: =SUM(C62:N62) -> 7448.3172
A63: Simone | B63: Marque 2 | C63: 1115.856 | D63: 705.0024 | O63: =SUM(C63:N63) -> 1820.8584
A64: Simone | B64: Marque 3 | C64: 0 | D64: 338.256 | E64: 122.9796 | F64: 400.1292 | O64: =SUM(C64:N64) -> 861.3648
A65: Simone | B65: Marque 1 | G65: 0 | O65: =SUM(C65:N65) -> 0
A66: Simone | B66: Marque 1 | E66: 334.044 | F66: 92.9232 | G66: 988.8264 | H66: 785.7648 | I66: 0 | J66: 1406.6784 | K66: 610.416 | L66: 161.3952 | M66: 405.9936 | N66: 0 | O66: =SUM(C66:N66) -> 4786.0416
A67: Simone | B67: Marque 3 | I67: 0 | J67: 1660.5 | L67: 62.3376 | M67: 0 | O67: =SUM(C67:N67) -> 1722.8376
A68: Simone | B68: Marque 1 | N68: 583.848 | O68: =SUM(C68:N68) -> 583.848
A69: Simone | B69: Marque 3 | N69: 0 | O69: =SUM(C69:N69) -> 0

Sheet SBB YTD FEB
B1: YTD 2024 SELECTED
B2: 3
A4: Simone | B4: FY 2024 | C4: 2025 TARGET (FY) | D4: YTD FEB 2024 | E4: YTD FEB 2025 | F4: GROWTH% VS YTD 2024 | G4: YTD FEB BOOKINGS (FY) | H4: BOOKINGS VS TARGET (FY) | I4: YTD POS (IF ANY)
A5: Marque 1 | B5: =SUMIFS('DATA 2024'!O:O,'DATA 2024'!B:B,'SBB YTD FEB'!A5,'DATA 2024'!A:A,'SBB YTD FEB'!$A$4) -> 861187.12 | D5: =SUMIFS(OFFSET('DATA 2024'!$B$1,1,$B$2,COUNTA(Tableau1[KAM])),Tableau1[KAM],$A$4,Tableau1[[Marque ]],$A5) -> 35773.142
A6: Marque 2 | B6: =SUMIFS('DATA 2024'!O:O,'DATA 2024'!B:B,'SBB YTD FEB'!A6,'DATA 2024'!A:A,'SBB YTD FEB'!$A$4) -> 57729.499 | D6: =SUMIFS(OFFSET('DATA 2024'!$B$1,1,$B$2,COUNTA(Tableau1[KAM])),Tableau1[KAM],$A$4,Tableau1[[Marque ]],$A6) -> 3963.5568
A7: Marque 3 | B7: =SUMIFS('DATA 2024'!O:O,'DATA 2024'!B:B,'SBB YTD FEB'!A7,'DATA 2024'!A:A,'SBB YTD FEB'!$A$4) -> 162062.56 | D7: =SUMIFS(OFFSET('DATA 2024'!$B$1,1,$B$2,COUNTA(Tableau1[KAM])),Tableau1[KAM],$A$4,Tableau1[[Marque ]],$A7) -> 7510.9464
A8: TOTAL | B8: =SUM(B5:B7) -> 1080979.2 | C8: =SUM(C5:C7) -> 0 | D8: =SUM(D5:D7) -> 47247.646 | E8: =SUM(E5:E7) -> 0 | G8: =SUM(G5:G7) -> 0
A11: Pierre | B11: FY 2024 | C11: 2025 TARGET (FY) | D11: YTD FEB 2024 | E11: YTD FEB 2025 | F11: GROWTH% VS YTD 2024 | G11: YTD FEB BOOKINGS (FY) | H11: BOOKINGS VS TARGET (FY) | I11: YTD POS (IF ANY)
A12: Marque 1 | B12: =SUMIFS('DATA 2024'!O:O,'DATA 2024'!B:B,'SBB YTD FEB'!A12,'DATA 2024'!A:A,'SBB YTD FEB'!$A$11) -> 1620464.6
A13: Marque 2 | B13: =SUMIFS('DATA 2024'!O:O,'DATA 2024'!B:B,'SBB YTD FEB'!A13,'DATA 2024'!A:A,'SBB YTD FEB'!$A$11) -> 478168.68
A14: Marque 3 | B14: =SUMIFS('DATA 2024'!O:O,'DATA 2024'!B:B,'SBB YTD FEB'!A14,'DATA 2024'!A:A,'SBB YTD FEB'!$A$11) -> 559117.23
A15: TOTAL | B15: =SUM(B12:B14) -> 2657750.5 | C15: =SUM(C12:C14) -> 0 | D15: =SUM(D12:D14) -> 0 | E15: =SUM(E12:E14) -> 0 | G15: =SUM(G12:G14) -> 0

Sheet Month
A1: Month
A2: 1
A3: 2
A4: 3
A5: 4
A6: 5
A7: 6
A8: 7
A9: 8
A10: 9
A11: 10
A12: 11
A13: 12
