Workbook

Sheet STATS Centre
B2: BAC Arts Plastiques spécialité - Epreuve écrite | J2: TOTAL ACADEMIE
C4: Commission N° | D4: ='Jury A'!I4 -> 0 | E4: ='Jury B'!I4 -> 0 | F4: ='Jury C'!I4 -> 0 | G4: ='Jury D'!I4 -> 0
C5: Nombre de candidats | D5: ='Jury A'!R12 -> 0 | E5: ='Jury B'!R12 -> 0 | F5: ='Jury C'!R12 -> 0 | G5: ='Jury D'!R12 -> 0 | J5: =SUM(D5:G5) -> 0 | L5: Nom coordonnateur
C6: Nombre d'ABSENTS | D6: ='Jury A'!R11 -> 0 | E6: ='Jury B'!R11 -> 0 | F6: ='Jury C'!R11 -> 0 | G6: ='Jury D'!R11 -> 0 | J6: =SUM(D6:G6) -> 0
C8: SUJET 1 | J8: SUJET 1
B9: Question 1 Analyse (-/8) | C9: Moyenne | D9: =IFERROR(AVERAGE('Jury A'!G9:G68),"") | E9: =IFERROR(AVERAGE('Jury B'!G9:G68),"") | F9: =IFERROR(AVERAGE('Jury C'!G9:G68),"") | G9: =IFERROR(AVERAGE('Jury D'!G9:G68),"") | J9: =IFERROR(AVERAGE('Jury A'!G9:G68,'Jury B'!G9:G68,'Jury C'!G9:G68,'Jury D'!G9:G68),"")
C10: Total des points | D10: ='Jury A'!R16 -> 0 | E10: ='Jury B'!R16 -> 0 | F10: ='Jury C'!R16 -> 0 | G10: ='Jury D'!R16 -> 0 | J10: =SUM('Jury A'!G9:G68,'Jury B'!G9:G68,'Jury C'!G9:G68,'Jury D'!G9:G68) -> 0
B11: Question 2 Artiste (-/6) | C11: Moyenne | D11: =IFERROR(AVERAGE('Jury A'!H9:H68),"") | E11: =IFERROR(AVERAGE('Jury B'!H9:H68),"") | F11: =IFERROR(AVERAGE('Jury C'!H9:H68),"") | G11: =IFERROR(AVERAGE('Jury D'!H9:H68),"") | J11: =IFERROR(AVERAGE('Jury A'!H9:H68,'Jury B'!H9:H68,'Jury C'!H9:H68,'Jury D'!H9:H68),"")
C12: Total des points | D12: ='Jury A'!R20 -> 0 | E12: ='Jury B'!R20 -> 0 | F12: ='Jury C'!R20 -> 0 | G12: ='Jury D'!R20 -> 0 | J12: =SUM('Jury A'!H9:H68,'Jury B'!H9:H68,'Jury C'!H9:H68,'Jury D'!H9:H68) -> 0
B13: Question 3 Ouverture (-/6) | C13: Moyenne | D13: =IFERROR(AVERAGE('Jury A'!I9:I68),"") | E13: =IFERROR(AVERAGE('Jury B'!I9:I68),"") | F13: =IFERROR(AVERAGE('Jury C'!I9:I68),"") | G13: =IFERROR(AVERAGE('Jury D'!I9:I68),"") | J13: =IFERROR(AVERAGE('Jury A'!I9:I68,'Jury B'!I9:I68,'Jury C'!I9:I68,'Jury D'!I9:I68),"")
C14: Total des points | D14: ='Jury A'!R24 -> 0 | E14: ='Jury B'!R24 -> 0 | F14: ='Jury C'!R24 -> 0 | G14: ='Jury D'!R24 -> 0 | J14: =SUM('Jury A'!I9:I68,'Jury B'!I9:I68,'Jury C'!I9:I68,'Jury D'!I9:I68) -> 0
B15: TOTAL | C15: Moyenne | D15: =IFERROR(AVERAGE('Jury A'!J9:J68),"") | E15: =IFERROR(AVERAGE('Jury B'!J9:J68),"") | F15: =IFERROR(AVERAGE('Jury C'!J9:J68),"") | G15: =IFERROR(AVERAGE('Jury D'!J9:J68),"") | J15: =IFERROR(AVERAGE('Jury A'!J9:J68,'Jury B'!J9:J68,'Jury C'!J9:J68,'Jury D'!J9:J68),"")
C16: Total des points | D16: =SUM(D10,D12,D14) -> 0 | E16: =SUM(E10,E12,E14) -> 0 | F16: =SUM(F10,F12,F14) -> 0 | G16: =SUM(G10,G12,G14) -> 0 | J16: =SUM(J10,J12,J14) -> 0
C17: Nombre de copies | D17: ='Jury A'!R31 -> 0 | E17: ='Jury B'!R31 -> 0 | F17: ='Jury C'!R31 -> 0 | G17: ='Jury D'!R31 -> 0 | J17: =SUM('Jury A'!R31,'Jury B'!R31,'Jury C'!R31,'Jury D'!R31) -> 0
C18: Note la plus haute | D18: ='Jury A'!R32 -> 0 | E18: ='Jury B'!R32 -> 0 | F18: ='Jury C'!R32 -> 0 | G18: ='Jury D'!R32 -> 0 | J18: =MAX('Jury A'!J9:J68,'Jury B'!J9:J68,'Jury C'!J9:J68,'Jury D'!J9:J68) -> 0
C19: Note la plus basse | D19: ='Jury A'!R33 -> 0 | E19: ='Jury B'!R33 -> 0 | F19: ='Jury C'!R33 -> 0 | G19: ='Jury D'!R33 -> 0 | J19: =MIN('Jury A'!J9:J68,'Jury B'!J9:J68,'Jury C'!J9:J68,'Jury D'!J9:J68) -> 0
C21: SUJET 2 | J21: SUJET 2
B22: Question 1 Analyse (-/8) | C22: Moyenne | D22: =IFERROR(AVERAGE('Jury A'!L9:L68),"") | E22: =IFERROR(AVERAGE('Jury B'!L9:L68),"") | F22: =IFERROR(AVERAGE('Jury C'!L9:L68),"") | G22: =IFERROR(AVERAGE('Jury D'!L9:L68),"") | J22: =IFERROR(AVERAGE('Jury A'!L9:L68,'Jury B'!L9:L68,'Jury C'!L9:L68,'Jury D'!L9:L68),"")
C23: Total des points | D23: ='Jury A'!U16 -> 0 | E23: ='Jury B'!U16 -> 0 | F23: ='Jury C'!U16 -> 0 | G23: ='Jury D'!U16 -> 0 | J23: =SUM('Jury A'!L9:L68,'Jury B'!L9:L68,'Jury C'!L9:L68,'Jury D'!L9:L68) -> 0
B24: Question 2 Artiste (-/6) | C24: Moyenne | D24: =IFERROR(AVERAGE('Jury A'!M9:M68),"") | E24: =IFERROR(AVERAGE('Jury B'!M9:M68),"") | F24: =IFERROR(AVERAGE('Jury C'!M9:M68),"") | G24: =IFERROR(AVERAGE('Jury D'!M9:M68),"") | J24: =IFERROR(AVERAGE('Jury A'!M9:M68,'Jury B'!M9:M68,'Jury C'!M9:M68,'Jury D'!M9:M68),"")
C25: Total des points | D25: ='Jury A'!U20 -> 0 | E25: ='Jury B'!U20 -> 0 | F25: ='Jury C'!U20 -> 0 | G25: ='Jury D'!U20 -> 0 | J25: =SUM('Jury A'!M9:M68,'Jury B'!M9:M68,'Jury C'!M9:M68,'Jury D'!M9:M68) -> 0
B26: Question 3 Ouverture (-/6) | C26: Moyenne | D26: =IFERROR(AVERAGE('Jury A'!N9:N68),"") | E26: =IFERROR(AVERAGE('Jury B'!N9:N68),"") | F26: =IFERROR(AVERAGE('Jury C'!N9:N68),"") | G26: =IFERROR(AVERAGE('Jury D'!N9:N68),"") | J26: =IFERROR(AVERAGE('Jury A'!N9:N68,'Jury B'!N9:N68,'Jury C'!N9:N68,'Jury D'!N9:N68),"")
C27: Total des points | D27: ='Jury A'!U24 -> 0 | E27: ='Jury B'!U24 -> 0 | F27: ='Jury C'!U24 -> 0 | G27: ='Jury D'!U24 -> 0 | J27: =SUM('Jury A'!N9:N68,'Jury B'!N9:N68,'Jury C'!N9:N68,'Jury D'!N9:N68) -> 0
B28: TOTAL | C28: Moyenne | D28: =IFERROR(AVERAGE('Jury A'!O9:O68),"") | E28: =IFERROR(AVERAGE('Jury B'!O9:O68),"") | F28: =IFERROR(AVERAGE('Jury C'!O9:O68),"") | G28: =IFERROR(AVERAGE('Jury D'!O9:O68),"") | J28: =IFERROR(AVERAGE('Jury A'!O9:O68,'Jury B'!O9:O68,'Jury C'!O9:O68,'Jury D'!O9:O68),"")
C29: Total des points | D29: =SUM(D23,D25,D27) -> 0 | E29: =SUM(E23,E25,E27) -> 0 | F29: =SUM(F23,F25,F27) -> 0 | G29: =SUM(G23,G25,G27) -> 0 | J29: =SUM(J23,J25,J27) -> 0
C30: Nombre de copies | D30: ='Jury A'!U31 -> 0 | E30: ='Jury B'!U31 -> 0 | F30: ='Jury C'!U31 -> 0 | G30: ='Jury D'!U31 -> 0 | J30: =SUM('Jury A'!U31,'Jury B'!U31,'Jury C'!U31,'Jury D'!U31) -> 0
C31: Note la plus haute | D31: ='Jury A'!U32 -> 0 | E31: ='Jury B'!U32 -> 0 | F31: ='Jury C'!U32 -> 0 | G31: ='Jury D'!U32 -> 0 | J31: =MAX('Jury A'!O9:O68,'Jury B'!O9:O68,'Jury C'!O9:O68,'Jury D'!O9:O68) -> 0
C32: Note la plus basse | D32: ='Jury A'!U33 -> 0 | E32: ='Jury B'!U33 -> 0 | F32: ='Jury C'!U33 -> 0 | G32: ='Jury D'!U33 -> 0 | J32: =MIN('Jury A'!O9:O68,'Jury B'!O9:O68,'Jury C'!O9:O68,'Jury D'!O9:O68) -> 0
B34: TOTAL Commissions | C34: Moyenne | D34: =IFERROR(AVERAGE('Jury A'!J9:J68,'Jury A'!O9:O68),"") | E34: =IFERROR(AVERAGE('Jury B'!J9:J68,'Jury B'!O9:O68),"") | F34: =IFERROR(AVERAGE('Jury C'!J9:J68,'Jury C'!O9:O68),"") | G34: =IFERROR(AVERAGE('Jury D'!J9:J68,'Jury D'!O9:O68),"") | I34: EPREUVE ECRITE | J34: =IFERROR(AVERAGE('Jury A'!J9:J68,'Jury A'!O9:O68,'Jury B'!J9:J68,'Jury B'!O9:O68,'Jury C'!J9:J68,'Jury C'!O9:O68,'Jury D'!J9:J68,'Jury D'!O9:O68),"") | K34: TOTAL CENTRE
C35: Total des points | D35: =SUM(D16,D29) -> 0 | E35: =SUM(E16,E29) -> 0 | F35: =SUM(F16,F29) -> 0 | G35: =SUM(G16,G29) -> 0 | J35: =SUM(J16,J29) -> 0
C36: Nombre de copies | D36: =SUM(D17,D30) -> 0 | E36: =SUM(E17,E30) -> 0 | F36: =SUM(F17,F30) -> 0 | G36: =SUM(G17,G30) -> 0 | J36: =SUM(J17,J30) -> 0
C37: Note la plus haute | D37: =MAX(D18,D31) -> 0 | E37: =MAX(E18,E31) -> 0 | F37: =MAX(F18,F31) -> 0 | G37: =MAX(G18,G31) -> 0 | J37: =MAX(J18,J31) -> 0
C38: Note la plus basse | D38: =MIN(D19,D32) -> 0 | E38: =MIN(E19,E32) -> 0 | F38: =MIN(F19,F32) -> 0 | G38: =MIN(G19,G32) -> 0 | J38: =MIN(J19,J32) -> 0
B41: Document réalisé par Michaël Haudan, Enseignant Agrégé d'Arts Plastiques

Sheet Jury A
C2: Statistiques des épreuves écrites du BAC Arts Plastiques enseignement de spécialité
C4: Indiquez ci-contre le numéro du jury ainsi que les noms des correcteurs | H4: Commission N° | L4: Noms correcteurs
G7: Sujet 1 | L7: Sujet 2
C8: N° Candidats | E8: ABSENTS | G8: Question 1 Analyse (-/8) | H8: Question 2 Artiste (-/6) | I8: Question 3 Ouverture (-/6) | J8: Note | L8: Question 1 Analyse (-/8) | M8: Question 2 Artiste (-/6) | N8: Question 3 Ouverture (-/6) | O8: Note
B9: 1 | E9: =IF(AND(C9<>"",COUNT(G9:N9)=0),"AB","") | J9: =IF(COUNTIF(G9:I9,""),"",CEILING(SUM(G9:I9),1)) | O9: =IF(COUNTIF(L9:N9,""),"",CEILING(SUM(L9:N9),1)) | Q9: Candidats
B10: 2 | E10: =IF(AND(C10<>"",COUNT(G10:N10)=0),"AB","") | J10: =IF(COUNTIF(G10:I10,""),"",CEILING(SUM(G10:I10),1)) | O10: =IF(COUNTIF(L10:N10,""),"",CEILING(SUM(L10:N10),1)) | Q10: Présents | R10: =R12-R11 -> 0
B11: 3 | E11: =IF(AND(C11<>"",COUNT(G11:N11)=0),"AB","") | J11: =IF(COUNTIF(G11:I11,""),"",CEILING(SUM(G11:I11),1)) | O11: =IF(COUNTIF(L11:N11,""),"",CEILING(SUM(L11:N11),1)) | Q11: Absents | R11: =SUM(COUNTIF(E9:E68,"AB")) -> 0
B12: 4 | E12: =IF(AND(C12<>"",COUNT(G12:N12)=0),"AB","") | J12: =IF(COUNTIF(G12:I12,""),"",CEILING(SUM(G12:I12),1)) | O12: =IF(COUNTIF(L12:N12,""),"",CEILING(SUM(L12:N12),1)) | Q12: Total | R12: =COUNTA(C9:C68) -> 0
B13: 5 | E13: =IF(AND(C13<>"",COUNT(G13:N13)=0),"AB","") | J13: =IF(COUNTIF(G13:I13,""),"",CEILING(SUM(G13:I13),1)) | O13: =IF(COUNTIF(L13:N13,""),"",CEILING(SUM(L13:N13),1))
B14: 6 | E14: =IF(AND(C14<>"",COUNT(G14:N14)=0),"AB","") | J14: =IF(COUNTIF(G14:I14,""),"",CEILING(SUM(G14:I14),1)) | O14: =IF(COUNTIF(L14:N14,""),"",CEILING(SUM(L14:N14),1)) | Q14: Sujet 1 | T14: Sujet 2
B15: 7 | E15: =IF(AND(C15<>"",COUNT(G15:N15)=0),"AB","") | J15: =IF(COUNTIF(G15:I15,""),"",CEILING(SUM(G15:I15),1)) | O15: =IF(COUNTIF(L15:N15,""),"",CEILING(SUM(L15:N15),1)) | Q15: Question 1 | T15: Question 1
B16: 8 | E16: =IF(AND(C16<>"",COUNT(G16:N16)=0),"AB","") | J16: =IF(COUNTIF(G16:I16,""),"",CEILING(SUM(G16:I16),1)) | O16: =IF(COUNTIF(L16:N16,""),"",CEILING(SUM(L16:N16),1)) | Q16: Total points | R16: =SUM(G9:G68) -> 0 | T16: Total points | U16: =SUM(L9:L68) -> 0
B17: 9 | E17: =IF(AND(C17<>"",COUNT(G17:N17)=0),"AB","") | J17: =IF(COUNTIF(G17:I17,""),"",CEILING(SUM(G17:I17),1)) | O17: =IF(COUNTIF(L17:N17,""),"",CEILING(SUM(L17:N17),1)) | Q17: Moyenne | R17: =IFERROR(AVERAGE(G9:G68),"") | T17: Moyenne | U17: =IFERROR(AVERAGE(L9:L68),"")
B18: 10 | E18: =IF(AND(C18<>"",COUNT(G18:N18)=0),"AB","") | J18: =IF(COUNTIF(G18:I18,""),"",CEILING(SUM(G18:I18),1)) | O18: =IF(COUNTIF(L18:N18,""),"",CEILING(SUM(L18:N18),1))
B19: 11 | E19: =IF(AND(C19<>"",COUNT(G19:N19)=0),"AB","") | J19: =IF(COUNTIF(G19:I19,""),"",CEILING(SUM(G19:I19),1)) | O19: =IF(COUNTIF(L19:N19,""),"",CEILING(SUM(L19:N19),1)) | Q19: Question 2 | T19: Question 2
B20: 12 | E20: =IF(AND(C20<>"",COUNT(G20:N20)=0),"AB","") | J20: =IF(COUNTIF(G20:I20,""),"",CEILING(SUM(G20:I20),1)) | O20: =IF(COUNTIF(L20:N20,""),"",CEILING(SUM(L20:N20),1)) | Q20: Total points | R20: =SUM(H9:H68) -> 0 | T20: Total points | U20: =SUM(M9:M68) -> 0
B21: 13 | E21: =IF(AND(C21<>"",COUNT(G21:N21)=0),"AB","") | J21: =IF(COUNTIF(G21:I21,""),"",CEILING(SUM(G21:I21),1)) | O21: =IF(COUNTIF(L21:N21,""),"",CEILING(SUM(L21:N21),1)) | Q21: Moyenne | R21: =IFERROR(AVERAGE(H9:H68),"") | T21: Moyenne | U21: =IFERROR(AVERAGE(M9:M68),"")
B22: 14 | E22: =IF(AND(C22<>"",COUNT(G22:N22)=0),"AB","") | J22: =IF(COUNTIF(G22:I22,""),"",CEILING(SUM(G22:I22),1)) | O22: =IF(COUNTIF(L22:N22,""),"",CEILING(SUM(L22:N22),1))
B23: 15 | E23: =IF(AND(C23<>"",COUNT(G23:N23)=0),"AB","") | J23: =IF(COUNTIF(G23:I23,""),"",CEILING(SUM(G23:I23),1)) | O23: =IF(COUNTIF(L23:N23,""),"",CEILING(SUM(L23:N23),1)) | Q23: Question 3 | T23: Question 3
B24: 16 | E24: =IF(AND(C24<>"",COUNT(G24:N24)=0),"AB","") | J24: =IF(COUNTIF(G24:I24,""),"",CEILING(SUM(G24:I24),1)) | O24: =IF(COUNTIF(L24:N24,""),"",CEILING(SUM(L24:N24),1)) | Q24: Total points | R24: =SUM(I9:I68) -> 0 | T24: Total points | U24: =SUM(N9:N68) -> 0
B25: 17 | E25: =IF(AND(C25<>"",COUNT(G25:N25)=0),"AB","") | J25: =IF(COUNTIF(G25:I25,""),"",CEILING(SUM(G25:I25),1)) | O25: =IF(COUNTIF(L25:N25,""),"",CEILING(SUM(L25:N25),1)) | Q25: Moyenne | R25: =IFERROR(AVERAGE(I9:I68),"") | T25: Moyenne | U25: =IFERROR(AVERAGE(N9:N68),"")
B26: 18 | E26: =IF(AND(C26<>"",COUNT(G26:N26)=0),"AB","") | J26: =IF(COUNTIF(G26:I26,""),"",CEILING(SUM(G26:I26),1)) | O26: =IF(COUNTIF(L26:N26,""),"",CEILING(SUM(L26:N26),1))
B27: 19 | E27: =IF(AND(C27<>"",COUNT(G27:N27)=0),"AB","") | J27: =IF(COUNTIF(G27:I27,""),"",CEILING(SUM(G27:I27),1)) | O27: =IF(COUNTIF(L27:N27,""),"",CEILING(SUM(L27:N27),1)) | Q27: Moyenne Sujet 1 | T27: Moyenne Sujet 2
B28: 20 | E28: =IF(AND(C28<>"",COUNT(G28:N28)=0),"AB","") | J28: =IF(COUNTIF(G28:I28,""),"",CEILING(SUM(G28:I28),1)) | O28: =IF(COUNTIF(L28:N28,""),"",CEILING(SUM(L28:N28),1)) | Q28: Total points | R28: =SUM(G9:I68) -> 0 | T28: Total points | U28: =SUM(L9:N68) -> 0
B29: 21 | E29: =IF(AND(C29<>"",COUNT(G29:N29)=0),"AB","") | J29: =IF(COUNTIF(G29:I29,""),"",CEILING(SUM(G29:I29),1)) | O29: =IF(COUNTIF(L29:N29,""),"",CEILING(SUM(L29:N29),1)) | Q29: Moyenne | R29: =IFERROR(AVERAGE(J9:J68),"") | T29: Moyenne | U29: =IFERROR(AVERAGE(O9:O68),"")
B30: 22 | E30: =IF(AND(C30<>"",COUNT(G30:N30)=0),"AB","") | J30: =IF(COUNTIF(G30:I30,""),"",CEILING(SUM(G30:I30),1)) | O30: =IF(COUNTIF(L30:N30,""),"",CEILING(SUM(L30:N30),1))
B31: 23 | E31: =IF(AND(C31<>"",COUNT(G31:N31)=0),"AB","") | J31: =IF(COUNTIF(G31:I31,""),"",CEILING(SUM(G31:I31),1)) | O31: =IF(COUNTIF(L31:N31,""),"",CEILING(SUM(L31:N31),1)) | Q31: Nbre Copies | R31: =COUNT(G9:G68) -> 0 | T31: Nbre Copies | U31: =COUNT(M9:M68) -> 0
B32: 24 | E32: =IF(AND(C32<>"",COUNT(G32:N32)=0),"AB","") | J32: =IF(COUNTIF(G32:I32,""),"",CEILING(SUM(G32:I32),1)) | O32: =IF(COUNTIF(L32:N32,""),"",CEILING(SUM(L32:N32),1)) | Q32: Note max | R32: =MAX(J9:J68) -> 0 | T32: Note max | U32: =MAX(O9:O68) -> 0
B33: 25 | E33: =IF(AND(C33<>"",COUNT(G33:N33)=0),"AB","") | J33: =IF(COUNTIF(G33:I33,""),"",CEILING(SUM(G33:I33),1)) | O33: =IF(COUNTIF(L33:N33,""),"",CEILING(SUM(L33:N33),1)) | Q33: Note min | R33: =MIN(J9:J68) -> 0 | T33: Note min | U33: =MIN(O9:O68) -> 0
B34: 26 | E34: =IF(AND(C34<>"",COUNT(G34:N34)=0),"AB","") | J34: =IF(COUNTIF(G34:I34,""),"",CEILING(SUM(G34:I34),1)) | O34: =IF(COUNTIF(L34:N34,""),"",CEILING(SUM(L34:N34),1))
B35: 27 | E35: =IF(AND(C35<>"",COUNT(G35:N35)=0),"AB","") | J35: =IF(COUNTIF(G35:I35,""),"",CEILING(SUM(G35:I35),1)) | O35: =IF(COUNTIF(L35:N35,""),"",CEILING(SUM(L35:N35),1))
B36: 28 | E36: =IF(AND(C36<>"",COUNT(G36:N36)=0),"AB","") | J36: =IF(COUNTIF(G36:I36,""),"",CEILING(SUM(G36:I36),1)) | O36: =IF(COUNTIF(L36:N36,""),"",CEILING(SUM(L36:N36),1))
B37: 29 | E37: =IF(AND(C37<>"",COUNT(G37:N37)=0),"AB","") | J37: =IF(COUNTIF(G37:I37,""),"",CEILING(SUM(G37:I37),1)) | O37: =IF(COUNTIF(L37:N37,""),"",CEILING(SUM(L37:N37),1))
B38: 30 | E38: =IF(AND(C38<>"",COUNT(G38:N38)=0),"AB","") | J38: =IF(COUNTIF(G38:I38,""),"",CEILING(SUM(G38:I38),1)) | O38: =IF(COUNTIF(L38:N38,""),"",CEILING(SUM(L38:N38),1))
B39: 31 | E39: =IF(AND(C39<>"",COUNT(G39:N39)=0),"AB","") | J39: =IF(COUNTIF(G39:I39,""),"",CEILING(SUM(G39:I39),1)) | O39: =IF(COUNTIF(L39:N39,""),"",CEILING(SUM(L39:N39),1))
B40: 32 | E40: =IF(AND(C40<>"",COUNT(G40:N40)=0),"AB","") | J40: =IF(COUNTIF(G40:I40,""),"",CEILING(SUM(G40:I40),1)) | O40: =IF(COUNTIF(L40:N40,""),"",CEILING(SUM(L40:N40),1))
B41: 33 | E41: =IF(AND(C41<>"",COUNT(G41:N41)=0),"AB","") | J41: =IF(COUNTIF(G41:I41,""),"",CEILING(SUM(G41:I41),1)) | O41: =IF(COUNTIF(L41:N41,""),"",CEILING(SUM(L41:N41),1))
B42: 34 | E42: =IF(AND(C42<>"",COUNT(G42:N42)=0),"AB","") | J42: =IF(COUNTIF(G42:I42,""),"",CEILING(SUM(G42:I42),1)) | O42: =IF(COUNTIF(L42:N42,""),"",CEILING(SUM(L42:N42),1))
B43: 35 | E43: =IF(AND(C43<>"",COUNT(G43:N43)=0),"AB","") | J43: =IF(COUNTIF(G43:I43,""),"",CEILING(SUM(G43:I43),1)) | O43: =IF(COUNTIF(L43:N43,""),"",CEILING(SUM(L43:N43),1))
B44: 36 | E44: =IF(AND(C44<>"",COUNT(G44:N44)=0),"AB","") | J44: =IF(COUNTIF(G44:I44,""),"",CEILING(SUM(G44:I44),1)) | O44: =IF(COUNTIF(L44:N44,""),"",CEILING(SUM(L44:N44),1))
B45: 37 | E45: =IF(AND(C45<>"",COUNT(G45:N45)=0),"AB","") | J45: =IF(COUNTIF(G45:I45,""),"",CEILING(SUM(G45:I45),1)) | O45: =IF(COUNTIF(L45:N45,""),"",CEILING(SUM(L45:N45),1))
... B68: 60 | E68: =IF(AND(C68<>"",COUNT(G68:N68)=0),"AB","") | J68: =IF(COUNTIF(G68:I68,""),"",CEILING(SUM(G68:I68),1)) | O68: =IF(COUNTIF(L68:N68,""),"",CEILING(SUM(L68:N68),1))

Sheet Jury B
C2: Statistiques des épreuves écrites du BAC Arts Plastiques enseignement de spécialité
C4: Indiquez ci-contre le numéro du jury ainsi que les noms des correcteurs | H4: Commission N° | L4: Noms correcteurs
G7: Sujet 1 | L7: Sujet 2
C8: N° Candidats | E8: ABSENTS | G8: Question 1 Analyse (-/8) | H8: Question 2 Artiste (-/6) | I8: Question 3 Ouverture (-/6) | J8: Note | L8: Question 1 Analyse (-/8) | M8: Question 2 Artiste (-/6) | N8: Question 3 Ouverture (-/6) | O8: Note
B9: 1 | E9: =IF(AND(C9<>"",COUNT(G9:N9)=0),"AB","") | J9: =IF(COUNTIF(G9:I9,""),"",CEILING(SUM(G9:I9),1)) | O9: =IF(COUNTIF(L9:N9,""),"",CEILING(SUM(L9:N9),1)) | Q9: Candidats
B10: 2 | E10: =IF(AND(C10<>"",COUNT(G10:N10)=0),"AB","") | J10: =IF(COUNTIF(G10:I10,""),"",CEILING(SUM(G10:I10),1)) | O10: =IF(COUNTIF(L10:N10,""),"",CEILING(SUM(L10:N10),1)) | Q10: Présents | R10: =R12-R11 -> 0
B11: 3 | E11: =IF(AND(C11<>"",COUNT(G11:N11)=0),"AB","") | J11: =IF(COUNTIF(G11:I11,""),"",CEILING(SUM(G11:I11),1)) | O11: =IF(COUNTIF(L11:N11,""),"",CEILING(SUM(L11:N11),1)) | Q11: Absents | R11: =SUM(COUNTIF(E9:E68,"AB")) -> 0
B12: 4 | E12: =IF(AND(C12<>"",COUNT(G12:N12)=0),"AB","") | J12: =IF(COUNTIF(G12:I12,""),"",CEILING(SUM(G12:I12),1)) | O12: =IF(COUNTIF(L12:N12,""),"",CEILING(SUM(L12:N12),1)) | Q12: Total | R12: =COUNTA(C9:C68) -> 0
B13: 5 | E13: =IF(AND(C13<>"",COUNT(G13:N13)=0),"AB","") | J13: =IF(COUNTIF(G13:I13,""),"",CEILING(SUM(G13:I13),1)) | O13: =IF(COUNTIF(L13:N13,""),"",CEILING(SUM(L13:N13),1))
B14: 6 | E14: =IF(AND(C14<>"",COUNT(G14:N14)=0),"AB","") | J14: =IF(COUNTIF(G14:I14,""),"",CEILING(SUM(G14:I14),1)) | O14: =IF(COUNTIF(L14:N14,""),"",CEILING(SUM(L14:N14),1)) | Q14: Sujet 1 | T14: Sujet 2
B15: 7 | E15: =IF(AND(C15<>"",COUNT(G15:N15)=0),"AB","") | J15: =IF(COUNTIF(G15:I15,""),"",CEILING(SUM(G15:I15),1)) | O15: =IF(COUNTIF(L15:N15,""),"",CEILING(SUM(L15:N15),1)) | Q15: Question 1 | T15: Question 1
B16: 8 | E16: =IF(AND(C16<>"",COUNT(G16:N16)=0),"AB","") | J16: =IF(COUNTIF(G16:I16,""),"",CEILING(SUM(G16:I16),1)) | O16: =IF(COUNTIF(L16:N16,""),"",CEILING(SUM(L16:N16),1)) | Q16: Total points | R16: =SUM(G9:G68) -> 0 | T16: Total points | U16: =SUM(L9:L68) -> 0
B17: 9 | E17: =IF(AND(C17<>"",COUNT(G17:N17)=0),"AB","") | J17: =IF(COUNTIF(G17:I17,""),"",CEILING(SUM(G17:I17),1)) | O17: =IF(COUNTIF(L17:N17,""),"",CEILING(SUM(L17:N17),1)) | Q17: Moyenne | R17: =IFERROR(AVERAGE(G9:G68),"") | T17: Moyenne | U17: =IFERROR(AVERAGE(L9:L68),"")
B18: 10 | E18: =IF(AND(C18<>"",COUNT(G18:N18)=0),"AB","") | J18: =IF(COUNTIF(G18:I18,""),"",CEILING(SUM(G18:I18),1)) | O18: =IF(COUNTIF(L18:N18,""),"",CEILING(SUM(L18:N18),1))
B19: 11 | E19: =IF(AND(C19<>"",COUNT(G19:N19)=0),"AB","") | J19: =IF(COUNTIF(G19:I19,""),"",CEILING(SUM(G19:I19),1)) | O19: =IF(COUNTIF(L19:N19,""),"",CEILING(SUM(L19:N19),1)) | Q19: Question 2 | T19: Question 2
B20: 12 | E20: =IF(AND(C20<>"",COUNT(G20:N20)=0),"AB","") | J20: =IF(COUNTIF(G20:I20,""),"",CEILING(SUM(G20:I20),1)) | O20: =IF(COUNTIF(L20:N20,""),"",CEILING(SUM(L20:N20),1)) | Q20: Total points | R20: =SUM(H9:H68) -> 0 | T20: Total points | U20: =SUM(M9:M68) -> 0
B21: 13 | E21: =IF(AND(C21<>"",COUNT(G21:N21)=0),"AB","") | J21: =IF(COUNTIF(G21:I21,""),"",CEILING(SUM(G21:I21),1)) | O21: =IF(COUNTIF(L21:N21,""),"",CEILING(SUM(L21:N21),1)) | Q21: Moyenne | R21: =IFERROR(AVERAGE(H9:H68),"") | T21: Moyenne | U21: =IFERROR(AVERAGE(M9:M68),"")
B22: 14 | E22: =IF(AND(C22<>"",COUNT(G22:N22)=0),"AB","") | J22: =IF(COUNTIF(G22:I22,""),"",CEILING(SUM(G22:I22),1)) | O22: =IF(COUNTIF(L22:N22,""),"",CEILING(SUM(L22:N22),1))
B23: 15 | E23: =IF(AND(C23<>"",COUNT(G23:N23)=0),"AB","") | J23: =IF(COUNTIF(G23:I23,""),"",CEILING(SUM(G23:I23),1)) | O23: =IF(COUNTIF(L23:N23,""),"",CEILING(SUM(L23:N23),1)) | Q23: Question 3 | T23: Question 3
B24: 16 | E24: =IF(AND(C24<>"",COUNT(G24:N24)=0),"AB","") | J24: =IF(COUNTIF(G24:I24,""),"",CEILING(SUM(G24:I24),1)) | O24: =IF(COUNTIF(L24:N24,""),"",CEILING(SUM(L24:N24),1)) | Q24: Total points | R24: =SUM(I9:I68) -> 0 | T24: Total points | U24: =SUM(N9:N68) -> 0
B25: 17 | E25: =IF(AND(C25<>"",COUNT(G25:N25)=0),"AB","") | J25: =IF(COUNTIF(G25:I25,""),"",CEILING(SUM(G25:I25),1)) | O25: =IF(COUNTIF(L25:N25,""),"",CEILING(SUM(L25:N25),1)) | Q25: Moyenne | R25: =IFERROR(AVERAGE(I9:I68),"") | T25: Moyenne | U25: =IFERROR(AVERAGE(N9:N68),"")
B26: 18 | E26: =IF(AND(C26<>"",COUNT(G26:N26)=0),"AB","") | J26: =IF(COUNTIF(G26:I26,""),"",CEILING(SUM(G26:I26),1)) | O26: =IF(COUNTIF(L26:N26,""),"",CEILING(SUM(L26:N26),1))
B27: 19 | E27: =IF(AND(C27<>"",COUNT(G27:N27)=0),"AB","") | J27: =IF(COUNTIF(G27:I27,""),"",CEILING(SUM(G27:I27),1)) | O27: =IF(COUNTIF(L27:N27,""),"",CEILING(SUM(L27:N27),1)) | Q27: Moyenne Sujet 1 | T27: Moyenne Sujet 2
B28: 20 | E28: =IF(AND(C28<>"",COUNT(G28:N28)=0),"AB","") | J28: =IF(COUNTIF(G28:I28,""),"",CEILING(SUM(G28:I28),1)) | O28: =IF(COUNTIF(L28:N28,""),"",CEILING(SUM(L28:N28),1)) | Q28: Total points | R28: =SUM(G9:I68) -> 0 | T28: Total points | U28: =SUM(L9:N68) -> 0
B29: 21 | E29: =IF(AND(C29<>"",COUNT(G29:N29)=0),"AB","") | J29: =IF(COUNTIF(G29:I29,""),"",CEILING(SUM(G29:I29),1)) | O29: =IF(COUNTIF(L29:N29,""),"",CEILING(SUM(L29:N29),1)) | Q29: Moyenne | R29: =IFERROR(AVERAGE(J9:J68),"") | T29: Moyenne | U29: =IFERROR(AVERAGE(O9:O68),"")
B30: 22 | E30: =IF(AND(C30<>"",COUNT(G30:N30)=0),"AB","") | J30: =IF(COUNTIF(G30:I30,""),"",CEILING(SUM(G30:I30),1)) | O30: =IF(COUNTIF(L30:N30,""),"",CEILING(SUM(L30:N30),1))
B31: 23 | E31: =IF(AND(C31<>"",COUNT(G31:N31)=0),"AB","") | J31: =IF(COUNTIF(G31:I31,""),"",CEILING(SUM(G31:I31),1)) | O31: =IF(COUNTIF(L31:N31,""),"",CEILING(SUM(L31:N31),1)) | Q31: Nbre Copies | R31: =COUNT(G9:G68) -> 0 | T31: Nbre Copies | U31: =COUNT(M9:M68) -> 0
B32: 24 | E32: =IF(AND(C32<>"",COUNT(G32:N32)=0),"AB","") | J32: =IF(COUNTIF(G32:I32,""),"",CEILING(SUM(G32:I32),1)) | O32: =IF(COUNTIF(L32:N32,""),"",CEILING(SUM(L32:N32),1)) | Q32: Note max | R32: =MAX(J9:J68) -> 0 | T32: Note max | U32: =MAX(O9:O68) -> 0
B33: 25 | E33: =IF(AND(C33<>"",COUNT(G33:N33)=0),"AB","") | J33: =IF(COUNTIF(G33:I33,""),"",CEILING(SUM(G33:I33),1)) | O33: =IF(COUNTIF(L33:N33,""),"",CEILING(SUM(L33:N33),1)) | Q33: Note min | R33: =MIN(J9:J68) -> 0 | T33: Note min | U33: =MIN(O9:O68) -> 0
B34: 26 | E34: =IF(AND(C34<>"",COUNT(G34:N34)=0),"AB","") | J34: =IF(COUNTIF(G34:I34,""),"",CEILING(SUM(G34:I34),1)) | O34: =IF(COUNTIF(L34:N34,""),"",CEILING(SUM(L34:N34),1))
B35: 27 | E35: =IF(AND(C35<>"",COUNT(G35:N35)=0),"AB","") | J35: =IF(COUNTIF(G35:I35,""),"",CEILING(SUM(G35:I35),1)) | O35: =IF(COUNTIF(L35:N35,""),"",CEILING(SUM(L35:N35),1))
B36: 28 | E36: =IF(AND(C36<>"",COUNT(G36:N36)=0),"AB","") | J36: =IF(COUNTIF(G36:I36,""),"",CEILING(SUM(G36:I36),1)) | O36: =IF(COUNTIF(L36:N36,""),"",CEILING(SUM(L36:N36),1))
B37: 29 | E37: =IF(AND(C37<>"",COUNT(G37:N37)=0),"AB","") | J37: =IF(COUNTIF(G37:I37,""),"",CEILING(SUM(G37:I37),1)) | O37: =IF(COUNTIF(L37:N37,""),"",CEILING(SUM(L37:N37),1))
B38: 30 | E38: =IF(AND(C38<>"",COUNT(G38:N38)=0),"AB","") | J38: =IF(COUNTIF(G38:I38,""),"",CEILING(SUM(G38:I38),1)) | O38: =IF(COUNTIF(L38:N38,""),"",CEILING(SUM(L38:N38),1))
B39: 31 | E39: =IF(AND(C39<>"",COUNT(G39:N39)=0),"AB","") | J39: =IF(COUNTIF(G39:I39,""),"",CEILING(SUM(G39:I39),1)) | O39: =IF(COUNTIF(L39:N39,""),"",CEILING(SUM(L39:N39),1))
B40: 32 | E40: =IF(AND(C40<>"",COUNT(G40:N40)=0),"AB","") | J40: =IF(COUNTIF(G40:I40,""),"",CEILING(SUM(G40:I40),1)) | O40: =IF(COUNTIF(L40:N40,""),"",CEILING(SUM(L40:N40),1))
B41: 33 | E41: =IF(AND(C41<>"",COUNT(G41:N41)=0),"AB","") | J41: =IF(COUNTIF(G41:I41,""),"",CEILING(SUM(G41:I41),1)) | O41: =IF(COUNTIF(L41:N41,""),"",CEILING(SUM(L41:N41),1))
B42: 34 | E42: =IF(AND(C42<>"",COUNT(G42:N42)=0),"AB","") | J42: =IF(COUNTIF(G42:I42,""),"",CEILING(SUM(G42:I42),1)) | O42: =IF(COUNTIF(L42:N42,""),"",CEILING(SUM(L42:N42),1))
B43: 35 | E43: =IF(AND(C43<>"",COUNT(G43:N43)=0),"AB","") | J43: =IF(COUNTIF(G43:I43,""),"",CEILING(SUM(G43:I43),1)) | O43: =IF(COUNTIF(L43:N43,""),"",CEILING(SUM(L43:N43),1))
B44: 36 | E44: =IF(AND(C44<>"",COUNT(G44:N44)=0),"AB","") | J44: =IF(COUNTIF(G44:I44,""),"",CEILING(SUM(G44:I44),1)) | O44: =IF(COUNTIF(L44:N44,""),"",CEILING(SUM(L44:N44),1))
B45: 37 | E45: =IF(AND(C45<>"",COUNT(G45:N45)=0),"AB","") | J45: =IF(COUNTIF(G45:I45,""),"",CEILING(SUM(G45:I45),1)) | O45: =IF(COUNTIF(L45:N45,""),"",CEILING(SUM(L45:N45),1))
... B68: 60 | E68: =IF(AND(C68<>"",COUNT(G68:N68)=0),"AB","") | J68: =IF(COUNTIF(G68:I68,""),"",CEILING(SUM(G68:I68),1)) | O68: =IF(COUNTIF(L68:N68,""),"",CEILING(SUM(L68:N68),1))

Sheet Jury C
C2: Statistiques des épreuves écrites du BAC Arts Plastiques enseignement de spécialité
C4: Indiquez ci-contre le numéro du jury ainsi que les noms des correcteurs | H4: Commission N° | L4: Noms correcteurs
G7: Sujet 1 | L7: Sujet 2
C8: N° Candidats | E8: ABSENTS | G8: Question 1 Analyse (-/8) | H8: Question 2 Artiste (-/6) | I8: Question 3 Ouverture (-/6) | J8: Note | L8: Question 1 Analyse (-/8) | M8: Question 2 Artiste (-/6) | N8: Question 3 Ouverture (-/6) | O8: Note
B9: 1 | E9: =IF(AND(C9<>"",COUNT(G9:N9)=0),"AB","") | J9: =IF(COUNTIF(G9:I9,""),"",CEILING(SUM(G9:I9),1)) | O9: =IF(COUNTIF(L9:N9,""),"",CEILING(SUM(L9:N9),1)) | Q9: Candidats
B10: 2 | E10: =IF(AND(C10<>"",COUNT(G10:N10)=0),"AB","") | J10: =IF(COUNTIF(G10:I10,""),"",CEILING(SUM(G10:I10),1)) | O10: =IF(COUNTIF(L10:N10,""),"",CEILING(SUM(L10:N10),1)) | Q10: Présents | R10: =R12-R11 -> 0
B11: 3 | E11: =IF(AND(C11<>"",COUNT(G11:N11)=0),"AB","") | J11: =IF(COUNTIF(G11:I11,""),"",CEILING(SUM(G11:I11),1)) | O11: =IF(COUNTIF(L11:N11,""),"",CEILING(SUM(L11:N11),1)) | Q11: Absents | R11: =SUM(COUNTIF(E9:E68,"AB")) -> 0
B12: 4 | E12: =IF(AND(C12<>"",COUNT(G12:N12)=0),"AB","") | J12: =IF(COUNTIF(G12:I12,""),"",CEILING(SUM(G12:I12),1)) | O12: =IF(COUNTIF(L12:N12,""),"",CEILING(SUM(L12:N12),1)) | Q12: Total | R12: =COUNTA(C9:C68) -> 0
B13: 5 | E13: =IF(AND(C13<>"",COUNT(G13:N13)=0),"AB","") | J13: =IF(COUNTIF(G13:I13,""),"",CEILING(SUM(G13:I13),1)) | O13: =IF(COUNTIF(L13:N13,""),"",CEILING(SUM(L13:N13),1))
B14: 6 | E14: =IF(AND(C14<>"",COUNT(G14:N14)=0),"AB","") | J14: =IF(COUNTIF(G14:I14,""),"",CEILING(SUM(G14:I14),1)) | O14: =IF(COUNTIF(L14:N14,""),"",CEILING(SUM(L14:N14),1)) | Q14: Sujet 1 | T14: Sujet 2
B15: 7 | E15: =IF(AND(C15<>"",COUNT(G15:N15)=0),"AB","") | J15: =IF(COUNTIF(G15:I15,""),"",CEILING(SUM(G15:I15),1)) | O15: =IF(COUNTIF(L15:N15,""),"",CEILING(SUM(L15:N15),1)) | Q15: Question 1 | T15: Question 1
B16: 8 | E16: =IF(AND(C16<>"",COUNT(G16:N16)=0),"AB","") | J16: =IF(COUNTIF(G16:I16,""),"",CEILING(SUM(G16:I16),1)) | O16: =IF(COUNTIF(L16:N16,""),"",CEILING(SUM(L16:N16),1)) | Q16: Total points | R16: =SUM(G9:G68) -> 0 | T16: Total points | U16: =SUM(L9:L68) -> 0
B17: 9 | E17: =IF(AND(C17<>"",COUNT(G17:N17)=0),"AB","") | J17: =IF(COUNTIF(G17:I17,""),"",CEILING(SUM(G17:I17),1)) | O17: =IF(COUNTIF(L17:N17,""),"",CEILING(SUM(L17:N17),1)) | Q17: Moyenne | R17: =IFERROR(AVERAGE(G9:G68),"") | T17: Moyenne | U17: =IFERROR(AVERAGE(L9:L68),"")
B18: 10 | E18: =IF(AND(C18<>"",COUNT(G18:N18)=0),"AB","") | J18: =IF(COUNTIF(G18:I18,""),"",CEILING(SUM(G18:I18),1)) | O18: =IF(COUNTIF(L18:N18,""),"",CEILING(SUM(L18:N18),1))
B19: 11 | E19: =IF(AND(C19<>"",COUNT(G19:N19)=0),"AB","") | J19: =IF(COUNTIF(G19:I19,""),"",CEILING(SUM(G19:I19),1)) | O19: =IF(COUNTIF(L19:N19,""),"",CEILING(SUM(L19:N19),1)) | Q19: Question 2 | T19: Question 2
B20: 12 | E20: =IF(AND(C20<>"",COUNT(G20:N20)=0),"AB","") | J20: =IF(COUNTIF(G20:I20,""),"",CEILING(SUM(G20:I20),1)) | O20: =IF(COUNTIF(L20:N20,""),"",CEILING(SUM(L20:N20),1)) | Q20: Total points | R20: =SUM(H9:H68) -> 0 | T20: Total points | U20: =SUM(M9:M68) -> 0
B21: 13 | E21: =IF(AND(C21<>"",COUNT(G21:N21)=0),"AB","") | J21: =IF(COUNTIF(G21:I21,""),"",CEILING(SUM(G21:I21),1)) | O21: =IF(COUNTIF(L21:N21,""),"",CEILING(SUM(L21:N21),1)) | Q21: Moyenne | R21: =IFERROR(AVERAGE(H9:H68),"") | T21: Moyenne | U21: =IFERROR(AVERAGE(M9:M68),"")
B22: 14 | E22: =IF(AND(C22<>"",COUNT(G22:N22)=0),"AB","") | J22: =IF(COUNTIF(G22:I22,""),"",CEILING(SUM(G22:I22),1)) | O22: =IF(COUNTIF(L22:N22,""),"",CEILING(SUM(L22:N22),1))
B23: 15 | E23: =IF(AND(C23<>"",COUNT(G23:N23)=0),"AB","") | J23: =IF(COUNTIF(G23:I23,""),"",CEILING(SUM(G23:I23),1)) | O23: =IF(COUNTIF(L23:N23,""),"",CEILING(SUM(L23:N23),1)) | Q23: Question 3 | T23: Question 3
B24: 16 | E24: =IF(AND(C24<>"",COUNT(G24:N24)=0),"AB","") | J24: =IF(COUNTIF(G24:I24,""),"",CEILING(SUM(G24:I24),1)) | O24: =IF(COUNTIF(L24:N24,""),"",CEILING(SUM(L24:N24),1)) | Q24: Total points | R24: =SUM(I9:I68) -> 0 | T24: Total points | U24: =SUM(N9:N68) -> 0
B25: 17 | E25: =IF(AND(C25<>"",COUNT(G25:N25)=0),"AB","") | J25: =IF(COUNTIF(G25:I25,""),"",CEILING(SUM(G25:I25),1)) | O25: =IF(COUNTIF(L25:N25,""),"",CEILING(SUM(L25:N25),1)) | Q25: Moyenne | R25: =IFERROR(AVERAGE(I9:I68),"") | T25: Moyenne | U25: =IFERROR(AVERAGE(N9:N68),"")
B26: 18 | E26: =IF(AND(C26<>"",COUNT(G26:N26)=0),"AB","") | J26: =IF(COUNTIF(G26:I26,""),"",CEILING(SUM(G26:I26),1)) | O26: =IF(COUNTIF(L26:N26,""),"",CEILING(SUM(L26:N26),1))
B27: 19 | E27: =IF(AND(C27<>"",COUNT(G27:N27)=0),"AB","") | J27: =IF(COUNTIF(G27:I27,""),"",CEILING(SUM(G27:I27),1)) | O27: =IF(COUNTIF(L27:N27,""),"",CEILING(SUM(L27:N27),1)) | Q27: Moyenne Sujet 1 | T27: Moyenne Sujet 2
B28: 20 | E28: =IF(AND(C28<>"",COUNT(G28:N28)=0),"AB","") | J28: =IF(COUNTIF(G28:I28,""),"",CEILING(SUM(G28:I28),1)) | O28: =IF(COUNTIF(L28:N28,""),"",CEILING(SUM(L28:N28),1)) | Q28: Total points | R28: =SUM(G9:I68) -> 0 | T28: Total points | U28: =SUM(L9:N68) -> 0
B29: 21 | E29: =IF(AND(C29<>"",COUNT(G29:N29)=0),"AB","") | J29: =IF(COUNTIF(G29:I29,""),"",CEILING(SUM(G29:I29),1)) | O29: =IF(COUNTIF(L29:N29,""),"",CEILING(SUM(L29:N29),1)) | Q29: Moyenne | R29: =IFERROR(AVERAGE(J9:J68),"") | T29: Moyenne | U29: =IFERROR(AVERAGE(O9:O68),"")
B30: 22 | E30: =IF(AND(C30<>"",COUNT(G30:N30)=0),"AB","") | J30: =IF(COUNTIF(G30:I30,""),"",CEILING(SUM(G30:I30),1)) | O30: =IF(COUNTIF(L30:N30,""),"",CEILING(SUM(L30:N30),1))
B31: 23 | E31: =IF(AND(C31<>"",COUNT(G31:N31)=0),"AB","") | J31: =IF(COUNTIF(G31:I31,""),"",CEILING(SUM(G31:I31),1)) | O31: =IF(COUNTIF(L31:N31,""),"",CEILING(SUM(L31:N31),1)) | Q31: Nbre Copies | R31: =COUNT(G9:G68) -> 0 | T31: Nbre Copies | U31: =COUNT(M9:M68) -> 0
B32: 24 | E32: =IF(AND(C32<>"",COUNT(G32:N32)=0),"AB","") | J32: =IF(COUNTIF(G32:I32,""),"",CEILING(SUM(G32:I32),1)) | O32: =IF(COUNTIF(L32:N32,""),"",CEILING(SUM(L32:N32),1)) | Q32: Note max | R32: =MAX(J9:J68) -> 0 | T32: Note max | U32: =MAX(O9:O68) -> 0
B33: 25 | E33: =IF(AND(C33<>"",COUNT(G33:N33)=0),"AB","") | J33: =IF(COUNTIF(G33:I33,""),"",CEILING(SUM(G33:I33),1)) | O33: =IF(COUNTIF(L33:N33,""),"",CEILING(SUM(L33:N33),1)) | Q33: Note min | R33: =MIN(J9:J68) -> 0 | T33: Note min | U33: =MIN(O9:O68) -> 0
B34: 26 | E34: =IF(AND(C34<>"",COUNT(G34:N34)=0),"AB","") | J34: =IF(COUNTIF(G34:I34,""),"",CEILING(SUM(G34:I34),1)) | O34: =IF(COUNTIF(L34:N34,""),"",CEILING(SUM(L34:N34),1))
B35: 27 | E35: =IF(AND(C35<>"",COUNT(G35:N35)=0),"AB","") | J35: =IF(COUNTIF(G35:I35,""),"",CEILING(SUM(G35:I35),1)) | O35: =IF(COUNTIF(L35:N35,""),"",CEILING(SUM(L35:N35),1))
B36: 28 | E36: =IF(AND(C36<>"",COUNT(G36:N36)=0),"AB","") | J36: =IF(COUNTIF(G36:I36,""),"",CEILING(SUM(G36:I36),1)) | O36: =IF(COUNTIF(L36:N36,""),"",CEILING(SUM(L36:N36),1))
B37: 29 | E37: =IF(AND(C37<>"",COUNT(G37:N37)=0),"AB","") | J37: =IF(COUNTIF(G37:I37,""),"",CEILING(SUM(G37:I37),1)) | O37: =IF(COUNTIF(L37:N37,""),"",CEILING(SUM(L37:N37),1))
B38: 30 | E38: =IF(AND(C38<>"",COUNT(G38:N38)=0),"AB","") | J38: =IF(COUNTIF(G38:I38,""),"",CEILING(SUM(G38:I38),1)) | O38: =IF(COUNTIF(L38:N38,""),"",CEILING(SUM(L38:N38),1))
B39: 31 | E39: =IF(AND(C39<>"",COUNT(G39:N39)=0),"AB","") | J39: =IF(COUNTIF(G39:I39,""),"",CEILING(SUM(G39:I39),1)) | O39: =IF(COUNTIF(L39:N39,""),"",CEILING(SUM(L39:N39),1))
B40: 32 | E40: =IF(AND(C40<>"",COUNT(G40:N40)=0),"AB","") | J40: =IF(COUNTIF(G40:I40,""),"",CEILING(SUM(G40:I40),1)) | O40: =IF(COUNTIF(L40:N40,""),"",CEILING(SUM(L40:N40),1))
B41: 33 | E41: =IF(AND(C41<>"",COUNT(G41:N41)=0),"AB","") | J41: =IF(COUNTIF(G41:I41,""),"",CEILING(SUM(G41:I41),1)) | O41: =IF(COUNTIF(L41:N41,""),"",CEILING(SUM(L41:N41),1))
B42: 34 | E42: =IF(AND(C42<>"",COUNT(G42:N42)=0),"AB","") | J42: =IF(COUNTIF(G42:I42,""),"",CEILING(SUM(G42:I42),1)) | O42: =IF(COUNTIF(L42:N42,""),"",CEILING(SUM(L42:N42),1))
B43: 35 | E43: =IF(AND(C43<>"",COUNT(G43:N43)=0),"AB","") | J43: =IF(COUNTIF(G43:I43,""),"",CEILING(SUM(G43:I43),1)) | O43: =IF(COUNTIF(L43:N43,""),"",CEILING(SUM(L43:N43),1))
B44: 36 | E44: =IF(AND(C44<>"",COUNT(G44:N44)=0),"AB","") | J44: =IF(COUNTIF(G44:I44,""),"",CEILING(SUM(G44:I44),1)) | O44: =IF(COUNTIF(L44:N44,""),"",CEILING(SUM(L44:N44),1))
B45: 37 | E45: =IF(AND(C45<>"",COUNT(G45:N45)=0),"AB","") | J45: =IF(COUNTIF(G45:I45,""),"",CEILING(SUM(G45:I45),1)) | O45: =IF(COUNTIF(L45:N45,""),"",CEILING(SUM(L45:N45),1))
... B68: 60 | E68: =IF(AND(C68<>"",COUNT(G68:N68)=0),"AB","") | J68: =IF(COUNTIF(G68:I68,""),"",CEILING(SUM(G68:I68),1)) | O68: =IF(COUNTIF(L68:N68,""),"",CEILING(SUM(L68:N68),1))

Sheet Jury D
C2: Statistiques des épreuves écrites du BAC Arts Plastiques enseignement de spécialité
C4: Indiquez ci-contre le numéro du jury ainsi que les noms des correcteurs | H4: Commission N° | L4: Noms correcteurs
G7: Sujet 1 | L7: Sujet 2
C8: N° Candidats | E8: ABSENTS | G8: Question 1 Analyse (-/8) | H8: Question 2 Artiste (-/6) | I8: Question 3 Ouverture (-/6) | J8: Note | L8: Question 1 Analyse (-/8) | M8: Question 2 Artiste (-/6) | N8: Question 3 Ouverture (-/6) | O8: Note
B9: 1 | E9: =IF(AND(C9<>"",COUNT(G9:N9)=0),"AB","") | J9: =IF(COUNTIF(G9:I9,""),"",CEILING(SUM(G9:I9),1)) | O9: =IF(COUNTIF(L9:N9,""),"",CEILING(SUM(L9:N9),1)) | Q9: Candidats
B10: 2 | E10: =IF(AND(C10<>"",COUNT(G10:N10)=0),"AB","") | J10: =IF(COUNTIF(G10:I10,""),"",CEILING(SUM(G10:I10),1)) | O10: =IF(COUNTIF(L10:N10,""),"",CEILING(SUM(L10:N10),1)) | Q10: Présents | R10: =R12-R11 -> 0
B11: 3 | E11: =IF(AND(C11<>"",COUNT(G11:N11)=0),"AB","") | J11: =IF(COUNTIF(G11:I11,""),"",CEILING(SUM(G11:I11),1)) | O11: =IF(COUNTIF(L11:N11,""),"",CEILING(SUM(L11:N11),1)) | Q11: Absents | R11: =SUM(COUNTIF(E9:E68,"AB")) -> 0
B12: 4 | E12: =IF(AND(C12<>"",COUNT(G12:N12)=0),"AB","") | J12: =IF(COUNTIF(G12:I12,""),"",CEILING(SUM(G12:I12),1)) | O12: =IF(COUNTIF(L12:N12,""),"",CEILING(SUM(L12:N12),1)) | Q12: Total | R12: =COUNTA(C9:C68) -> 0
B13: 5 | E13: =IF(AND(C13<>"",COUNT(G13:N13)=0),"AB","") | J13: =IF(COUNTIF(G13:I13,""),"",CEILING(SUM(G13:I13),1)) | O13: =IF(COUNTIF(L13:N13,""),"",CEILING(SUM(L13:N13),1))
B14: 6 | E14: =IF(AND(C14<>"",COUNT(G14:N14)=0),"AB","") | J14: =IF(COUNTIF(G14:I14,""),"",CEILING(SUM(G14:I14),1)) | O14: =IF(COUNTIF(L14:N14,""),"",CEILING(SUM(L14:N14),1)) | Q14: Sujet 1 | T14: Sujet 2
B15: 7 | E15: =IF(AND(C15<>"",COUNT(G15:N15)=0),"AB","") | J15: =IF(COUNTIF(G15:I15,""),"",CEILING(SUM(G15:I15),1)) | O15: =IF(COUNTIF(L15:N15,""),"",CEILING(SUM(L15:N15),1)) | Q15: Question 1 | T15: Question 1
B16: 8 | E16: =IF(AND(C16<>"",COUNT(G16:N16)=0),"AB","") | J16: =IF(COUNTIF(G16:I16,""),"",CEILING(SUM(G16:I16),1)) | O16: =IF(COUNTIF(L16:N16,""),"",CEILING(SUM(L16:N16),1)) | Q16: Total points | R16: =SUM(G9:G68) -> 0 | T16: Total points | U16: =SUM(L9:L68) -> 0
B17: 9 | E17: =IF(AND(C17<>"",COUNT(G17:N17)=0),"AB","") | J17: =IF(COUNTIF(G17:I17,""),"",CEILING(SUM(G17:I17),1)) | O17: =IF(COUNTIF(L17:N17,""),"",CEILING(SUM(L17:N17),1)) | Q17: Moyenne | R17: =IFERROR(AVERAGE(G9:G68),"") | T17: Moyenne | U17: =IFERROR(AVERAGE(L9:L68),"")
B18: 10 | E18: =IF(AND(C18<>"",COUNT(G18:N18)=0),"AB","") | J18: =IF(COUNTIF(G18:I18,""),"",CEILING(SUM(G18:I18),1)) | O18: =IF(COUNTIF(L18:N18,""),"",CEILING(SUM(L18:N18),1))
B19: 11 | E19: =IF(AND(C19<>"",COUNT(G19:N19)=0),"AB","") | J19: =IF(COUNTIF(G19:I19,""),"",CEILING(SUM(G19:I19),1)) | O19: =IF(COUNTIF(L19:N19,""),"",CEILING(SUM(L19:N19),1)) | Q19: Question 2 | T19: Question 2
B20: 12 | E20: =IF(AND(C20<>"",COUNT(G20:N20)=0),"AB","") | J20: =IF(COUNTIF(G20:I20,""),"",CEILING(SUM(G20:I20),1)) | O20: =IF(COUNTIF(L20:N20,""),"",CEILING(SUM(L20:N20),1)) | Q20: Total points | R20: =SUM(H9:H68) -> 0 | T20: Total points | U20: =SUM(M9:M68) -> 0
B21: 13 | E21: =IF(AND(C21<>"",COUNT(G21:N21)=0),"AB","") | J21: =IF(COUNTIF(G21:I21,""),"",CEILING(SUM(G21:I21),1)) | O21: =IF(COUNTIF(L21:N21,""),"",CEILING(SUM(L21:N21),1)) | Q21: Moyenne | R21: =IFERROR(AVERAGE(H9:H68),"") | T21: Moyenne | U21: =IFERROR(AVERAGE(M9:M68),"")
B22: 14 | E22: =IF(AND(C22<>"",COUNT(G22:N22)=0),"AB","") | J22: =IF(COUNTIF(G22:I22,""),"",CEILING(SUM(G22:I22),1)) | O22: =IF(COUNTIF(L22:N22,""),"",CEILING(SUM(L22:N22),1))
B23: 15 | E23: =IF(AND(C23<>"",COUNT(G23:N23)=0),"AB","") | J23: =IF(COUNTIF(G23:I23,""),"",CEILING(SUM(G23:I23),1)) | O23: =IF(COUNTIF(L23:N23,""),"",CEILING(SUM(L23:N23),1)) | Q23: Question 3 | T23: Question 3
B24: 16 | E24: =IF(AND(C24<>"",COUNT(G24:N24)=0),"AB","") | J24: =IF(COUNTIF(G24:I24,""),"",CEILING(SUM(G24:I24),1)) | O24: =IF(COUNTIF(L24:N24,""),"",CEILING(SUM(L24:N24),1)) | Q24: Total points | R24: =SUM(I9:I68) -> 0 | T24: Total points | U24: =SUM(N9:N68) -> 0
B25: 17 | E25: =IF(AND(C25<>"",COUNT(G25:N25)=0),"AB","") | J25: =IF(COUNTIF(G25:I25,""),"",CEILING(SUM(G25:I25),1)) | O25: =IF(COUNTIF(L25:N25,""),"",CEILING(SUM(L25:N25),1)) | Q25: Moyenne | R25: =IFERROR(AVERAGE(I9:I68),"") | T25: Moyenne | U25: =IFERROR(AVERAGE(N9:N68),"")
B26: 18 | E26: =IF(AND(C26<>"",COUNT(G26:N26)=0),"AB","") | J26: =IF(COUNTIF(G26:I26,""),"",CEILING(SUM(G26:I26),1)) | O26: =IF(COUNTIF(L26:N26,""),"",CEILING(SUM(L26:N26),1))
B27: 19 | E27: =IF(AND(C27<>"",COUNT(G27:N27)=0),"AB","") | J27: =IF(COUNTIF(G27:I27,""),"",CEILING(SUM(G27:I27),1)) | O27: =IF(COUNTIF(L27:N27,""),"",CEILING(SUM(L27:N27),1)) | Q27: Moyenne Sujet 1 | T27: Moyenne Sujet 2
B28: 20 | E28: =IF(AND(C28<>"",COUNT(G28:N28)=0),"AB","") | J28: =IF(COUNTIF(G28:I28,""),"",CEILING(SUM(G28:I28),1)) | O28: =IF(COUNTIF(L28:N28,""),"",CEILING(SUM(L28:N28),1)) | Q28: Total points | R28: =SUM(G9:I68) -> 0 | T28: Total points | U28: =SUM(L9:N68) -> 0
B29: 21 | E29: =IF(AND(C29<>"",COUNT(G29:N29)=0),"AB","") | J29: =IF(COUNTIF(G29:I29,""),"",CEILING(SUM(G29:I29),1)) | O29: =IF(COUNTIF(L29:N29,""),"",CEILING(SUM(L29:N29),1)) | Q29: Moyenne | R29: =IFERROR(AVERAGE(J9:J68),"") | T29: Moyenne | U29: =IFERROR(AVERAGE(O9:O68),"")
B30: 22 | E30: =IF(AND(C30<>"",COUNT(G30:N30)=0),"AB","") | J30: =IF(COUNTIF(G30:I30,""),"",CEILING(SUM(G30:I30),1)) | O30: =IF(COUNTIF(L30:N30,""),"",CEILING(SUM(L30:N30),1))
B31: 23 | E31: =IF(AND(C31<>"",COUNT(G31:N31)=0),"AB","") | J31: =IF(COUNTIF(G31:I31,""),"",CEILING(SUM(G31:I31),1)) | O31: =IF(COUNTIF(L31:N31,""),"",CEILING(SUM(L31:N31),1)) | Q31: Nbre Copies | R31: =COUNT(G9:G68) -> 0 | T31: Nbre Copies | U31: =COUNT(M9:M68) -> 0
B32: 24 | E32: =IF(AND(C32<>"",COUNT(G32:N32)=0),"AB","") | J32: =IF(COUNTIF(G32:I32,""),"",CEILING(SUM(G32:I32),1)) | O32: =IF(COUNTIF(L32:N32,""),"",CEILING(SUM(L32:N32),1)) | Q32: Note max | R32: =MAX(J9:J68) -> 0 | T32: Note max | U32: =MAX(O9:O68) -> 0
B33: 25 | E33: =IF(AND(C33<>"",COUNT(G33:N33)=0),"AB","") | J33: =IF(COUNTIF(G33:I33,""),"",CEILING(SUM(G33:I33),1)) | O33: =IF(COUNTIF(L33:N33,""),"",CEILING(SUM(L33:N33),1)) | Q33: Note min | R33: =MIN(J9:J68) -> 0 | T33: Note min | U33: =MIN(O9:O68) -> 0
B34: 26 | E34: =IF(AND(C34<>"",COUNT(G34:N34)=0),"AB","") | J34: =IF(COUNTIF(G34:I34,""),"",CEILING(SUM(G34:I34),1)) | O34: =IF(COUNTIF(L34:N34,""),"",CEILING(SUM(L34:N34),1))
B35: 27 | E35: =IF(AND(C35<>"",COUNT(G35:N35)=0),"AB","") | J35: =IF(COUNTIF(G35:I35,""),"",CEILING(SUM(G35:I35),1)) | O35: =IF(COUNTIF(L35:N35,""),"",CEILING(SUM(L35:N35),1))
B36: 28 | E36: =IF(AND(C36<>"",COUNT(G36:N36)=0),"AB","") | J36: =IF(COUNTIF(G36:I36,""),"",CEILING(SUM(G36:I36),1)) | O36: =IF(COUNTIF(L36:N36,""),"",CEILING(SUM(L36:N36),1))
B37: 29 | E37: =IF(AND(C37<>"",COUNT(G37:N37)=0),"AB","") | J37: =IF(COUNTIF(G37:I37,""),"",CEILING(SUM(G37:I37),1)) | O37: =IF(COUNTIF(L37:N37,""),"",CEILING(SUM(L37:N37),1))
B38: 30 | E38: =IF(AND(C38<>"",COUNT(G38:N38)=0),"AB","") | J38: =IF(COUNTIF(G38:I38,""),"",CEILING(SUM(G38:I38),1)) | O38: =IF(COUNTIF(L38:N38,""),"",CEILING(SUM(L38:N38),1))
B39: 31 | E39: =IF(AND(C39<>"",COUNT(G39:N39)=0),"AB","") | J39: =IF(COUNTIF(G39:I39,""),"",CEILING(SUM(G39:I39),1)) | O39: =IF(COUNTIF(L39:N39,""),"",CEILING(SUM(L39:N39),1))
B40: 32 | E40: =IF(AND(C40<>"",COUNT(G40:N40)=0),"AB","") | J40: =IF(COUNTIF(G40:I40,""),"",CEILING(SUM(G40:I40),1)) | O40: =IF(COUNTIF(L40:N40,""),"",CEILING(SUM(L40:N40),1))
B41: 33 | E41: =IF(AND(C41<>"",COUNT(G41:N41)=0),"AB","") | J41: =IF(COUNTIF(G41:I41,""),"",CEILING(SUM(G41:I41),1)) | O41: =IF(COUNTIF(L41:N41,""),"",CEILING(SUM(L41:N41),1))
B42: 34 | E42: =IF(AND(C42<>"",COUNT(G42:N42)=0),"AB","") | J42: =IF(COUNTIF(G42:I42,""),"",CEILING(SUM(G42:I42),1)) | O42: =IF(COUNTIF(L42:N42,""),"",CEILING(SUM(L42:N42),1))
B43: 35 | E43: =IF(AND(C43<>"",COUNT(G43:N43)=0),"AB","") | J43: =IF(COUNTIF(G43:I43,""),"",CEILING(SUM(G43:I43),1)) | O43: =IF(COUNTIF(L43:N43,""),"",CEILING(SUM(L43:N43),1))
B44: 36 | E44: =IF(AND(C44<>"",COUNT(G44:N44)=0),"AB","") | J44: =IF(COUNTIF(G44:I44,""),"",CEILING(SUM(G44:I44),1)) | O44: =IF(COUNTIF(L44:N44,""),"",CEILING(SUM(L44:N44),1))
B45: 37 | E45: =IF(AND(C45<>"",COUNT(G45:N45)=0),"AB","") | J45: =IF(COUNTIF(G45:I45,""),"",CEILING(SUM(G45:I45),1)) | O45: =IF(COUNTIF(L45:N45,""),"",CEILING(SUM(L45:N45),1))
... B68: 60 | E68: =IF(AND(C68<>"",COUNT(G68:N68)=0),"AB","") | J68: =IF(COUNTIF(G68:I68,""),"",CEILING(SUM(G68:I68),1)) | O68: =IF(COUNTIF(L68:N68,""),"",CEILING(SUM(L68:N68),1))

Sheet Mode d'emploi
