Workbook

Sheet Jour 1
B2: JOUR 1 | C2: Statistiques des épreuves du BAC Arts Plastiques - Enseignement facultative et de spécialité
B4: Entrer Jour et Date : | D4: Lundi 30/05/2016
B6: Entrer le nom des lycées | E6: Filières | H6: Candidats
B7: 1 | C7: Coudon | E7: 1 | F7: L | H7: Inscrits
B8: 2 | C8: Raynouard | E8: 2 | F8: L.Art | H8: Présents
B9: 3 | C9: Beaussier | E9: 3 | F9: S | H9: Absents
B10: 4 | C10: Fénelon | E10: 4 | F10: ES
B11: 5 | C11: Dumont | E11: 5 | F11: STG
B12: 7 | C12: CNED
B13: 8 | C13: Jean Aicard
B14: 9 | C14: Saint Joseph
B15: 10 | C15: Rouvière
B16: 11 | C16: Costebelle
B17: 12 | C17: Janetti
B19: Jury APL11 | G19: Jury APL12
B20: Candidats | C20: Note | D20: Lycée | E20: Filière | G20: Candidats | H20: Note | I20: Lycée | J20: Filière
B21: Matin | G21: Matin
B22: 1 | C22: 11 | D22: Coudon | E22: L | G22: 1 | H22: 11 | I22: Raynouard | J22: L
B23: 2 | C23: 12 | D23: Beaussier | E23: S | G23: 2 | H23: 12 | I23: Beaussier | J23: L.Art
B24: 3 | C24: 12 | D24: Raynouard | E24: ES | G24: 3 | H24: 12 | I24: Coudon | J24: ES
B25: 4 | C25: 13 | D25: Beaussier | E25: STG | G25: 4 | H25: 13 | I25: Fénelon | J25: STG
B26: 5 | C26: 15 | D26: Janetti | E26: L | G26: 5 | H26: AB | I26: Janetti | J26: S
B27: 6 | C27: AB | D27: Beaussier | E27: L.Art | G27: 6 | H27: 14 | I27: Beaussier | J27: STG
B28: 7 | C28: 8 | D28: CNED | E28: L | G28: 7 | H28: 10 | I28: Jean Aicard | J28: S
B29: Après-midi | G29: Après-midi
B30: 8 | C30: 16 | D30: Raynouard | E30: L.Art | G30: 8 | H30: 15 | I30: Raynouard | J30: L.Art
B31: 9 | C31: 17 | D31: Beaussier | E31: S | G31: 9 | H31: 18 | I31: Raynouard | J31: S
B32: 10 | C32: 17 | D32: Coudon | E32: L.Art | G32: 10 | H32: 18 | I32: Beaussier | J32: L.Art
B33: 11 | C33: 18 | D33: Fénelon | E33: L | G33: 11 | H33: 18 | I33: Coudon | J33: S
B34: 12 | C34: 16 | D34: Dumont | E34: S | G34: 12 | H34: 12 | I34: Raynouard | J34: L.Art
B35: 13 | C35: AB | D35: Costebelle | E35: STG | G35: 13 | H35: 11 | I35: Costebelle | J35: ES
B36: 14 | C36: 6 | D36: Dumont | E36: STG | G36: 14 | H36: 8 | I36: Rouvière | J36: STG
B38: Jury APL13 | G38: Jury APL14
B39: Candidats | C39: Note | D39: Lycée | E39: Filière | G39: Candidats | H39: Note | I39: Lycée | J39: Filière
B40: Matin | G40: Matin
B41: 1 | C41: 12 | D41: Fénelon | E41: L.Art | G41: 1 | H41: 11 | I41: Saint Joseph | J41: L.Art
B42: 2 | C42: 15 | D42: Dumont | E42: S | G42: 2 | H42: 10 | I42: Jean Aicard | J42: L
B43: 3 | C43: 12 | D43: CNED | E43: ES | G43: 3 | H43: 8 | I43: Dumont | J43: S
B44: 4 | C44: 11 | D44: Janetti | E44: STG | G44: 4 | H44: 9 | I44: CNED | J44: ES
B45: 5 | C45: 12 | D45: Saint Joseph | E45: STG | G45: 5 | H45: AB | I45: Rouvière | J45: STG
B46: 6 | C46: 12 | D46: Rouvière | E46: L | G46: 6 | H46: 12 | I46: Costebelle | J46: ES
B47: 7 | C47: 10 | D47: Fénelon | E47: L.Art | G47: 7 | H47: 5 | I47: Raynouard | J47: L
B48: Après-midi | G48: Après-midi
B49: 8 | C49: 11 | D49: Raynouard | E49: L.Art | G49: 8 | H49: 18 | I49: Beaussier | J49: L.Art
B50: 9 | C50: AB | D50: Beaussier | E50: S | G50: 9 | H50: 17 | I50: Raynouard | J50: L
B51: 10 | C51: 18 | D51: Janetti | E51: ES | G51: 10 | H51: 20 | I51: CNED | J51: ES
B52: 11 | C52: 15 | D52: Costebelle | E52: S | G52: 11 | H52: 6 | I52: Dumont | J52: L.Art
B53: 12 | C53: 8 | D53: Dumont | E53: L.Art | G53: 12 | H53: 3 | I53: Dumont | J53: L
B54: 13 | C54: 19 | D54: Fénelon | E54: L | G54: 13 | H54: 14 | I54: Jean Aicard | J54: ES
B55: 14 | C55: 20 | D55: CNED | E55: S | G55: 14 | H55: 13 | I55: Rouvière | J55: STG

Sheet Jour 2
B2: JOUR 2 | C2: Statistiques des épreuves du BAC Arts Plastiques - Enseignement facultative et de spécialité
B4: Entrer Jour et Date :
B6: Entrer le nom des lycées | E6: Filières | H6: Candidats
B7: 1 | E7: 1 | F7: L | H7: Inscrits
B8: 2 | E8: 2 | F8: L.Art | H8: Présents
B9: 3 | E9: 3 | F9: S | H9: Absents
B10: 4 | E10: 4 | F10: ES
B11: 5 | E11: 5 | F11: STG
B12: 7
B13: 8
B14: 9
B15: 10
B16: 11
B17: 12
B19: Jury APL11 | G19: Jury APL12
B20: Candidats | C20: Note | D20: Lycée | E20: Filière | G20: Candidats | H20: Note | I20: Lycée | J20: Filière
B21: Matin | G21: Matin
B22: 1 | G22: 1
B23: 2 | G23: 2
B24: 3 | G24: 3
B25: 4 | G25: 4
B26: 5 | G26: 5
B27: 6 | G27: 6
B28: 7 | G28: 7
B29: Après-midi | G29: Après-midi
B30: 8 | G30: 8
B31: 9 | G31: 9
B32: 10 | G32: 10
B33: 11 | G33: 11
B34: 12 | G34: 12
B35: 13 | G35: 13
B36: 14 | G36: 14
B38: Jury APL13 | G38: Jury APL14
B39: Candidats | C39: Note | D39: Lycée | E39: Filière | G39: Candidats | H39: Note | I39: Lycée | J39: Filière
B40: Matin | G40: Matin
B41: 1 | G41: 1
B42: 2 | G42: 2
B43: 3 | G43: 3
B44: 4 | G44: 4
B45: 5 | G45: 5
B46: 6 | G46: 6
B47: 7 | G47: 7
B48: Après-midi | G48: Après-midi
B49: 8 | G49: 8
B50: 9 | G50: 9
B51: 10 | G51: 10
B52: 11 | G52: 11
B53: 12 | G53: 12
B54: 13 | G54: 13
B55: 14 | G55: 14

Sheet Jour 3
B2: JOUR 3 | C2: Statistiques des épreuves du BAC Arts Plastiques - Enseignement facultative et de spécialité
B4: Entrer Jour et Date :
B6: Entrer le nom des lycées | E6: Filières | H6: Candidats
B7: 1 | E7: 1 | F7: L | H7: Inscrits
B8: 2 | E8: 2 | F8: L.Art | H8: Présents
B9: 3 | E9: 3 | F9: S | H9: Absents
B10: 4 | E10: 4 | F10: ES
B11: 5 | E11: 5 | F11: STG
B12: 7
B13: 8
B14: 9
B15: 10
B16: 11
B17: 12
B19: Jury APL11 | G19: Jury APL12
B20: Candidats | C20: Note | D20: Lycée | E20: Filière | G20: Candidats | H20: Note | I20: Lycée | J20: Filière
B21: Matin | G21: Matin
B22: 1 | G22: 1
B23: 2 | G23: 2
B24: 3 | G24: 3
B25: 4 | G25: 4
B26: 5 | G26: 5
B27: 6 | G27: 6
B28: 7 | G28: 7
B29: Après-midi | G29: Après-midi
B30: 8 | G30: 8
B31: 9 | G31: 9
B32: 10 | G32: 10
B33: 11 | G33: 11
B34: 12 | G34: 12
B35: 13 | G35: 13
B36: 14 | G36: 14
B38: Jury APL13 | G38: Jury APL14
B39: Candidats | C39: Note | D39: Lycée | E39: Filière | G39: Candidats | H39: Note | I39: Lycée | J39: Filière
B40: Matin | G40: Matin
B41: 1 | G41: 1
B42: 2 | G42: 2
B43: 3 | G43: 3
B44: 4 | G44: 4
B45: 5 | G45: 5
B46: 6 | G46: 6
B47: 7 | G47: 7
B48: Après-midi | G48: Après-midi
B49: 8 | G49: 8
B50: 9 | G50: 9
B51: 10 | G51: 10
B52: 11 | G52: 11
B53: 12 | G53: 12
B54: 13 | G54: 13
B55: 14 | G55: 14

Sheet Jour 4
B2: JOUR 4 | C2: Statistiques des épreuves du BAC Arts Plastiques - Enseignement facultative et de spécialité
B4: Entrer Jour et Date :
B6: Entrer le nom des lycées | E6: Filières | H6: Candidats
B7: 1 | E7: 1 | F7: L | H7: Inscrits
B8: 2 | E8: 2 | F8: L.Art | H8: Présents
B9: 3 | E9: 3 | F9: S | H9: Absents
B10: 4 | E10: 4 | F10: ES
B11: 5 | E11: 5 | F11: STG
B12: 7
B13: 8
B14: 9
B15: 10
B16: 11
B17: 12
B19: Jury APL11 | G19: Jury APL12
B20: Candidats | C20: Note | D20: Lycée | E20: Filière | G20: Candidats | H20: Note | I20: Lycée | J20: Filière
B21: Matin | G21: Matin
B22: 1 | G22: 1
B23: 2 | G23: 2
B24: 3 | G24: 3
B25: 4 | G25: 4
B26: 5 | G26: 5
B27: 6 | G27: 6
B28: 7 | G28: 7
B29: Après-midi | G29: Après-midi
B30: 8 | G30: 8
B31: 9 | G31: 9
B32: 10 | G32: 10
B33: 11 | G33: 11
B34: 12 | G34: 12
B35: 13 | G35: 13
B36: 14 | G36: 14
B38: Jury APL13 | G38: Jury APL14
B39: Candidats | C39: Note | D39: Lycée | E39: Filière | G39: Candidats | H39: Note | I39: Lycée | J39: Filière
B40: Matin | G40: Matin
B41: 1 | G41: 1
B42: 2 | G42: 2
B43: 3 | G43: 3
B44: 4 | G44: 4
B45: 5 | G45: 5
B46: 6 | G46: 6
B47: 7 | G47: 7
B48: Après-midi | G48: Après-midi
B49: 8 | G49: 8
B50: 9 | G50: 9
B51: 10 | G51: 10
B52: 11 | G52: 11
B53: 12 | G53: 12
B54: 13 | G54: 13
B55: 14 | G55: 14

Sheet Jour 5
B2: JOUR 5 | C2: Statistiques des épreuves du BAC Arts Plastiques - Enseignement facultative et de spécialité
B4: Entrer Jour et Date :
B6: Entrer le nom des lycées | E6: Filières | H6: Candidats
B7: 1 | E7: 1 | F7: L | H7: Inscrits
B8: 2 | E8: 2 | F8: L.Art | H8: Présents
B9: 3 | E9: 3 | F9: S | H9: Absents
B10: 4 | E10: 4 | F10: ES
B11: 5 | E11: 5 | F11: STG
B12: 7
B13: 8
B14: 9
B15: 10
B16: 11
B17: 12
B19: Jury APL11 | G19: Jury APL12
B20: Candidats | C20: Note | D20: Lycée | E20: Filière | G20: Candidats | H20: Note | I20: Lycée | J20: Filière
B21: Matin | G21: Matin
B22: 1 | G22: 1
B23: 2 | G23: 2
B24: 3 | G24: 3
B25: 4 | G25: 4
B26: 5 | G26: 5
B27: 6 | G27: 6
B28: 7 | G28: 7
B29: Après-midi | G29: Après-midi
B30: 8 | G30: 8
B31: 9 | G31: 9
B32: 10 | G32: 10
B33: 11 | G33: 11
B34: 12 | G34: 12
B35: 13 | G35: 13
B36: 14 | G36: 14
B38: Jury APL13 | G38: Jury APL14
B39: Candidats | C39: Note | D39: Lycée | E39: Filière | G39: Candidats | H39: Note | I39: Lycée | J39: Filière
B40: Matin | G40: Matin
B41: 1 | G41: 1
B42: 2 | G42: 2
B43: 3 | G43: 3
B44: 4 | G44: 4
B45: 5 | G45: 5
B46: 6 | G46: 6
B47: 7 | G47: 7
B48: Après-midi | G48: Après-midi
B49: 8 | G49: 8
B50: 9 | G50: 9
B51: 10 | G51: 10
B52: 11 | G52: 11
B53: 12 | G53: 12
B54: 13 | G54: 13
B55: 14 | G55: 14

Sheet Statistiques
B2: Nom du Centre :
B4: Moyennes | C4: ='Jour 1'!D4 -> Lundi 30/05/2016 | D4: ='Jour 2'!D4 -> 0 | E4: ='Jour 3'!D4 -> 0 | F4: ='Jour 4'!D4 -> 0 | G4: ='Jour 5'!D4 -> 0 | H4: Session
B5: Jury APL11 | C5: =IF(ISERROR(AVERAGE('Jour 1'!C22:C28,'Jour 1'!C30:C36)),"", AVERAGE('Jour 1'!C22:C28,'Jour 1'!C30:C36)) -> 13.416667 | D5: =IF(ISERROR(AVERAGE('Jour 2'!C22:C28,'Jour 2'!C30:C36)),"", AVERAGE('Jour 2'!C22:C28,'Jour 2'!C30:C36)) | E5: =IF(ISERROR(AVERAGE('Jour 3'!C22:C28,'Jour 3'!C30:C36)),"", AVERAGE('Jour 3'!C22:C28,'Jour 3'!C30:C36)) | F5: =IF(ISERROR(AVERAGE('Jour 4'!C22:C28,'Jour 4'!C30:C36)),"", AVERAGE('Jour 4'!C22:C28,'Jour 4'!C30:C36)) | G5: =IF(ISERROR(AVERAGE('Jour 5'!C22:C28,'Jour 5'!C30:C36)),"", AVERAGE('Jour 5'!C22:C28,'Jour 5'!C30:C36)) | H5: =IF(ISERROR(AVERAGE('Jour 1'!C22:C28,'Jour 1'!C30:C36,'Jour 2'!C22:C28,'Jour 2'!C30:C36,'Jour 3'!C22:C28,'Jour 3'!C30:C36,'Jour 4'!C22:C28,'Jour 4'!C30:C36,'Jour 5'!C22:C28,'Jour 5'!C30:C36)),"", AVERAGE('Jour 1'!C22:C28,'Jour 1'!C30:C36,'Jour 2'!C22:C28,'Jour 2'!C30:C36,'Jour 3'!C22:C28,'Jour 3'!C30:C36,'Jour 4'!C22:C28,'Jour 4'!C30:C36,'Jour 5'!C22:C28,'Jour 5'!C30:C36)) -> 13.416667
B6: Jury APL12 | C6: =IF(ISERROR(AVERAGE('Jour 1'!H22:H28,'Jour 1'!H30:H36)),"", AVERAGE('Jour 1'!H22:H28,'Jour 1'!H30:H36)) -> 13.230769 | D6: =IF(ISERROR(AVERAGE('Jour 2'!H22:H28,'Jour 2'!H30:H36)),"", AVERAGE('Jour 2'!H22:H28,'Jour 2'!H30:H36)) | E6: =IF(ISERROR(AVERAGE('Jour 3'!H22:H28,'Jour 3'!H30:H36)),"", AVERAGE('Jour 3'!H22:H28,'Jour 3'!H30:H36)) | F6: =IF(ISERROR(AVERAGE('Jour 4'!H22:H28,'Jour 4'!H30:H36)),"", AVERAGE('Jour 4'!H22:H28,'Jour 4'!H30:H36)) | G6: =IF(ISERROR(AVERAGE('Jour 5'!H22:H28,'Jour 5'!H30:H36)),"", AVERAGE('Jour 5'!H22:H28,'Jour 5'!H30:H36)) | H6: =IF(ISERROR(AVERAGE('Jour 1'!H22:H28,'Jour 1'!H30:H36,'Jour 2'!H22:H28,'Jour 2'!H30:H36,'Jour 3'!H22:H28,'Jour 3'!H30:H36,'Jour 4'!H22:H28,'Jour 4'!H30:H36,'Jour 5'!H22:H28,'Jour 5'!H30:H36)),"", AVERAGE('Jour 1'!H22:H28,'Jour 1'!H30:H36,'Jour 2'!H22:H28,'Jour 2'!H30:H36,'Jour 3'!H22:H28,'Jour 3'!H30:H36,'Jour 4'!H22:H28,'Jour 4'!H30:H36,'Jour 5'!H22:H28,'Jour 5'!H30:H36)) -> 13.230769
B7: Jury APL13 | C7: =IF(ISERROR(AVERAGE('Jour 1'!C41:C47,'Jour 1'!C49:C55)),"", AVERAGE('Jour 1'!C41:C47,'Jour 1'!C49:C55)) -> 13.461538 | D7: =IF(ISERROR(AVERAGE('Jour 2'!C41:C47,'Jour 2'!C49:C55)),"", AVERAGE('Jour 2'!C41:C47,'Jour 2'!C49:C55)) | E7: =IF(ISERROR(AVERAGE('Jour 3'!C41:C47,'Jour 3'!C49:C55)),"", AVERAGE('Jour 3'!C41:C47,'Jour 3'!C49:C55)) | F7: =IF(ISERROR(AVERAGE('Jour 4'!C41:C47,'Jour 4'!C49:C55)),"", AVERAGE('Jour 4'!C41:C47,'Jour 4'!C49:C55)) | G7: =IF(ISERROR(AVERAGE('Jour 5'!C41:C47,'Jour 5'!C49:C55)),"", AVERAGE('Jour 5'!C41:C47,'Jour 5'!C49:C55)) | H7: =IF(ISERROR(AVERAGE('Jour 1'!C41:C47,'Jour 1'!C49:C55,'Jour 2'!C41:C47,'Jour 2'!C49:C55,'Jour 3'!C41:C47,'Jour 3'!C49:C55,'Jour 4'!C41:C47,'Jour 4'!C49:C55,'Jour 5'!C41:C47,'Jour 5'!C49:C55)),"", AVERAGE('Jour 1'!C41:C47,'Jour 1'!C49:C55,'Jour 2'!C41:C47,'Jour 2'!C49:C55,'Jour 3'!C41:C47,'Jour 3'!C49:C55,'Jour 4'!C41:C47,'Jour 4'!C49:C55,'Jour 5'!C41:C47,'Jour 5'!C49:C55)) -> 13.461538
B8: Jury APL14 | C8: =IF(ISERROR(AVERAGE('Jour 1'!H41:H47,'Jour 1'!H49:H55)),"", AVERAGE('Jour 1'!H41:H47,'Jour 1'!H49:H55)) -> 11.230769 | D8: =IF(ISERROR(AVERAGE('Jour 2'!H41:H47,'Jour 2'!H49:H55)),"", AVERAGE('Jour 2'!H41:H47,'Jour 2'!H49:H55)) | E8: =IF(ISERROR(AVERAGE('Jour 3'!H41:H47,'Jour 3'!H49:H55)),"", AVERAGE('Jour 3'!H41:H47,'Jour 3'!H49:H55)) | F8: =IF(ISERROR(AVERAGE('Jour 4'!H41:H47,'Jour 4'!H49:H55)),"", AVERAGE('Jour 4'!H41:H47,'Jour 4'!H49:H55)) | G8: =IF(ISERROR(AVERAGE('Jour 5'!H41:H47,'Jour 5'!H49:H55)),"", AVERAGE('Jour 5'!H41:H47,'Jour 5'!H49:H55)) | H8: =IF(ISERROR(AVERAGE('Jour 1'!H41:H47,'Jour 1'!H49:H55,'Jour 2'!H41:H47,'Jour 2'!H49:H55,'Jour 3'!H41:H47,'Jour 3'!H49:H55,'Jour 4'!H41:H47,'Jour 4'!H49:H55,'Jour 5'!H41:H47,'Jour 5'!H49:H55)),"", AVERAGE('Jour 1'!H41:H47,'Jour 1'!H49:H55,'Jour 2'!H41:H47,'Jour 2'!H49:H55,'Jour 3'!H41:H47,'Jour 3'!H49:H55,'Jour 4'!H41:H47,'Jour 4'!H49:H55,'Jour 5'!H41:H47,'Jour 5'!H49:H55)) -> 11.230769
C9: =IF(ISERROR(AVERAGE('Jour 1'!C22:C28,'Jour 1'!C30:C36,'Jour 1'!H22:H28,'Jour 1'!H30:H36,'Jour 1'!C41:C47,'Jour 1'!C49:C55,'Jour 1'!H41:H47,'Jour 1'!H49:H55)),"", AVERAGE('Jour 1'!C22:C28,'Jour 1'!C30:C36,'Jour 1'!H22:H28,'Jour 1'!H30:H36,'Jour 1'!C41:C47,'Jour 1'!C49:C55,'Jour 1'!H41:H47,'Jour 1'!H49:H55)) -> 12.823529 | D9: =IF(ISERROR(AVERAGE('Jour 2'!C22:C28,'Jour 2'!C30:C36,'Jour 2'!H22:H28,'Jour 2'!H30:H36,'Jour 2'!C41:C47,'Jour 2'!C49:C55,'Jour 2'!H41:H47,'Jour 2'!H49:H55)),"", AVERAGE('Jour 2'!C22:C28,'Jour 2'!C30:C36,'Jour 2'!H22:H28,'Jour 2'!H30:H36,'Jour 2'!C41:C47,'Jour 2'!C49:C55,'Jour 2'!H41:H47,'Jour 2'!H49:H55)) | E9: =IF(ISERROR(AVERAGE('Jour 3'!C22:C28,'Jour 3'!C30:C36,'Jour 3'!H22:H28,'Jour 3'!H30:H36,'Jour 3'!C41:C47,'Jour 3'!C49:C55,'Jour 3'!H41:H47,'Jour 3'!H49:H55)),"", AVERAGE('Jour 3'!C22:C28,'Jour 3'!C30:C36,'Jour 3'!H22:H28,'Jour 3'!H30:H36,'Jour 3'!C41:C47,'Jour 3'!C49:C55,'Jour 3'!H41:H47,'Jour 3'!H49:H55)) | F9: =IF(ISERROR(AVERAGE('Jour 4'!C22:C28,'Jour 4'!C30:C36,'Jour 4'!H22:H28,'Jour 4'!H30:H36,'Jour 4'!C41:C47,'Jour 4'!C49:C55,'Jour 4'!H41:H47,'Jour 4'!H49:H55)),"", AVERAGE('Jour 4'!C22:C28,'Jour 4'!C30:C36,'Jour 4'!H22:H28,'Jour 4'!H30:H36,'Jour 4'!C41:C47,'Jour 4'!C49:C55,'Jour 4'!H41:H47,'Jour 4'!H49:H55)) | G9: =IF(ISERROR(AVERAGE('Jour 5'!C22:C28,'Jour 5'!C30:C36,'Jour 5'!H22:H28,'Jour 5'!H30:H36,'Jour 5'!C41:C47,'Jour 5'!C49:C55,'Jour 5'!H41:H47,'Jour 5'!H49:H55)),"", AVERAGE('Jour 5'!C22:C28,'Jour 5'!C30:C36,'Jour 5'!H22:H28,'Jour 5'!H30:H36,'Jour 5'!C41:C47,'Jour 5'!C49:C55,'Jour 5'!H41:H47,'Jour 5'!H49:H55))
B11: Note la plus basse : | D11: =MAX('Jour 1'!C22:C28,'Jour 1'!C30:C36,'Jour 1'!H22:H28,'Jour 1'!H30:H36,'Jour 1'!C41:C47,'Jour 1'!C49:C55,'Jour 1'!H41:H47,'Jour 1'!H49:H55,'Jour 2'!C22:C28,'Jour 2'!C30:C36,'Jour 2'!H22:H28,'Jour 2'!H30:H36,'Jour 2'!C41:C47,'Jour 2'!H41:H47,'Jour 2'!C49:C55,'Jour 2'!H49:H55,'Jour 3'!C22:C28,'Jour 3'!C30:C36,'Jour 3'!H22:H28,'Jour 3'!H30:H36,'Jour 3'!C41:C47,'Jour 3'!H41:H47,'Jour 3'!C49:C55,'Jour 3'!H49:H55,'Jour 4'!C22:C28,'Jour 4'!C30:C36,'Jour 4'!H22:H28,'Jour 4'!H30:H36,'Jour 4'!C41:C47,'Jour 4'!C49:C55,'Jour 4'!H41:H47,'Jour 4'!H49:H55,'Jour 5'!C22:C28,'Jour 5'!C30:C36,'Jour 5'!H22:H28,'Jour 5'!H30:H36,'Jour 5'!C41:C47,'Jour 5'!H41:H47,'Jour 5'!C49:C55,'Jour 5'!H49:H55) -> 20 | F11: N°Jury | G11: Noms
B12: Note la plus haute : | D12: =MIN('Jour 1'!C22:C28,'Jour 1'!C30:C36,'Jour 1'!H22:H28,'Jour 1'!H30:H36,'Jour 1'!C41:C47,'Jour 1'!H41:H47,'Jour 1'!C49:C55,'Jour 1'!H49:H55,'Jour 2'!C22:C28,'Jour 2'!C30:C36,'Jour 2'!H22:H28,'Jour 2'!H30:H36,'Jour 2'!C41:C47,'Jour 2'!H41:H47,'Jour 2'!C49:C55,'Jour 2'!H49:H55,'Jour 3'!C22:C28,'Jour 3'!C30:C36,'Jour 3'!H22:H28,'Jour 3'!H30:H36,'Jour 3'!C41:C47,'Jour 3'!C49:C55,'Jour 3'!H41:H47,'Jour 3'!H49:H55,'Jour 4'!C22:C28,'Jour 4'!C30:C36,'Jour 4'!H22:H28,'Jour 4'!H30:H36,'Jour 4'!C41:C47,'Jour 4'!C49:C55,'Jour 4'!H41:H47,'Jour 4'!H49:H55,'Jour 5'!C22:C28,'Jour 5'!C30:C36,'Jour 5'!H22:H28,'Jour 5'!H30:H36,'Jour 5'!C41:C47,'Jour 5'!C49:C55,'Jour 5'!H41:H47,'Jour 5'!H49:H55) -> 3 | F12: Jury APL11
B13: Note médiane : | D13: =MEDIAN('Jour 1'!C20:C26,'Jour 1'!C28:C34,'Jour 1'!H20:H26,'Jour 1'!H28:H34,'Jour 1'!C39:C45,'Jour 1'!C47:C53,'Jour 1'!H39:H45,'Jour 1'!H47:H53,'Jour 2'!C22:C28,'Jour 2'!H22:H28,'Jour 2'!C30:C36,'Jour 2'!H30:H36,'Jour 2'!C41:C47,'Jour 2'!C49:C55,'Jour 2'!H41:H47,'Jour 2'!H49:H55,'Jour 3'!C22:C28,'Jour 3'!C30:C36,'Jour 3'!H22:H28,'Jour 3'!H30:H36,'Jour 3'!C41:C47,'Jour 3'!H41:H47,'Jour 3'!C49:C55,'Jour 3'!H49:H55,'Jour 4'!C22:C28,'Jour 4'!C30:C36,'Jour 4'!H22:H28,'Jour 4'!H30:H36,'Jour 4'!C41:C47,'Jour 4'!C49:C55,'Jour 4'!H41:H47,'Jour 4'!H49:H55,'Jour 5'!C22:C28,'Jour 5'!C30:C36,'Jour 5'!H22:H28,'Jour 5'!H30:H36,'Jour 5'!C41:C47,'Jour 5'!C49:C55,'Jour 5'!H41:H47,'Jour 5'!H49:H55) -> 12 | F13: Jury APL12
F14: Jury APL13
F15: Jury APL14
B16: Moyenne Centre : | D16: =IF(ISERROR(AVERAGE('Jour 1'!C22:C28,'Jour 1'!C30:C36,'Jour 1'!H22:H28,'Jour 1'!H30:H36,'Jour 1'!C41:C47,'Jour 1'!C49:C55,'Jour 1'!H41:H47,'Jour 1'!H49:H55,'Jour 2'!C22:C28,'Jour 2'!H22:H28,'Jour 2'!C30:C36,'Jour 2'!H30:H36,'Jour 2'!C41:C47,'Jour 2'!C49:C55,'Jour 2'!H41:H47,'Jour 2'!H49:H55,'Jour 3'!C22:C28,'Jour 3'!C30:C36,'Jour 3'!H22:H28,'Jour 3'!H30:H36,'Jour 3'!C41:C47,'Jour 3'!H41:H47,'Jour 3'!C49:C55,'Jour 3'!H49:H55,'Jour 4'!C22:C28,'Jour 4'!C30:C36,'Jour 4'!H22:H28,'Jour 4'!H30:H36,'Jour 4'!C41:C47,'Jour 4'!C49:C55,'Jour 4'!H41:H47,'Jour 4'!H49:H55,'Jour 5'!C22:C28,'Jour 5'!C30:C36,'Jour 5'!H22:H28,'Jour 5'!H30:H36,'Jour 5'!C41:C47,'Jour 5'!C49:C55,'Jour 5'!H41:H47,'Jour 5'!H49:H55)),"", AVERAGE('Jour 1'!C22:C28,'Jour 1'!C30:C36,'Jour 1'!H22:H28,'Jour 1'!H30:H36,'Jour 1'!C41:C47,'Jour 1'!C49:C55,'Jour 1'!H41:H47,'Jour 1'!H49:H55,'Jour 2'!C22:C28,'Jour 2'!H22:H28,'Jour 2'!C30:C36,'Jour 2'!H30:H36,'Jour 2'!C41:C47,'Jour 2'!C49:C55,'Jour 2'!H41:H47,'Jour 2'!H49:H55,'Jour 3'!C22:C28,'Jour 3'!C30:C36,'Jour 3'!H22:H28,'Jour 3'!H30:H36,'Jour 3'!C41:C47,'Jour 3'!H41:H47,'Jour 3'!C49:C55,'Jour 3'!H49:H55,'Jour 4'!C22:C28,'Jour 4'!C30:C36,'Jour 4'!H22:H28,'Jour 4'!H30:H36,'Jour 4'!C41:C47,'Jour 4'!C49:C55,'Jour 4'!H41:H47,'Jour 4'!H49:H55,'Jour 5'!C22:C28,'Jour 5'!C30:C36,'Jour 5'!H22:H28,'Jour 5'!H30:H36,'Jour 5'!C41:C47,'Jour 5'!C49:C55,'Jour 5'!H41:H47,'Jour 5'!H49:H55)) -> 12.823529 | F16: Coordonnateur
B19: Candidats | F19: N°Jury | G19: Note la plus haute | H19: Note la plus basse
B20: Inscrits | C20: =SUM('Jour 1'!I7,'Jour 2'!I7,'Jour 3'!I7,'Jour 4'!I7,'Jour 5'!I7) -> 0 | F20: Jury APL11 | G20: =MAX('Jour 1'!C22:C28,'Jour 1'!C30:C36,'Jour 2'!C22:C28,'Jour 2'!C30:C36,'Jour 3'!C22:C28,'Jour 3'!C30:C36,'Jour 4'!C22:C28,'Jour 4'!C30:C36,'Jour 5'!C22:C28,'Jour 5'!C30:C36) -> 18 | H20: =MIN('Jour 1'!C22:C28,'Jour 1'!C30:C36,'Jour 2'!C22:C28,'Jour 2'!C30:C36,'Jour 3'!C22:C28,'Jour 3'!C30:C36,'Jour 4'!C22:C28,'Jour 4'!C30:C36,'Jour 5'!C22:C28,'Jour 5'!C30:C36) -> 6
B21: Présents | C21: =SUM('Jour 1'!I8,'Jour 2'!I8,'Jour 3'!I8,'Jour 4'!I8,'Jour 5'!I8) -> 0 | F21: Jury APL12 | G21: =MAX('Jour 1'!H22:H28,'Jour 1'!H30:H36,'Jour 2'!H22:H28,'Jour 2'!H30:H36,'Jour 3'!H22:H28,'Jour 3'!H30:H36,'Jour 4'!H22:H28,'Jour 4'!H30:H36,'Jour 5'!H22:H28,'Jour 5'!H30:H36) -> 18 | H21: =MIN('Jour 1'!H22:H28,'Jour 1'!H30:H36,'Jour 2'!H22:H28,'Jour 2'!H30:H36,'Jour 3'!H22:H28,'Jour 3'!H30:H36,'Jour 4'!H22:H28,'Jour 4'!H30:H36,'Jour 5'!H22:H28,'Jour 5'!H30:H36) -> 8
B22: Absents | C22: =SUM('Jour 1'!I9,'Jour 2'!I9,'Jour 3'!I9,'Jour 4'!I9,'Jour 5'!I9) -> 0 | F22: Jury APL13 | G22: =MAX('Jour 1'!C41:C47,'Jour 1'!C49:C55,'Jour 2'!C41:C47,'Jour 2'!C49:C55,'Jour 3'!C41:C47,'Jour 3'!C49:C55,'Jour 4'!C41:C47,'Jour 4'!C49:C55,'Jour 5'!C41:C47,'Jour 5'!C49:C55) -> 20 | H22: =MIN('Jour 1'!C41:C47,'Jour 1'!C49:C55,'Jour 2'!C41:C47,'Jour 2'!C49:C55,'Jour 3'!C41:C47,'Jour 3'!C49:C55,'Jour 4'!C41:C47,'Jour 4'!C49:C55,'Jour 5'!C41:C47,'Jour 5'!C49:C55) -> 8
F23: Jury APL14 | G23: =MAX('Jour 1'!H41:H47,'Jour 1'!H49:H55,'Jour 2'!H41:H47,'Jour 2'!H49:H55,'Jour 3'!H41:H47,'Jour 3'!H49:H55,'Jour 4'!H41:H47,'Jour 4'!H49:H55,'Jour 5'!H41:H47,'Jour 5'!H49:H55) -> 20 | H23: =MIN('Jour 1'!H41:H47,'Jour 1'!H49:H55,'Jour 2'!H41:H47,'Jour 2'!H49:H55,'Jour 3'!H41:H47,'Jour 3'!H49:H55,'Jour 4'!H41:H47,'Jour 4'!H49:H55,'Jour 5'!H41:H47,'Jour 5'!H49:H55) -> 3

Sheet Commentaires
