Workbook
Name INTERVAL: 'Horaire hebdomadaire équipe'!$V$5
Name ScheduleStart: #REF!

Sheet Horaire hebdomadaire équipe
C3: HORAIRE | G3: HEBDOMADAIRE | O3: PLANIFIER L'HEURE DE DÉBUT | S3: INTERVALLE DE TEMPS | W3: DATE DE DÉBUT DE LA SEMAINE
O4: 0.3125 | S4: 15 MIN | W4: 45166
V5: =--LEFT(S4,3) -> 15
C6: HEURE | G6: Lundi | K6: Mardi | O6: Mercredi | S6: Jeudi | W6: Vendredi
G7: =W4 -> 45166 | K7: =G7+1 -> 45167 | O7: =K7+1 -> 45168 | S7: =O7+1 -> 45169 | W7: =S7+1 -> 45170
G8: ='Paramètres de données'!$F$3 -> Smith | H8: ='Paramètres de données'!$F$4 -> Nadine | I8: ='Paramètres de données'!$F$5 -> Barbara | J8: ='Paramètres de données'!$F$6 -> Brandon | K8: ='Paramètres de données'!$F$3 -> Smith | L8: ='Paramètres de données'!$F$4 -> Nadine | M8: ='Paramètres de données'!$F$5 -> Barbara | N8: ='Paramètres de données'!$F$6 -> Brandon | O8: ='Paramètres de données'!$F$3 -> Smith | P8: ='Paramètres de données'!$F$4 -> Nadine | Q8: ='Paramètres de données'!$F$5 -> Barbara | R8: ='Paramètres de données'!$F$6 -> Brandon | S8: ='Paramètres de données'!$F$3 -> Smith | T8: ='Paramètres de données'!$F$4 -> Nadine | U8: ='Paramètres de données'!$F$5 -> Barbara | V8: ='Paramètres de données'!$F$6 -> Brandon | W8: ='Paramètres de données'!$F$3 -> Smith | X8: ='Paramètres de données'!$F$4 -> Nadine | Y8: ='Paramètres de données'!$F$5 -> Barbara | Z8: ='Paramètres de données'!$F$6 -> Brandon | AC8: 1 heure de: | AD8: Étude | AE8: Loge | AF8: Admin | AG8: Pause
C9: =O4 -> 0.3125 | D9: à | E9: {=C9+TIME(0,INTERVAL,0)} -> 0.32291667 | AD9: Étude | AE9: Loge | AF9: Admin | AG9: Pause
C10: =E9 -> 0.32291667 | D10: à | E10: =C10+TIME(0,INTERVAL,0) -> 0.33333333 | G10: Divers | H10: Divers | K10: Divers | L10: Divers | O10: Divers | P10: Divers | S10: Divers | T10: Divers | V10: Divers | W10: Divers | X10: Divers | Z10: Divers | AD10: Étude | AE10: Loge | AF10: Admin | AG10: Pause
C11: =E10 -> 0.33333333 | D11: à | E11: =C11+TIME(0,INTERVAL,0) -> 0.34375 | G11: Étude | H11: Divers | I11: Loge | K11: Smith | L11: Nadine | M11: Babara | O11: Smith | P11: Nadine | Q11: Barbara | S11: Smith | T11: Nadine | U11: Barbara | V11: Brandon | W11: Smith | X11: Nadine | Y11: Barbara | Z11: Brandon | AD11: Étude | AE11: Loge | AF11: Admin | AG11: Pause
C12: =E11 -> 0.34375 | D12: à | E12: =C12+TIME(0,INTERVAL,0) -> 0.35416667 | G12: =G$11 -> Étude | H12: Divers | I12: Divers | K12: Divers | L12: Divers | M12: Divers | O12: Divers | P12: Divers | Q12: Divers | S12: Divers | T12: Divers | U12: Divers | V12: Divers | W12: Divers | X12: Divers | Y12: Divers | Z12: Divers | AD12: Étude | AE12: Loge | AF12: Admin | AG12: Pause
C13: =E12 -> 0.35416667 | D13: à | E13: =C13+TIME(0,INTERVAL,0) -> 0.36458333 | G13: =G11 -> Étude | H13: Divers | I13: Divers | K13: Divers | L13: Divers | M13: Divers | O13: Divers | P13: Divers | Q13: Divers | S13: Divers | T13: Divers | U13: Divers | V13: Divers | W13: Divers | X13: Divers | Y13: Divers | Z13: Divers
C14: =E13 -> 0.36458333 | D14: à | E14: =C14+TIME(0,INTERVAL,0) -> 0.375 | G14: =G11 -> Étude | H14: Divers | I14: Divers | K14: Divers | L14: Divers | M14: Divers | O14: Divers | P14: Divers | Q14: Divers | S14: Divers | T14: Divers | U14: Divers | V14: Divers | W14: Divers | X14: Divers | Y14: Divers | Z14: Divers
C15: =E14 -> 0.375 | D15: à | E15: =C15+TIME(0,INTERVAL,0) -> 0.38541667 | G15: Loge | H15: Divers | I15: Barbara | K15: Smith | L15: Étude | M15: Babara | N15: Brandon | O15: Smith | P15: Nadine | Q15: Barbara | S15: Smith | T15: Nadine | U15: Barbara | V15: Brandon | W15: Smith | X15: Nadine | Y15: Barbara | Z15: Brandon
C16: =E15 -> 0.38541667 | D16: à | E16: =C16+TIME(0,INTERVAL,0) -> 0.39583333 | G16: =G$15 -> Loge | H16: Divers | I16: Barbara | K16: Smith | L16: Étude | M16: Babara | N16: Brandon | O16: Smith | P16: Nadine | Q16: Barbara | S16: Smith | T16: Nadine | U16: Barbara | V16: Brandon | W16: Smith | X16: Nadine | Y16: Barbara | Z16: Brandon
C17: =E16 -> 0.39583333 | D17: à | E17: =C17+TIME(0,INTERVAL,0) -> 0.40625 | G17: =G15 -> Loge | H17: Divers | I17: Barbara | K17: Smith | L17: Nadine | M17: Babara | N17: Brandon | O17: Smith | P17: Nadine | Q17: Barbara | S17: Smith | T17: Nadine | U17: Barbara | V17: Brandon | W17: Smith | X17: Nadine | Y17: Barbara | Z17: Brandon
C18: =E17 -> 0.40625 | D18: à | E18: =C18+TIME(0,INTERVAL,0) -> 0.41666667 | G18: =G15 -> Loge | H18: Divers | I18: Barbara | K18: Smith | L18: Étude | M18: Babara | N18: Brandon | O18: Smith | P18: Nadine | Q18: Barbara | S18: Smith | T18: Nadine | U18: Barbara | V18: Brandon | W18: Smith | X18: Nadine | Y18: Barbara | Z18: Brandon
C19: =E18 -> 0.41666667 | D19: à | E19: =C19+TIME(0,INTERVAL,0) -> 0.42708333 | G19: Étude | H19: Divers | I19: Barbara | K19: Smith | L19: Nadine | M19: Babara | N19: Brandon | O19: Smith | P19: Nadine | Q19: Barbara | R19: Brandon | S19: Smith | T19: Nadine | U19: Barbara | V19: Brandon | W19: Smith | X19: Nadine | Y19: Barbara | Z19: Brandon
C20: =E19 -> 0.42708333 | D20: à | E20: =C20+TIME(0,INTERVAL,0) -> 0.4375 | G20: =G19 -> Étude | H20: Divers | I20: Barbara | K20: Smith | L20: Nadine | M20: Babara | N20: Brandon | O20: Smith | P20: Nadine | Q20: Barbara | R20: Brandon | S20: Smith | T20: Nadine | U20: Barbara | V20: Brandon | W20: Smith | X20: Nadine | Y20: Barbara | Z20: Brandon
C21: =E20 -> 0.4375 | D21: à | E21: =C21+TIME(0,INTERVAL,0) -> 0.44791667 | G21: =G19 -> Étude | H21: Divers | I21: Barbara | K21: Smith | L21: Nadine | M21: Babara | N21: Brandon | O21: Smith | P21: Nadine | Q21: Barbara | R21: Brandon | S21: Smith | T21: Nadine | U21: Barbara | V21: Brandon | W21: Smith | X21: Nadine | Y21: Barbara | Z21: Brandon
C22: =E21 -> 0.44791667 | D22: à | E22: =C22+TIME(0,INTERVAL,0) -> 0.45833333 | G22: =G19 -> Étude | H22: Divers | I22: Divers | K22: Divers | L22: Divers | M22: Divers | N22: Divers | O22: Divers | P22: Divers | Q22: Divers | R22: Divers | S22: Divers | T22: Divers | U22: Divers | V22: Divers | W22: Divers | X22: Divers | Y22: Divers | Z22: Divers
C23: =E22 -> 0.45833333 | D23: à | E23: =C23+TIME(0,INTERVAL,0) -> 0.46875 | G23: Récré | H23: Récré | I23: Récré | K23: Récré | L23: Récré | M23: Récré | N23: Récré | O23: Récré | P23: Récré | Q23: Récré | R23: Récré | S23: Récré | T23: Récré | U23: Récré | V23: Récré | W23: Récré | X23: Récré | Y23: Récré | Z23: Récré
C24: =E23 -> 0.46875 | D24: à | E24: =C24+TIME(0,INTERVAL,0) -> 0.47916667 | G24: Étude | H24: Divers | I24: Barbara | K24: Smith | L24: Nadine | M24: Babara | N24: Brandon | O24: Smith | P24: Nadine | Q24: Barbara | R24: Brandon | S24: Smith | T24: Nadine | U24: Barbara | V24: Brandon | W24: Smith | X24: Nadine | Y24: Barbara | Z24: Brandon
C25: =E24 -> 0.47916667 | D25: à | E25: =C25+TIME(0,INTERVAL,0) -> 0.48958333 | G25: =G24 -> Étude | H25: Divers | I25: Barbara | K25: Smith | L25: Nadine | M25: Babara | N25: Brandon | O25: Smith | P25: Nadine | Q25: Barbara | R25: Brandon | S25: Smith | T25: Nadine | U25: Barbara | V25: Brandon | W25: Smith | X25: Nadine | Y25: Barbara | Z25: Brandon
C26: =E25 -> 0.48958333 | D26: à | E26: =C26+TIME(0,INTERVAL,0) -> 0.5 | G26: =G24 -> Étude | H26: Divers | I26: Barbara | K26: Smith | L26: Nadine | M26: Babara | N26: Brandon | O26: Smith | P26: Nadine | Q26: Barbara | R26: Brandon | S26: Smith | T26: Nadine | U26: Barbara | V26: Brandon | W26: Smith | X26: Nadine | Y26: Barbara | Z26: Brandon
C27: =E26 -> 0.5 | D27: à | E27: =C27+TIME(0,INTERVAL,0) -> 0.51041667 | G27: =G24 -> Étude | H27: Divers | I27: Barbara | K27: Smith | L27: Nadine | M27: Babara | O27: Smith | P27: Nadine | Q27: Barbara | R27: Brandon | S27: Smith | T27: Nadine | U27: Barbara | V27: Brandon | W27: Smith | X27: Nadine | Y27: Barbara | Z27: Brandon
C28: =E27 -> 0.51041667 | D28: à | E28: =C28+TIME(0,INTERVAL,0) -> 0.52083333 | G28: Étude | H28: Divers | I28: Barbara | K28: Smith | L28: Nadine | M28: Babara | O28: Smith | P28: Nadine | Q28: Barbara | R28: Brandon | S28: Smith | T28: Nadine | U28: Barbara | V28: Brandon | W28: Smith | X28: Nadine | Y28: Barbara | Z28: Brandon
C29: =E28 -> 0.52083333 | D29: à | E29: =C29+TIME(0,INTERVAL,0) -> 0.53125 | G29: =G28 -> Étude | H29: Divers | I29: Barbara | K29: Smith | L29: Nadine | M29: Babara | O29: Smith | P29: Nadine | Q29: Barbara | R29: Brandon | S29: Smith | T29: Nadine | U29: Barbara | V29: Brandon | W29: Smith | X29: Nadine | Y29: Barbara | Z29: Brandon
C30: =E29 -> 0.53125 | D30: à | E30: =C30+TIME(0,INTERVAL,0) -> 0.54166667 | G30: =G28 -> Étude | H30: Divers | I30: Barbara | K30: Smith | L30: Nadine | M30: Babara | O30: Smith | P30: Nadine | Q30: Barbara | R30: Brandon | S30: Smith | T30: Nadine | U30: Barbara | V30: Brandon | W30: Smith | X30: Nadine | Y30: Barbara | Z30: Brandon
C31: =E30 -> 0.54166667 | D31: à | E31: =C31+TIME(0,INTERVAL,0) -> 0.55208333 | G31: =G28 -> Étude | H31: Divers | I31: Barbara | K31: Smith | L31: Nadine | M31: Babara | O31: Smith | P31: Nadine | R31: Brandon | S31: Smith | T31: Nadine | U31: Barbara | V31: Brandon | W31: Smith | X31: Nadine | Y31: Barbara | Z31: Brandon
C32: =E31 -> 0.55208333 | D32: à | E32: =C32+TIME(0,INTERVAL,0) -> 0.5625 | G32: Récré | H32: Récré | I32: Récré | K32: Récré | L32: Récré | M32: Récré | O32: Récré | P32: Récré | R32: Récré | S32: Récré | T32: Récré | U32: Récré | V32: Récré | W32: Récré | X32: Récré | Y32: Récré | Z32: Récré
C33: =E32 -> 0.5625 | D33: à | E33: =C33+TIME(0,INTERVAL,0) -> 0.57291667 | G33: Récré | H33: Récré | I33: Récré | K33: Récré | L33: Récré | M33: Récré | O33: Récré | P33: Récré | R33: Récré | S33: Récré | T33: Récré | U33: Récré | V33: Récré | W33: Récré | X33: Récré | Y33: Récré | Z33: Récré
C34: =E33 -> 0.57291667 | D34: à | E34: =C34+TIME(0,INTERVAL,0) -> 0.58333333 | G34: Récré | H34: Récré | I34: Récré | K34: Récré | L34: Récré | M34: Récré | O34: Récré | P34: Récré | R34: Récré | S34: Récré | T34: Récré | U34: Récré | V34: Récré | W34: Récré | X34: Récré | Y34: Récré | Z34: Récré
C35: =E34 -> 0.58333333 | D35: à | E35: =C35+TIME(0,INTERVAL,0) -> 0.59375 | G35: Etude | H35: Divers | I35: Barbara | K35: Smith | L35: Nadine | M35: Babara | R35: Brandon | T35: Nadine | U35: Barbara | W35: Smith | X35: Nadine | Y35: Barbara | Z35: Brandon
C36: =E35 -> 0.59375 | D36: à | E36: =C36+TIME(0,INTERVAL,0) -> 0.60416667 | G36: Etude | H36: Divers | I36: Barbara | K36: Smith | L36: Nadine | M36: Babara | R36: Brandon | T36: Nadine | U36: Barbara | W36: Smith | X36: Nadine | Y36: Barbara | Z36: Brandon
C37: =E36 -> 0.60416667 | D37: à | E37: =C37+TIME(0,INTERVAL,0) -> 0.61458333 | G37: PAUSE | H37: PAUSE | I37: PAUSE | K37: PAUSE | L37: PAUSE | M37: PAUSE | R37: PAUSE | T37: PAUSE | U37: PAUSE | Y37: PAUSE
C38: =E37 -> 0.61458333 | D38: à | E38: =C38+TIME(0,INTERVAL,0) -> 0.625 | G38: PAUSE | H38: PAUSE | I38: PAUSE | K38: PAUSE | L38: PAUSE | M38: PAUSE | R38: PAUSE | T38: PAUSE | U38: PAUSE | Y38: PAUSE
C39: =E38 -> 0.625 | D39: à | E39: =C39+TIME(0,INTERVAL,0) -> 0.63541667 | G39: Smith | H39: Divers | I39: Barbara | K39: Loge | L39: Nadine | M39: Babara | R39: Brandon | T39: Nadine | U39: Barbara | Y39: Barbara
C40: =E39 -> 0.63541667 | D40: à | E40: =C40+TIME(0,INTERVAL,0) -> 0.64583333 | G40: Étude | H40: Divers | I40: Barbara | K40: Loge | L40: Nadine | M40: Babara | R40: Brandon | T40: Nadine | U40: Barbara | Y40: Barbara
C41: =E40 -> 0.64583333 | D41: à | E41: =C41+TIME(0,INTERVAL,0) -> 0.65625 | G41: Étude | H41: Divers | I41: Barbara | K41: Loge | L41: Loge | M41: Admin | R41: Brandon | T41: Nadine | U41: Barbara
C42: =E41 -> 0.65625 | D42: à | E42: =C42+TIME(0,INTERVAL,0) -> 0.66666667 | G42: Étude | I42: Barbara | K42: Loge | R42: Brandon | T42: Nadine | U42: Barbara
...

Sheet Horaire par éducateur
C3: ='Horaire hebdomadaire équipe'!C3 -> HORAIRE | G3: Brandon
C4: ='Horaire hebdomadaire équipe'!G3 -> HEBDOMADAIRE
C6: ='Horaire hebdomadaire équipe'!C6 -> HEURE | G6: Lundi | I6: Mardi | K6: Mercredi | M6: Jeudi | O6: Vendredi
G7: Début | H7: Fin | I7: Début | J7: Fin | K7: Début | L7: Fin | M7: Début | N7: Fin | O7: Début | P7: Fin
G8: {=IFERROR(INDEX($C$10:$C$48,MIN(IF(G10:H48<>0,ROW(G10:H48)-MIN(ROW(G10:H48))+1))),"")} -> #VALUE! | H8: {=IFERROR(INDEX($E$10:$E$48,MAX(IF(G10:H48<>0,ROW(G10:H48)-MIN(ROW(G10:H48))+1))),"faux")} -> #VALUE! | I8: {=IFERROR(INDEX($C$10:$C$48,MIN(IF(I10:J48<>0,ROW(I10:J48)-MIN(ROW(I10:J48))+1))),"faux")} -> 0.375 | J8: {=IFERROR(INDEX($E$10:$E$48,MAX(IF(I10:J48<>0,ROW(I10:J48)-MIN(ROW(I10:J48))+1))),"faux")} -> 0.5 | K8: {=IFERROR(INDEX($C$10:$C$48,MIN(IF(K10:L48<>0,ROW(K10:L48)-MIN(ROW(K10:L48))+1))),"faux")} -> 0.41666667 | L8: {=IFERROR(INDEX($E$10:$E$48,MAX(IF(K10:L48<>0,ROW(K10:L48)-MIN(ROW(K10:L48))+1))),"faux")} -> 0.70833333 | M8: {=IFERROR(INDEX($C$10:$C$48,MIN(IF(M10:N48<>0,ROW(M10:N48)-MIN(ROW(M10:N48))+1))),"faux")} -> 0.32291667 | N8: {=IFERROR(INDEX($E$10:$E$48,MAX(IF(M10:N48<>0,ROW(M10:N48)-MIN(ROW(M10:N48))+1))),"faux")} -> 0.58333333 | O8: {=IFERROR(INDEX($C$10:$C$48,MIN(IF(O10:P48<>0,ROW(O10:P48)-MIN(ROW(O10:P48))+1))),"faux")} -> 0.32291667 | P8: {=IFERROR(INDEX($E$10:$E$48,MAX(IF(O10:P48<>0,ROW(O10:P48)-MIN(ROW(O10:P48))+1))),"faux")} -> 0.60416667
G9: =$G$3 -> Brandon | I9: =$G$3 -> Brandon | K9: =$G$3 -> Brandon | M9: =$G$3 -> Brandon | O9: =$G$3 -> Brandon
C10: ='Horaire hebdomadaire équipe'!C9 -> 0.3125 | D10: à | E10: =+'Horaire hebdomadaire équipe'!E9 -> 0.32291667 | G10: {=_xlfn.IFS($G$3='Horaire hebdomadaire équipe'!$G$8,'Horaire hebdomadaire équipe'!G9,'Horaire par éducateur'!$G$3='Horaire hebdomadaire équipe'!$H$8,'Horaire hebdomadaire équipe'!H9,'Horaire par éducateur'!$G$3='Horaire hebdomadaire équipe'!$I$8,'Horaire hebdomadaire équipe'!I9,$G$3='Horaire hebdomadaire équipe'!$J$8,'Horaire hebdomadaire équipe'!J9)} -> 0 | I10: {=_xlfn.IFS($G$3='Horaire hebdomadaire équipe'!$K$8,'Horaire hebdomadaire équipe'!K9,'Horaire par éducateur'!$G$3='Horaire hebdomadaire équipe'!$L$8,'Horaire hebdomadaire équipe'!L9,'Horaire par éducateur'!$G$3='Horaire hebdomadaire équipe'!$M$8,'Horaire hebdomadaire équipe'!M9,$G$3='Horaire hebdomadaire équipe'!$N$8,'Horaire hebdomadaire équipe'!N9)} -> 0 | K10: {=_xlfn.IFS($G$3='Horaire hebdomadaire équipe'!$O$8,'Horaire hebdomadaire équipe'!O9,$G$3='Horaire hebdomadaire équipe'!$P$8,'Horaire hebdomadaire équipe'!P9,$G$3='Horaire hebdomadaire équipe'!$Q$8,'Horaire hebdomadaire équipe'!Q9,$G$3='Horaire hebdomadaire équipe'!$R$8,'Horaire hebdomadaire équipe'!R9)} -> 0 | M10: {=_xlfn.IFS($G$3='Horaire hebdomadaire équipe'!$S$8,'Horaire hebdomadaire équipe'!S9,$G$3='Horaire hebdomadaire équipe'!$T$8,'Horaire hebdomadaire équipe'!T9,$G$3='Horaire hebdomadaire équipe'!$U$8,'Horaire hebdomadaire équipe'!U9,$G$3='Horaire hebdomadaire équipe'!$V$8,'Horaire hebdomadaire équipe'!V9)} -> 0 | O10: {=_xlfn.IFS($G$3='Horaire hebdomadaire équipe'!$W$8,'Horaire hebdomadaire équipe'!W9,$G$3='Horaire hebdomadaire équipe'!$X$8,'Horaire hebdomadaire équipe'!X9,$G$3='Horaire hebdomadaire équipe'!$Y$8,'Horaire hebdomadaire équipe'!Y9,$G$3='Horaire hebdomadaire équipe'!$Z$8,'Horaire hebdomadaire équipe'!Z9)} -> 0
C11: ='Horaire hebdomadaire équipe'!C10 -> 0.32291667 | D11: à | E11: =+'Horaire hebdomadaire équipe'!E10 -> 0.33333333 | G11: {=_xlfn.IFS($G$3='Horaire hebdomadaire équipe'!$G$8,'Horaire hebdomadaire équipe'!G10,'Horaire par éducateur'!$G$3='Horaire hebdomadaire équipe'!$H$8,'Horaire hebdomadaire équipe'!H10,'Horaire par éducateur'!$G$3='Horaire hebdomadaire équipe'!$I$8,'Horaire hebdomadaire équipe'!I10,$G$3='Horaire hebdomadaire équipe'!$J$8,'Horaire hebdomadaire équipe'!J10)} -> 0 | I11: {=_xlfn.IFS($G$3='Horaire hebdomadaire équipe'!$K$8,'Horaire hebdomadaire équipe'!K10,'Horaire par éducateur'!$G$3='Horaire hebdomadaire équipe'!$L$8,'Horaire hebdomadaire équipe'!L10,'Horaire par éducateur'!$G$3='Horaire hebdomadaire équipe'!$M$8,'Horaire hebdomadaire équipe'!M10,$G$3='Horaire hebdomadaire équipe'!$N$8,'Horaire hebdomadaire équipe'!N10)} -> 0 | K11: {=_xlfn.IFS($G$3='Horaire hebdomadaire équipe'!$O$8,'Horaire hebdomadaire équipe'!O10,$G$3='Horaire hebdomadaire équipe'!$P$8,'Horaire hebdomadaire équipe'!P10,$G$3='Horaire hebdomadaire équipe'!$Q$8,'Horaire hebdomadaire équipe'!Q10,$G$3='Horaire hebdomadaire équipe'!$R$8,'Horaire hebdomadaire équipe'!R10)} -> 0 | M11: {=_xlfn.IFS($G$3='Horaire hebdomadaire équipe'!$S$8,'Horaire hebdomadaire équipe'!S10,$G$3='Horaire hebdomadaire équipe'!$T$8,'Horaire hebdomadaire équipe'!T10,$G$3='Horaire hebdomadaire équipe'!$U$8,'Horaire hebdomadaire équipe'!U10,$G$3='Horaire hebdomadaire équipe'!$V$8,'Horaire hebdomadaire équipe'!V10)} -> Divers | O11: {=_xlfn.IFS($G$3='Horaire hebdomadaire équipe'!$W$8,'Horaire hebdomadaire équipe'!W10,$G$3='Horaire hebdomadaire équipe'!$X$8,'Horaire hebdomadaire équipe'!X10,$G$3='Horaire hebdomadaire équipe'!$Y$8,'Horaire hebdomadaire équipe'!Y10,$G$3='Horaire hebdomadaire équipe'!$Z$8,'Horaire hebdomadaire équipe'!Z10)} -> Divers
C12: ='Horaire hebdomadaire équipe'!C11 -> 0.33333333 | D12: à | E12: =+'Horaire hebdomadaire équipe'!E11 -> 0.34375 | G12: {=_xlfn.IFS($G$3='Horaire hebdomadaire équipe'!$G$8,'Horaire hebdomadaire équipe'!G11,'Horaire par éducateur'!$G$3='Horaire hebdomadaire équipe'!$H$8,'Horaire hebdomadaire équipe'!H11,'Horaire par éducateur'!$G$3='Horaire hebdomadaire équipe'!$I$8,'Horaire hebdomadaire équipe'!I11,$G$3='Horaire hebdomadaire équipe'!$J$8,'Horaire hebdomadaire équipe'!J11)} -> 0 | I12: {=_xlfn.IFS($G$3='Horaire hebdomadaire équipe'!$K$8,'Horaire hebdomadaire équipe'!K11,'Horaire par éducateur'!$G$3='Horaire hebdomadaire équipe'!$L$8,'Horaire hebdomadaire équipe'!L11,'Horaire par éducateur'!$G$3='Horaire hebdomadaire équipe'!$M$8,'Horaire hebdomadaire équipe'!M11,$G$3='Horaire hebdomadaire équipe'!$N$8,'Horaire hebdomadaire équipe'!N11)} -> 0 | K12: {=_xlfn.IFS($G$3='Horaire hebdomadaire équipe'!$O$8,'Horaire hebdomadaire équipe'!O11,$G$3='Horaire hebdomadaire équipe'!$P$8,'Horaire hebdomadaire équipe'!P11,$G$3='Horaire hebdomadaire équipe'!$Q$8,'Horaire hebdomadaire équipe'!Q11,$G$3='Horaire hebdomadaire équipe'!$R$8,'Horaire hebdomadaire équipe'!R11)} -> 0 | M12: {=_xlfn.IFS($G$3='Horaire hebdomadaire équipe'!$S$8,'Horaire hebdomadaire équipe'!S11,$G$3='Horaire hebdomadaire équipe'!$T$8,'Horaire hebdomadaire équipe'!T11,$G$3='Horaire hebdomadaire équipe'!$U$8,'Horaire hebdomadaire équipe'!U11,$G$3='Horaire hebdomadaire équipe'!$V$8,'Horaire hebdomadaire équipe'!V11)} -> Brandon | O12: {=_xlfn.IFS($G$3='Horaire hebdomadaire équipe'!$W$8,'Horaire hebdomadaire équipe'!W11,$G$3='Horaire hebdomadaire équipe'!$X$8,'Horaire hebdomadaire équipe'!X11,$G$3='Horaire hebdomadaire équipe'!$Y$8,'Horaire hebdomadaire équipe'!Y11,$G$3='Horaire hebdomadaire équipe'!$Z$8,'Horaire hebdomadaire équipe'!Z11)} -> Brandon
C13: ='Horaire hebdomadaire équipe'!C12 -> 0.34375 | D13: à | E13: =+'Horaire hebdomadaire équipe'!E12 -> 0.35416667 | G13: {=_xlfn.IFS($G$3='Horaire hebdomadaire équipe'!$G$8,'Horaire hebdomadaire équipe'!G12,'Horaire par éducateur'!$G$3='Horaire hebdomadaire équipe'!$H$8,'Horaire hebdomadaire équipe'!H12,'Horaire par éducateur'!$G$3='Horaire hebdomadaire équipe'!$I$8,'Horaire hebdomadaire équipe'!I12,$G$3='Horaire hebdomadaire équipe'!$J$8,'Horaire hebdomadaire équipe'!J12)} -> 0 | I13: {=_xlfn.IFS($G$3='Horaire hebdomadaire équipe'!$K$8,'Horaire hebdomadaire équipe'!K12,'Horaire par éducateur'!$G$3='Horaire hebdomadaire équipe'!$L$8,'Horaire hebdomadaire équipe'!L12,'Horaire par éducateur'!$G$3='Horaire hebdomadaire équipe'!$M$8,'Horaire hebdomadaire équipe'!M12,$G$3='Horaire hebdomadaire équipe'!$N$8,'Horaire hebdomadaire équipe'!N12)} -> 0 | K13: {=_xlfn.IFS($G$3='Horaire hebdomadaire équipe'!$O$8,'Horaire hebdomadaire équipe'!O12,$G$3='Horaire hebdomadaire équipe'!$P$8,'Horaire hebdomadaire équipe'!P12,$G$3='Horaire hebdomadaire équipe'!$Q$8,'Horaire hebdomadaire équipe'!Q12,$G$3='Horaire hebdomadaire équipe'!$R$8,'Horaire hebdomadaire équipe'!R12)} -> 0 | M13: {=_xlfn.IFS($G$3='Horaire hebdomadaire équipe'!$S$8,'Horaire hebdomadaire équipe'!S12,$G$3='Horaire hebdomadaire équipe'!$T$8,'Horaire hebdomadaire équipe'!T12,$G$3='Horaire hebdomadaire équipe'!$U$8,'Horaire hebdomadaire équipe'!U12,$G$3='Horaire hebdomadaire équipe'!$V$8,'Horaire hebdomadaire équipe'!V12)} -> Divers | O13: {=_xlfn.IFS($G$3='Horaire hebdomadaire équipe'!$W$8,'Horaire hebdomadaire équipe'!W12,$G$3='Horaire hebdomadaire équipe'!$X$8,'Horaire hebdomadaire équipe'!X12,$G$3='Horaire hebdomadaire équipe'!$Y$8,'Horaire hebdomadaire équipe'!Y12,$G$3='Horaire hebdomadaire équipe'!$Z$8,'Horaire hebdomadaire équipe'!Z12)} -> Divers
C14: ='Horaire hebdomadaire équipe'!C13 -> 0.35416667 | D14: à | E14: =+'Horaire hebdomadaire équipe'!E13 -> 0.36458333 | G14: {=_xlfn.IFS($G$3='Horaire hebdomadaire équipe'!$G$8,'Horaire hebdomadaire équipe'!G13,'Horaire par éducateur'!$G$3='Horaire hebdomadaire équipe'!$H$8,'Horaire hebdomadaire équipe'!H13,'Horaire par éducateur'!$G$3='Horaire hebdomadaire équipe'!$I$8,'Horaire hebdomadaire équipe'!I13,$G$3='Horaire hebdomadaire équipe'!$J$8,'Horaire hebdomadaire équipe'!J13)} -> 0 | I14: {=_xlfn.IFS($G$3='Horaire hebdomadaire équipe'!$K$8,'Horaire hebdomadaire équipe'!K13,'Horaire par éducateur'!$G$3='Horaire hebdomadaire équipe'!$L$8,'Horaire hebdomadaire équipe'!L13,'Horaire par éducateur'!$G$3='Horaire hebdomadaire équipe'!$M$8,'Horaire hebdomadaire équipe'!M13,$G$3='Horaire hebdomadaire équipe'!$N$8,'Horaire hebdomadaire équipe'!N13)} -> 0 | K14: {=_xlfn.IFS($G$3='Horaire hebdomadaire équipe'!$O$8,'Horaire hebdomadaire équipe'!O13,$G$3='Horaire hebdomadaire équipe'!$P$8,'Horaire hebdomadaire équipe'!P13,$G$3='Horaire hebdomadaire équipe'!$Q$8,'Horaire hebdomadaire équipe'!Q13,$G$3='Horaire hebdomadaire équipe'!$R$8,'Horaire hebdomadaire équipe'!R13)} -> 0 | M14: {=_xlfn.IFS($G$3='Horaire hebdomadaire équipe'!$S$8,'Horaire hebdomadaire équipe'!S13,$G$3='Horaire hebdomadaire équipe'!$T$8,'Horaire hebdomadaire équipe'!T13,$G$3='Horaire hebdomadaire équipe'!$U$8,'Horaire hebdomadaire équipe'!U13,$G$3='Horaire hebdomadaire équipe'!$V$8,'Horaire hebdomadaire équipe'!V13)} -> Divers | O14: {=_xlfn.IFS($G$3='Horaire hebdomadaire équipe'!$W$8,'Horaire hebdomadaire équipe'!W13,$G$3='Horaire hebdomadaire équipe'!$X$8,'Horaire hebdomadaire équipe'!X13,$G$3='Horaire hebdomadaire équipe'!$Y$8,'Horaire hebdomadaire équipe'!Y13,$G$3='Horaire hebdomadaire équipe'!$Z$8,'Horaire hebdomadaire équipe'!Z13)} -> Divers
C15: ='Horaire hebdomadaire équipe'!C14 -> 0.36458333 | D15: à | E15: =+'Horaire hebdomadaire équipe'!E14 -> 0.375 | G15: {=_xlfn.IFS($G$3='Horaire hebdomadaire équipe'!$G$8,'Horaire hebdomadaire équipe'!G14,'Horaire par éducateur'!$G$3='Horaire hebdomadaire équipe'!$H$8,'Horaire hebdomadaire équipe'!H14,'Horaire par éducateur'!$G$3='Horaire hebdomadaire équipe'!$I$8,'Horaire hebdomadaire équipe'!I14,$G$3='Horaire hebdomadaire équipe'!$J$8,'Horaire hebdomadaire équipe'!J14)} -> 0 | I15: {=_xlfn.IFS($G$3='Horaire hebdomadaire équipe'!$K$8,'Horaire hebdomadaire équipe'!K14,'Horaire par éducateur'!$G$3='Horaire hebdomadaire équipe'!$L$8,'Horaire hebdomadaire équipe'!L14,'Horaire par éducateur'!$G$3='Horaire hebdomadaire équipe'!$M$8,'Horaire hebdomadaire équipe'!M14,$G$3='Horaire hebdomadaire équipe'!$N$8,'Horaire hebdomadaire équipe'!N14)} -> 0 | K15: {=_xlfn.IFS($G$3='Horaire hebdomadaire équipe'!$O$8,'Horaire hebdomadaire équipe'!O14,$G$3='Horaire hebdomadaire équipe'!$P$8,'Horaire hebdomadaire équipe'!P14,$G$3='Horaire hebdomadaire équipe'!$Q$8,'Horaire hebdomadaire équipe'!Q14,$G$3='Horaire hebdomadaire équipe'!$R$8,'Horaire hebdomadaire équipe'!R14)} -> 0 | M15: {=_xlfn.IFS($G$3='Horaire hebdomadaire équipe'!$S$8,'Horaire hebdomadaire équipe'!S14,$G$3='Horaire hebdomadaire équipe'!$T$8,'Horaire hebdomadaire équipe'!T14,$G$3='Horaire hebdomadaire équipe'!$U$8,'Horaire hebdomadaire équipe'!U14,$G$3='Horaire hebdomadaire équipe'!$V$8,'Horaire hebdomadaire équipe'!V14)} -> Divers | O15: {=_xlfn.IFS($G$3='Horaire hebdomadaire équipe'!$W$8,'Horaire hebdomadaire équipe'!W14,$G$3='Horaire hebdomadaire équipe'!$X$8,'Horaire hebdomadaire équipe'!X14,$G$3='Horaire hebdomadaire équipe'!$Y$8,'Horaire hebdomadaire équipe'!Y14,$G$3='Horaire hebdomadaire équipe'!$Z$8,'Horaire hebdomadaire équipe'!Z14)} -> Divers
C16: ='Horaire hebdomadaire équipe'!C15 -> 0.375 | D16: à | E16: =+'Horaire hebdomadaire équipe'!E15 -> 0.38541667 | G16: {=_xlfn.IFS($G$3='Horaire hebdomadaire équipe'!$G$8,'Horaire hebdomadaire équipe'!G15,'Horaire par éducateur'!$G$3='Horaire hebdomadaire équipe'!$H$8,'Horaire hebdomadaire équipe'!H15,'Horaire par éducateur'!$G$3='Horaire hebdomadaire équipe'!$I$8,'Horaire hebdomadaire équipe'!I15,$G$3='Horaire hebdomadaire équipe'!$J$8,'Horaire hebdomadaire équipe'!J15)} -> 0 | I16: {=_xlfn.IFS($G$3='Horaire hebdomadaire équipe'!$K$8,'Horaire hebdomadaire équipe'!K15,'Horaire par éducateur'!$G$3='Horaire hebdomadaire équipe'!$L$8,'Horaire hebdomadaire équipe'!L15,'Horaire par éducateur'!$G$3='Horaire hebdomadaire équipe'!$M$8,'Horaire hebdomadaire équipe'!M15,$G$3='Horaire hebdomadaire équipe'!$N$8,'Horaire hebdomadaire équipe'!N15)} -> Brandon | K16: {=_xlfn.IFS($G$3='Horaire hebdomadaire équipe'!$O$8,'Horaire hebdomadaire équipe'!O15,$G$3='Horaire hebdomadaire équipe'!$P$8,'Horaire hebdomadaire équipe'!P15,$G$3='Horaire hebdomadaire équipe'!$Q$8,'Horaire hebdomadaire équipe'!Q15,$G$3='Horaire hebdomadaire équipe'!$R$8,'Horaire hebdomadaire équipe'!R15)} -> 0 | M16: {=_xlfn.IFS($G$3='Horaire hebdomadaire équipe'!$S$8,'Horaire hebdomadaire équipe'!S15,$G$3='Horaire hebdomadaire équipe'!$T$8,'Horaire hebdomadaire équipe'!T15,$G$3='Horaire hebdomadaire équipe'!$U$8,'Horaire hebdomadaire équipe'!U15,$G$3='Horaire hebdomadaire équipe'!$V$8,'Horaire hebdomadaire équipe'!V15)} -> Brandon | O16: {=_xlfn.IFS($G$3='Horaire hebdomadaire équipe'!$W$8,'Horaire hebdomadaire équipe'!W15,$G$3='Horaire hebdomadaire équipe'!$X$8,'Horaire hebdomadaire équipe'!X15,$G$3='Horaire hebdomadaire équipe'!$Y$8,'Horaire hebdomadaire équipe'!Y15,$G$3='Horaire hebdomadaire équipe'!$Z$8,'Horaire hebdomadaire équipe'!Z15)} -> Brandon
C17: ='Horaire hebdomadaire équipe'!C16 -> 0.38541667 | D17: à | E17: =+'Horaire hebdomadaire équipe'!E16 -> 0.39583333 | G17: {=_xlfn.IFS($G$3='Horaire hebdomadaire équipe'!$G$8,'Horaire hebdomadaire équipe'!G16,'Horaire par éducateur'!$G$3='Horaire hebdomadaire équipe'!$H$8,'Horaire hebdomadaire équipe'!H16,'Horaire par éducateur'!$G$3='Horaire hebdomadaire équipe'!$I$8,'Horaire hebdomadaire équipe'!I16,$G$3='Horaire hebdomadaire équipe'!$J$8,'Horaire hebdomadaire équipe'!J16)} -> 0 | I17: {=_xlfn.IFS($G$3='Horaire hebdomadaire équipe'!$K$8,'Horaire hebdomadaire équipe'!K16,'Horaire par éducateur'!$G$3='Horaire hebdomadaire équipe'!$L$8,'Horaire hebdomadaire équipe'!L16,'Horaire par éducateur'!$G$3='Horaire hebdomadaire équipe'!$M$8,'Horaire hebdomadaire équipe'!M16,$G$3='Horaire hebdomadaire équipe'!$N$8,'Horaire hebdomadaire équipe'!N16)} -> Brandon | K17: {=_xlfn.IFS($G$3='Horaire hebdomadaire équipe'!$O$8,'Horaire hebdomadaire équipe'!O16,$G$3='Horaire hebdomadaire équipe'!$P$8,'Horaire hebdomadaire équipe'!P16,$G$3='Horaire hebdomadaire équipe'!$Q$8,'Horaire hebdomadaire équipe'!Q16,$G$3='Horaire hebdomadaire équipe'!$R$8,'Horaire hebdomadaire équipe'!R16)} -> 0 | M17: {=_xlfn.IFS($G$3='Horaire hebdomadaire équipe'!$S$8,'Horaire hebdomadaire équipe'!S16,$G$3='Horaire hebdomadaire équipe'!$T$8,'Horaire hebdomadaire équipe'!T16,$G$3='Horaire hebdomadaire équipe'!$U$8,'Horaire hebdomadaire équipe'!U16,$G$3='Horaire hebdomadaire équipe'!$V$8,'Horaire hebdomadaire équipe'!V16)} -> Brandon | O17: {=_xlfn.IFS($G$3='Horaire hebdomadaire équipe'!$W$8,'Horaire hebdomadaire équipe'!W16,$G$3='Horaire hebdomadaire équipe'!$X$8,'Horaire hebdomadaire équipe'!X16,$G$3='Horaire hebdomadaire équipe'!$Y$8,'Horaire hebdomadaire équipe'!Y16,$G$3='Horaire hebdomadaire équipe'!$Z$8,'Horaire hebdomadaire équipe'!Z16)} -> Brandon
C18: ='Horaire hebdomadaire équipe'!C17 -> 0.39583333 | D18: à | E18: =+'Horaire hebdomadaire équipe'!E17 -> 0.40625 | G18: {=_xlfn.IFS($G$3='Horaire hebdomadaire équipe'!$G$8,'Horaire hebdomadaire équipe'!G17,'Horaire par éducateur'!$G$3='Horaire hebdomadaire équipe'!$H$8,'Horaire hebdomadaire équipe'!H17,'Horaire par éducateur'!$G$3='Horaire hebdomadaire équipe'!$I$8,'Horaire hebdomadaire équipe'!I17,$G$3='Horaire hebdomadaire équipe'!$J$8,'Horaire hebdomadaire équipe'!J17)} -> 0 | I18: {=_xlfn.IFS($G$3='Horaire hebdomadaire équipe'!$K$8,'Horaire hebdomadaire équipe'!K17,'Horaire par éducateur'!$G$3='Horaire hebdomadaire équipe'!$L$8,'Horaire hebdomadaire équipe'!L17,'Horaire par éducateur'!$G$3='Horaire hebdomadaire équipe'!$M$8,'Horaire hebdomadaire équipe'!M17,$G$3='Horaire hebdomadaire équipe'!$N$8,'Horaire hebdomadaire équipe'!N17)} -> Brandon | K18: {=_xlfn.IFS($G$3='Horaire hebdomadaire équipe'!$O$8,'Horaire hebdomadaire équipe'!O17,$G$3='Horaire hebdomadaire équipe'!$P$8,'Horaire hebdomadaire équipe'!P17,$G$3='Horaire hebdomadaire équipe'!$Q$8,'Horaire hebdomadaire équipe'!Q17,$G$3='Horaire hebdomadaire équipe'!$R$8,'Horaire hebdomadaire équipe'!R17)} -> 0 | M18: {=_xlfn.IFS($G$3='Horaire hebdomadaire équipe'!$S$8,'Horaire hebdomadaire équipe'!S17,$G$3='Horaire hebdomadaire équipe'!$T$8,'Horaire hebdomadaire équipe'!T17,$G$3='Horaire hebdomadaire équipe'!$U$8,'Horaire hebdomadaire équipe'!U17,$G$3='Horaire hebdomadaire équipe'!$V$8,'Horaire hebdomadaire équipe'!V17)} -> Brandon | O18: {=_xlfn.IFS($G$3='Horaire hebdomadaire équipe'!$W$8,'Horaire hebdomadaire équipe'!W17,$G$3='Horaire hebdomadaire équipe'!$X$8,'Horaire hebdomadaire équipe'!X17,$G$3='Horaire hebdomadaire équipe'!$Y$8,'Horaire hebdomadaire équipe'!Y17,$G$3='Horaire hebdomadaire équipe'!$Z$8,'Horaire hebdomadaire équipe'!Z17)} -> Brandon
C19: ='Horaire hebdomadaire équipe'!C18 -> 0.40625 | D19: à | E19: =+'Horaire hebdomadaire équipe'!E18 -> 0.41666667 | G19: {=_xlfn.IFS($G$3='Horaire hebdomadaire équipe'!$G$8,'Horaire hebdomadaire équipe'!G18,'Horaire par éducateur'!$G$3='Horaire hebdomadaire équipe'!$H$8,'Horaire hebdomadaire équipe'!H18,'Horaire par éducateur'!$G$3='Horaire hebdomadaire équipe'!$I$8,'Horaire hebdomadaire équipe'!I18,$G$3='Horaire hebdomadaire équipe'!$J$8,'Horaire hebdomadaire équipe'!J18)} -> 0 | I19: {=_xlfn.IFS($G$3='Horaire hebdomadaire équipe'!$K$8,'Horaire hebdomadaire équipe'!K18,'Horaire par éducateur'!$G$3='Horaire hebdomadaire équipe'!$L$8,'Horaire hebdomadaire équipe'!L18,'Horaire par éducateur'!$G$3='Horaire hebdomadaire équipe'!$M$8,'Horaire hebdomadaire équipe'!M18,$G$3='Horaire hebdomadaire équipe'!$N$8,'Horaire hebdomadaire équipe'!N18)} -> Brandon | K19: {=_xlfn.IFS($G$3='Horaire hebdomadaire équipe'!$O$8,'Horaire hebdomadaire équipe'!O18,$G$3='Horaire hebdomadaire équipe'!$P$8,'Horaire hebdomadaire équipe'!P18,$G$3='Horaire hebdomadaire équipe'!$Q$8,'Horaire hebdomadaire équipe'!Q18,$G$3='Horaire hebdomadaire équipe'!$R$8,'Horaire hebdomadaire équipe'!R18)} -> 0 | M19: {=_xlfn.IFS($G$3='Horaire hebdomadaire équipe'!$S$8,'Horaire hebdomadaire équipe'!S18,$G$3='Horaire hebdomadaire équipe'!$T$8,'Horaire hebdomadaire équipe'!T18,$G$3='Horaire hebdomadaire équipe'!$U$8,'Horaire hebdomadaire équipe'!U18,$G$3='Horaire hebdomadaire équipe'!$V$8,'Horaire hebdomadaire équipe'!V18)} -> Brandon | O19: {=_xlfn.IFS($G$3='Horaire hebdomadaire équipe'!$W$8,'Horaire hebdomadaire équipe'!W18,$G$3='Horaire hebdomadaire équipe'!$X$8,'Horaire hebdomadaire équipe'!X18,$G$3='Horaire hebdomadaire équipe'!$Y$8,'Horaire hebdomadaire équipe'!Y18,$G$3='Horaire hebdomadaire équipe'!$Z$8,'Horaire hebdomadaire équipe'!Z18)} -> Brandon
C20: ='Horaire hebdomadaire équipe'!C19 -> 0.41666667 | D20: à | E20: =+'Horaire hebdomadaire équipe'!E19 -> 0.42708333 | G20: {=_xlfn.IFS($G$3='Horaire hebdomadaire équipe'!$G$8,'Horaire hebdomadaire équipe'!G19,'Horaire par éducateur'!$G$3='Horaire hebdomadaire équipe'!$H$8,'Horaire hebdomadaire équipe'!H19,'Horaire par éducateur'!$G$3='Horaire hebdomadaire équipe'!$I$8,'Horaire hebdomadaire équipe'!I19,$G$3='Horaire hebdomadaire équipe'!$J$8,'Horaire hebdomadaire équipe'!J19)} -> 0 | I20: {=_xlfn.IFS($G$3='Horaire hebdomadaire équipe'!$K$8,'Horaire hebdomadaire équipe'!K19,'Horaire par éducateur'!$G$3='Horaire hebdomadaire équipe'!$L$8,'Horaire hebdomadaire équipe'!L19,'Horaire par éducateur'!$G$3='Horaire hebdomadaire équipe'!$M$8,'Horaire hebdomadaire équipe'!M19,$G$3='Horaire hebdomadaire équipe'!$N$8,'Horaire hebdomadaire équipe'!N19)} -> Brandon | K20: {=_xlfn.IFS($G$3='Horaire hebdomadaire équipe'!$O$8,'Horaire hebdomadaire équipe'!O19,$G$3='Horaire hebdomadaire équipe'!$P$8,'Horaire hebdomadaire équipe'!P19,$G$3='Horaire hebdomadaire équipe'!$Q$8,'Horaire hebdomadaire équipe'!Q19,$G$3='Horaire hebdomadaire équipe'!$R$8,'Horaire hebdomadaire équipe'!R19)} -> Brandon | M20: {=_xlfn.IFS($G$3='Horaire hebdomadaire équipe'!$S$8,'Horaire hebdomadaire équipe'!S19,$G$3='Horaire hebdomadaire équipe'!$T$8,'Horaire hebdomadaire équipe'!T19,$G$3='Horaire hebdomadaire équipe'!$U$8,'Horaire hebdomadaire équipe'!U19,$G$3='Horaire hebdomadaire équipe'!$V$8,'Horaire hebdomadaire équipe'!V19)} -> Brandon | O20: {=_xlfn.IFS($G$3='Horaire hebdomadaire équipe'!$W$8,'Horaire hebdomadaire équipe'!W19,$G$3='Horaire hebdomadaire équipe'!$X$8,'Horaire hebdomadaire équipe'!X19,$G$3='Horaire hebdomadaire équipe'!$Y$8,'Horaire hebdomadaire équipe'!Y19,$G$3='Horaire hebdomadaire équipe'!$Z$8,'Horaire hebdomadaire équipe'!Z19)} -> Brandon
C21: ='Horaire hebdomadaire équipe'!C20 -> 0.42708333 | D21: à | E21: =+'Horaire hebdomadaire équipe'!E20 -> 0.4375 | G21: {=_xlfn.IFS($G$3='Horaire hebdomadaire équipe'!$G$8,'Horaire hebdomadaire équipe'!G20,'Horaire par éducateur'!$G$3='Horaire hebdomadaire équipe'!$H$8,'Horaire hebdomadaire équipe'!H20,'Horaire par éducateur'!$G$3='Horaire hebdomadaire équipe'!$I$8,'Horaire hebdomadaire équipe'!I20,$G$3='Horaire hebdomadaire équipe'!$J$8,'Horaire hebdomadaire équipe'!J20)} -> 0 | I21: {=_xlfn.IFS($G$3='Horaire hebdomadaire équipe'!$K$8,'Horaire hebdomadaire équipe'!K20,'Horaire par éducateur'!$G$3='Horaire hebdomadaire équipe'!$L$8,'Horaire hebdomadaire équipe'!L20,'Horaire par éducateur'!$G$3='Horaire hebdomadaire équipe'!$M$8,'Horaire hebdomadaire équipe'!M20,$G$3='Horaire hebdomadaire équipe'!$N$8,'Horaire hebdomadaire équipe'!N20)} -> Brandon | K21: {=_xlfn.IFS($G$3='Horaire hebdomadaire équipe'!$O$8,'Horaire hebdomadaire équipe'!O20,$G$3='Horaire hebdomadaire équipe'!$P$8,'Horaire hebdomadaire équipe'!P20,$G$3='Horaire hebdomadaire équipe'!$Q$8,'Horaire hebdomadaire équipe'!Q20,$G$3='Horaire hebdomadaire équipe'!$R$8,'Horaire hebdomadaire équipe'!R20)} -> Brandon | M21: {=_xlfn.IFS($G$3='Horaire hebdomadaire équipe'!$S$8,'Horaire hebdomadaire équipe'!S20,$G$3='Horaire hebdomadaire équipe'!$T$8,'Horaire hebdomadaire équipe'!T20,$G$3='Horaire hebdomadaire équipe'!$U$8,'Horaire hebdomadaire équipe'!U20,$G$3='Horaire hebdomadaire équipe'!$V$8,'Horaire hebdomadaire équipe'!V20)} -> Brandon | O21: {=_xlfn.IFS($G$3='Horaire hebdomadaire équipe'!$W$8,'Horaire hebdomadaire équipe'!W20,$G$3='Horaire hebdomadaire équipe'!$X$8,'Horaire hebdomadaire équipe'!X20,$G$3='Horaire hebdomadaire équipe'!$Y$8,'Horaire hebdomadaire équipe'!Y20,$G$3='Horaire hebdomadaire équipe'!$Z$8,'Horaire hebdomadaire équipe'!Z20)} -> Brandon
... C48: ='Horaire hebdomadaire équipe'!C47 -> 0.70833333 | D48: à | E48: =+'Horaire hebdomadaire équipe'!E47 -> 0.71875 | G48: {=_xlfn.IFS($G$3='Horaire hebdomadaire équipe'!$G$8,'Horaire hebdomadaire équipe'!G47,'Horaire par éducateur'!$G$3='Horaire hebdomadaire équipe'!$H$8,'Horaire hebdomadaire équipe'!H47,'Horaire par éducateur'!$G$3='Horaire hebdomadaire équipe'!$I$8,'Horaire hebdomadaire équipe'!I47,$G$3='Horaire hebdomadaire équipe'!$J$8,'Horaire hebdomadaire équipe'!J47)} -> 0 | I48: {=_xlfn.IFS($G$3='Horaire hebdomadaire équipe'!$K$8,'Horaire hebdomadaire équipe'!K47,'Horaire par éducateur'!$G$3='Horaire hebdomadaire équipe'!$L$8,'Horaire hebdomadaire équipe'!L47,'Horaire par éducateur'!$G$3='Horaire hebdomadaire équipe'!$M$8,'Horaire hebdomadaire équipe'!M47,$G$3='Horaire hebdomadaire équipe'!$N$8,'Horaire hebdomadaire équipe'!N47)} -> 0 | K48: {=_xlfn.IFS($G$3='Horaire hebdomadaire équipe'!$O$8,'Horaire hebdomadaire équipe'!O47,$G$3='Horaire hebdomadaire équipe'!$P$8,'Horaire hebdomadaire équipe'!P47,$G$3='Horaire hebdomadaire équipe'!$Q$8,'Horaire hebdomadaire équipe'!Q47,$G$3='Horaire hebdomadaire équipe'!$R$8,'Horaire hebdomadaire équipe'!R47)} -> 0 | M48: {=_xlfn.IFS($G$3='Horaire hebdomadaire équipe'!$S$8,'Horaire hebdomadaire équipe'!S47,$G$3='Horaire hebdomadaire équipe'!$T$8,'Horaire hebdomadaire équipe'!T47,$G$3='Horaire hebdomadaire équipe'!$U$8,'Horaire hebdomadaire équipe'!U47,$G$3='Horaire hebdomadaire équipe'!$V$8,'Horaire hebdomadaire équipe'!V47)} -> 0 | O48: {=_xlfn.IFS($G$3='Horaire hebdomadaire équipe'!$W$8,'Horaire hebdomadaire équipe'!W47,$G$3='Horaire hebdomadaire équipe'!$X$8,'Horaire hebdomadaire équipe'!X47,$G$3='Horaire hebdomadaire équipe'!$Y$8,'Horaire hebdomadaire équipe'!Y47,$G$3='Horaire hebdomadaire équipe'!$Z$8,'Horaire hebdomadaire équipe'!Z47)} -> 0
C52: Total d'heures | D52: : | E52: =$G$3 -> Brandon | G52: Nombre d'heures journalières
C53: ='Horaire hebdomadaire équipe'!E51 -> PRESTEES | D53: = | E53: =INDEX('Horaire hebdomadaire équipe'!E52:E55,MATCH('Horaire par éducateur'!G3,'Horaire hebdomadaire équipe'!C52:C55,0)) -> 22.5 | G53: Lundi | I53: Mardi | K53: Mercredi | M53: Jeudi | O53: Vendredi
C54: ='Horaire hebdomadaire équipe'!E59 -> Étude | D54: = | E54: =INDEX('Horaire hebdomadaire équipe'!E60:E63,MATCH('Horaire par éducateur'!G3,'Horaire hebdomadaire équipe'!C60:C63,0)) -> 0 | G54: =$G$3 -> Brandon | I54: =$G$3 -> Brandon | K54: =$G$3 -> Brandon | M54: =$G$3 -> Brandon | O54: =$G$3 -> Brandon
C55: ='Horaire hebdomadaire équipe'!E67 -> Loge | D55: = | E55: =INDEX('Horaire hebdomadaire équipe'!E68:E71,MATCH('Horaire par éducateur'!$G$3,'Horaire hebdomadaire équipe'!C68:C71,0)) -> 0 | G55: =COUNTIFS(G$10:H$48,"<>",G$10:H$48,"<>PAUSE")/4 -> 9.75 | I55: =COUNTIFS(G$10:H$48,"<>",G$10:H$48,"<>PAUSE")/4 -> 9.75 | K55: =K56/4 -> 5.25 | M55: =M56/4 -> 4 | O55: =O56/4 -> 4.5
C56: ='Horaire hebdomadaire équipe'!E75 -> Admin | D56: = | E56: =INDEX('Horaire hebdomadaire équipe'!E76:E79,MATCH('Horaire par éducateur'!G3,'Horaire hebdomadaire équipe'!C76:C79,0)) -> 0 | G56: =COUNTIF(G$10:G$48,G$54) -> 0 | I56: =COUNTIF(I$10:I$48,I$54) -> 10 | K56: =COUNTIF(K$10:K$48,K$54) -> 21 | M56: =COUNTIF(M$10:M$48,M$54) -> 16 | O56: =COUNTIF(O$10:O$48,O$54) -> 18

Sheet Horaire par tâche
C3: ='Horaire hebdomadaire équipe'!C3 -> HORAIRE | G3: Pause
C4: ='Horaire hebdomadaire équipe'!G3 -> HEBDOMADAIRE
C6: ='Horaire hebdomadaire équipe'!C6 -> HEURE | G6: Lundi | I6: Mardi | K6: Mercredi | M6: Jeudi | O6: Vendredi
G7: Début | H7: Fin | I7: Début | J7: Fin | K7: Début | L7: Fin | M7: Début | N7: Fin | O7: Début | P7: Fin
G8: {=IFERROR(INDEX($C$10:$C$48,MIN(IF(G10:H48<>0,ROW(G10:H48)-MIN(ROW(G10:H48))+1))),"faux")} -> 0.3125 | H8: {=IFERROR(INDEX($E$10:$E$48,MAX(IF(G10:H48<>0,ROW(G10:H48)-MIN(ROW(G10:H48))+1))),"faux")} -> 0.71875 | I8: {=IFERROR(INDEX($C$10:$C$48,MIN(IF(I10:J48<>0,ROW(I10:J48)-MIN(ROW(I10:J48))+1))),"faux")} -> 0.3125 | J8: {=IFERROR(INDEX($E$10:$E$48,MAX(IF(I10:J48<>0,ROW(I10:J48)-MIN(ROW(I10:J48))+1))),"faux")} -> 0.71875 | K8: {=IFERROR(INDEX($C$10:$C$48,MIN(IF(K10:L48<>0,ROW(K10:L48)-MIN(ROW(K10:L48))+1))),"faux")} -> 0.3125 | L8: {=IFERROR(INDEX($E$10:$E$48,MAX(IF(K10:L48<>0,ROW(K10:L48)-MIN(ROW(K10:L48))+1))),"faux")} -> 0.71875 | M8: {=IFERROR(INDEX($C$10:$C$48,MIN(IF(M10:N48<>0,ROW(M10:N48)-MIN(ROW(M10:N48))+1))),"faux")} -> 0.3125 | N8: {=IFERROR(INDEX($E$10:$E$48,MAX(IF(M10:N48<>0,ROW(M10:N48)-MIN(ROW(M10:N48))+1))),"faux")} -> 0.71875 | O8: {=IFERROR(INDEX($C$10:$C$48,MIN(IF(O10:P48<>0,ROW(O10:P48)-MIN(ROW(O10:P48))+1))),"faux")} -> 0.3125 | P8: {=IFERROR(INDEX($E$10:$E$48,MAX(IF(O10:P48<>0,ROW(O10:P48)-MIN(ROW(O10:P48))+1))),"faux")} -> 0.71875
G9: =$G$3 -> Pause | I9: =$G$3 -> Pause | K9: =$G$3 -> Pause | M9: =$G$3 -> Pause | O9: =$G$3 -> Pause
C10: ='Horaire hebdomadaire équipe'!C9 -> 0.3125 | D10: à | E10: =+'Horaire hebdomadaire équipe'!E9 -> 0.32291667 | G10: =IF(COUNTIF('Horaire hebdomadaire équipe'!G9:J9,'Horaire par tâche'!$G$3)=1, INDEX('Horaire hebdomadaire équipe'!G$8:J$8, 1, MATCH('Horaire par tâche'!$G$3, 'Horaire hebdomadaire équipe'!G9:J9, 0)), IF(COUNTIF('Horaire hebdomadaire équipe'!G9:J9, 'Horaire par tâche'!$G$3)>1, "ERREUR", "")) | I10: =IF(COUNTIF('Horaire hebdomadaire équipe'!K9:N9,'Horaire par tâche'!$G$3)=1, INDEX('Horaire hebdomadaire équipe'!K$8:N$8, 1, MATCH('Horaire par tâche'!$G$3, 'Horaire hebdomadaire équipe'!K9:N9, 0)), IF(COUNTIF('Horaire hebdomadaire équipe'!K9:N9, 'Horaire par tâche'!$G$3)>1, "ERREUR", "")) | K10: =IF(COUNTIF('Horaire hebdomadaire équipe'!O9:R9,'Horaire par tâche'!$G$3)=1, INDEX('Horaire hebdomadaire équipe'!O$8:R$8, 1, MATCH('Horaire par tâche'!$G$3, 'Horaire hebdomadaire équipe'!O9:R9, 0)), IF(COUNTIF('Horaire hebdomadaire équipe'!O9:R9, 'Horaire par tâche'!$G$3)>1, "ERREUR", "")) | M10: =IF(COUNTIF('Horaire hebdomadaire équipe'!W9:Z9,'Horaire par tâche'!$G$3)=1, INDEX('Horaire hebdomadaire équipe'!W$8:Z$8, 1, MATCH('Horaire par tâche'!$G$3, 'Horaire hebdomadaire équipe'!W9:Z9, 0)), IF(COUNTIF('Horaire hebdomadaire équipe'!W9:Z9, 'Horaire par tâche'!$G$3)>1, "ERREUR", "")) | O10: =IF(COUNTIF('Horaire hebdomadaire équipe'!U9:X9,'Horaire par tâche'!$G$3)=1, INDEX('Horaire hebdomadaire équipe'!U$8:X$8, 1, MATCH('Horaire par tâche'!$G$3, 'Horaire hebdomadaire équipe'!U9:X9, 0)), IF(COUNTIF('Horaire hebdomadaire équipe'!U9:X9, 'Horaire par tâche'!$G$3)>1, "ERREUR", ""))
C11: ='Horaire hebdomadaire équipe'!C10 -> 0.32291667 | D11: à | E11: =+'Horaire hebdomadaire équipe'!E10 -> 0.33333333 | G11: =IF(COUNTIF('Horaire hebdomadaire équipe'!G10:J10,'Horaire par tâche'!$G$3)=1, INDEX('Horaire hebdomadaire équipe'!G$8:J$8, 1, MATCH('Horaire par tâche'!$G$3, 'Horaire hebdomadaire équipe'!G10:J10, 0)), IF(COUNTIF('Horaire hebdomadaire équipe'!G10:J10, 'Horaire par tâche'!$G$3)>1, "ERREUR", "")) | I11: =IF(COUNTIF('Horaire hebdomadaire équipe'!K10:N10,'Horaire par tâche'!$G$3)=1, INDEX('Horaire hebdomadaire équipe'!K$8:N$8, 1, MATCH('Horaire par tâche'!$G$3, 'Horaire hebdomadaire équipe'!K10:N10, 0)), IF(COUNTIF('Horaire hebdomadaire équipe'!K10:N10, 'Horaire par tâche'!$G$3)>1, "ERREUR", "")) | K11: =IF(COUNTIF('Horaire hebdomadaire équipe'!O10:R10,'Horaire par tâche'!$G$3)=1, INDEX('Horaire hebdomadaire équipe'!O$8:R$8, 1, MATCH('Horaire par tâche'!$G$3, 'Horaire hebdomadaire équipe'!O10:R10, 0)), IF(COUNTIF('Horaire hebdomadaire équipe'!O10:R10, 'Horaire par tâche'!$G$3)>1, "ERREUR", "")) | M11: =IF(COUNTIF('Horaire hebdomadaire équipe'!S10:V10,'Horaire par tâche'!$G$3)=1, INDEX('Horaire hebdomadaire équipe'!S$8:V$8, 1, MATCH('Horaire par tâche'!$G$3, 'Horaire hebdomadaire équipe'!S10:V10, 0)), IF(COUNTIF('Horaire hebdomadaire équipe'!S10:V10, 'Horaire par tâche'!$G$3)>1, "ERREUR", "")) | O11: =IF(COUNTIF('Horaire hebdomadaire équipe'!U10:X10,'Horaire par tâche'!$G$3)=1, INDEX('Horaire hebdomadaire équipe'!U$8:X$8, 1, MATCH('Horaire par tâche'!$G$3, 'Horaire hebdomadaire équipe'!U10:X10, 0)), IF(COUNTIF('Horaire hebdomadaire équipe'!U10:X10, 'Horaire par tâche'!$G$3)>1, "ERREUR", ""))
C12: ='Horaire hebdomadaire équipe'!C11 -> 0.33333333 | D12: à | E12: =+'Horaire hebdomadaire équipe'!E11 -> 0.34375 | G12: =IF(COUNTIF('Horaire hebdomadaire équipe'!G11:J11,'Horaire par tâche'!$G$3)=1, INDEX('Horaire hebdomadaire équipe'!G$8:J$8, 1, MATCH('Horaire par tâche'!$G$3, 'Horaire hebdomadaire équipe'!G11:J11, 0)), IF(COUNTIF('Horaire hebdomadaire équipe'!G11:J11, 'Horaire par tâche'!$G$3)>1, "ERREUR", "")) | I12: =IF(COUNTIF('Horaire hebdomadaire équipe'!K11:N11,'Horaire par tâche'!$G$3)=1, INDEX('Horaire hebdomadaire équipe'!K$8:N$8, 1, MATCH('Horaire par tâche'!$G$3, 'Horaire hebdomadaire équipe'!K11:N11, 0)), IF(COUNTIF('Horaire hebdomadaire équipe'!K11:N11, 'Horaire par tâche'!$G$3)>1, "ERREUR", "")) | K12: =IF(COUNTIF('Horaire hebdomadaire équipe'!O11:R11,'Horaire par tâche'!$G$3)=1, INDEX('Horaire hebdomadaire équipe'!O$8:R$8, 1, MATCH('Horaire par tâche'!$G$3, 'Horaire hebdomadaire équipe'!O11:R11, 0)), IF(COUNTIF('Horaire hebdomadaire équipe'!O11:R11, 'Horaire par tâche'!$G$3)>1, "ERREUR", "")) | M12: =IF(COUNTIF('Horaire hebdomadaire équipe'!S11:V11,'Horaire par tâche'!$G$3)=1, INDEX('Horaire hebdomadaire équipe'!S$8:V$8, 1, MATCH('Horaire par tâche'!$G$3, 'Horaire hebdomadaire équipe'!S11:V11, 0)), IF(COUNTIF('Horaire hebdomadaire équipe'!S11:V11, 'Horaire par tâche'!$G$3)>1, "ERREUR", "")) | O12: =IF(COUNTIF('Horaire hebdomadaire équipe'!U11:X11,'Horaire par tâche'!$G$3)=1, INDEX('Horaire hebdomadaire équipe'!U$8:X$8, 1, MATCH('Horaire par tâche'!$G$3, 'Horaire hebdomadaire équipe'!U11:X11, 0)), IF(COUNTIF('Horaire hebdomadaire équipe'!U11:X11, 'Horaire par tâche'!$G$3)>1, "ERREUR", ""))
C13: ='Horaire hebdomadaire équipe'!C12 -> 0.34375 | D13: à | E13: =+'Horaire hebdomadaire équipe'!E12 -> 0.35416667 | G13: =IF(COUNTIF('Horaire hebdomadaire équipe'!G12:J12,'Horaire par tâche'!$G$3)=1, INDEX('Horaire hebdomadaire équipe'!G$8:J$8, 1, MATCH('Horaire par tâche'!$G$3, 'Horaire hebdomadaire équipe'!G12:J12, 0)), IF(COUNTIF('Horaire hebdomadaire équipe'!G12:J12, 'Horaire par tâche'!$G$3)>1, "ERREUR", "")) | I13: =IF(COUNTIF('Horaire hebdomadaire équipe'!K12:N12,'Horaire par tâche'!$G$3)=1, INDEX('Horaire hebdomadaire équipe'!K$8:N$8, 1, MATCH('Horaire par tâche'!$G$3, 'Horaire hebdomadaire équipe'!K12:N12, 0)), IF(COUNTIF('Horaire hebdomadaire équipe'!K12:N12, 'Horaire par tâche'!$G$3)>1, "ERREUR", "")) | K13: =IF(COUNTIF('Horaire hebdomadaire équipe'!O12:R12,'Horaire par tâche'!$G$3)=1, INDEX('Horaire hebdomadaire équipe'!O$8:R$8, 1, MATCH('Horaire par tâche'!$G$3, 'Horaire hebdomadaire équipe'!O12:R12, 0)), IF(COUNTIF('Horaire hebdomadaire équipe'!O12:R12, 'Horaire par tâche'!$G$3)>1, "ERREUR", "")) | M13: =IF(COUNTIF('Horaire hebdomadaire équipe'!S12:V12,'Horaire par tâche'!$G$3)=1, INDEX('Horaire hebdomadaire équipe'!S$8:V$8, 1, MATCH('Horaire par tâche'!$G$3, 'Horaire hebdomadaire équipe'!S12:V12, 0)), IF(COUNTIF('Horaire hebdomadaire équipe'!S12:V12, 'Horaire par tâche'!$G$3)>1, "ERREUR", "")) | O13: =IF(COUNTIF('Horaire hebdomadaire équipe'!U12:X12,'Horaire par tâche'!$G$3)=1, INDEX('Horaire hebdomadaire équipe'!U$8:X$8, 1, MATCH('Horaire par tâche'!$G$3, 'Horaire hebdomadaire équipe'!U12:X12, 0)), IF(COUNTIF('Horaire hebdomadaire équipe'!U12:X12, 'Horaire par tâche'!$G$3)>1, "ERREUR", ""))
C14: ='Horaire hebdomadaire équipe'!C13 -> 0.35416667 | D14: à | E14: =+'Horaire hebdomadaire équipe'!E13 -> 0.36458333 | G14: =IF(COUNTIF('Horaire hebdomadaire équipe'!G13:J13,'Horaire par tâche'!$G$3)=1, INDEX('Horaire hebdomadaire équipe'!G$8:J$8, 1, MATCH('Horaire par tâche'!$G$3, 'Horaire hebdomadaire équipe'!G13:J13, 0)), IF(COUNTIF('Horaire hebdomadaire équipe'!G13:J13, 'Horaire par tâche'!$G$3)>1, "ERREUR", "")) | I14: =IF(COUNTIF('Horaire hebdomadaire équipe'!K13:N13,'Horaire par tâche'!$G$3)=1, INDEX('Horaire hebdomadaire équipe'!K$8:N$8, 1, MATCH('Horaire par tâche'!$G$3, 'Horaire hebdomadaire équipe'!K13:N13, 0)), IF(COUNTIF('Horaire hebdomadaire équipe'!K13:N13, 'Horaire par tâche'!$G$3)>1, "ERREUR", "")) | K14: =IF(COUNTIF('Horaire hebdomadaire équipe'!O13:R13,'Horaire par tâche'!$G$3)=1, INDEX('Horaire hebdomadaire équipe'!O$8:R$8, 1, MATCH('Horaire par tâche'!$G$3, 'Horaire hebdomadaire équipe'!O13:R13, 0)), IF(COUNTIF('Horaire hebdomadaire équipe'!O13:R13, 'Horaire par tâche'!$G$3)>1, "ERREUR", "")) | M14: =IF(COUNTIF('Horaire hebdomadaire équipe'!S13:V13,'Horaire par tâche'!$G$3)=1, INDEX('Horaire hebdomadaire équipe'!S$8:V$8, 1, MATCH('Horaire par tâche'!$G$3, 'Horaire hebdomadaire équipe'!S13:V13, 0)), IF(COUNTIF('Horaire hebdomadaire équipe'!S13:V13, 'Horaire par tâche'!$G$3)>1, "ERREUR", "")) | O14: =IF(COUNTIF('Horaire hebdomadaire équipe'!U13:X13,'Horaire par tâche'!$G$3)=1, INDEX('Horaire hebdomadaire équipe'!U$8:X$8, 1, MATCH('Horaire par tâche'!$G$3, 'Horaire hebdomadaire équipe'!U13:X13, 0)), IF(COUNTIF('Horaire hebdomadaire équipe'!U13:X13, 'Horaire par tâche'!$G$3)>1, "ERREUR", ""))
C15: ='Horaire hebdomadaire équipe'!C14 -> 0.36458333 | D15: à | E15: =+'Horaire hebdomadaire équipe'!E14 -> 0.375 | G15: =IF(COUNTIF('Horaire hebdomadaire équipe'!G14:J14,'Horaire par tâche'!$G$3)=1, INDEX('Horaire hebdomadaire équipe'!G$8:J$8, 1, MATCH('Horaire par tâche'!$G$3, 'Horaire hebdomadaire équipe'!G14:J14, 0)), IF(COUNTIF('Horaire hebdomadaire équipe'!G14:J14, 'Horaire par tâche'!$G$3)>1, "ERREUR", "")) | I15: =IF(COUNTIF('Horaire hebdomadaire équipe'!K14:N14,'Horaire par tâche'!$G$3)=1, INDEX('Horaire hebdomadaire équipe'!K$8:N$8, 1, MATCH('Horaire par tâche'!$G$3, 'Horaire hebdomadaire équipe'!K14:N14, 0)), IF(COUNTIF('Horaire hebdomadaire équipe'!K14:N14, 'Horaire par tâche'!$G$3)>1, "ERREUR", "")) | K15: =IF(COUNTIF('Horaire hebdomadaire équipe'!O14:R14,'Horaire par tâche'!$G$3)=1, INDEX('Horaire hebdomadaire équipe'!O$8:R$8, 1, MATCH('Horaire par tâche'!$G$3, 'Horaire hebdomadaire équipe'!O14:R14, 0)), IF(COUNTIF('Horaire hebdomadaire équipe'!O14:R14, 'Horaire par tâche'!$G$3)>1, "ERREUR", "")) | M15: =IF(COUNTIF('Horaire hebdomadaire équipe'!S14:V14,'Horaire par tâche'!$G$3)=1, INDEX('Horaire hebdomadaire équipe'!S$8:V$8, 1, MATCH('Horaire par tâche'!$G$3, 'Horaire hebdomadaire équipe'!S14:V14, 0)), IF(COUNTIF('Horaire hebdomadaire équipe'!S14:V14, 'Horaire par tâche'!$G$3)>1, "ERREUR", "")) | O15: =IF(COUNTIF('Horaire hebdomadaire équipe'!U14:X14,'Horaire par tâche'!$G$3)=1, INDEX('Horaire hebdomadaire équipe'!U$8:X$8, 1, MATCH('Horaire par tâche'!$G$3, 'Horaire hebdomadaire équipe'!U14:X14, 0)), IF(COUNTIF('Horaire hebdomadaire équipe'!U14:X14, 'Horaire par tâche'!$G$3)>1, "ERREUR", ""))
C16: ='Horaire hebdomadaire équipe'!C15 -> 0.375 | D16: à | E16: =+'Horaire hebdomadaire équipe'!E15 -> 0.38541667 | G16: =IF(COUNTIF('Horaire hebdomadaire équipe'!G15:J15,'Horaire par tâche'!$G$3)=1, INDEX('Horaire hebdomadaire équipe'!G$8:J$8, 1, MATCH('Horaire par tâche'!$G$3, 'Horaire hebdomadaire équipe'!G15:J15, 0)), IF(COUNTIF('Horaire hebdomadaire équipe'!G15:J15, 'Horaire par tâche'!$G$3)>1, "ERREUR", "")) | I16: =IF(COUNTIF('Horaire hebdomadaire équipe'!K15:N15,'Horaire par tâche'!$G$3)=1, INDEX('Horaire hebdomadaire équipe'!K$8:N$8, 1, MATCH('Horaire par tâche'!$G$3, 'Horaire hebdomadaire équipe'!K15:N15, 0)), IF(COUNTIF('Horaire hebdomadaire équipe'!K15:N15, 'Horaire par tâche'!$G$3)>1, "ERREUR", "")) | K16: =IF(COUNTIF('Horaire hebdomadaire équipe'!O15:R15,'Horaire par tâche'!$G$3)=1, INDEX('Horaire hebdomadaire équipe'!O$8:R$8, 1, MATCH('Horaire par tâche'!$G$3, 'Horaire hebdomadaire équipe'!O15:R15, 0)), IF(COUNTIF('Horaire hebdomadaire équipe'!O15:R15, 'Horaire par tâche'!$G$3)>1, "ERREUR", "")) | M16: =IF(COUNTIF('Horaire hebdomadaire équipe'!S15:V15,'Horaire par tâche'!$G$3)=1, INDEX('Horaire hebdomadaire équipe'!S$8:V$8, 1, MATCH('Horaire par tâche'!$G$3, 'Horaire hebdomadaire équipe'!S15:V15, 0)), IF(COUNTIF('Horaire hebdomadaire équipe'!S15:V15, 'Horaire par tâche'!$G$3)>1, "ERREUR", "")) | O16: =IF(COUNTIF('Horaire hebdomadaire équipe'!U15:X15,'Horaire par tâche'!$G$3)=1, INDEX('Horaire hebdomadaire équipe'!U$8:X$8, 1, MATCH('Horaire par tâche'!$G$3, 'Horaire hebdomadaire équipe'!U15:X15, 0)), IF(COUNTIF('Horaire hebdomadaire équipe'!U15:X15, 'Horaire par tâche'!$G$3)>1, "ERREUR", ""))
C17: ='Horaire hebdomadaire équipe'!C16 -> 0.38541667 | D17: à | E17: =+'Horaire hebdomadaire équipe'!E16 -> 0.39583333 | G17: =IF(COUNTIF('Horaire hebdomadaire équipe'!G16:J16,'Horaire par tâche'!$G$3)=1, INDEX('Horaire hebdomadaire équipe'!G$8:J$8, 1, MATCH('Horaire par tâche'!$G$3, 'Horaire hebdomadaire équipe'!G16:J16, 0)), IF(COUNTIF('Horaire hebdomadaire équipe'!G16:J16, 'Horaire par tâche'!$G$3)>1, "ERREUR", "")) | I17: =IF(COUNTIF('Horaire hebdomadaire équipe'!K16:N16,'Horaire par tâche'!$G$3)=1, INDEX('Horaire hebdomadaire équipe'!K$8:N$8, 1, MATCH('Horaire par tâche'!$G$3, 'Horaire hebdomadaire équipe'!K16:N16, 0)), IF(COUNTIF('Horaire hebdomadaire équipe'!K16:N16, 'Horaire par tâche'!$G$3)>1, "ERREUR", "")) | K17: =IF(COUNTIF('Horaire hebdomadaire équipe'!O16:R16,'Horaire par tâche'!$G$3)=1, INDEX('Horaire hebdomadaire équipe'!O$8:R$8, 1, MATCH('Horaire par tâche'!$G$3, 'Horaire hebdomadaire équipe'!O16:R16, 0)), IF(COUNTIF('Horaire hebdomadaire équipe'!O16:R16, 'Horaire par tâche'!$G$3)>1, "ERREUR", "")) | M17: =IF(COUNTIF('Horaire hebdomadaire équipe'!S16:V16,'Horaire par tâche'!$G$3)=1, INDEX('Horaire hebdomadaire équipe'!S$8:V$8, 1, MATCH('Horaire par tâche'!$G$3, 'Horaire hebdomadaire équipe'!S16:V16, 0)), IF(COUNTIF('Horaire hebdomadaire équipe'!S16:V16, 'Horaire par tâche'!$G$3)>1, "ERREUR", "")) | O17: =IF(COUNTIF('Horaire hebdomadaire équipe'!U16:X16,'Horaire par tâche'!$G$3)=1, INDEX('Horaire hebdomadaire équipe'!U$8:X$8, 1, MATCH('Horaire par tâche'!$G$3, 'Horaire hebdomadaire équipe'!U16:X16, 0)), IF(COUNTIF('Horaire hebdomadaire équipe'!U16:X16, 'Horaire par tâche'!$G$3)>1, "ERREUR", ""))
C18: ='Horaire hebdomadaire équipe'!C17 -> 0.39583333 | D18: à | E18: =+'Horaire hebdomadaire équipe'!E17 -> 0.40625 | G18: =IF(COUNTIF('Horaire hebdomadaire équipe'!G17:J17,'Horaire par tâche'!$G$3)=1, INDEX('Horaire hebdomadaire équipe'!G$8:J$8, 1, MATCH('Horaire par tâche'!$G$3, 'Horaire hebdomadaire équipe'!G17:J17, 0)), IF(COUNTIF('Horaire hebdomadaire équipe'!G17:J17, 'Horaire par tâche'!$G$3)>1, "ERREUR", "")) | I18: =IF(COUNTIF('Horaire hebdomadaire équipe'!K17:N17,'Horaire par tâche'!$G$3)=1, INDEX('Horaire hebdomadaire équipe'!K$8:N$8, 1, MATCH('Horaire par tâche'!$G$3, 'Horaire hebdomadaire équipe'!K17:N17, 0)), IF(COUNTIF('Horaire hebdomadaire équipe'!K17:N17, 'Horaire par tâche'!$G$3)>1, "ERREUR", "")) | K18: =IF(COUNTIF('Horaire hebdomadaire équipe'!O17:R17,'Horaire par tâche'!$G$3)=1, INDEX('Horaire hebdomadaire équipe'!O$8:R$8, 1, MATCH('Horaire par tâche'!$G$3, 'Horaire hebdomadaire équipe'!O17:R17, 0)), IF(COUNTIF('Horaire hebdomadaire équipe'!O17:R17, 'Horaire par tâche'!$G$3)>1, "ERREUR", "")) | M18: =IF(COUNTIF('Horaire hebdomadaire équipe'!S17:V17,'Horaire par tâche'!$G$3)=1, INDEX('Horaire hebdomadaire équipe'!S$8:V$8, 1, MATCH('Horaire par tâche'!$G$3, 'Horaire hebdomadaire équipe'!S17:V17, 0)), IF(COUNTIF('Horaire hebdomadaire équipe'!S17:V17, 'Horaire par tâche'!$G$3)>1, "ERREUR", "")) | O18: =IF(COUNTIF('Horaire hebdomadaire équipe'!U17:X17,'Horaire par tâche'!$G$3)=1, INDEX('Horaire hebdomadaire équipe'!U$8:X$8, 1, MATCH('Horaire par tâche'!$G$3, 'Horaire hebdomadaire équipe'!U17:X17, 0)), IF(COUNTIF('Horaire hebdomadaire équipe'!U17:X17, 'Horaire par tâche'!$G$3)>1, "ERREUR", ""))
C19: ='Horaire hebdomadaire équipe'!C18 -> 0.40625 | D19: à | E19: =+'Horaire hebdomadaire équipe'!E18 -> 0.41666667 | G19: =IF(COUNTIF('Horaire hebdomadaire équipe'!G18:J18,'Horaire par tâche'!$G$3)=1, INDEX('Horaire hebdomadaire équipe'!G$8:J$8, 1, MATCH('Horaire par tâche'!$G$3, 'Horaire hebdomadaire équipe'!G18:J18, 0)), IF(COUNTIF('Horaire hebdomadaire équipe'!G18:J18, 'Horaire par tâche'!$G$3)>1, "ERREUR", "")) | I19: =IF(COUNTIF('Horaire hebdomadaire équipe'!K18:N18,'Horaire par tâche'!$G$3)=1, INDEX('Horaire hebdomadaire équipe'!K$8:N$8, 1, MATCH('Horaire par tâche'!$G$3, 'Horaire hebdomadaire équipe'!K18:N18, 0)), IF(COUNTIF('Horaire hebdomadaire équipe'!K18:N18, 'Horaire par tâche'!$G$3)>1, "ERREUR", "")) | K19: =IF(COUNTIF('Horaire hebdomadaire équipe'!O18:R18,'Horaire par tâche'!$G$3)=1, INDEX('Horaire hebdomadaire équipe'!O$8:R$8, 1, MATCH('Horaire par tâche'!$G$3, 'Horaire hebdomadaire équipe'!O18:R18, 0)), IF(COUNTIF('Horaire hebdomadaire équipe'!O18:R18, 'Horaire par tâche'!$G$3)>1, "ERREUR", "")) | M19: =IF(COUNTIF('Horaire hebdomadaire équipe'!S18:V18,'Horaire par tâche'!$G$3)=1, INDEX('Horaire hebdomadaire équipe'!S$8:V$8, 1, MATCH('Horaire par tâche'!$G$3, 'Horaire hebdomadaire équipe'!S18:V18, 0)), IF(COUNTIF('Horaire hebdomadaire équipe'!S18:V18, 'Horaire par tâche'!$G$3)>1, "ERREUR", "")) | O19: =IF(COUNTIF('Horaire hebdomadaire équipe'!U18:X18,'Horaire par tâche'!$G$3)=1, INDEX('Horaire hebdomadaire équipe'!U$8:X$8, 1, MATCH('Horaire par tâche'!$G$3, 'Horaire hebdomadaire équipe'!U18:X18, 0)), IF(COUNTIF('Horaire hebdomadaire équipe'!U18:X18, 'Horaire par tâche'!$G$3)>1, "ERREUR", ""))
C20: ='Horaire hebdomadaire équipe'!C19 -> 0.41666667 | D20: à | E20: =+'Horaire hebdomadaire équipe'!E19 -> 0.42708333 | G20: =IF(COUNTIF('Horaire hebdomadaire équipe'!G19:J19,'Horaire par tâche'!$G$3)=1, INDEX('Horaire hebdomadaire équipe'!G$8:J$8, 1, MATCH('Horaire par tâche'!$G$3, 'Horaire hebdomadaire équipe'!G19:J19, 0)), IF(COUNTIF('Horaire hebdomadaire équipe'!G19:J19, 'Horaire par tâche'!$G$3)>1, "ERREUR", "")) | I20: =IF(COUNTIF('Horaire hebdomadaire équipe'!K19:N19,'Horaire par tâche'!$G$3)=1, INDEX('Horaire hebdomadaire équipe'!K$8:N$8, 1, MATCH('Horaire par tâche'!$G$3, 'Horaire hebdomadaire équipe'!K19:N19, 0)), IF(COUNTIF('Horaire hebdomadaire équipe'!K19:N19, 'Horaire par tâche'!$G$3)>1, "ERREUR", "")) | K20: =IF(COUNTIF('Horaire hebdomadaire équipe'!O19:R19,'Horaire par tâche'!$G$3)=1, INDEX('Horaire hebdomadaire équipe'!O$8:R$8, 1, MATCH('Horaire par tâche'!$G$3, 'Horaire hebdomadaire équipe'!O19:R19, 0)), IF(COUNTIF('Horaire hebdomadaire équipe'!O19:R19, 'Horaire par tâche'!$G$3)>1, "ERREUR", "")) | M20: =IF(COUNTIF('Horaire hebdomadaire équipe'!S19:V19,'Horaire par tâche'!$G$3)=1, INDEX('Horaire hebdomadaire équipe'!S$8:V$8, 1, MATCH('Horaire par tâche'!$G$3, 'Horaire hebdomadaire équipe'!S19:V19, 0)), IF(COUNTIF('Horaire hebdomadaire équipe'!S19:V19, 'Horaire par tâche'!$G$3)>1, "ERREUR", "")) | O20: =IF(COUNTIF('Horaire hebdomadaire équipe'!U19:X19,'Horaire par tâche'!$G$3)=1, INDEX('Horaire hebdomadaire équipe'!U$8:X$8, 1, MATCH('Horaire par tâche'!$G$3, 'Horaire hebdomadaire équipe'!U19:X19, 0)), IF(COUNTIF('Horaire hebdomadaire équipe'!U19:X19, 'Horaire par tâche'!$G$3)>1, "ERREUR", ""))
C21: ='Horaire hebdomadaire équipe'!C20 -> 0.42708333 | D21: à | E21: =+'Horaire hebdomadaire équipe'!E20 -> 0.4375 | G21: =IF(COUNTIF('Horaire hebdomadaire équipe'!G20:J20,'Horaire par tâche'!$G$3)=1, INDEX('Horaire hebdomadaire équipe'!G$8:J$8, 1, MATCH('Horaire par tâche'!$G$3, 'Horaire hebdomadaire équipe'!G20:J20, 0)), IF(COUNTIF('Horaire hebdomadaire équipe'!G20:J20, 'Horaire par tâche'!$G$3)>1, "ERREUR", "")) | I21: =IF(COUNTIF('Horaire hebdomadaire équipe'!K20:N20,'Horaire par tâche'!$G$3)=1, INDEX('Horaire hebdomadaire équipe'!K$8:N$8, 1, MATCH('Horaire par tâche'!$G$3, 'Horaire hebdomadaire équipe'!K20:N20, 0)), IF(COUNTIF('Horaire hebdomadaire équipe'!K20:N20, 'Horaire par tâche'!$G$3)>1, "ERREUR", "")) | K21: =IF(COUNTIF('Horaire hebdomadaire équipe'!O20:R20,'Horaire par tâche'!$G$3)=1, INDEX('Horaire hebdomadaire équipe'!O$8:R$8, 1, MATCH('Horaire par tâche'!$G$3, 'Horaire hebdomadaire équipe'!O20:R20, 0)), IF(COUNTIF('Horaire hebdomadaire équipe'!O20:R20, 'Horaire par tâche'!$G$3)>1, "ERREUR", "")) | M21: =IF(COUNTIF('Horaire hebdomadaire équipe'!S20:V20,'Horaire par tâche'!$G$3)=1, INDEX('Horaire hebdomadaire équipe'!S$8:V$8, 1, MATCH('Horaire par tâche'!$G$3, 'Horaire hebdomadaire équipe'!S20:V20, 0)), IF(COUNTIF('Horaire hebdomadaire équipe'!S20:V20, 'Horaire par tâche'!$G$3)>1, "ERREUR", "")) | O21: =IF(COUNTIF('Horaire hebdomadaire équipe'!U20:X20,'Horaire par tâche'!$G$3)=1, INDEX('Horaire hebdomadaire équipe'!U$8:X$8, 1, MATCH('Horaire par tâche'!$G$3, 'Horaire hebdomadaire équipe'!U20:X20, 0)), IF(COUNTIF('Horaire hebdomadaire équipe'!U20:X20, 'Horaire par tâche'!$G$3)>1, "ERREUR", ""))
