Workbook

Sheet Feuil1
C1: 356093 | D1: BEMZAGH | E1: KARIMA
C2: 339485 | D2: ZAKARI | E2: ALI
C3: 352351 | D3: ELGUEROUANI | E3: ABDESSAMAD
C4: 337935 | D4: DARKAOUI | E4: IDRISS
C5: 357265 | D5: KIOUACH | E5: SAMI
C6: 337788 | D6: MERIZAK | E6: DIYAE

Sheet Feuil2
I1: Resultats | K1: doublon
C2: 356093 | D2: BEMZAGH | E2: KARIMA | I2: =IF(COUNTIF(Feuil1!C1:C20,C2)>1,"Doublon","")
C3: 339485 | D3: ZAKARI | E3: ALI | I3: =IF(COUNTIF(Feuil1!$C$1:$C$20,C3)>1,"Doublon","")
C4: 352351 | D4: ELGUEROUANI | E4: ABDESSAMAD | I4: =IF(COUNTIF(Feuil1!$C$1:$C$20,C4)>1,"Doublon","")
C5: 337935 | D5: DARKAOUI | E5: IDRISS | I5: =IF(COUNTIF(Feuil1!$C$1:$C$20,C5)>1,"Doublon","")
C6: 357265 | D6: KIOUACH | E6: SAMI | I6: =IF(COUNTIF(Feuil1!$C$1:$C$20,C6)>1,"Doublon","")
C7: 337788 | D7: MERIZAK | E7: DIYAE | I7: =IF(COUNTIF(Feuil1!$C$1:$C$20,C7)>1,"Doublon","")
C8: 349927 | D8: BOUFDIL | E8: YOUNESSE | I8: =IF(COUNTIF(Feuil1!$C$1:$C$20,C8)>1,"Doublon","")
C9: 337794 | D9: TOUMOUNE | E9: MAROUA | I9: =IF(COUNTIF(Feuil1!$C$1:$C$20,C9)>1,"Doublon","")
C10: 338427 | D10: SAIDI | E10: LAILA | I10: =IF(COUNTIF(Feuil1!$C$1:$C$20,C10)>1,"Doublon","")
C11: 339510 | D11: LAKHRIRBI | E11: WISSAL | I11: =IF(COUNTIF(Feuil1!$C$1:$C$20,C11)>1,"Doublon","")
C12: 338014 | D12: THADI | E12: AMAL | I12: =IF(COUNTIF(Feuil1!$C$1:$C$20,C12)>1,"Doublon","")
C13: 338159 | D13: EL HASNAOUI | E13: KHADIJA | I13: =IF(COUNTIF(Feuil1!$C$1:$C$20,C13)>1,"Doublon","")
C14: 336172 | D14: ESSAMLALI | E14: NOUSSAIBA | I14: =IF(COUNTIF(Feuil1!$C$1:$C$20,C14)>1,"Doublon","")
... C21: 350489 | D21: SAAD | E21: NIZAR | I21: =IF(COUNTIF(Feuil1!$C$1:$C$20,C21)>1,"Doublon","")
I22: =IF(COUNTIF(Feuil1!$C$1:C40,C22)>1,"Doublon","")
I23: =IF(COUNTIF(Feuil1!$C$1:C41,C23)>1,"Doublon","")
I24: =IF(COUNTIF(Feuil1!$C$1:C42,C24)>1,"Doublon","")
I25: =IF(COUNTIF(Feuil1!$C$1:C43,C25)>1,"Doublon","")
