Workbook
Name Poule_A: Equipes!$A$2:$A$7
Name Poule_B: Equipes!$A$11:$A$16

Sheet Equipes
A1: POULE A
A2: Equipe 1A
A3: Equipe 2A
A4: Equipe 3A
A5: Equipe 4A
A6: Equipe 5A
A7: Equipe 6A
A10: POULE B
A11: Equipe 1B
A12: Equipe 2B
A13: Equipe 3B
A14: Equipe 4B
... A16: Equipe 6B

Sheet Matchs de poule
A1: POULE A | P1: CLASSEMENT POULE A | AG1: CLASSEMENT POULE A
A3: Terrain | B3: Heure | C3: EQUIPES | H3: Pts | I3: Pts | J3: EQUIPES | P3: EQUIPES | U3: Place | V3: Pts | W3: J | X3: G | Y3: N | Z3: P | AA3: B + | AB3: B - | AC3: Diff. | AE3: R | AG3: EQUIPES | AL3: R | AM3: Place | AN3: Pts | AO3: J | AP3: G | AQ3: N | AR3: P | AS3: B + | AT3: B - | AU3: Diff. | AV3: % | AW3: % | AX3: Pts | AY3: Pts | AZ3: J | BA3: J | BB3: G | BC3: G | BD3: N | BE3: N | BF3: P | BG3: P | BH3: B + | BI3: B + | BJ3: B - | BK3: B - | BL3: EQUIPES | BQ3: % | BR3: R | BS3: EQUIPES
A4: 1 | C4: =AG4 -> Equipe 1A | J4: =AG5 -> Equipe 2A | P4: =VLOOKUP(AE4,AF4:AK9,2,0) -> Equipe 1A | U4: 1 | V4: =VLOOKUP(P4,AG4:AU9,8,0) -> 0 | W4: =VLOOKUP(P4,AG4:AU9,9,0) -> 0 | X4: =VLOOKUP(P4,AG4:AU9,10,0) -> 0 | Y4: =VLOOKUP(P4,AG4:AU9,11,0) -> 0 | Z4: =VLOOKUP(P4,AG4:AU9,12,0) -> 0 | AA4: =VLOOKUP(P4,AG4:AU9,13,0) -> 0 | AB4: =VLOOKUP(P4,AG4:AU9,14,0) -> 0 | AC4: =VLOOKUP(P4,AG4:AU9,15,0) -> 0 | AE4: 1 | AF4: =AM4 -> 1 | AG4: =Equipes!A2 -> Equipe 1A | AL4: =RANK(AV4,AV4:AV9) -> 1 | AM4: =RANK(AW4,AW4:AW9) -> 1 | AN4: =SUMPRODUCT((C4:G18=AG4)*(AX4:AX18))+SUMPRODUCT((J4:N18=AG4)*(AY4:AY18)) -> 0 | AO4: =SUMPRODUCT((C4:G18=AG4)*(AZ4:AZ18))+SUMPRODUCT((J4:N18=AG4)*(BA4:BA18)) -> 0 | AP4: =SUMPRODUCT((C4:G18=AG4)*(BB4:BB18))+SUMPRODUCT((J4:N18=AG4)*(BC4:BC18)) -> 0 | AQ4: =SUMPRODUCT((C4:G18=AG4)*(BD4:BD18))+SUMPRODUCT((J4:N18=AG4)*(BE4:BE18)) -> 0 | AR4: =SUMPRODUCT((C4:G18=AG4)*(BF4:BF18))+SUMPRODUCT((J4:N18=AG4)*(BG4:BG18)) -> 0 | AS4: =SUMPRODUCT((C4:G18=AG4)*(BH4:BH18))+SUMPRODUCT((J4:N18=AG4)*(BI4:BI18)) -> 0 | AT4: =SUMPRODUCT((C4:G18=AG4)*(BJ4:BJ18))+SUMPRODUCT((J4:N18=AG4)*(BK4:BK18)) -> 0 | AU4: =AS4-AT4 -> 0 | AV4: =SUM(AN4*1000+(AU4)/10+(AS4)/100) -> 0 | AW4: =AV4+0.0000006 -> 6e-07 | AX4: =IF(H4="",0,IF(H4>I4,3,IF(H4=I4,1,IF(H4<I4,0)))) -> 0 | AY4: =IF(I4="",0,IF(I4>H4,3,IF(I4=H4,1,IF(I4<H4,0)))) -> 0 | AZ4: =IF(H4="",0,1) -> 0 | BA4: =IF(I4="",0,1) -> 0 | BB4: =IF(H4<>"",IF(H4>I4,1)) -> FALSE | BC4: =IF(I4<>"",IF(I4>H4,1)) -> FALSE | BD4: =IF(H4<>"",IF(H4=I4,1)) -> FALSE | BE4: =IF(I4<>"",IF(I4=H4,1)) -> FALSE | BF4: =IF(H4<>"",IF(H4<I4,1)) -> FALSE | BG4: =IF(I4<>"",IF(I4<H4,1)) -> FALSE | BH4: =H4 -> 0 | BI4: =I4 -> 0 | BJ4: =I4 -> 0 | BK4: =H4 -> 0 | BL4: =VLOOKUP(AE4,AF4:AK9,2,0) -> Equipe 1A | BQ4: =VLOOKUP(BL4,AG4:AV9,16,0) -> 0 | BR4: =RANK(BQ4,BQ4:BQ9) -> 1 | BS4: =AG4 -> Equipe 1A
A5: 3 | C5: =AG6 -> Equipe 3A | J5: =AG7 -> Equipe 4A | P5: =VLOOKUP(AE5,AF4:AK9,2,0) -> Equipe 2A | U5: =IF(BQ5=BQ4,BR4,BR5) -> 1 | V5: =VLOOKUP(P5,AG4:AU9,8,0) -> 0 | W5: =VLOOKUP(P5,AG4:AU9,9,0) -> 0 | X5: =VLOOKUP(P5,AG4:AU9,10,0) -> 0 | Y5: =VLOOKUP(P5,AG4:AU9,11,0) -> 0 | Z5: =VLOOKUP(P5,AG4:AU9,12,0) -> 0 | AA5: =VLOOKUP(P5,AG4:AU9,13,0) -> 0 | AB5: =VLOOKUP(P5,AG4:AU9,14,0) -> 0 | AC5: =VLOOKUP(P5,AG4:AU9,15,0) -> 0 | AE5: 2 | AF5: =AM5 -> 2 | AG5: =Equipes!A3 -> Equipe 2A | AL5: =RANK(AV5,AV4:AV9) -> 1 | AM5: =RANK(AW5,AW4:AW9) -> 2 | AN5: =SUMPRODUCT((C4:G18=AG5)*(AX4:AX18))+SUMPRODUCT((J4:N18=AG5)*(AY4:AY18)) -> 0 | AO5: =SUMPRODUCT((C4:G18=AG5)*(AZ4:AZ18))+SUMPRODUCT((J4:N18=AG5)*(BA4:BA18)) -> 0 | AP5: =SUMPRODUCT((C4:G18=AG5)*(BB4:BB18))+SUMPRODUCT((J4:N18=AG5)*(BC4:BC18)) -> 0 | AQ5: =SUMPRODUCT((C4:G18=AG5)*(BD4:BD18))+SUMPRODUCT((J4:N18=AG5)*(BE4:BE18)) -> 0 | AR5: =SUMPRODUCT((C4:G18=AG5)*(BF4:BF18))+SUMPRODUCT((J4:N18=AG5)*(BG4:BG18)) -> 0 | AS5: =SUMPRODUCT((C4:G18=AG5)*(BH4:BH18))+SUMPRODUCT((J4:N18=AG5)*(BI4:BI18)) -> 0 | AT5: =SUMPRODUCT((C4:G18=AG5)*(BJ4:BJ18))+SUMPRODUCT((J4:N18=AG5)*(BK4:BK18)) -> 0 | AU5: =AS5-AT5 -> 0 | AV5: =SUM(AN5*1000+(AU5)/10+(AS5)/100) -> 0 | AW5: =AV5+0.0000005 -> 5e-07 | AX5: =IF(H5="",0,IF(H5>I5,3,IF(H5=I5,1,IF(H5<I5,0)))) -> 0 | AY5: =IF(I5="",0,IF(I5>H5,3,IF(I5=H5,1,IF(I5<H5,0)))) -> 0 | AZ5: =IF(H5="",0,1) -> 0 | BA5: =IF(I5="",0,1) -> 0 | BB5: =IF(H5<>"",IF(H5>I5,1)) -> FALSE | BC5: =IF(I5<>"",IF(I5>H5,1)) -> FALSE | BD5: =IF(H5<>"",IF(H5=I5,1)) -> FALSE | BE5: =IF(I5<>"",IF(I5=H5,1)) -> FALSE | BF5: =IF(H5<>"",IF(H5<I5,1)) -> FALSE | BG5: =IF(I5<>"",IF(I5<H5,1)) -> FALSE | BH5: =H5 -> 0 | BI5: =I5 -> 0 | BJ5: =I5 -> 0 | BK5: =H5 -> 0 | BL5: =VLOOKUP(AE5,AF4:AK9,2,0) -> Equipe 2A | BQ5: =VLOOKUP(BL5,AG4:AV9,16,0) -> 0 | BR5: =RANK(BQ5,BQ4:BQ9) -> 1 | BS5: =AG5 -> Equipe 2A
A6: 1 | C6: =AG8 -> Equipe 5A | J6: =AG9 -> Equipe 6A | P6: =VLOOKUP(AE6,AF4:AK9,2,0) -> Equipe 3A | U6: =IF(BQ6=BQ5,BR5,BR6) -> 1 | V6: =VLOOKUP(P6,AG4:AU9,8,0) -> 0 | W6: =VLOOKUP(P6,AG4:AU9,9,0) -> 0 | X6: =VLOOKUP(P6,AG4:AU9,10,0) -> 0 | Y6: =VLOOKUP(P6,AG4:AU9,11,0) -> 0 | Z6: =VLOOKUP(P6,AG4:AU9,12,0) -> 0 | AA6: =VLOOKUP(P6,AG4:AU9,13,0) -> 0 | AB6: =VLOOKUP(P6,AG4:AU9,14,0) -> 0 | AC6: =VLOOKUP(P6,AG4:AU9,15,0) -> 0 | AE6: 3 | AF6: =AM6 -> 3 | AG6: =Equipes!A4 -> Equipe 3A | AL6: =RANK(AV6,AV4:AV9) -> 1 | AM6: =RANK(AW6,AW4:AW9) -> 3 | AN6: =SUMPRODUCT((C4:G18=AG6)*(AX4:AX18))+SUMPRODUCT((J4:N18=AG6)*(AY4:AY18)) -> 0 | AO6: =SUMPRODUCT((C4:G18=AG6)*(AZ4:AZ18))+SUMPRODUCT((J4:N18=AG6)*(BA4:BA18)) -> 0 | AP6: =SUMPRODUCT((C4:G18=AG6)*(BB4:BB18))+SUMPRODUCT((J4:N18=AG6)*(BC4:BC18)) -> 0 | AQ6: =SUMPRODUCT((C4:G18=AG6)*(BD4:BD18))+SUMPRODUCT((J4:N18=AG6)*(BE4:BE18)) -> 0 | AR6: =SUMPRODUCT((C4:G18=AG6)*(BF4:BF18))+SUMPRODUCT((J4:N18=AG6)*(BG4:BG18)) -> 0 | AS6: =SUMPRODUCT((C4:G18=AG6)*(BH4:BH18))+SUMPRODUCT((J4:N18=AG6)*(BI4:BI18)) -> 0 | AT6: =SUMPRODUCT((C4:G18=AG6)*(BJ4:BJ18))+SUMPRODUCT((J4:N18=AG6)*(BK4:BK18)) -> 0 | AU6: =AS6-AT6 -> 0 | AV6: =SUM(AN6*1000+(AU6)/10+(AS6)/100) -> 0 | AW6: =AV6+0.0000004 -> 4e-07 | AX6: =IF(H6="",0,IF(H6>I6,3,IF(H6=I6,1,IF(H6<I6,0)))) -> 0 | AY6: =IF(I6="",0,IF(I6>H6,3,IF(I6=H6,1,IF(I6<H6,0)))) -> 0 | AZ6: =IF(H6="",0,1) -> 0 | BA6: =IF(I6="",0,1) -> 0 | BB6: =IF(H6<>"",IF(H6>I6,1)) -> FALSE | BC6: =IF(I6<>"",IF(I6>H6,1)) -> FALSE | BD6: =IF(H6<>"",IF(H6=I6,1)) -> FALSE | BE6: =IF(I6<>"",IF(I6=H6,1)) -> FALSE | BF6: =IF(H6<>"",IF(H6<I6,1)) -> FALSE | BG6: =IF(I6<>"",IF(I6<H6,1)) -> FALSE | BH6: =H6 -> 0 | BI6: =I6 -> 0 | BJ6: =I6 -> 0 | BK6: =H6 -> 0 | BL6: =VLOOKUP(AE6,AF4:AK9,2,0) -> Equipe 3A | BQ6: =VLOOKUP(BL6,AG4:AV9,16,0) -> 0 | BR6: =RANK(BQ6,BQ4:BQ9) -> 1 | BS6: =AG6 -> Equipe 3A
A7: 3 | C7: =AG4 -> Equipe 1A | J7: =AG8 -> Equipe 5A | P7: =VLOOKUP(AE7,AF4:AK9,2,0) -> Equipe 4A | U7: =IF(BQ7=BQ6,BR6,BR7) -> 1 | V7: =VLOOKUP(P7,AG4:AU9,8,0) -> 0 | W7: =VLOOKUP(P7,AG4:AU9,9,0) -> 0 | X7: =VLOOKUP(P7,AG4:AU9,10,0) -> 0 | Y7: =VLOOKUP(P7,AG4:AU9,11,0) -> 0 | Z7: =VLOOKUP(P7,AG4:AU9,12,0) -> 0 | AA7: =VLOOKUP(P7,AG4:AU9,13,0) -> 0 | AB7: =VLOOKUP(P7,AG4:AU9,14,0) -> 0 | AC7: =VLOOKUP(P7,AG4:AU9,15,0) -> 0 | AE7: 4 | AF7: =AM7 -> 4 | AG7: =Equipes!A5 -> Equipe 4A | AL7: =RANK(AV7,AV4:AV9) -> 1 | AM7: =RANK(AW7,AW4:AW9) -> 4 | AN7: =SUMPRODUCT((C4:G18=AG7)*(AX4:AX18))+SUMPRODUCT((J4:N18=AG7)*(AY4:AY18)) -> 0 | AO7: =SUMPRODUCT((C4:G18=AG7)*(AZ4:AZ18))+SUMPRODUCT((J4:N18=AG7)*(BA4:BA18)) -> 0 | AP7: =SUMPRODUCT((C4:G18=AG7)*(BB4:BB18))+SUMPRODUCT((J4:N18=AG7)*(BC4:BC18)) -> 0 | AQ7: =SUMPRODUCT((C4:G18=AG7)*(BD4:BD18))+SUMPRODUCT((J4:N18=AG7)*(BE4:BE18)) -> 0 | AR7: =SUMPRODUCT((C4:G18=AG7)*(BF4:BF18))+SUMPRODUCT((J4:N18=AG7)*(BG4:BG18)) -> 0 | AS7: =SUMPRODUCT((C4:G18=AG7)*(BH4:BH18))+SUMPRODUCT((J4:N18=AG7)*(BI4:BI18)) -> 0 | AT7: =SUMPRODUCT((C4:G18=AG7)*(BJ4:BJ18))+SUMPRODUCT((J4:N18=AG7)*(BK4:BK18)) -> 0 | AU7: =AS7-AT7 -> 0 | AV7: =SUM(AN7*1000+(AU7)/10+(AS7)/100) -> 0 | AW7: =AV7+0.0000003 -> 3e-07 | AX7: =IF(H7="",0,IF(H7>I7,3,IF(H7=I7,1,IF(H7<I7,0)))) -> 0 | AY7: =IF(I7="",0,IF(I7>H7,3,IF(I7=H7,1,IF(I7<H7,0)))) -> 0 | AZ7: =IF(H7="",0,1) -> 0 | BA7: =IF(I7="",0,1) -> 0 | BB7: =IF(H7<>"",IF(H7>I7,1)) -> FALSE | BC7: =IF(I7<>"",IF(I7>H7,1)) -> FALSE | BD7: =IF(H7<>"",IF(H7=I7,1)) -> FALSE | BE7: =IF(I7<>"",IF(I7=H7,1)) -> FALSE | BF7: =IF(H7<>"",IF(H7<I7,1)) -> FALSE | BG7: =IF(I7<>"",IF(I7<H7,1)) -> FALSE | BH7: =H7 -> 0 | BI7: =I7 -> 0 | BJ7: =I7 -> 0 | BK7: =H7 -> 0 | BL7: =VLOOKUP(AE7,AF4:AK9,2,0) -> Equipe 4A | BQ7: =VLOOKUP(BL7,AG4:AV9,16,0) -> 0 | BR7: =RANK(BQ7,BQ4:BQ9) -> 1 | BS7: =AG7 -> Equipe 4A
A8: 1 | C8: =AG5 -> Equipe 2A | J8: =AG7 -> Equipe 4A | P8: =VLOOKUP(AE8,AF4:AK9,2,0) -> Equipe 5A | U8: =IF(BQ8=BQ7,BR7,BR8) -> 1 | V8: =VLOOKUP(P8,AG4:AU9,8,0) -> 0 | W8: =VLOOKUP(P8,AG4:AU9,9,0) -> 0 | X8: =VLOOKUP(P8,AG4:AU9,10,0) -> 0 | Y8: =VLOOKUP(P8,AG4:AU9,11,0) -> 0 | Z8: =VLOOKUP(P8,AG4:AU9,12,0) -> 0 | AA8: =VLOOKUP(P8,AG4:AU9,13,0) -> 0 | AB8: =VLOOKUP(P8,AG4:AU9,14,0) -> 0 | AC8: =VLOOKUP(P8,AG4:AU9,15,0) -> 0 | AE8: 5 | AF8: =AM8 -> 5 | AG8: =Equipes!A6 -> Equipe 5A | AL8: =RANK(AV8,AV4:AV9) -> 1 | AM8: =RANK(AW8,AW4:AW9) -> 5 | AN8: =SUMPRODUCT((C4:G18=AG8)*(AX4:AX18))+SUMPRODUCT((J4:N18=AG8)*(AY4:AY18)) -> 0 | AO8: =SUMPRODUCT((C4:G18=AG8)*(AZ4:AZ18))+SUMPRODUCT((J4:N18=AG8)*(BA4:BA18)) -> 0 | AP8: =SUMPRODUCT((C4:G18=AG8)*(BB4:BB18))+SUMPRODUCT((J4:N18=AG8)*(BC4:BC18)) -> 0 | AQ8: =SUMPRODUCT((C4:G18=AG8)*(BD4:BD18))+SUMPRODUCT((J4:N18=AG8)*(BE4:BE18)) -> 0 | AR8: =SUMPRODUCT((C4:G18=AG8)*(BF4:BF18))+SUMPRODUCT((J4:N18=AG8)*(BG4:BG18)) -> 0 | AS8: =SUMPRODUCT((C4:G18=AG8)*(BH4:BH18))+SUMPRODUCT((J4:N18=AG8)*(BI4:BI18)) -> 0 | AT8: =SUMPRODUCT((C4:G18=AG8)*(BJ4:BJ18))+SUMPRODUCT((J4:N18=AG8)*(BK4:BK18)) -> 0 | AU8: =AS8-AT8 -> 0 | AV8: =SUM(AN8*1000+(AU8)/10+(AS8)/100) -> 0 | AW8: =AV8+0.0000002 -> 2e-07 | AX8: =IF(H8="",0,IF(H8>I8,3,IF(H8=I8,1,IF(H8<I8,0)))) -> 0 | AY8: =IF(I8="",0,IF(I8>H8,3,IF(I8=H8,1,IF(I8<H8,0)))) -> 0 | AZ8: =IF(H8="",0,1) -> 0 | BA8: =IF(I8="",0,1) -> 0 | BB8: =IF(H8<>"",IF(H8>I8,1)) -> FALSE | BC8: =IF(I8<>"",IF(I8>H8,1)) -> FALSE | BD8: =IF(H8<>"",IF(H8=I8,1)) -> FALSE | BE8: =IF(I8<>"",IF(I8=H8,1)) -> FALSE | BF8: =IF(H8<>"",IF(H8<I8,1)) -> FALSE | BG8: =IF(I8<>"",IF(I8<H8,1)) -> FALSE | BH8: =H8 -> 0 | BI8: =I8 -> 0 | BJ8: =I8 -> 0 | BK8: =H8 -> 0 | BL8: =VLOOKUP(AE8,AF4:AK9,2,0) -> Equipe 5A | BQ8: =VLOOKUP(BL8,AG4:AV9,16,0) -> 0 | BR8: =RANK(BQ8,BQ4:BQ9) -> 1 | BS8: =AG8 -> Equipe 5A
A9: 3 | C9: =AG6 -> Equipe 3A | J9: =AG9 -> Equipe 6A | P9: =VLOOKUP(AE9,AF4:AK9,2,0) -> Equipe 6A | U9: =IF(BQ9=BQ8,BR8,BR9) -> 1 | V9: =VLOOKUP(P9,AG4:AU9,8,0) -> 0 | W9: =VLOOKUP(P9,AG4:AU9,9,0) -> 0 | X9: =VLOOKUP(P9,AG4:AU9,10,0) -> 0 | Y9: =VLOOKUP(P9,AG4:AU9,11,0) -> 0 | Z9: =VLOOKUP(P9,AG4:AU9,12,0) -> 0 | AA9: =VLOOKUP(P9,AG4:AU9,13,0) -> 0 | AB9: =VLOOKUP(P9,AG4:AU9,14,0) -> 0 | AC9: =VLOOKUP(P9,AG4:AU9,15,0) -> 0 | AE9: 6 | AF9: =AM9 -> 6 | AG9: =Equipes!A7 -> Equipe 6A | AL9: =RANK(AV9,AV4:AV9) -> 1 | AM9: =RANK(AW9,AW4:AW9) -> 6 | AN9: =SUMPRODUCT((C4:G18=AG9)*(AX4:AX18))+SUMPRODUCT((J4:N18=AG9)*(AY4:AY18)) -> 0 | AO9: =SUMPRODUCT((C4:G18=AG9)*(AZ4:AZ18))+SUMPRODUCT((J4:N18=AG9)*(BA4:BA18)) -> 0 | AP9: =SUMPRODUCT((C4:G18=AG9)*(BB4:BB18))+SUMPRODUCT((J4:N18=AG9)*(BC4:BC18)) -> 0 | AQ9: =SUMPRODUCT((C4:G18=AG9)*(BD4:BD18))+SUMPRODUCT((J4:N18=AG9)*(BE4:BE18)) -> 0 | AR9: =SUMPRODUCT((C4:G18=AG9)*(BF4:BF18))+SUMPRODUCT((J4:N18=AG9)*(BG4:BG18)) -> 0 | AS9: =SUMPRODUCT((C4:G18=AG9)*(BH4:BH18))+SUMPRODUCT((J4:N18=AG9)*(BI4:BI18)) -> 0 | AT9: =SUMPRODUCT((C4:G18=AG9)*(BJ4:BJ18))+SUMPRODUCT((J4:N18=AG9)*(BK4:BK18)) -> 0 | AU9: =AS9-AT9 -> 0 | AV9: =SUM(AN9*1000+(AU9)/10+(AS9)/100) -> 0 | AW9: =AV9+0.0000001 -> 1e-07 | AX9: =IF(H9="",0,IF(H9>I9,3,IF(H9=I9,1,IF(H9<I9,0)))) -> 0 | AY9: =IF(I9="",0,IF(I9>H9,3,IF(I9=H9,1,IF(I9<H9,0)))) -> 0 | AZ9: =IF(H9="",0,1) -> 0 | BA9: =IF(I9="",0,1) -> 0 | BB9: =IF(H9<>"",IF(H9>I9,1)) -> FALSE | BC9: =IF(I9<>"",IF(I9>H9,1)) -> FALSE | BD9: =IF(H9<>"",IF(H9=I9,1)) -> FALSE | BE9: =IF(I9<>"",IF(I9=H9,1)) -> FALSE | BF9: =IF(H9<>"",IF(H9<I9,1)) -> FALSE | BG9: =IF(I9<>"",IF(I9<H9,1)) -> FALSE | BH9: =H9 -> 0 | BI9: =I9 -> 0 | BJ9: =I9 -> 0 | BK9: =H9 -> 0 | BL9: =VLOOKUP(AE9,AF4:AK9,2,0) -> Equipe 6A | BQ9: =VLOOKUP(BL9,AG4:AV9,16,0) -> 0 | BR9: =RANK(BQ9,BQ4:BQ9) -> 1 | BS9: =AG9 -> Equipe 6A
A10: 1 | C10: =AG4 -> Equipe 1A | J10: =AG7 -> Equipe 4A | AX10: =IF(H10="",0,IF(H10>I10,3,IF(H10=I10,1,IF(H10<I10,0)))) -> 0 | AY10: =IF(I10="",0,IF(I10>H10,3,IF(I10=H10,1,IF(I10<H10,0)))) -> 0 | AZ10: =IF(H10="",0,1) -> 0 | BA10: =IF(I10="",0,1) -> 0 | BB10: =IF(H10<>"",IF(H10>I10,1)) -> FALSE | BC10: =IF(I10<>"",IF(I10>H10,1)) -> FALSE | BD10: =IF(H10<>"",IF(H10=I10,1)) -> FALSE | BE10: =IF(I10<>"",IF(I10=H10,1)) -> FALSE | BF10: =IF(H10<>"",IF(H10<I10,1)) -> FALSE | BG10: =IF(I10<>"",IF(I10<H10,1)) -> FALSE | BH10: =H10 -> 0 | BI10: =I10 -> 0 | BJ10: =I10 -> 0 | BK10: =H10 -> 0
A11: 3 | C11: =AG5 -> Equipe 2A | J11: =AG9 -> Equipe 6A | AX11: =IF(H11="",0,IF(H11>I11,3,IF(H11=I11,1,IF(H11<I11,0)))) -> 0 | AY11: =IF(I11="",0,IF(I11>H11,3,IF(I11=H11,1,IF(I11<H11,0)))) -> 0 | AZ11: =IF(H11="",0,1) -> 0 | BA11: =IF(I11="",0,1) -> 0 | BB11: =IF(H11<>"",IF(H11>I11,1)) -> FALSE | BC11: =IF(I11<>"",IF(I11>H11,1)) -> FALSE | BD11: =IF(H11<>"",IF(H11=I11,1)) -> FALSE | BE11: =IF(I11<>"",IF(I11=H11,1)) -> FALSE | BF11: =IF(H11<>"",IF(H11<I11,1)) -> FALSE | BG11: =IF(I11<>"",IF(I11<H11,1)) -> FALSE | BH11: =H11 -> 0 | BI11: =I11 -> 0 | BJ11: =I11 -> 0 | BK11: =H11 -> 0
A12: 1 | C12: =AG6 -> Equipe 3A | J12: =AG8 -> Equipe 5A | AX12: =IF(H12="",0,IF(H12>I12,3,IF(H12=I12,1,IF(H12<I12,0)))) -> 0 | AY12: =IF(I12="",0,IF(I12>H12,3,IF(I12=H12,1,IF(I12<H12,0)))) -> 0 | AZ12: =IF(H12="",0,1) -> 0 | BA12: =IF(I12="",0,1) -> 0 | BB12: =IF(H12<>"",IF(H12>I12,1)) -> FALSE | BC12: =IF(I12<>"",IF(I12>H12,1)) -> FALSE | BD12: =IF(H12<>"",IF(H12=I12,1)) -> FALSE | BE12: =IF(I12<>"",IF(I12=H12,1)) -> FALSE | BF12: =IF(H12<>"",IF(H12<I12,1)) -> FALSE | BG12: =IF(I12<>"",IF(I12<H12,1)) -> FALSE | BH12: =H12 -> 0 | BI12: =I12 -> 0 | BJ12: =I12 -> 0 | BK12: =H12 -> 0
A13: 3 | C13: =AG4 -> Equipe 1A | J13: =AG9 -> Equipe 6A | AX13: =IF(H13="",0,IF(H13>I13,3,IF(H13=I13,1,IF(H13<I13,0)))) -> 0 | AY13: =IF(I13="",0,IF(I13>H13,3,IF(I13=H13,1,IF(I13<H13,0)))) -> 0 | AZ13: =IF(H13="",0,1) -> 0 | BA13: =IF(I13="",0,1) -> 0 | BB13: =IF(H13<>"",IF(H13>I13,1)) -> FALSE | BC13: =IF(I13<>"",IF(I13>H13,1)) -> FALSE | BD13: =IF(H13<>"",IF(H13=I13,1)) -> FALSE | BE13: =IF(I13<>"",IF(I13=H13,1)) -> FALSE | BF13: =IF(H13<>"",IF(H13<I13,1)) -> FALSE | BG13: =IF(I13<>"",IF(I13<H13,1)) -> FALSE | BH13: =H13 -> 0 | BI13: =I13 -> 0 | BJ13: =I13 -> 0 | BK13: =H13 -> 0
A14: 1 | C14: =AG5 -> Equipe 2A | J14: =AG6 -> Equipe 3A | AX14: =IF(H14="",0,IF(H14>I14,3,IF(H14=I14,1,IF(H14<I14,0)))) -> 0 | AY14: =IF(I14="",0,IF(I14>H14,3,IF(I14=H14,1,IF(I14<H14,0)))) -> 0 | AZ14: =IF(H14="",0,1) -> 0 | BA14: =IF(I14="",0,1) -> 0 | BB14: =IF(H14<>"",IF(H14>I14,1)) -> FALSE | BC14: =IF(I14<>"",IF(I14>H14,1)) -> FALSE | BD14: =IF(H14<>"",IF(H14=I14,1)) -> FALSE | BE14: =IF(I14<>"",IF(I14=H14,1)) -> FALSE | BF14: =IF(H14<>"",IF(H14<I14,1)) -> FALSE | BG14: =IF(I14<>"",IF(I14<H14,1)) -> FALSE | BH14: =H14 -> 0 | BI14: =I14 -> 0 | BJ14: =I14 -> 0 | BK14: =H14 -> 0
A15: 3 | C15: =AG7 -> Equipe 4A | J15: =AG8 -> Equipe 5A | AX15: =IF(H15="",0,IF(H15>I15,3,IF(H15=I15,1,IF(H15<I15,0)))) -> 0 | AY15: =IF(I15="",0,IF(I15>H15,3,IF(I15=H15,1,IF(I15<H15,0)))) -> 0 | AZ15: =IF(H15="",0,1) -> 0 | BA15: =IF(I15="",0,1) -> 0 | BB15: =IF(H15<>"",IF(H15>I15,1)) -> FALSE | BC15: =IF(I15<>"",IF(I15>H15,1)) -> FALSE | BD15: =IF(H15<>"",IF(H15=I15,1)) -> FALSE | BE15: =IF(I15<>"",IF(I15=H15,1)) -> FALSE | BF15: =IF(H15<>"",IF(H15<I15,1)) -> FALSE | BG15: =IF(I15<>"",IF(I15<H15,1)) -> FALSE | BH15: =H15 -> 0 | BI15: =I15 -> 0 | BJ15: =I15 -> 0 | BK15: =H15 -> 0
A16: 1 | C16: =AG5 -> Equipe 2A | J16: =AG8 -> Equipe 5A | AX16: =IF(H16="",0,IF(H16>I16,3,IF(H16=I16,1,IF(H16<I16,0)))) -> 0 | AY16: =IF(I16="",0,IF(I16>H16,3,IF(I16=H16,1,IF(I16<H16,0)))) -> 0 | AZ16: =IF(H16="",0,1) -> 0 | BA16: =IF(I16="",0,1) -> 0 | BB16: =IF(H16<>"",IF(H16>I16,1)) -> FALSE | BC16: =IF(I16<>"",IF(I16>H16,1)) -> FALSE | BD16: =IF(H16<>"",IF(H16=I16,1)) -> FALSE | BE16: =IF(I16<>"",IF(I16=H16,1)) -> FALSE | BF16: =IF(H16<>"",IF(H16<I16,1)) -> FALSE | BG16: =IF(I16<>"",IF(I16<H16,1)) -> FALSE | BH16: =H16 -> 0 | BI16: =I16 -> 0 | BJ16: =I16 -> 0 | BK16: =H16 -> 0
A17: 3 | C17: =AG4 -> Equipe 1A | J17: =AG6 -> Equipe 3A | AX17: =IF(H17="",0,IF(H17>I17,3,IF(H17=I17,1,IF(H17<I17,0)))) -> 0 | AY17: =IF(I17="",0,IF(I17>H17,3,IF(I17=H17,1,IF(I17<H17,0)))) -> 0 | AZ17: =IF(H17="",0,1) -> 0 | BA17: =IF(I17="",0,1) -> 0 | BB17: =IF(H17<>"",IF(H17>I17,1)) -> FALSE | BC17: =IF(I17<>"",IF(I17>H17,1)) -> FALSE | BD17: =IF(H17<>"",IF(H17=I17,1)) -> FALSE | BE17: =IF(I17<>"",IF(I17=H17,1)) -> FALSE | BF17: =IF(H17<>"",IF(H17<I17,1)) -> FALSE | BG17: =IF(I17<>"",IF(I17<H17,1)) -> FALSE | BH17: =H17 -> 0 | BI17: =I17 -> 0 | BJ17: =I17 -> 0 | BK17: =H17 -> 0
A18: 1 | C18: =AG7 -> Equipe 4A | J18: =AG9 -> Equipe 6A | AX18: =IF(H18="",0,IF(H18>I18,3,IF(H18=I18,1,IF(H18<I18,0)))) -> 0 | AY18: =IF(I18="",0,IF(I18>H18,3,IF(I18=H18,1,IF(I18<H18,0)))) -> 0 | AZ18: =IF(H18="",0,1) -> 0 | BA18: =IF(I18="",0,1) -> 0 | BB18: =IF(H18<>"",IF(H18>I18,1)) -> FALSE | BC18: =IF(I18<>"",IF(I18>H18,1)) -> FALSE | BD18: =IF(H18<>"",IF(H18=I18,1)) -> FALSE | BE18: =IF(I18<>"",IF(I18=H18,1)) -> FALSE | BF18: =IF(H18<>"",IF(H18<I18,1)) -> FALSE | BG18: =IF(I18<>"",IF(I18<H18,1)) -> FALSE | BH18: =H18 -> 0 | BI18: =I18 -> 0 | BJ18: =I18 -> 0 | BK18: =H18 -> 0
A20: POULE B | P20: CLASSEMENT POULE B | AG20: CLASSEMENT POULE B
A22: Terrain | B22: Heure | C22: EQUIPES | H22: Pts | I22: Pts | J22: EQUIPES | P22: EQUIPES | U22: Place | V22: Pts | W22: J | X22: G | Y22: N | Z22: P | AA22: B + | AB22: B - | AC22: Diff. | AE22: R | AG22: EQUIPES | AL22: R | AM22: Place | AN22: Pts | AO22: J | AP22: G | AQ22: N | AR22: P | AS22: B + | AT22: B - | AU22: Diff. | AV22: % | AW22: % | AX22: Pts | AY22: Pts | AZ22: J | BA22: J | BB22: G | BC22: G | BD22: N | BE22: N | BF22: P | BG22: P | BH22: B + | BI22: B + | BJ22: B - | BK22: B - | BL22: EQUIPES | BQ22: % | BR22: R | BS22: EQUIPES
A23: 2 | C23: =AG23 -> Equipe 1B | J23: =AG24 -> Equipe 2B | P23: =VLOOKUP(AE23,AF23:AK28,2,0) -> Equipe 1B | U23: 1 | V23: =VLOOKUP(P23,AG23:AU28,8,0) -> 0 | W23: =VLOOKUP(P23,AG23:AU28,9,0) -> 0 | X23: =VLOOKUP(P23,AG23:AU28,10,0) -> 0 | Y23: =VLOOKUP(P23,AG23:AU28,11,0) -> 0 | Z23: =VLOOKUP(P23,AG23:AU28,12,0) -> 0 | AA23: =VLOOKUP(P23,AG23:AU28,13,0) -> 0 | AB23: =VLOOKUP(P23,AG23:AU28,14,0) -> 0 | AC23: =VLOOKUP(P23,AG23:AU28,15,0) -> 0 | AE23: 1 | AF23: =AM23 -> 1 | AG23: =Equipes!A11 -> Equipe 1B | AL23: =RANK(AV23,AV23:AV28) -> 1 | AM23: =RANK(AW23,AW23:AW28) -> 1 | AN23: =SUMPRODUCT((C23:G37=AG23)*(AX23:AX37))+SUMPRODUCT((J23:N37=AG23)*(AY23:AY37)) -> 0 | AO23: =SUMPRODUCT((C23:G37=AG23)*(AZ23:AZ37))+SUMPRODUCT((J23:N37=AG23)*(BA23:BA37)) -> 0 | AP23: =SUMPRODUCT((C23:G37=AG23)*(BB23:BB37))+SUMPRODUCT((J23:N37=AG23)*(BC23:BC37)) -> 0 | AQ23: =SUMPRODUCT((C23:G37=AG23)*(BD23:BD37))+SUMPRODUCT((J23:N37=AG23)*(BE23:BE37)) -> 0 | AR23: =SUMPRODUCT((C23:G37=AG23)*(BF23:BF37))+SUMPRODUCT((J23:N37=AG23)*(BG23:BG37)) -> 0 | AS23: =SUMPRODUCT((C23:G37=AG23)*(BH23:BH37))+SUMPRODUCT((J23:N37=AG23)*(BI23:BI37)) -> 0 | AT23: =SUMPRODUCT((C23:G37=AG23)*(BJ23:BJ37))+SUMPRODUCT((J23:N37=AG23)*(BK23:BK37)) -> 0 | AU23: =AS23-AT23 -> 0 | AV23: =SUM(AN23*1000+(AU23)/10+(AS23)/100) -> 0 | AW23: =AV23+0.0000006 -> 6e-07 | AX23: =IF(H23="",0,IF(H23>I23,3,IF(H23=I23,1,IF(H23<I23,0)))) -> 0 | AY23: =IF(I23="",0,IF(I23>H23,3,IF(I23=H23,1,IF(I23<H23,0)))) -> 0 | AZ23: =IF(H23="",0,1) -> 0 | BA23: =IF(I23="",0,1) -> 0 | BB23: =IF(H23<>"",IF(H23>I23,1)) -> FALSE | BC23: =IF(I23<>"",IF(I23>H23,1)) -> FALSE | BD23: =IF(H23<>"",IF(H23=I23,1)) -> FALSE | BE23: =IF(I23<>"",IF(I23=H23,1)) -> FALSE | BF23: =IF(H23<>"",IF(H23<I23,1)) -> FALSE | BG23: =IF(I23<>"",IF(I23<H23,1)) -> FALSE | BH23: =H23 -> 0 | BI23: =I23 -> 0 | BJ23: =I23 -> 0 | BK23: =H23 -> 0 | BL23: =VLOOKUP(AE23,AF23:AK28,2,0) -> Equipe 1B | BQ23: =VLOOKUP(BL23,AG23:AV28,16,0) -> 0 | BR23: =RANK(BQ23,BQ23:BQ28) -> 1 | BS23: =AG23 -> Equipe 1B
A24: 4 | C24: =AG25 -> Equipe 3B | J24: =AG26 -> Equipe 4B | P24: =VLOOKUP(AE24,AF23:AK28,2,0) -> Equipe 2B | U24: =IF(BQ24=BQ23,BR23,BR24) -> 1 | V24: =VLOOKUP(P24,AG23:AU28,8,0) -> 0 | W24: =VLOOKUP(P24,AG23:AU28,9,0) -> 0 | X24: =VLOOKUP(P24,AG23:AU28,10,0) -> 0 | Y24: =VLOOKUP(P24,AG23:AU28,11,0) -> 0 | Z24: =VLOOKUP(P24,AG23:AU28,12,0) -> 0 | AA24: =VLOOKUP(P24,AG23:AU28,13,0) -> 0 | AB24: =VLOOKUP(P24,AG23:AU28,14,0) -> 0 | AC24: =VLOOKUP(P24,AG23:AU28,15,0) -> 0 | AE24: 2 | AF24: =AM24 -> 2 | AG24: =Equipes!A12 -> Equipe 2B | AL24: =RANK(AV24,AV23:AV28) -> 1 | AM24: =RANK(AW24,AW23:AW28) -> 2 | AN24: =SUMPRODUCT((C23:G37=AG24)*(AX23:AX37))+SUMPRODUCT((J23:N37=AG24)*(AY23:AY37)) -> 0 | AO24: =SUMPRODUCT((C23:G37=AG24)*(AZ23:AZ37))+SUMPRODUCT((J23:N37=AG24)*(BA23:BA37)) -> 0 | AP24: =SUMPRODUCT((C23:G37=AG24)*(BB23:BB37))+SUMPRODUCT((J23:N37=AG24)*(BC23:BC37)) -> 0 | AQ24: =SUMPRODUCT((C23:G37=AG24)*(BD23:BD37))+SUMPRODUCT((J23:N37=AG24)*(BE23:BE37)) -> 0 | AR24: =SUMPRODUCT((C23:G37=AG24)*(BF23:BF37))+SUMPRODUCT((J23:N37=AG24)*(BG23:BG37)) -> 0 | AS24: =SUMPRODUCT((C23:G37=AG24)*(BH23:BH37))+SUMPRODUCT((J23:N37=AG24)*(BI23:BI37)) -> 0 | AT24: =SUMPRODUCT((C23:G37=AG24)*(BJ23:BJ37))+SUMPRODUCT((J23:N37=AG24)*(BK23:BK37)) -> 0 | AU24: =AS24-AT24 -> 0 | AV24: =SUM(AN24*1000+(AU24)/10+(AS24)/100) -> 0 | AW24: =AV24+0.0000005 -> 5e-07 | AX24: =IF(H24="",0,IF(H24>I24,3,IF(H24=I24,1,IF(H24<I24,0)))) -> 0 | AY24: =IF(I24="",0,IF(I24>H24,3,IF(I24=H24,1,IF(I24<H24,0)))) -> 0 | AZ24: =IF(H24="",0,1) -> 0 | BA24: =IF(I24="",0,1) -> 0 | BB24: =IF(H24<>"",IF(H24>I24,1)) -> FALSE | BC24: =IF(I24<>"",IF(I24>H24,1)) -> FALSE | BD24: =IF(H24<>"",IF(H24=I24,1)) -> FALSE | BE24: =IF(I24<>"",IF(I24=H24,1)) -> FALSE | BF24: =IF(H24<>"",IF(H24<I24,1)) -> FALSE | BG24: =IF(I24<>"",IF(I24<H24,1)) -> FALSE | BH24: =H24 -> 0 | BI24: =I24 -> 0 | BJ24: =I24 -> 0 | BK24: =H24 -> 0 | BL24: =VLOOKUP(AE24,AF23:AK28,2,0) -> Equipe 2B | BQ24: =VLOOKUP(BL24,AG23:AV28,16,0) -> 0 | BR24: =RANK(BQ24,BQ23:BQ28) -> 1 | BS24: =AG24 -> Equipe 2B
A25: 2 | C25: =AG27 -> Equipe 5B | J25: =AG28 -> Equipe 6B | P25: =VLOOKUP(AE25,AF23:AK28,2,0) -> Equipe 3B | U25: =IF(BQ25=BQ24,BR24,BR25) -> 1 | V25: =VLOOKUP(P25,AG23:AU28,8,0) -> 0 | W25: =VLOOKUP(P25,AG23:AU28,9,0) -> 0 | X25: =VLOOKUP(P25,AG23:AU28,10,0) -> 0 | Y25: =VLOOKUP(P25,AG23:AU28,11,0) -> 0 | Z25: =VLOOKUP(P25,AG23:AU28,12,0) -> 0 | AA25: =VLOOKUP(P25,AG23:AU28,13,0) -> 0 | AB25: =VLOOKUP(P25,AG23:AU28,14,0) -> 0 | AC25: =VLOOKUP(P25,AG23:AU28,15,0) -> 0 | AE25: 3 | AF25: =AM25 -> 3 | AG25: =Equipes!A13 -> Equipe 3B | AL25: =RANK(AV25,AV23:AV28) -> 1 | AM25: =RANK(AW25,AW23:AW28) -> 3 | AN25: =SUMPRODUCT((C23:G37=AG25)*(AX23:AX37))+SUMPRODUCT((J23:N37=AG25)*(AY23:AY37)) -> 0 | AO25: =SUMPRODUCT((C23:G37=AG25)*(AZ23:AZ37))+SUMPRODUCT((J23:N37=AG25)*(BA23:BA37)) -> 0 | AP25: =SUMPRODUCT((C23:G37=AG25)*(BB23:BB37))+SUMPRODUCT((J23:N37=AG25)*(BC23:BC37)) -> 0 | AQ25: =SUMPRODUCT((C23:G37=AG25)*(BD23:BD37))+SUMPRODUCT((J23:N37=AG25)*(BE23:BE37)) -> 0 | AR25: =SUMPRODUCT((C23:G37=AG25)*(BF23:BF37))+SUMPRODUCT((J23:N37=AG25)*(BG23:BG37)) -> 0 | AS25: =SUMPRODUCT((C23:G37=AG25)*(BH23:BH37))+SUMPRODUCT((J23:N37=AG25)*(BI23:BI37)) -> 0 | AT25: =SUMPRODUCT((C23:G37=AG25)*(BJ23:BJ37))+SUMPRODUCT((J23:N37=AG25)*(BK23:BK37)) -> 0 | AU25: =AS25-AT25 -> 0 | AV25: =SUM(AN25*1000+(AU25)/10+(AS25)/100) -> 0 | AW25: =AV25+0.0000004 -> 4e-07 | AX25: =IF(H25="",0,IF(H25>I25,3,IF(H25=I25,1,IF(H25<I25,0)))) -> 0 | AY25: =IF(I25="",0,IF(I25>H25,3,IF(I25=H25,1,IF(I25<H25,0)))) -> 0 | AZ25: =IF(H25="",0,1) -> 0 | BA25: =IF(I25="",0,1) -> 0 | BB25: =IF(H25<>"",IF(H25>I25,1)) -> FALSE | BC25: =IF(I25<>"",IF(I25>H25,1)) -> FALSE | BD25: =IF(H25<>"",IF(H25=I25,1)) -> FALSE | BE25: =IF(I25<>"",IF(I25=H25,1)) -> FALSE | BF25: =IF(H25<>"",IF(H25<I25,1)) -> FALSE | BG25: =IF(I25<>"",IF(I25<H25,1)) -> FALSE | BH25: =H25 -> 0 | BI25: =I25 -> 0 | BJ25: =I25 -> 0 | BK25: =H25 -> 0 | BL25: =VLOOKUP(AE25,AF23:AK28,2,0) -> Equipe 3B | BQ25: =VLOOKUP(BL25,AG23:AV28,16,0) -> 0 | BR25: =RANK(BQ25,BQ23:BQ28) -> 1 | BS25: =AG25 -> Equipe 3B
A26: 4 | C26: =AG23 -> Equipe 1B | J26: =AG27 -> Equipe 5B | P26: =VLOOKUP(AE26,AF23:AK28,2,0) -> Equipe 4B | U26: =IF(BQ26=BQ25,BR25,BR26) -> 1 | V26: =VLOOKUP(P26,AG23:AU28,8,0) -> 0 | W26: =VLOOKUP(P26,AG23:AU28,9,0) -> 0 | X26: =VLOOKUP(P26,AG23:AU28,10,0) -> 0 | Y26: =VLOOKUP(P26,AG23:AU28,11,0) -> 0 | Z26: =VLOOKUP(P26,AG23:AU28,12,0) -> 0 | AA26: =VLOOKUP(P26,AG23:AU28,13,0) -> 0 | AB26: =VLOOKUP(P26,AG23:AU28,14,0) -> 0 | AC26: =VLOOKUP(P26,AG23:AU28,15,0) -> 0 | AE26: 4 | AF26: =AM26 -> 4 | AG26: =Equipes!A14 -> Equipe 4B | AL26: =RANK(AV26,AV23:AV28) -> 1 | AM26: =RANK(AW26,AW23:AW28) -> 4 | AN26: =SUMPRODUCT((C23:G37=AG26)*(AX23:AX37))+SUMPRODUCT((J23:N37=AG26)*(AY23:AY37)) -> 0 | AO26: =SUMPRODUCT((C23:G37=AG26)*(AZ23:AZ37))+SUMPRODUCT((J23:N37=AG26)*(BA23:BA37)) -> 0 | AP26: =SUMPRODUCT((C23:G37=AG26)*(BB23:BB37))+SUMPRODUCT((J23:N37=AG26)*(BC23:BC37)) -> 0 | AQ26: =SUMPRODUCT((C23:G37=AG26)*(BD23:BD37))+SUMPRODUCT((J23:N37=AG26)*(BE23:BE37)) -> 0 | AR26: =SUMPRODUCT((C23:G37=AG26)*(BF23:BF37))+SUMPRODUCT((J23:N37=AG26)*(BG23:BG37)) -> 0 | AS26: =SUMPRODUCT((C23:G37=AG26)*(BH23:BH37))+SUMPRODUCT((J23:N37=AG26)*(BI23:BI37)) -> 0 | AT26: =SUMPRODUCT((C23:G37=AG26)*(BJ23:BJ37))+SUMPRODUCT((J23:N37=AG26)*(BK23:BK37)) -> 0 | AU26: =AS26-AT26 -> 0 | AV26: =SUM(AN26*1000+(AU26)/10+(AS26)/100) -> 0 | AW26: =AV26+0.0000003 -> 3e-07 | AX26: =IF(H26="",0,IF(H26>I26,3,IF(H26=I26,1,IF(H26<I26,0)))) -> 0 | AY26: =IF(I26="",0,IF(I26>H26,3,IF(I26=H26,1,IF(I26<H26,0)))) -> 0 | AZ26: =IF(H26="",0,1) -> 0 | BA26: =IF(I26="",0,1) -> 0 | BB26: =IF(H26<>"",IF(H26>I26,1)) -> FALSE | BC26: =IF(I26<>"",IF(I26>H26,1)) -> FALSE | BD26: =IF(H26<>"",IF(H26=I26,1)) -> FALSE | BE26: =IF(I26<>"",IF(I26=H26,1)) -> FALSE | BF26: =IF(H26<>"",IF(H26<I26,1)) -> FALSE | BG26: =IF(I26<>"",IF(I26<H26,1)) -> FALSE | BH26: =H26 -> 0 | BI26: =I26 -> 0 | BJ26: =I26 -> 0 | BK26: =H26 -> 0 | BL26: =VLOOKUP(AE26,AF23:AK28,2,0) -> Equipe 4B | BQ26: =VLOOKUP(BL26,AG23:AV28,16,0) -> 0 | BR26: =RANK(BQ26,BQ23:BQ28) -> 1 | BS26: =AG26 -> Equipe 4B
A27: 2 | C27: =AG24 -> Equipe 2B | J27: =AG26 -> Equipe 4B | P27: =VLOOKUP(AE27,AF23:AK28,2,0) -> Equipe 5B | U27: =IF(BQ27=BQ26,BR26,BR27) -> 1 | V27: =VLOOKUP(P27,AG23:AU28,8,0) -> 0 | W27: =VLOOKUP(P27,AG23:AU28,9,0) -> 0 | X27: =VLOOKUP(P27,AG23:AU28,10,0) -> 0 | Y27: =VLOOKUP(P27,AG23:AU28,11,0) -> 0 | Z27: =VLOOKUP(P27,AG23:AU28,12,0) -> 0 | AA27: =VLOOKUP(P27,AG23:AU28,13,0) -> 0 | AB27: =VLOOKUP(P27,AG23:AU28,14,0) -> 0 | AC27: =VLOOKUP(P27,AG23:AU28,15,0) -> 0 | AE27: 5 | AF27: =AM27 -> 5 | AG27: =Equipes!A15 -> Equipe 5B | AL27: =RANK(AV27,AV23:AV28) -> 1 | AM27: =RANK(AW27,AW23:AW28) -> 5 | AN27: =SUMPRODUCT((C23:G37=AG27)*(AX23:AX37))+SUMPRODUCT((J23:N37=AG27)*(AY23:AY37)) -> 0 | AO27: =SUMPRODUCT((C23:G37=AG27)*(AZ23:AZ37))+SUMPRODUCT((J23:N37=AG27)*(BA23:BA37)) -> 0 | AP27: =SUMPRODUCT((C23:G37=AG27)*(BB23:BB37))+SUMPRODUCT((J23:N37=AG27)*(BC23:BC37)) -> 0 | AQ27: =SUMPRODUCT((C23:G37=AG27)*(BD23:BD37))+SUMPRODUCT((J23:N37=AG27)*(BE23:BE37)) -> 0 | AR27: =SUMPRODUCT((C23:G37=AG27)*(BF23:BF37))+SUMPRODUCT((J23:N37=AG27)*(BG23:BG37)) -> 0 | AS27: =SUMPRODUCT((C23:G37=AG27)*(BH23:BH37))+SUMPRODUCT((J23:N37=AG27)*(BI23:BI37)) -> 0 | AT27: =SUMPRODUCT((C23:G37=AG27)*(BJ23:BJ37))+SUMPRODUCT((J23:N37=AG27)*(BK23:BK37)) -> 0 | AU27: =AS27-AT27 -> 0 | AV27: =SUM(AN27*1000+(AU27)/10+(AS27)/100) -> 0 | AW27: =AV27+0.0000002 -> 2e-07 | AX27: =IF(H27="",0,IF(H27>I27,3,IF(H27=I27,1,IF(H27<I27,0)))) -> 0 | AY27: =IF(I27="",0,IF(I27>H27,3,IF(I27=H27,1,IF(I27<H27,0)))) -> 0 | AZ27: =IF(H27="",0,1) -> 0 | BA27: =IF(I27="",0,1) -> 0 | BB27: =IF(H27<>"",IF(H27>I27,1)) -> FALSE | BC27: =IF(I27<>"",IF(I27>H27,1)) -> FALSE | BD27: =IF(H27<>"",IF(H27=I27,1)) -> FALSE | BE27: =IF(I27<>"",IF(I27=H27,1)) -> FALSE | BF27: =IF(H27<>"",IF(H27<I27,1)) -> FALSE | BG27: =IF(I27<>"",IF(I27<H27,1)) -> FALSE | BH27: =H27 -> 0 | BI27: =I27 -> 0 | BJ27: =I27 -> 0 | BK27: =H27 -> 0 | BL27: =VLOOKUP(AE27,AF23:AK28,2,0) -> Equipe 5B | BQ27: =VLOOKUP(BL27,AG23:AV28,16,0) -> 0 | BR27: =RANK(BQ27,BQ23:BQ28) -> 1 | BS27: =AG27 -> Equipe 5B
A28: 4 | C28: =AG25 -> Equipe 3B | J28: =AG28 -> Equipe 6B | P28: =VLOOKUP(AE28,AF23:AK28,2,0) -> Equipe 6B | U28: =IF(BQ28=BQ27,BR27,BR28) -> 1 | V28: =VLOOKUP(P28,AG23:AU28,8,0) -> 0 | W28: =VLOOKUP(P28,AG23:AU28,9,0) -> 0 | X28: =VLOOKUP(P28,AG23:AU28,10,0) -> 0 | Y28: =VLOOKUP(P28,AG23:AU28,11,0) -> 0 | Z28: =VLOOKUP(P28,AG23:AU28,12,0) -> 0 | AA28: =VLOOKUP(P28,AG23:AU28,13,0) -> 0 | AB28: =VLOOKUP(P28,AG23:AU28,14,0) -> 0 | AC28: =VLOOKUP(P28,AG23:AU28,15,0) -> 0 | AE28: 6 | AF28: =AM28 -> 6 | AG28: =Equipes!A16 -> Equipe 6B | AL28: =RANK(AV28,AV23:AV28) -> 1 | AM28: =RANK(AW28,AW23:AW28) -> 6 | AN28: =SUMPRODUCT((C23:G37=AG28)*(AX23:AX37))+SUMPRODUCT((J23:N37=AG28)*(AY23:AY37)) -> 0 | AO28: =SUMPRODUCT((C23:G37=AG28)*(AZ23:AZ37))+SUMPRODUCT((J23:N37=AG28)*(BA23:BA37)) -> 0 | AP28: =SUMPRODUCT((C23:G37=AG28)*(BB23:BB37))+SUMPRODUCT((J23:N37=AG28)*(BC23:BC37)) -> 0 | AQ28: =SUMPRODUCT((C23:G37=AG28)*(BD23:BD37))+SUMPRODUCT((J23:N37=AG28)*(BE23:BE37)) -> 0 | AR28: =SUMPRODUCT((C23:G37=AG28)*(BF23:BF37))+SUMPRODUCT((J23:N37=AG28)*(BG23:BG37)) -> 0 | AS28: =SUMPRODUCT((C23:G37=AG28)*(BH23:BH37))+SUMPRODUCT((J23:N37=AG28)*(BI23:BI37)) -> 0 | AT28: =SUMPRODUCT((C23:G37=AG28)*(BJ23:BJ37))+SUMPRODUCT((J23:N37=AG28)*(BK23:BK37)) -> 0 | AU28: =AS28-AT28 -> 0 | AV28: =SUM(AN28*1000+(AU28)/10+(AS28)/100) -> 0 | AW28: =AV28+0.0000001 -> 1e-07 | AX28: =IF(H28="",0,IF(H28>I28,3,IF(H28=I28,1,IF(H28<I28,0)))) -> 0 | AY28: =IF(I28="",0,IF(I28>H28,3,IF(I28=H28,1,IF(I28<H28,0)))) -> 0 | AZ28: =IF(H28="",0,1) -> 0 | BA28: =IF(I28="",0,1) -> 0 | BB28: =IF(H28<>"",IF(H28>I28,1)) -> FALSE | BC28: =IF(I28<>"",IF(I28>H28,1)) -> FALSE | BD28: =IF(H28<>"",IF(H28=I28,1)) -> FALSE | BE28: =IF(I28<>"",IF(I28=H28,1)) -> FALSE | BF28: =IF(H28<>"",IF(H28<I28,1)) -> FALSE | BG28: =IF(I28<>"",IF(I28<H28,1)) -> FALSE | BH28: =H28 -> 0 | BI28: =I28 -> 0 | BJ28: =I28 -> 0 | BK28: =H28 -> 0 | BL28: =VLOOKUP(AE28,AF23:AK28,2,0) -> Equipe 6B | BQ28: =VLOOKUP(BL28,AG23:AV28,16,0) -> 0 | BR28: =RANK(BQ28,BQ23:BQ28) -> 1 | BS28: =AG28 -> Equipe 6B
A29: 2 | C29: =AG23 -> Equipe 1B | J29: =AG26 -> Equipe 4B | AX29: =IF(H29="",0,IF(H29>I29,3,IF(H29=I29,1,IF(H29<I29,0)))) -> 0 | AY29: =IF(I29="",0,IF(I29>H29,3,IF(I29=H29,1,IF(I29<H29,0)))) -> 0 | AZ29: =IF(H29="",0,1) -> 0 | BA29: =IF(I29="",0,1) -> 0 | BB29: =IF(H29<>"",IF(H29>I29,1)) -> FALSE | BC29: =IF(I29<>"",IF(I29>H29,1)) -> FALSE | BD29: =IF(H29<>"",IF(H29=I29,1)) -> FALSE | BE29: =IF(I29<>"",IF(I29=H29,1)) -> FALSE | BF29: =IF(H29<>"",IF(H29<I29,1)) -> FALSE | BG29: =IF(I29<>"",IF(I29<H29,1)) -> FALSE | BH29: =H29 -> 0 | BI29: =I29 -> 0 | BJ29: =I29 -> 0 | BK29: =H29 -> 0
A30: 4 | C30: =AG24 -> Equipe 2B | J30: =AG28 -> Equipe 6B | AX30: =IF(H30="",0,IF(H30>I30,3,IF(H30=I30,1,IF(H30<I30,0)))) -> 0 | AY30: =IF(I30="",0,IF(I30>H30,3,IF(I30=H30,1,IF(I30<H30,0)))) -> 0 | AZ30: =IF(H30="",0,1) -> 0 | BA30: =IF(I30="",0,1) -> 0 | BB30: =IF(H30<>"",IF(H30>I30,1)) -> FALSE | BC30: =IF(I30<>"",IF(I30>H30,1)) -> FALSE | BD30: =IF(H30<>"",IF(H30=I30,1)) -> FALSE | BE30: =IF(I30<>"",IF(I30=H30,1)) -> FALSE | BF30: =IF(H30<>"",IF(H30<I30,1)) -> FALSE | BG30: =IF(I30<>"",IF(I30<H30,1)) -> FALSE | BH30: =H30 -> 0 | BI30: =I30 -> 0 | BJ30: =I30 -> 0 | BK30: =H30 -> 0
A31: 2 | C31: =AG25 -> Equipe 3B | J31: =AG27 -> Equipe 5B | AX31: =IF(H31="",0,IF(H31>I31,3,IF(H31=I31,1,IF(H31<I31,0)))) -> 0 | AY31: =IF(I31="",0,IF(I31>H31,3,IF(I31=H31,1,IF(I31<H31,0)))) -> 0 | AZ31: =IF(H31="",0,1) -> 0 | BA31: =IF(I31="",0,1) -> 0 | BB31: =IF(H31<>"",IF(H31>I31,1)) -> FALSE | BC31: =IF(I31<>"",IF(I31>H31,1)) -> FALSE | BD31: =IF(H31<>"",IF(H31=I31,1)) -> FALSE | BE31: =IF(I31<>"",IF(I31=H31,1)) -> FALSE | BF31: =IF(H31<>"",IF(H31<I31,1)) -> FALSE | BG31: =IF(I31<>"",IF(I31<H31,1)) -> FALSE | BH31: =H31 -> 0 | BI31: =I31 -> 0 | BJ31: =I31 -> 0 | BK31: =H31 -> 0
A32: 4 | C32: =AG23 -> Equipe 1B | J32: =AG28 -> Equipe 6B | AX32: =IF(H32="",0,IF(H32>I32,3,IF(H32=I32,1,IF(H32<I32,0)))) -> 0 | AY32: =IF(I32="",0,IF(I32>H32,3,IF(I32=H32,1,IF(I32<H32,0)))) -> 0 | AZ32: =IF(H32="",0,1) -> 0 | BA32: =IF(I32="",0,1) -> 0 | BB32: =IF(H32<>"",IF(H32>I32,1)) -> FALSE | BC32: =IF(I32<>"",IF(I32>H32,1)) -> FALSE | BD32: =IF(H32<>"",IF(H32=I32,1)) -> FALSE | BE32: =IF(I32<>"",IF(I32=H32,1)) -> FALSE | BF32: =IF(H32<>"",IF(H32<I32,1)) -> FALSE | BG32: =IF(I32<>"",IF(I32<H32,1)) -> FALSE | BH32: =H32 -> 0 | BI32: =I32 -> 0 | BJ32: =I32 -> 0 | BK32: =H32 -> 0
A33: 2 | C33: =AG24 -> Equipe 2B | J33: =AG25 -> Equipe 3B | AX33: =IF(H33="",0,IF(H33>I33,3,IF(H33=I33,1,IF(H33<I33,0)))) -> 0 | AY33: =IF(I33="",0,IF(I33>H33,3,IF(I33=H33,1,IF(I33<H33,0)))) -> 0 | AZ33: =IF(H33="",0,1) -> 0 | BA33: =IF(I33="",0,1) -> 0 | BB33: =IF(H33<>"",IF(H33>I33,1)) -> FALSE | BC33: =IF(I33<>"",IF(I33>H33,1)) -> FALSE | BD33: =IF(H33<>"",IF(H33=I33,1)) -> FALSE | BE33: =IF(I33<>"",IF(I33=H33,1)) -> FALSE | BF33: =IF(H33<>"",IF(H33<I33,1)) -> FALSE | BG33: =IF(I33<>"",IF(I33<H33,1)) -> FALSE | BH33: =H33 -> 0 | BI33: =I33 -> 0 | BJ33: =I33 -> 0 | BK33: =H33 -> 0
A34: 4 | C34: =AG26 -> Equipe 4B | J34: =AG27 -> Equipe 5B | AX34: =IF(H34="",0,IF(H34>I34,3,IF(H34=I34,1,IF(H34<I34,0)))) -> 0 | AY34: =IF(I34="",0,IF(I34>H34,3,IF(I34=H34,1,IF(I34<H34,0)))) -> 0 | AZ34: =IF(H34="",0,1) -> 0 | BA34: =IF(I34="",0,1) -> 0 | BB34: =IF(H34<>"",IF(H34>I34,1)) -> FALSE | BC34: =IF(I34<>"",IF(I34>H34,1)) -> FALSE | BD34: =IF(H34<>"",IF(H34=I34,1)) -> FALSE | BE34: =IF(I34<>"",IF(I34=H34,1)) -> FALSE | BF34: =IF(H34<>"",IF(H34<I34,1)) -> FALSE | BG34: =IF(I34<>"",IF(I34<H34,1)) -> FALSE | BH34: =H34 -> 0 | BI34: =I34 -> 0 | BJ34: =I34 -> 0 | BK34: =H34 -> 0
A35: 2 | C35: =AG24 -> Equipe 2B | J35: =AG27 -> Equipe 5B | AX35: =IF(H35="",0,IF(H35>I35,3,IF(H35=I35,1,IF(H35<I35,0)))) -> 0 | AY35: =IF(I35="",0,IF(I35>H35,3,IF(I35=H35,1,IF(I35<H35,0)))) -> 0 | AZ35: =IF(H35="",0,1) -> 0 | BA35: =IF(I35="",0,1) -> 0 | BB35: =IF(H35<>"",IF(H35>I35,1)) -> FALSE | BC35: =IF(I35<>"",IF(I35>H35,1)) -> FALSE | BD35: =IF(H35<>"",IF(H35=I35,1)) -> FALSE | BE35: =IF(I35<>"",IF(I35=H35,1)) -> FALSE | BF35: =IF(H35<>"",IF(H35<I35,1)) -> FALSE | BG35: =IF(I35<>"",IF(I35<H35,1)) -> FALSE | BH35: =H35 -> 0 | BI35: =I35 -> 0 | BJ35: =I35 -> 0 | BK35: =H35 -> 0
A36: 4 | C36: =AG23 -> Equipe 1B | J36: =AG25 -> Equipe 3B | AX36: =IF(H36="",0,IF(H36>I36,3,IF(H36=I36,1,IF(H36<I36,0)))) -> 0 | AY36: =IF(I36="",0,IF(I36>H36,3,IF(I36=H36,1,IF(I36<H36,0)))) -> 0 | AZ36: =IF(H36="",0,1) -> 0 | BA36: =IF(I36="",0,1) -> 0 | BB36: =IF(H36<>"",IF(H36>I36,1)) -> FALSE | BC36: =IF(I36<>"",IF(I36>H36,1)) -> FALSE | BD36: =IF(H36<>"",IF(H36=I36,1)) -> FALSE | BE36: =IF(I36<>"",IF(I36=H36,1)) -> FALSE | BF36: =IF(H36<>"",IF(H36<I36,1)) -> FALSE | BG36: =IF(I36<>"",IF(I36<H36,1)) -> FALSE | BH36: =H36 -> 0 | BI36: =I36 -> 0 | BJ36: =I36 -> 0 | BK36: =H36 -> 0
A37: 2 | C37: =AG26 -> Equipe 4B | J37: =AG28 -> Equipe 6B | AX37: =IF(H37="",0,IF(H37>I37,3,IF(H37=I37,1,IF(H37<I37,0)))) -> 0 | AY37: =IF(I37="",0,IF(I37>H37,3,IF(I37=H37,1,IF(I37<H37,0)))) -> 0 | AZ37: =IF(H37="",0,1) -> 0 | BA37: =IF(I37="",0,1) -> 0 | BB37: =IF(H37<>"",IF(H37>I37,1)) -> FALSE | BC37: =IF(I37<>"",IF(I37>H37,1)) -> FALSE | BD37: =IF(H37<>"",IF(H37=I37,1)) -> FALSE | BE37: =IF(I37<>"",IF(I37=H37,1)) -> FALSE | BF37: =IF(H37<>"",IF(H37<I37,1)) -> FALSE | BG37: =IF(I37<>"",IF(I37<H37,1)) -> FALSE | BH37: =H37 -> 0 | BI37: =I37 -> 0 | BJ37: =I37 -> 0 | BK37: =H37 -> 0

Sheet Matchs de classement
C1: 11ème & 12ème place | P1: 9ème & 10ème place
A3: Terrain 1 | C3: Points | E3: 21 | P3: Points | AA3: Terrain 2
C5: =IF('Matchs de poule'!W9=5,'Matchs de poule'!P9,"") | P5: =IF('Matchs de poule'!W8=5,'Matchs de poule'!P8,"")
C7: =IF('Matchs de poule'!W28=5,'Matchs de poule'!P28,"") | P7: =IF('Matchs de poule'!W27=5,'Matchs de poule'!P27,"")
C9: Points | E9: 15 | P9: Points
C13: 7ème & 8ème place | P13: 5ème & 6ème place
A15: Terrain 3 | C15: Points | P15: Points | AA15: Terrain 4
C17: =IF('Matchs de poule'!W7=5,'Matchs de poule'!P7,"") | P17: =IF('Matchs de poule'!W6=5,'Matchs de poule'!P6,"")
C19: =IF('Matchs de poule'!W26=5,'Matchs de poule'!P26,"") | P19: =IF('Matchs de poule'!W25=5,'Matchs de poule'!P25,"")
C21: Points | P21: Points
C25: 3ème & 4ème place | P25: FINALE
A27: Terrain 1 | C27: Points | P27: Points | AA27: Terrain 1
C29: =IF('Matchs de poule'!W5=5,'Matchs de poule'!P5,"") | P29: =IF('Matchs de poule'!W4=5,'Matchs de poule'!P4,"")
C31: =IF('Matchs de poule'!W24=5,'Matchs de poule'!P24,"") | P31: =IF('Matchs de poule'!W23=5,'Matchs de poule'!P23,"")
C33: Points | P33: Points

Sheet Classement
A2: 1 | B2: =IF('Matchs de classement'!R27="","",IF('Matchs de classement'!R27>'Matchs de classement'!R33,'Matchs de classement'!P29,IF('Matchs de classement'!R33>'Matchs de classement'!R27,'Matchs de classement'!P31,IF('Matchs de classement'!R27='Matchs de classement'!R33,IF('Matchs de classement'!X27>'Matchs de classement'!X33,'Matchs de classement'!P29,IF('Matchs de classement'!R33='Matchs de classement'!R27,IF('Matchs de classement'!X33>'Matchs de classement'!X27,'Matchs de classement'!P31)))))))
A4: 2 | B4: =IF('Matchs de classement'!R27="","",IF(Classement!B2='Matchs de classement'!P29,'Matchs de classement'!P31,'Matchs de classement'!P29))
A6: 3 | B6: =IF('Matchs de classement'!E27="","",IF('Matchs de classement'!E27>'Matchs de classement'!E33,'Matchs de classement'!C29,IF('Matchs de classement'!E33>'Matchs de classement'!E27,'Matchs de classement'!C31,IF('Matchs de classement'!E27='Matchs de classement'!E33,IF('Matchs de classement'!K27>'Matchs de classement'!K33,'Matchs de classement'!C29,IF('Matchs de classement'!E33='Matchs de classement'!E27,IF('Matchs de classement'!K33>'Matchs de classement'!K27,'Matchs de classement'!C31)))))))
A8: 4 | B8: =IF('Matchs de classement'!E27="","",IF(Classement!B6='Matchs de classement'!C29,'Matchs de classement'!C31,'Matchs de classement'!C29))
A10: 5 | B10: =IF('Matchs de classement'!R15="","",IF('Matchs de classement'!R15>'Matchs de classement'!R21,'Matchs de classement'!P17,IF('Matchs de classement'!R21>'Matchs de classement'!R15,'Matchs de classement'!P19,IF('Matchs de classement'!R15='Matchs de classement'!R21,IF('Matchs de classement'!X15>'Matchs de classement'!X21,'Matchs de classement'!P17,IF('Matchs de classement'!R21='Matchs de classement'!R15,IF('Matchs de classement'!X21>'Matchs de classement'!X15,'Matchs de classement'!P19)))))))
A12: 6 | B12: =IF('Matchs de classement'!R15="","",IF(Classement!B10='Matchs de classement'!P17,'Matchs de classement'!P19,'Matchs de classement'!P17))
A14: 7 | B14: =IF('Matchs de classement'!E15="","",IF('Matchs de classement'!E15>'Matchs de classement'!E21,'Matchs de classement'!C17,IF('Matchs de classement'!E21>'Matchs de classement'!E15,'Matchs de classement'!C19,IF('Matchs de classement'!E15='Matchs de classement'!E21,IF('Matchs de classement'!K15>'Matchs de classement'!K21,'Matchs de classement'!C17,IF('Matchs de classement'!E21='Matchs de classement'!E15,IF('Matchs de classement'!K21>'Matchs de classement'!K15,'Matchs de classement'!C19)))))))
A16: 8 | B16: =IF('Matchs de classement'!E15="","",IF(Classement!B14='Matchs de classement'!C17,'Matchs de classement'!C19,'Matchs de classement'!C17))
A18: 9 | B18: =IF('Matchs de classement'!R3="","",IF('Matchs de classement'!R3>'Matchs de classement'!R9,'Matchs de classement'!P5,IF('Matchs de classement'!R9>'Matchs de classement'!R3,'Matchs de classement'!P7,IF('Matchs de classement'!R3='Matchs de classement'!R9,IF('Matchs de classement'!X3>'Matchs de classement'!X9,'Matchs de classement'!P5,IF('Matchs de classement'!R9='Matchs de classement'!R3,IF('Matchs de classement'!X9>'Matchs de classement'!X3,'Matchs de classement'!P7)))))))
A20: 10 | B20: =IF('Matchs de classement'!R3="","",IF(Classement!B18='Matchs de classement'!P5,'Matchs de classement'!P7,'Matchs de classement'!P5))
A22: 11 | B22: =IF('Matchs de classement'!E3="","",IF('Matchs de classement'!E3>'Matchs de classement'!E9,'Matchs de classement'!C5,IF('Matchs de classement'!E9>'Matchs de classement'!E3,'Matchs de classement'!C7,IF('Matchs de classement'!E3='Matchs de classement'!E9,IF('Matchs de classement'!K3>'Matchs de classement'!K9,'Matchs de classement'!C5,IF('Matchs de classement'!K9>'Matchs de classement'!K3,'Matchs de classement'!C7))))))
A24: 12 | B24: =IF('Matchs de classement'!E3="","",IF(Classement!B22='Matchs de classement'!C5,'Matchs de classement'!C7,'Matchs de classement'!C5))
