Workbook

Sheet Récap
A1: Récap des commissions | C1: Commissions
B2: CA | C2: Comptant mois N | D2: 2x N+1 | E2: 3x N-3 | G2: 5x N-5 | H2: Commissions
A3: Aout 2010 | B3: ='Aout 2010'!C2 -> 54569.43 | C3: ='Aout 2010'!C3 -> 29240.56 | H3: =IF(SUM(C3:G3)<30000,SUM(C3:G3)*0.02,SUM(C3:G3)*0.03) -> 584.8112
A4: Septembre 2010 | B4: ='Septembre 2010'!C2 -> 44971.48 | C4: ='Septembre 2010'!C3 -> 32402.91 | E4: ='Aout 2010'!C5 -> 13315 | H4: =IF(SUM(C4:G4)<30000,SUM(C4:G4)*0.02,SUM(C4:G4)*0.03) -> 1371.5373
A5: OCTOBRE | E5: ='Septembre 2010'!C5 -> 6739.73 | H5: =IF(SUM(C5:G5)<30000,SUM(C5:G5)*0.02,SUM(C5:G5)*0.03) -> 134.7946
A6: Novembre | H6: =IF(SUM(C6:G6)<30000,SUM(C6:G6)*0.02,SUM(C6:G6)*0.03) -> 0
A7: Decembre | G7: ='Aout 2010'!C7 -> 11757.01 | H7: =IF(SUM(C7:G7)<30000,SUM(C7:G7)*0.02,SUM(C7:G7)*0.03) -> 235.1402
A8: Février | G8: ='Septembre 2010'!C7 -> 5828.84 | H8: =IF(SUM(C8:G8)<30000,SUM(C8:G8)*0.02,SUM(C8:G8)*0.03) -> 116.5768
A9: Mars | H9: =IF(SUM(C9:G9)<30000,SUM(C9:G9)*0.02,SUM(C9:G9)*0.03) -> 0
A10: Avril | H10: =IF(SUM(C10:G10)<30000,SUM(C10:G10)*0.02,SUM(C10:G10)*0.03) -> 0
A11: Mai | H11: =IF(SUM(C11:G11)<30000,SUM(C11:G11)*0.02,SUM(C11:G11)*0.03) -> 0
A12: Juin | H12: =IF(SUM(C12:G12)<30000,SUM(C12:G12)*0.02,SUM(C12:G12)*0.03) -> 0
A13: Juillet | H13: =IF(SUM(C13:G13)<30000,SUM(C13:G13)*0.02,SUM(C13:G13)*0.03) -> 0
A14: Aout | H14: =IF(SUM(C14:G14)<30000,SUM(C14:G14)*0.02,SUM(C14:G14)*0.03) -> 0
A15: Septembre | H15: =IF(SUM(C15:G15)<30000,SUM(C15:G15)*0.02,SUM(C15:G15)*0.03) -> 0
A16: Octobre | H16: =IF(SUM(C16:G16)<30000,SUM(C16:G16)*0.02,SUM(C16:G16)*0.03) -> 0
A17: Novembre | H17: =IF(SUM(C17:G17)<30000,SUM(C17:G17)*0.02,SUM(C17:G17)*0.03) -> 0

Sheet Aout 2010
B2: TOTAL | C2: =SUM(E:E) -> 54569.43
B3: Paiement à la commande | C3: =SUMIF(H:H,"com",E:E) -> 29240.56
B4: Paiement 2X | C4: =SUMIF(H:H,"2x",E:E) -> 0
B5: Paiement 3X | C5: =SUMIF(H:H,"3x",E:E) -> 13315
B6: Paiement 4X | C6: =SUMIF(H:H,"4x",E:E) -> 0
B7: Paiement 5X | C7: =SUMIF(H:H,"5x",E:E) -> 11757.01
A9: Date | B9: Cde OS | C9: Facture | D9: Client | E9: HT | F9: Mode de paiement
A10: 40392 | B10: mag | C10: 21883 | D10: DEMANGE | E10: 6.69 | F10: ESP | G10: es | H10: COM
A11: 40392 | B11: 137579 | C11: 21892 | D11: ALTER elec | E11: 97.33 | F11: CBCOM | G11: CB | H11: COM
A12: 40392 | B12: mag | C12: 21910 | D12: PROUILLET | E12: 1019.21 | F12: CH | G12: CH | H12: COM
A13: 40393 | B13: 137619 | C13: 21931 | D13: RCH | E13: 777.41 | F13: CBCOM | G13: CB | H13: COM
A14: 40393 | B14: 137519 | C14: 21960 | D14: Sanchez | E14: 280.1 | F14: CBCOM | G14: CB | H14: cOM
A15: 40393 | B15: 137870 | C15: 21966 | D15: AGPSecurité | E15: 1699 | F15: CB3X | G15: CB | H15: 3x
A16: 40393 | B16: mag | C16: 21696 | D16: GAULTIER | E16: 129.94 | F16: TPEM | G16: CB | H16: COM
A17: 40393 | B17: mag | C17: 21970 | D17: PAPON | E17: 165.94 | F17: CH | G17: CH | H17: com
A18: 40393 | B18: mag | C18: 21972 | D18: LOMBARD | E18: 24.89 | F18: TPEM | G18: CB | H18: com
A19: 40393 | B19: 137871 | C19: 21977 | D19: BULTEZ | E19: 795.17 | F19: CB3x | G19: cb | H19: 3x
A20: 40393 | B20: 137861 | C20: 21981 | D20: Charpente BLOCKLEY | E20: 381.52 | F20: CB3X | G20: cb | H20: 3x
A21: 40393 | B21: 137873 | C21: 21982 | D21: GORDOR | E21: 216.12 | F21: CB3X | G21: CB | H21: 3x
A22: 40394 | B22: 138063 | C22: 22002 | D22: CLOUT | E22: 131.1 | F22: CBCOM | G22: CB | H22: COM
A23: 40394 | B23: 138058 | C23: 22030 | D23: JACQUEMIN | E23: 445.64 | F23: CH | G23: CH | H23: COM
A24: 40395 | B24: 134942 | C24: 22045 | D24: Ebenisterie Marcelino | E24: 2657.53 | F24: CH5x | G24: ch | H24: 5x
A25: 40395 | B25: 138234 | C25: 22052 | D25: POCHAT | E25: 599 | F25: CHCOM | G25: CH | H25: com
A26: 40395 | B26: mag | C26: 22055 | D26: AGMODULOR | E26: 32.35 | F26: TPEM | G26: CB | H26: com
A27: 40395 | B27: 138237 | C27: 22056 | D27: REVILLARD | E27: 344.48 | F27: CB3X | G27: cb | H27: 3x
A28: 40395 | B28: mag | C28: 22087 | D28: PROUILLET | E28: 184.47 | F28: TPEM | G28: CB | H28: com
A29: 40395 | B29: mag | C29: 22101 | D29: SARL FAFI | E29: 203 | F29: TPEM | G29: CB | H29: com
A30: 40395 | B30: mag | C30: 22102 | D30: SARL FAFI | E30: 189.99 | F30: TPEM | G30: CB | H30: com
A31: 40395 | B31: mag | C31: 22103 | D31: GUERITOT | E31: 6.66 | F31: TPEM | G31: cb | H31: com
A32: 40396 | B32: 137484 | C32: 22118 | D32: LE DOUARON | E32: 154 | F32: CH3x | G32: CH | H32: 3X
A33: 40396 | B33: 138364 | C33: 22122 | D33: RENAUD | E33: 152.5 | F33: CB3X | G33: CB | H33: 3x
A34: 40396 | B34: mag | C34: 21139 | D34: LEBLANC | E34: 189.99 | F34: ch | G34: ch | H34: COM
A35: 40396 | B35: mag | C35: 22177 | D35: DORDEA | E35: 43.73 | F35: ch | G35: ch | H35: COM
A36: 40396 | B36: mag | C36: 22178 | D36: LAMOTTE | E36: 5.29 | F36: esp | G36: es | H36: com
A37: 40396 | B37: 134924 | C37: 22188 | D37: TTSPM | E37: 1331.97 | F37: CBCOM | G37: cb | H37: com
A38: 40399 | B38: 137843 | C38: 22230 | D38: GRISON | E38: 215.88 | F38: CBCOM | G38: cb | H38: com
A39: 40399 | B39: 139063 | C39: 22262 | D39: GAUTHIER | E39: 439 | F39: CB3X | G39: cb | H39: 3x
A40: 40399 | B40: 138090 | C40: 22272 | D40: sarl DAUMIER | E40: 189 | F40: CTRPOS | G40: ch | H40: com
A41: 40399 | B41: 139140 | C41: 22288 | D41: AMVF | E41: 154.36 | F41: CBCOM | G41: cb | H41: com
A42: 40399 | B42: 139142 | C42: 22289 | D42: AS PROTECTION | E42: 445.63 | F42: CB3X | G42: CB | H42: 3x
...

Sheet Septembre 2010
D1: Commissions
B2: TOTAL | C2: =SUM(E:E) -> 44971.48 | D2: =C2*0.03 -> 1349.1444
B3: Paiement à la commande | C3: =SUMIF(H:H,"com",E:E) -> 32402.91 | D3: =C3*0.03 -> 972.0873 | E3: payable fin septembre
B4: Paiement 2X | E4: ="payable fin Octobre" -> payable fin Octobre
B5: Paiement 3X | C5: =SUMIF(H:H,"3x",E:E) -> 6739.73 | D5: =C5*0.03 -> 202.1919 | E5: payable fin novembre
B6: Paiement 4X
B7: Paiement 5X | C7: =SUMIF(H:H,"5x",E:E) -> 5828.84 | D7: =C7*0.03 -> 174.8652 | E7: payable fin janvier
A9: Date | B9: Cde OS | C9: Facture | D9: Client | E9: HT | F9: Mode de paiement | G9: Support | H9: crédit
A10: 40435 | B10: av | C10: 24226 | D10: SCHLEPP | E10: -58.51 | F10: Avoir | G10: es | H10: COM
A11: 40431 | B11: 145702 | C11: 24069 | D11: GUEPE | E11: 116.22 | F11: Avoir | G11: cb | H11: COM
A12: 40428 | B12: av | C12: 23857 | D12: ETS FISCHER | E12: 128.5 | F12: Avoir | G12: Avoir | H12: COM
A13: 40437 | B13: 146883 | C13: 24422 | D13: Aubry | E13: 304.5 | F13: CB1R&P | G13: CB | H13: COM
A14: 40448 | B14: 149064 | C14: 25116 | D14: CLIC2VISIT | E14: 113.33 | F14: CB3x | G14: CB | H14: 3X
A15: 40448 | B15: 149024 | C15: 25116 | D15: Bon didier | E15: 134.61 | F15: CB3x | G15: CB | H15: 3x
A16: 40448 | B16: 149022 | C16: 25114 | D16: Bon didier | E16: 414.25 | F16: CB3x | G16: CB | H16: 3X
A17: 40441 | B17: 147441 | C17: 24597 | D17: MUYL | E17: 273.41 | F17: CB3x | G17: CB | H17: 3x
A18: 40441 | B18: 147440 | C18: 24596 | D18: Cochard | E18: 53.5 | F18: CB3x | G18: CB | H18: 3X
A19: 40438 | B19: 147152 | C19: 24475 | D19: Hem BFS | E19: 167.23 | F19: CB3x | G19: CB | H19: 3x
A20: 40437 | B20: 146580 | C20: 24398 | D20: Frederic Juglas | E20: 193.5 | F20: CB3x | G20: CB | H20: 3X
A21: 40435 | B21: 144864 | C21: 24258 | D21: Monier | E21: 735.99 | F21: CB3x | G21: CB | H21: 3x
A22: 40434 | B22: 145832 | C22: 24176 | D22: nougé franck | E22: 320.29 | F22: CB3x | G22: CB | H22: 3X
A23: 40434 | B23: 143671 | C23: 24162 | D23: VAZ | E23: 399.17 | F23: CB3x | G23: CB | H23: 3x
A24: 40430 | B24: 145274 | C24: 23994 | D24: 2R Systems | E24: 279 | F24: CB3x | G24: CB | H24: 3X
... A26: 40430 | B26: 145225 | C26: 23990 | D26: TRILHE | E26: 428.24 | F26: CB3x | G26: CB | H26: 3X
A27: 40428 | B27: 144825 | C27: 23897 | D27: TRUE | E27: 1185.01 | F27: CB3x | G27: CB | H27: 3x
A28: 40424 | B28: 138017 | C28: 23663 | D28: RENOVSERVICES'73 | E28: 982.4 | F28: CB3x | G28: CB | H28: 3X
A29: 40424 | B29: 144055 | C29: 23657 | D29: JFW | E29: 460.45 | F29: CB3x | G29: CB | H29: 3x
A30: 40423 | B30: 143956 | C30: 23628 | D30: Des exterieurs à vivre | E30: 200 | F30: CB3x | G30: CB | H30: 3X
A31: 40429 | B31: 144718 | C31: 23934 | D31: SAGAN | E31: 919.74 | F31: CB5x | G31: CB | H31: 5x
A32: 40424 | B32: 142718 | C32: 23686 | D32: SCI MAGER | E32: 1175.14 | F32: CB5x | G32: CB | H32: 5x
A33: 40423 | B33: 143537 | C33: 23587 | D33: ROLLIN | E33: 1699 | F33: CB5x | G33: CB | H33: 5x
A34: 40450 | B34: 143745 | C34: 25308 | D34: bourdon | E34: 187.23 | F34: CBCOM | G34: CB | H34: COM
A35: 40450 | B35: 149530 | C35: 25270 | D35: BOIS ART | E35: 462.99 | F35: CBCOM | G35: CB | H35: COM
A36: 40450 | B36: 143765 | C36: 25241 | D36: BVOL | E36: 397.08 | F36: CBCOM | G36: CB | H36: COM
A37: 40448 | B37: 149129 | C37: 25150 | D37: LEMELLE | E37: 173.03 | F37: CBCOM | G37: CB | H37: COM
A38: 40448 | B38: 149109 | C38: 25141 | D38: GT Service | E38: 525 | F38: CBCOM | G38: CB | H38: COM
A39: 40448 | B39: 149067 | C39: 25109 | D39: Rougeot | E39: 76.89 | F39: CBCOM | G39: CB | H39: COM
... A43: 40443 | B43: 147858 | C43: 24801 | D43: Freund SHAEFFER | E43: 89 | F43: CBCOM | G43: CB | H43: COM
A44: 40443 | B44: 147856 | C44: 24797 | D44: TRUE | E44: 237.9 | F44: CBCOM | G44: CB | H44: COM
A45: 40443 | B45: 147821 | C45: 24757 | D45: KOLLER Christophe | E45: 1029.6 | F45: CBCOM | G45: CB | H45: COM
...

Sheet Octobre 2010
A1: 40452 | B1: =MONTH(A1) -> 10 | D1: Commission
B2: TOTAL | C2: =SUM(E:E) -> 44979.85
B3: Paiement à la commande | C3: =SUMIF(H:H,"com",E:E) -> 35639.55
A4: Paiement En | B4: 2 | C4: =SUMIF(H:H,"2x",E:E) -> 539.17
B5: 3 | C5: =SUMIF(H:H,"3x",E:E) -> 6293.29
B6: 4 | C6: =SUMIF(H:H,"4x",E:E) -> 0
B7: 5 | C7: =SUMIF(H:H,"5x",E:E) -> 1603.8
A9: Date | B9: Cde OS | C9: Facture | D9: Client | E9: HT | F9: Mode de paiement | G9: Support | H9: crédit
B10: 155742 | C10: 28000 | D10: DAUPHIN Didier | E10: 581.1 | F10: CH3x | G10: Ch | H10: 3x
A11: 40478 | B11: 155791 | C11: 27066 | D11: GEPIPLAST | E11: 336.96 | F11: CBCOM | G11: CB | H11: COM
A12: 40478 | B12: 155769 | C12: 27062 | D12: Alter | E12: 133 | F12: CBCOM | G12: Cb | H12: COM
A13: 40478 | B13: 155653 | C13: 27038 | D13: RAYER | E13: 462.2 | F13: CBCOM | G13: Cb | H13: COM
A14: 40478 | B14: 155642 | C14: 27022 | D14: GRAD | E14: 214.08 | F14: CBCOM | G14: CB | H14: COM
A15: 40477 | B15: Mag | C15: 27007 | D15: TECHN ELEC RENOV | E15: 536.43 | F15: TPEM | G15: CB | H15: COM
A16: 40477 | B16: Mag | C16: 27006 | D16: HERMASSI | E16: 2539.31 | F16: CHCOM | G16: CH | H16: COM
A17: 40477 | B17: 155448 | C17: 26992 | D17: DISTRIBUTION SOLAIRE | E17: 209.03 | F17: CBCOM | G17: CB | H17: COM
A18: 40476 | B18: Mag | C18: 26935 | D18: Creatis | E18: 231.3 | F18: CHCOM | G18: Ch | H18: COM
A19: 40476 | B19: Mag | C19: 26933 | D19: Ma pose de carrelage | E19: 449 | F19: Ch2X | G19: Ch | H19: 2X
A20: 40477 | B20: 155469 | C20: 26930 | D20: TROUCHE | E20: 70.99 | F20: CBCOM | G20: CB | H20: COM
A21: 40476 | B21: 155259 | C21: 26922 | D21: CONFORTI | E21: 179.99 | F21: CBCOM | G21: cb | H21: COM
A22: 40476 | B22: 155214 | C22: 26910 | D22: SALLEFRANQUE | E22: 171.9 | F22: CB3X | G22: Cb | H22: 3X
A23: 40476 | B23: Mag | C23: 26907 | D23: ABOAK | E23: 126.6 | F23: TPEM | G23: CB | H23: COM
A24: 40476 | B24: Mag | C24: 26893 | D24: SMC2 | E24: 192.03 | F24: CH30FDM | G24: CH | H24: 30J | I24: X
A25: 40476 | B25: 155131 | C25: 26890 | D25: RAUZY | E25: 154.16 | F25: CH3X | G25: Ch | H25: 3X
A26: 40476 | B26: 154563 | C26: 26888 | D26: EI REY OLIVIER | E26: 2346.41 | F26: Ch | G26: ch | H26: COM
A27: 40476 | B27: 154539 | C27: 26872 | D27: Michel Coiffure | E27: 119.9 | F27: CHCOM | G27: CH | H27: COM
A28: 40473 | B28: mag | C28: 26776 | D28: GEFFINE | E28: 178.23 | F28: Ch | G28: Ch | H28: COM
A29: 40473 | B29: mag | C29: 26772 | D29: GEFFINE | E29: 64.1 | F29: Ch | G29: CH | H29: COM
A30: 40473 | B30: mag | C30: 26763 | D30: LAFORET | E30: 24.47 | F30: TPEM | G30: cb | H30: COM
A31: 40473 | B31: mag | C31: 26749 | D31: LAFORET | E31: 77.07 | F31: TPEM | G31: cb | H31: COM
A32: 40473 | B32: mag | C32: 26743 | D32: MEUNUISERIE ATRUX | E32: 229 | F32: TPEM | G32: cb | H32: COM
A33: 40473 | B33: mag | C33: 26737 | D33: DP MENUISERIE | E33: 793.96 | F33: TPEM | G33: cb | H33: COM
A34: 40472 | B34: mag | C34: 26700 | D34: BOUVRY | E34: 659.58 | F34: TPEM | G34: cb | H34: COM | I34: x
A35: 40472 | B35: mag | C35: 26688 | D35: PILOT | E35: 14.79 | F35: TPEM | G35: cb | H35: COM
A36: 40471 | B36: 154346 | C36: 26648 | D36: ALLIO ELECTRICITE | E36: 303.02 | F36: CBCOM | G36: CB | H36: COM
A37: 40471 | B37: 154346 | C37: 26647 | D37: MULTIBOIS | E37: 367.02 | F37: CBCOM | G37: CB | H37: COM
A38: 40471 | B38: 154191 | C38: 26634 | D38: TTSPM | E38: 0 | F38: Points
A39: 40471 | B39: 141460 | C39: 26629 | D39: TTSPM | E39: 1152.49 | F39: CBCOM | G39: cb | H39: COM
A40: 40471 | B40: 153585 | C40: 26614 | D40: ABDELBAKI | E40: 170.39 | F40: CB3X | G40: cb | H40: 3X
A41: 40471 | B41: mag | C41: 26602 | D41: AUDOUIN | E41: 259 | F41: CH | G41: CH | H41: COM
...

Sheet Novembre 2010

Sheet Decembre 2010
