Workbook

Sheet Récap
A1: Récap des commissions | C1: Commissions
B2: CA | C2: Comptant mois N | D2: 2x N+1 | E2: 3x N-3 | G2: 5x N-5 | H2: Commissions
A3: Aout 2010 | B3: ='Aout 2010'!C2 -> 54569.43 | C3: ='Aout 2010'!C3 -> 29240.56 | H3: =IF(SUM(C3:G3)<30000,SUM(C3:G3)*0.02,SUM(C3:G3)*0.03) -> 584.8112
A4: Septembre 2010 | B4: ='Septembre 2010'!C2 -> 44971.48 | C4: ='Septembre 2010'!C3 -> 32402.91 | E4: ='Aout 2010'!C5 -> 13315 | H4: =IF(SUM(C4:G4)<30000,SUM(C4:G4)*0.02,SUM(C4:G4)*0.03) -> 1371.5373
A5: OCTOBRE | E5: ='Septembre 2010'!C5 -> 6739.73 | H5: =IF(SUM(C5:G5)<30000,SUM(C5:G5)*0.02,SUM(C5:G5)*0.03) -> 134.7946
A6: Novembre | H6: =IF(SUM(C6:G6)<30000,SUM(C6:G6)*0.02,SUM(C6:G6)*0.03) -> 0
A7: Decembre | G7: ='Aout 2010'!C7 -> 11757.01 | H7: =IF(SUM(C7:G7)<30000,SUM(C7:G7)*0.02,SUM(C7:G7)*0.03) -> 235.1402
A8: Février | G8: ='Septembre 2010'!C7 -> 5828.84 | H8: =IF(SUM(C8:G8)<30000,SUM(C8:G8)*0.02,SUM(C8:G8)*0.03) -> 116.5768
A9: Mars | H9: =IF(SUM(C9:G9)<30000,SUM(C9:G9)*0.02,SUM(C9:G9)*0.03) -> 0
A10: Avril | H10: =IF(SUM(C10:G10)<30000,SUM(C10:G10)*0.02,SUM(C10:G10)*0.03) -> 0
A11: Mai | H11: =IF(SUM(C11:G11)<30000,SUM(C11:G11)*0.02,SUM(C11:G11)*0.03) -> 0
A12: Juin | H12: =IF(SUM(C12:G12)<30000,SUM(C12:G12)*0.02,SUM(C12:G12)*0.03) -> 0
A13: Juillet | H13: =IF(SUM(C13:G13)<30000,SUM(C13:G13)*0.02,SUM(C13:G13)*0.03) -> 0
A14: Aout | H14: =IF(SUM(C14:G14)<30000,SUM(C14:G14)*0.02,SUM(C14:G14)*0.03) -> 0
A15: Septembre | H15: =IF(SUM(C15:G15)<30000,SUM(C15:G15)*0.02,SUM(C15:G15)*0.03) -> 0
A16: Octobre | H16: =IF(SUM(C16:G16)<30000,SUM(C16:G16)*0.02,SUM(C16:G16)*0.03) -> 0
A17: Novembre | H17: =IF(SUM(C17:G17)<30000,SUM(C17:G17)*0.02,SUM(C17:G17)*0.03) -> 0

Sheet Aout 2010
B2: TOTAL | C2: =SUM(E:E) -> 54569.43
B3: Paiement à la commande | C3: =SUMIF(H:H,"com",E:E) -> 29240.56
B4: Paiement 2X | C4: =SUMIF(H:H,"2x",E:E) -> 0
B5: Paiement 3X | C5: =SUMIF(H:H,"3x",E:E) -> 13315
B6: Paiement 4X | C6: =SUMIF(H:H,"4x",E:E) -> 0
B7: Paiement 5X | C7: =SUMIF(H:H,"5x",E:E) -> 11757.01
A9: Date | B9: Cde OS | C9: Facture | D9: Client | E9: HT | F9: Mode de paiement
A10: 40392 | B10: mag | C10: 21883 | D10: DEMANGE | E10: 6.69 | F10: ESP | G10: es | H10: COM
A11: 40392 | B11: 137579 | C11: 21892 | D11: ALTER elec | E11: 97.33 | F11: CBCOM | G11: CB | H11: COM
A12: 40392 | B12: mag | C12: 21910 | D12: PROUILLET | E12: 1019.21 | F12: CH | G12: CH | H12: COM
A13: 40393 | B13: 137619 | C13: 21931 | D13: RCH | E13: 777.41 | F13: CBCOM | G13: CB | H13: COM
A14: 40393 | B14: 137519 | C14: 21960 | D14: Sanchez | E14: 280.1 | F14: CBCOM | G14: CB | H14: cOM
A15: 40393 | B15: 137870 | C15: 21966 | D15: AGPSecurité | E15: 1699 | F15: CB3X | G15: CB | H15: 3x
A16: 40393 | B16: mag | C16: 21696 | D16: GAULTIER | E16: 129.94 | F16: TPEM | G16: CB | H16: COM
A17: 40393 | B17: mag | C17: 21970 | D17: PAPON | E17: 165.94 | F17: CH | G17: CH | H17: com
A18: 40393 | B18: mag | C18: 21972 | D18: LOMBARD | E18: 24.89 | F18: TPEM | G18: CB | H18: com
A19: 40393 | B19: 137871 | C19: 21977 | D19: BULTEZ | E19: 795.17 | F19: CB3x | G19: cb | H19: 3x
A20: 40393 | B20: 137861 | C20: 21981 | D20: Charpente BLOCKLEY | E20: 381.52 | F20: CB3X | G20: cb | H20: 3x
A21: 40393 | B21: 137873 | C21: 21982 | D21: GORDOR | E21: 216.12 | F21: CB3X | G21: CB | H21: 3x
A22: 40394 | B22: 138063 | C22: 22002 | D22: CLOUT | E22: 131.1 | F22: CBCOM | G22: CB | H22: COM
A23: 40394 | B23: 138058 | C23: 22030 | D23: JACQUEMIN | E23: 445.64 | F23: CH | G23: CH | H23: COM
A24: 40395 | B24: 134942 | C24: 22045 | D24: Ebenisterie Marcelino | E24: 2657.53 | F24: CH5x | G24: ch | H24: 5x
A25: 40395 | B25: 138234 | C25: 22052 | D25: POCHAT | E25: 599 | F25: CHCOM | G25: CH | H25: com
A26: 40395 | B26: mag | C26: 22055 | D26: AGMODULOR | E26: 32.35 | F26: TPEM | G26: CB | H26: com
A27: 40395 | B27: 138237 | C27: 22056 | D27: REVILLARD | E27: 344.48 | F27: CB3X | G27: cb | H27: 3x
A28: 40395 | B28: mag | C28: 22087 | D28: PROUILLET | E28: 184.47 | F28: TPEM | G28: CB | H28: com
A29: 40395 | B29: mag | C29: 22101 | D29: SARL FAFI | E29: 203 | F29: TPEM | G29: CB | H29: com
A30: 40395 | B30: mag | C30: 22102 | D30: SARL FAFI | E30: 189.99 | F30: TPEM | G30: CB | H30: com
A31: 40395 | B31: mag | C31: 22103 | D31: GUERITOT | E31: 6.66 | F31: TPEM | G31: cb | H31: com
A32: 40396 | B32: 137484 | C32: 22118 | D32: LE DOUARON | E32: 154 | F32: CH3x | G32: CH | H32: 3X
A33: 40396 | B33: 138364 | C33: 22122 | D33: RENAUD | E33: 152.5 | F33: CB3X | G33: CB | H33: 3x
A34: 40396 | B34: mag | C34: 21139 | D34: LEBLANC | E34: 189.99 | F34: ch | G34: ch | H34: COM
A35: 40396 | B35: mag | C35: 22177 | D35: DORDEA | E35: 43.73 | F35: ch | G35: ch | H35: COM
A36: 40396 | B36: mag | C36: 22178 | D36: LAMOTTE | E36: 5.29 | F36: esp | G36: es | H36: com
A37: 40396 | B37: 134924 | C37: 22188 | D37: TTSPM | E37: 1331.97 | F37: CBCOM | G37: cb | H37: com
A38: 40399 | B38: 137843 | C38: 22230 | D38: GRISON | E38: 215.88 | F38: CBCOM | G38: cb | H38: com
A39: 40399 | B39: 139063 | C39: 22262 | D39: GAUTHIER | E39: 439 | F39: CB3X | G39: cb | H39: 3x
A40: 40399 | B40: 138090 | C40: 22272 | D40: sarl DAUMIER | E40: 189 | F40: CTRPOS | G40: ch | H40: com
A41: 40399 | B41: 139140 | C41: 22288 | D41: AMVF | E41: 154.36 | F41: CBCOM | G41: cb | H41: com
A42: 40399 | B42: 139142 | C42: 22289 | D42: AS PROTECTION | E42: 445.63 | F42: CB3X | G42: CB | H42: 3x
A43: 40400 | B43: 139336 | C43: 22307 | D43: MASSON | E43: 644.74 | F43: CBCOM | G43: Cb | H43: COM
A44: 40400 | B44: 139363 | C44: 22323 | D44: SCHEBATH | E44: 102.85 | F44: CBCOM | G44: cb | H44: COM
A45: 40400 | B45: 139394 | C45: 22341 | D45: DESVEAUX | E45: 839.99 | F45: CBCOM | G45: CB | H45: COM
A46: 40400 | B46: 139417 | C46: 22347 | D46: BURLAT | E46: 311 | F46: CB3X | G46: cb | H46: 3x
A47: 40400 | B47: 139556 | C47: 22367 | D47: PALOC | E47: 99.99 | F47: CBCOM | G47: CB | H47: COM
A48: 40401 | B48: 139482 | C48: 22379 | D48: sarl COLARD | E48: 162.59 | F48: CBCOM | G48: cb | H48: COM
... A55: 40402 | B55: 139704 | C55: 22480 | D55: DENEUFBOURG | E55: 61 | F55: VIRCOM | G55: VIR | H55: Com
A56: 40402 | B56: mag | C56: 22481 | D56: MATELON | E56: 163.8 | F56: TPEM | G56: cb | H56: COM
A57: 40402 | B57: mag | C57: 22482 | D57: KOBETIC | E57: 45.4 | F57: TPEM | G57: cb | H57: COM
A58: 40402 | B58: 139909 | C58: 22487 | D58: ASSITEC | E58: 98.09 | F58: VIRCOM | G58: VIR | H58: COM
A59: 40402 | B59: mag | C59: 22488 | D59: BENOIT | E59: 258.29 | F59: TPEM | G59: cb | H59: COM
A60: 40402 | B60: mag | C60: 22491 | D60: TARDY | E60: 299.99 | F60: TPEM | G60: cb | H60: COM
A61: 40403 | B61: 140080 | C61: 22558 | D61: IKONETV | E61: 596.48 | F61: CBCOM | G61: cb | H61: COM
A62: 40403 | B62: mag | C62: 22566 | D62: REVILLARD | E62: 14.41 | F62: TPEM | G62: cb | H62: COM
A63: 40403 | B63: 136107 | C63: 22567 | D63: KOPPO | E63: 4359.18 | F63: CB5x | G63: CB | H63: 5x
A64: 40403 | B64: 138125 | C64: 22593 | D64: SCOP modulaire | E64: 4740.3 | F64: CH5x | G64: ch | H64: 5x
A65: 40403 | B65: 140126 | C65: 22602 | D65: BATISOL64 | E65: 123.4 | F65: CBCOM | G65: cb | H65: com
A66: 40403 | B66: 140188 | C66: 22603 | D66: SCOP modulaire | E66: 0 | F66: CBCOM | G66: cb | H66: com
A67: 40403 | B67: 140190 | C67: 22604 | D67: SEGMENT | E67: 867.6 | F67: CB3X | G67: CB | H67: 3x
A68: 40403 | B68: mag | C68: 22606 | D68: LOIR | E68: 20.5 | F68: TPEM | G68: cb | H68: com
A69: 40403 | B69: 141413 | C69: 22613 | D69: CB² | E69: 4025.9 | F69: ch | G69: ch | H69: com
A70: 40406 | B70: 140401 | C70: 22630 | D70: Charpente BLOCKLEY | E70: 299 | F70: CB3X | G70: cb | H70: 3x
A71: 40406 | B71: mag | C71: 22647 | D71: DVR | E71: 256.86
A72: 40406 | B72: 140599 | C72: 22649 | D72: Alexandre cadre | E72: 65.3 | F72: CBCOM | G72: cb | H72: COM
A73: 40406 | B73: 139976 | C73: 22679 | D73: joseph | E73: 142.98 | F73: CH3x | G73: CH | H73: 3x
A74: 40406 | B74: 140626 | C74: 22686 | D74: Gouttequillet | E74: 13 | F74: CBCOM | G74: CB | H74: COM
A75: 40406 | B75: 140626 | C75: 22696 | D75: ALESSI | E75: 47 | F75: CBCOM | G75: cb | H75: COM
A76: 40406 | B76: 140646 | C76: 22701 | D76: KUNKEL | E76: 127.33 | F76: CBCOM | G76: cb | H76: COM
A77: 40407 | B77: mag | C77: 22721 | D77: ENSELME | E77: 499.99 | F77: CH | G77: ch | H77: com
A78: 40407 | B78: mag | C78: 22726 | D78: MAURIS | E78: 129.99 | F78: CBCOM | G78: cb | H78: COM
A79: 40408 | B79: 141148 | C79: 22794 | D79: AMBROSE LIGHT | E79: 188.99 | F79: CB3X | G79: cb | H79: 3x
A80: 40408 | B80: mag | C80: 22800 | D80: IKONETV | E80: 164.48 | F80: CH | G80: CH | H80: COM
A81: 40408 | B81: 141142 | C81: 22806 | D81: BLANCO | E81: 173.03 | F81: CB3X | G81: cb | H81: 3x
A82: 40409 | B82: mag | C82: 22819 | D82: JUNG | E82: 293.17 | F82: ch | G82: ch | H82: COM
A83: 40409 | B83: 139689 | C83: 22823 | D83: suaton | E83: 234.99 | F83: ch | G83: ch | H83: com
A84: 40409 | B84: 141140 | C84: 22835 | D84: promalux | E84: 1200 | F84: ch | G84: ch | H84: COM
A85: 40409 | B85: 141216 | C85: 22863 | D85: AUGEREAU | E85: 702.05 | F85: CB3X | G85: cb | H85: 3x
A86: 40409 | B86: 141216 | C86: 22865 | D86: LEBAUD | E86: 23 | F86: CBCOM | G86: CB | H86: COM
A87: 40410 | B87: 141210 | C87: 22882 | D87: LEJUEZ | E87: 144 | F87: CBCOM | G87: CB | H87: COM
A88: 40410 | B88: 140193 | C88: 22898 | D88: SCHLEPP | E88: 1443.18 | F88: CB3X | G88: cb | H88: 3x
A89: 40410 | B89: 141436 | C89: 22906 | D89: FR2I | E89: 382.73 | F89: CBCOM | G89: CB | H89: COM
A90: 40413 | B90: 141459 | C90: 22985 | D90: GACEM | E90: 420.26 | F90: CB3X | G90: cb | H90: 3x
A91: 40413 | B91: 141859 | C91: 23012 | D91: LENPESZAK | E91: 189.99 | F91: CB3X | G91: CB | H91: 3x
A92: 40414 | B92: mag | C92: 23026 | D92: HUNOLD | E92: 15.07 | F92: TPEM | G92: cb | H92: COM
A93: 40414 | B93: mag | C93: 23058 | D93: BERNARD-GRANGER | E93: 30.61 | F93: TPEM | G93: cb | H93: COM
A94: 40414 | B94: mag | C94: 23061 | D94: CUCHEROUSSET | E94: 91.18 | F94: CH | G94: ch | H94: COM
A95: 40414 | B95: mag | C95: 23062 | D95: THERMICONCEPT | E95: 721.1 | F95: CH | G95: ch | H95: COM
A96: 40414 | B96: 141931 | C96: 23092 | D96: FRITZ | E96: 423.3 | F96: CBCOM | G96: CB | H96: COM
A97: 40414 | B97: 141930 | C97: 23094 | D97: BOUSCATIE | E97: 423.3 | F97: CBCOM | G97: CB | H97: COM
A98: 40414 | B98: 141935 | C98: 23095 | D98: MARONET | E98: 341.46 | F98: CBCOM | G98: cb | H98: COM
A99: 40414 | B99: 142103 | C99: 23096 | D99: PROMALUX | E99: 299 | F99: CB3X | G99: CB | H99: COM
A100: 40414 | B100: 142002 | C100: 23103 | D100: LEVEQUE | E100: 99 | F100: CBCOM | G100: cb | H100: COM
A101: 40414 | B101: 142104 | C101: 23108 | D101: ISS | E101: 1079.85 | F101: CBCOM | G101: cb | H101: COM
A102: 40414 | B102: 142143 | C102: 23111 | D102: BOUCHER | E102: 113.95 | F102: CB3X | G102: cb | H102: 3x
A103: 40415 | B103: 142336 | C103: 23123 | D103: sarl ATEMA | E103: 215.65 | F103: CH3x | G103: ch | H103: 3x
A104: 40415 | B104: 142252 | C104: 23125 | D104: MAZET | E104: 147.33 | F104: CBCOM | G104: cb | H104: COM
A105: 40415 | B105: mag | C105: 23131 | D105: FAVRE | E105: 43.5 | F105: ch | G105: ch | H105: COM
A106: 40415 | B106: mag | C106: 23137 | D106: COLLOMCLERC | E106: 8.34 | F106: TPEM | G106: cb | H106: COM
A107: 40415 | B107: mag | C107: 23140 | D107: International animation | E107: 863.35 | F107: ch | G107: ch | H107: COM
A108: 40415 | B108: 142533 | C108: 23147 | D108: CASTELLI | E108: 279 | F108: CB3X | G108: cb | H108: 3x
...

Sheet Septembre 2010
D1: Commissions
B2: TOTAL | C2: =SUM(E:E) -> 44971.48 | D2: =C2*0.03 -> 1349.1444
B3: Paiement à la commande | C3: =SUMIF(H:H,"com",E:E) -> 32402.91 | D3: =C3*0.03 -> 972.0873 | E3: payable fin septembre
B4: Paiement 2X | E4: ="payable fin Octobre" -> payable fin Octobre
B5: Paiement 3X | C5: =SUMIF(H:H,"3x",E:E) -> 6739.73 | D5: =C5*0.03 -> 202.1919 | E5: payable fin novembre
B6: Paiement 4X
B7: Paiement 5X | C7: =SUMIF(H:H,"5x",E:E) -> 5828.84 | D7: =C7*0.03 -> 174.8652 | E7: payable fin janvier
A9: Date | B9: Cde OS | C9: Facture | D9: Client | E9: HT | F9: Mode de paiement | G9: Support | H9: crédit
A10: 40435 | B10: av | C10: 24226 | D10: SCHLEPP | E10: -58.51 | F10: Avoir | G10: es | H10: COM
A11: 40431 | B11: 145702 | C11: 24069 | D11: GUEPE | E11: 116.22 | F11: Avoir | G11: cb | H11: COM
A12: 40428 | B12: av | C12: 23857 | D12: ETS FISCHER | E12: 128.5 | F12: Avoir | G12: Avoir | H12: COM
A13: 40437 | B13: 146883 | C13: 24422 | D13: Aubry | E13: 304.5 | F13: CB1R&P | G13: CB | H13: COM
A14: 40448 | B14: 149064 | C14: 25116 | D14: CLIC2VISIT | E14: 113.33 | F14: CB3x | G14: CB | H14: 3X
A15: 40448 | B15: 149024 | C15: 25116 | D15: Bon didier | E15: 134.61 | F15: CB3x | G15: CB | H15: 3x
A16: 40448 | B16: 149022 | C16: 25114 | D16: Bon didier | E16: 414.25 | F16: CB3x | G16: CB | H16: 3X
A17: 40441 | B17: 147441 | C17: 24597 | D17: MUYL | E17: 273.41 | F17: CB3x | G17: CB | H17: 3x
A18: 40441 | B18: 147440 | C18: 24596 | D18: Cochard | E18: 53.5 | F18: CB3x | G18: CB | H18: 3X
A19: 40438 | B19: 147152 | C19: 24475 | D19: Hem BFS | E19: 167.23 | F19: CB3x | G19: CB | H19: 3x
A20: 40437 | B20: 146580 | C20: 24398 | D20: Frederic Juglas | E20: 193.5 | F20: CB3x | G20: CB | H20: 3X
A21: 40435 | B21: 144864 | C21: 24258 | D21: Monier | E21: 735.99 | F21: CB3x | G21: CB | H21: 3x
A22: 40434 | B22: 145832 | C22: 24176 | D22: nougé franck | E22: 320.29 | F22: CB3x | G22: CB | H22: 3X
A23: 40434 | B23: 143671 | C23: 24162 | D23: VAZ | E23: 399.17 | F23: CB3x | G23: CB | H23: 3x
A24: 40430 | B24: 145274 | C24: 23994 | D24: 2R Systems | E24: 279 | F24: CB3x | G24: CB | H24: 3X
... A26: 40430 | B26: 145225 | C26: 23990 | D26: TRILHE | E26: 428.24 | F26: CB3x | G26: CB | H26: 3X
A27: 40428 | B27: 144825 | C27: 23897 | D27: TRUE | E27: 1185.01 | F27: CB3x | G27: CB | H27: 3x
A28: 40424 | B28: 138017 | C28: 23663 | D28: RENOVSERVICES'73 | E28: 982.4 | F28: CB3x | G28: CB | H28: 3X
A29: 40424 | B29: 144055 | C29: 23657 | D29: JFW | E29: 460.45 | F29: CB3x | G29: CB | H29: 3x
A30: 40423 | B30: 143956 | C30: 23628 | D30: Des exterieurs à vivre | E30: 200 | F30: CB3x | G30: CB | H30: 3X
A31: 40429 | B31: 144718 | C31: 23934 | D31: SAGAN | E31: 919.74 | F31: CB5x | G31: CB | H31: 5x
A32: 40424 | B32: 142718 | C32: 23686 | D32: SCI MAGER | E32: 1175.14 | F32: CB5x | G32: CB | H32: 5x
A33: 40423 | B33: 143537 | C33: 23587 | D33: ROLLIN | E33: 1699 | F33: CB5x | G33: CB | H33: 5x
A34: 40450 | B34: 143745 | C34: 25308 | D34: bourdon | E34: 187.23 | F34: CBCOM | G34: CB | H34: COM
A35: 40450 | B35: 149530 | C35: 25270 | D35: BOIS ART | E35: 462.99 | F35: CBCOM | G35: CB | H35: COM
A36: 40450 | B36: 143765 | C36: 25241 | D36: BVOL | E36: 397.08 | F36: CBCOM | G36: CB | H36: COM
A37: 40448 | B37: 149129 | C37: 25150 | D37: LEMELLE | E37: 173.03 | F37: CBCOM | G37: CB | H37: COM
A38: 40448 | B38: 149109 | C38: 25141 | D38: GT Service | E38: 525 | F38: CBCOM | G38: CB | H38: COM
A39: 40448 | B39: 149067 | C39: 25109 | D39: Rougeot | E39: 76.89 | F39: CBCOM | G39: CB | H39: COM
... A43: 40443 | B43: 147858 | C43: 24801 | D43: Freund SHAEFFER | E43: 89 | F43: CBCOM | G43: CB | H43: COM
A44: 40443 | B44: 147856 | C44: 24797 | D44: TRUE | E44: 237.9 | F44: CBCOM | G44: CB | H44: COM
A45: 40443 | B45: 147821 | C45: 24757 | D45: KOLLER Christophe | E45: 1029.6 | F45: CBCOM | G45: CB | H45: COM
A46: 40443 | B46: 145507 | C46: 24753 | D46: OFFANT | E46: 23.86 | F46: CBCOM | G46: CB | H46: COM
A47: 40443 | B47: 145502 | C47: 24751 | D47: BRUNEAU | E47: 250 | F47: CBCOM | G47: CB | H47: COM
A48: 40442 | B48: 147631 | C48: 24690 | D48: Floutier | E48: 88.09 | F48: CBCOM | G48: CB | H48: COM
A49: 40441 | B49: 147471 | C49: 24615 | D49: Rochas Arnaud | E49: 49.86 | F49: CBCOM | G49: CB | H49: COM
A50: 40441 | B50: 147469 | C50: 24612 | D50: BRUNEAU | E50: 186.6 | F50: CBCOM | G50: CB | H50: COM
A51: 40438 | B51: 147158 | C51: 24483 | D51: TBS | E51: 611.46 | F51: CBCOM | G51: CB | H51: COM
A52: 40438 | B52: 145545 | C52: 24470 | D52: ICIFER GAILLAC | E52: 712.33 | F52: CBCOM | G52: CB | H52: COM
A53: 40438 | B53: 147119 | C53: 24452 | D53: BOILEAU | E53: 115 | F53: CBCOM | G53: CB | H53: COM
A54: 40437 | B54: 146621 | C54: 24405 | D54: Crespel | E54: 415.3 | F54: CBCOM | G54: CB | H54: COM
A55: 40437 | B55: 144573 | C55: 24323 | D55: ALTIUS | E55: 115 | F55: CBCOM | G55: CB | H55: COM
A56: 40437 | B56: 144513 | C56: 24322 | D56: Simonnet | E56: 37.89 | F56: CBCOM | G56: CB | H56: COM
... A83: 40441 | B83: 147137 | C83: 24628 | D83: BJ MATERIEL | E83: 440 | F83: CH | G83: Chèque | H83: COM
A84: 40441 | B84: mag | C84: 24593 | D84: Little Big Shop | E84: 186.16 | F84: CH | G84: Chèque | H84: COM
A85: 40427 | B85: mag | C85: 23809 | D85: 2CZM | E85: 264 | F85: CH | G85: Chèque | H85: COM
A86: 40450 | B86: mag | C86: 25237 | D86: GRANDE | E86: 255.2 | F86: Ch | G86: Chèque | H86: COM
A87: 40448 | B87: mag | C87: 25059 | D87: montagne agencement | E87: 397.8 | F87: Ch | G87: Chèque | H87: COM
A88: 40436 | B88: mag | C88: 24301 | D88: Nougaredey | E88: 108.92 | F88: CH3X | G88: Chèque | H88: 3X
A89: 40442 | B89: 143272 | C89: 24702 | D89: Marc Service | E89: 1069.47 | F89: CH5X | G89: Chèque | H89: 5X
A90: 40434 | B90: 136834 | C90: 24196 | D90: BAHI | E90: 965.49 | F90: CH5X | G90: Chèque | H90: 5X
A91: 40450 | B91: 149601 | C91: 25290 | D91: avs trevisan | E91: 399.95 | F91: CHCOM | G91: Chèque | H91: COM
A92: 40450 | B92: 145700 | C92: 25284 | D92: montagne agencement | E92: 334.9 | F92: CHCOM | G92: Chèque | H92: COM
A93: 40450 | B93: 142380 | C93: 25274 | D93: MENUISERIE COLONNIER | E93: 2743.96 | F93: CHCOM | G93: Chèque | H93: COM
A94: 40449 | B94: 147845 | C94: 25190 | D94: KOLLER Christophe | E94: 755.85 | F94: CHCOM | G94: Chèque | H94: COM
A95: 40448 | B95: 148287 | C95: 25066 | D95: RIVIERE Marieerika | E95: 450 | F95: CHCOM | G95: Chèque | H95: COM
A96: 40445 | B96: 147507 | C96: 24944 | D96: Sarl loyer | E96: 594.03 | F96: CHCOM | G96: Chèque | H96: COM
A97: 40444 | B97: 145657 | C97: 24890 | D97: OGECEV | E97: 2190 | F97: CHCOM | G97: Chèque | H97: COM
A98: 40443 | B98: 144088 | C98: 24746 | D98: ADM | E98: 304.68 | F98: CHCOM | G98: Chèque | H98: COM
A99: 40441 | B99: 146234 | C99: 24574 | D99: SEGUIN | E99: 275 | F99: CHCOM | G99: Chèque | H99: COM
A100: 40437 | B100: 146826 | C100: 24355 | D100: IRAM | E100: 302.81 | F100: CHCOM | G100: Chèque | H100: COM
... A103: 40422 | B103: 143704 | C103: 23501 | D103: CLERC | E103: 320.53 | F103: ESP | G103: Espèce | H103: COM
A104: 40451 | B104: mag | C104: 25320 | D104: Cadaoux | E104: 92.92 | F104: TPEM | G104: CB | H104: COM
A105: 40450 | B105: mag | C105: 25228 | D105: BERTRAND | E105: 580 | F105: TPEM | G105: CB | H105: COM
A106: 40450 | B106: mag | C106: 25207 | D106: MA pose de carrelage | E106: 278.1 | F106: TPEM | G106: CB | H106: COM
A107: 40449 | B107: mag | C107: 25199 | D107: ALBERTINO | E107: 94.6 | F107: TPEM | G107: CB | H107: COM
A108: 40448 | B108: mag | C108: 25146 | D108: rousselle | E108: 9.11 | F108: TPEM | G108: CB | H108: COM
A109: 40448 | B109: mag | C109: 25042 | D109: STEF'ELEC | E109: 796.54 | F109: TPEM | G109: CB | H109: COM
A110: 40444 | B110: mag | C110: 24844 | D110: BEAUQUIS | E110: 7.65 | F110: TPEM | G110: CB | H110: COM
A111: 40443 | B111: mag | C111: 24762 | D111: KOLLER Christophe | E111: 929 | F111: TPEM | G111: CB | H111: COM
A112: 40442 | B112: mag | C112: 24716 | D112: ARENOV | E112: 550.28 | F112: TPEM | G112: CB | H112: COM
A113: 40442 | B113: mag | C113: 24709 | D113: Pistono | E113: 205 | F113: TPEM | G113: CB | H113: COM
A114: 40437 | B114: mag | C114: 24429 | D114: Tournier | E114: 188.96 | F114: TPEM | G114: CB | H114: COM
A115: 40437 | B115: mag | C115: 24429 | D115: Rossignol | E115: 189 | F115: TPEM | G115: CB | H115: COM
A116: 40437 | B116: mag | C116: 24426 | D116: TEIXEIRA | E116: 84.99 | F116: TPEM | G116: CB | H116: COM
A117: 40435 | B117: 144844 | C117: 24225 | D117: SUIZE | E117: 26 | F117: TPEM | G117: CB | H117: COM
A118: 40431 | B118: mag | C118: 24079 | D118: LE DELTA | E118: 621.46 | F118: TPEM | G118: CB | H118: COM
A119: 40429 | B119: mag | C119: 23965 | D119: SINGH | E119: 328.5 | F119: TPEM | G119: CB | H119: COM
A120: 40429 | B120: mag | C120: 23962 | D120: LE COUAC | E120: 348.99 | F120: TPEM | G120: CB | H120: COM
A121: 40428 | B121: mag | C121: 23904 | D121: ODESSER | E121: 165.7 | F121: TPEM | G121: CB | H121: COM
A122: 40428 | B122: 142094 | C122: 23903 | D122: LEVEQUE | E122: 288.05 | F122: TPEM | G122: CB | H122: COM
A123: 40428 | B123: mag | C123: 23883 | D123: GANTELET | E123: 230 | F123: TPEM | G123: CB | H123: COM
A124: 40427 | B124: mag | C124: 23802 | D124: GERMAIN | E124: 84.48 | F124: TPEM | G124: CB | H124: COM
A125: 40427 | B125: mag | C125: 23752 | D125: BERNARD-GRANGER | E125: 189.05 | F125: TPEM | G125: CB | H125: COM
A126: 40427 | B126: 143980 | C126: 23726 | D126: BERNARD-GRANGER | E126: 163.82 | F126: TPEM | G126: CB | H126: COM
A127: 40427 | B127: 142163 | C127: 23725 | D127: BERNARD-GRANGER | E127: 9.82 | F127: TPEM | G127: CB | H127: COM
A128: 40423 | B128: mag | C128: 23633 | D128: ARCHIES | E128: 495 | F128: TPEM | G128: CB | H128: COM
A129: 40422 | B129: mag | C129: 23497 | D129: Nougaredey | E129: 53.48 | F129: TPEM | G129: CB | H129: COM
A130: 40437 | B130: 142870 | C130: 24309 | D130: RAMFIS | E130: 150.51 | F130: VIRCOM | G130: VIR | H130: COM

Sheet Octobre 2010
A1: 40452 | B1: =MONTH(A1) -> 10 | D1: Commission
B2: TOTAL | C2: =SUM(E:E) -> 44979.85
B3: Paiement à la commande | C3: =SUMIF(H:H,"com",E:E) -> 35639.55
A4: Paiement En | B4: 2 | C4: =SUMIF(H:H,"2x",E:E) -> 539.17
B5: 3 | C5: =SUMIF(H:H,"3x",E:E) -> 6293.29
B6: 4 | C6: =SUMIF(H:H,"4x",E:E) -> 0
B7: 5 | C7: =SUMIF(H:H,"5x",E:E) -> 1603.8
A9: Date | B9: Cde OS | C9: Facture | D9: Client | E9: HT | F9: Mode de paiement | G9: Support | H9: crédit
B10: 155742 | C10: 28000 | D10: DAUPHIN Didier | E10: 581.1 | F10: CH3x | G10: Ch | H10: 3x
A11: 40478 | B11: 155791 | C11: 27066 | D11: GEPIPLAST | E11: 336.96 | F11: CBCOM | G11: CB | H11: COM
A12: 40478 | B12: 155769 | C12: 27062 | D12: Alter | E12: 133 | F12: CBCOM | G12: Cb | H12: COM
A13: 40478 | B13: 155653 | C13: 27038 | D13: RAYER | E13: 462.2 | F13: CBCOM | G13: Cb | H13: COM
A14: 40478 | B14: 155642 | C14: 27022 | D14: GRAD | E14: 214.08 | F14: CBCOM | G14: CB | H14: COM
A15: 40477 | B15: Mag | C15: 27007 | D15: TECHN ELEC RENOV | E15: 536.43 | F15: TPEM | G15: CB | H15: COM
A16: 40477 | B16: Mag | C16: 27006 | D16: HERMASSI | E16: 2539.31 | F16: CHCOM | G16: CH | H16: COM
A17: 40477 | B17: 155448 | C17: 26992 | D17: DISTRIBUTION SOLAIRE | E17: 209.03 | F17: CBCOM | G17: CB | H17: COM
A18: 40476 | B18: Mag | C18: 26935 | D18: Creatis | E18: 231.3 | F18: CHCOM | G18: Ch | H18: COM
A19: 40476 | B19: Mag | C19: 26933 | D19: Ma pose de carrelage | E19: 449 | F19: Ch2X | G19: Ch | H19: 2X
A20: 40477 | B20: 155469 | C20: 26930 | D20: TROUCHE | E20: 70.99 | F20: CBCOM | G20: CB | H20: COM
A21: 40476 | B21: 155259 | C21: 26922 | D21: CONFORTI | E21: 179.99 | F21: CBCOM | G21: cb | H21: COM
A22: 40476 | B22: 155214 | C22: 26910 | D22: SALLEFRANQUE | E22: 171.9 | F22: CB3X | G22: Cb | H22: 3X
A23: 40476 | B23: Mag | C23: 26907 | D23: ABOAK | E23: 126.6 | F23: TPEM | G23: CB | H23: COM
A24: 40476 | B24: Mag | C24: 26893 | D24: SMC2 | E24: 192.03 | F24: CH30FDM | G24: CH | H24: 30J | I24: X
A25: 40476 | B25: 155131 | C25: 26890 | D25: RAUZY | E25: 154.16 | F25: CH3X | G25: Ch | H25: 3X
A26: 40476 | B26: 154563 | C26: 26888 | D26: EI REY OLIVIER | E26: 2346.41 | F26: Ch | G26: ch | H26: COM
A27: 40476 | B27: 154539 | C27: 26872 | D27: Michel Coiffure | E27: 119.9 | F27: CHCOM | G27: CH | H27: COM
A28: 40473 | B28: mag | C28: 26776 | D28: GEFFINE | E28: 178.23 | F28: Ch | G28: Ch | H28: COM
A29: 40473 | B29: mag | C29: 26772 | D29: GEFFINE | E29: 64.1 | F29: Ch | G29: CH | H29: COM
A30: 40473 | B30: mag | C30: 26763 | D30: LAFORET | E30: 24.47 | F30: TPEM | G30: cb | H30: COM
A31: 40473 | B31: mag | C31: 26749 | D31: LAFORET | E31: 77.07 | F31: TPEM | G31: cb | H31: COM
A32: 40473 | B32: mag | C32: 26743 | D32: MEUNUISERIE ATRUX | E32: 229 | F32: TPEM | G32: cb | H32: COM
A33: 40473 | B33: mag | C33: 26737 | D33: DP MENUISERIE | E33: 793.96 | F33: TPEM | G33: cb | H33: COM
A34: 40472 | B34: mag | C34: 26700 | D34: BOUVRY | E34: 659.58 | F34: TPEM | G34: cb | H34: COM | I34: x
A35: 40472 | B35: mag | C35: 26688 | D35: PILOT | E35: 14.79 | F35: TPEM | G35: cb | H35: COM
A36: 40471 | B36: 154346 | C36: 26648 | D36: ALLIO ELECTRICITE | E36: 303.02 | F36: CBCOM | G36: CB | H36: COM
A37: 40471 | B37: 154346 | C37: 26647 | D37: MULTIBOIS | E37: 367.02 | F37: CBCOM | G37: CB | H37: COM
A38: 40471 | B38: 154191 | C38: 26634 | D38: TTSPM | E38: 0 | F38: Points
A39: 40471 | B39: 141460 | C39: 26629 | D39: TTSPM | E39: 1152.49 | F39: CBCOM | G39: cb | H39: COM
A40: 40471 | B40: 153585 | C40: 26614 | D40: ABDELBAKI | E40: 170.39 | F40: CB3X | G40: cb | H40: 3X
A41: 40471 | B41: mag | C41: 26602 | D41: AUDOUIN | E41: 259 | F41: CH | G41: CH | H41: COM
A42: 40470 | B42: 154174 | C42: 26578 | D42: WITTELEC | E42: 420 | F42: CBCOM | G42: CB | H42: COM
A43: 40470 | B43: mag | C43: 26568 | D43: LABEL OUVERTURE | E43: 160.77 | F43: CH30JFDM | G43: Ch | H43: 30j
A44: 40470 | B44: 154113 | C44: 26563 | D44: FERME DE MALHAUSSETTE | E44: 333.23 | F44: CB3x | G44: CB | H44: 3x
A45: 40470 | B45: 153566 | C45: 26557 | D45: BJ MATERIEL | E45: 855 | F45: chcom | G45: CH | H45: COM
A46: 40470 | B46: mag | C46: 26547 | D46: GAUTREAU | E46: 11.8 | F46: TPEM | G46: cb | H46: COM
A47: 40470 | B47: mag | C47: 26544 | D47: BURDET GEORGES | E47: 328 | F47: CH30J | G47: Ch | H47: 30J | I47: x
A48: 40469 | B48: mag | C48: 26509 | D48: LANGE | E48: 111.14 | F48: TPEM | G48: cb | H48: COM
A49: 40469 | B49: mag | C49: 26508 | D49: LANGE | E49: 441.28 | F49: TPEM | G49: cb | H49: COM
A50: 40469 | B50: 153850 | C50: 26484 | D50: DUBOIS | E50: 510.23 | F50: cb3x | G50: cb | H50: 3x
A51: 40469 | B51: 153846 | C51: 26479 | D51: MEUX | E51: 250.75 | F51: CBCOM | G51: cb | H51: COM
A52: 40469 | B52: 153505 | C52: 26475 | D52: NAVY SERVICE | E52: 530 | F52: chcom | G52: ch | H52: COM | I52: x
A53: 40469 | B53: mag | C53: 26473 | D53: BERTHELON | E53: 205.67 | F53: TPEM | G53: cb | H53: COM
A54: 40466 | B54: 153567 | C54: 26374 | D54: JULIENNE | E54: 88.65 | F54: CBCOM | G54: cb | H54: COM
A55: 40466 | B55: mag | C55: 26371 | D55: SCZYBORSKY | E55: 227.79 | F55: TPEM | G55: Cb | H55: COM
A56: 40466 | B56: mag | C56: 26367 | D56: FERNEZ YANN | E56: 449.1 | F56: ESP | G56: ES | H56: COM
A57: 40466 | B57: 153546 | C57: 26366 | D57: PIN | E57: 158.32 | F57: CBCOM | G57: cb | H57: COM
A58: 40466 | B58: 152797 | C58: 26354 | D58: DU TOUT AU BOIS | E58: 1094.99 | F58: chcom | G58: ch | H58: COM
A59: 40466 | B59: mag | C59: 26341 | D59: ALTIUS | E59: 223.24 | F59: CH30J | G59: Ch | H59: 30j | I59: X
A60: 40466 | B60: mag | C60: 26339 | D60: GEFFINE | E60: 525 | F60: TPEM | G60: cb | H60: COM
A61: 40465 | B61: 153339 | C61: 26313 | D61: BONNEFOND | E61: 399 | F61: CBCOM | G61: Cb | H61: COM
A62: 40465 | B62: 153301 | C62: 26306 | D62: ROBERT | E62: 12.75 | F62: CBCOM | G62: cb | H62: COM
A63: 40465 | B63: Avoir | C63: 26305 | D63: Muyl | E63: -109.53 | F63: AVFC | G63: AV | H63: COM
A64: 40465 | B64: Rep | C64: 26302 | D64: DANIEL ODEON | E64: 90.17 | F64: CH | G64: CH | H64: 2X
A65: 40465 | B65: 152389 | C65: 26294 | D65: Muyl | E65: 165 | F65: AVFC + Ch | G65: ch | H65: COM
A66: 40465 | B66: mag | C66: 26283 | D66: PELLEGRINI | E66: 103.25 | F66: TPEM | G66: Cb | H66: COM
A67: 40464 | B67: mag | C67: 26245 | D67: CHAPPELUZ | E67: 128 | F67: Ch | G67: ch | H67: COM
A68: 40464 | B68: 153067 | C68: 26235 | D68: SMAP | E68: 833.02 | F68: CBCOM | G68: cb | H68: COM
A69: 40464 | B69: mag | C69: 26235 | D69: HUDRY | E69: 157.82 | F69: TPEM | G69: cb | H69: COM
A70: 40464 | B70: 153038 | C70: 26223 | D70: DESBARRES | E70: 179.9 | F70: cb3x | G70: cb | H70: 3X
A71: 40464 | B71: 153037 | C71: 26220 | D71: DELTORCHIO | E71: 474.08 | F71: CBCOM | G71: cb | H71: COM
A72: 40464 | B72: 153016 | C72: 26215 | D72: LOGIS ECO CONSEIL | E72: 209.03 | F72: CBCOM | G72: cb | H72: COM
A73: 40464 | B73: 152956 | C73: 26192 | D73: SCHLEPP | E73: 50.87 | F73: R&P1x | G73: cb | H73: COM
A74: 40463 | B74: 152879 | C74: 26183 | D74: DURAND OLIVIER | E74: 59.36 | F74: CBCOM | G74: CB | H74: COM
A75: 40463 | B75: mag | C75: 26169 | D75: clerc | E75: 83.61 | F75: Esp | G75: ES | H75: COM
A76: 40463 | B76: mag | C76: 26166 | D76: VUILLET | E76: 459.99 | F76: TPEM | G76: cb | H76: COM
A77: 40463 | B77: 152762 | C77: 26163 | D77: ICIFER | E77: 500.15 | F77: CBCOM | G77: cb | H77: COM
A78: 40463 | B78: mag | C78: 26156 | D78: 2czm | E78: 512.62 | F78: TPEM | G78: cb | H78: COM | I78: X
A79: 40463 | B79: 142744 | C79: 26136 | D79: Conceptelec | E79: 1108.92 | F79: CBCOM | G79: CB | H79: COM
A80: 40463 | B80: mag | C80: 26129 | D80: clerc | E80: 180.11 | F80: TPEM | G80: CB | H80: COM
A81: 40462 | B81: 152509 | C81: 26085 | D81: GUILLAMET | E81: 224.99 | F81: CBCOM | G81: CB | H81: COM
A82: 40462 | B82: Avoir | C82: 26079 | D82: DU TOUT AU BOIS | E82: -1028.89 | F82: AVFC | H82: COM
A83: 40462 | B83: 152503 | C83: 26075 | D83: SARAH | E83: 191.83 | F83: R&P1x | H83: COM
A84: 40462 | B84: 152484 | C84: 26074 | D84: COLLION | E84: 99.99 | F84: R&P1x | H84: COM
A85: 40462 | B85: 152390 | C85: 26066 | D85: CONCHA | E85: 519 | F85: cb3x | H85: 3x
A86: 40462 | B86: 151439 | C86: 26062 | D86: GALLORO | E86: 415.49 | F86: chcom | H86: COM
A87: 40462 | B87: mag | C87: 26059 | D87: BEL-ELEC | E87: 339.12 | F87: TPEM | H87: COM | I87: X
A88: 40462 | B88: 152371 | C88: 26056 | D88: SUPTECH | E88: 165.25 | F88: CBCOM | H88: COM
A89: 40462 | B89: 152370 | C89: 26055 | D89: DU TOUT AU BOIS | E89: 1028.89 | F89: CBCOM | H89: COM
A90: 40461 | B90: 152274 | C90: 25990 | D90: NAVARRO | E90: 312.99 | F90: CBCOM | G90: cb | H90: COM
A91: 40460 | B91: 152049 | C91: 25959 | D91: AMJ Couverture | E91: 227.33 | F91: CBCOM | H91: COM
A92: 40460 | B92: 152047 | C92: 25958 | D92: AMJ Couverture | E92: 835 | F92: CBCOM | H92: COM
A93: 40459 | B93: 151903 | C93: 25926 | D93: SARL ABC BATI | E93: 915 | F93: CBCOM | H93: COM
A94: 40458 | B94: mag | C94: 25850 | D94: PILOT | E94: 641.03 | F94: TPEM | H94: COM
A95: 40458 | B95: 151580 | C95: 25838 | D95: CHATELAIN | E95: 334.9 | F95: CBCOM | H95: COM
A96: 40458 | B96: mag | C96: 25817 | D96: ATELIER BOIS et CHARTPENTE | E96: 2925.18 | F96: CH | H96: COM
A97: 40457 | B97: 151421 | C97: 25784 | D97: CIEL BATIMENT | E97: 846.66 | F97: cb3x | H97: 3x
A98: 40457 | B98: 151145 | C98: 25768 | D98: GUILLAUME | E98: 285.09 | F98: CBCOM | H98: COM
A99: 40457 | B99: 151409 | C99: 25762 | D99: LUBIN RODRIGUE | E99: 315.17 | F99: CB3X | G99: CB | H99: 3x
A100: 40457 | B100: mag | C100: 25760 | D100: DUPONT | E100: 339.15 | F100: CH | H100: COM
A101: 40457 | B101: 151369 | C101: 25758 | D101: BELARDI | E101: 716.01 | F101: cb3x | H101: 3x
...

Sheet Novembre 2010

Sheet Decembre 2010
