Workbook

Sheet Tirage Hexagramme
B4: YANG
B6: YING
H7: 6 = Yin mutante X | M7: 9 = Yang mutant O
H10: Hexagramme Tiré | M10: Perspective
A12: Ligne de l'hexagramme | B12: N° Tirage | C12: Pile(2)/Face(3) | F12: Total
B13: 6 | C13: 3 | D13: 3 | E13: 3 | F13: =SUM(C13:E13) -> 9 | I13: =IF(F13=6,"X",IF(F13=9,"0","")) -> 0 | Q13: =VLOOKUP(VALUE(_xlfn.CONCAT(F13,F15,F17,F19,F21,F23)),HexDef!A2:F65,4,FALSE) -> #N/A
B15: 5 | C15: 3 | D15: 3 | E15: 3 | F15: =SUM(C15:E15) -> 9 | I15: =IF(F15=6,"X",IF(F15=9,"0","")) -> 0 | Q15: =VLOOKUP(VALUE(_xlfn.CONCAT(F13,F15,F17,F19,F21,F23)),HexDef!A2:F65,5,FALSE) -> #N/A
B17: 4 | C17: 3 | D17: 3 | E17: 3 | F17: =SUM(C17:E17) -> 9 | I17: =IF(F17=6,"X",IF(F17=9,"0","")) -> 0 | Q17: =VLOOKUP(VALUE(_xlfn.CONCAT(F13,F15,F17,F19,F21,F23)),HexDef!A2:F65,6,FALSE) -> #N/A
B19: 3 | C19: 3 | D19: 3 | E19: 3 | F19: =SUM(C19:E19) -> 9 | I19: =IF(F19=6,"X",IF(F19=9,"0","")) -> 0
B21: 2 | C21: 3 | D21: 3 | E21: 3 | F21: =SUM(C21:E21) -> 9 | I21: =IF(F21=6,"X",IF(F21=9,"0","")) -> 0
B23: 1 | C23: 3 | D23: 3 | E23: 3 | F23: =SUM(C23:E23) -> 9 | I23: =IF(F23=6,"X",IF(F23=9,"0","")) -> 0
H25: H : | I25: =VLOOKUP(VALUE(_xlfn.CONCAT(F13,F15,F17,F19,F21,F23)),HexDef!A2:E65,3,FALSE) -> #N/A | M25: H :
C27: Hex Tiré | H27: Opposé | M27: Retourné
C29: =F23=7 -> FALSE | E29: =F13=7 -> FALSE
C31: =F15=7 -> FALSE | E31: =F15=7 -> FALSE
C33: =F17=7 -> FALSE | E33: =F17=7 -> FALSE
C35: =F19=7 -> FALSE | E35: =F19=7 -> FALSE
C37: =F21=7 -> FALSE | E37: =F21=7 -> FALSE
C39: =F23=7 -> FALSE | E39: =F23=7 -> FALSE | M39: =F13=8 -> FALSE
C41: H : | D41: =VLOOKUP(VALUE(_xlfn.CONCAT(F13,F15,F17,F19,F21,F23)),HexDef!A2:E65,3,FALSE) -> #N/A | H41: H : | I41: =VLOOKUP(VALUE(_xlfn.CONCAT(F13,F15,F17,F19,F21,F23)),Oppose!A2:I65,4,FALSE) -> #N/A | M41: H : | N41: =VLOOKUP(VALUE(_xlfn.CONCAT(F13,F15,F17,F19,F21,F23)),Oppose!A2:I65,5,FALSE) -> #N/A
C43: Hex Nucléaire
H45: 3 Plans | I45: 1er Instant | J45: 2ème Intégré | K45: 3ème Incarné
H47: Pensées | I47: =I25 -> #N/A | J47: =VLOOKUP(J49,DeuxRoues!E4:G67,2,FALSE) -> #N/A | K47: =VLOOKUP(K51,DeuxRoues!I4:K67,2,FALSE) -> #N/A
H49: Emotions | I49: =VLOOKUP(I47,DeuxRoues!A4:C67,2,FALSE) -> #N/A | J49: =I25 -> #N/A | K49: =VLOOKUP(K51,DeuxRoues!I4:K67,3,FALSE) -> #N/A
H51: Volonté | I51: =VLOOKUP(I47,DeuxRoues!A4:C67,3,FALSE) -> #N/A | J51: =VLOOKUP(J49,DeuxRoues!E4:G67,3,FALSE) -> #N/A | K51: =I25 -> #N/A
C57: H :

Sheet HexDef
A1: Code | B1: Nom Hex | C1: HEX | D1: Titre | E1: Image | F1: Définition
A2: 888888 | B2: QIAN | C2: 1 | D2: Créateur | E2: Ciel | F2: Elan créatif : Activation, vigueur, dynamisme, Capacité à imaginer le nouveau
A3: 777777 | B3: KUN | C3: 2 | D3: Receptif | E3: Terre | F3: Elan receptif : Disponibilité, Souplesse, consentement, adaptabilté aux circonstances
A4: 787778 | B4: ZHUN | C4: 3 | D4: Difficulté initiale | E4: la grande force devant la confusion | F4: Difficultes initiales : c'est la confusion des commencements
A5: 877787 | B5: MENG | C5: 4 | D5: Le jeune fou | E5: Le petit torrent court au pied de la montagne | F5: Jeune Fou : C'et à la fois l'intrépide de la jeunesse at l'apprentissage qui permet de remédier à l'inexpérience
A6: 787888 | B6: XU | C6: 5 | D6: L'attente | F6: Les embûches qui guettent l'homme, venant du ciel (pluie) ou sortant de terre (racines sur lesquelles ou trébuche).
A7: 888787 | B7: SONG | C7: 6 | D7: Le conflit | F7: A gauche, une fleur sortant de la bouche et formant des ondes: c'est la parole. A droite, un instrument divise un objet en deux parties égales : SONG est "la sentence du juge
A8: 777787 | B8: SHI | C8: 7 | D8: l'armée | F8: A gauche, le mur. Mais ce mur est petit, comme inachevé (comparer à YIN et YANG) : c'est la fondation. A droite sont des racines sous terre. SHI est le "maitre", fondement et racine de toute connaissance.
A9: 787777 | B9: BI | C9: 8 | D9: L'union | F9: Deux hommes agissent dans le même sens évoquent l'idée de "concorde".
A10: 887888 | B10: XIAO XU | C10: 9 | D10: Le petit Apprivoise | F10: XIAO est quelque chose de très fin (trait verticale médian), encore divisé. Cette image du travail munitieux des artisans chinois évoque la petitesse. Dans XU, on voit de bas en haut : le champ qui produit une fibre végétale mise sur une quenouille, et entreposée sous un toit. C'est l'image de la connaissance acquise, de l'éducation. XIAO XU est donc "petite éducation.
A11: 888788 | B11: LU | C11: 10 | D11: La marche | F11: Un homme (en bas) suit son chemin, et se trouve devant plusieurs voies possibles, dont une seule doit être choisi (noter la mainau milieu des chemins). Il s'agit donc de "choisir bien son chemin".
A12: 777888 | B12: TAI | C12: 11 | D12: Prosperite | F12: Un homme (en haut) dispose de ses deux mains pour cultiver (son champ) et d'eau (en bas au centre) pour l'irriguer. C'est là la symbole de la "paix dans le travail".
A13: 888777 | B13: PI | C13: 12 | D13: Adversite | F13: De haut en bas : la terre (trait horizontale supérieur) empêche une plante de pousser. Celle-ci a ses racines, ses cotylédons, mais ne donne aucune tige. Tout en bas, une bouche exprime cette difficulté. PI était primitivement l'"obstacle" et le bouche, ajoutée postérieurement à l'idéogramme, évoque l'idée de "négation", de refus.
A14: 888878 | B14: TONG REN | C14: 13 | D14: s'entendre avec tous | F14: TONG est un récipient sur lequel s'adapte étroitement le couvercle : idée de "concordance", de choses faites l'une pour l'autre. Jen est l'homme. TONG JEN est donc l'ensemble des hommes en parfait accord. TONG JEN est donc l'ensemble des hommes en parfait accord.
A15: 878888 | B15: DA YOU | C15: 14 | D15: Grand realise | F15: DA montre un homme écartant les bras et signifie "grand". You est l'éclipse de lune : une main, symbole d'action, domineun morceau de lune. C'est une allusion à la "puissance" du soleil. DA YOU se traduit pas "grande puissnace".
A16: 777877 | B16: QIAN | C16: 15 | D16: se tenir
A17: 778777 | B17: YU | C17: 16 | D17: s'enthousiasmer
A18: 788778 | B18: SUI | C18: 17 | D18: Suivre
A19: 877887 | B19: GU | C19: 18 | D19: Travail sur le corrompu
A20: 777788 | B20: LIN | C20: 19 | D20: L'approche
A21: 887777 | B21: GUAN | C21: 20 | D21: Le regard
A22: 878778 | B22: SHI HE | C22: 21 | D22: Mordre au travers
A23: 877878 | B23: BI | C23: 22 | D23: La Grace
A24: 877777 | B24: BO | C24: 23 | D24: La séparation
A25: 777778 | B25: FU | C25: 24 | D25: Le retour
A26: 888778 | B26: WU WANG | C26: 25 | D26: L'inattendu
A27: 877888 | B27: DA XU | C27: 26 | D27: Le grand apprivoise
... A65: 878787 | B65: WEI JI | C65: 64 | D65: Avant l'accomplissement

Sheet Mutation
A1: Code | B1: Nom Hex | C1: HEX | D1: Titre
A2: 888888 | B2: QIAN | C2: 1 | D2: Créateur | F2: 666666
A3: 777777 | B3: KUN | C3: 2 | D3: Receptif | F3: 999999
A4: 787778 | B4: ZHUN | C4: 3 | D4: Difficulté initiale
A5: 877787 | B5: MENG | C5: 4 | D5: Le jeune fou
A6: 787888 | B6: XU | C6: 5 | D6: L'attente
A7: 888787 | B7: SONG | C7: 6 | D7: Le conflit
A8: 777787 | B8: SHI | C8: 7 | D8: l'armée
A9: 787777 | B9: BI | C9: 8 | D9: L'union
A10: 887888 | B10: XIAO XU | C10: 9 | D10: Le petit Apprivoise
A11: 888788 | B11: LU | C11: 10 | D11: La marche
A12: 777888 | B12: TAI | C12: 11 | D12: Prosperite
A13: 888777 | B13: PI | C13: 12 | D13: Adversite
A14: 888878 | B14: TONG REN | C14: 13 | D14: s'entendre avec tous
A15: 878888 | B15: DA YOU | C15: 14 | D15: Grand realise
... A65: 878787 | B65: WEI JI | C65: 64 | D65: Avant l'accomplissement

Sheet Oppose
A1: Code | B1: Opposé | C1: Retoune | D1: Hex Opposé | E1: HexRetourne | F1: Nom Hex
A2: 888888 | B2: 777777 | C2: 888888 | D2: 2 | E2: 1 | F2: QIAN
A3: 777777 | B3: 888888 | C3: 777777 | D3: 1 | E3: 2 | F3: KUN
A4: 787778 | B4: 878887 | C4: 877787 | D4: 50 | E4: 4 | F4: ZHUN
A5: 877787 | B5: 788878 | C5: 787778 | D5: 49 | E5: 3 | F5: MENG
A6: 787888 | B6: 878777 | C6: {=_xlfn.LET(_xlpm.a, A6, _xlpm.n, LEN(_xlpm.a), _xlpm.s, _xlfn.SEQUENCE(_xlpm.n, , _xlpm.n, -1), _xlfn.TEXTJOIN("", , MID(_xlpm.a, _xlpm.s, 1)))} -> 888787 | D6: 35 | E6: 6 | F6: XU
A7: 888787 | B7: 777878 | C7: {=_xlfn.LET(_xlpm.a, A7, _xlpm.n, LEN(_xlpm.a), _xlpm.s, _xlfn.SEQUENCE(_xlpm.n, , _xlpm.n, -1), _xlfn.TEXTJOIN("", , MID(_xlpm.a, _xlpm.s, 1)))} -> 787888 | D7: 36 | E7: 5 | F7: SONG
A8: 777787 | B8: 888878 | C8: {=_xlfn.LET(_xlpm.a, A8, _xlpm.n, LEN(_xlpm.a), _xlpm.s, _xlfn.SEQUENCE(_xlpm.n, , _xlpm.n, -1), _xlfn.TEXTJOIN("", , MID(_xlpm.a, _xlpm.s, 1)))} -> 787777 | D8: 13 | E8: 8 | F8: SHI
A9: 787777 | B9: 878888 | C9: {=_xlfn.LET(_xlpm.a, A9, _xlpm.n, LEN(_xlpm.a), _xlpm.s, _xlfn.SEQUENCE(_xlpm.n, , _xlpm.n, -1), _xlfn.TEXTJOIN("", , MID(_xlpm.a, _xlpm.s, 1)))} -> 777787 | D9: 14 | E9: 7 | F9: BI
A10: 887888 | B10: 778777 | C10: {=_xlfn.LET(_xlpm.a, A10, _xlpm.n, LEN(_xlpm.a), _xlpm.s, _xlfn.SEQUENCE(_xlpm.n, , _xlpm.n, -1), _xlfn.TEXTJOIN("", , MID(_xlpm.a, _xlpm.s, 1)))} -> 888788 | D10: 16 | E10: 10 | F10: XIAO XU
A11: 888788 | B11: 777877 | C11: {=_xlfn.LET(_xlpm.a, A11, _xlpm.n, LEN(_xlpm.a), _xlpm.s, _xlfn.SEQUENCE(_xlpm.n, , _xlpm.n, -1), _xlfn.TEXTJOIN("", , MID(_xlpm.a, _xlpm.s, 1)))} -> 887888 | D11: 15 | E11: 9 | F11: LU
A12: 777888 | B12: 888777 | C12: {=_xlfn.LET(_xlpm.a, A12, _xlpm.n, LEN(_xlpm.a), _xlpm.s, _xlfn.SEQUENCE(_xlpm.n, , _xlpm.n, -1), _xlfn.TEXTJOIN("", , MID(_xlpm.a, _xlpm.s, 1)))} -> 888777 | D12: 12 | E12: 12 | F12: TAI
A13: 888777 | B13: 777888 | C13: {=_xlfn.LET(_xlpm.a, A13, _xlpm.n, LEN(_xlpm.a), _xlpm.s, _xlfn.SEQUENCE(_xlpm.n, , _xlpm.n, -1), _xlfn.TEXTJOIN("", , MID(_xlpm.a, _xlpm.s, 1)))} -> 777888 | D13: 11 | E13: 11 | F13: PI
A14: 888878 | B14: 777787 | C14: {=_xlfn.LET(_xlpm.a, A14, _xlpm.n, LEN(_xlpm.a), _xlpm.s, _xlfn.SEQUENCE(_xlpm.n, , _xlpm.n, -1), _xlfn.TEXTJOIN("", , MID(_xlpm.a, _xlpm.s, 1)))} -> 878888 | D14: 7 | E14: 14 | F14: TONG REN
A15: 878888 | B15: 787777 | C15: {=_xlfn.LET(_xlpm.a, A15, _xlpm.n, LEN(_xlpm.a), _xlpm.s, _xlfn.SEQUENCE(_xlpm.n, , _xlpm.n, -1), _xlfn.TEXTJOIN("", , MID(_xlpm.a, _xlpm.s, 1)))} -> 888878 | D15: 8 | E15: 13 | F15: DA YOU
A16: 777877 | B16: 888788 | C16: {=_xlfn.LET(_xlpm.a, A16, _xlpm.n, LEN(_xlpm.a), _xlpm.s, _xlfn.SEQUENCE(_xlpm.n, , _xlpm.n, -1), _xlfn.TEXTJOIN("", , MID(_xlpm.a, _xlpm.s, 1)))} -> 778777 | D16: 10 | E16: 16 | F16: QIAN
A17: 778777 | B17: 887888 | C17: {=_xlfn.LET(_xlpm.a, A17, _xlpm.n, LEN(_xlpm.a), _xlpm.s, _xlfn.SEQUENCE(_xlpm.n, , _xlpm.n, -1), _xlfn.TEXTJOIN("", , MID(_xlpm.a, _xlpm.s, 1)))} -> 777877 | D17: 9 | E17: 15 | F17: YU
... A65: 878787 | B65: 787878 | C65: {=_xlfn.LET(_xlpm.a, A65, _xlpm.n, LEN(_xlpm.a), _xlpm.s, _xlfn.SEQUENCE(_xlpm.n, , _xlpm.n, -1), _xlfn.TEXTJOIN("", , MID(_xlpm.a, _xlpm.s, 1)))} -> 787878 | D65: 63 | E65: 63 | F65: WEI JI

Sheet DeuxRoues
A1: 1er Plan | E1: 2eme Plan | I1: 3eme Plan
A2: CONFRONTER LA SITUATION | E2: INTEGRER LA SITUATION | I2: CONFRONTER LA SITUATION
A3: Haut | B3: Milieu | C3: Bas | E3: Milieu | F3: Haut | G3: Bas | I3: Bas | J3: Haut | K3: Milieu
A4: 1 | B4: 10 | C4: 45 | E4: 1 | F4: 9 | G4: 12 | I4: 1 | J4: 20 | K4: 11
A5: 2 | B5: 24 | C5: 34 | E5: 2 | F5: 23 | G5: 11 | I5: 2 | J5: 26 | K5: 12
A6: 3 | B6: 55 | C6: 38 | E6: 3 | F6: 7 | G6: 55 | I6: 3 | J6: 38 | K6: 47
A7: 4 | B7: 8 | C7: 36 | E7: 4 | F7: 56 | G7: 48 | I7: 4 | J7: 49 | K7: 56
A8: 5 | B8: 13 | C8: 35 | E8: 5 | F8: 59 | G8: 13 | I8: 5 | J8: 35 | K8: 7
A9: 6 | B9: 60 | C9: 49 | E9: 6 | F9: 14 | G9: 8 | I9: 6 | J9: 37 | K9: 14
A10: 7 | B10: 3 | C10: 55 | E10: 7 | F10: 35 | G10: 5 | I10: 7 | J10: 22 | K10: 35
A11: 8 | B11: 36 | C11: 14 | E11: 8 | F11: 4 | G11: 36 | I11: 8 | J11: 14 | K11: 6
A12: 9 | B12: 1 | C12: 12 | E12: 9 | F12: 57 | G12: 33 | I12: 9 | J12: 16 | K12: 46
A13: 10 | B13: 58 | C13: 17 | E13: 10 | F13: 1 | G13: 45 | I13: 10 | J13: 42 | K13: 34
A14: 11 | B14: 25 | C14: 16 | E14: 11 | F14: 20 | G14: 1 | I14: 11 | J14: 23 | K14: 2
A15: 12 | B15: 19 | C15: 43 | E15: 12 | F15: 26 | G15: 2 | I15: 12 | J15: 9 | K15: 1
... A67: 64 | B67: 29 | C67: 63 | E67: 64 | F67: 30 | G67: 29 | I67: 64 | J67: 63 | K67: 30
