Workbook

Sheet SUIVI DES STOCKS
A1: MOIS | B1: NOM | C1: TYPE MATERIEL | D1: DESIGNATION | E1: SORTIE DE STOCK | F1: ENTREE EN STOCK | G1: ATELIER | H1: ETAT DU STOCK | I1: SEUIL D'ALERTE
A2: JANVIER | C2: PEINTURE | E2: 10 | H2: =IFERROR(VLOOKUP('SUIVI DES STOCKS'!D2,'ETAT DES STOCKS'!C:J,8,FALSE),"KO") -> KO | I2: =IFERROR(VLOOKUP('SUIVI DES STOCKS'!D2,'ETAT DES STOCKS'!C:K,9,FALSE),"")
A3: JANVIER | C3: ELECT CFA | F3: 2 | H3: =IFERROR(VLOOKUP('SUIVI DES STOCKS'!D3,'ETAT DES STOCKS'!C:J,8,FALSE),"KO") -> KO | I3: =IFERROR(VLOOKUP('SUIVI DES STOCKS'!D3,'ETAT DES STOCKS'!C:K,9,FALSE),"")
A4: JANVIER | C4: PEINTURE | F4: 15 | H4: =IFERROR(VLOOKUP('SUIVI DES STOCKS'!D4,'ETAT DES STOCKS'!C:J,8,FALSE),"KO") -> KO | I4: =IFERROR(VLOOKUP('SUIVI DES STOCKS'!D4,'ETAT DES STOCKS'!C:K,9,FALSE),"")
C5: CANONS SERRURES | H5: =IFERROR(VLOOKUP('SUIVI DES STOCKS'!D5,'ETAT DES STOCKS'!C:J,8,FALSE),"KO") -> KO | I5: =IFERROR(VLOOKUP('SUIVI DES STOCKS'!D5,'ETAT DES STOCKS'!C:K,9,FALSE),"")
H6: =IFERROR(VLOOKUP('SUIVI DES STOCKS'!D6,'ETAT DES STOCKS'!C:J,8,FALSE),"KO") -> KO | I6: =IFERROR(VLOOKUP('SUIVI DES STOCKS'!D6,'ETAT DES STOCKS'!C:K,9,FALSE),"")
H7: =IFERROR(VLOOKUP('SUIVI DES STOCKS'!D7,'ETAT DES STOCKS'!C:J,8,FALSE),"KO") -> KO | I7: =IFERROR(VLOOKUP('SUIVI DES STOCKS'!D7,'ETAT DES STOCKS'!C:K,9,FALSE),"")
H8: =IFERROR(VLOOKUP('SUIVI DES STOCKS'!D8,'ETAT DES STOCKS'!C:J,8,FALSE),"KO") -> KO | I8: =IFERROR(VLOOKUP('SUIVI DES STOCKS'!D8,'ETAT DES STOCKS'!C:K,9,FALSE),"")
H9: =IFERROR(VLOOKUP('SUIVI DES STOCKS'!D9,'ETAT DES STOCKS'!C:J,8,FALSE),"KO") -> KO | I9: =IFERROR(VLOOKUP('SUIVI DES STOCKS'!D9,'ETAT DES STOCKS'!C:K,9,FALSE),"")
H10: =IFERROR(VLOOKUP('SUIVI DES STOCKS'!D10,'ETAT DES STOCKS'!C:J,8,FALSE),"KO") -> KO | I10: =IFERROR(VLOOKUP('SUIVI DES STOCKS'!D10,'ETAT DES STOCKS'!C:K,9,FALSE),"")
H11: =IFERROR(VLOOKUP('SUIVI DES STOCKS'!D11,'ETAT DES STOCKS'!C:J,8,FALSE),"KO") -> KO | I11: =IFERROR(VLOOKUP('SUIVI DES STOCKS'!D11,'ETAT DES STOCKS'!C:K,9,FALSE),"")
H12: =IFERROR(VLOOKUP('SUIVI DES STOCKS'!D12,'ETAT DES STOCKS'!C:J,8,FALSE),"KO") -> KO | I12: =IFERROR(VLOOKUP('SUIVI DES STOCKS'!D12,'ETAT DES STOCKS'!C:K,9,FALSE),"")
H13: =IFERROR(VLOOKUP('SUIVI DES STOCKS'!D13,'ETAT DES STOCKS'!C:J,8,FALSE),"KO") -> KO | I13: =IFERROR(VLOOKUP('SUIVI DES STOCKS'!D13,'ETAT DES STOCKS'!C:K,9,FALSE),"")
H14: =IFERROR(VLOOKUP('SUIVI DES STOCKS'!D14,'ETAT DES STOCKS'!C:J,8,FALSE),"KO") -> KO | I14: =IFERROR(VLOOKUP('SUIVI DES STOCKS'!D14,'ETAT DES STOCKS'!C:K,9,FALSE),"")
H15: =IFERROR(VLOOKUP('SUIVI DES STOCKS'!D15,'ETAT DES STOCKS'!C:J,8,FALSE),"KO") -> KO | I15: =IFERROR(VLOOKUP('SUIVI DES STOCKS'!D15,'ETAT DES STOCKS'!C:K,9,FALSE),"")
H16: =IFERROR(VLOOKUP('SUIVI DES STOCKS'!D16,'ETAT DES STOCKS'!C:J,8,FALSE),"KO") -> KO | I16: =IFERROR(VLOOKUP('SUIVI DES STOCKS'!D16,'ETAT DES STOCKS'!C:K,9,FALSE),"")
H17: =IFERROR(VLOOKUP('SUIVI DES STOCKS'!D17,'ETAT DES STOCKS'!C:J,8,FALSE),"KO") -> KO | I17: =IFERROR(VLOOKUP('SUIVI DES STOCKS'!D17,'ETAT DES STOCKS'!C:K,9,FALSE),"")
... H20: =IFERROR(VLOOKUP('SUIVI DES STOCKS'!D20,'ETAT DES STOCKS'!C:J,8,FALSE),"KO") -> KO | I20: =IFERROR(VLOOKUP('SUIVI DES STOCKS'!D20,'ETAT DES STOCKS'!C:K,9,FALSE),"")
C131: CANONS SERRURES | D131: Cartouche Douche P5005 | F131: 2 | H131: =IFERROR(VLOOKUP('SUIVI DES STOCKS'!D131,'ETAT DES STOCKS'!C:J,8,FALSE),"KO") -> 21 | I131: =IFERROR(VLOOKUP('SUIVI DES STOCKS'!D131,'ETAT DES STOCKS'!C:K,9,FALSE),"") -> 0
A132: JANVIER | C132: PEINTURE | D132: Colle de fixation | F132: 15 | H132: =IFERROR(VLOOKUP('SUIVI DES STOCKS'!D132,'ETAT DES STOCKS'!C:J,8,FALSE),"KO") -> 55 | I132: =IFERROR(VLOOKUP('SUIVI DES STOCKS'!D132,'ETAT DES STOCKS'!C:K,9,FALSE),"") -> 40
C133: CANONS SERRURES | H133: =IFERROR(VLOOKUP('SUIVI DES STOCKS'!D133,'ETAT DES STOCKS'!C:J,8,FALSE),"KO") -> KO | I133: =IFERROR(VLOOKUP('SUIVI DES STOCKS'!D133,'ETAT DES STOCKS'!C:K,9,FALSE),"")
H134: =IFERROR(VLOOKUP('SUIVI DES STOCKS'!D134,'ETAT DES STOCKS'!C:J,8,FALSE),"KO") -> KO | I134: =IFERROR(VLOOKUP('SUIVI DES STOCKS'!D134,'ETAT DES STOCKS'!C:K,9,FALSE),"")
H135: =IFERROR(VLOOKUP('SUIVI DES STOCKS'!D135,'ETAT DES STOCKS'!C:J,8,FALSE),"KO") -> KO | I135: =IFERROR(VLOOKUP('SUIVI DES STOCKS'!D135,'ETAT DES STOCKS'!C:K,9,FALSE),"")
H136: =IFERROR(VLOOKUP('SUIVI DES STOCKS'!D136,'ETAT DES STOCKS'!C:J,8,FALSE),"KO") -> KO | I136: =IFERROR(VLOOKUP('SUIVI DES STOCKS'!D136,'ETAT DES STOCKS'!C:K,9,FALSE),"")
H137: =IFERROR(VLOOKUP('SUIVI DES STOCKS'!D137,'ETAT DES STOCKS'!C:J,8,FALSE),"KO") -> KO | I137: =IFERROR(VLOOKUP('SUIVI DES STOCKS'!D137,'ETAT DES STOCKS'!C:K,9,FALSE),"")
H138: =IFERROR(VLOOKUP('SUIVI DES STOCKS'!D138,'ETAT DES STOCKS'!C:J,8,FALSE),"KO") -> KO | I138: =IFERROR(VLOOKUP('SUIVI DES STOCKS'!D138,'ETAT DES STOCKS'!C:K,9,FALSE),"")
H139: =IFERROR(VLOOKUP('SUIVI DES STOCKS'!D139,'ETAT DES STOCKS'!C:J,8,FALSE),"KO") -> KO | I139: =IFERROR(VLOOKUP('SUIVI DES STOCKS'!D139,'ETAT DES STOCKS'!C:K,9,FALSE),"")
H140: =IFERROR(VLOOKUP('SUIVI DES STOCKS'!D140,'ETAT DES STOCKS'!C:J,8,FALSE),"KO") -> KO | I140: =IFERROR(VLOOKUP('SUIVI DES STOCKS'!D140,'ETAT DES STOCKS'!C:K,9,FALSE),"")
H141: =IFERROR(VLOOKUP('SUIVI DES STOCKS'!D141,'ETAT DES STOCKS'!C:J,8,FALSE),"KO") -> KO | I141: =IFERROR(VLOOKUP('SUIVI DES STOCKS'!D141,'ETAT DES STOCKS'!C:K,9,FALSE),"")
H142: =IFERROR(VLOOKUP('SUIVI DES STOCKS'!D142,'ETAT DES STOCKS'!C:J,8,FALSE),"KO") -> KO | I142: =IFERROR(VLOOKUP('SUIVI DES STOCKS'!D142,'ETAT DES STOCKS'!C:K,9,FALSE),"")
H143: =IFERROR(VLOOKUP('SUIVI DES STOCKS'!D143,'ETAT DES STOCKS'!C:J,8,FALSE),"KO") -> KO | I143: =IFERROR(VLOOKUP('SUIVI DES STOCKS'!D143,'ETAT DES STOCKS'!C:K,9,FALSE),"")
H144: =IFERROR(VLOOKUP('SUIVI DES STOCKS'!D144,'ETAT DES STOCKS'!C:J,8,FALSE),"KO") -> KO | I144: =IFERROR(VLOOKUP('SUIVI DES STOCKS'!D144,'ETAT DES STOCKS'!C:K,9,FALSE),"")
H145: =IFERROR(VLOOKUP('SUIVI DES STOCKS'!D145,'ETAT DES STOCKS'!C:J,8,FALSE),"KO") -> KO | I145: =IFERROR(VLOOKUP('SUIVI DES STOCKS'!D145,'ETAT DES STOCKS'!C:K,9,FALSE),"")
... H148: =IFERROR(VLOOKUP('SUIVI DES STOCKS'!D148,'ETAT DES STOCKS'!C:J,8,FALSE),"KO") -> KO | I148: =IFERROR(VLOOKUP('SUIVI DES STOCKS'!D148,'ETAT DES STOCKS'!C:K,9,FALSE),"")

Sheet ETAT DES STOCKS
A1: TYPE DE MATERIEL | B1: N° Enreg. | C1: DESIGNATION ARTICLE | D1: REFERENCE | E1: EMPLACEMENT STOCK | F1: FOURNISSEUR | G1: QUANTITE STOCK INITIAL | H1: SORTIE DE STOCK | I1: ENTREE EN STOCK | J1: SOLDE STOCK | K1: SEUIL D'ALERTE | L1: STOCK MAXI
A2: PEINTURE | C2: Colle de fixation | E2: A11 | G2: 40 | H2: =(SUMIF('SUIVI DES STOCKS'!D:D,'ETAT DES STOCKS'!C2,'SUIVI DES STOCKS'!E:E)) -> 0 | I2: =SUMIF('SUIVI DES STOCKS'!D:D,'ETAT DES STOCKS'!C2,'SUIVI DES STOCKS'!F:F) -> 15 | J2: =G2-H2+I2 -> 55 | K2: 40 | L2: 50
A3: PEINTURE | C3: Scellement Chimique | D3: 594 432 | E3: A12 | G3: 10 | H3: =(SUMIF('SUIVI DES STOCKS'!D:D,'ETAT DES STOCKS'!C3,'SUIVI DES STOCKS'!E:E)) -> 0 | I3: =SUMIF('SUIVI DES STOCKS'!D:D,'ETAT DES STOCKS'!C3,'SUIVI DES STOCKS'!F:F) -> 0 | J3: =G3-H3+I3 -> 10 | K3: 10
A4: PEINTURE | C4: Mastic Acrylique Blanc | D4: 610806 | E4: A13 | H4: =(SUMIF('SUIVI DES STOCKS'!D:D,'ETAT DES STOCKS'!C4,'SUIVI DES STOCKS'!E:E)) -> 0 | I4: =SUMIF('SUIVI DES STOCKS'!D:D,'ETAT DES STOCKS'!C4,'SUIVI DES STOCKS'!F:F) -> 0 | J4: =G4-H4+I4 -> 0 | K4: 10
A5: PEINTURE | C5: Colle décoration | D5: 660457 | E5: A14 | F5: Legalais | G5: 4 | H5: =(SUMIF('SUIVI DES STOCKS'!D:D,'ETAT DES STOCKS'!C5,'SUIVI DES STOCKS'!E:E)) -> 0 | I5: =SUMIF('SUIVI DES STOCKS'!D:D,'ETAT DES STOCKS'!C5,'SUIVI DES STOCKS'!F:F) -> 0 | J5: =G5-H5+I5 -> 4
A6: PEINTURE | C6: Scellement Chimique | D6: 573210 | E6: A15 | F6: Legalais | G6: 2 | H6: =(SUMIF('SUIVI DES STOCKS'!D:D,'ETAT DES STOCKS'!C6,'SUIVI DES STOCKS'!E:E)) -> 0 | I6: =SUMIF('SUIVI DES STOCKS'!D:D,'ETAT DES STOCKS'!C6,'SUIVI DES STOCKS'!F:F) -> 0 | J6: =G6-H6+I6 -> 2
A7: PEINTURE | C7: Silicone Neutre Blanc lavabo | D7: 453720 | E7: A16 | F7: Legalais | G7: 1 | H7: =(SUMIF('SUIVI DES STOCKS'!D:D,'ETAT DES STOCKS'!C7,'SUIVI DES STOCKS'!E:E)) -> 0 | I7: =SUMIF('SUIVI DES STOCKS'!D:D,'ETAT DES STOCKS'!C7,'SUIVI DES STOCKS'!F:F) -> 0 | J7: =G7-H7+I7 -> 1
A8: PEINTURE | C8: Mastic Acrylique spéciale peinture | D8: RX-422 | E8: A16 bis | F8: Raixens | G8: 14 | H8: =(SUMIF('SUIVI DES STOCKS'!D:D,'ETAT DES STOCKS'!C8,'SUIVI DES STOCKS'!E:E)) -> 0 | I8: =SUMIF('SUIVI DES STOCKS'!D:D,'ETAT DES STOCKS'!C8,'SUIVI DES STOCKS'!F:F) -> 0 | J8: =G8-H8+I8 -> 14
A9: PEINTURE | C9: SA Silicone Sanitaire | D9: Sa Silicone | E9: A17 | F9: Rubson | G9: 17 | H9: =(SUMIF('SUIVI DES STOCKS'!D:D,'ETAT DES STOCKS'!C9,'SUIVI DES STOCKS'!E:E)) -> 0 | I9: =SUMIF('SUIVI DES STOCKS'!D:D,'ETAT DES STOCKS'!C9,'SUIVI DES STOCKS'!F:F) -> 0 | J9: =G9-H9+I9 -> 17
A10: PEINTURE | C10: Silirub Al2T | D10: Al2T | E10: A18 | F10: Soudal | G10: 12 | H10: =(SUMIF('SUIVI DES STOCKS'!D:D,'ETAT DES STOCKS'!C10,'SUIVI DES STOCKS'!E:E)) -> 0 | I10: =SUMIF('SUIVI DES STOCKS'!D:D,'ETAT DES STOCKS'!C10,'SUIVI DES STOCKS'!F:F) -> 0 | J10: =G10-H10+I10 -> 12
A11: PEINTURE | C11: Manchon a Clip | D11: 67699 | E11: A19 | F11: Legalais | G11: 17 | H11: =(SUMIF('SUIVI DES STOCKS'!D:D,'ETAT DES STOCKS'!C11,'SUIVI DES STOCKS'!E:E)) -> 0 | I11: =SUMIF('SUIVI DES STOCKS'!D:D,'ETAT DES STOCKS'!C11,'SUIVI DES STOCKS'!F:F) -> 0 | J11: =G11-H11+I11 -> 17
A12: PEINTURE | C12: Eponge | E12: A20 | F12: Rozenbal | G12: 4 | H12: =(SUMIF('SUIVI DES STOCKS'!D:D,'ETAT DES STOCKS'!C12,'SUIVI DES STOCKS'!E:E)) -> 0 | I12: =SUMIF('SUIVI DES STOCKS'!D:D,'ETAT DES STOCKS'!C12,'SUIVI DES STOCKS'!F:F) -> 0 | J12: =G12-H12+I12 -> 4
A13: PEINTURE | C13: Rouleau Patte a lapin | D13: 4937 | E13: A21 | H13: =(SUMIF('SUIVI DES STOCKS'!D:D,'ETAT DES STOCKS'!C13,'SUIVI DES STOCKS'!E:E)) -> 0 | I13: =SUMIF('SUIVI DES STOCKS'!D:D,'ETAT DES STOCKS'!C13,'SUIVI DES STOCKS'!F:F) -> 0 | J13: =G13-H13+I13 -> 0
A14: PEINTURE | C14: Manchon a Clip Anti Goutte supérieur | D14: 607706 | E14: A22 | F14: Legalais | G14: 160 | H14: =(SUMIF('SUIVI DES STOCKS'!D:D,'ETAT DES STOCKS'!C14,'SUIVI DES STOCKS'!E:E)) -> 0 | I14: =SUMIF('SUIVI DES STOCKS'!D:D,'ETAT DES STOCKS'!C14,'SUIVI DES STOCKS'!F:F) -> 0 | J14: =G14-H14+I14 -> 160
A15: PEINTURE | C15: Brosse à Réchampir | D15: 282 095 N°4 | E15: A23 | F15: Legalais | G15: 68 | H15: =(SUMIF('SUIVI DES STOCKS'!D:D,'ETAT DES STOCKS'!C15,'SUIVI DES STOCKS'!E:E)) -> 0 | I15: =SUMIF('SUIVI DES STOCKS'!D:D,'ETAT DES STOCKS'!C15,'SUIVI DES STOCKS'!F:F) -> 0 | J15: =G15-H15+I15 -> 68
A16: PEINTURE | C16: Pinceau | D16: N°6 | E16: A24 | F16: Legalais | G16: 2 | H16: =(SUMIF('SUIVI DES STOCKS'!D:D,'ETAT DES STOCKS'!C16,'SUIVI DES STOCKS'!E:E)) -> 0 | I16: =SUMIF('SUIVI DES STOCKS'!D:D,'ETAT DES STOCKS'!C16,'SUIVI DES STOCKS'!F:F) -> 0 | J16: =G16-H16+I16 -> 2
A17: PEINTURE | C17: Manchon à Clip Antigoutte Supérieur | D17: 607692 | E17: A25 | F17: Legalais | G17: 17 | H17: =(SUMIF('SUIVI DES STOCKS'!D:D,'ETAT DES STOCKS'!C17,'SUIVI DES STOCKS'!E:E)) -> 0 | I17: =SUMIF('SUIVI DES STOCKS'!D:D,'ETAT DES STOCKS'!C17,'SUIVI DES STOCKS'!F:F) -> 0 | J17: =G17-H17+I17 -> 17
A18: PEINTURE | C18: Monture à Clip | D18: 607685 | E18: A26 | F18: Legalais | G18: 23 | H18: =(SUMIF('SUIVI DES STOCKS'!D:D,'ETAT DES STOCKS'!C18,'SUIVI DES STOCKS'!E:E)) -> 0 | I18: =SUMIF('SUIVI DES STOCKS'!D:D,'ETAT DES STOCKS'!C18,'SUIVI DES STOCKS'!F:F) -> 0 | J18: =G18-H18+I18 -> 23
A19: PEINTURE | C19: Rouleau | D19: 67713 | E19: A27 | H19: =(SUMIF('SUIVI DES STOCKS'!D:D,'ETAT DES STOCKS'!C19,'SUIVI DES STOCKS'!E:E)) -> 0 | I19: =SUMIF('SUIVI DES STOCKS'!D:D,'ETAT DES STOCKS'!C19,'SUIVI DES STOCKS'!F:F) -> 0 | J19: =G19-H19+I19 -> 0
A20: PEINTURE | C20: Rouleau Abrasives/ Abrasif | D20: 70 x 125 mm ; 2 3/4 x 5 pouce | E20: A28 | F20: SIA | G20: 28 | H20: =(SUMIF('SUIVI DES STOCKS'!D:D,'ETAT DES STOCKS'!C20,'SUIVI DES STOCKS'!E:E)) -> 0 | I20: =SUMIF('SUIVI DES STOCKS'!D:D,'ETAT DES STOCKS'!C20,'SUIVI DES STOCKS'!F:F) -> 0 | J20: =G20-H20+I20 -> 28
A21: PLOMBERIE | B21: 1 | C21: Tête Interchangeable | D21: 1250 | E21: B1 | F21: Presto | G21: 11 | H21: =(SUMIF('SUIVI DES STOCKS'!D:D,'ETAT DES STOCKS'!C21,'SUIVI DES STOCKS'!E:E)) -> 0 | I21: =SUMIF('SUIVI DES STOCKS'!D:D,'ETAT DES STOCKS'!C21,'SUIVI DES STOCKS'!F:F) -> 0 | J21: =G21-H21+I21 -> 11
A22: PLOMBERIE | B22: 2 | C22: Tête Interchangeable Robinet pedale | D22: 1227 | E22: B2 | F22: Presto | G22: 8 | H22: =(SUMIF('SUIVI DES STOCKS'!D:D,'ETAT DES STOCKS'!C22,'SUIVI DES STOCKS'!E:E)) -> 0 | I22: =SUMIF('SUIVI DES STOCKS'!D:D,'ETAT DES STOCKS'!C22,'SUIVI DES STOCKS'!F:F) -> 0 | J22: =G22-H22+I22 -> 8
A23: PLOMBERIE | B23: 3 | C23: Robinet Applique | D23: 38310 | E23: B3 | F23: Presto | G23: 31 | H23: =(SUMIF('SUIVI DES STOCKS'!D:D,'ETAT DES STOCKS'!C23,'SUIVI DES STOCKS'!E:E)) -> 0 | I23: =SUMIF('SUIVI DES STOCKS'!D:D,'ETAT DES STOCKS'!C23,'SUIVI DES STOCKS'!F:F) -> 0 | J23: =G23-H23+I23 -> 31
A24: PLOMBERIE | B24: 4 | C24: Cartouche Douche P5005 | D24: 1185 | E24: B4 | F24: Presto | G24: 19 | H24: =(SUMIF('SUIVI DES STOCKS'!D:D,'ETAT DES STOCKS'!C24,'SUIVI DES STOCKS'!E:E)) -> 0 | I24: =SUMIF('SUIVI DES STOCKS'!D:D,'ETAT DES STOCKS'!C24,'SUIVI DES STOCKS'!F:F) -> 2 | J24: =G24-H24+I24 -> 21
A25: PLOMBERIE | B25: 5 | C25: Robinet P12 Applique Urinoir | D25: 743003 | E25: B5 | F25: Delabie | G25: 16 | H25: =(SUMIF('SUIVI DES STOCKS'!D:D,'ETAT DES STOCKS'!C25,'SUIVI DES STOCKS'!E:E)) -> 0 | I25: =SUMIF('SUIVI DES STOCKS'!D:D,'ETAT DES STOCKS'!C25,'SUIVI DES STOCKS'!F:F) -> 0 | J25: =G25-H25+I25 -> 16
A26: PLOMBERIE | B26: 6 | C26: Robinet Applique -9 1/mn - reglable; - 6 Sec plus moins 2 Sec. Urinoir | D26: 31003 | E26: B5 | F26: Presto | G26: 8 | H26: =(SUMIF('SUIVI DES STOCKS'!D:D,'ETAT DES STOCKS'!C26,'SUIVI DES STOCKS'!E:E)) -> 0 | I26: =SUMIF('SUIVI DES STOCKS'!D:D,'ETAT DES STOCKS'!C26,'SUIVI DES STOCKS'!F:F) -> 0 | J26: =G26-H26+I26 -> 8
A27: PLOMBERIE | B27: 7 | C27: Presto Urinoir TC | D27: 3112 | E27: B6 | F27: Presto | G27: 7 | H27: =(SUMIF('SUIVI DES STOCKS'!D:D,'ETAT DES STOCKS'!C27,'SUIVI DES STOCKS'!E:E)) -> 0 | I27: =SUMIF('SUIVI DES STOCKS'!D:D,'ETAT DES STOCKS'!C27,'SUIVI DES STOCKS'!F:F) -> 0 | J27: =G27-H27+I27 -> 7
A28: PLOMBERIE | B28: 8 | C28: Poigné Manœuvre | D28: 94522.80.2 | E28: B7 | F28: Lorans | G28: 4 | H28: =(SUMIF('SUIVI DES STOCKS'!D:D,'ETAT DES STOCKS'!C28,'SUIVI DES STOCKS'!E:E)) -> 0 | I28: =SUMIF('SUIVI DES STOCKS'!D:D,'ETAT DES STOCKS'!C28,'SUIVI DES STOCKS'!F:F) -> 0 | J28: =G28-H28+I28 -> 4
A29: PLOMBERIE | B29: 9 | C29: Tête Interchangeable | D29: 1027 | E29: B8 | F29: Presto | G29: 30 | H29: =(SUMIF('SUIVI DES STOCKS'!D:D,'ETAT DES STOCKS'!C29,'SUIVI DES STOCKS'!E:E)) -> 0 | I29: =SUMIF('SUIVI DES STOCKS'!D:D,'ETAT DES STOCKS'!C29,'SUIVI DES STOCKS'!F:F) -> 0 | J29: =G29-H29+I29 -> 30
A30: PLOMBERIE | B30: 10 | C30: Tempo stop 1/2 7 Sec. | D30: 746000 | E30: B9 | F30: Delabie | G30: 27 | H30: =(SUMIF('SUIVI DES STOCKS'!D:D,'ETAT DES STOCKS'!C30,'SUIVI DES STOCKS'!E:E)) -> 0 | I30: =SUMIF('SUIVI DES STOCKS'!D:D,'ETAT DES STOCKS'!C30,'SUIVI DES STOCKS'!F:F) -> 0 | J30: =G30-H30+I30 -> 27
A31: PLOMBERIE | B31: 11 | C31: Tempo stop 15 Sec. | D31: 743310 | E31: B10 | F31: Delabie | G31: 0 | H31: =(SUMIF('SUIVI DES STOCKS'!D:D,'ETAT DES STOCKS'!C31,'SUIVI DES STOCKS'!E:E)) -> 0 | I31: =SUMIF('SUIVI DES STOCKS'!D:D,'ETAT DES STOCKS'!C31,'SUIVI DES STOCKS'!F:F) -> 0 | J31: =G31-H31+I31 -> 0
A32: PLOMBERIE | B32: 12 | C32: Tempo stop 30 Sec. | D32: 743642 | E32: B11 | F32: Delabie | G32: 59 | H32: =(SUMIF('SUIVI DES STOCKS'!D:D,'ETAT DES STOCKS'!C32,'SUIVI DES STOCKS'!E:E)) -> 0 | I32: =SUMIF('SUIVI DES STOCKS'!D:D,'ETAT DES STOCKS'!C32,'SUIVI DES STOCKS'!F:F) -> 0 | J32: =G32-H32+I32 -> 59
A33: PLOMBERIE | B33: 13 | C33: Tempo Flux WC | D33: 743763 | E33: B12 | F33: Delabie | G33: 44 | H33: =(SUMIF('SUIVI DES STOCKS'!D:D,'ETAT DES STOCKS'!C33,'SUIVI DES STOCKS'!E:E)) -> 0 | I33: =SUMIF('SUIVI DES STOCKS'!D:D,'ETAT DES STOCKS'!C33,'SUIVI DES STOCKS'!F:F) -> 0 | J33: =G33-H33+I33 -> 44
A34: PLOMBERIE | B34: 14 | C34: Presto DL 350S Douche Robinet | D34: 27200 | E34: B13 | F34: Presto | G34: 2 | H34: =(SUMIF('SUIVI DES STOCKS'!D:D,'ETAT DES STOCKS'!C34,'SUIVI DES STOCKS'!E:E)) -> 0 | I34: =SUMIF('SUIVI DES STOCKS'!D:D,'ETAT DES STOCKS'!C34,'SUIVI DES STOCKS'!F:F) -> 0 | J34: =G34-H34+I34 -> 2
A35: PLOMBERIE | B35: 15 | C35: Chasse Robinet | D35: 14109 | E35: B14 | F35: Presto | G35: 4 | H35: =(SUMIF('SUIVI DES STOCKS'!D:D,'ETAT DES STOCKS'!C35,'SUIVI DES STOCKS'!E:E)) -> 0 | I35: =SUMIF('SUIVI DES STOCKS'!D:D,'ETAT DES STOCKS'!C35,'SUIVI DES STOCKS'!F:F) -> 0 | J35: =G35-H35+I35 -> 4
A36: PLOMBERIE | B36: 16 | C36: Tête Interchangeable Douche | D36: 1020 | E36: B14 | F36: Presto | G36: 4 | H36: =(SUMIF('SUIVI DES STOCKS'!D:D,'ETAT DES STOCKS'!C36,'SUIVI DES STOCKS'!E:E)) -> 0 | I36: =SUMIF('SUIVI DES STOCKS'!D:D,'ETAT DES STOCKS'!C36,'SUIVI DES STOCKS'!F:F) -> 0 | J36: =G36-H36+I36 -> 4
A37: PLOMBERIE | B37: 17 | C37: Mitigeur | D37: 29002 | E37: B14 | F37: Presto | G37: 0 | H37: =(SUMIF('SUIVI DES STOCKS'!D:D,'ETAT DES STOCKS'!C37,'SUIVI DES STOCKS'!E:E)) -> 0 | I37: =SUMIF('SUIVI DES STOCKS'!D:D,'ETAT DES STOCKS'!C37,'SUIVI DES STOCKS'!F:F) -> 0 | J37: =G37-H37+I37 -> 0
A38: PLOMBERIE | B38: 18 | C38: Presto | D38: 41010 | E38: B14 | F38: Presto | G38: 0 | H38: =(SUMIF('SUIVI DES STOCKS'!D:D,'ETAT DES STOCKS'!C38,'SUIVI DES STOCKS'!E:E)) -> 0 | I38: =SUMIF('SUIVI DES STOCKS'!D:D,'ETAT DES STOCKS'!C38,'SUIVI DES STOCKS'!F:F) -> 0 | J38: =G38-H38+I38 -> 0
A39: PLOMBERIE | B39: 19 | C39: Presto | D39: 13070 | E39: B14 | F39: Presto | G39: 0 | H39: =(SUMIF('SUIVI DES STOCKS'!D:D,'ETAT DES STOCKS'!C39,'SUIVI DES STOCKS'!E:E)) -> 0 | I39: =SUMIF('SUIVI DES STOCKS'!D:D,'ETAT DES STOCKS'!C39,'SUIVI DES STOCKS'!F:F) -> 0 | J39: =G39-H39+I39 -> 0
A40: PLOMBERIE | B40: 20 | C40: Mitigeur | D40: 29007 | E40: B14 | F40: Presto | G40: 1 | H40: =(SUMIF('SUIVI DES STOCKS'!D:D,'ETAT DES STOCKS'!C40,'SUIVI DES STOCKS'!E:E)) -> 0 | I40: =SUMIF('SUIVI DES STOCKS'!D:D,'ETAT DES STOCKS'!C40,'SUIVI DES STOCKS'!F:F) -> 0 | J40: =G40-H40+I40 -> 1
... A47: PLOMBERIE | B47: 27 | C47: Premix Compact | D47: 733020 | E47: B18 | F47: Delabie | G47: 16 | H47: =(SUMIF('SUIVI DES STOCKS'!D:D,'ETAT DES STOCKS'!C47,'SUIVI DES STOCKS'!E:E)) -> 0 | I47: =SUMIF('SUIVI DES STOCKS'!D:D,'ETAT DES STOCKS'!C47,'SUIVI DES STOCKS'!F:F) -> 0 | J47: =G47-H47+I47 -> 16
A48: PLOMBERIE | B48: 28 | C48: Flexible Extensible Siphon RECM 32 | D48: Recm | E48: C1 | H48: =(SUMIF('SUIVI DES STOCKS'!D:D,'ETAT DES STOCKS'!C48,'SUIVI DES STOCKS'!E:E)) -> 0 | I48: =SUMIF('SUIVI DES STOCKS'!D:D,'ETAT DES STOCKS'!C48,'SUIVI DES STOCKS'!F:F) -> 0 | J48: =G48-H48+I48 -> 0
A49: PLOMBERIE | B49: 29 | C49: Flex FM 32Ѳ | D49: Flex FM 32 ф | E49: C2 | F49: Nicoll | G49: 12 | H49: =(SUMIF('SUIVI DES STOCKS'!D:D,'ETAT DES STOCKS'!C49,'SUIVI DES STOCKS'!E:E)) -> 0 | I49: =SUMIF('SUIVI DES STOCKS'!D:D,'ETAT DES STOCKS'!C49,'SUIVI DES STOCKS'!F:F) -> 0 | J49: =G49-H49+I49 -> 12
A50: PLOMBERIE | B50: 30 | C50: Coude 90 ф 50 | D50: ф 50 | E50: C3 | F50: Wavin | G50: 27 | H50: =(SUMIF('SUIVI DES STOCKS'!D:D,'ETAT DES STOCKS'!C50,'SUIVI DES STOCKS'!E:E)) -> 0 | I50: =SUMIF('SUIVI DES STOCKS'!D:D,'ETAT DES STOCKS'!C50,'SUIVI DES STOCKS'!F:F) -> 0 | J50: =G50-H50+I50 -> 27
A51: PLOMBERIE | B51: 31 | C51: T Ѳ 50 FF | D51: T ф 50 | E51: C4 | G51: 21 | H51: =(SUMIF('SUIVI DES STOCKS'!D:D,'ETAT DES STOCKS'!C51,'SUIVI DES STOCKS'!E:E)) -> 0 | I51: =SUMIF('SUIVI DES STOCKS'!D:D,'ETAT DES STOCKS'!C51,'SUIVI DES STOCKS'!F:F) -> 0 | J51: =G51-H51+I51 -> 21
A52: PLOMBERIE | B52: 32 | C52: Flexible Extensible Siphon | D52: 300/600 Recm 32 | E52: C5 | F52: PBTUB | G52: 5 | H52: =(SUMIF('SUIVI DES STOCKS'!D:D,'ETAT DES STOCKS'!C52,'SUIVI DES STOCKS'!E:E)) -> 0 | I52: =SUMIF('SUIVI DES STOCKS'!D:D,'ETAT DES STOCKS'!C52,'SUIVI DES STOCKS'!F:F) -> 0 | J52: =G52-H52+I52 -> 5
A53: PLOMBERIE | B53: 33 | C53: paquet Joint Fibre Elastomere | D53: 793911 | E53: C5 | F53: Legalais | G53: 200 | H53: =(SUMIF('SUIVI DES STOCKS'!D:D,'ETAT DES STOCKS'!C53,'SUIVI DES STOCKS'!E:E)) -> 0 | I53: =SUMIF('SUIVI DES STOCKS'!D:D,'ETAT DES STOCKS'!C53,'SUIVI DES STOCKS'!F:F) -> 0 | J53: =G53-H53+I53 -> 200
A54: PLOMBERIE | B54: 34 | C54: Joint Fibre | D54: 17/23 14x20x1,5 | E54: C5 | F54: Sirius | G54: 200 | H54: =(SUMIF('SUIVI DES STOCKS'!D:D,'ETAT DES STOCKS'!C54,'SUIVI DES STOCKS'!E:E)) -> 0 | I54: =SUMIF('SUIVI DES STOCKS'!D:D,'ETAT DES STOCKS'!C54,'SUIVI DES STOCKS'!F:F) -> 0 | J54: =G54-H54+I54 -> 200
A55: PLOMBERIE | B55: 35 | E55: C6 | H55: =(SUMIF('SUIVI DES STOCKS'!D:D,'ETAT DES STOCKS'!C55,'SUIVI DES STOCKS'!E:E)) -> 0 | I55: =SUMIF('SUIVI DES STOCKS'!D:D,'ETAT DES STOCKS'!C55,'SUIVI DES STOCKS'!F:F) -> 0 | J55: =G55-H55+I55 -> 0
A56: PLOMBERIE | B56: 36 | C56: Vidage pour Evier laboratoire | D56: 204580 | E56: C7 | G56: 2 | H56: =(SUMIF('SUIVI DES STOCKS'!D:D,'ETAT DES STOCKS'!C56,'SUIVI DES STOCKS'!E:E)) -> 0 | I56: =SUMIF('SUIVI DES STOCKS'!D:D,'ETAT DES STOCKS'!C56,'SUIVI DES STOCKS'!F:F) -> 0 | J56: =G56-H56+I56 -> 2
A57: PLOMBERIE | B57: 37 | C57: Flexible Extensible pour Siphon | D57: RECM 32 | E57: C8 | F57: PBTUB | G57: 23 | H57: =(SUMIF('SUIVI DES STOCKS'!D:D,'ETAT DES STOCKS'!C57,'SUIVI DES STOCKS'!E:E)) -> 0 | I57: =SUMIF('SUIVI DES STOCKS'!D:D,'ETAT DES STOCKS'!C57,'SUIVI DES STOCKS'!F:F) -> 0 | J57: =G57-H57+I57 -> 23
A58: PLOMBERIE | B58: 38 | C58: Mamelon 1/2 D.M | D58: 712003 | E58: C9 | F58: Legalais? | G58: 10 | H58: =(SUMIF('SUIVI DES STOCKS'!D:D,'ETAT DES STOCKS'!C58,'SUIVI DES STOCKS'!E:E)) -> 0 | I58: =SUMIF('SUIVI DES STOCKS'!D:D,'ETAT DES STOCKS'!C58,'SUIVI DES STOCKS'!F:F) -> 0 | J58: =G58-H58+I58 -> 10
A59: PLOMBERIE | B59: 39 | C59: Mamelon M.M | D59: 28235 | E59: C10 | G59: 0 | H59: =(SUMIF('SUIVI DES STOCKS'!D:D,'ETAT DES STOCKS'!C59,'SUIVI DES STOCKS'!E:E)) -> 0 | I59: =SUMIF('SUIVI DES STOCKS'!D:D,'ETAT DES STOCKS'!C59,'SUIVI DES STOCKS'!F:F) -> 0 | J59: =G59-H59+I59 -> 0
A60: PLOMBERIE | B60: 40 | C60: Mamelon M.M | D60: 266592 | E60: C11 | F60: Viega | G60: 34 | H60: =(SUMIF('SUIVI DES STOCKS'!D:D,'ETAT DES STOCKS'!C60,'SUIVI DES STOCKS'!E:E)) -> 0 | I60: =SUMIF('SUIVI DES STOCKS'!D:D,'ETAT DES STOCKS'!C60,'SUIVI DES STOCKS'!F:F) -> 0 | J60: =G60-H60+I60 -> 34
A61: PLOMBERIE | B61: 41 | C61: Mamelon | D61: 266615 | E61: C11 | F61: Viega | G61: 65 | H61: =(SUMIF('SUIVI DES STOCKS'!D:D,'ETAT DES STOCKS'!C61,'SUIVI DES STOCKS'!E:E)) -> 0 | I61: =SUMIF('SUIVI DES STOCKS'!D:D,'ETAT DES STOCKS'!C61,'SUIVI DES STOCKS'!F:F) -> 0 | J61: =G61-H61+I61 -> 65
A62: PLOMBERIE | B62: 42 | C62: Mamelon 3/4, 1/2 MF FEM red | D62: 712053712064 | E62: C12 | G62: 4 | H62: =(SUMIF('SUIVI DES STOCKS'!D:D,'ETAT DES STOCKS'!C62,'SUIVI DES STOCKS'!E:E)) -> 0 | I62: =SUMIF('SUIVI DES STOCKS'!D:D,'ETAT DES STOCKS'!C62,'SUIVI DES STOCKS'!F:F) -> 0 | J62: =G62-H62+I62 -> 4
A63: PLOMBERIE | B63: 43 | C63: Mamelon | D63: 266608 | E63: C13 | F63: Viega | G63: 23 | H63: =(SUMIF('SUIVI DES STOCKS'!D:D,'ETAT DES STOCKS'!C63,'SUIVI DES STOCKS'!E:E)) -> 0 | I63: =SUMIF('SUIVI DES STOCKS'!D:D,'ETAT DES STOCKS'!C63,'SUIVI DES STOCKS'!F:F) -> 0 | J63: =G63-H63+I63 -> 23
A64: PLOMBERIE | B64: 44 | C64: Mamelon 3/8 | D64: 712002 | E64: C14 | F64: Viega | G64: 8 | H64: =(SUMIF('SUIVI DES STOCKS'!D:D,'ETAT DES STOCKS'!C64,'SUIVI DES STOCKS'!E:E)) -> 0 | I64: =SUMIF('SUIVI DES STOCKS'!D:D,'ETAT DES STOCKS'!C64,'SUIVI DES STOCKS'!F:F) -> 0 | J64: =G64-H64+I64 -> 8
A65: PLOMBERIE | B65: 45 | C65: Mamelon 3/4 1/2 | D65: 712015 | E65: C15 | F65: Viega | G65: 35 | H65: =(SUMIF('SUIVI DES STOCKS'!D:D,'ETAT DES STOCKS'!C65,'SUIVI DES STOCKS'!E:E)) -> 0 | I65: =SUMIF('SUIVI DES STOCKS'!D:D,'ETAT DES STOCKS'!C65,'SUIVI DES STOCKS'!F:F) -> 0 | J65: =G65-H65+I65 -> 35
A66: PLOMBERIE | B66: 46 | C66: Mamelon MF 3/4 - 1/2 | D66: 712053 | E66: C16 | F66: Viega | G66: 32 | H66: =(SUMIF('SUIVI DES STOCKS'!D:D,'ETAT DES STOCKS'!C66,'SUIVI DES STOCKS'!E:E)) -> 0 | I66: =SUMIF('SUIVI DES STOCKS'!D:D,'ETAT DES STOCKS'!C66,'SUIVI DES STOCKS'!F:F) -> 0 | J66: =G66-H66+I66 -> 32
A67: PLOMBERIE | B67: 47 | C67: Mamelon - DM 1'' 3/4 | D67: 712017 | E67: C17 | F67: Viega | G67: 10 | H67: =(SUMIF('SUIVI DES STOCKS'!D:D,'ETAT DES STOCKS'!C67,'SUIVI DES STOCKS'!E:E)) -> 0 | I67: =SUMIF('SUIVI DES STOCKS'!D:D,'ETAT DES STOCKS'!C67,'SUIVI DES STOCKS'!F:F) -> 0 | J67: =G67-H67+I67 -> 10
A68: PLOMBERIE | B68: 48 | C68: Mamelon MF 1/2 | D68: 712026 | E68: C18 | F68: Viega | G68: 30 | H68: =(SUMIF('SUIVI DES STOCKS'!D:D,'ETAT DES STOCKS'!C68,'SUIVI DES STOCKS'!E:E)) -> 0 | I68: =SUMIF('SUIVI DES STOCKS'!D:D,'ETAT DES STOCKS'!C68,'SUIVI DES STOCKS'!F:F) -> 0 | J68: =G68-H68+I68 -> 30
A69: PLOMBERIE | B69: 49 | C69: Mamelon Male 15/21 - 12/17 | E69: C19 | H69: =(SUMIF('SUIVI DES STOCKS'!D:D,'ETAT DES STOCKS'!C69,'SUIVI DES STOCKS'!E:E)) -> 0 | I69: =SUMIF('SUIVI DES STOCKS'!D:D,'ETAT DES STOCKS'!C69,'SUIVI DES STOCKS'!F:F) -> 0 | J69: =G69-H69+I69 -> 0
A70: PLOMBERIE | B70: 50 | C70: Mamelon 1/2 3/8 | D70: 712034 | E70: C20 | H70: =(SUMIF('SUIVI DES STOCKS'!D:D,'ETAT DES STOCKS'!C70,'SUIVI DES STOCKS'!E:E)) -> 0 | I70: =SUMIF('SUIVI DES STOCKS'!D:D,'ETAT DES STOCKS'!C70,'SUIVI DES STOCKS'!F:F) -> 0 | J70: =G70-H70+I70 -> 0
A71: PLOMBERIE | B71: 51 | C71: Bouchons M 1/2 | D71: 712063 | E71: C21 | F71: Legalais | G71: 59 | H71: =(SUMIF('SUIVI DES STOCKS'!D:D,'ETAT DES STOCKS'!C71,'SUIVI DES STOCKS'!E:E)) -> 0 | I71: =SUMIF('SUIVI DES STOCKS'!D:D,'ETAT DES STOCKS'!C71,'SUIVI DES STOCKS'!F:F) -> 0 | J71: =G71-H71+I71 -> 59
A72: PLOMBERIE | B72: 52 | C72: Bouchons M 3/8 | D72: 712062 | E72: C22 | F72: Legalais | G72: 53 | H72: =(SUMIF('SUIVI DES STOCKS'!D:D,'ETAT DES STOCKS'!C72,'SUIVI DES STOCKS'!E:E)) -> 0 | I72: =SUMIF('SUIVI DES STOCKS'!D:D,'ETAT DES STOCKS'!C72,'SUIVI DES STOCKS'!F:F) -> 0 | J72: =G72-H72+I72 -> 53
A73: PLOMBERIE | B73: 53 | C73: Bouchon Femelle | D73: 712067 | E73: C22 | F73: Legalais | G73: 9 | H73: =(SUMIF('SUIVI DES STOCKS'!D:D,'ETAT DES STOCKS'!C73,'SUIVI DES STOCKS'!E:E)) -> 0 | I73: =SUMIF('SUIVI DES STOCKS'!D:D,'ETAT DES STOCKS'!C73,'SUIVI DES STOCKS'!F:F) -> 0 | J73: =G73-H73+I73 -> 9
A74: CANONS SERRURES | B74: 1 | C74: 60 mm | D74: Baillonette | F74: Deny Fontaine | G74: 3 | H74: =(SUMIF('SUIVI DES STOCKS'!D:D,'ETAT DES STOCKS'!C74,'SUIVI DES STOCKS'!E:E)) -> 0 | I74: =SUMIF('SUIVI DES STOCKS'!D:D,'ETAT DES STOCKS'!C74,'SUIVI DES STOCKS'!F:F) -> 0 | J74: =G74-H74+I74 -> 3
A75: CANONS SERRURES | B75: 2 | C75: 40 mm | D75: Baillonette 2 Ergos | F75: Deny Fontaine | G75: 4 | H75: =(SUMIF('SUIVI DES STOCKS'!D:D,'ETAT DES STOCKS'!C75,'SUIVI DES STOCKS'!E:E)) -> 0 | I75: =SUMIF('SUIVI DES STOCKS'!D:D,'ETAT DES STOCKS'!C75,'SUIVI DES STOCKS'!F:F) -> 0 | J75: =G75-H75+I75 -> 4
A76: CANONS SERRURES | B76: 3 | C76: 40 mm | D76: Baillonette | F76: Deny Fontaine | G76: 10 | H76: =(SUMIF('SUIVI DES STOCKS'!D:D,'ETAT DES STOCKS'!C76,'SUIVI DES STOCKS'!E:E)) -> 0 | I76: =SUMIF('SUIVI DES STOCKS'!D:D,'ETAT DES STOCKS'!C76,'SUIVI DES STOCKS'!F:F) -> 0 | J76: =G76-H76+I76 -> 10
A77: CANONS SERRURES | B77: 4 | C77: 40 mm | D77: Baillonette 2 Ergos | F77: Deny Fontaine | H77: =(SUMIF('SUIVI DES STOCKS'!D:D,'ETAT DES STOCKS'!C77,'SUIVI DES STOCKS'!E:E)) -> 0 | I77: =SUMIF('SUIVI DES STOCKS'!D:D,'ETAT DES STOCKS'!C77,'SUIVI DES STOCKS'!F:F) -> 0 | J77: =G77-H77+I77 -> 0
A78: CANONS SERRURES | B78: 5 | C78: 40 mm | D78: Conic | F78: Deny Fontaine | H78: =(SUMIF('SUIVI DES STOCKS'!D:D,'ETAT DES STOCKS'!C78,'SUIVI DES STOCKS'!E:E)) -> 0 | I78: =SUMIF('SUIVI DES STOCKS'!D:D,'ETAT DES STOCKS'!C78,'SUIVI DES STOCKS'!F:F) -> 0 | J78: =G78-H78+I78 -> 0
A79: CANONS SERRURES | B79: 6 | C79: 40 mm | D79: Conic | F79: Deny Fontaine | H79: =(SUMIF('SUIVI DES STOCKS'!D:D,'ETAT DES STOCKS'!C79,'SUIVI DES STOCKS'!E:E)) -> 0 | I79: =SUMIF('SUIVI DES STOCKS'!D:D,'ETAT DES STOCKS'!C79,'SUIVI DES STOCKS'!F:F) -> 0 | J79: =G79-H79+I79 -> 0
A80: CANONS SERRURES | B80: 7 | C80: 40 mm | D80: Baillonette 2 Ergos | F80: Deny Fontaine | H80: =(SUMIF('SUIVI DES STOCKS'!D:D,'ETAT DES STOCKS'!C80,'SUIVI DES STOCKS'!E:E)) -> 0 | I80: =SUMIF('SUIVI DES STOCKS'!D:D,'ETAT DES STOCKS'!C80,'SUIVI DES STOCKS'!F:F) -> 0 | J80: =G80-H80+I80 -> 0
A81: CANONS SERRURES | B81: 8 | C81: 40 mm | D81: Conic | F81: Deny Fontaine | H81: =(SUMIF('SUIVI DES STOCKS'!D:D,'ETAT DES STOCKS'!C81,'SUIVI DES STOCKS'!E:E)) -> 0 | I81: =SUMIF('SUIVI DES STOCKS'!D:D,'ETAT DES STOCKS'!C81,'SUIVI DES STOCKS'!F:F) -> 0 | J81: =G81-H81+I81 -> 0
A82: CANONS SERRURES | B82: 9 | C82: 40 mm | D82: Baillo 2 Ergos | F82: Deny Fontaine | H82: =(SUMIF('SUIVI DES STOCKS'!D:D,'ETAT DES STOCKS'!C82,'SUIVI DES STOCKS'!E:E)) -> 0 | I82: =SUMIF('SUIVI DES STOCKS'!D:D,'ETAT DES STOCKS'!C82,'SUIVI DES STOCKS'!F:F) -> 0 | J82: =G82-H82+I82 -> 0
A83: CANONS SERRURES | B83: 10 | C83: 45 mm | D83: Baillo 2 Ergos | F83: Deny Fontaine | H83: =(SUMIF('SUIVI DES STOCKS'!D:D,'ETAT DES STOCKS'!C83,'SUIVI DES STOCKS'!E:E)) -> 0 | I83: =SUMIF('SUIVI DES STOCKS'!D:D,'ETAT DES STOCKS'!C83,'SUIVI DES STOCKS'!F:F) -> 0 | J83: =G83-H83+I83 -> 0
A84: CANONS SERRURES | B84: 11 | C84: 45 mm | D84: Baillo 2 Ergos | F84: Deny Fontaine | H84: =(SUMIF('SUIVI DES STOCKS'!D:D,'ETAT DES STOCKS'!C84,'SUIVI DES STOCKS'!E:E)) -> 0 | I84: =SUMIF('SUIVI DES STOCKS'!D:D,'ETAT DES STOCKS'!C84,'SUIVI DES STOCKS'!F:F) -> 0 | J84: =G84-H84+I84 -> 0
A85: CANONS SERRURES | B85: 12 | C85: 40 mm | D85: Conic | F85: Deny Fontaine | H85: =(SUMIF('SUIVI DES STOCKS'!D:D,'ETAT DES STOCKS'!C85,'SUIVI DES STOCKS'!E:E)) -> 0 | I85: =SUMIF('SUIVI DES STOCKS'!D:D,'ETAT DES STOCKS'!C85,'SUIVI DES STOCKS'!F:F) -> 0 | J85: =G85-H85+I85 -> 0
A86: CANONS SERRURES | B86: 13 | C86: 40 mm | D86: Conic | F86: Deny Fontaine | H86: =(SUMIF('SUIVI DES STOCKS'!D:D,'ETAT DES STOCKS'!C86,'SUIVI DES STOCKS'!E:E)) -> 0 | I86: =SUMIF('SUIVI DES STOCKS'!D:D,'ETAT DES STOCKS'!C86,'SUIVI DES STOCKS'!F:F) -> 0 | J86: =G86-H86+I86 -> 0
A87: CANONS SERRURES | B87: 14 | C87: 40 mm | D87: Conic | F87: Deny Fontaine | H87: =(SUMIF('SUIVI DES STOCKS'!D:D,'ETAT DES STOCKS'!C87,'SUIVI DES STOCKS'!E:E)) -> 0 | I87: =SUMIF('SUIVI DES STOCKS'!D:D,'ETAT DES STOCKS'!C87,'SUIVI DES STOCKS'!F:F) -> 0 | J87: =G87-H87+I87 -> 0
A88: CANONS SERRURES | B88: 15 | C88: 45 mm | D88: Conic | F88: Deny Fontaine | H88: =(SUMIF('SUIVI DES STOCKS'!D:D,'ETAT DES STOCKS'!C88,'SUIVI DES STOCKS'!E:E)) -> 0 | I88: =SUMIF('SUIVI DES STOCKS'!D:D,'ETAT DES STOCKS'!C88,'SUIVI DES STOCKS'!F:F) -> 0 | J88: =G88-H88+I88 -> 0
... A245: CANONS SERRURES | B245: 172 | C245: 70 mm | D245: Baillonette | F245: Deny Fontaine | H245: =(SUMIF('SUIVI DES STOCKS'!D:D,'ETAT DES STOCKS'!C245,'SUIVI DES STOCKS'!E:E)) -> 0 | I245: =SUMIF('SUIVI DES STOCKS'!D:D,'ETAT DES STOCKS'!C245,'SUIVI DES STOCKS'!F:F) -> 0 | J245: =G245-H245+I245 -> 0

Sheet Feuil1 (2)
A1: JANVIER

Sheet Feuil1
A1: ='Feuil1 (2)'!A1 -> JANVIER
A2: MOIS | B2: NOM | C2: TYPE MATERIEL | D2: DESIGNATION | E2: DESIGNATION | F2: SORTIE DE STOCK | G2: ENTREE EN STOCK | H2: ATELIER | I2: ETAT DU STOCK | J2: SEUIL D'ALERTE
A4: {=_xlfn._xlws.FILTER('SUIVI DES STOCKS'!A:I,'SUIVI DES STOCKS'!A:A=Feuil1!A1,"")} -> JANVIER | B4: 0 | C4: PEINTURE | D4: 0 | E4: 10 | F4: 0 | G4: 0 | H4: KO
A5: JANVIER | B5: 0 | C5: ELECT CFA | D5: 0 | E5: 0 | F5: 2 | G5: 0 | H5: KO
A6: JANVIER | B6: 0 | C6: PEINTURE | D6: 0 | E6: 0 | F6: 15 | G6: 0 | H6: KO
A7: JANVIER | B7: 0 | C7: PEINTURE | D7: Colle de fixation | E7: 0 | F7: 15 | G7: 0 | H7: 55 | I7: 40

Sheet DATA
A1: JANVIER | B1: ABDELKADER EL HAFIANE | D1: CANONS SERRURES | F1: PEINTURE | G1: PLOMBERIE | H1: CANONS SERRURES | I1: ELECT CFA | J1: ELECT CFO | K1: G6
A2: FÉVRIER | B2: ADAMA DIAWARA | D2: ELECT CFA | F2: Colle de fixation | G2: Tête Interchangeable | H2: 60 mm | K2: CD
A3: MARS | B3: ALAIN GRIMBERG | D3: ELECT CFO | F3: Scellement Chimique | G3: Tête Interchangeable Robinet pedale | H3: 40 mm
A4: AVRIL | B4: CHOUAIB BEN MBAIRIK | D4: PEINTURE | F4: Mastic Acrylique Blanc | G4: Robinet Applique | H4: 40 mm
A5: MAI | B5: CLAUDY THONO | D5: PLOMBERIE | F5: Colle décoration | G5: Cartouche Douche P5005 | H5: 40 mm
A6: JUIN | B6: CLINTON TANYIFOR | F6: Scellement Chimique | G6: Robinet P12 Applique Urinoir | H6: 40 mm
A7: JUILLET | B7: CORENTIN NIBERT | F7: Silicone Neutre Blanc lavabo | G7: Robinet Applique -9 1/mn - reglable; - 6 Sec plus moins 2 Sec. Urinoir | H7: 40 mm
A8: AOÛT | B8: DRISSA KAMATE | F8: Mastic Acrylique spéciale peinture | G8: Presto Urinoir TC | H8: 40 mm
A9: SEPTEMBRE | B9: EMMANUEL NGOMA | F9: SA Silicone Sanitaire | G9: Poigné Manœuvre | H9: 40 mm
A10: OCTOBRE | B10: EMMANUEL OUZE | F10: Silirub Al2T | G10: Tête Interchangeable | H10: 40 mm
A11: NOVEMBRE | B11: ERIC AUVRE | F11: Manchon a Clip | G11: Tempo stop 1/2 7 Sec. | H11: 45 mm
A12: DÉCEMBRE | B12: ERIC DIETSH | F12: Eponge | G12: Tempo stop 15 Sec. | H12: 45 mm
B13: GAEL LAFONTAINE | F13: Rouleau Patte a lapin | G13: Tempo stop 30 Sec. | H13: 40 mm
B14: GASIM AHMED | F14: Manchon a Clip Anti Goutte supérieur | G14: Tempo Flux WC | H14: 40 mm
B15: JEAN DAUBLAS | F15: Brosse à Réchampir | G15: Presto DL 350S Douche Robinet | H15: 40 mm
B16: JEAN MBEMBA | F16: Pinceau | G16: Chasse Robinet | H16: 45 mm
B17: JOAO QUIDIMBU | F17: Manchon à Clip Antigoutte Supérieur | G17: Tête Interchangeable Douche | H17: 50 mm
B18: JOEL JULAN | F18: Monture à Clip | G18: Mitigeur | H18: 40 mm
B19: KARANI ADAM | F19: Rouleau | G19: Presto | H19: 40 mm
B20: KAZADI KABONGO | F20: Rouleau Abrasives/ Abrasif | G20: Presto | H20: 50 mm
B21: MABASA BIBOKO | G21: Mitigeur | H21: 40 mm
B22: MAMADOU DIALLO | G22: Presto | H22: 40 mm
B23: PIERRE DUFOUR | G23: Mitigeur Lavabo | H23: 70 mm
B24: ROODY DUVILLAGE | G24: Mitigeur Lavabo | H24: 65 mm
B25: SAMIR CHELFI | G25: Presto Eclair XL TC | H25: 65 mm
B26: SERGIO AUGUSTO DIAS INES | G26: Presto Eclair | H26: 50 mm
B27: SERY DJOUA | G27: Cartouche Douche P5005 | H27: 70 mm
B28: THEOPHILE MAINGUY | G28: Premix Compact | H28: 50 mm
B29: THIERRY MORIN | G29: Flexible Extensible Siphon RECM 32 | H29: 60 mm
B30: WATA BANGENGANDO | G30: Flex FM 32Ѳ | H30: 40 mm
G31: Coude 90 ф 50 | H31: 50 mm
G32: T Ѳ 50 FF | H32: 45 mm
G33: Flexible Extensible Siphon | H33: 55 mm
G34: paquet Joint Fibre Elastomere | H34: 40 mm
G35: Joint Fibre | H35: 45 mm
H36: 40 mm
G37: Vidage pour Evier laboratoire | H37: 40 mm
G38: Flexible Extensible pour Siphon | H38: 55 mm
G39: Mamelon 1/2 D.M | H39: 45 mm
G40: Mamelon M.M | H40: 45 mm
G41: Mamelon M.M | H41: 40 mm
G42: Mamelon | H42: 60 mm
G43: Mamelon 3/4, 1/2 MF FEM red | H43: 40 mm
G44: Mamelon | H44: 40 mm
G45: Mamelon 3/8 | H45: 40 mm
G46: Mamelon 3/4 1/2 | H46: 60 mm
G47: Mamelon MF 3/4 - 1/2 | H47: 60 mm
G48: Mamelon - DM 1'' 3/4 | H48: 45 mm
... G54: Bouchon Femelle | H54: 55 mm
H55: 50 mm
H56: 50 mm
H57: 70 mm
H58: 70 mm
H59: 40 mm
H60: 40 mm
H61: 40 mm
H62: 50 mm
H63: 45 mm
H64: 45 mm
H65: 50 mm
H66: 45 mm
... H173: 70 mm
