Workbook

Sheet SUIVI DES STOCKS
A1: MOIS | B1: NOM | C1: TYPE MATERIEL | D1: DESIGNATION | E1: SORTIE DE STOCK | F1: ENTREE EN STOCK | G1: ATELIER | H1: ETAT DU STOCK | I1: SEUIL D'ALERTE
A2: JANVIER | C2: PEINTURE | E2: 10 | H2: =IFERROR(VLOOKUP('SUIVI DES STOCKS'!D2,'ETAT DES STOCKS'!C:J,8,FALSE),"KO") -> KO | I2: =IFERROR(VLOOKUP('SUIVI DES STOCKS'!D2,'ETAT DES STOCKS'!C:K,9,FALSE),"")
A3: JANVIER | C3: ELECT CFA | F3: 2 | H3: =IFERROR(VLOOKUP('SUIVI DES STOCKS'!D3,'ETAT DES STOCKS'!C:J,8,FALSE),"KO") -> KO | I3: =IFERROR(VLOOKUP('SUIVI DES STOCKS'!D3,'ETAT DES STOCKS'!C:K,9,FALSE),"")
A4: JANVIER | C4: PEINTURE | F4: 15 | H4: =IFERROR(VLOOKUP('SUIVI DES STOCKS'!D4,'ETAT DES STOCKS'!C:J,8,FALSE),"KO") -> KO | I4: =IFERROR(VLOOKUP('SUIVI DES STOCKS'!D4,'ETAT DES STOCKS'!C:K,9,FALSE),"")
C5: CANONS SERRURES | H5: =IFERROR(VLOOKUP('SUIVI DES STOCKS'!D5,'ETAT DES STOCKS'!C:J,8,FALSE),"KO") -> KO | I5: =IFERROR(VLOOKUP('SUIVI DES STOCKS'!D5,'ETAT DES STOCKS'!C:K,9,FALSE),"")
H6: =IFERROR(VLOOKUP('SUIVI DES STOCKS'!D6,'ETAT DES STOCKS'!C:J,8,FALSE),"KO") -> KO | I6: =IFERROR(VLOOKUP('SUIVI DES STOCKS'!D6,'ETAT DES STOCKS'!C:K,9,FALSE),"")
H7: =IFERROR(VLOOKUP('SUIVI DES STOCKS'!D7,'ETAT DES STOCKS'!C:J,8,FALSE),"KO") -> KO | I7: =IFERROR(VLOOKUP('SUIVI DES STOCKS'!D7,'ETAT DES STOCKS'!C:K,9,FALSE),"")
H8: =IFERROR(VLOOKUP('SUIVI DES STOCKS'!D8,'ETAT DES STOCKS'!C:J,8,FALSE),"KO") -> KO | I8: =IFERROR(VLOOKUP('SUIVI DES STOCKS'!D8,'ETAT DES STOCKS'!C:K,9,FALSE),"")
H9: =IFERROR(VLOOKUP('SUIVI DES STOCKS'!D9,'ETAT DES STOCKS'!C:J,8,FALSE),"KO") -> KO | I9: =IFERROR(VLOOKUP('SUIVI DES STOCKS'!D9,'ETAT DES STOCKS'!C:K,9,FALSE),"")
H10: =IFERROR(VLOOKUP('SUIVI DES STOCKS'!D10,'ETAT DES STOCKS'!C:J,8,FALSE),"KO") -> KO | I10: =IFERROR(VLOOKUP('SUIVI DES STOCKS'!D10,'ETAT DES STOCKS'!C:K,9,FALSE),"")
H11: =IFERROR(VLOOKUP('SUIVI DES STOCKS'!D11,'ETAT DES STOCKS'!C:J,8,FALSE),"KO") -> KO | I11: =IFERROR(VLOOKUP('SUIVI DES STOCKS'!D11,'ETAT DES STOCKS'!C:K,9,FALSE),"")
H12: =IFERROR(VLOOKUP('SUIVI DES STOCKS'!D12,'ETAT DES STOCKS'!C:J,8,FALSE),"KO") -> KO | I12: =IFERROR(VLOOKUP('SUIVI DES STOCKS'!D12,'ETAT DES STOCKS'!C:K,9,FALSE),"")
H13: =IFERROR(VLOOKUP('SUIVI DES STOCKS'!D13,'ETAT DES STOCKS'!C:J,8,FALSE),"KO") -> KO | I13: =IFERROR(VLOOKUP('SUIVI DES STOCKS'!D13,'ETAT DES STOCKS'!C:K,9,FALSE),"")
H14: =IFERROR(VLOOKUP('SUIVI DES STOCKS'!D14,'ETAT DES STOCKS'!C:J,8,FALSE),"KO") -> KO | I14: =IFERROR(VLOOKUP('SUIVI DES STOCKS'!D14,'ETAT DES STOCKS'!C:K,9,FALSE),"")
H15: =IFERROR(VLOOKUP('SUIVI DES STOCKS'!D15,'ETAT DES STOCKS'!C:J,8,FALSE),"KO") -> KO | I15: =IFERROR(VLOOKUP('SUIVI DES STOCKS'!D15,'ETAT DES STOCKS'!C:K,9,FALSE),"")
H16: =IFERROR(VLOOKUP('SUIVI DES STOCKS'!D16,'ETAT DES STOCKS'!C:J,8,FALSE),"KO") -> KO | I16: =IFERROR(VLOOKUP('SUIVI DES STOCKS'!D16,'ETAT DES STOCKS'!C:K,9,FALSE),"")
H17: =IFERROR(VLOOKUP('SUIVI DES STOCKS'!D17,'ETAT DES STOCKS'!C:J,8,FALSE),"KO") -> KO | I17: =IFERROR(VLOOKUP('SUIVI DES STOCKS'!D17,'ETAT DES STOCKS'!C:K,9,FALSE),"")
... H20: =IFERROR(VLOOKUP('SUIVI DES STOCKS'!D20,'ETAT DES STOCKS'!C:J,8,FALSE),"KO") -> KO | I20: =IFERROR(VLOOKUP('SUIVI DES STOCKS'!D20,'ETAT DES STOCKS'!C:K,9,FALSE),"")
C131: CANONS SERRURES | D131: Cartouche Douche P5005 | F131: 2 | H131: =IFERROR(VLOOKUP('SUIVI DES STOCKS'!D131,'ETAT DES STOCKS'!C:J,8,FALSE),"KO") -> 21 | I131: =IFERROR(VLOOKUP('SUIVI DES STOCKS'!D131,'ETAT DES STOCKS'!C:K,9,FALSE),"") -> 0
A132: JANVIER | C132: PEINTURE | D132: Colle de fixation | F132: 15 | H132: =IFERROR(VLOOKUP('SUIVI DES STOCKS'!D132,'ETAT DES STOCKS'!C:J,8,FALSE),"KO") -> 55 | I132: =IFERROR(VLOOKUP('SUIVI DES STOCKS'!D132,'ETAT DES STOCKS'!C:K,9,FALSE),"") -> 40
C133: CANONS SERRURES | H133: =IFERROR(VLOOKUP('SUIVI DES STOCKS'!D133,'ETAT DES STOCKS'!C:J,8,FALSE),"KO") -> KO | I133: =IFERROR(VLOOKUP('SUIVI DES STOCKS'!D133,'ETAT DES STOCKS'!C:K,9,FALSE),"")
H134: =IFERROR(VLOOKUP('SUIVI DES STOCKS'!D134,'ETAT DES STOCKS'!C:J,8,FALSE),"KO") -> KO | I134: =IFERROR(VLOOKUP('SUIVI DES STOCKS'!D134,'ETAT DES STOCKS'!C:K,9,FALSE),"")
H135: =IFERROR(VLOOKUP('SUIVI DES STOCKS'!D135,'ETAT DES STOCKS'!C:J,8,FALSE),"KO") -> KO | I135: =IFERROR(VLOOKUP('SUIVI DES STOCKS'!D135,'ETAT DES STOCKS'!C:K,9,FALSE),"")
H136: =IFERROR(VLOOKUP('SUIVI DES STOCKS'!D136,'ETAT DES STOCKS'!C:J,8,FALSE),"KO") -> KO | I136: =IFERROR(VLOOKUP('SUIVI DES STOCKS'!D136,'ETAT DES STOCKS'!C:K,9,FALSE),"")
H137: =IFERROR(VLOOKUP('SUIVI DES STOCKS'!D137,'ETAT DES STOCKS'!C:J,8,FALSE),"KO") -> KO | I137: =IFERROR(VLOOKUP('SUIVI DES STOCKS'!D137,'ETAT DES STOCKS'!C:K,9,FALSE),"")
H138: =IFERROR(VLOOKUP('SUIVI DES STOCKS'!D138,'ETAT DES STOCKS'!C:J,8,FALSE),"KO") -> KO | I138: =IFERROR(VLOOKUP('SUIVI DES STOCKS'!D138,'ETAT DES STOCKS'!C:K,9,FALSE),"")
H139: =IFERROR(VLOOKUP('SUIVI DES STOCKS'!D139,'ETAT DES STOCKS'!C:J,8,FALSE),"KO") -> KO | I139: =IFERROR(VLOOKUP('SUIVI DES STOCKS'!D139,'ETAT DES STOCKS'!C:K,9,FALSE),"")
H140: =IFERROR(VLOOKUP('SUIVI DES STOCKS'!D140,'ETAT DES STOCKS'!C:J,8,FALSE),"KO") -> KO | I140: =IFERROR(VLOOKUP('SUIVI DES STOCKS'!D140,'ETAT DES STOCKS'!C:K,9,FALSE),"")
H141: =IFERROR(VLOOKUP('SUIVI DES STOCKS'!D141,'ETAT DES STOCKS'!C:J,8,FALSE),"KO") -> KO | I141: =IFERROR(VLOOKUP('SUIVI DES STOCKS'!D141,'ETAT DES STOCKS'!C:K,9,FALSE),"")
H142: =IFERROR(VLOOKUP('SUIVI DES STOCKS'!D142,'ETAT DES STOCKS'!C:J,8,FALSE),"KO") -> KO | I142: =IFERROR(VLOOKUP('SUIVI DES STOCKS'!D142,'ETAT DES STOCKS'!C:K,9,FALSE),"")
H143: =IFERROR(VLOOKUP('SUIVI DES STOCKS'!D143,'ETAT DES STOCKS'!C:J,8,FALSE),"KO") -> KO | I143: =IFERROR(VLOOKUP('SUIVI DES STOCKS'!D143,'ETAT DES STOCKS'!C:K,9,FALSE),"")
H144: =IFERROR(VLOOKUP('SUIVI DES STOCKS'!D144,'ETAT DES STOCKS'!C:J,8,FALSE),"KO") -> KO | I144: =IFERROR(VLOOKUP('SUIVI DES STOCKS'!D144,'ETAT DES STOCKS'!C:K,9,FALSE),"")
H145: =IFERROR(VLOOKUP('SUIVI DES STOCKS'!D145,'ETAT DES STOCKS'!C:J,8,FALSE),"KO") -> KO | I145: =IFERROR(VLOOKUP('SUIVI DES STOCKS'!D145,'ETAT DES STOCKS'!C:K,9,FALSE),"")
... H148: =IFERROR(VLOOKUP('SUIVI DES STOCKS'!D148,'ETAT DES STOCKS'!C:J,8,FALSE),"KO") -> KO | I148: =IFERROR(VLOOKUP('SUIVI DES STOCKS'!D148,'ETAT DES STOCKS'!C:K,9,FALSE),"")

Sheet ETAT DES STOCKS
A1: TYPE DE MATERIEL | B1: N° Enreg. | C1: DESIGNATION ARTICLE | D1: REFERENCE | E1: EMPLACEMENT STOCK | F1: FOURNISSEUR | G1: QUANTITE STOCK INITIAL | H1: SORTIE DE STOCK | I1: ENTREE EN STOCK | J1: SOLDE STOCK | K1: SEUIL D'ALERTE | L1: STOCK MAXI
A2: PEINTURE | C2: Colle de fixation | E2: A11 | G2: 40 | H2: =(SUMIF('SUIVI DES STOCKS'!D:D,'ETAT DES STOCKS'!C2,'SUIVI DES STOCKS'!E:E)) -> 0 | I2: =SUMIF('SUIVI DES STOCKS'!D:D,'ETAT DES STOCKS'!C2,'SUIVI DES STOCKS'!F:F) -> 15 | J2: =G2-H2+I2 -> 55 | K2: 40 | L2: 50
A3: PEINTURE | C3: Scellement Chimique | D3: 594 432 | E3: A12 | G3: 10 | H3: =(SUMIF('SUIVI DES STOCKS'!D:D,'ETAT DES STOCKS'!C3,'SUIVI DES STOCKS'!E:E)) -> 0 | I3: =SUMIF('SUIVI DES STOCKS'!D:D,'ETAT DES STOCKS'!C3,'SUIVI DES STOCKS'!F:F) -> 0 | J3: =G3-H3+I3 -> 10 | K3: 10
A4: PEINTURE | C4: Mastic Acrylique Blanc | D4: 610806 | E4: A13 | H4: =(SUMIF('SUIVI DES STOCKS'!D:D,'ETAT DES STOCKS'!C4,'SUIVI DES STOCKS'!E:E)) -> 0 | I4: =SUMIF('SUIVI DES STOCKS'!D:D,'ETAT DES STOCKS'!C4,'SUIVI DES STOCKS'!F:F) -> 0 | J4: =G4-H4+I4 -> 0 | K4: 10
A5: PEINTURE | C5: Colle décoration | D5: 660457 | E5: A14 | F5: Legalais | G5: 4 | H5: =(SUMIF('SUIVI DES STOCKS'!D:D,'ETAT DES STOCKS'!C5,'SUIVI DES STOCKS'!E:E)) -> 0 | I5: =SUMIF('SUIVI DES STOCKS'!D:D,'ETAT DES STOCKS'!C5,'SUIVI DES STOCKS'!F:F) -> 0 | J5: =G5-H5+I5 -> 4
A6: PEINTURE | C6: Scellement Chimique | D6: 573210 | E6: A15 | F6: Legalais | G6: 2 | H6: =(SUMIF('SUIVI DES STOCKS'!D:D,'ETAT DES STOCKS'!C6,'SUIVI DES STOCKS'!E:E)) -> 0 | I6: =SUMIF('SUIVI DES STOCKS'!D:D,'ETAT DES STOCKS'!C6,'SUIVI DES STOCKS'!F:F) -> 0 | J6: =G6-H6+I6 -> 2
A7: PEINTURE | C7: Silicone Neutre Blanc lavabo | D7: 453720 | E7: A16 | F7: Legalais | G7: 1 | H7: =(SUMIF('SUIVI DES STOCKS'!D:D,'ETAT DES STOCKS'!C7,'SUIVI DES STOCKS'!E:E)) -> 0 | I7: =SUMIF('SUIVI DES STOCKS'!D:D,'ETAT DES STOCKS'!C7,'SUIVI DES STOCKS'!F:F) -> 0 | J7: =G7-H7+I7 -> 1
A8: PEINTURE | C8: Mastic Acrylique spéciale peinture | D8: RX-422 | E8: A16 bis | F8: Raixens | G8: 14 | H8: =(SUMIF('SUIVI DES STOCKS'!D:D,'ETAT DES STOCKS'!C8,'SUIVI DES STOCKS'!E:E)) -> 0 | I8: =SUMIF('SUIVI DES STOCKS'!D:D,'ETAT DES STOCKS'!C8,'SUIVI DES STOCKS'!F:F) -> 0 | J8: =G8-H8+I8 -> 14
A9: PEINTURE | C9: SA Silicone Sanitaire | D9: Sa Silicone | E9: A17 | F9: Rubson | G9: 17 | H9: =(SUMIF('SUIVI DES STOCKS'!D:D,'ETAT DES STOCKS'!C9,'SUIVI DES STOCKS'!E:E)) -> 0 | I9: =SUMIF('SUIVI DES STOCKS'!D:D,'ETAT DES STOCKS'!C9,'SUIVI DES STOCKS'!F:F) -> 0 | J9: =G9-H9+I9 -> 17
A10: PEINTURE | C10: Silirub Al2T | D10: Al2T | E10: A18 | F10: Soudal | G10: 12 | H10: =(SUMIF('SUIVI DES STOCKS'!D:D,'ETAT DES STOCKS'!C10,'SUIVI DES STOCKS'!E:E)) -> 0 | I10: =SUMIF('SUIVI DES STOCKS'!D:D,'ETAT DES STOCKS'!C10,'SUIVI DES STOCKS'!F:F) -> 0 | J10: =G10-H10+I10 -> 12
A11: PEINTURE | C11: Manchon a Clip | D11: 67699 | E11: A19 | F11: Legalais | G11: 17 | H11: =(SUMIF('SUIVI DES STOCKS'!D:D,'ETAT DES STOCKS'!C11,'SUIVI DES STOCKS'!E:E)) -> 0 | I11: =SUMIF('SUIVI DES STOCKS'!D:D,'ETAT DES STOCKS'!C11,'SUIVI DES STOCKS'!F:F) -> 0 | J11: =G11-H11+I11 -> 17
A12: PEINTURE | C12: Eponge | E12: A20 | F12: Rozenbal | G12: 4 | H12: =(SUMIF('SUIVI DES STOCKS'!D:D,'ETAT DES STOCKS'!C12,'SUIVI DES STOCKS'!E:E)) -> 0 | I12: =SUMIF('SUIVI DES STOCKS'!D:D,'ETAT DES STOCKS'!C12,'SUIVI DES STOCKS'!F:F) -> 0 | J12: =G12-H12+I12 -> 4
A13: PEINTURE | C13: Rouleau Patte a lapin | D13: 4937 | E13: A21 | H13: =(SUMIF('SUIVI DES STOCKS'!D:D,'ETAT DES STOCKS'!C13,'SUIVI DES STOCKS'!E:E)) -> 0 | I13: =SUMIF('SUIVI DES STOCKS'!D:D,'ETAT DES STOCKS'!C13,'SUIVI DES STOCKS'!F:F) -> 0 | J13: =G13-H13+I13 -> 0
A14: PEINTURE | C14: Manchon a Clip Anti Goutte supérieur | D14: 607706 | E14: A22 | F14: Legalais | G14: 160 | H14: =(SUMIF('SUIVI DES STOCKS'!D:D,'ETAT DES STOCKS'!C14,'SUIVI DES STOCKS'!E:E)) -> 0 | I14: =SUMIF('SUIVI DES STOCKS'!D:D,'ETAT DES STOCKS'!C14,'SUIVI DES STOCKS'!F:F) -> 0 | J14: =G14-H14+I14 -> 160
A15: PEINTURE | C15: Brosse à Réchampir | D15: 282 095 N°4 | E15: A23 | F15: Legalais | G15: 68 | H15: =(SUMIF('SUIVI DES STOCKS'!D:D,'ETAT DES STOCKS'!C15,'SUIVI DES STOCKS'!E:E)) -> 0 | I15: =SUMIF('SUIVI DES STOCKS'!D:D,'ETAT DES STOCKS'!C15,'SUIVI DES STOCKS'!F:F) -> 0 | J15: =G15-H15+I15 -> 68
A16: PEINTURE | C16: Pinceau | D16: N°6 | E16: A24 | F16: Legalais | G16: 2 | H16: =(SUMIF('SUIVI DES STOCKS'!D:D,'ETAT DES STOCKS'!C16,'SUIVI DES STOCKS'!E:E)) -> 0 | I16: =SUMIF('SUIVI DES STOCKS'!D:D,'ETAT DES STOCKS'!C16,'SUIVI DES STOCKS'!F:F) -> 0 | J16: =G16-H16+I16 -> 2
A17: PEINTURE | C17: Manchon à Clip Antigoutte Supérieur | D17: 607692 | E17: A25 | F17: Legalais | G17: 17 | H17: =(SUMIF('SUIVI DES STOCKS'!D:D,'ETAT DES STOCKS'!C17,'SUIVI DES STOCKS'!E:E)) -> 0 | I17: =SUMIF('SUIVI DES STOCKS'!D:D,'ETAT DES STOCKS'!C17,'SUIVI DES STOCKS'!F:F) -> 0 | J17: =G17-H17+I17 -> 17
A18: PEINTURE | C18: Monture à Clip | D18: 607685 | E18: A26 | F18: Legalais | G18: 23 | H18: =(SUMIF('SUIVI DES STOCKS'!D:D,'ETAT DES STOCKS'!C18,'SUIVI DES STOCKS'!E:E)) -> 0 | I18: =SUMIF('SUIVI DES STOCKS'!D:D,'ETAT DES STOCKS'!C18,'SUIVI DES STOCKS'!F:F) -> 0 | J18: =G18-H18+I18 -> 23
A19: PEINTURE | C19: Rouleau | D19: 67713 | E19: A27 | H19: =(SUMIF('SUIVI DES STOCKS'!D:D,'ETAT DES STOCKS'!C19,'SUIVI DES STOCKS'!E:E)) -> 0 | I19: =SUMIF('SUIVI DES STOCKS'!D:D,'ETAT DES STOCKS'!C19,'SUIVI DES STOCKS'!F:F) -> 0 | J19: =G19-H19+I19 -> 0
A20: PEINTURE | C20: Rouleau Abrasives/ Abrasif | D20: 70 x 125 mm ; 2 3/4 x 5 pouce | E20: A28 | F20: SIA | G20: 28 | H20: =(SUMIF('SUIVI DES STOCKS'!D:D,'ETAT DES STOCKS'!C20,'SUIVI DES STOCKS'!E:E)) -> 0 | I20: =SUMIF('SUIVI DES STOCKS'!D:D,'ETAT DES STOCKS'!C20,'SUIVI DES STOCKS'!F:F) -> 0 | J20: =G20-H20+I20 -> 28
A21: PLOMBERIE | B21: 1 | C21: Tête Interchangeable | D21: 1250 | E21: B1 | F21: Presto | G21: 11 | H21: =(SUMIF('SUIVI DES STOCKS'!D:D,'ETAT DES STOCKS'!C21,'SUIVI DES STOCKS'!E:E)) -> 0 | I21: =SUMIF('SUIVI DES STOCKS'!D:D,'ETAT DES STOCKS'!C21,'SUIVI DES STOCKS'!F:F) -> 0 | J21: =G21-H21+I21 -> 11
A22: PLOMBERIE | B22: 2 | C22: Tête Interchangeable Robinet pedale | D22: 1227 | E22: B2 | F22: Presto | G22: 8 | H22: =(SUMIF('SUIVI DES STOCKS'!D:D,'ETAT DES STOCKS'!C22,'SUIVI DES STOCKS'!E:E)) -> 0 | I22: =SUMIF('SUIVI DES STOCKS'!D:D,'ETAT DES STOCKS'!C22,'SUIVI DES STOCKS'!F:F) -> 0 | J22: =G22-H22+I22 -> 8
A23: PLOMBERIE | B23: 3 | C23: Robinet Applique | D23: 38310 | E23: B3 | F23: Presto | G23: 31 | H23: =(SUMIF('SUIVI DES STOCKS'!D:D,'ETAT DES STOCKS'!C23,'SUIVI DES STOCKS'!E:E)) -> 0 | I23: =SUMIF('SUIVI DES STOCKS'!D:D,'ETAT DES STOCKS'!C23,'SUIVI DES STOCKS'!F:F) -> 0 | J23: =G23-H23+I23 -> 31
A24: PLOMBERIE | B24: 4 | C24: Cartouche Douche P5005 | D24: 1185 | E24: B4 | F24: Presto | G24: 19 | H24: =(SUMIF('SUIVI DES STOCKS'!D:D,'ETAT DES STOCKS'!C24,'SUIVI DES STOCKS'!E:E)) -> 0 | I24: =SUMIF('SUIVI DES STOCKS'!D:D,'ETAT DES STOCKS'!C24,'SUIVI DES STOCKS'!F:F) -> 2 | J24: =G24-H24+I24 -> 21
A25: PLOMBERIE | B25: 5 | C25: Robinet P12 Applique Urinoir | D25: 743003 | E25: B5 | F25: Delabie | G25: 16 | H25: =(SUMIF('SUIVI DES STOCKS'!D:D,'ETAT DES STOCKS'!C25,'SUIVI DES STOCKS'!E:E)) -> 0 | I25: =SUMIF('SUIVI DES STOCKS'!D:D,'ETAT DES STOCKS'!C25,'SUIVI DES STOCKS'!F:F) -> 0 | J25: =G25-H25+I25 -> 16
A26: PLOMBERIE | B26: 6 | C26: Robinet Applique -9 1/mn - reglable; - 6 Sec plus moins 2 Sec. Urinoir | D26: 31003 | E26: B5 | F26: Presto | G26: 8 | H26: =(SUMIF('SUIVI DES STOCKS'!D:D,'ETAT DES STOCKS'!C26,'SUIVI DES STOCKS'!E:E)) -> 0 | I26: =SUMIF('SUIVI DES STOCKS'!D:D,'ETAT DES STOCKS'!C26,'SUIVI DES STOCKS'!F:F) -> 0 | J26: =G26-H26+I26 -> 8
A27: PLOMBERIE | B27: 7 | C27: Presto Urinoir TC | D27: 3112 | E27: B6 | F27: Presto | G27: 7 | H27: =(SUMIF('SUIVI DES STOCKS'!D:D,'ETAT DES STOCKS'!C27,'SUIVI DES STOCKS'!E:E)) -> 0 | I27: =SUMIF('SUIVI DES STOCKS'!D:D,'ETAT DES STOCKS'!C27,'SUIVI DES STOCKS'!F:F) -> 0 | J27: =G27-H27+I27 -> 7
A28: PLOMBERIE | B28: 8 | C28: Poigné Manœuvre | D28: 94522.80.2 | E28: B7 | F28: Lorans | G28: 4 | H28: =(SUMIF('SUIVI DES STOCKS'!D:D,'ETAT DES STOCKS'!C28,'SUIVI DES STOCKS'!E:E)) -> 0 | I28: =SUMIF('SUIVI DES STOCKS'!D:D,'ETAT DES STOCKS'!C28,'SUIVI DES STOCKS'!F:F) -> 0 | J28: =G28-H28+I28 -> 4
A29: PLOMBERIE | B29: 9 | C29: Tête Interchangeable | D29: 1027 | E29: B8 | F29: Presto | G29: 30 | H29: =(SUMIF('SUIVI DES STOCKS'!D:D,'ETAT DES STOCKS'!C29,'SUIVI DES STOCKS'!E:E)) -> 0 | I29: =SUMIF('SUIVI DES STOCKS'!D:D,'ETAT DES STOCKS'!C29,'SUIVI DES STOCKS'!F:F) -> 0 | J29: =G29-H29+I29 -> 30
A30: PLOMBERIE | B30: 10 | C30: Tempo stop 1/2 7 Sec. | D30: 746000 | E30: B9 | F30: Delabie | G30: 27 | H30: =(SUMIF('SUIVI DES STOCKS'!D:D,'ETAT DES STOCKS'!C30,'SUIVI DES STOCKS'!E:E)) -> 0 | I30: =SUMIF('SUIVI DES STOCKS'!D:D,'ETAT DES STOCKS'!C30,'SUIVI DES STOCKS'!F:F) -> 0 | J30: =G30-H30+I30 -> 27
A31: PLOMBERIE | B31: 11 | C31: Tempo stop 15 Sec. | D31: 743310 | E31: B10 | F31: Delabie | G31: 0 | H31: =(SUMIF('SUIVI DES STOCKS'!D:D,'ETAT DES STOCKS'!C31,'SUIVI DES STOCKS'!E:E)) -> 0 | I31: =SUMIF('SUIVI DES STOCKS'!D:D,'ETAT DES STOCKS'!C31,'SUIVI DES STOCKS'!F:F) -> 0 | J31: =G31-H31+I31 -> 0
A32: PLOMBERIE | B32: 12 | C32: Tempo stop 30 Sec. | D32: 743642 | E32: B11 | F32: Delabie | G32: 59 | H32: =(SUMIF('SUIVI DES STOCKS'!D:D,'ETAT DES STOCKS'!C32,'SUIVI DES STOCKS'!E:E)) -> 0 | I32: =SUMIF('SUIVI DES STOCKS'!D:D,'ETAT DES STOCKS'!C32,'SUIVI DES STOCKS'!F:F) -> 0 | J32: =G32-H32+I32 -> 59
A33: PLOMBERIE | B33: 13 | C33: Tempo Flux WC | D33: 743763 | E33: B12 | F33: Delabie | G33: 44 | H33: =(SUMIF('SUIVI DES STOCKS'!D:D,'ETAT DES STOCKS'!C33,'SUIVI DES STOCKS'!E:E)) -> 0 | I33: =SUMIF('SUIVI DES STOCKS'!D:D,'ETAT DES STOCKS'!C33,'SUIVI DES STOCKS'!F:F) -> 0 | J33: =G33-H33+I33 -> 44
A34: PLOMBERIE | B34: 14 | C34: Presto DL 350S Douche Robinet | D34: 27200 | E34: B13 | F34: Presto | G34: 2 | H34: =(SUMIF('SUIVI DES STOCKS'!D:D,'ETAT DES STOCKS'!C34,'SUIVI DES STOCKS'!E:E)) -> 0 | I34: =SUMIF('SUIVI DES STOCKS'!D:D,'ETAT DES STOCKS'!C34,'SUIVI DES STOCKS'!F:F) -> 0 | J34: =G34-H34+I34 -> 2
A35: PLOMBERIE | B35: 15 | C35: Chasse Robinet | D35: 14109 | E35: B14 | F35: Presto | G35: 4 | H35: =(SUMIF('SUIVI DES STOCKS'!D:D,'ETAT DES STOCKS'!C35,'SUIVI DES STOCKS'!E:E)) -> 0 | I35: =SUMIF('SUIVI DES STOCKS'!D:D,'ETAT DES STOCKS'!C35,'SUIVI DES STOCKS'!F:F) -> 0 | J35: =G35-H35+I35 -> 4
A36: PLOMBERIE | B36: 16 | C36: Tête Interchangeable Douche | D36: 1020 | E36: B14 | F36: Presto | G36: 4 | H36: =(SUMIF('SUIVI DES STOCKS'!D:D,'ETAT DES STOCKS'!C36,'SUIVI DES STOCKS'!E:E)) -> 0 | I36: =SUMIF('SUIVI DES STOCKS'!D:D,'ETAT DES STOCKS'!C36,'SUIVI DES STOCKS'!F:F) -> 0 | J36: =G36-H36+I36 -> 4
A37: PLOMBERIE | B37: 17 | C37: Mitigeur | D37: 29002 | E37: B14 | F37: Presto | G37: 0 | H37: =(SUMIF('SUIVI DES STOCKS'!D:D,'ETAT DES STOCKS'!C37,'SUIVI DES STOCKS'!E:E)) -> 0 | I37: =SUMIF('SUIVI DES STOCKS'!D:D,'ETAT DES STOCKS'!C37,'SUIVI DES STOCKS'!F:F) -> 0 | J37: =G37-H37+I37 -> 0
A38: PLOMBERIE | B38: 18 | C38: Presto | D38: 41010 | E38: B14 | F38: Presto | G38: 0 | H38: =(SUMIF('SUIVI DES STOCKS'!D:D,'ETAT DES STOCKS'!C38,'SUIVI DES STOCKS'!E:E)) -> 0 | I38: =SUMIF('SUIVI DES STOCKS'!D:D,'ETAT DES STOCKS'!C38,'SUIVI DES STOCKS'!F:F) -> 0 | J38: =G38-H38+I38 -> 0
A39: PLOMBERIE | B39: 19 | C39: Presto | D39: 13070 | E39: B14 | F39: Presto | G39: 0 | H39: =(SUMIF('SUIVI DES STOCKS'!D:D,'ETAT DES STOCKS'!C39,'SUIVI DES STOCKS'!E:E)) -> 0 | I39: =SUMIF('SUIVI DES STOCKS'!D:D,'ETAT DES STOCKS'!C39,'SUIVI DES STOCKS'!F:F) -> 0 | J39: =G39-H39+I39 -> 0
A40: PLOMBERIE | B40: 20 | C40: Mitigeur | D40: 29007 | E40: B14 | F40: Presto | G40: 1 | H40: =(SUMIF('SUIVI DES STOCKS'!D:D,'ETAT DES STOCKS'!C40,'SUIVI DES STOCKS'!E:E)) -> 0 | I40: =SUMIF('SUIVI DES STOCKS'!D:D,'ETAT DES STOCKS'!C40,'SUIVI DES STOCKS'!F:F) -> 0 | J40: =G40-H40+I40 -> 1
...

Sheet Feuil1 (2)
A1: JANVIER

Sheet Feuil1
A1: ='Feuil1 (2)'!A1 -> JANVIER
A2: MOIS | B2: NOM | C2: TYPE MATERIEL | D2: DESIGNATION | E2: DESIGNATION | F2: SORTIE DE STOCK | G2: ENTREE EN STOCK | H2: ATELIER | I2: ETAT DU STOCK | J2: SEUIL D'ALERTE
A4: {=_xlfn._xlws.FILTER('SUIVI DES STOCKS'!A:I,'SUIVI DES STOCKS'!A:A=Feuil1!A1,"")} -> JANVIER | B4: 0 | C4: PEINTURE | D4: 0 | E4: 10 | F4: 0 | G4: 0 | H4: KO
A5: JANVIER | B5: 0 | C5: ELECT CFA | D5: 0 | E5: 0 | F5: 2 | G5: 0 | H5: KO
A6: JANVIER | B6: 0 | C6: PEINTURE | D6: 0 | E6: 0 | F6: 15 | G6: 0 | H6: KO
A7: JANVIER | B7: 0 | C7: PEINTURE | D7: Colle de fixation | E7: 0 | F7: 15 | G7: 0 | H7: 55 | I7: 40

Sheet DATA
A1: JANVIER | B1: ABDELKADER EL HAFIANE | D1: CANONS SERRURES | F1: PEINTURE | G1: PLOMBERIE | H1: CANONS SERRURES | I1: ELECT CFA | J1: ELECT CFO | K1: G6
A2: FÉVRIER | B2: ADAMA DIAWARA | D2: ELECT CFA | F2: Colle de fixation | G2: Tête Interchangeable | H2: 60 mm | K2: CD
A3: MARS | B3: ALAIN GRIMBERG | D3: ELECT CFO | F3: Scellement Chimique | G3: Tête Interchangeable Robinet pedale | H3: 40 mm
A4: AVRIL | B4: CHOUAIB BEN MBAIRIK | D4: PEINTURE | F4: Mastic Acrylique Blanc | G4: Robinet Applique | H4: 40 mm
A5: MAI | B5: CLAUDY THONO | D5: PLOMBERIE | F5: Colle décoration | G5: Cartouche Douche P5005 | H5: 40 mm
A6: JUIN | B6: CLINTON TANYIFOR | F6: Scellement Chimique | G6: Robinet P12 Applique Urinoir | H6: 40 mm
A7: JUILLET | B7: CORENTIN NIBERT | F7: Silicone Neutre Blanc lavabo | G7: Robinet Applique -9 1/mn - reglable; - 6 Sec plus moins 2 Sec. Urinoir | H7: 40 mm
A8: AOÛT | B8: DRISSA KAMATE | F8: Mastic Acrylique spéciale peinture | G8: Presto Urinoir TC | H8: 40 mm
A9: SEPTEMBRE | B9: EMMANUEL NGOMA | F9: SA Silicone Sanitaire | G9: Poigné Manœuvre | H9: 40 mm
A10: OCTOBRE | B10: EMMANUEL OUZE | F10: Silirub Al2T | G10: Tête Interchangeable | H10: 40 mm
A11: NOVEMBRE | B11: ERIC AUVRE | F11: Manchon a Clip | G11: Tempo stop 1/2 7 Sec. | H11: 45 mm
A12: DÉCEMBRE | B12: ERIC DIETSH | F12: Eponge | G12: Tempo stop 15 Sec. | H12: 45 mm
B13: GAEL LAFONTAINE | F13: Rouleau Patte a lapin | G13: Tempo stop 30 Sec. | H13: 40 mm
B14: GASIM AHMED | F14: Manchon a Clip Anti Goutte supérieur | G14: Tempo Flux WC | H14: 40 mm
B15: JEAN DAUBLAS | F15: Brosse à Réchampir | G15: Presto DL 350S Douche Robinet | H15: 40 mm
B16: JEAN MBEMBA | F16: Pinceau | G16: Chasse Robinet | H16: 45 mm
B17: JOAO QUIDIMBU | F17: Manchon à Clip Antigoutte Supérieur | G17: Tête Interchangeable Douche | H17: 50 mm
B18: JOEL JULAN | F18: Monture à Clip | G18: Mitigeur | H18: 40 mm
B19: KARANI ADAM | F19: Rouleau | G19: Presto | H19: 40 mm
B20: KAZADI KABONGO | F20: Rouleau Abrasives/ Abrasif | G20: Presto | H20: 50 mm
B21: MABASA BIBOKO | G21: Mitigeur | H21: 40 mm
B22: MAMADOU DIALLO | G22: Presto | H22: 40 mm
B23: PIERRE DUFOUR | G23: Mitigeur Lavabo | H23: 70 mm
B24: ROODY DUVILLAGE | G24: Mitigeur Lavabo | H24: 65 mm
B25: SAMIR CHELFI | G25: Presto Eclair XL TC | H25: 65 mm
B26: SERGIO AUGUSTO DIAS INES | G26: Presto Eclair | H26: 50 mm
B27: SERY DJOUA | G27: Cartouche Douche P5005 | H27: 70 mm
B28: THEOPHILE MAINGUY | G28: Premix Compact | H28: 50 mm
B29: THIERRY MORIN | G29: Flexible Extensible Siphon RECM 32 | H29: 60 mm
B30: WATA BANGENGANDO | G30: Flex FM 32Ѳ | H30: 40 mm
G31: Coude 90 ф 50 | H31: 50 mm
G32: T Ѳ 50 FF | H32: 45 mm
G33: Flexible Extensible Siphon | H33: 55 mm
G34: paquet Joint Fibre Elastomere | H34: 40 mm
G35: Joint Fibre | H35: 45 mm
H36: 40 mm
G37: Vidage pour Evier laboratoire | H37: 40 mm
G38: Flexible Extensible pour Siphon | H38: 55 mm
G39: Mamelon 1/2 D.M | H39: 45 mm
G40: Mamelon M.M | H40: 45 mm
...
