Workbook
Name AgentsName: OFFSET(Listes!$C$3,0,0,Listes!$C$1)
Name WorkingHours: OFFSET(Listes!$B$3,0,0,Listes!$B$1)
Name WorkingJobs: OFFSET(Listes!$G$3,0,0,Listes!$G$1)

Sheet Annuel
B2: Nombre de jours annuel occupés par poste
B3: Semaine 0 à | C3: semaine : | D3: 47
B4: Agent | C4: LAVAGE | D4: TRI + LAVEUR SOIR | E4: etc.
B5: Noémie | C5: 15 | D5: 8 | E5: …
B6: Vincent | C6: 20 | D6: 12 | E6: …
B7: Pauline | C7: 16 | D7: 11
B8: David | C8: 18 | D8: 19
B9: Jacques | C9: 21 | D9: 21
B10: Florence | C10: 12 | D10: 9
B11: Nicolas | C11: 17 | D11: 11
B12: Pierre | C12: 2 | D12: 14

Sheet Semaine
J2: 0 : absence, 1 : présence
B3: Lavage | E3: N° groupe | F3: Heures de travail | H3: Agent | I3: N° groupe | J3: Lundi | K3: Mardi | L3: Mercredi | M3: Jeudi | N3: Vendredi | P3: Total
B4: pour semaine | C4: =Annuel!D3 -> 47 | E4: 0 | F4: 08h00 à 16h33 | H4: Noémie | I4: 0 | J4: 0 | K4: 1 | L4: 1 | M4: 1 | N4: 1 | P4: =SUM(J4:N4)+C7*1 -> 4
E5: 1 | F5: 08h00 à 16h33 | H5: Vincent | I5: 0 | J5: 1 | K5: 1 | L5: 1 | M5: 1 | N5: 0 | P5: =SUM(J5:N5)+C8*1 -> 4
B6: Jour férié dans la | E6: 2 | F6: 08h00 à 17h45 | H6: Pauline | I6: 1 | J6: 1 | K6: 1 | L6: 1 | M6: 1 | N6: 0 | P6: =SUM(J6:N6)+C9*1 -> 4
B7: semaine ? | C7: FALSE | H7: David | I7: 1 | J7: 0 | K7: 0 | L7: 0 | M7: 0 | N7: 0 | P7: =SUM(J7:N7)+C10*1 -> 0
E8: Ordre à privilégier : | H8: Jacques | I8: 1 | J8: 1 | K8: 1 | L8: 1 | M8: 1 | N8: 1 | P8: =SUM(J8:N8)+C11*1 -> 5
E9: 1 | F9: 08h00 à 16h33 | H9: Florence | I9: 2 | J9: 0 | K9: 0 | L9: 0 | M9: 0 | N9: 0 | P9: =SUM(J9:N9)+C12*1 -> 0
E10: 2 | F10: 08h00 à 17h45 | H10: Nicolas | I10: 2 | J10: 1 | K10: 1 | L10: 1 | M10: 0 | N10: 0 | P10: =SUM(J10:N10)+C16*1 -> 3
H11: Pierre | I11: 2 | J11: 1 | K11: 1 | L11: 1 | M11: 1 | N11: 0 | P11: =SUM(J11:N11)+C17*1 -> 4
H13: Affection ► | J13: =J46 -> Pauline | K13: =K46 -> Noémie | L13: =L46 -> Noémie | M13: =M46 -> Noémie | N13: =N46 -> Noémie
I16: Dispo. ? | J16: Ordre | K16: Score | L16: Rang | M16: Liste | P16: 1/ Ordre préférentiel d'affection des agents
G17: 1 | H17: =H4 -> Noémie | I17: =IF(P4>=3,1,0) -> 1 | J17: =MATCH(VLOOKUP(I4,$E$4:$F$6,2,FALSE),WorkingHours,0) -> 1 | K17: =IF(I17=0,"",100^(J17-1)+VLOOKUP(H17,Annuel!$B$5:$D$12,1+MATCH($B$3,WorkingJobs),FALSE)) -> 16 | L17: =IFERROR(RANK(K17,$K$17:$K$24,1),"") -> 1 | M17: =IFERROR(INDEX($H$17:$H$24,MATCH(G17,$L$17:$L$24,0)),"") -> Noémie
G18: 2 | H18: =H5 -> Vincent | I18: =IF(P5>=3,1,0) -> 1 | J18: =MATCH(VLOOKUP(I5,$E$4:$F$6,2,FALSE),WorkingHours,0) -> 1 | K18: =IF(I18=0,"",100^(J18-1)+VLOOKUP(H18,Annuel!$B$5:$D$12,1+MATCH($B$3,WorkingJobs),FALSE)) -> 21 | L18: =IFERROR(RANK(K18,$K$17:$K$24,1),"") -> 3 | M18: =IFERROR(INDEX($H$17:$H$24,MATCH(G18,$L$17:$L$24,0)),"") -> Pauline
G19: 3 | H19: =H6 -> Pauline | I19: =IF(P6>=3,1,0) -> 1 | J19: =MATCH(VLOOKUP(I6,$E$4:$F$6,2,FALSE),WorkingHours,0) -> 1 | K19: =IF(I19=0,"",100^(J19-1)+VLOOKUP(H19,Annuel!$B$5:$D$12,1+MATCH($B$3,WorkingJobs),FALSE)) -> 17 | L19: =IFERROR(RANK(K19,$K$17:$K$24,1),"") -> 2 | M19: =IFERROR(INDEX($H$17:$H$24,MATCH(G19,$L$17:$L$24,0)),"") -> Vincent
G20: 4 | H20: =H7 -> David | I20: =IF(P7>=3,1,0) -> 0 | J20: =MATCH(VLOOKUP(I7,$E$4:$F$6,2,FALSE),WorkingHours,0) -> 1 | K20: =IF(I20=0,"",100^(J20-1)+VLOOKUP(H20,Annuel!$B$5:$D$12,1+MATCH($B$3,WorkingJobs),FALSE)) | L20: =IFERROR(RANK(K20,$K$17:$K$24,1),"") | M20: =IFERROR(INDEX($H$17:$H$24,MATCH(G20,$L$17:$L$24,0)),"") -> Jacques
G21: 5 | H21: =H8 -> Jacques | I21: =IF(P8>=3,1,0) -> 1 | J21: =MATCH(VLOOKUP(I8,$E$4:$F$6,2,FALSE),WorkingHours,0) -> 1 | K21: =IF(I21=0,"",100^(J21-1)+VLOOKUP(H21,Annuel!$B$5:$D$12,1+MATCH($B$3,WorkingJobs),FALSE)) -> 22 | L21: =IFERROR(RANK(K21,$K$17:$K$24,1),"") -> 4 | M21: =IFERROR(INDEX($H$17:$H$24,MATCH(G21,$L$17:$L$24,0)),"") -> Pierre
G22: 6 | H22: =H9 -> Florence | I22: =IF(P9>=3,1,0) -> 0 | J22: =MATCH(VLOOKUP(I9,$E$4:$F$6,2,FALSE),WorkingHours,0) -> 2 | K22: =IF(I22=0,"",100^(J22-1)+VLOOKUP(H22,Annuel!$B$5:$D$12,1+MATCH($B$3,WorkingJobs),FALSE)) | L22: =IFERROR(RANK(K22,$K$17:$K$24,1),"") | M22: =IFERROR(INDEX($H$17:$H$24,MATCH(G22,$L$17:$L$24,0)),"") -> Nicolas
G23: 7 | H23: =H10 -> Nicolas | I23: =IF(P10>=3,1,0) -> 1 | J23: =MATCH(VLOOKUP(I10,$E$4:$F$6,2,FALSE),WorkingHours,0) -> 2 | K23: =IF(I23=0,"",100^(J23-1)+VLOOKUP(H23,Annuel!$B$5:$D$12,1+MATCH($B$3,WorkingJobs),FALSE)) -> 117 | L23: =IFERROR(RANK(K23,$K$17:$K$24,1),"") -> 6 | M23: =IFERROR(INDEX($H$17:$H$24,MATCH(G23,$L$17:$L$24,0)),"")
G24: 8 | H24: =H11 -> Pierre | I24: =IF(P11>=3,1,0) -> 1 | J24: =MATCH(VLOOKUP(I11,$E$4:$F$6,2,FALSE),WorkingHours,0) -> 2 | K24: =IF(I24=0,"",100^(J24-1)+VLOOKUP(H24,Annuel!$B$5:$D$12,1+MATCH($B$3,WorkingJobs),FALSE)) -> 102 | L24: =IFERROR(RANK(K24,$K$17:$K$24,1),"") -> 5 | M24: =IFERROR(INDEX($H$17:$H$24,MATCH(G24,$L$17:$L$24,0)),"")
J25: 1 | K25: 2 | L25: 3 | M25: 4 | N25: 5
I26: Pos | J26: Lundi | K26: Mardi | L26: Mercredi | M26: Jeudi | N26: Vendredi | P26: 2/ Tableau des disponibilités, trié par ordre préférentiel
H27: =M17 -> Noémie | I27: =MATCH(H27,$H$4:$H$11,0) -> 1 | J27: =INDEX($J$4:$N$11,$I27,J$25) -> 0 | K27: =INDEX($J$4:$N$11,$I27,K$25) -> 1 | L27: =INDEX($J$4:$N$11,$I27,L$25) -> 1 | M27: =INDEX($J$4:$N$11,$I27,M$25) -> 1 | N27: =INDEX($J$4:$N$11,$I27,N$25) -> 1
H28: =M18 -> Pauline | I28: =MATCH(H28,$H$4:$H$11,0) -> 3 | J28: =INDEX($J$4:$N$11,$I28,J$25) -> 1 | K28: =INDEX($J$4:$N$11,$I28,K$25) -> 1 | L28: =INDEX($J$4:$N$11,$I28,L$25) -> 1 | M28: =INDEX($J$4:$N$11,$I28,M$25) -> 1 | N28: =INDEX($J$4:$N$11,$I28,N$25) -> 0
H29: =M19 -> Vincent | I29: =MATCH(H29,$H$4:$H$11,0) -> 2 | J29: =INDEX($J$4:$N$11,$I29,J$25) -> 1 | K29: =INDEX($J$4:$N$11,$I29,K$25) -> 1 | L29: =INDEX($J$4:$N$11,$I29,L$25) -> 1 | M29: =INDEX($J$4:$N$11,$I29,M$25) -> 1 | N29: =INDEX($J$4:$N$11,$I29,N$25) -> 0
H30: =M20 -> Jacques | I30: =MATCH(H30,$H$4:$H$11,0) -> 5 | J30: =INDEX($J$4:$N$11,$I30,J$25) -> 1 | K30: =INDEX($J$4:$N$11,$I30,K$25) -> 1 | L30: =INDEX($J$4:$N$11,$I30,L$25) -> 1 | M30: =INDEX($J$4:$N$11,$I30,M$25) -> 1 | N30: =INDEX($J$4:$N$11,$I30,N$25) -> 1
H31: =M21 -> Pierre | I31: =MATCH(H31,$H$4:$H$11,0) -> 8 | J31: =INDEX($J$4:$N$11,$I31,J$25) -> 1 | K31: =INDEX($J$4:$N$11,$I31,K$25) -> 1 | L31: =INDEX($J$4:$N$11,$I31,L$25) -> 1 | M31: =INDEX($J$4:$N$11,$I31,M$25) -> 1 | N31: =INDEX($J$4:$N$11,$I31,N$25) -> 0
H32: =M22 -> Nicolas | I32: =MATCH(H32,$H$4:$H$11,0) -> 7 | J32: =INDEX($J$4:$N$11,$I32,J$25) -> 1 | K32: =INDEX($J$4:$N$11,$I32,K$25) -> 1 | L32: =INDEX($J$4:$N$11,$I32,L$25) -> 1 | M32: =INDEX($J$4:$N$11,$I32,M$25) -> 0 | N32: =INDEX($J$4:$N$11,$I32,N$25) -> 0
H33: =M23 | J33: =INDEX($J$4:$N$11,$I33,J$25) -> #VALUE! | K33: =INDEX($J$4:$N$11,$I33,K$25) -> #VALUE! | L33: =INDEX($J$4:$N$11,$I33,L$25) -> #VALUE! | M33: =INDEX($J$4:$N$11,$I33,M$25) -> #VALUE! | N33: =INDEX($J$4:$N$11,$I33,N$25) -> #VALUE!
H34: =M24 | J34: =INDEX($J$4:$N$11,$I34,J$25) -> #VALUE! | K34: =INDEX($J$4:$N$11,$I34,K$25) -> #VALUE! | L34: =INDEX($J$4:$N$11,$I34,L$25) -> #VALUE! | M34: =INDEX($J$4:$N$11,$I34,M$25) -> #VALUE! | N34: =INDEX($J$4:$N$11,$I34,N$25) -> #VALUE!
I36: Pos | J36: Lundi | K36: Mardi | L36: Mercredi | M36: Jeudi | N36: Vendredi | P36: 3/ Tableau des affections, trié par ordre préférentiel
H37: =H27 -> Noémie | I37: =IFERROR(MATCH(H37,$H$4:$H$11,0),"") -> 1 | J37: =IF(I37="","",J27) -> 0 | K37: =IF(J37="","",K27) -> 1 | L37: =IF(K37="","",L27) -> 1 | M37: =IF(L37="","",M27) -> 1 | N37: =IF(M37="","",N27) -> 1
H38: =H28 -> Pauline | I38: =IFERROR(MATCH(H38,$H$4:$H$11,0),"") -> 3 | J38: =IF(I38="","",IF(SUM(J$37:J37)=1,0,J37+J28)) -> 1 | K38: =IF(J38="","",IF(SUM(K$37:K37)=1,0,K37+K28)) -> 0 | L38: =IF(K38="","",IF(SUM(L$37:L37)=1,0,L37+L28)) -> 0 | M38: =IF(L38="","",IF(SUM(M$37:M37)=1,0,M37+M28)) -> 0 | N38: =IF(M38="","",IF(SUM(N$37:N37)=1,0,N37+N28)) -> 0
H39: =H29 -> Vincent | I39: =IFERROR(MATCH(H39,$H$4:$H$11,0),"") -> 2 | J39: =IF(I39="","",IF(SUM(J$37:J38)=1,0,J38+J29)) -> 0 | K39: =IF(J39="","",IF(SUM(K$37:K38)=1,0,K38+K29)) -> 0 | L39: =IF(K39="","",IF(SUM(L$37:L38)=1,0,L38+L29)) -> 0 | M39: =IF(L39="","",IF(SUM(M$37:M38)=1,0,M38+M29)) -> 0 | N39: =IF(M39="","",IF(SUM(N$37:N38)=1,0,N38+N29)) -> 0
H40: =H30 -> Jacques | I40: =IFERROR(MATCH(H40,$H$4:$H$11,0),"") -> 5 | J40: =IF(I40="","",IF(SUM(J$37:J39)=1,0,J39+J30)) -> 0 | K40: =IF(J40="","",IF(SUM(K$37:K39)=1,0,K39+K30)) -> 0 | L40: =IF(K40="","",IF(SUM(L$37:L39)=1,0,L39+L30)) -> 0 | M40: =IF(L40="","",IF(SUM(M$37:M39)=1,0,M39+M30)) -> 0 | N40: =IF(M40="","",IF(SUM(N$37:N39)=1,0,N39+N30)) -> 0
H41: =H31 -> Pierre | I41: =IFERROR(MATCH(H41,$H$4:$H$11,0),"") -> 8 | J41: =IF(I41="","",IF(SUM(J$37:J40)=1,0,J40+J31)) -> 0 | K41: =IF(J41="","",IF(SUM(K$37:K40)=1,0,K40+K31)) -> 0 | L41: =IF(K41="","",IF(SUM(L$37:L40)=1,0,L40+L31)) -> 0 | M41: =IF(L41="","",IF(SUM(M$37:M40)=1,0,M40+M31)) -> 0 | N41: =IF(M41="","",IF(SUM(N$37:N40)=1,0,N40+N31)) -> 0
H42: =H32 -> Nicolas | I42: =IFERROR(MATCH(H42,$H$4:$H$11,0),"") -> 7 | J42: =IF(I42="","",IF(SUM(J$37:J41)=1,0,J41+J32)) -> 0 | K42: =IF(J42="","",IF(SUM(K$37:K41)=1,0,K41+K32)) -> 0 | L42: =IF(K42="","",IF(SUM(L$37:L41)=1,0,L41+L32)) -> 0 | M42: =IF(L42="","",IF(SUM(M$37:M41)=1,0,M41+M32)) -> 0 | N42: =IF(M42="","",IF(SUM(N$37:N41)=1,0,N41+N32)) -> 0
H43: =H33 | I43: =IFERROR(MATCH(H43,$H$4:$H$11,0),"") | J43: =IF(I43="","",IF(SUM(J$37:J42)=1,0,J42+J33)) | K43: =IF(J43="","",IF(SUM(K$37:K42)=1,0,K42+K33)) | L43: =IF(K43="","",IF(SUM(L$37:L42)=1,0,L42+L33)) | M43: =IF(L43="","",IF(SUM(M$37:M42)=1,0,M42+M33)) | N43: =IF(M43="","",IF(SUM(N$37:N42)=1,0,N42+N33))
H44: =H34 | I44: =IFERROR(MATCH(H44,$H$4:$H$11,0),"") | J44: =IF(I44="","",IF(SUM(J$37:J43)=1,0,J43+J34)) | K44: =IF(J44="","",IF(SUM(K$37:K43)=1,0,K43+K34)) | L44: =IF(K44="","",IF(SUM(L$37:L43)=1,0,L43+L34)) | M44: =IF(L44="","",IF(SUM(M$37:M43)=1,0,M43+M34)) | N44: =IF(M44="","",IF(SUM(N$37:N43)=1,0,N43+N34))
J46: =INDEX($H$37:$H$44,MATCH(SUMIF(J$37:J$44,"1",$I$37:$I$44),$I$37:$I$44,0)) -> Pauline | K46: =INDEX($H$37:$H$44,MATCH(SUMIF(K$37:K$44,"1",$I$37:$I$44),$I$37:$I$44,0)) -> Noémie | L46: =INDEX($H$37:$H$44,MATCH(SUMIF(L$37:L$44,"1",$I$37:$I$44),$I$37:$I$44,0)) -> Noémie | M46: =INDEX($H$37:$H$44,MATCH(SUMIF(M$37:M$44,"1",$I$37:$I$44),$I$37:$I$44,0)) -> Noémie | N46: =INDEX($H$37:$H$44,MATCH(SUMIF(N$37:N$44,"1",$I$37:$I$44),$I$37:$I$44,0)) -> Noémie | P46: 4/ Résultat à afficher

Sheet Listes
B1: =COUNTA(B3:B1048576) -> 2 | C1: =COUNTA(C3:C1048576) -> 8 | D1: =COUNTA(D3:D1048576) -> 2 | E1: =COUNTA(E3:E1048576) -> 2 | F1: =COUNTA(F3:F1048576) -> 53 | G1: =COUNTA(G3:G1048576) -> 2
B2: Heures de travail | C2: Agents | D2: Présence | E2: Réponse | F2: N° semaine | G2: Postes de travail
B3: 08h00 à 16h33 | C3: David | D3: 0 | E3: TRUE | F3: 1 | G3: Lavage
B4: 08h00 à 17h45 | C4: Florence | D4: 1 | E4: FALSE | F4: 2 | G4: Tri + Laveur (soir)
C5: Jacques | F5: 3
C6: Nicolas | F6: 4
C7: Noémie | F7: 5
C8: Pauline | F8: 6
C9: Pierre | F9: 7
C10: Vincent | F10: 8
F11: 9
F12: 10
F13: 11
F14: 12
F15: 13
F16: 14
F17: 15
F18: 16
F19: 17
F20: 18
F21: 19
F22: 20
... F55: 53

Sheet Questions
A2: 1/ | B2: Pourquoi ajouter un jour lorsqu'il y a un férié ?
A3: 2/ | B3: Et si plusieurs jours fériés dans la même semaine ?
A4: 3/ | B4: Pourquoi ne retenir que les agents disponibles au moins 3 jours dans la semaine ?
A5: 4/ | B5: Est-ce que les agents sont toujours dans le même groupe, ou cela peut varier d'une semaine à l'autre ?
