Workbook

Sheet Valeurs_brutes
A1: Tableau de données brutes (valeurs fictives données pour l'exemple)
C8: A | F8: B | I8: C | L8: D | O8: E
B9: 1 | C9: 89 | D9: 40 | E9: 44 | F9: 97 | G9: 81 | H9: 12 | I9: 97 | J9: 55 | K9: 49 | L9: 57 | M9: 98 | N9: 62 | O9: 97 | P9: 15 | Q9: 59
C10: 0 | D10: 0 | E10: 0 | F10: 0 | G10: 0 | H10: 0 | I10: 0 | J10: 0 | K10: 0 | L10: 0 | M10: 0 | N10: 0 | O10: 0 | P10: 0 | Q10: 0
B11: 2 | C11: 83 | D11: 0 | E11: 56 | F11: 36 | G11: 23 | H11: 23 | I11: 98 | J11: 22 | K11: 47 | L11: 2 | M11: 54 | N11: 90 | O11: 9 | P11: 10 | Q11: 88
C12: 0 | D12: 0 | E12: 0 | F12: 0 | G12: 0 | H12: 0 | I12: 0 | J12: 0 | K12: 0 | L12: 0 | M12: 0 | N12: 0 | O12: 0 | P12: 0 | Q12: 0
B13: 3 | C13: 22 | D13: 85 | E13: 88 | F13: 46 | G13: 48 | H13: 2 | I13: 20 | J13: 16 | K13: 58 | L13: 25 | M13: 34 | N13: 99 | O13: 29 | P13: 75 | Q13: 41
C14: 0 | D14: 0 | E14: 0 | F14: 0 | G14: 0 | H14: 0 | I14: 0 | J14: 0 | K14: 0 | L14: 0 | M14: 0 | N14: 0 | O14: 0 | P14: 0 | Q14: 0
B15: 4 | C15: 29 | D15: 100 | E15: 20 | F15: 50 | G15: 45 | H15: 78 | I15: 38 | J15: 67 | K15: 66 | L15: 67 | M15: 59 | N15: 1 | O15: 18 | P15: 31 | Q15: 34
C16: 0 | D16: 0 | E16: 0 | F16: 0 | G16: 0 | H16: 0 | I16: 0 | J16: 0 | K16: 0 | L16: 0 | M16: 0 | N16: 0 | O16: 0 | P16: 0 | Q16: 0
B17: 5 | C17: 8 | D17: 100 | E17: 18 | F17: 32 | G17: 100 | H17: 0 | I17: 29 | J17: 14 | K17: 23 | L17: 89 | M17: 22 | N17: 50 | O17: 45 | P17: 11 | Q17: 80
C18: 0 | D18: 0 | E18: 0 | F18: 0 | G18: 0 | H18: 0 | I18: 0 | J18: 0 | K18: 0 | L18: 0 | M18: 0 | N18: 0 | O18: 0 | P18: 0 | Q18: 0
B19: 6 | C19: 35 | D19: 38 | E19: 16 | F19: 50 | G19: 21 | H19: 70 | I19: 97 | J19: 38 | K19: 84 | L19: 40 | M19: 97 | N19: 54 | O19: 48 | P19: 100 | Q19: 87
C20: 0 | D20: 0 | E20: 0 | F20: 0 | G20: 0 | H20: 0 | I20: 0 | J20: 0 | K20: 0 | L20: 0 | M20: 0 | N20: 0 | O20: 0 | P20: 0 | Q20: 0

Sheet Résultats
A1: Tableau de présentation des résultats
C8: A | F8: B | I8: C | L8: D | O8: E
B9: 1 | C9: =Valeurs_brutes!C9 -> 89 | D9: =Valeurs_brutes!D9 -> 40 | E9: =Valeurs_brutes!E9 -> 44 | F9: =Valeurs_brutes!F9 -> 97 | G9: =Valeurs_brutes!G9 -> 81 | H9: =Valeurs_brutes!H9 -> 12 | I9: =Valeurs_brutes!I9 -> 97 | J9: =Valeurs_brutes!J9 -> 55 | ... Q9: =Valeurs_brutes!Q9 -> 59
B10: 2 | C10: =Valeurs_brutes!C11 -> 83 | D10: =Valeurs_brutes!D11 -> 0 | E10: =Valeurs_brutes!E11 -> 56 | F10: =Valeurs_brutes!F11 -> 36 | G10: =Valeurs_brutes!G11 -> 23 | H10: =Valeurs_brutes!H11 -> 23 | I10: =Valeurs_brutes!I11 -> 98 | J10: =Valeurs_brutes!J11 -> 22 | ... Q10: =Valeurs_brutes!Q11 -> 88
B11: 3 | C11: =Valeurs_brutes!C13 -> 22 | D11: =Valeurs_brutes!D13 -> 85 | E11: =Valeurs_brutes!E13 -> 88 | F11: =Valeurs_brutes!F13 -> 46 | G11: =Valeurs_brutes!G13 -> 48 | H11: =Valeurs_brutes!H13 -> 2 | I11: =Valeurs_brutes!I13 -> 20 | J11: =Valeurs_brutes!J13 -> 16 | ... Q11: =Valeurs_brutes!Q13 -> 41
B12: 4 | C12: =Valeurs_brutes!C15 -> 29 | D12: =Valeurs_brutes!D15 -> 100 | E12: =Valeurs_brutes!E15 -> 20 | F12: =Valeurs_brutes!F15 -> 50 | G12: =Valeurs_brutes!G15 -> 45 | H12: =Valeurs_brutes!H15 -> 78 | I12: =Valeurs_brutes!I15 -> 38 | J12: =Valeurs_brutes!J15 -> 67 | ... Q12: =Valeurs_brutes!Q15 -> 34
B13: 5 | C13: =Valeurs_brutes!C17 -> 8 | D13: =Valeurs_brutes!D17 -> 100 | E13: =Valeurs_brutes!E17 -> 18 | F13: =Valeurs_brutes!F17 -> 32 | G13: =Valeurs_brutes!G17 -> 100 | H13: =Valeurs_brutes!H17 -> 0 | I13: =Valeurs_brutes!I17 -> 29 | J13: =Valeurs_brutes!J17 -> 14 | ... Q13: =Valeurs_brutes!Q17 -> 80
B14: 6 | C14: =Valeurs_brutes!C19 -> 35 | D14: =Valeurs_brutes!D19 -> 38 | E14: =Valeurs_brutes!E19 -> 16 | F14: =Valeurs_brutes!F19 -> 50 | G14: =Valeurs_brutes!G19 -> 21 | H14: =Valeurs_brutes!H19 -> 70 | I14: =Valeurs_brutes!I19 -> 97 | J14: =Valeurs_brutes!J19 -> 38 | ... Q14: =Valeurs_brutes!Q19 -> 87
M18: Légende : | O18: x | P18: y | Q18: z
A19: Mon but est, par une mise en forme conditionnelle, de colorier :
B20: → | C20: Le minimun des x
B21: → | C21: Le maximum des x
B22: → | C22: Le minimun des y
B23: → | C23: Le maximum des y
B24: → | C24: Le minimun des z
B25: → | C25: Le maximum des z
