Workbook

Sheet BASE
B2: DIV | C2: NOM | D2: PRENOM | E2: 46 | F2: 47 | G2: 48 | H2: 49 | I2: 50 | J2: 51 | K2: 52
B3: USF | C3: BERTRAND | D3: JEAN | E3: R | F3: R | G3: R | H3: R | I3: R | J3: R | K3: R
B4: CHR | C4: DURAND | D4: ROBERT | F4: R | G4: R | H4: R | I4: R | J4: R | K4: R
B5: CHR | C5: DUPONT | D5: JEAN | G5: R | H5: R | I5: R | J5: R | K5: R
B6: USF | C6: LAURENCE | D6: MARIE | E6: R | F6: R | G6: R | H6: R | I6: R | J6: R | K6: R

Sheet CALCULS
G1: =BASE!E2 -> 46 | H1: =BASE!F2 -> 47 | I1: =BASE!G2 -> 48 | J1: =BASE!H2 -> 49 | K1: =BASE!I2 -> 50 | L1: =BASE!J2 -> 51 | M1: =BASE!K2 -> 52
G2: =DEC2BIN(G4,9) -> 000010010 | H2: =DEC2BIN(H4,9) -> 000000100 | I2: =DEC2BIN(I4,9) -> 000001000 | J2: =DEC2BIN(J4,9) -> 000000000 | K2: =DEC2BIN(K4,9) -> 000000000 | L2: =DEC2BIN(L4,9) -> 000000000 | M2: =DEC2BIN(M4,9) -> 000000000
C3: =COUNTA(BASE!B3:B1048576) -> 4 | D3: =COUNTA(BASE!C3:C1048576) -> 4 | E3: =COUNTA(BASE!D3:D1048576) -> 4 | G3: =SUMIF(BASE!E3:E104856,"R",CALCULS!$B$6:$B$1048576) -> 18 | H3: =SUMIF(BASE!F3:F104856,"R",CALCULS!$B$6:$B$1048576) -> 22 | I3: =SUMIF(BASE!G3:G104856,"R",CALCULS!$B$6:$B$1048576) -> 30 | J3: =SUMIF(BASE!H3:H104856,"R",CALCULS!$B$6:$B$1048576) -> 30 | K3: =SUMIF(BASE!I3:I104856,"R",CALCULS!$B$6:$B$1048576) -> 30 | L3: =SUMIF(BASE!J3:J104856,"R",CALCULS!$B$6:$B$1048576) -> 30 | M3: =SUMIF(BASE!K3:K104856,"R",CALCULS!$B$6:$B$1048576) -> 30
G4: =IF(G1<=$F$5,G3,G3-F3) -> 18 | H4: =IF(H1<=$F$5,H3,H3-G3) -> 4 | I4: =IF(I1<=$F$5,I3,I3-H3) -> 8 | J4: =IF(J1<=$F$5,J3,J3-I3) -> 0 | K4: =IF(K1<=$F$5,K3,K3-J3) -> 0 | L4: =IF(L1<=$F$5,L3,L3-K3) -> 0 | M4: =IF(M1<=$F$5,M3,M3-L3) -> 0
A5: 0 | B5: =2^A5 -> 1 | C5: =IF(BASE!B2="","",BASE!B2) -> DIV | D5: =IF(BASE!C2="","",BASE!C2) -> NOM | E5: =IF(BASE!D2="","",BASE!D2) -> PRENOM | F5: =RESULTAT!A1 -> 46 | G5: =MID(G$2,9-$A5,1) -> 0 | H5: =MID(H$2,9-$A5,1) -> 0 | I5: =MID(I$2,9-$A5,1) -> 0 | J5: =MID(J$2,9-$A5,1) -> 0 | K5: =MID(K$2,9-$A5,1) -> 0 | L5: =MID(L$2,9-$A5,1) -> 0 | M5: =MID(M$2,9-$A5,1) -> 0
A6: 1 | B6: =2^A6 -> 2 | C6: =IF(BASE!B3="","",BASE!B3) -> USF | D6: =IF(BASE!C3="","",BASE!C3) -> BERTRAND | E6: =IF(BASE!D3="","",BASE!D3) -> JEAN | F6: =IF(C6="","",C6&"-"&D6&" "&E6) -> USF-BERTRAND JEAN | G6: =MID(G$2,9-$A6,1) -> 1 | H6: =MID(H$2,9-$A6,1) -> 0 | I6: =MID(I$2,9-$A6,1) -> 0 | J6: =MID(J$2,9-$A6,1) -> 0 | K6: =MID(K$2,9-$A6,1) -> 0 | L6: =MID(L$2,9-$A6,1) -> 0 | M6: =MID(M$2,9-$A6,1) -> 0
A7: 2 | B7: =2^A7 -> 4 | C7: =IF(BASE!B4="","",BASE!B4) -> CHR | D7: =IF(BASE!C4="","",BASE!C4) -> DURAND | E7: =IF(BASE!D4="","",BASE!D4) -> ROBERT | F7: =IF(C7="","",C7&"-"&D7&" "&E7) -> CHR-DURAND ROBERT | G7: =MID(G$2,9-$A7,1) -> 0 | H7: =MID(H$2,9-$A7,1) -> 1 | I7: =MID(I$2,9-$A7,1) -> 0 | J7: =MID(J$2,9-$A7,1) -> 0 | K7: =MID(K$2,9-$A7,1) -> 0 | L7: =MID(L$2,9-$A7,1) -> 0 | M7: =MID(M$2,9-$A7,1) -> 0
A8: 3 | B8: =2^A8 -> 8 | C8: =IF(BASE!B5="","",BASE!B5) -> CHR | D8: =IF(BASE!C5="","",BASE!C5) -> DUPONT | E8: =IF(BASE!D5="","",BASE!D5) -> JEAN | F8: =IF(C8="","",C8&"-"&D8&" "&E8) -> CHR-DUPONT JEAN | G8: =MID(G$2,9-$A8,1) -> 0 | H8: =MID(H$2,9-$A8,1) -> 0 | I8: =MID(I$2,9-$A8,1) -> 1 | J8: =MID(J$2,9-$A8,1) -> 0 | K8: =MID(K$2,9-$A8,1) -> 0 | L8: =MID(L$2,9-$A8,1) -> 0 | M8: =MID(M$2,9-$A8,1) -> 0
A9: 4 | B9: =2^A9 -> 16 | C9: =IF(BASE!B6="","",BASE!B6) -> USF | D9: =IF(BASE!C6="","",BASE!C6) -> LAURENCE | E9: =IF(BASE!D6="","",BASE!D6) -> MARIE | F9: =IF(C9="","",C9&"-"&D9&" "&E9) -> USF-LAURENCE MARIE | G9: =MID(G$2,9-$A9,1) -> 1 | H9: =MID(H$2,9-$A9,1) -> 0 | I9: =MID(I$2,9-$A9,1) -> 0 | J9: =MID(J$2,9-$A9,1) -> 0 | K9: =MID(K$2,9-$A9,1) -> 0 | L9: =MID(L$2,9-$A9,1) -> 0 | M9: =MID(M$2,9-$A9,1) -> 0
A10: 5 | B10: =2^A10 -> 32 | C10: =IF(BASE!B8="","",BASE!B8) | D10: =IF(BASE!C8="","",BASE!C8) | E10: =IF(BASE!D8="","",BASE!D8) | F10: =IF(C10="","",C10&"-"&D10&" "&E10) | G10: =MID(G$2,9-$A10,1) -> 0 | H10: =MID(H$2,9-$A10,1) -> 0 | I10: =MID(I$2,9-$A10,1) -> 0 | J10: =MID(J$2,9-$A10,1) -> 0 | K10: =MID(K$2,9-$A10,1) -> 0 | L10: =MID(L$2,9-$A10,1) -> 0 | M10: =MID(M$2,9-$A10,1) -> 0
A11: 6 | B11: =2^A11 -> 64 | C11: =IF(BASE!B9="","",BASE!B9) | D11: =IF(BASE!C9="","",BASE!C9) | E11: =IF(BASE!D9="","",BASE!D9) | F11: =IF(C11="","",C11&"-"&D11&" "&E11) | G11: =MID(G$2,9-$A11,1) -> 0 | H11: =MID(H$2,9-$A11,1) -> 0 | I11: =MID(I$2,9-$A11,1) -> 0 | J11: =MID(J$2,9-$A11,1) -> 0 | K11: =MID(K$2,9-$A11,1) -> 0 | L11: =MID(L$2,9-$A11,1) -> 0 | M11: =MID(M$2,9-$A11,1) -> 0
A12: 7 | B12: =2^A12 -> 128 | C12: =IF(BASE!B10="","",BASE!B10) | D12: =IF(BASE!C10="","",BASE!C10) | E12: =IF(BASE!D10="","",BASE!D10) | F12: =IF(C12="","",C12&"-"&D12&" "&E12) | G12: =MID(G$2,9-$A12,1) -> 0 | H12: =MID(H$2,9-$A12,1) -> 0 | I12: =MID(I$2,9-$A12,1) -> 0 | J12: =MID(J$2,9-$A12,1) -> 0 | K12: =MID(K$2,9-$A12,1) -> 0 | L12: =MID(L$2,9-$A12,1) -> 0 | M12: =MID(M$2,9-$A12,1) -> 0
A13: 8 | B13: =2^A13 -> 256 | C13: =IF(BASE!B11="","",BASE!B11) | D13: =IF(BASE!C11="","",BASE!C11) | E13: =IF(BASE!D11="","",BASE!D11) | F13: =IF(C13="","",C13&"-"&D13&" "&E13) | G13: =MID(G$2,9-$A13,1) -> 0 | H13: =MID(H$2,9-$A13,1) -> 0 | I13: =MID(I$2,9-$A13,1) -> 0 | J13: =MID(J$2,9-$A13,1) -> 0 | K13: =MID(K$2,9-$A13,1) -> 0 | L13: =MID(L$2,9-$A13,1) -> 0 | M13: =MID(M$2,9-$A13,1) -> 0
G15: =MAX(G17:G23) -> 2 | H15: =MAX(H17:H23) -> 1 | I15: =MAX(I17:I23) -> 1 | J15: =MAX(J17:J23) -> 0 | K15: =MAX(K17:K23) -> 0 | L15: =MAX(L17:L23) -> 0 | M15: =MAX(M17:M23) -> 0
G16: 0 | H16: 0 | I16: 0 | J16: 0 | K16: 0 | L16: 0 | M16: 0
G17: =G16+G6 -> 1 | H17: =H16+H6 -> 0 | I17: =I16+I6 -> 0 | J17: =J16+J6 -> 0 | K17: =K16+K6 -> 0 | L17: =L16+L6 -> 0 | M17: =M16+M6 -> 0
G18: =G17+G7 -> 1 | H18: =H17+H7 -> 1 | I18: =I17+I7 -> 0 | J18: =J17+J7 -> 0 | K18: =K17+K7 -> 0 | L18: =L17+L7 -> 0 | M18: =M17+M7 -> 0
G19: =G18+G8 -> 1 | H19: =H18+H8 -> 1 | I19: =I18+I8 -> 1 | J19: =J18+J8 -> 0 | K19: =K18+K8 -> 0 | L19: =L18+L8 -> 0 | M19: =M18+M8 -> 0
G20: =G19+G9 -> 2 | H20: =H19+H9 -> 1 | I20: =I19+I9 -> 1 | J20: =J19+J9 -> 0 | K20: =K19+K9 -> 0 | L20: =L19+L9 -> 0 | M20: =M19+M9 -> 0
G21: =G20+G10 -> 2 | H21: =H20+H10 -> 1 | I21: =I20+I10 -> 1 | J21: =J20+J10 -> 0 | K21: =K20+K10 -> 0 | L21: =L20+L10 -> 0 | M21: =M20+M10 -> 0
G22: =G21+G11 -> 2 | H22: =H21+H11 -> 1 | I22: =I21+I11 -> 1 | J22: =J21+J11 -> 0 | K22: =K21+K11 -> 0 | L22: =L21+L11 -> 0 | M22: =M21+M11 -> 0
G23: =G22+G12 -> 2 | H23: =H22+H12 -> 1 | I23: =I22+I12 -> 1 | J23: =J22+J12 -> 0 | K23: =K22+K12 -> 0 | L23: =L22+L12 -> 0 | M23: =M22+M12 -> 0
G25: =IF($A6<=G$15,MATCH($A6,G$17:G$23,0),"") -> 1 | H25: =IF($A6<=H$15,MATCH($A6,H$17:H$23,0),"") -> 2 | I25: =IF($A6<=I$15,MATCH($A6,I$17:I$23,0),"") -> 3 | J25: =IF($A6<=J$15,MATCH($A6,J$17:J$23,0),"") | K25: =IF($A6<=K$15,MATCH($A6,K$17:K$23,0),"") | L25: =IF($A6<=L$15,MATCH($A6,L$17:L$23,0),"") | M25: =IF($A6<=M$15,MATCH($A6,M$17:M$23,0),"")
G26: =IF($A7<=G$15,MATCH($A7,G$17:G$23,0),"") -> 4 | H26: =IF($A7<=H$15,MATCH($A7,H$17:H$23,0),"") | I26: =IF($A7<=I$15,MATCH($A7,I$17:I$23,0),"") | J26: =IF($A7<=J$15,MATCH($A7,J$17:J$23,0),"") | K26: =IF($A7<=K$15,MATCH($A7,K$17:K$23,0),"") | L26: =IF($A7<=L$15,MATCH($A7,L$17:L$23,0),"") | M26: =IF($A7<=M$15,MATCH($A7,M$17:M$23,0),"")
G27: =IF($A8<=G$15,MATCH($A8,G$17:G$23,0),"") | H27: =IF($A8<=H$15,MATCH($A8,H$17:H$23,0),"") | I27: =IF($A8<=I$15,MATCH($A8,I$17:I$23,0),"") | J27: =IF($A8<=J$15,MATCH($A8,J$17:J$23,0),"") | K27: =IF($A8<=K$15,MATCH($A8,K$17:K$23,0),"") | L27: =IF($A8<=L$15,MATCH($A8,L$17:L$23,0),"") | M27: =IF($A8<=M$15,MATCH($A8,M$17:M$23,0),"")
G28: =IF($A9<=G$15,MATCH($A9,G$17:G$23,0),"") | H28: =IF($A9<=H$15,MATCH($A9,H$17:H$23,0),"") | I28: =IF($A9<=I$15,MATCH($A9,I$17:I$23,0),"") | J28: =IF($A9<=J$15,MATCH($A9,J$17:J$23,0),"") | K28: =IF($A9<=K$15,MATCH($A9,K$17:K$23,0),"") | L28: =IF($A9<=L$15,MATCH($A9,L$17:L$23,0),"") | M28: =IF($A9<=M$15,MATCH($A9,M$17:M$23,0),"")
G29: =IF($A10<=G$15,MATCH($A10,G$17:G$23,0),"") | H29: =IF($A10<=H$15,MATCH($A10,H$17:H$23,0),"") | I29: =IF($A10<=I$15,MATCH($A10,I$17:I$23,0),"") | J29: =IF($A10<=J$15,MATCH($A10,J$17:J$23,0),"") | K29: =IF($A10<=K$15,MATCH($A10,K$17:K$23,0),"") | L29: =IF($A10<=L$15,MATCH($A10,L$17:L$23,0),"") | M29: =IF($A10<=M$15,MATCH($A10,M$17:M$23,0),"")
G30: =IF($A11<=G$15,MATCH($A11,G$17:G$23,0),"") | H30: =IF($A11<=H$15,MATCH($A11,H$17:H$23,0),"") | I30: =IF($A11<=I$15,MATCH($A11,I$17:I$23,0),"") | J30: =IF($A11<=J$15,MATCH($A11,J$17:J$23,0),"") | K30: =IF($A11<=K$15,MATCH($A11,K$17:K$23,0),"") | L30: =IF($A11<=L$15,MATCH($A11,L$17:L$23,0),"") | M30: =IF($A11<=M$15,MATCH($A11,M$17:M$23,0),"")
G31: =IF($A12<=G$15,MATCH($A12,G$17:G$23,0),"") | H31: =IF($A12<=H$15,MATCH($A12,H$17:H$23,0),"") | I31: =IF($A12<=I$15,MATCH($A12,I$17:I$23,0),"") | J31: =IF($A12<=J$15,MATCH($A12,J$17:J$23,0),"") | K31: =IF($A12<=K$15,MATCH($A12,K$17:K$23,0),"") | L31: =IF($A12<=L$15,MATCH($A12,L$17:L$23,0),"") | M31: =IF($A12<=M$15,MATCH($A12,M$17:M$23,0),"")
G32: =IF($A13<=G$15,MATCH($A13,G$17:G$23,0),"") | H32: =IF($A13<=H$15,MATCH($A13,H$17:H$23,0),"") | I32: =IF($A13<=I$15,MATCH($A13,I$17:I$23,0),"") | J32: =IF($A13<=J$15,MATCH($A13,J$17:J$23,0),"") | K32: =IF($A13<=K$15,MATCH($A13,K$17:K$23,0),"") | L32: =IF($A13<=L$15,MATCH($A13,L$17:L$23,0),"") | M32: =IF($A13<=M$15,MATCH($A13,M$17:M$23,0),"")
G36: =G27
G37: =G28
G38: =G29
G39: =G30
G40: =G31
G41: =G32

Sheet RESULTAT
A1: =WEEKNUM(TODAY()) -> 46
A2: 0 | B2: 1 | C2: 2 | D2: 3 | E2: 4 | F2: 5 | G2: 6 | H2: 7 | I2: 8 | J2: 9 | K2: 10 | L2: ="-> à masquer" -> -> à masquer
A3: =QUOTIENT(A2,4) -> 0 | B3: =QUOTIENT(B2,4) -> 0 | C3: =QUOTIENT(C2,4) -> 0 | D3: =QUOTIENT(D2,4) -> 0 | E3: =QUOTIENT(E2,4) -> 1 | F3: =QUOTIENT(F2,4) -> 1 | G3: =QUOTIENT(G2,4) -> 1 | H3: =QUOTIENT(H2,4) -> 1 | ... K3: =QUOTIENT(K2,4) -> 2
A4: IMMEDIAT | E4: A S+1 | I4: A S+2
A5: DIV | B5: NOM | C5: PRENOM | E5: DIV | F5: NOM | G5: PRENOM | I5: DIV | J5: NOM | K5: PRENOM
A6: =IFERROR(INDEX(CALCULS!$C$6:$F$13,OFFSET(CALCULS!$G$25,ROW(RESULTAT!A6)-ROW(RESULTAT!$A$6),MATCH(RESULTAT!$A$1+A$3,CALCULS!$G$1:$M$1,0)-1),1-4*A$3+COLUMN(A6)-COLUMN($A$6)),"") -> USF | B6: =IFERROR(INDEX(CALCULS!$C$6:$F$13,OFFSET(CALCULS!$G$25,ROW(RESULTAT!B6)-ROW(RESULTAT!$A$6),MATCH(RESULTAT!$A$1+B$3,CALCULS!$G$1:$M$1,0)-1),1-4*B$3+COLUMN(B6)-COLUMN($A$6)),"") -> BERTRAND | C6: =IFERROR(INDEX(CALCULS!$C$6:$F$13,OFFSET(CALCULS!$G$25,ROW(RESULTAT!C6)-ROW(RESULTAT!$A$6),MATCH(RESULTAT!$A$1+C$3,CALCULS!$G$1:$M$1,0)-1),1-4*C$3+COLUMN(C6)-COLUMN($A$6)),"") -> JEAN | E6: =IFERROR(INDEX(CALCULS!$C$6:$F$13,OFFSET(CALCULS!$G$25,ROW(RESULTAT!E6)-ROW(RESULTAT!$A$6),MATCH(RESULTAT!$A$1+E$3,CALCULS!$G$1:$M$1,0)-1),1-4*E$3+COLUMN(E6)-COLUMN($A$6)),"") -> CHR | F6: =IFERROR(INDEX(CALCULS!$C$6:$F$13,OFFSET(CALCULS!$G$25,ROW(RESULTAT!F6)-ROW(RESULTAT!$A$6),MATCH(RESULTAT!$A$1+F$3,CALCULS!$G$1:$M$1,0)-1),1-4*F$3+COLUMN(F6)-COLUMN($A$6)),"") -> DURAND | G6: =IFERROR(INDEX(CALCULS!$C$6:$F$13,OFFSET(CALCULS!$G$25,ROW(RESULTAT!G6)-ROW(RESULTAT!$A$6),MATCH(RESULTAT!$A$1+G$3,CALCULS!$G$1:$M$1,0)-1),1-4*G$3+COLUMN(G6)-COLUMN($A$6)),"") -> ROBERT | I6: =IFERROR(INDEX(CALCULS!$C$6:$F$13,OFFSET(CALCULS!$G$25,ROW(RESULTAT!I6)-ROW(RESULTAT!$A$6),MATCH(RESULTAT!$A$1+I$3,CALCULS!$G$1:$M$1,0)-1),1-4*I$3+COLUMN(I6)-COLUMN($A$6)),"") -> CHR | J6: =IFERROR(INDEX(CALCULS!$C$6:$F$13,OFFSET(CALCULS!$G$25,ROW(RESULTAT!J6)-ROW(RESULTAT!$A$6),MATCH(RESULTAT!$A$1+J$3,CALCULS!$G$1:$M$1,0)-1),1-4*J$3+COLUMN(J6)-COLUMN($A$6)),"") -> DUPONT | K6: =IFERROR(INDEX(CALCULS!$C$6:$F$13,OFFSET(CALCULS!$G$25,ROW(RESULTAT!K6)-ROW(RESULTAT!$A$6),MATCH(RESULTAT!$A$1+K$3,CALCULS!$G$1:$M$1,0)-1),1-4*K$3+COLUMN(K6)-COLUMN($A$6)),"") -> JEAN
A7: =IFERROR(INDEX(CALCULS!$C$6:$F$13,OFFSET(CALCULS!$G$25,ROW(RESULTAT!A7)-ROW(RESULTAT!$A$6),MATCH(RESULTAT!$A$1+A$3,CALCULS!$G$1:$M$1,0)-1),1-4*A$3+COLUMN(A7)-COLUMN($A$6)),"") -> USF | B7: =IFERROR(INDEX(CALCULS!$C$6:$F$13,OFFSET(CALCULS!$G$25,ROW(RESULTAT!B7)-ROW(RESULTAT!$A$6),MATCH(RESULTAT!$A$1+B$3,CALCULS!$G$1:$M$1,0)-1),1-4*B$3+COLUMN(B7)-COLUMN($A$6)),"") -> LAURENCE | C7: =IFERROR(INDEX(CALCULS!$C$6:$F$13,OFFSET(CALCULS!$G$25,ROW(RESULTAT!C7)-ROW(RESULTAT!$A$6),MATCH(RESULTAT!$A$1+C$3,CALCULS!$G$1:$M$1,0)-1),1-4*C$3+COLUMN(C7)-COLUMN($A$6)),"") -> MARIE | E7: =IFERROR(INDEX(CALCULS!$C$6:$F$13,OFFSET(CALCULS!$G$25,ROW(RESULTAT!E7)-ROW(RESULTAT!$A$6),MATCH(RESULTAT!$A$1+E$3,CALCULS!$G$1:$M$1,0)-1),1-4*E$3+COLUMN(E7)-COLUMN($A$6)),"") | F7: =IFERROR(INDEX(CALCULS!$C$6:$F$13,OFFSET(CALCULS!$G$25,ROW(RESULTAT!F7)-ROW(RESULTAT!$A$6),MATCH(RESULTAT!$A$1+F$3,CALCULS!$G$1:$M$1,0)-1),1-4*F$3+COLUMN(F7)-COLUMN($A$6)),"") | G7: =IFERROR(INDEX(CALCULS!$C$6:$F$13,OFFSET(CALCULS!$G$25,ROW(RESULTAT!G7)-ROW(RESULTAT!$A$6),MATCH(RESULTAT!$A$1+G$3,CALCULS!$G$1:$M$1,0)-1),1-4*G$3+COLUMN(G7)-COLUMN($A$6)),"") | I7: =IFERROR(INDEX(CALCULS!$C$6:$F$13,OFFSET(CALCULS!$G$25,ROW(RESULTAT!I7)-ROW(RESULTAT!$A$6),MATCH(RESULTAT!$A$1+I$3,CALCULS!$G$1:$M$1,0)-1),1-4*I$3+COLUMN(I7)-COLUMN($A$6)),"") | J7: =IFERROR(INDEX(CALCULS!$C$6:$F$13,OFFSET(CALCULS!$G$25,ROW(RESULTAT!J7)-ROW(RESULTAT!$A$6),MATCH(RESULTAT!$A$1+J$3,CALCULS!$G$1:$M$1,0)-1),1-4*J$3+COLUMN(J7)-COLUMN($A$6)),"") | K7: =IFERROR(INDEX(CALCULS!$C$6:$F$13,OFFSET(CALCULS!$G$25,ROW(RESULTAT!K7)-ROW(RESULTAT!$A$6),MATCH(RESULTAT!$A$1+K$3,CALCULS!$G$1:$M$1,0)-1),1-4*K$3+COLUMN(K7)-COLUMN($A$6)),"")
A8: =IFERROR(INDEX(CALCULS!$C$6:$F$13,OFFSET(CALCULS!$G$25,ROW(RESULTAT!A8)-ROW(RESULTAT!$A$6),MATCH(RESULTAT!$A$1+A$3,CALCULS!$G$1:$M$1,0)-1),1-4*A$3+COLUMN(A8)-COLUMN($A$6)),"") | B8: =IFERROR(INDEX(CALCULS!$C$6:$F$13,OFFSET(CALCULS!$G$25,ROW(RESULTAT!B8)-ROW(RESULTAT!$A$6),MATCH(RESULTAT!$A$1+B$3,CALCULS!$G$1:$M$1,0)-1),1-4*B$3+COLUMN(B8)-COLUMN($A$6)),"") | C8: =IFERROR(INDEX(CALCULS!$C$6:$F$13,OFFSET(CALCULS!$G$25,ROW(RESULTAT!C8)-ROW(RESULTAT!$A$6),MATCH(RESULTAT!$A$1+C$3,CALCULS!$G$1:$M$1,0)-1),1-4*C$3+COLUMN(C8)-COLUMN($A$6)),"") | E8: =IFERROR(INDEX(CALCULS!$C$6:$F$13,OFFSET(CALCULS!$G$25,ROW(RESULTAT!E8)-ROW(RESULTAT!$A$6),MATCH(RESULTAT!$A$1+E$3,CALCULS!$G$1:$M$1,0)-1),1-4*E$3+COLUMN(E8)-COLUMN($A$6)),"") | F8: =IFERROR(INDEX(CALCULS!$C$6:$F$13,OFFSET(CALCULS!$G$25,ROW(RESULTAT!F8)-ROW(RESULTAT!$A$6),MATCH(RESULTAT!$A$1+F$3,CALCULS!$G$1:$M$1,0)-1),1-4*F$3+COLUMN(F8)-COLUMN($A$6)),"") | G8: =IFERROR(INDEX(CALCULS!$C$6:$F$13,OFFSET(CALCULS!$G$25,ROW(RESULTAT!G8)-ROW(RESULTAT!$A$6),MATCH(RESULTAT!$A$1+G$3,CALCULS!$G$1:$M$1,0)-1),1-4*G$3+COLUMN(G8)-COLUMN($A$6)),"") | I8: =IFERROR(INDEX(CALCULS!$C$6:$F$13,OFFSET(CALCULS!$G$25,ROW(RESULTAT!I8)-ROW(RESULTAT!$A$6),MATCH(RESULTAT!$A$1+I$3,CALCULS!$G$1:$M$1,0)-1),1-4*I$3+COLUMN(I8)-COLUMN($A$6)),"") | J8: =IFERROR(INDEX(CALCULS!$C$6:$F$13,OFFSET(CALCULS!$G$25,ROW(RESULTAT!J8)-ROW(RESULTAT!$A$6),MATCH(RESULTAT!$A$1+J$3,CALCULS!$G$1:$M$1,0)-1),1-4*J$3+COLUMN(J8)-COLUMN($A$6)),"") | K8: =IFERROR(INDEX(CALCULS!$C$6:$F$13,OFFSET(CALCULS!$G$25,ROW(RESULTAT!K8)-ROW(RESULTAT!$A$6),MATCH(RESULTAT!$A$1+K$3,CALCULS!$G$1:$M$1,0)-1),1-4*K$3+COLUMN(K8)-COLUMN($A$6)),"")
A9: =IFERROR(INDEX(CALCULS!$C$6:$F$13,OFFSET(CALCULS!$G$25,ROW(RESULTAT!A9)-ROW(RESULTAT!$A$6),MATCH(RESULTAT!$A$1+A$3,CALCULS!$G$1:$M$1,0)-1),1-4*A$3+COLUMN(A9)-COLUMN($A$6)),"") | B9: =IFERROR(INDEX(CALCULS!$C$6:$F$13,OFFSET(CALCULS!$G$25,ROW(RESULTAT!B9)-ROW(RESULTAT!$A$6),MATCH(RESULTAT!$A$1+B$3,CALCULS!$G$1:$M$1,0)-1),1-4*B$3+COLUMN(B9)-COLUMN($A$6)),"") | C9: =IFERROR(INDEX(CALCULS!$C$6:$F$13,OFFSET(CALCULS!$G$25,ROW(RESULTAT!C9)-ROW(RESULTAT!$A$6),MATCH(RESULTAT!$A$1+C$3,CALCULS!$G$1:$M$1,0)-1),1-4*C$3+COLUMN(C9)-COLUMN($A$6)),"") | E9: =IFERROR(INDEX(CALCULS!$C$6:$F$13,OFFSET(CALCULS!$G$25,ROW(RESULTAT!E9)-ROW(RESULTAT!$A$6),MATCH(RESULTAT!$A$1+E$3,CALCULS!$G$1:$M$1,0)-1),1-4*E$3+COLUMN(E9)-COLUMN($A$6)),"") | F9: =IFERROR(INDEX(CALCULS!$C$6:$F$13,OFFSET(CALCULS!$G$25,ROW(RESULTAT!F9)-ROW(RESULTAT!$A$6),MATCH(RESULTAT!$A$1+F$3,CALCULS!$G$1:$M$1,0)-1),1-4*F$3+COLUMN(F9)-COLUMN($A$6)),"") | G9: =IFERROR(INDEX(CALCULS!$C$6:$F$13,OFFSET(CALCULS!$G$25,ROW(RESULTAT!G9)-ROW(RESULTAT!$A$6),MATCH(RESULTAT!$A$1+G$3,CALCULS!$G$1:$M$1,0)-1),1-4*G$3+COLUMN(G9)-COLUMN($A$6)),"") | I9: =IFERROR(INDEX(CALCULS!$C$6:$F$13,OFFSET(CALCULS!$G$25,ROW(RESULTAT!I9)-ROW(RESULTAT!$A$6),MATCH(RESULTAT!$A$1+I$3,CALCULS!$G$1:$M$1,0)-1),1-4*I$3+COLUMN(I9)-COLUMN($A$6)),"") | J9: =IFERROR(INDEX(CALCULS!$C$6:$F$13,OFFSET(CALCULS!$G$25,ROW(RESULTAT!J9)-ROW(RESULTAT!$A$6),MATCH(RESULTAT!$A$1+J$3,CALCULS!$G$1:$M$1,0)-1),1-4*J$3+COLUMN(J9)-COLUMN($A$6)),"") | K9: =IFERROR(INDEX(CALCULS!$C$6:$F$13,OFFSET(CALCULS!$G$25,ROW(RESULTAT!K9)-ROW(RESULTAT!$A$6),MATCH(RESULTAT!$A$1+K$3,CALCULS!$G$1:$M$1,0)-1),1-4*K$3+COLUMN(K9)-COLUMN($A$6)),"")
A10: =IFERROR(INDEX(CALCULS!$C$6:$F$13,OFFSET(CALCULS!$G$25,ROW(RESULTAT!A10)-ROW(RESULTAT!$A$6),MATCH(RESULTAT!$A$1+A$3,CALCULS!$G$1:$M$1,0)-1),1-4*A$3+COLUMN(A10)-COLUMN($A$6)),"") | B10: =IFERROR(INDEX(CALCULS!$C$6:$F$13,OFFSET(CALCULS!$G$25,ROW(RESULTAT!B10)-ROW(RESULTAT!$A$6),MATCH(RESULTAT!$A$1+B$3,CALCULS!$G$1:$M$1,0)-1),1-4*B$3+COLUMN(B10)-COLUMN($A$6)),"") | C10: =IFERROR(INDEX(CALCULS!$C$6:$F$13,OFFSET(CALCULS!$G$25,ROW(RESULTAT!C10)-ROW(RESULTAT!$A$6),MATCH(RESULTAT!$A$1+C$3,CALCULS!$G$1:$M$1,0)-1),1-4*C$3+COLUMN(C10)-COLUMN($A$6)),"") | E10: =IFERROR(INDEX(CALCULS!$C$6:$F$13,OFFSET(CALCULS!$G$25,ROW(RESULTAT!E10)-ROW(RESULTAT!$A$6),MATCH(RESULTAT!$A$1+E$3,CALCULS!$G$1:$M$1,0)-1),1-4*E$3+COLUMN(E10)-COLUMN($A$6)),"") | F10: =IFERROR(INDEX(CALCULS!$C$6:$F$13,OFFSET(CALCULS!$G$25,ROW(RESULTAT!F10)-ROW(RESULTAT!$A$6),MATCH(RESULTAT!$A$1+F$3,CALCULS!$G$1:$M$1,0)-1),1-4*F$3+COLUMN(F10)-COLUMN($A$6)),"") | G10: =IFERROR(INDEX(CALCULS!$C$6:$F$13,OFFSET(CALCULS!$G$25,ROW(RESULTAT!G10)-ROW(RESULTAT!$A$6),MATCH(RESULTAT!$A$1+G$3,CALCULS!$G$1:$M$1,0)-1),1-4*G$3+COLUMN(G10)-COLUMN($A$6)),"") | I10: =IFERROR(INDEX(CALCULS!$C$6:$F$13,OFFSET(CALCULS!$G$25,ROW(RESULTAT!I10)-ROW(RESULTAT!$A$6),MATCH(RESULTAT!$A$1+I$3,CALCULS!$G$1:$M$1,0)-1),1-4*I$3+COLUMN(I10)-COLUMN($A$6)),"") | J10: =IFERROR(INDEX(CALCULS!$C$6:$F$13,OFFSET(CALCULS!$G$25,ROW(RESULTAT!J10)-ROW(RESULTAT!$A$6),MATCH(RESULTAT!$A$1+J$3,CALCULS!$G$1:$M$1,0)-1),1-4*J$3+COLUMN(J10)-COLUMN($A$6)),"") | K10: =IFERROR(INDEX(CALCULS!$C$6:$F$13,OFFSET(CALCULS!$G$25,ROW(RESULTAT!K10)-ROW(RESULTAT!$A$6),MATCH(RESULTAT!$A$1+K$3,CALCULS!$G$1:$M$1,0)-1),1-4*K$3+COLUMN(K10)-COLUMN($A$6)),"")
A11: =IFERROR(INDEX(CALCULS!$C$6:$F$13,OFFSET(CALCULS!$G$25,ROW(RESULTAT!A11)-ROW(RESULTAT!$A$6),MATCH(RESULTAT!$A$1+A$3,CALCULS!$G$1:$M$1,0)-1),1-4*A$3+COLUMN(A11)-COLUMN($A$6)),"") | B11: =IFERROR(INDEX(CALCULS!$C$6:$F$13,OFFSET(CALCULS!$G$25,ROW(RESULTAT!B11)-ROW(RESULTAT!$A$6),MATCH(RESULTAT!$A$1+B$3,CALCULS!$G$1:$M$1,0)-1),1-4*B$3+COLUMN(B11)-COLUMN($A$6)),"") | C11: =IFERROR(INDEX(CALCULS!$C$6:$F$13,OFFSET(CALCULS!$G$25,ROW(RESULTAT!C11)-ROW(RESULTAT!$A$6),MATCH(RESULTAT!$A$1+C$3,CALCULS!$G$1:$M$1,0)-1),1-4*C$3+COLUMN(C11)-COLUMN($A$6)),"") | E11: =IFERROR(INDEX(CALCULS!$C$6:$F$13,OFFSET(CALCULS!$G$25,ROW(RESULTAT!E11)-ROW(RESULTAT!$A$6),MATCH(RESULTAT!$A$1+E$3,CALCULS!$G$1:$M$1,0)-1),1-4*E$3+COLUMN(E11)-COLUMN($A$6)),"") | F11: =IFERROR(INDEX(CALCULS!$C$6:$F$13,OFFSET(CALCULS!$G$25,ROW(RESULTAT!F11)-ROW(RESULTAT!$A$6),MATCH(RESULTAT!$A$1+F$3,CALCULS!$G$1:$M$1,0)-1),1-4*F$3+COLUMN(F11)-COLUMN($A$6)),"") | G11: =IFERROR(INDEX(CALCULS!$C$6:$F$13,OFFSET(CALCULS!$G$25,ROW(RESULTAT!G11)-ROW(RESULTAT!$A$6),MATCH(RESULTAT!$A$1+G$3,CALCULS!$G$1:$M$1,0)-1),1-4*G$3+COLUMN(G11)-COLUMN($A$6)),"") | I11: =IFERROR(INDEX(CALCULS!$C$6:$F$13,OFFSET(CALCULS!$G$25,ROW(RESULTAT!I11)-ROW(RESULTAT!$A$6),MATCH(RESULTAT!$A$1+I$3,CALCULS!$G$1:$M$1,0)-1),1-4*I$3+COLUMN(I11)-COLUMN($A$6)),"") | J11: =IFERROR(INDEX(CALCULS!$C$6:$F$13,OFFSET(CALCULS!$G$25,ROW(RESULTAT!J11)-ROW(RESULTAT!$A$6),MATCH(RESULTAT!$A$1+J$3,CALCULS!$G$1:$M$1,0)-1),1-4*J$3+COLUMN(J11)-COLUMN($A$6)),"") | K11: =IFERROR(INDEX(CALCULS!$C$6:$F$13,OFFSET(CALCULS!$G$25,ROW(RESULTAT!K11)-ROW(RESULTAT!$A$6),MATCH(RESULTAT!$A$1+K$3,CALCULS!$G$1:$M$1,0)-1),1-4*K$3+COLUMN(K11)-COLUMN($A$6)),"")
A12: =IFERROR(INDEX(CALCULS!$C$6:$F$13,OFFSET(CALCULS!$G$25,ROW(RESULTAT!A12)-ROW(RESULTAT!$A$6),MATCH(RESULTAT!$A$1+A$3,CALCULS!$G$1:$M$1,0)-1),1-4*A$3+COLUMN(A12)-COLUMN($A$6)),"") | B12: =IFERROR(INDEX(CALCULS!$C$6:$F$13,OFFSET(CALCULS!$G$25,ROW(RESULTAT!B12)-ROW(RESULTAT!$A$6),MATCH(RESULTAT!$A$1+B$3,CALCULS!$G$1:$M$1,0)-1),1-4*B$3+COLUMN(B12)-COLUMN($A$6)),"") | C12: =IFERROR(INDEX(CALCULS!$C$6:$F$13,OFFSET(CALCULS!$G$25,ROW(RESULTAT!C12)-ROW(RESULTAT!$A$6),MATCH(RESULTAT!$A$1+C$3,CALCULS!$G$1:$M$1,0)-1),1-4*C$3+COLUMN(C12)-COLUMN($A$6)),"") | E12: =IFERROR(INDEX(CALCULS!$C$6:$F$13,OFFSET(CALCULS!$G$25,ROW(RESULTAT!E12)-ROW(RESULTAT!$A$6),MATCH(RESULTAT!$A$1+E$3,CALCULS!$G$1:$M$1,0)-1),1-4*E$3+COLUMN(E12)-COLUMN($A$6)),"") | F12: =IFERROR(INDEX(CALCULS!$C$6:$F$13,OFFSET(CALCULS!$G$25,ROW(RESULTAT!F12)-ROW(RESULTAT!$A$6),MATCH(RESULTAT!$A$1+F$3,CALCULS!$G$1:$M$1,0)-1),1-4*F$3+COLUMN(F12)-COLUMN($A$6)),"") | G12: =IFERROR(INDEX(CALCULS!$C$6:$F$13,OFFSET(CALCULS!$G$25,ROW(RESULTAT!G12)-ROW(RESULTAT!$A$6),MATCH(RESULTAT!$A$1+G$3,CALCULS!$G$1:$M$1,0)-1),1-4*G$3+COLUMN(G12)-COLUMN($A$6)),"") | I12: =IFERROR(INDEX(CALCULS!$C$6:$F$13,OFFSET(CALCULS!$G$25,ROW(RESULTAT!I12)-ROW(RESULTAT!$A$6),MATCH(RESULTAT!$A$1+I$3,CALCULS!$G$1:$M$1,0)-1),1-4*I$3+COLUMN(I12)-COLUMN($A$6)),"") | J12: =IFERROR(INDEX(CALCULS!$C$6:$F$13,OFFSET(CALCULS!$G$25,ROW(RESULTAT!J12)-ROW(RESULTAT!$A$6),MATCH(RESULTAT!$A$1+J$3,CALCULS!$G$1:$M$1,0)-1),1-4*J$3+COLUMN(J12)-COLUMN($A$6)),"") | K12: =IFERROR(INDEX(CALCULS!$C$6:$F$13,OFFSET(CALCULS!$G$25,ROW(RESULTAT!K12)-ROW(RESULTAT!$A$6),MATCH(RESULTAT!$A$1+K$3,CALCULS!$G$1:$M$1,0)-1),1-4*K$3+COLUMN(K12)-COLUMN($A$6)),"")
A13: =IFERROR(INDEX(CALCULS!$C$6:$F$13,OFFSET(CALCULS!$G$25,ROW(RESULTAT!A13)-ROW(RESULTAT!$A$6),MATCH(RESULTAT!$A$1+A$3,CALCULS!$G$1:$M$1,0)-1),1-4*A$3+COLUMN(A13)-COLUMN($A$6)),"") | B13: =IFERROR(INDEX(CALCULS!$C$6:$F$13,OFFSET(CALCULS!$G$25,ROW(RESULTAT!B13)-ROW(RESULTAT!$A$6),MATCH(RESULTAT!$A$1+B$3,CALCULS!$G$1:$M$1,0)-1),1-4*B$3+COLUMN(B13)-COLUMN($A$6)),"") | C13: =IFERROR(INDEX(CALCULS!$C$6:$F$13,OFFSET(CALCULS!$G$25,ROW(RESULTAT!C13)-ROW(RESULTAT!$A$6),MATCH(RESULTAT!$A$1+C$3,CALCULS!$G$1:$M$1,0)-1),1-4*C$3+COLUMN(C13)-COLUMN($A$6)),"") | E13: =IFERROR(INDEX(CALCULS!$C$6:$F$13,OFFSET(CALCULS!$G$25,ROW(RESULTAT!E13)-ROW(RESULTAT!$A$6),MATCH(RESULTAT!$A$1+E$3,CALCULS!$G$1:$M$1,0)-1),1-4*E$3+COLUMN(E13)-COLUMN($A$6)),"") | F13: =IFERROR(INDEX(CALCULS!$C$6:$F$13,OFFSET(CALCULS!$G$25,ROW(RESULTAT!F13)-ROW(RESULTAT!$A$6),MATCH(RESULTAT!$A$1+F$3,CALCULS!$G$1:$M$1,0)-1),1-4*F$3+COLUMN(F13)-COLUMN($A$6)),"") | G13: =IFERROR(INDEX(CALCULS!$C$6:$F$13,OFFSET(CALCULS!$G$25,ROW(RESULTAT!G13)-ROW(RESULTAT!$A$6),MATCH(RESULTAT!$A$1+G$3,CALCULS!$G$1:$M$1,0)-1),1-4*G$3+COLUMN(G13)-COLUMN($A$6)),"") | I13: =IFERROR(INDEX(CALCULS!$C$6:$F$13,OFFSET(CALCULS!$G$25,ROW(RESULTAT!I13)-ROW(RESULTAT!$A$6),MATCH(RESULTAT!$A$1+I$3,CALCULS!$G$1:$M$1,0)-1),1-4*I$3+COLUMN(I13)-COLUMN($A$6)),"") | J13: =IFERROR(INDEX(CALCULS!$C$6:$F$13,OFFSET(CALCULS!$G$25,ROW(RESULTAT!J13)-ROW(RESULTAT!$A$6),MATCH(RESULTAT!$A$1+J$3,CALCULS!$G$1:$M$1,0)-1),1-4*J$3+COLUMN(J13)-COLUMN($A$6)),"") | K13: =IFERROR(INDEX(CALCULS!$C$6:$F$13,OFFSET(CALCULS!$G$25,ROW(RESULTAT!K13)-ROW(RESULTAT!$A$6),MATCH(RESULTAT!$A$1+K$3,CALCULS!$G$1:$M$1,0)-1),1-4*K$3+COLUMN(K13)-COLUMN($A$6)),"")
A14: =IFERROR(INDEX(CALCULS!$C$6:$F$13,OFFSET(CALCULS!$G$25,ROW(RESULTAT!A14)-ROW(RESULTAT!$A$6),MATCH(RESULTAT!$A$1+A$3,CALCULS!$G$1:$M$1,0)),1-4*A$3+COLUMN(A14)-COLUMN($A$6)),"") | B14: =IFERROR(INDEX(CALCULS!$C$6:$F$13,OFFSET(CALCULS!$G$25,ROW(RESULTAT!B14)-ROW(RESULTAT!$A$6),MATCH(RESULTAT!$A$1+B$3,CALCULS!$G$1:$M$1,0)),1-4*B$3+COLUMN(B14)-COLUMN($A$6)),"") | C14: =IFERROR(INDEX(CALCULS!$C$6:$F$13,OFFSET(CALCULS!$G$25,ROW(RESULTAT!C14)-ROW(RESULTAT!$A$6),MATCH(RESULTAT!$A$1+C$3,CALCULS!$G$1:$M$1,0)),1-4*C$3+COLUMN(C14)-COLUMN($A$6)),"") | E14: =IFERROR(INDEX(CALCULS!$C$6:$F$13,OFFSET(CALCULS!$G$25,ROW(RESULTAT!E14)-ROW(RESULTAT!$A$6),MATCH(RESULTAT!$A$1+E$3,CALCULS!$G$1:$M$1,0)),1-3*E$3+COLUMN(E14)-COLUMN($A$6)),"") | F14: =IFERROR(INDEX(CALCULS!$C$6:$F$13,OFFSET(CALCULS!$G$25,ROW(RESULTAT!F14)-ROW(RESULTAT!$A$6),MATCH(RESULTAT!$A$1+F$3,CALCULS!$G$1:$M$1,0)),1-3*F$3+COLUMN(F14)-COLUMN($A$6)),"") | G14: =IFERROR(INDEX(CALCULS!$C$6:$F$13,OFFSET(CALCULS!$G$25,ROW(RESULTAT!G14)-ROW(RESULTAT!$A$6),MATCH(RESULTAT!$A$1+G$3,CALCULS!$G$1:$M$1,0)),1-3*G$3+COLUMN(G14)-COLUMN($A$6)),"") | I14: =IFERROR(INDEX(CALCULS!$C$6:$F$13,OFFSET(CALCULS!$G$25,ROW(RESULTAT!I14)-ROW(RESULTAT!$A$6),MATCH(RESULTAT!$A$1+I$3,CALCULS!$G$1:$M$1,0)),1-3*I$3+COLUMN(I14)-COLUMN($A$6)),"") | J14: =IFERROR(INDEX(CALCULS!$C$6:$F$13,OFFSET(CALCULS!$G$25,ROW(RESULTAT!J14)-ROW(RESULTAT!$A$6),MATCH(RESULTAT!$A$1+J$3,CALCULS!$G$1:$M$1,0)),1-3*J$3+COLUMN(J14)-COLUMN($A$6)),"") | K14: =IFERROR(INDEX(CALCULS!$C$6:$F$13,OFFSET(CALCULS!$G$25,ROW(RESULTAT!K14)-ROW(RESULTAT!$A$6),MATCH(RESULTAT!$A$1+K$3,CALCULS!$G$1:$M$1,0)),1-3*K$3+COLUMN(K14)-COLUMN($A$6)),"")
A15: =IFERROR(INDEX(CALCULS!$C$6:$F$13,OFFSET(CALCULS!$G$25,ROW(RESULTAT!A15)-ROW(RESULTAT!$A$6),MATCH(RESULTAT!$A$1+A$3,CALCULS!$G$1:$M$1,0)),1-4*A$3+COLUMN(A15)-COLUMN($A$6)),"") | B15: =IFERROR(INDEX(CALCULS!$C$6:$F$13,OFFSET(CALCULS!$G$25,ROW(RESULTAT!B15)-ROW(RESULTAT!$A$6),MATCH(RESULTAT!$A$1+B$3,CALCULS!$G$1:$M$1,0)),1-4*B$3+COLUMN(B15)-COLUMN($A$6)),"") | C15: =IFERROR(INDEX(CALCULS!$C$6:$F$13,OFFSET(CALCULS!$G$25,ROW(RESULTAT!C15)-ROW(RESULTAT!$A$6),MATCH(RESULTAT!$A$1+C$3,CALCULS!$G$1:$M$1,0)),1-4*C$3+COLUMN(C15)-COLUMN($A$6)),"")
