Workbook
Name Finishs: Bases!$A$2:$B$336

Sheet Bases
A1: Score | B1: Finish conseillé | D1: Liste jeux | F1: Scores valides | N1: Scores Joués | V1: Points de la cible
A2: 180 | D2: 301 | F2: Tour | G2: =Saisie!$B$1 -> Joueur 1 | H2: =Saisie!$I$1 -> Joueur 2 | I2: =Saisie!$P$1 -> Joueur 3 | J2: =Saisie!$W$1 -> Joueur 4 | K2: =Saisie!$AD$1 -> Joueur 5 | L2: =Saisie!$AK$1 -> Joueur 6 | O2: =Saisie!$B$1 -> Joueur 1 | P2: =Saisie!$I$1 -> Joueur 2 | Q2: =Saisie!$P$1 -> Joueur 3 | R2: =Saisie!$W$1 -> Joueur 4 | S2: =Saisie!$AD$1 -> Joueur 5 | T2: =Saisie!$AK$1 -> Joueur 6 | V2: Simple | W2: Double | X2: Triple
A3: 170 | B3: T20 T20 Bull | D3: 501 | F3: 1 | G3: {=IFERROR(_xlfn.IFS(Saisie!F4<0,TRUE,Saisie!F4=Saisie!F3,"",Saisie!F4>=0,Saisie!F4),"")} -> 501 | H3: {=IFERROR(_xlfn.IFS(Saisie!M4<0,TRUE,Saisie!M4=Saisie!M3,"",Saisie!M4>=0,Saisie!M4),"")} -> 321 | I3: {=IFERROR(_xlfn.IFS(Saisie!T4<0,TRUE,Saisie!T4=Saisie!T3,"",Saisie!T4>=0,Saisie!T4),"")} -> 321 | J3: {=IFERROR(_xlfn.IFS(Saisie!AA4<0,TRUE,Saisie!AA4=Saisie!AA3,"",Saisie!AA4>=0,Saisie!AA4),"")} -> 321 | K3: {=IFERROR(_xlfn.IFS(Saisie!AH4<0,TRUE,Saisie!AH4=Saisie!AH3,"",Saisie!AH4>=0,Saisie!AH4),"")} -> 501 | L3: {=IFERROR(_xlfn.IFS(Saisie!AO4<0,TRUE,Saisie!AO4=Saisie!AO3,"",Saisie!AO4>=0,Saisie!AO4),"")} -> 501 | N3: Score réel | O3: =SUM(Saisie_Scores[[#All],[Colonne5]]) -> 0 | P3: =SUM(Saisie_Scores[[#All],[Colonne10]]) -> 501 | Q3: =SUM(Saisie_Scores[[#All],[Colonne15]]) -> 552 | R3: =SUM(Saisie_Scores[[#All],[Colonne20]]) -> 540 | S3: =SUM(Saisie_Scores[[#All],[Colonne25]]) -> 0 | T3: =SUM(Saisie_Scores[[#All],[Colonne30]]) -> 0 | V3: 1 | W3: =V3*2 -> 2 | X3: =V3*3 -> 3
A4: 169 | F4: 2 | G4: {=IFERROR(_xlfn.IFS(Saisie!F5<0,TRUE,Saisie!F5=Saisie!F4,"",Saisie!F5>=0,Saisie!F5),"")} | H4: {=IFERROR(_xlfn.IFS(Saisie!M5<0,TRUE,Saisie!M5=Saisie!M4,"",Saisie!M5>=0,Saisie!M5),"")} -> 171 | I4: {=IFERROR(_xlfn.IFS(Saisie!T5<0,TRUE,Saisie!T5=Saisie!T4,"",Saisie!T5>=0,Saisie!T5),"")} -> 171 | J4: {=IFERROR(_xlfn.IFS(Saisie!AA5<0,TRUE,Saisie!AA5=Saisie!AA4,"",Saisie!AA5>=0,Saisie!AA5),"")} -> 171 | K4: {=IFERROR(_xlfn.IFS(Saisie!AH5<0,TRUE,Saisie!AH5=Saisie!AH4,"",Saisie!AH5>=0,Saisie!AH5),"")} | L4: {=IFERROR(_xlfn.IFS(Saisie!AO5<0,TRUE,Saisie!AO5=Saisie!AO4,"",Saisie!AO5>=0,Saisie!AO5),"")} | N4: Dépassement | O4: =Saisie!$A$1-Bases!O3 -> 501 | P4: =Saisie!$A$1-Bases!P3 -> 0 | Q4: =Saisie!$A$1-Bases!Q3 -> -51 | R4: =Saisie!$A$1-Bases!R3 -> -39 | S4: =Saisie!$A$1-Bases!S3 -> 501 | T4: =IF(T3=Saisie!$A$1,"",Saisie!$A$1-Bases!T3) -> 501 | V4: 2 | W4: =V4*2 -> 4 | X4: =V4*3 -> 6
A5: 168 | F5: 3 | G5: {=IFERROR(_xlfn.IFS(Saisie!F6<0,TRUE,Saisie!F6=Saisie!F5,"",Saisie!F6>=0,Saisie!F6),"")} | H5: {=IFERROR(_xlfn.IFS(Saisie!M6<0,TRUE,Saisie!M6=Saisie!M5,"",Saisie!M6>=0,Saisie!M6),"")} -> 40 | I5: {=IFERROR(_xlfn.IFS(Saisie!T6<0,TRUE,Saisie!T6=Saisie!T5,"",Saisie!T6>=0,Saisie!T6),"")} -> 40 | J5: {=IFERROR(_xlfn.IFS(Saisie!AA6<0,TRUE,Saisie!AA6=Saisie!AA5,"",Saisie!AA6>=0,Saisie!AA6),"")} -> 40 | K5: {=IFERROR(_xlfn.IFS(Saisie!AH6<0,TRUE,Saisie!AH6=Saisie!AH5,"",Saisie!AH6>=0,Saisie!AH6),"")} | L5: {=IFERROR(_xlfn.IFS(Saisie!AO6<0,TRUE,Saisie!AO6=Saisie!AO5,"",Saisie!AO6>=0,Saisie!AO6),"")} | N5: Détection du dépassement | O5: =IF(O$4<0,TRUE) -> FALSE | P5: =IF(P$4<0,TRUE) -> FALSE | Q5: =IF(Q$4<0,TRUE) -> TRUE | R5: =IF(R$4<0,TRUE) -> TRUE | S5: =IF(S$4<0,TRUE) -> FALSE | T5: =IF(T$4<0,TRUE) -> FALSE | V5: 3 | W5: =V5*2 -> 6 | X5: =V5*3 -> 9
A6: 167 | B6: T20 T19 Bull | F6: 4 | G6: {=IFERROR(_xlfn.IFS(Saisie!F7<0,TRUE,Saisie!F7=Saisie!F6,"",Saisie!F7>=0,Saisie!F7),"")} | H6: {=IFERROR(_xlfn.IFS(Saisie!M7<0,TRUE,Saisie!M7=Saisie!M6,"",Saisie!M7>=0,Saisie!M7),"")} -> 0 | I6: {=IFERROR(_xlfn.IFS(Saisie!T7<0,TRUE,Saisie!T7=Saisie!T6,"",Saisie!T7>=0,Saisie!T7),"")} | J6: {=IFERROR(_xlfn.IFS(Saisie!AA7<0,TRUE,Saisie!AA7=Saisie!AA6,"",Saisie!AA7>=0,Saisie!AA7),"")} -> 1 | K6: {=IFERROR(_xlfn.IFS(Saisie!AH7<0,TRUE,Saisie!AH7=Saisie!AH6,"",Saisie!AH7>=0,Saisie!AH7),"")} | L6: {=IFERROR(_xlfn.IFS(Saisie!AO7<0,TRUE,Saisie!AO7=Saisie!AO6,"",Saisie!AO7>=0,Saisie!AO7),"")} | N6: Score avant dépassement | O6: {=SUM(O3,-(Saisie_Scores[[#All],[Colonne39]]))} -> 0 | P6: {=SUM(P3,-Saisie_Scores[[#All],[Colonne40]])} -> 501 | Q6: {=SUM(Q3,-Saisie_Scores[[#All],[Colonne38]])} -> 461 | R6: {=SUM(R3,-Saisie_Scores[[#All],[Colonne41]])} -> 500 | S6: {=SUM(S3,-Saisie_Scores[[#All],[Colonne42]])} -> 0 | T6: {=SUM(T3,-Saisie_Scores[[#All],[Colonne37]])} -> 0 | V6: 4 | W6: =V6*2 -> 8 | X6: =V6*3 -> 12
A7: 166 | F7: 5 | G7: {=IFERROR(_xlfn.IFS(Saisie!F8<0,TRUE,Saisie!F8=Saisie!F7,"",Saisie!F8>=0,Saisie!F8),"")} | H7: {=IFERROR(_xlfn.IFS(Saisie!M8<0,TRUE,Saisie!M8=Saisie!M7,"",Saisie!M8>=0,Saisie!M8),"")} | I7: {=IFERROR(_xlfn.IFS(Saisie!T8<0,TRUE,Saisie!T8=Saisie!T7,"",Saisie!T8>=0,Saisie!T8),"")} | J7: {=IFERROR(_xlfn.IFS(Saisie!AA8<0,TRUE,Saisie!AA8=Saisie!AA7,"",Saisie!AA8>=0,Saisie!AA8),"")} | K7: {=IFERROR(_xlfn.IFS(Saisie!AH8<0,TRUE,Saisie!AH8=Saisie!AH7,"",Saisie!AH8>=0,Saisie!AH8),"")} | L7: {=IFERROR(_xlfn.IFS(Saisie!AO8<0,TRUE,Saisie!AO8=Saisie!AO7,"",Saisie!AO8>=0,Saisie!AO8),"")} | V7: 5 | W7: =V7*2 -> 10 | X7: =V7*3 -> 15
A8: 165 | F8: 6 | G8: {=IFERROR(_xlfn.IFS(Saisie!F9<0,TRUE,Saisie!F9=Saisie!F8,"",Saisie!F9>=0,Saisie!F9),"")} | H8: {=IFERROR(_xlfn.IFS(Saisie!M9<0,TRUE,Saisie!M9=Saisie!M8,"",Saisie!M9>=0,Saisie!M9),"")} | I8: {=IFERROR(_xlfn.IFS(Saisie!T9<0,TRUE,Saisie!T9=Saisie!T8,"",Saisie!T9>=0,Saisie!T9),"")} | J8: {=IFERROR(_xlfn.IFS(Saisie!AA9<0,TRUE,Saisie!AA9=Saisie!AA8,"",Saisie!AA9>=0,Saisie!AA9),"")} | K8: {=IFERROR(_xlfn.IFS(Saisie!AH9<0,TRUE,Saisie!AH9=Saisie!AH8,"",Saisie!AH9>=0,Saisie!AH9),"")} | L8: {=IFERROR(_xlfn.IFS(Saisie!AO9<0,TRUE,Saisie!AO9=Saisie!AO8,"",Saisie!AO9>=0,Saisie!AO9),"")} | V8: 6 | W8: =V8*2 -> 12 | X8: =V8*3 -> 18
A9: 164 | B9: T20 T18 Bull | F9: 7 | G9: {=IFERROR(_xlfn.IFS(Saisie!F10<0,TRUE,Saisie!F10=Saisie!F9,"",Saisie!F10>=0,Saisie!F10),"")} | H9: {=IFERROR(_xlfn.IFS(Saisie!M10<0,TRUE,Saisie!M10=Saisie!M9,"",Saisie!M10>=0,Saisie!M10),"")} | I9: {=IFERROR(_xlfn.IFS(Saisie!T10<0,TRUE,Saisie!T10=Saisie!T9,"",Saisie!T10>=0,Saisie!T10),"")} | J9: {=IFERROR(_xlfn.IFS(Saisie!AA10<0,TRUE,Saisie!AA10=Saisie!AA9,"",Saisie!AA10>=0,Saisie!AA10),"")} | K9: {=IFERROR(_xlfn.IFS(Saisie!AH10<0,TRUE,Saisie!AH10=Saisie!AH9,"",Saisie!AH10>=0,Saisie!AH10),"")} | L9: {=IFERROR(_xlfn.IFS(Saisie!AO10<0,TRUE,Saisie!AO10=Saisie!AO9,"",Saisie!AO10>=0,Saisie!AO10),"")} | O9: {=Q3/Nb_Flechettes[[#All],[Joueur 3]]} -> 19.034483 | V9: 7 | W9: =V9*2 -> 14 | X9: =V9*3 -> 21
A10: 163 | F10: 8 | G10: {=IFERROR(_xlfn.IFS(Saisie!F11<0,TRUE,Saisie!F11=Saisie!F10,"",Saisie!F11>=0,Saisie!F11),"")} | H10: {=IFERROR(_xlfn.IFS(Saisie!M11<0,TRUE,Saisie!M11=Saisie!M10,"",Saisie!M11>=0,Saisie!M11),"")} | I10: {=IFERROR(_xlfn.IFS(Saisie!T11<0,TRUE,Saisie!T11=Saisie!T10,"",Saisie!T11>=0,Saisie!T11),"")} | J10: {=IFERROR(_xlfn.IFS(Saisie!AA11<0,TRUE,Saisie!AA11=Saisie!AA10,"",Saisie!AA11>=0,Saisie!AA11),"")} | K10: {=IFERROR(_xlfn.IFS(Saisie!AH11<0,TRUE,Saisie!AH11=Saisie!AH10,"",Saisie!AH11>=0,Saisie!AH11),"")} | L10: {=IFERROR(_xlfn.IFS(Saisie!AO11<0,TRUE,Saisie!AO11=Saisie!AO10,"",Saisie!AO11>=0,Saisie!AO11),"")} | V10: 8 | W10: =V10*2 -> 16 | X10: =V10*3 -> 24
A11: 162 | F11: 9 | G11: {=IFERROR(_xlfn.IFS(Saisie!F12<0,TRUE,Saisie!F12=Saisie!F11,"",Saisie!F12>=0,Saisie!F12),"")} | H11: {=IFERROR(_xlfn.IFS(Saisie!M12<0,TRUE,Saisie!M12=Saisie!M11,"",Saisie!M12>=0,Saisie!M12),"")} | I11: {=IFERROR(_xlfn.IFS(Saisie!T12<0,TRUE,Saisie!T12=Saisie!T11,"",Saisie!T12>=0,Saisie!T12),"")} | J11: {=IFERROR(_xlfn.IFS(Saisie!AA12<0,TRUE,Saisie!AA12=Saisie!AA11,"",Saisie!AA12>=0,Saisie!AA12),"")} | K11: {=IFERROR(_xlfn.IFS(Saisie!AH12<0,TRUE,Saisie!AH12=Saisie!AH11,"",Saisie!AH12>=0,Saisie!AH12),"")} | L11: {=IFERROR(_xlfn.IFS(Saisie!AO12<0,TRUE,Saisie!AO12=Saisie!AO11,"",Saisie!AO12>=0,Saisie!AO12),"")} | V11: 9 | W11: =V11*2 -> 18 | X11: =V11*3 -> 27
A12: 161 | B12: T20 T17 Bull | F12: 10 | G12: {=IFERROR(_xlfn.IFS(Saisie!F13<0,TRUE,Saisie!F13=Saisie!F12,"",Saisie!F13>=0,Saisie!F13),"")} | H12: {=IFERROR(_xlfn.IFS(Saisie!M13<0,TRUE,Saisie!M13=Saisie!M12,"",Saisie!M13>=0,Saisie!M13),"")} | I12: {=IFERROR(_xlfn.IFS(Saisie!T13<0,TRUE,Saisie!T13=Saisie!T12,"",Saisie!T13>=0,Saisie!T13),"")} | J12: {=IFERROR(_xlfn.IFS(Saisie!AA13<0,TRUE,Saisie!AA13=Saisie!AA12,"",Saisie!AA13>=0,Saisie!AA13),"")} | K12: {=IFERROR(_xlfn.IFS(Saisie!AH13<0,TRUE,Saisie!AH13=Saisie!AH12,"",Saisie!AH13>=0,Saisie!AH13),"")} | L12: {=IFERROR(_xlfn.IFS(Saisie!AO13<0,TRUE,Saisie!AO13=Saisie!AO12,"",Saisie!AO13>=0,Saisie!AO13),"")} | V12: 10 | W12: =V12*2 -> 20 | X12: =V12*3 -> 30
A13: 160 | B13: T20 T20 D20 | F13: 11 | G13: {=IFERROR(_xlfn.IFS(Saisie!F14<0,TRUE,Saisie!F14=Saisie!F13,"",Saisie!F14>=0,Saisie!F14),"")} | H13: {=IFERROR(_xlfn.IFS(Saisie!M14<0,TRUE,Saisie!M14=Saisie!M13,"",Saisie!M14>=0,Saisie!M14),"")} | I13: {=IFERROR(_xlfn.IFS(Saisie!T14<0,TRUE,Saisie!T14=Saisie!T13,"",Saisie!T14>=0,Saisie!T14),"")} | J13: {=IFERROR(_xlfn.IFS(Saisie!AA14<0,TRUE,Saisie!AA14=Saisie!AA13,"",Saisie!AA14>=0,Saisie!AA14),"")} | K13: {=IFERROR(_xlfn.IFS(Saisie!AH14<0,TRUE,Saisie!AH14=Saisie!AH13,"",Saisie!AH14>=0,Saisie!AH14),"")} | L13: {=IFERROR(_xlfn.IFS(Saisie!AO14<0,TRUE,Saisie!AO14=Saisie!AO13,"",Saisie!AO14>=0,Saisie!AO14),"")} | V13: 11 | W13: =V13*2 -> 22 | X13: =V13*3 -> 33
A14: 159 | F14: 12 | G14: {=IFERROR(_xlfn.IFS(Saisie!F15<0,TRUE,Saisie!F15=Saisie!F14,"",Saisie!F15>=0,Saisie!F15),"")} | H14: {=IFERROR(_xlfn.IFS(Saisie!M15<0,TRUE,Saisie!M15=Saisie!M14,"",Saisie!M15>=0,Saisie!M15),"")} | I14: {=IFERROR(_xlfn.IFS(Saisie!T15<0,TRUE,Saisie!T15=Saisie!T14,"",Saisie!T15>=0,Saisie!T15),"")} | J14: {=IFERROR(_xlfn.IFS(Saisie!AA15<0,TRUE,Saisie!AA15=Saisie!AA14,"",Saisie!AA15>=0,Saisie!AA15),"")} | K14: {=IFERROR(_xlfn.IFS(Saisie!AH15<0,TRUE,Saisie!AH15=Saisie!AH14,"",Saisie!AH15>=0,Saisie!AH15),"")} | L14: {=IFERROR(_xlfn.IFS(Saisie!AO15<0,TRUE,Saisie!AO15=Saisie!AO14,"",Saisie!AO15>=0,Saisie!AO15),"")} | V14: 12 | W14: =V14*2 -> 24 | X14: =V14*3 -> 36
A15: 158 | B15: T20 T20 D19 | F15: 13 | G15: {=IFERROR(_xlfn.IFS(Saisie!F16<0,TRUE,Saisie!F16=Saisie!F15,"",Saisie!F16>=0,Saisie!F16),"")} | H15: {=IFERROR(_xlfn.IFS(Saisie!M16<0,TRUE,Saisie!M16=Saisie!M15,"",Saisie!M16>=0,Saisie!M16),"")} | I15: {=IFERROR(_xlfn.IFS(Saisie!T16<0,TRUE,Saisie!T16=Saisie!T15,"",Saisie!T16>=0,Saisie!T16),"")} | J15: {=IFERROR(_xlfn.IFS(Saisie!AA16<0,TRUE,Saisie!AA16=Saisie!AA15,"",Saisie!AA16>=0,Saisie!AA16),"")} | K15: {=IFERROR(_xlfn.IFS(Saisie!AH16<0,TRUE,Saisie!AH16=Saisie!AH15,"",Saisie!AH16>=0,Saisie!AH16),"")} | L15: {=IFERROR(_xlfn.IFS(Saisie!AO16<0,TRUE,Saisie!AO16=Saisie!AO15,"",Saisie!AO16>=0,Saisie!AO16),"")} | V15: 13 | W15: =V15*2 -> 26 | X15: =V15*3 -> 39
A16: 157 | B16: T20 T19 D20 | F16: 14 | G16: {=IFERROR(_xlfn.IFS(Saisie!F17<0,TRUE,Saisie!F17=Saisie!F16,"",Saisie!F17>=0,Saisie!F17),"")} | H16: {=IFERROR(_xlfn.IFS(Saisie!M17<0,TRUE,Saisie!M17=Saisie!M16,"",Saisie!M17>=0,Saisie!M17),"")} | I16: {=IFERROR(_xlfn.IFS(Saisie!T17<0,TRUE,Saisie!T17=Saisie!T16,"",Saisie!T17>=0,Saisie!T17),"")} | J16: {=IFERROR(_xlfn.IFS(Saisie!AA17<0,TRUE,Saisie!AA17=Saisie!AA16,"",Saisie!AA17>=0,Saisie!AA17),"")} | K16: {=IFERROR(_xlfn.IFS(Saisie!AH17<0,TRUE,Saisie!AH17=Saisie!AH16,"",Saisie!AH17>=0,Saisie!AH17),"")} | L16: {=IFERROR(_xlfn.IFS(Saisie!AO17<0,TRUE,Saisie!AO17=Saisie!AO16,"",Saisie!AO17>=0,Saisie!AO17),"")} | O16: Nombre de Fléchettes lancées | V16: 14 | W16: =V16*2 -> 28 | X16: =V16*3 -> 42
A17: 156 | B17: T20 T20 D18 | F17: 15 | G17: {=IFERROR(_xlfn.IFS(Saisie!F18<0,TRUE,Saisie!F18=Saisie!F17,"",Saisie!F18>=0,Saisie!F18),"")} | H17: {=IFERROR(_xlfn.IFS(Saisie!M18<0,TRUE,Saisie!M18=Saisie!M17,"",Saisie!M18>=0,Saisie!M18),"")} | I17: {=IFERROR(_xlfn.IFS(Saisie!T18<0,TRUE,Saisie!T18=Saisie!T17,"",Saisie!T18>=0,Saisie!T18),"")} | J17: {=IFERROR(_xlfn.IFS(Saisie!AA18<0,TRUE,Saisie!AA18=Saisie!AA17,"",Saisie!AA18>=0,Saisie!AA18),"")} | K17: {=IFERROR(_xlfn.IFS(Saisie!AH18<0,TRUE,Saisie!AH18=Saisie!AH17,"",Saisie!AH18>=0,Saisie!AH18),"")} | L17: {=IFERROR(_xlfn.IFS(Saisie!AO18<0,TRUE,Saisie!AO18=Saisie!AO17,"",Saisie!AO18>=0,Saisie!AO18),"")} | O17: =Saisie!$B$1 -> Joueur 1 | P17: =Saisie!$I$1 -> Joueur 2 | Q17: =Saisie!$P$1 -> Joueur 3 | R17: =Saisie!$W$1 -> Joueur 4 | S17: =Saisie!$AD$1 -> Joueur 5 | T17: =Saisie!$AK$1 -> Joueur 6 | V17: 15 | W17: =V17*2 -> 30 | X17: =V17*3 -> 45
A18: 155 | B18: T20 T19 D19 | O18: =COUNTA(Saisie_Scores[[#All],[Colonne2]:[Colonne4]]) -> 0 | P18: =COUNTA(Saisie_Scores[[#All],[Colonne7]:[Colonne9]]) -> 10 | Q18: =COUNTA(Saisie_Scores[[#All],[Colonne12]:[Colonne15]]) -> 29 | R18: =COUNTA(Saisie_Scores[[#All],[Colonne17]:[Colonne19]]) -> 11 | S18: =COUNTA(Saisie_Scores[[#All],[Colonne22]:[Colonne24]]) -> 0 | T18: =COUNTA(Saisie_Scores[[#All],[Colonne27]:[Colonne29]]) -> 0 | V18: 16 | W18: =V18*2 -> 32 | X18: =V18*3 -> 48
A19: 154 | B19: T20 T18 D20 | V19: 17 | W19: =V19*2 -> 34 | X19: =V19*3 -> 51
A20: 153 | B20: T20 T19 D18 | V20: 18 | W20: =V20*2 -> 36 | X20: =V20*3 -> 54
A21: 152 | B21: T20 T20 D16 | V21: 19 | W21: =V21*2 -> 38 | X21: =V21*3 -> 57
A22: 151 | B22: T20 T17 D20 | V22: 20 | W22: =V22*2 -> 40 | X22: =V22*3 -> 60
A23: 150 | B23: T20 T18 D18 | V23: 25 | W23: =V23*2 -> 50
A24: 149 | B24: T20 T19 D16
A25: 148 | B25: T20 T20 D14
A26: 147 | B26: T20 T19 D15
A27: 146 | B27: T18 T18 D19
A28: 145 | B28: T20 T19 D14
A29: 144 | B29: T18 T18 D18
A30: 143 | B30: T20 T19 D13
A31: 142 | B31: T20 T20 D11
A32: 141 | B32: T20 T17 D15
A33: 140 | B33: Bull Bull D20
A34: 139 | B34: T20 T19 D11
A35: 138 | B35: T20 T20 D9
... A336: -163 | B336: REJOUE !!!

Sheet Saisie
A1: 501 | B1: Joueur 1 | F1: {=IFERROR(SUM(Saisie_Scores[[#All],[Colonne5]]-Saisie_Scores[[#All],[Colonne39]])/COUNTA(Saisie_Scores[[#All],[Colonne2]:[Colonne4]]),"")} | I1: Joueur 2 | M1: {=IFERROR(SUM(Saisie_Scores[[#All],[Colonne10]]-Saisie_Scores[[#All],[Colonne40]])/COUNTA(Saisie_Scores[[#All],[Colonne7]:[Colonne9]]),"")} -> 50.1 | P1: Joueur 3 | T1: {=IFERROR(SUM(Saisie_Scores[[#All],[Colonne15]]-Saisie_Scores[[#All],[Colonne38]])/COUNTA(Saisie_Scores[[#All],[Colonne12]:[Colonne14]]),"")} -> 32.928571 | W1: Joueur 4 | AA1: {=IFERROR(SUM(Saisie_Scores[[#All],[Colonne20]]-Saisie_Scores[[#All],[Colonne41]])/COUNTA(Saisie_Scores[[#All],[Colonne17]:[Colonne19]]),"")} -> 45.454545 | AD1: Joueur 5 | AH1: {=IFERROR(SUM(Saisie_Scores[[#All],[Colonne25]]-Saisie_Scores[[#All],[Colonne42]])/COUNTA(Saisie_Scores[[#All],[Colonne22]:[Colonne24]]),"")} | AK1: Joueur 6 | AO1: {=IFERROR(SUM(Saisie_Scores[[#All],[Colonne30]]-Saisie_Scores[[#All],[Colonne37]])/COUNTA(Saisie_Scores[[#All],[Colonne27]:[Colonne29]]),"")}
C2: Nb de 180 | D2: =COUNTIF(Saisie_Scores[[#All],[Colonne5]],180) -> 0 | F2: Nb de Bull | G2: =COUNTIF(Saisie_Scores[[#All],[Colonne2]:[Colonne4]],50) -> 0 | J2: Nb de 180 | K2: =COUNTIF(Saisie_Scores[[#All],[Colonne10]],180) -> 1 | M2: Nb de Bull | N2: =COUNTIF(Saisie_Scores[[#All],[Colonne7]:[Colonne9]],50) -> 3 | Q2: Nb de 180 | R2: =COUNTIF(Saisie_Scores[[#All],[Colonne15]],180) -> 1 | T2: Nb de Bull | U2: =COUNTIF(Saisie_Scores[[#All],[Colonne12]:[Colonne14]],50) -> 3 | X2: Nb de 180 | Y2: =COUNTIF(Saisie_Scores[[#All],[Colonne20]],180) -> 1 | AA2: Nb de Bull | AB2: =COUNTIF(Saisie_Scores[[#All],[Colonne17]:[Colonne19]],50) -> 3 | AE2: Nb de 180 | AF2: =COUNTIF(Saisie_Scores[[#All],[Colonne25]],180) -> 0 | AH2: Nb de Bull | AI2: =COUNTIF(Saisie_Scores[[#All],[Colonne22]:[Colonne24]],50) -> 0 | AL2: Nb de 180 | AM2: =COUNTIF(Saisie_Scores[[#All],[Colonne30]],180) -> 0 | AO2: Nb de Bull | AP2: =COUNTIF(Saisie_Scores[[#All],[Colonne29]:[Colonne27]],50) -> 0
A3: Tour | B3: 1er lancer | C3: 2e lancer | D3: 3e lancer | E3: Total | F3: Restant | G3: Suggestion Finish | H3: BUST | I3: 1er lancer | J3: 2e lancer | K3: 3e lancer | L3: Total | M3: Restant | N3: Suggestion Finish | O3: BUST | P3: 1er lancer | Q3: 2e lancer | R3: 3e lancer | S3: Total | T3: Restant | U3: Suggestion Finish | V3: BUST | W3: 1er lancer | X3: 2e lancer | Y3: 3e lancer | Z3: Total | AA3: Restant | AB3: Suggestion Finish | AC3: BUST | AD3: 1er lancer | AE3: 2e lancer | AF3: 3e lancer | AG3: Total | AH3: Restant | AI3: Suggestion Finish | AJ3: BUST | AK3: 1er lancer | AL3: 2e lancer | AM3: 3e lancer | AN3: Total | AO3: Restant | AP3: Suggestion Finish | AQ3: BUST
A4: 1 | E4: =B4+C4+D4 -> 0 | F4: =IF($A$1-SUM(E$4:E4)<0,F3,$A$1-SUM(E$4:E4)) -> 501 | G4: =IFERROR(VLOOKUP(F4,Tablo_Finishs[#All],2,FALSE),"") | H4: =IF(F4<F3,0,E4) -> 0 | I4: 60 | J4: 60 | K4: 60 | L4: =I4+J4+K4 -> 180 | M4: =IF($A$1-SUM(L$4:L4)<0,M3,$A$1-SUM(L$4:L4)) -> 321 | N4: =IFERROR(VLOOKUP(M4,Finishs,2,FALSE),"") | O4: =IF(M4<M3,0,L4) -> 0 | P4: 60 | Q4: 60 | R4: 60 | S4: =P4+Q4+R4 -> 180 | T4: =IF($A$1-SUM(S$4:S4)<0,T3,$A$1-SUM(S$4:S4)) -> 321 | U4: =IFERROR(VLOOKUP(T4,Finishs,2,FALSE),"") | V4: =IF(T4<T3,0,S4) -> 0 | W4: 60 | X4: 60 | Y4: 60 | Z4: =W4+X4+Y4 -> 180 | AA4: =IF($A$1-SUM(Z$4:Z4)<0,AA3,$A$1-SUM(Z$4:Z4)) -> 321 | AB4: =IFERROR(VLOOKUP(AA4,Finishs,2,FALSE),"") | AC4: =IF(AA4<AA3,0,Z4) -> 0 | AG4: =AD4+AE4+AF4 -> 0 | AH4: =IF($A$1-SUM(AG$4:AG4)<0,AH3,$A$1-SUM(AG$4:AG4)) -> 501 | AI4: =IFERROR(VLOOKUP(AH4,Finishs,2,FALSE),"") | AJ4: =IF(AH4<AH3,0,AG4) -> 0 | AN4: =AK4+AL4+AM4 -> 0 | AO4: =IF($A$1-SUM(AN$4:AN4)<0,AO3,$A$1-SUM(AN$4:AN4)) -> 501 | AP4: =IFERROR(VLOOKUP(AO4,Finishs,2,FALSE),"") | AQ4: =IF(AO4<AO3,0,AN4) -> 0
A5: 2 | E5: =B5+C5+D5 -> 0 | F5: =IF($A$1-SUM(E$4:E5)<0,F4,$A$1-SUM(E$4:E5)) -> 501 | G5: =IFERROR(VLOOKUP(F5,Finishs,2,FALSE),"") | H5: =IF(F5<F4,0,E5) -> 0 | I5: 50 | J5: 50 | K5: 50 | L5: =I5+J5+K5 -> 150 | M5: =IF($A$1-SUM(L$4:L5)<0,M4,$A$1-SUM(L$4:L5)) -> 171 | N5: =IFERROR(VLOOKUP(M5,Finishs,2,FALSE),"") | O5: =IF(M5<M4,0,L5) -> 0 | P5: 50 | Q5: 50 | R5: 50 | S5: =P5+Q5+R5 -> 150 | T5: =IF($A$1-SUM(S$4:S5)<0,T4,$A$1-SUM(S$4:S5)) -> 171 | U5: =IFERROR(VLOOKUP(T5,Finishs,2,FALSE),"") | V5: =IF(T5<T4,0,S5) -> 0 | W5: 50 | X5: 50 | Y5: 50 | Z5: =W5+X5+Y5 -> 150 | AA5: =IF($A$1-SUM(Z$4:Z5)<0,AA4,$A$1-SUM(Z$4:Z5)) -> 171 | AB5: =IFERROR(VLOOKUP(AA5,Finishs,2,FALSE),"") | AC5: =IF(AA5<AA4,0,Z5) -> 0 | AG5: =AD5+AE5+AF5 -> 0 | AH5: =IF($A$1-SUM(AG$4:AG5)<0,AH4,$A$1-SUM(AG$4:AG5)) -> 501 | AI5: =IFERROR(VLOOKUP(AH5,Finishs,2,FALSE),"") | AJ5: =IF(AH5<AH4,0,AG5) -> 0 | AN5: =AK5+AL5+AM5 -> 0 | AO5: =IF($A$1-SUM(AN$4:AN5)<0,AO4,$A$1-SUM(AN$4:AN5)) -> 501 | AP5: =IFERROR(VLOOKUP(AO5,Finishs,2,FALSE),"") | AQ5: =IF(AO5<AO4,0,AN5) -> 0
A6: 3 | E6: =B6+C6+D6 -> 0 | F6: =IF($A$1-SUM(E$4:E6)<0,F5,$A$1-SUM(E$4:E6)) -> 501 | G6: =IFERROR(VLOOKUP(F6,Finishs,2,FALSE),"") | H6: =IF(F6<F5,0,E6) -> 0 | I6: 60 | J6: 51 | K6: 20 | L6: =I6+J6+K6 -> 131 | M6: =IF($A$1-SUM(L$4:L6)<0,M5,$A$1-SUM(L$4:L6)) -> 40 | N6: =IFERROR(VLOOKUP(M6,Finishs,2,FALSE),"") -> D20 | O6: =IF(M6<M5,0,L6) -> 0 | P6: 60 | Q6: 51 | R6: 20 | S6: =P6+Q6+R6 -> 131 | T6: =IF($A$1-SUM(S$4:S6)<0,T5,$A$1-SUM(S$4:S6)) -> 40 | U6: =IFERROR(VLOOKUP(T6,Finishs,2,FALSE),"") -> D20 | V6: =IF(T6<T5,0,S6) -> 0 | W6: 60 | X6: 51 | Y6: 20 | Z6: =W6+X6+Y6 -> 131 | AA6: =IF($A$1-SUM(Z$4:Z6)<0,AA5,$A$1-SUM(Z$4:Z6)) -> 40 | AB6: =IFERROR(VLOOKUP(AA6,Finishs,2,FALSE),"") -> D20 | AC6: =IF(AA6<AA5,0,Z6) -> 0 | AG6: =AD6+AE6+AF6 -> 0 | AH6: =IF($A$1-SUM(AG$4:AG6)<0,AH5,$A$1-SUM(AG$4:AG6)) -> 501 | AI6: =IFERROR(VLOOKUP(AH6,Finishs,2,FALSE),"") | AJ6: =IF(AH6<AH5,0,AG6) -> 0 | AN6: =AK6+AL6+AM6 -> 0 | AO6: =IF($A$1-SUM(AN$4:AN6)<0,AO5,$A$1-SUM(AN$4:AN6)) -> 501 | AP6: =IFERROR(VLOOKUP(AO6,Finishs,2,FALSE),"") | AQ6: =IF(AO6<AO5,0,AN6) -> 0
A7: 4 | E7: =B7+C7+D7 -> 0 | F7: =IF($A$1-SUM(E$4:E7)<0,F6,$A$1-SUM(E$4:E7)) -> 501 | G7: =IFERROR(VLOOKUP(F7,Finishs,2,FALSE),"") | H7: =IF(F7<F6,0,E7) -> 0 | I7: 40 | L7: =I7+J7+K7 -> 40 | M7: =IF($A$1-SUM(L$4:L7)<0,M6,$A$1-SUM(L$4:L7)) -> 0 | N7: =IFERROR(VLOOKUP(M7,Finishs,2,FALSE),"") -> BRAVO !!! | O7: =IF(M7<M6,0,L7) -> 0 | P7: 21 | Q7: 0 | R7: 30 | S7: =P7+Q7+R7 -> 51 | T7: =IF($A$1-SUM(S$4:S7)<0,T6,$A$1-SUM(S$4:S7)) -> 40 | U7: =IFERROR(VLOOKUP(T7,Finishs,2,FALSE),"") -> D20 | V7: =IF(T7<T6,0,S7) -> 51 | W7: 39 | Z7: =W7+X7+Y7 -> 39 | AA7: =IF($A$1-SUM(Z$4:Z7)<0,AA6,$A$1-SUM(Z$4:Z7)) -> 1 | AB7: =IFERROR(VLOOKUP(AA7,Finishs,2,FALSE),"") -> REJOUE !!! | AC7: =IF(AA7<AA6,0,Z7) -> 0 | AG7: =AD7+AE7+AF7 -> 0 | AH7: =IF($A$1-SUM(AG$4:AG7)<0,AH6,$A$1-SUM(AG$4:AG7)) -> 501 | AI7: =IFERROR(VLOOKUP(AH7,Finishs,2,FALSE),"") | AJ7: =IF(AH7<AH6,0,AG7) -> 0 | AN7: =AK7+AL7+AM7 -> 0 | AO7: =IF($A$1-SUM(AN$4:AN7)<0,AO6,$A$1-SUM(AN$4:AN7)) -> 501 | AP7: =IFERROR(VLOOKUP(AO7,Finishs,2,FALSE),"") | AQ7: =IF(AO7<AO6,0,AN7) -> 0
A8: 5 | E8: =B8+C8+D8 -> 0 | F8: =IF($A$1-SUM(E$4:E8)<0,F7,$A$1-SUM(E$4:E8)) -> 501 | G8: =IFERROR(VLOOKUP(F8,Finishs,2,FALSE),"") | H8: =IF(F8<F7,0,E8) -> 0 | L8: =I8+J8+K8 -> 0 | M8: =IF($A$1-SUM(L$4:L8)<0,M7,$A$1-SUM(L$4:L8)) -> 0 | N8: =IFERROR(VLOOKUP(M8,Finishs,2,FALSE),"") -> BRAVO !!! | O8: =IF(M8<M7,0,L8) -> 0 | P8: 10 | S8: =P8+Q8+R8 -> 10 | T8: =IF($A$1-SUM(S$4:S8)<0,T7,$A$1-SUM(S$4:S8)) -> 40 | U8: =IFERROR(VLOOKUP(T8,Finishs,2,FALSE),"") -> D20 | V8: =IF(T8<T7,0,S8) -> 10 | W8: 40 | Z8: =W8+X8+Y8 -> 40 | AA8: =IF($A$1-SUM(Z$4:Z8)<0,AA7,$A$1-SUM(Z$4:Z8)) -> 1 | AB8: =IFERROR(VLOOKUP(AA8,Finishs,2,FALSE),"") -> REJOUE !!! | AC8: =IF(AA8<AA7,0,Z8) -> 40 | AG8: =AD8+AE8+AF8 -> 0 | AH8: =IF($A$1-SUM(AG$4:AG8)<0,AH7,$A$1-SUM(AG$4:AG8)) -> 501 | AI8: =IFERROR(VLOOKUP(AH8,Finishs,2,FALSE),"") | AJ8: =IF(AH8<AH7,0,AG8) -> 0 | AN8: =AK8+AL8+AM8 -> 0 | AO8: =IF($A$1-SUM(AN$4:AN8)<0,AO7,$A$1-SUM(AN$4:AN8)) -> 501 | AP8: =IFERROR(VLOOKUP(AO8,Finishs,2,FALSE),"") | AQ8: =IF(AO8<AO7,0,AN8) -> 0
A9: 6 | E9: =B9+C9+D9 -> 0 | F9: =IF($A$1-SUM(E$4:E9)<0,F8,$A$1-SUM(E$4:E9)) -> 501 | G9: =IFERROR(VLOOKUP(F9,Finishs,2,FALSE),"") | H9: =IF(F9<F8,0,E9) -> 0 | L9: =I9+J9+K9 -> 0 | M9: =IF($A$1-SUM(L$4:L9)<0,M8,$A$1-SUM(L$4:L9)) -> 0 | N9: =IFERROR(VLOOKUP(M9,Finishs,2,FALSE),"") -> BRAVO !!! | O9: =IF(M9<M8,0,L9) -> 0 | P9: 30 | S9: =P9+Q9+R9 -> 30 | T9: =IF($A$1-SUM(S$4:S9)<0,T8,$A$1-SUM(S$4:S9)) -> 40 | U9: =IFERROR(VLOOKUP(T9,Finishs,2,FALSE),"") -> D20 | V9: =IF(T9<T8,0,S9) -> 30 | Z9: =W9+X9+Y9 -> 0 | AA9: =IF($A$1-SUM(Z$4:Z9)<0,AA8,$A$1-SUM(Z$4:Z9)) -> 1 | AB9: =IFERROR(VLOOKUP(AA9,Finishs,2,FALSE),"") -> REJOUE !!! | AC9: =IF(AA9<AA8,0,Z9) -> 0 | AG9: =AD9+AE9+AF9 -> 0 | AH9: =IF($A$1-SUM(AG$4:AG9)<0,AH8,$A$1-SUM(AG$4:AG9)) -> 501 | AI9: =IFERROR(VLOOKUP(AH9,Finishs,2,FALSE),"") | AJ9: =IF(AH9<AH8,0,AG9) -> 0 | AN9: =AK9+AL9+AM9 -> 0 | AO9: =IF($A$1-SUM(AN$4:AN9)<0,AO8,$A$1-SUM(AN$4:AN9)) -> 501 | AP9: =IFERROR(VLOOKUP(AO9,Finishs,2,FALSE),"") | AQ9: =IF(AO9<AO8,0,AN9) -> 0
A10: 7 | E10: =B10+C10+D10 -> 0 | F10: =IF($A$1-SUM(E$4:E10)<0,F9,$A$1-SUM(E$4:E10)) -> 501 | G10: =IFERROR(VLOOKUP(F10,Finishs,2,FALSE),"") | H10: =IF(F10<F9,0,E10) -> 0 | L10: =I10+J10+K10 -> 0 | M10: =IF($A$1-SUM(L$4:L10)<0,M9,$A$1-SUM(L$4:L10)) -> 0 | N10: =IFERROR(VLOOKUP(M10,Finishs,2,FALSE),"") -> BRAVO !!! | O10: =IF(M10<M9,0,L10) -> 0 | S10: =P10+Q10+R10 -> 0 | T10: =IF($A$1-SUM(S$4:S10)<0,T9,$A$1-SUM(S$4:S10)) -> 40 | U10: =IFERROR(VLOOKUP(T10,Finishs,2,FALSE),"") -> D20 | V10: =IF(T10<T9,0,S10) -> 0 | Z10: =W10+X10+Y10 -> 0 | AA10: =IF($A$1-SUM(Z$4:Z10)<0,AA9,$A$1-SUM(Z$4:Z10)) -> 1 | AB10: =IFERROR(VLOOKUP(AA10,Finishs,2,FALSE),"") -> REJOUE !!! | AC10: =IF(AA10<AA9,0,Z10) -> 0 | AG10: =AD10+AE10+AF10 -> 0 | AH10: =IF($A$1-SUM(AG$4:AG10)<0,AH9,$A$1-SUM(AG$4:AG10)) -> 501 | AI10: =IFERROR(VLOOKUP(AH10,Finishs,2,FALSE),"") | AJ10: =IF(AH10<AH9,0,AG10) -> 0 | AN10: =AK10+AL10+AM10 -> 0 | AO10: =IF($A$1-SUM(AN$4:AN10)<0,AO9,$A$1-SUM(AN$4:AN10)) -> 501 | AP10: =IFERROR(VLOOKUP(AO10,Finishs,2,FALSE),"") | AQ10: =IF(AO10<AO9,0,AN10) -> 0
A11: 8 | E11: =B11+C11+D11 -> 0 | F11: =IF($A$1-SUM(E$4:E11)<0,F10,$A$1-SUM(E$4:E11)) -> 501 | G11: =IFERROR(VLOOKUP(F11,Finishs,2,FALSE),"") | H11: =IF(F11<F10,0,E11) -> 0 | L11: =I11+J11+K11 -> 0 | M11: =IF($A$1-SUM(L$4:L11)<0,M10,$A$1-SUM(L$4:L11)) -> 0 | N11: =IFERROR(VLOOKUP(M11,Finishs,2,FALSE),"") -> BRAVO !!! | O11: =IF(M11<M10,0,L11) -> 0 | S11: =P11+Q11+R11 -> 0 | T11: =IF($A$1-SUM(S$4:S11)<0,T10,$A$1-SUM(S$4:S11)) -> 40 | U11: =IFERROR(VLOOKUP(T11,Finishs,2,FALSE),"") -> D20 | V11: =IF(T11<T10,0,S11) -> 0 | Z11: =W11+X11+Y11 -> 0 | AA11: =IF($A$1-SUM(Z$4:Z11)<0,AA10,$A$1-SUM(Z$4:Z11)) -> 1 | AB11: =IFERROR(VLOOKUP(AA11,Finishs,2,FALSE),"") -> REJOUE !!! | AC11: =IF(AA11<AA10,0,Z11) -> 0 | AG11: =AD11+AE11+AF11 -> 0 | AH11: =IF($A$1-SUM(AG$4:AG11)<0,AH10,$A$1-SUM(AG$4:AG11)) -> 501 | AI11: =IFERROR(VLOOKUP(AH11,Finishs,2,FALSE),"") | AJ11: =IF(AH11<AH10,0,AG11) -> 0 | AN11: =AK11+AL11+AM11 -> 0 | AO11: =IF($A$1-SUM(AN$4:AN11)<0,AO10,$A$1-SUM(AN$4:AN11)) -> 501 | AP11: =IFERROR(VLOOKUP(AO11,Finishs,2,FALSE),"") | AQ11: =IF(AO11<AO10,0,AN11) -> 0
A12: 9 | E12: =B12+C12+D12 -> 0 | F12: =IF($A$1-SUM(E$4:E12)<0,F11,$A$1-SUM(E$4:E12)) -> 501 | G12: =IFERROR(VLOOKUP(F12,Finishs,2,FALSE),"") | H12: =IF(F12<F11,0,E12) -> 0 | L12: =I12+J12+K12 -> 0 | M12: =IF($A$1-SUM(L$4:L12)<0,M11,$A$1-SUM(L$4:L12)) -> 0 | N12: =IFERROR(VLOOKUP(M12,Finishs,2,FALSE),"") -> BRAVO !!! | O12: =IF(M12<M11,0,L12) -> 0 | S12: =P12+Q12+R12 -> 0 | T12: =IF($A$1-SUM(S$4:S12)<0,T11,$A$1-SUM(S$4:S12)) -> 40 | U12: =IFERROR(VLOOKUP(T12,Finishs,2,FALSE),"") -> D20 | V12: =IF(T12<T11,0,S12) -> 0 | Z12: =W12+X12+Y12 -> 0 | AA12: =IF($A$1-SUM(Z$4:Z12)<0,AA11,$A$1-SUM(Z$4:Z12)) -> 1 | AB12: =IFERROR(VLOOKUP(AA12,Finishs,2,FALSE),"") -> REJOUE !!! | AC12: =IF(AA12<AA11,0,Z12) -> 0 | AG12: =AD12+AE12+AF12 -> 0 | AH12: =IF($A$1-SUM(AG$4:AG12)<0,AH11,$A$1-SUM(AG$4:AG12)) -> 501 | AI12: =IFERROR(VLOOKUP(AH12,Finishs,2,FALSE),"") | AJ12: =IF(AH12<AH11,0,AG12) -> 0 | AN12: =AK12+AL12+AM12 -> 0 | AO12: =IF($A$1-SUM(AN$4:AN12)<0,AO11,$A$1-SUM(AN$4:AN12)) -> 501 | AP12: =IFERROR(VLOOKUP(AO12,Finishs,2,FALSE),"") | AQ12: =IF(AO12<AO11,0,AN12) -> 0
A13: 10 | E13: =B13+C13+D13 -> 0 | F13: =IF($A$1-SUM(E$4:E13)<0,F12,$A$1-SUM(E$4:E13)) -> 501 | G13: =IFERROR(VLOOKUP(F13,Finishs,2,FALSE),"") | H13: =IF(F13<F12,0,E13) -> 0 | L13: =I13+J13+K13 -> 0 | M13: =IF($A$1-SUM(L$4:L13)<0,M12,$A$1-SUM(L$4:L13)) -> 0 | N13: =IFERROR(VLOOKUP(M13,Finishs,2,FALSE),"") -> BRAVO !!! | O13: =IF(M13<M12,0,L13) -> 0 | S13: =P13+Q13+R13 -> 0 | T13: =IF($A$1-SUM(S$4:S13)<0,T12,$A$1-SUM(S$4:S13)) -> 40 | U13: =IFERROR(VLOOKUP(T13,Finishs,2,FALSE),"") -> D20 | V13: =IF(T13<T12,0,S13) -> 0 | Z13: =W13+X13+Y13 -> 0 | AA13: =IF($A$1-SUM(Z$4:Z13)<0,AA12,$A$1-SUM(Z$4:Z13)) -> 1 | AB13: =IFERROR(VLOOKUP(AA13,Finishs,2,FALSE),"") -> REJOUE !!! | AC13: =IF(AA13<AA12,0,Z13) -> 0 | AG13: =AD13+AE13+AF13 -> 0 | AH13: =IF($A$1-SUM(AG$4:AG13)<0,AH12,$A$1-SUM(AG$4:AG13)) -> 501 | AI13: =IFERROR(VLOOKUP(AH13,Finishs,2,FALSE),"") | AJ13: =IF(AH13<AH12,0,AG13) -> 0 | AN13: =AK13+AL13+AM13 -> 0 | AO13: =IF($A$1-SUM(AN$4:AN13)<0,AO12,$A$1-SUM(AN$4:AN13)) -> 501 | AP13: =IFERROR(VLOOKUP(AO13,Finishs,2,FALSE),"") | AQ13: =IF(AO13<AO12,0,AN13) -> 0
A14: 11 | E14: =B14+C14+D14 -> 0 | F14: =IF($A$1-SUM(E$4:E14)<0,F13,$A$1-SUM(E$4:E14)) -> 501 | G14: =IFERROR(VLOOKUP(F14,Finishs,2,FALSE),"") | H14: =IF(F14<F13,0,E14) -> 0 | L14: =I14+J14+K14 -> 0 | M14: =IF($A$1-SUM(L$4:L14)<0,M13,$A$1-SUM(L$4:L14)) -> 0 | N14: =IFERROR(VLOOKUP(M14,Finishs,2,FALSE),"") -> BRAVO !!! | O14: =IF(M14<M13,0,L14) -> 0 | S14: =P14+Q14+R14 -> 0 | T14: =IF($A$1-SUM(S$4:S14)<0,T13,$A$1-SUM(S$4:S14)) -> 40 | U14: =IFERROR(VLOOKUP(T14,Finishs,2,FALSE),"") -> D20 | V14: =IF(T14<T13,0,S14) -> 0 | Z14: =W14+X14+Y14 -> 0 | AA14: =IF($A$1-SUM(Z$4:Z14)<0,AA13,$A$1-SUM(Z$4:Z14)) -> 1 | AB14: =IFERROR(VLOOKUP(AA14,Finishs,2,FALSE),"") -> REJOUE !!! | AC14: =IF(AA14<AA13,0,Z14) -> 0 | AG14: =AD14+AE14+AF14 -> 0 | AH14: =IF($A$1-SUM(AG$4:AG14)<0,AH13,$A$1-SUM(AG$4:AG14)) -> 501 | AI14: =IFERROR(VLOOKUP(AH14,Finishs,2,FALSE),"") | AJ14: =IF(AH14<AH13,0,AG14) -> 0 | AN14: =AK14+AL14+AM14 -> 0 | AO14: =IF($A$1-SUM(AN$4:AN14)<0,AO13,$A$1-SUM(AN$4:AN14)) -> 501 | AP14: =IFERROR(VLOOKUP(AO14,Finishs,2,FALSE),"") | AQ14: =IF(AO14<AO13,0,AN14) -> 0
A15: 12 | E15: =B15+C15+D15 -> 0 | F15: =IF($A$1-SUM(E$4:E15)<0,F14,$A$1-SUM(E$4:E15)) -> 501 | G15: =IFERROR(VLOOKUP(F15,Finishs,2,FALSE),"") | H15: =IF(F15<F14,0,E15) -> 0 | L15: =I15+J15+K15 -> 0 | M15: =IF($A$1-SUM(L$4:L15)<0,M14,$A$1-SUM(L$4:L15)) -> 0 | N15: =IFERROR(VLOOKUP(M15,Finishs,2,FALSE),"") -> BRAVO !!! | O15: =IF(M15<M14,0,L15) -> 0 | S15: =P15+Q15+R15 -> 0 | T15: =IF($A$1-SUM(S$4:S15)<0,T14,$A$1-SUM(S$4:S15)) -> 40 | U15: =IFERROR(VLOOKUP(T15,Finishs,2,FALSE),"") -> D20 | V15: =IF(T15<T14,0,S15) -> 0 | Z15: =W15+X15+Y15 -> 0 | AA15: =IF($A$1-SUM(Z$4:Z15)<0,AA14,$A$1-SUM(Z$4:Z15)) -> 1 | AB15: =IFERROR(VLOOKUP(AA15,Finishs,2,FALSE),"") -> REJOUE !!! | AC15: =IF(AA15<AA14,0,Z15) -> 0 | AG15: =AD15+AE15+AF15 -> 0 | AH15: =IF($A$1-SUM(AG$4:AG15)<0,AH14,$A$1-SUM(AG$4:AG15)) -> 501 | AI15: =IFERROR(VLOOKUP(AH15,Finishs,2,FALSE),"") | AJ15: =IF(AH15<AH14,0,AG15) -> 0 | AN15: =AK15+AL15+AM15 -> 0 | AO15: =IF($A$1-SUM(AN$4:AN15)<0,AO14,$A$1-SUM(AN$4:AN15)) -> 501 | AP15: =IFERROR(VLOOKUP(AO15,Finishs,2,FALSE),"") | AQ15: =IF(AO15<AO14,0,AN15) -> 0
A16: 13 | E16: =B16+C16+D16 -> 0 | F16: =IF($A$1-SUM(E$4:E16)<0,F15,$A$1-SUM(E$4:E16)) -> 501 | G16: =IFERROR(VLOOKUP(F16,Finishs,2,FALSE),"") | H16: =IF(F16<F15,0,E16) -> 0 | L16: =I16+J16+K16 -> 0 | M16: =IF($A$1-SUM(L$4:L16)<0,M15,$A$1-SUM(L$4:L16)) -> 0 | N16: =IFERROR(VLOOKUP(M16,Finishs,2,FALSE),"") -> BRAVO !!! | O16: =IF(M16<M15,0,L16) -> 0 | S16: =P16+Q16+R16 -> 0 | T16: =IF($A$1-SUM(S$4:S16)<0,T15,$A$1-SUM(S$4:S16)) -> 40 | U16: =IFERROR(VLOOKUP(T16,Finishs,2,FALSE),"") -> D20 | V16: =IF(T16<T15,0,S16) -> 0 | Z16: =W16+X16+Y16 -> 0 | AA16: =IF($A$1-SUM(Z$4:Z16)<0,AA15,$A$1-SUM(Z$4:Z16)) -> 1 | AB16: =IFERROR(VLOOKUP(AA16,Finishs,2,FALSE),"") -> REJOUE !!! | AC16: =IF(AA16<AA15,0,Z16) -> 0 | AG16: =AD16+AE16+AF16 -> 0 | AH16: =IF($A$1-SUM(AG$4:AG16)<0,AH15,$A$1-SUM(AG$4:AG16)) -> 501 | AI16: =IFERROR(VLOOKUP(AH16,Finishs,2,FALSE),"") | AJ16: =IF(AH16<AH15,0,AG16) -> 0 | AN16: =AK16+AL16+AM16 -> 0 | AO16: =IF($A$1-SUM(AN$4:AN16)<0,AO15,$A$1-SUM(AN$4:AN16)) -> 501 | AP16: =IFERROR(VLOOKUP(AO16,Finishs,2,FALSE),"") | AQ16: =IF(AO16<AO15,0,AN16) -> 0
A17: 14 | E17: =B17+C17+D17 -> 0 | F17: =IF($A$1-SUM(E$4:E17)<0,F16,$A$1-SUM(E$4:E17)) -> 501 | G17: =IFERROR(VLOOKUP(F17,Finishs,2,FALSE),"") | H17: =IF(F17<F16,0,E17) -> 0 | L17: =I17+J17+K17 -> 0 | M17: =IF($A$1-SUM(L$4:L17)<0,M16,$A$1-SUM(L$4:L17)) -> 0 | N17: =IFERROR(VLOOKUP(M17,Finishs,2,FALSE),"") -> BRAVO !!! | O17: =IF(M17<M16,0,L17) -> 0 | S17: =P17+Q17+R17 -> 0 | T17: =IF($A$1-SUM(S$4:S17)<0,T16,$A$1-SUM(S$4:S17)) -> 40 | U17: =IFERROR(VLOOKUP(T17,Finishs,2,FALSE),"") -> D20 | V17: =IF(T17<T16,0,S17) -> 0 | Z17: =W17+X17+Y17 -> 0 | AA17: =IF($A$1-SUM(Z$4:Z17)<0,AA16,$A$1-SUM(Z$4:Z17)) -> 1 | AB17: =IFERROR(VLOOKUP(AA17,Finishs,2,FALSE),"") -> REJOUE !!! | AC17: =IF(AA17<AA16,0,Z17) -> 0 | AG17: =AD17+AE17+AF17 -> 0 | AH17: =IF($A$1-SUM(AG$4:AG17)<0,AH16,$A$1-SUM(AG$4:AG17)) -> 501 | AI17: =IFERROR(VLOOKUP(AH17,Finishs,2,FALSE),"") | AJ17: =IF(AH17<AH16,0,AG17) -> 0 | AN17: =AK17+AL17+AM17 -> 0 | AO17: =IF($A$1-SUM(AN$4:AN17)<0,AO16,$A$1-SUM(AN$4:AN17)) -> 501 | AP17: =IFERROR(VLOOKUP(AO17,Finishs,2,FALSE),"") | AQ17: =IF(AO17<AO16,0,AN17) -> 0
A18: 15 | E18: =B18+C18+D18 -> 0 | F18: =IF($A$1-SUM(E$4:E18)<0,F17,$A$1-SUM(E$4:E18)) -> 501 | G18: =IFERROR(VLOOKUP(F18,Finishs,2,FALSE),"") | H18: =IF(F18<F17,0,E18) -> 0 | L18: =I18+J18+K18 -> 0 | M18: =IF($A$1-SUM(L$4:L18)<0,M17,$A$1-SUM(L$4:L18)) -> 0 | N18: =IFERROR(VLOOKUP(M18,Finishs,2,FALSE),"") -> BRAVO !!! | O18: =IF(M18<M17,0,L18) -> 0 | S18: =P18+Q18+R18 -> 0 | T18: =IF($A$1-SUM(S$4:S18)<0,T17,$A$1-SUM(S$4:S18)) -> 40 | U18: =IFERROR(VLOOKUP(T18,Finishs,2,FALSE),"") -> D20 | V18: =IF(T18<T17,0,S18) -> 0 | Z18: =W18+X18+Y18 -> 0 | AA18: =IF($A$1-SUM(Z$4:Z18)<0,AA17,$A$1-SUM(Z$4:Z18)) -> 1 | AB18: =IFERROR(VLOOKUP(AA18,Finishs,2,FALSE),"") -> REJOUE !!! | AC18: =IF(AA18<AA17,0,Z18) -> 0 | AG18: =AD18+AE18+AF18 -> 0 | AH18: =IF($A$1-SUM(AG$4:AG18)<0,AH17,$A$1-SUM(AG$4:AG18)) -> 501 | AI18: =IFERROR(VLOOKUP(AH18,Finishs,2,FALSE),"") | AJ18: =IF(AH18<AH17,0,AG18) -> 0 | AN18: =AK18+AL18+AM18 -> 0 | AO18: =IF($A$1-SUM(AN$4:AN18)<0,AO17,$A$1-SUM(AN$4:AN18)) -> 501 | AP18: =IFERROR(VLOOKUP(AO18,Finishs,2,FALSE),"") | AQ18: =IF(AO18<AO17,0,AN18) -> 0
B20: Premier cas : but du jeu, 501 ne doit s'afficher que à la première ligne. | I20: Deuxième cas : Arrivé à zéro, l'alerte "BRAVO !!!" s'affiche. Par contre dans la colonne "Suggestion Finish" "Bravo !!!" ne doit pas s'afficher sur les lignes suivantes si il n'y a pas de flèches lancées | P20: Troisième cas : Le joueur dépasse le score (bust). Ligne 7 : Le score pour finir était de 40, le joueur fait 51, l'affichage du score restant retourne à 40, cela fonctionne. Par contre, l'affichage dans la colonne Suggestion Finish doit afficher REJOUE !!! Ligne 8 : Le joueur doit faire 40, fait 10, le score dans la colonne "Restant" doit passer à 30 la colonne "Suggestion Finish" doit afficher D15 (recherche 30 et non 40 dans feuille "Bases", dans le tableau"Tablo_Finishs"). Ligne 9 : Le joueur fait bien 30, le calcul dans la colonne "Suggestion Finish" ne prend pas en compte le bon score réalisé (devrait afficher "BRAVO !!!"). Rien ne doit s'inscrire dans les lignes inférieures des colonnes "Restant" et "Suggestion Finish". | W20: Quatrième cas : Le joueur arrive à 1 et ne peut pas faire un double pour finir (bust). Ligne 7 : Le joueur arrive à 1 point, dans la colonne "Suggestion Finish", "REJOUE !!!" s'affiche correctement. Par contre dans la colonne "Restant" le solde de points doit revenir à 40 or ici, 1 s'affiche. Ligne 8 : Le joueur fait bien les 40 demandés, le score dans la colonne "Restant" reste à 1 et "Rejoue !!!" s'affiche au lieu de "BRAVO !!!" Calcul des Moyennes Problème résolu, j'ai créé pour chaque joueur, une colonne "BUST" pour le calcul. Cette colonne sera masquée pendant la phase de jeu. | AD20: Pour information, ma version d'Excel est : Office LTSC Standard for Mac 2021 Version 16.88 (24081116)
