Workbook

Sheet Récapitulation
A3: Nom de feuille | C3: Assiettes | D3: Couteaux | E3: Fourchettes | F3: Cuillères | G3: Verrres
A4: Bureau | B4: Inventaire | C4: =Bureau!B4 -> 30 | D4: =Bureau!D4 -> 30 | E4: =Bureau!F4 -> 30 | F4: =Bureau!H4 -> 30 | G4: =Bureau!J4 -> 30
B5: Réel | C5: =Bureau!B5 -> 4 | D5: =Bureau!D5 -> 28 | E5: =Bureau!F5 -> 23 | F5: =Bureau!H5 -> 19 | G5: =Bureau!J5 -> 14
A7: Domicile | B7: Inventaire | C7: =Domicile!B4 -> 18 | D7: =Domicile!D4 -> 18 | E7: =Domicile!F4 -> 18 | F7: =Domicile!H4 -> 18 | G7: =Domicile!J4 -> 18
B8: Réel | C8: =Domicile!B5 -> 12 | D8: =Domicile!D5 -> 13 | E8: =Domicile!F5 -> 17 | F8: =Domicile!H5 -> 16 | G8: =Domicile!J5 -> 15
A10: Chalet | B10: Inventaire | C10: =Chalet!B4 -> 24 | D10: =Chalet!C4 -> 0 | E10: =Chalet!D4 -> 24 | F10: =Chalet!E4 -> 0 | G10: =Chalet!F4 -> 24
B11: Réel | C11: =Chalet!B5 -> 20 | D11: =Chalet!C5 -> 0 | E11: =Chalet!D5 -> 1 | F11: =Chalet!E5 -> 0 | G11: =Chalet!F5 -> 4
B15: Le but est de remplacer la variable : Domicile! par le nom de feuille renseigné en colonne A

Sheet Bureau
B3: Assiettes | D3: Couteaux | F3: Fourchettes | H3: Cuillères | J3: Verrres
A4: Inventaire | B4: 30 | D4: 30 | F4: 30 | H4: 30 | J4: 30
A5: Réel | B5: 4 | D5: 28 | F5: 23 | H5: 19 | J5: 14

Sheet Domicile
B3: Assiettes | D3: Couteaux | F3: Fourchettes | H3: Cuillères | J3: Verrres
A4: Inventaire | B4: 18 | D4: 18 | F4: 18 | H4: 18 | J4: 18
A5: Réel | B5: 12 | D5: 13 | F5: 17 | H5: 16 | J5: 15

Sheet Chalet
B3: Assiettes | D3: Couteaux | F3: Fourchettes | H3: Cuillères | J3: Verrres
A4: Inventaire | B4: 24 | D4: 24 | F4: 24 | H4: 24 | J4: 24
A5: Réel | B5: 20 | D5: 1 | F5: 4 | H5: 8 | J5: 12
