Workbook

Sheet Périmètre
B2: Périmètre de test Iteration 3
B4: Onglet | D4: Description | E4: Statut | F4: NB de Cas de test | G4: NB de variantes à tester | H4: NB de variantes OK | I4: NB de variantes KO | J4: Tickets ouverts | K4: Avancement | L4: Qualité | M4: Commentaires / Raf
B5: Authentification | E5: A vérifier | F5: {=LOOKUP(2,1/(NOT(ISBLANK(Authentification!A:A))),Authentification!A:A)*1} -> 7 | G5: =Authentification!H1 -> 7 | H5: =Authentification!H2 -> 0 | I5: =Authentification!H3 -> 0 | J5: =Authentification!H4 -> 0 | K5: =IF(G5=0,0,(H5+I5)/G5) -> 0 | L5: =IF(G5=0,0,H5/G5) -> 0
A6: Biens Immo | B6: Programme | C6: =A6&" > "&B6 -> Biens Immo > Programme | E6: A vérifier | F6: {=LOOKUP(2,1/(NOT(ISBLANK('Biens Immo > Programme'!A:A))),'Biens Immo > Programme'!A:A)*1} -> 21 | G6: ='Biens Immo > Programme'!I1 -> 15 | H6: ='Biens Immo > Programme'!I2 -> 6 | I6: ='Biens Immo > Programme'!I3 -> 4 | J6: ='Biens Immo > Programme'!I4 -> 4 | K6: =IF(G6=0,0,(H6+I6)/G6) -> 0.66666667 | L6: =IF(G6=0,0,H6/G6) -> 0.4
A7: Biens Immo | B7: Avis | C7: =A7&" > "&B7 -> Biens Immo > Avis | E7: Attente correctif | F7: {=LOOKUP(2,1/(NOT(ISBLANK('Biens Immo > Avis'!A:A))),'Biens Immo > Avis'!A:A)*1} -> 6 | G7: ='Biens Immo > Avis'!I1 -> 6 | H7: ='Biens Immo > Avis'!I2 -> 4 | I7: ='Biens Immo > Avis'!I3 -> 2 | J7: ='Biens Immo > Avis'!I4 -> 0 | K7: =IF(G7=0,0,(H7+I7)/G7) -> 1 | L7: =IF(G7=0,0,H7/G7) -> 0.66666667
A8: Entités | B8: Promoteurs | C8: =A8&" > "&B8 -> Entités > Promoteurs | E8: A recetter | F8: {=LOOKUP(2,1/(NOT(ISBLANK([1]INDIRECT!A:A))),'Entités > Promoteurs'!A:A)*1} -> 0 | G8: ='Entités > Promoteurs'!I1 -> 31 | H8: ='Entités > Promoteurs'!I2 -> 14 | I8: ='Entités > Promoteurs'!I3 -> 1 | J8: ='Entités > Promoteurs'!I4 -> 0 | K8: =IF(G8=0,0,(H8+I8)/G8) -> 0.48387097 | L8: =IF(G8=0,0,H8/G8) -> 0.4516129
A9: Entités | B9: Réseaux | C9: =A9&" > "&B9 -> Entités > Réseaux | E9: Attente correctif | F9: {=LOOKUP(2,1/(NOT(ISBLANK('Entités > Réseaux'!A:A))),'Entités > Réseaux'!A:A)*1} -> 17 | G9: ='Entités > Réseaux'!I1 -> 19 | H9: ='Entités > Réseaux'!I2 -> 16 | I9: ='Entités > Réseaux'!I3 -> 3 | J9: ='Entités > Réseaux'!I4 -> 2 | K9: =IF(G9=0,0,(H9+I9)/G9) -> 1 | L9: =IF(G9=0,0,H9/G9) -> 0.84210526
A10: Entités | B10: Gestionnaires | C10: =A10&" > "&B10 -> Entités > Gestionnaires | E10: Finalisé | F10: {=LOOKUP(2,1/(NOT(ISBLANK('Entités > Gestionnaires'!A:A))),'Entités > Gestionnaires'!A:A)*1} -> 16 | G10: ='Entités > Gestionnaires'!I1 -> 16 | H10: ='Entités > Gestionnaires'!I2 -> 16 | I10: ='Entités > Gestionnaires'!I3 -> 0 | J10: ='Entités > Gestionnaires'!I4 -> 0 | K10: =IF(G10=0,0,(H10+I10)/G10) -> 1 | L10: =IF(G10=0,0,H10/G10) -> 1
A11: Entités | B11: Etudes notariales | C11: =A11&" > "&B11 -> Entités > Etudes notariales | E11: Finalisé | F11: {=LOOKUP(2,1/(NOT(ISBLANK('Entités > Etudes notariales'!A:A))),'Entités > Etudes notariales'!A:A)*1} -> 14 | G11: ='Entités > Etudes notariales'!I1 -> 14 | H11: ='Entités > Etudes notariales'!I2 -> 14 | I11: ='Entités > Etudes notariales'!I3 -> 0 | J11: ='Entités > Etudes notariales'!I4 -> 0 | K11: =IF(G11=0,0,(H11+I11)/G11) -> 1 | L11: =IF(G11=0,0,H11/G11) -> 1
A12: Entités | B12: Cabinet Comptables | C12: =A12&" > "&B12 -> Entités > Cabinet Comptables | E12: Finalisé | F12: {=LOOKUP(2,1/(NOT(ISBLANK('Entités > Cabinet Comptables'!A:A))),'Entités > Cabinet Comptables'!A:A)*1} -> 14 | G12: ='Entités > Cabinet Comptables'!I1 -> 14 | H12: ='Entités > Cabinet Comptables'!I2 -> 14 | I12: ='Entités > Cabinet Comptables'!I3 -> 0 | J12: ='Entités > Cabinet Comptables'!I4 -> 0 | K12: =IF(G12=0,0,(H12+I12)/G12) -> 1 | L12: =IF(G12=0,0,H12/G12) -> 1
A13: Entités | B13: Vendeurs immobiliers | C13: =A13&" > "&B13 -> Entités > Vendeurs immobiliers | E13: A rédiger | F13: {=LOOKUP(2,1/(NOT(ISBLANK('Entités > Vendeurs immobiliers'!A:A))),'Entités > Vendeurs immobiliers'!A:A)*1} -> 16 | G13: ='Entités > Vendeurs immobiliers'!I1 -> 0 | H13: ='Entités > Vendeurs immobiliers'!I2 -> 0 | I13: ='Entités > Vendeurs immobiliers'!I3 -> 0 | J13: ='Entités > Vendeurs immobiliers'!I4 -> 0 | K13: =IF(G13=0,0,(H13+I13)/G13) -> 0 | L13: =IF(G13=0,0,H13/G13) -> 0
A14: Entités | B14: Vendeurs mobiliers | C14: =A14&" > "&B14 -> Entités > Vendeurs mobiliers | E14: A rédiger | F14: {=LOOKUP(2,1/(NOT(ISBLANK('Entités > Vendeurs mobiliers'!A:A))),'Entités > Vendeurs mobiliers'!A:A)*1} -> 15 | G14: ='Entités > Vendeurs mobiliers'!I1 -> 0 | H14: ='Entités > Vendeurs mobiliers'!I2 -> 0 | I14: ='Entités > Vendeurs mobiliers'!I3 -> 0 | J14: ='Entités > Vendeurs mobiliers'!I4 -> 0 | K14: =IF(G14=0,0,(H14+I14)/G14) -> 0 | L14: =IF(G14=0,0,H14/G14) -> 0
A15: Entités | B15: Clients | C15: =A15&" > "&B15 -> Entités > Clients | E15: A rédiger | F15: {=LOOKUP(2,1/(NOT(ISBLANK('Entités > Clients'!A:A))),'Entités > Clients'!A:A)*1} -> 14 | G15: ='Entités > Clients'!I1 -> 0 | H15: ='Entités > Clients'!I2 -> 0 | I15: ='Entités > Clients'!I3 -> 0 | J15: ='Entités > Clients'!I4 -> 0 | K15: =IF(G15=0,0,(H15+I15)/G15) -> 0 | L15: =IF(G15=0,0,H15/G15) -> 0
A16: Contacts | B16: Contacts | C16: =A16&" > "&B16 -> Contacts > Contacts | E16: A rédiger | F16: {=LOOKUP(2,1/(NOT(ISBLANK('Contacts > Contacts'!A:A))),'Contacts > Contacts'!A:A)*1} -> 17 | G16: ='Contacts > Contacts'!I1 -> 0 | H16: 0 | I16: 0 | J16: 0 | K16: =IF(G16=0,0,(H16+I16)/G16) -> 0 | L16: =IF(G16=0,0,H16/G16) -> 0
A17: Contacts | B17: Profils | C17: =A17&" > "&B17 -> Contacts > Profils | E17: A rédiger | F17: {=LOOKUP(2,1/(NOT(ISBLANK('Contacts > Contacts'!A:A))),'Contacts > Contacts'!A:A)*1} -> 17 | G17: ='Contacts > Contacts'!I1 -> 0 | H17: 0 | I17: 0 | J17: 0 | K17: =IF(G17=0,0,(H17+I17)/G17) -> 0 | L17: =IF(G17=0,0,H17/G17) -> 0
A18: Contacts | B18: Droits | C18: =A18&" > "&B18 -> Contacts > Droits | E18: A rédiger | F18: {=LOOKUP(2,1/(NOT(ISBLANK('Contacts > Profils'!A:A))),'Contacts > Profils'!A:A)*1} -> 16 | G18: ='Contacts > Contacts'!I1 -> 0 | H18: 0 | I18: 0 | J18: 0 | K18: =IF(G18=0,0,(H18+I18)/G18) -> 0 | L18: =IF(G18=0,0,H18/G18) -> 0
A19: Affaires | B19: Déclaration | C19: =A19&" > "&B19 -> Affaires > Déclaration | E19: A rédiger | F19: {=LOOKUP(2,1/(NOT(ISBLANK('Affaires > Déclaration'!A:A))),'Affaires > Déclaration'!A:A)*1} -> 9 | G19: ='Contacts > Contacts'!I1 -> 0 | H19: 0 | I19: 0 | J19: 0 | K19: =IF(G19=0,0,(H19+I19)/G19) -> 0 | L19: =IF(G19=0,0,H19/G19) -> 0
A20: Affaires | B20: Option | C20: =A20&" > "&B20 -> Affaires > Option | F20: {=LOOKUP(2,1/(NOT(ISBLANK('Affaires > Option'!A:A))),'Affaires > Option'!A:A)*1} -> 12
A21: Affaires | B21: Contrôles | C21: =A21&" > "&B21 -> Affaires > Contrôles | F21: {=LOOKUP(2,1/(NOT(ISBLANK('Affaires > Contrôles'!A:A))),'Affaires > Contrôles'!A:A)*1} -> 11
A22: Affaires | B22: Remises exceptionnelles | C22: =A22&" > "&B22 -> Affaires > Remises exceptionnelles | F22: {=LOOKUP(2,1/(NOT(ISBLANK('[2]Affaires > Remises exceptionnel'!A:A))),'[2]Affaires > Remises exceptionnel'!A:A)*1} -> #REF!
A23: Affaires | B23: Rémunérations | C23: =A23&" > "&B23 -> Affaires > Rémunérations | F23: {=LOOKUP(2,1/(NOT(ISBLANK('[3]Affaires > Rémunérations'!A:A))),'[3]Affaires > Rémunérations'!A:A)*1} -> #REF!
A24: Boite à outils | B24: Outils | E24: A rédiger | F24: {=LOOKUP(2,1/(NOT(ISBLANK('Affaires > Déclaration'!A:A))),'Affaires > Déclaration'!A:A)*1} -> 9 | G24: ='Contacts > Contacts'!I1 -> 0 | H24: 0 | I24: 0 | J24: 0 | K24: =IF(G24=0,0,(H24+I24)/G24) -> 0 | L24: =IF(G24=0,0,H24/G24) -> 0
B25: Catégorie
A26: Actualité
A28: Extracteur
A29: Flux
A35: Editique
A38: Notifications
A41: Propriétaire
E46: A rédiger | F46: {=LOOKUP(2,1/(NOT(ISBLANK('Contacts > Contacts'!A:A))),'Contacts > Contacts'!A:A)*1} -> 17 | G46: ='Contacts > Contacts'!I1 -> 0 | H46: 0 | I46: 0 | J46: 0 | K46: =IF(G46=0,0,(H46+I46)/G46) -> 0 | L46: =IF(G46=0,0,H46/G46) -> 0
E47: Total | F47: =SUM(F5:F46) -> #REF! | G47: =SUM(G5:G46) -> 122 | H47: =SUM(H5:H46) -> 84 | I47: =SUM(I5:I46) -> 10 | J47: =SUM(J5:J46) -> 6 | K47: =IF(G47=0,0,(H47+I47)/G47) -> 0.7704918 | L47: =IF(G47=0,0,H47/G47) -> 0.68852459
E49: Semaine
E50: 45082 | F50: 128 | G50: 122 | H50: 84 | I50: 10 | J50: 6 | K50: 0.7704918 | L50: 0.68852459
E51: 45089
E52: 45096
E53: 45103
E54: 45110
E55: 45117
E56: 45124
E57: 45131
E58: 45138
E59: 45145

Sheet Authentification
G1: Cas a jouer | H1: =SUM(J1,M1,P1,S1,V1,Y1) -> 7 | J1: =COUNTA(J6:J506)-COUNTIF(J6:J506,"N/A") -> 0 | M1: =COUNTA(M6:M506)-COUNTIF(M6:M506,"N/A") -> 7 | P1: =COUNTA(P6:P506)-COUNTIF(P6:P506,"N/A") -> 0 | S1: =COUNTA(S6:S506)-COUNTIF(S6:S506,"N/A") -> 0 | V1: =COUNTA(V6:V506)-COUNTIF(V6:V506,"N/A") -> 0 | Y1: =COUNTA(Y6:Y506)-COUNTIF(Y6:Y506,"N/A") -> 0
G2: Total cas OK | H2: =SUM(J2,M2,P2,S2,V2,Y2) -> 0 | J2: =COUNTIF(J6:J503,"OK") -> 0 | M2: =COUNTIF(M6:M503,"OK") -> 0 | P2: =COUNTIF(P6:P503,"OK") -> 0 | S2: =COUNTIF(S6:S503,"OK") -> 0 | V2: =COUNTIF(V6:V503,"OK") -> 0 | Y2: =COUNTIF(Y6:Y503,"OK") -> 0
G3: Total cas KO | H3: =SUM(J3,M3,P3,S3,V3,Y3) -> 0 | J3: =COUNTIF(J6:J504,"KO") -> 0 | M3: =COUNTIF(M6:M504,"KO") -> 0 | P3: =COUNTIF(P6:P504,"KO") -> 0 | S3: =COUNTIF(S6:S504,"KO") -> 0 | V3: =COUNTIF(V6:V504,"KO") -> 0 | Y3: =COUNTIF(Y6:Y504,"KO") -> 0
G4: Tickets ouverts | H4: =SUM(K4,N4,Q4,T4,W4,Z4) -> 0 | K4: {=SUM(LEN(K6:K110)-LEN(SUBSTITUTE(K6:K110,CHAR(10),""))+(LEN(K6:K110)>0))} -> 0 | N4: {=SUM(LEN(N6:N110)-LEN(SUBSTITUTE(N6:N110,CHAR(10),""))+(LEN(N6:N110)>0))} -> 0 | Q4: {=SUM(LEN(Q6:Q110)-LEN(SUBSTITUTE(Q6:Q110,CHAR(10),""))+(LEN(Q6:Q110)>0))} -> 0 | T4: {=SUM(LEN(T6:T110)-LEN(SUBSTITUTE(T6:T110,CHAR(10),""))+(LEN(T6:T110)>0))} -> 0 | W4: {=SUM(LEN(W6:W110)-LEN(SUBSTITUTE(W6:W110,CHAR(10),""))+(LEN(W6:W110)>0))} -> 0 | Z4: {=SUM(LEN(Z6:Z110)-LEN(SUBSTITUTE(Z6:Z110,CHAR(10),""))+(LEN(Z6:Z110)>0))} -> 0
A5: Réf. | B5: Description du test | C5: Pré-requis | D5: Profil | E5: Type client | F5: Réalim. | G5: Résultats attendus | H5: Résultats obtenus | I5: Jeux de tests Edge | J5: Statut Edge | K5: N° de Ticket | L5: Jeux de tests Chrome | M5: Statut Chrome | N5: N° de Ticket | O5: Jeux de tests Tel IOS | P5: Statut Tel IOS | Q5: N° de Ticket | R5: Jeux de tests Tel Android | S5: Statut Tel Android | T5: N° de Ticket | U5: Jeux de tests Tablette IOS | V5: Statut Tablette IOS | W5: N° de Ticket | X5: Jeux de tests Tablette Android | Y5: Statut Tablette Android | Z5: N° de Ticket
A6: 01 | B6: Je saisi un mail "ggvie.fr", je suis habilité à accéder à Expertisimo et je clique sur "Continuer" | C6: aucun | G6: J'arrive sur la home | M6: x
A7: 02 | B7: Je saisi un mail "ggvie.fr", je ne suis pas habilité à accéder à Expertisimo et je clique sur "Continuer" | C7: aucun | G7: J'ai un message de non connexion | M7: x
A8: 03 | B8: Je saisi un mail "groupama.com", je suis habilité à accéder à Expertisimo et je clique sur "Continuer" | C8: aucun | G8: J'arrive sur la home | M8: x
A9: 04 | B9: Je saisi un mail "groupama.com", je ne suis pas habilité à accéder à Expertisimo et je clique sur "Continuer" | C9: aucun | G9: J'ai un message de non connexion | M9: x
A10: 05 | B10: Je saisi un mail "Gan Patrimoine", je suis habilité à accéder à Expertisimo et je clique sur "Continuer" | C10: aucun | G10: J'arrive sur la home | M10: x
A11: 06 | B11: Je saisi un mail "Gan Patrimoine", je ne suis pas habilité à accéder à Expertisimo et je clique sur "Continuer" | C11: aucun | G11: J'ai un message de non connexion | M11: x
A12: 07 | B12: Je saisi un mail "extérieur" et je clique sur "Continuer" | C12: aucun | G12: Je dois saisir mon mot de passe | M12: x
B1048570: Client avec valeurs minimales saisie (non mineur), pas de coacquéreur, LOT B36 - Programme RIVE GAUCHE - URBAT

Sheet Biens Immo > Programme
H1: Cas a jouer | I1: =SUM(K1,N1,Q1,T1,W1,Z1) -> 15 | K1: =COUNTA(K6:K506)-COUNTIF(K6:K506,"N/A") -> 0 | N1: =COUNTA(N6:N506)-COUNTIF(N6:N506,"N/A") -> 15 | Q1: =COUNTA(Q6:Q506)-COUNTIF(Q6:Q506,"N/A") -> 0 | T1: =COUNTA(T6:T506)-COUNTIF(T6:T506,"N/A") -> 0 | W1: =COUNTA(W6:W506)-COUNTIF(W6:W506,"N/A") -> 0 | Z1: =COUNTA(Z6:Z506)-COUNTIF(Z6:Z506,"N/A") -> 0
H2: Total cas OK | I2: =SUM(K2,N2,Q2,T2,W2,Z2) -> 6 | K2: =COUNTIF(K6:K503,"OK") -> 0 | N2: =COUNTIF(N6:N503,"OK") -> 6 | Q2: =COUNTIF(Q6:Q503,"OK") -> 0 | T2: =COUNTIF(T6:T503,"OK") -> 0 | W2: =COUNTIF(W6:W503,"OK") -> 0 | Z2: =COUNTIF(Z6:Z503,"OK") -> 0
H3: Total cas KO | I3: =SUM(K3,N3,Q3,T3,W3,Z3) -> 4 | K3: =COUNTIF(K6:K504,"KO") -> 0 | N3: =COUNTIF(N6:N504,"KO") -> 4 | Q3: =COUNTIF(Q6:Q504,"KO") -> 0 | T3: =COUNTIF(T6:T504,"KO") -> 0 | W3: =COUNTIF(W6:W504,"KO") -> 0 | Z3: =COUNTIF(Z6:Z504,"KO") -> 0
H4: Tickets ouverts | I4: =SUM(L4,O4,R4,U4,X4,AA4) -> 4 | L4: =COUNTIF(L6:L200,"*") -> 0 | O4: {=SUM(LEN(O6:O110)-LEN(SUBSTITUTE(O6:O110,CHAR(10),""))+(LEN(O6:O110)>0))} -> 4 | R4: {=SUM(LEN(R6:R110)-LEN(SUBSTITUTE(R6:R110,CHAR(10),""))+(LEN(R6:R110)>0))} -> 0 | U4: {=SUM(LEN(U6:U110)-LEN(SUBSTITUTE(U6:U110,CHAR(10),""))+(LEN(U6:U110)>0))} -> 0 | X4: {=SUM(LEN(X6:X110)-LEN(SUBSTITUTE(X6:X110,CHAR(10),""))+(LEN(X6:X110)>0))} -> 0 | AA4: {=SUM(LEN(AA6:AA110)-LEN(SUBSTITUTE(AA6:AA110,CHAR(10),""))+(LEN(AA6:AA110)>0))} -> 0
A5: Réf. | B5: Catégorie | C5: Description du test | D5: Pré-requis | E5: Profil | F5: Type client | G5: Réalim. | H5: Résultats attendus | I5: Résultats obtenus | J5: Jeux de tests Edge | K5: Statut Edge | L5: N° de Ticket | M5: Jeux de tests Chrome | N5: Statut Chrome | O5: N° de Ticket | P5: Jeux de tests Tel IOS | Q5: Statut Tel IOS | R5: N° de Ticket | S5: Jeux de tests Tel Android | T5: Statut Tel Android | U5: N° de Ticket | V5: Jeux de tests Tablette IOS | W5: Statut Tablette IOS | X5: N° de Ticket | Y5: Jeux de tests Tablette Android | Z5: Statut Tablette Android | AA5: N° de Ticket
A6: 01 | N6: OK
A7: 02 | N7: x
A8: 03 | N8: OK
A9: 04 | N9: OK
A10: 05 | N10: KO | O10: #2109624
A11: 06 | N11: KO | O11: #2109625
N12: x
A13: 07 | N13: KO | O13: A confirmer
A14: 08 | N14: OK
A15: 09 | N15: OK
A16: 10 | N16: KO
A17: 11 | N17: OK | O17: #2109627
A18: 12 | N18: x
A19: 13 | N19: x
A20: 14 | N20: x
A21: 15
A22: 16
A23: 17
A24: 18
A25: 19
A26: 20
A27: 21

Sheet Biens Immo > Avis
H1: Cas a jouer | I1: =SUM(K1,N1,Q1,T1,W1,Z1) -> 6 | K1: =COUNTA(K6:K506)-COUNTIF(K6:K506,"N/A") -> 0 | N1: =COUNTA(N6:N506)-COUNTIF(N6:N506,"N/A") -> 6 | Q1: =COUNTA(Q6:Q506)-COUNTIF(Q6:Q506,"N/A") -> 0 | T1: =COUNTA(T6:T506)-COUNTIF(T6:T506,"N/A") -> 0 | W1: =COUNTA(W6:W506)-COUNTIF(W6:W506,"N/A") -> 0 | Z1: =COUNTA(Z6:Z506)-COUNTIF(Z6:Z506,"N/A") -> 0
H2: Total cas OK | I2: =SUM(K2,N2,Q2,T2,W2,Z2) -> 4 | K2: =COUNTIF(K6:K503,"OK") -> 0 | N2: =COUNTIF(N6:N503,"OK") -> 4 | Q2: =COUNTIF(Q6:Q503,"OK") -> 0 | T2: =COUNTIF(T6:T503,"OK") -> 0 | W2: =COUNTIF(W6:W503,"OK") -> 0 | Z2: =COUNTIF(Z6:Z503,"OK") -> 0
H3: Total cas KO | I3: =SUM(K3,N3,Q3,T3,W3,Z3) -> 2 | K3: =COUNTIF(K6:K504,"KO") -> 0 | N3: =COUNTIF(N6:N504,"KO") -> 2 | Q3: =COUNTIF(Q6:Q504,"KO") -> 0 | T3: =COUNTIF(T6:T504,"KO") -> 0 | W3: =COUNTIF(W6:W504,"KO") -> 0 | Z3: =COUNTIF(Z6:Z504,"KO") -> 0
H4: Tickets ouverts | I4: =SUM(L4,O4,R4,U4,X4,AA4) -> 0 | L4: =COUNTIF(L6:L200,"*") -> 0 | O4: {=SUM(LEN(O6:O110)-LEN(SUBSTITUTE(O6:O110,CHAR(10),""))+(LEN(O6:O110)>0))} -> 0 | R4: {=SUM(LEN(R6:R110)-LEN(SUBSTITUTE(R6:R110,CHAR(10),""))+(LEN(R6:R110)>0))} -> 0 | U4: {=SUM(LEN(U6:U110)-LEN(SUBSTITUTE(U6:U110,CHAR(10),""))+(LEN(U6:U110)>0))} -> 0 | X4: {=SUM(LEN(X6:X110)-LEN(SUBSTITUTE(X6:X110,CHAR(10),""))+(LEN(X6:X110)>0))} -> 0 | AA4: {=SUM(LEN(AA6:AA110)-LEN(SUBSTITUTE(AA6:AA110,CHAR(10),""))+(LEN(AA6:AA110)>0))} -> 0
A5: Réf. | B5: Catégorie | C5: Description du test | D5: Pré-requis | E5: Profil | F5: Type client | G5: Réalim. | H5: Résultats attendus | I5: Résultats obtenus | J5: Jeux de tests Edge | K5: Statut Edge | L5: N° de Ticket | M5: Jeux de tests Chrome | N5: Statut Chrome | O5: N° de Ticket | P5: Jeux de tests Tel IOS | Q5: Statut Tel IOS | R5: N° de Ticket | S5: Jeux de tests Tel Android | T5: Statut Tel Android | U5: N° de Ticket | V5: Jeux de tests Tablette IOS | W5: Statut Tablette IOS | X5: N° de Ticket | Y5: Jeux de tests Tablette Android | Z5: Statut Tablette Android | AA5: N° de Ticket
A6: 1 | N6: OK
A7: 2 | N7: KO
A8: 3 | N8: KO
A9: 4 | N9: OK
A10: 5 | N10: OK
A11: 6 | N11: OK

Sheet Entités > Promoteurs
H1: Cas a jouer | I1: =SUM(K1,N1,Q1,T1,W1,Z1) -> 31 | K1: =COUNTA(K6:K507)-COUNTIF(K6:K507,"N/A") -> 17 | N1: =COUNTA(N6:N507)-COUNTIF(N6:N507,"N/A") -> 14 | Q1: =COUNTA(Q6:Q507)-COUNTIF(Q6:Q507,"N/A") -> 0 | T1: =COUNTA(T6:T507)-COUNTIF(T6:T507,"N/A") -> 0 | W1: =COUNTA(W6:W507)-COUNTIF(W6:W507,"N/A") -> 0 | Z1: =COUNTA(Z6:Z507)-COUNTIF(Z6:Z507,"N/A") -> 0
H2: Total cas OK | I2: =SUM(K2,N2,Q2,T2,W2,Z2) -> 14 | K2: =COUNTIF(K6:K504,"OK") -> 1 | N2: =COUNTIF(N6:N504,"OK") -> 13 | Q2: =COUNTIF(Q6:Q504,"OK") -> 0 | T2: =COUNTIF(T6:T504,"OK") -> 0 | W2: =COUNTIF(W6:W504,"OK") -> 0 | Z2: =COUNTIF(Z6:Z504,"OK") -> 0
H3: Total cas KO | I3: =SUM(K3,N3,Q3,T3,W3,Z3) -> 1 | K3: =COUNTIF(K6:K505,"KO") -> 0 | N3: =COUNTIF(N6:N505,"KO") -> 1 | Q3: =COUNTIF(Q6:Q505,"KO") -> 0 | T3: =COUNTIF(T6:T505,"KO") -> 0 | W3: =COUNTIF(W6:W505,"KO") -> 0 | Z3: =COUNTIF(Z6:Z505,"KO") -> 0
H4: Tickets ouverts | I4: =SUM(L4,O4,R4,U4,X4,AA4) -> 0 | L4: =COUNTIF(L6:L201,"*") -> 0 | O4: {=SUM(LEN(O6:O111)-LEN(SUBSTITUTE(O6:O111,CHAR(10),""))+(LEN(O6:O111)>0))} -> 0 | R4: {=SUM(LEN(R6:R111)-LEN(SUBSTITUTE(R6:R111,CHAR(10),""))+(LEN(R6:R111)>0))} -> 0 | U4: {=SUM(LEN(U6:U111)-LEN(SUBSTITUTE(U6:U111,CHAR(10),""))+(LEN(U6:U111)>0))} -> 0 | X4: {=SUM(LEN(X6:X111)-LEN(SUBSTITUTE(X6:X111,CHAR(10),""))+(LEN(X6:X111)>0))} -> 0 | AA4: {=SUM(LEN(AA6:AA111)-LEN(SUBSTITUTE(AA6:AA111,CHAR(10),""))+(LEN(AA6:AA111)>0))} -> 0
A5: Réf. | B5: Catégorie | C5: Description du test | D5: Pré-requis | E5: Profil | F5: Type client | G5: Réalim. | H5: Résultats attendus | I5: Résultats obtenus | J5: Jeux de tests Edge | K5: Statut Edge | L5: N° de Ticket | M5: Jeux de tests Chrome | N5: Statut Chrome | O5: N° de Ticket | P5: Jeux de tests Tel IOS | Q5: Statut Tel IOS | R5: N° de Ticket | S5: Jeux de tests Tel Android | T5: Statut Tel Android | U5: N° de Ticket | V5: Jeux de tests Tablette IOS | W5: Statut Tablette IOS | X5: N° de Ticket | Y5: Jeux de tests Tablette Android | Z5: Statut Tablette Android | AA5: N° de Ticket
A6: 1 | N6: OK
A7: 2 | K7: OK
A8: 2 | N8: OK
A9: 3 | N9: OK
A10: 4 | N10: OK
A11: 5 | N11: OK
A12: 6 | N12: OK
A13: 7 | N13: OK
A14: 8 | N14: OK
A15: 9 | K15: x
A16: 10 | K16: x
A17: 11 | K17: x
A18: 12 | I18: Le contact est enregistré mais il ne remonte pas | N18: KO
A19: 13 | K19: x
A20: 14 | K20: x
A21: 15 | N21: OK
A22: 16 | N22: OK
A23: 17 | K23: x
A24: 18 | K24: x
A25: 19 | K25: x
A26: 20 | K26: x
A27: 21 | K27: x
A28: 22 | K28: x
A29: 23 | N29: OK
A30: 24 | K30: x
A31: 25 | K31: x
A32: 26 | K32: x
A33: 27 | K33: x
A34: 28 | K34: x
A35: 29 | N35: OK
A36: 30 | N36: OK
A37: 31
A38: 32
A39: 33

Sheet Entités > Réseaux
H1: Cas a jouer | I1: =SUM(K1,N1,Q1,T1,W1,Z1) -> 19 | K1: =COUNTA(K6:K511)-COUNTIF(K6:K511,"N/A") -> 17 | N1: =COUNTA(N6:N511)-COUNTIF(N6:N511,"N/A") -> 2 | Q1: =COUNTA(Q6:Q511)-COUNTIF(Q6:Q511,"N/A") -> 0 | T1: =COUNTA(T6:T511)-COUNTIF(T6:T511,"N/A") -> 0 | W1: =COUNTA(W6:W511)-COUNTIF(W6:W511,"N/A") -> 0 | Z1: =COUNTA(Z6:Z511)-COUNTIF(Z6:Z511,"N/A") -> 0
H2: Total cas OK | I2: =SUM(K2,N2,Q2,T2,W2,Z2) -> 16 | K2: =COUNTIF(K6:K509,"OK") -> 15 | N2: =COUNTIF(N6:N509,"OK") -> 1 | Q2: =COUNTIF(Q6:Q509,"OK") -> 0 | T2: =COUNTIF(T6:T509,"OK") -> 0 | W2: =COUNTIF(W6:W509,"OK") -> 0 | Z2: =COUNTIF(Z6:Z509,"OK") -> 0
H3: Total cas KO | I3: =SUM(K3,N3,Q3,T3,W3,Z3) -> 3 | K3: =COUNTIF(K6:K510,"KO") -> 2 | N3: =COUNTIF(N6:N510,"KO") -> 1 | Q3: =COUNTIF(Q6:Q510,"KO") -> 0 | T3: =COUNTIF(T6:T510,"KO") -> 0 | W3: =COUNTIF(W6:W510,"KO") -> 0 | Z3: =COUNTIF(Z6:Z510,"KO") -> 0
H4: Tickets ouverts | I4: =SUM(L4,O4,R4,U4,X4,AA4) -> 2 | L4: {=SUM(LEN(L6:L116)-LEN(SUBSTITUTE(L6:L116,CHAR(10),""))+(LEN(L6:L116)>0))} -> 2 | O4: {=SUM(LEN(O6:O116)-LEN(SUBSTITUTE(O6:O116,CHAR(10),""))+(LEN(O6:O116)>0))} -> 0 | R4: {=SUM(LEN(R6:R116)-LEN(SUBSTITUTE(R6:R116,CHAR(10),""))+(LEN(R6:R116)>0))} -> 0 | U4: {=SUM(LEN(U6:U116)-LEN(SUBSTITUTE(U6:U116,CHAR(10),""))+(LEN(U6:U116)>0))} -> 0 | X4: {=SUM(LEN(X6:X116)-LEN(SUBSTITUTE(X6:X116,CHAR(10),""))+(LEN(X6:X116)>0))} -> 0 | AA4: {=SUM(LEN(AA6:AA116)-LEN(SUBSTITUTE(AA6:AA116,CHAR(10),""))+(LEN(AA6:AA116)>0))} -> 0
A5: Réf. | B5: Catégorie | C5: Description du test | D5: Pré-requis | E5: Profil | F5: Type client | G5: Réalim. | H5: Résultats attendus | I5: Résultats obtenus | J5: Jeux de tests Edge | K5: Statut Edge | L5: N° de Ticket | M5: Jeux de tests Chrome | N5: Statut Chrome | O5: N° de Ticket | P5: Jeux de tests Tel IOS | Q5: Statut Tel IOS | R5: N° de Ticket | S5: Jeux de tests Tel Android | T5: Statut Tel Android | U5: N° de Ticket | V5: Jeux de tests Tablette IOS | W5: Statut Tablette IOS | X5: N° de Ticket | Y5: Jeux de tests Tablette Android | Z5: Statut Tablette Android | AA5: N° de Ticket
A6: 1 | K6: OK | N6: OK
A7: 2 | K7: OK
A8: 3 | K8: OK
A9: 4 | K9: OK
A10: 5 | K10: OK
A11: 6 | K11: OK
A12: 7 | K12: OK
A13: 8 | K13: OK
A14: 9 | K14: KO | L14: A créer
A15: 10 | K15: OK
A16: 11 | K16: OK
A17: 12 | K17: OK
A18: 13 | K18: OK
A19: 14 | K19: OK
A20: 15 | K20: OK | N20: KO
A21: 16 | K21: OK
A22: 17 | K22: KO | L22: A créer

Sheet Entités > Gestionnaires
H1: Cas a jouer | I1: =SUM(K1,N1,Q1,T1,W1,Z1) -> 16 | K1: =COUNTA(K6:K508)-COUNTIF(K6:K508,"N/A") -> 16 | N1: =COUNTA(N6:N508)-COUNTIF(N6:N508,"N/A") -> 0 | Q1: =COUNTA(Q6:Q508)-COUNTIF(Q6:Q508,"N/A") -> 0 | T1: =COUNTA(T6:T508)-COUNTIF(T6:T508,"N/A") -> 0 | W1: =COUNTA(W6:W508)-COUNTIF(W6:W508,"N/A") -> 0 | Z1: =COUNTA(Z6:Z508)-COUNTIF(Z6:Z508,"N/A") -> 0
H2: Total cas OK | I2: =SUM(K2,N2,Q2,T2,W2,Z2) -> 16 | K2: =COUNTIF(K6:K510,"OK") -> 16 | N2: =COUNTIF(N6:N510,"OK") -> 0 | Q2: =COUNTIF(Q6:Q510,"OK") -> 0 | T2: =COUNTIF(T6:T510,"OK") -> 0 | W2: =COUNTIF(W6:W510,"OK") -> 0 | Z2: =COUNTIF(Z6:Z510,"OK") -> 0
H3: Total cas KO | I3: =SUM(K3,N3,Q3,T3,W3,Z3) -> 0 | K3: =COUNTIF(K6:K511,"KO") -> 0 | N3: =COUNTIF(N6:N511,"KO") -> 0 | Q3: =COUNTIF(Q6:Q511,"KO") -> 0 | T3: =COUNTIF(T6:T511,"KO") -> 0 | W3: =COUNTIF(W6:W511,"KO") -> 0 | Z3: =COUNTIF(Z6:Z511,"KO") -> 0
H4: Tickets ouverts | I4: =SUM(L4,O4,R4,U4,X4,AA4) -> 0 | L4: =COUNTIF(L6:L207,"*") -> 0 | O4: {=SUM(LEN(O6:O117)-LEN(SUBSTITUTE(O6:O117,CHAR(10),""))+(LEN(O6:O117)>0))} -> 0 | R4: {=SUM(LEN(R6:R117)-LEN(SUBSTITUTE(R6:R117,CHAR(10),""))+(LEN(R6:R117)>0))} -> 0 | U4: {=SUM(LEN(U6:U117)-LEN(SUBSTITUTE(U6:U117,CHAR(10),""))+(LEN(U6:U117)>0))} -> 0 | X4: {=SUM(LEN(X6:X117)-LEN(SUBSTITUTE(X6:X117,CHAR(10),""))+(LEN(X6:X117)>0))} -> 0 | AA4: {=SUM(LEN(AA6:AA117)-LEN(SUBSTITUTE(AA6:AA117,CHAR(10),""))+(LEN(AA6:AA117)>0))} -> 0
A5: Réf. | B5: Catégorie | C5: Description du test | D5: Pré-requis | E5: Profil | F5: Type client | G5: Réalim. | H5: Résultats attendus | I5: Résultats obtenus | J5: Jeux de tests Edge | K5: Statut Edge | L5: N° de Ticket | M5: Jeux de tests Chrome | N5: Statut Chrome | O5: N° de Ticket | P5: Jeux de tests Tel IOS | Q5: Statut Tel IOS | R5: N° de Ticket | S5: Jeux de tests Tel Android | T5: Statut Tel Android | U5: N° de Ticket | V5: Jeux de tests Tablette IOS | W5: Statut Tablette IOS | X5: N° de Ticket | Y5: Jeux de tests Tablette Android | Z5: Statut Tablette Android | AA5: N° de Ticket
A6: 1 | K6: OK
A7: 2 | K7: OK
A8: 3 | K8: OK
A9: 4 | K9: OK
A10: 5 | K10: OK
A11: 6 | K11: OK
A12: 7 | K12: OK
A13: 8 | K13: OK
A14: 9 | K14: OK
A15: 10 | K15: OK
A16: 11 | K16: OK
A17: 12 | K17: OK
A18: 13 | K18: OK
... A21: 16 | K21: OK

Sheet Entités > Etudes notariales
H1: Cas a jouer | I1: =SUM(K1,N1,Q1,T1,W1,Z1) -> 14 | K1: =COUNTA(K6:K504)-COUNTIF(K6:K504,"N/A") -> 14 | N1: =COUNTA(N6:N504)-COUNTIF(N6:N504,"N/A") -> 0 | Q1: =COUNTA(Q6:Q504)-COUNTIF(Q6:Q504,"N/A") -> 0 | T1: =COUNTA(T6:T504)-COUNTIF(T6:T504,"N/A") -> 0 | W1: =COUNTA(W6:W504)-COUNTIF(W6:W504,"N/A") -> 0 | Z1: =COUNTA(Z6:Z504)-COUNTIF(Z6:Z504,"N/A") -> 0
H2: Total cas OK | I2: =SUM(K2,N2,Q2,T2,W2,Z2) -> 14 | K2: =COUNTIF(K6:K501,"OK") -> 14 | N2: =COUNTIF(N6:N501,"OK") -> 0 | Q2: =COUNTIF(Q6:Q501,"OK") -> 0 | T2: =COUNTIF(T6:T501,"OK") -> 0 | W2: =COUNTIF(W6:W501,"OK") -> 0 | Z2: =COUNTIF(Z6:Z501,"OK") -> 0
H3: Total cas KO | I3: =SUM(K3,N3,Q3,T3,W3,Z3) -> 0 | K3: =COUNTIF(K6:K502,"KO") -> 0 | N3: =COUNTIF(N6:N502,"KO") -> 0 | Q3: =COUNTIF(Q6:Q502,"KO") -> 0 | T3: =COUNTIF(T6:T502,"KO") -> 0 | W3: =COUNTIF(W6:W502,"KO") -> 0 | Z3: =COUNTIF(Z6:Z502,"KO") -> 0
H4: Tickets ouverts | I4: =SUM(L4,O4,R4,U4,X4,AA4) -> 0 | L4: {=SUM(LEN(L6:L108)-LEN(SUBSTITUTE(L6:L108,CHAR(10),""))+(LEN(L6:L108)>0))} -> 0 | O4: {=SUM(LEN(O6:O108)-LEN(SUBSTITUTE(O6:O108,CHAR(10),""))+(LEN(O6:O108)>0))} -> 0 | R4: {=SUM(LEN(R6:R108)-LEN(SUBSTITUTE(R6:R108,CHAR(10),""))+(LEN(R6:R108)>0))} -> 0 | U4: {=SUM(LEN(U6:U108)-LEN(SUBSTITUTE(U6:U108,CHAR(10),""))+(LEN(U6:U108)>0))} -> 0 | X4: {=SUM(LEN(X6:X108)-LEN(SUBSTITUTE(X6:X108,CHAR(10),""))+(LEN(X6:X108)>0))} -> 0 | AA4: {=SUM(LEN(AA6:AA108)-LEN(SUBSTITUTE(AA6:AA108,CHAR(10),""))+(LEN(AA6:AA108)>0))} -> 0
A5: Réf. | B5: Catégorie | C5: Description du test | D5: Pré-requis | E5: Profil | F5: Type client | G5: Réalim. | H5: Résultats attendus | I5: Résultats obtenus | J5: Jeux de tests Edge | K5: Statut Edge | L5: N° de Ticket | M5: Jeux de tests Chrome | N5: Statut Chrome | O5: N° de Ticket | P5: Jeux de tests Tel IOS | Q5: Statut Tel IOS | R5: N° de Ticket | S5: Jeux de tests Tel Android | T5: Statut Tel Android | U5: N° de Ticket | V5: Jeux de tests Tablette IOS | W5: Statut Tablette IOS | X5: N° de Ticket | Y5: Jeux de tests Tablette Android | Z5: Statut Tablette Android | AA5: N° de Ticket
A6: 1 | K6: OK
A7: 2 | K7: OK
A8: 3 | K8: OK
A9: 4 | K9: OK
A10: 5 | K10: OK
A11: 6 | K11: OK
A12: 7 | K12: OK
A13: 8 | K13: OK
A14: 9 | K14: OK
A15: 10 | K15: OK
A16: 11 | K16: OK
A17: 12 | K17: OK
A18: 13 | K18: OK
A19: 14 | K19: OK

Sheet Entités > Cabinet Comptables
H1: Cas a jouer | I1: =SUM(K1,N1,Q1,T1,W1,Z1) -> 14 | K1: =COUNTA(K6:K504)-COUNTIF(K6:K504,"N/A") -> 14 | N1: =COUNTA(N6:N504)-COUNTIF(N6:N504,"N/A") -> 0 | Q1: =COUNTA(Q6:Q504)-COUNTIF(Q6:Q504,"N/A") -> 0 | T1: =COUNTA(T6:T504)-COUNTIF(T6:T504,"N/A") -> 0 | W1: =COUNTA(W6:W504)-COUNTIF(W6:W504,"N/A") -> 0 | Z1: =COUNTA(Z6:Z504)-COUNTIF(Z6:Z504,"N/A") -> 0
H2: Total cas OK | I2: =SUM(K2,N2,Q2,T2,W2,Z2) -> 14 | K2: =COUNTIF(K6:K501,"OK") -> 14 | N2: =COUNTIF(N6:N501,"OK") -> 0 | Q2: =COUNTIF(Q6:Q501,"OK") -> 0 | T2: =COUNTIF(T6:T501,"OK") -> 0 | W2: =COUNTIF(W6:W501,"OK") -> 0 | Z2: =COUNTIF(Z6:Z501,"OK") -> 0
H3: Total cas KO | I3: =SUM(K3,N3,Q3,T3,W3,Z3) -> 0 | K3: =COUNTIF(K6:K502,"KO") -> 0 | N3: =COUNTIF(N6:N502,"KO") -> 0 | Q3: =COUNTIF(Q6:Q502,"KO") -> 0 | T3: =COUNTIF(T6:T502,"KO") -> 0 | W3: =COUNTIF(W6:W502,"KO") -> 0 | Z3: =COUNTIF(Z6:Z502,"KO") -> 0
H4: Tickets ouverts | I4: =SUM(L4,O4,R4,U4,X4,AA4) -> 0 | L4: {=SUM(LEN(L6:L108)-LEN(SUBSTITUTE(L6:L108,CHAR(10),""))+(LEN(L6:L108)>0))} -> 0 | O4: {=SUM(LEN(O6:O108)-LEN(SUBSTITUTE(O6:O108,CHAR(10),""))+(LEN(O6:O108)>0))} -> 0 | R4: {=SUM(LEN(R6:R108)-LEN(SUBSTITUTE(R6:R108,CHAR(10),""))+(LEN(R6:R108)>0))} -> 0 | U4: {=SUM(LEN(U6:U108)-LEN(SUBSTITUTE(U6:U108,CHAR(10),""))+(LEN(U6:U108)>0))} -> 0 | X4: {=SUM(LEN(X6:X108)-LEN(SUBSTITUTE(X6:X108,CHAR(10),""))+(LEN(X6:X108)>0))} -> 0 | AA4: {=SUM(LEN(AA6:AA108)-LEN(SUBSTITUTE(AA6:AA108,CHAR(10),""))+(LEN(AA6:AA108)>0))} -> 0
A5: Réf. | B5: Catégorie | C5: Description du test | D5: Pré-requis | E5: Profil | F5: Type client | G5: Réalim. | H5: Résultats attendus | I5: Résultats obtenus | J5: Jeux de tests Edge | K5: Statut Edge | L5: N° de Ticket | M5: Jeux de tests Chrome | N5: Statut Chrome | O5: N° de Ticket | P5: Jeux de tests Tel IOS | Q5: Statut Tel IOS | R5: N° de Ticket | S5: Jeux de tests Tel Android | T5: Statut Tel Android | U5: N° de Ticket | V5: Jeux de tests Tablette IOS | W5: Statut Tablette IOS | X5: N° de Ticket | Y5: Jeux de tests Tablette Android | Z5: Statut Tablette Android | AA5: N° de Ticket
A6: 1 | K6: OK
A7: 2 | K7: OK
A8: 3 | K8: OK
A9: 4 | K9: OK
A10: 5 | K10: OK
A11: 6 | K11: OK
A12: 7 | K12: OK
A13: 8 | K13: OK
A14: 9 | K14: OK
A15: 10 | K15: OK
A16: 11 | K16: OK
A17: 12 | K17: OK
A18: 13 | K18: OK
A19: 14 | K19: OK

Sheet Entités > Vendeurs immobiliers
H1: Cas a jouer | I1: =SUM(K1,N1,Q1,T1,W1,Z1) -> 0 | K1: =COUNTA(K6:K506)-COUNTIF(K6:K506,"N/A") -> 0 | N1: =COUNTA(N6:N506)-COUNTIF(N6:N506,"N/A") -> 0 | Q1: =COUNTA(Q6:Q506)-COUNTIF(Q6:Q506,"N/A") -> 0 | T1: =COUNTA(T6:T506)-COUNTIF(T6:T506,"N/A") -> 0 | W1: =COUNTA(W6:W506)-COUNTIF(W6:W506,"N/A") -> 0 | Z1: =COUNTA(Z6:Z506)-COUNTIF(Z6:Z506,"N/A") -> 0
H2: Total cas OK | I2: =SUM(K2,N2,Q2,T2,W2,Z2) -> 0 | K2: =COUNTIF(K6:K503,"OK") -> 0 | N2: =COUNTIF(N6:N503,"OK") -> 0 | Q2: =COUNTIF(Q6:Q503,"OK") -> 0 | T2: =COUNTIF(T6:T503,"OK") -> 0 | W2: =COUNTIF(W6:W503,"OK") -> 0 | Z2: =COUNTIF(Z6:Z503,"OK") -> 0
H3: Total cas KO | I3: =SUM(K3,N3,Q3,T3,W3,Z3) -> 0 | K3: =COUNTIF(K6:K504,"KO") -> 0 | N3: =COUNTIF(N6:N504,"KO") -> 0 | Q3: =COUNTIF(Q6:Q504,"KO") -> 0 | T3: =COUNTIF(T6:T504,"KO") -> 0 | W3: =COUNTIF(W6:W504,"KO") -> 0 | Z3: =COUNTIF(Z6:Z504,"KO") -> 0
H4: Tickets ouverts | I4: =SUM(L4,O4,R4,U4,X4,AA4) -> 0 | L4: {=SUM(LEN(L6:L110)-LEN(SUBSTITUTE(L6:L110,CHAR(10),""))+(LEN(L6:L110)>0))} -> 0 | O4: {=SUM(LEN(O6:O110)-LEN(SUBSTITUTE(O6:O110,CHAR(10),""))+(LEN(O6:O110)>0))} -> 0 | R4: {=SUM(LEN(R6:R110)-LEN(SUBSTITUTE(R6:R110,CHAR(10),""))+(LEN(R6:R110)>0))} -> 0 | U4: {=SUM(LEN(U6:U110)-LEN(SUBSTITUTE(U6:U110,CHAR(10),""))+(LEN(U6:U110)>0))} -> 0 | X4: {=SUM(LEN(X6:X110)-LEN(SUBSTITUTE(X6:X110,CHAR(10),""))+(LEN(X6:X110)>0))} -> 0 | AA4: {=SUM(LEN(AA6:AA110)-LEN(SUBSTITUTE(AA6:AA110,CHAR(10),""))+(LEN(AA6:AA110)>0))} -> 0
A5: Réf. | B5: Catégorie | C5: Description du test | D5: Pré-requis | E5: Profil | F5: Type client | G5: Réalim. | H5: Résultats attendus | I5: Résultats obtenus | J5: Jeux de tests Edge | K5: Statut Edge | L5: N° de Ticket | M5: Jeux de tests Chrome | N5: Statut Chrome | O5: N° de Ticket | P5: Jeux de tests Tel IOS | Q5: Statut Tel IOS | R5: N° de Ticket | S5: Jeux de tests Tel Android | T5: Statut Tel Android | U5: N° de Ticket | V5: Jeux de tests Tablette IOS | W5: Statut Tablette IOS | X5: N° de Ticket | Y5: Jeux de tests Tablette Android | Z5: Statut Tablette Android | AA5: N° de Ticket
A6: 1
A7: 2
A8: 3
A9: 4
A10: 5
A11: 6
A12: 7
A13: 8
A14: 9
A15: 10
A16: 11
A17: 12
... A21: 16

Sheet Entités > Vendeurs mobiliers
H1: Cas a jouer | I1: =SUM(K1,N1,Q1,T1,W1,Z1) -> 0 | K1: =COUNTA(K6:K506)-COUNTIF(K6:K506,"N/A") -> 0 | N1: =COUNTA(N6:N506)-COUNTIF(N6:N506,"N/A") -> 0 | Q1: =COUNTA(Q6:Q506)-COUNTIF(Q6:Q506,"N/A") -> 0 | T1: =COUNTA(T6:T506)-COUNTIF(T6:T506,"N/A") -> 0 | W1: =COUNTA(W6:W506)-COUNTIF(W6:W506,"N/A") -> 0 | Z1: =COUNTA(Z6:Z506)-COUNTIF(Z6:Z506,"N/A") -> 0
H2: Total cas OK | I2: =SUM(K2,N2,Q2,T2,W2,Z2) -> 0 | K2: =COUNTIF(K6:K503,"OK") -> 0 | N2: =COUNTIF(N6:N503,"OK") -> 0 | Q2: =COUNTIF(Q6:Q503,"OK") -> 0 | T2: =COUNTIF(T6:T503,"OK") -> 0 | W2: =COUNTIF(W6:W503,"OK") -> 0 | Z2: =COUNTIF(Z6:Z503,"OK") -> 0
H3: Total cas KO | I3: =SUM(K3,N3,Q3,T3,W3,Z3) -> 0 | K3: =COUNTIF(K6:K504,"KO") -> 0 | N3: =COUNTIF(N6:N504,"KO") -> 0 | Q3: =COUNTIF(Q6:Q504,"KO") -> 0 | T3: =COUNTIF(T6:T504,"KO") -> 0 | W3: =COUNTIF(W6:W504,"KO") -> 0 | Z3: =COUNTIF(Z6:Z504,"KO") -> 0
H4: Tickets ouverts | I4: =SUM(L4,O4,R4,U4,X4,AA4) -> 0 | L4: {=SUM(LEN(L6:L110)-LEN(SUBSTITUTE(L6:L110,CHAR(10),""))+(LEN(L6:L110)>0))} -> 0 | O4: {=SUM(LEN(O6:O110)-LEN(SUBSTITUTE(O6:O110,CHAR(10),""))+(LEN(O6:O110)>0))} -> 0 | R4: {=SUM(LEN(R6:R110)-LEN(SUBSTITUTE(R6:R110,CHAR(10),""))+(LEN(R6:R110)>0))} -> 0 | U4: {=SUM(LEN(U6:U110)-LEN(SUBSTITUTE(U6:U110,CHAR(10),""))+(LEN(U6:U110)>0))} -> 0 | X4: {=SUM(LEN(X6:X110)-LEN(SUBSTITUTE(X6:X110,CHAR(10),""))+(LEN(X6:X110)>0))} -> 0 | AA4: {=SUM(LEN(AA6:AA110)-LEN(SUBSTITUTE(AA6:AA110,CHAR(10),""))+(LEN(AA6:AA110)>0))} -> 0
A5: Réf. | B5: Catégorie | C5: Description du test | D5: Pré-requis | E5: Profil | F5: Type client | G5: Réalim. | H5: Résultats attendus | I5: Résultats obtenus | J5: Jeux de tests Edge | K5: Statut Edge | L5: N° de Ticket | M5: Jeux de tests Chrome | N5: Statut Chrome | O5: N° de Ticket | P5: Jeux de tests Tel IOS | Q5: Statut Tel IOS | R5: N° de Ticket | S5: Jeux de tests Tel Android | T5: Statut Tel Android | U5: N° de Ticket | V5: Jeux de tests Tablette IOS | W5: Statut Tablette IOS | X5: N° de Ticket | Y5: Jeux de tests Tablette Android | Z5: Statut Tablette Android | AA5: N° de Ticket
A6: 1
A7: 2
A8: 3
A9: 4
A10: 5
A11: 6
A12: 7
A13: 8
A14: 9
A15: 10
A16: 11
A17: 12
... A20: 15

Sheet Entités > Clients
H1: Cas a jouer | I1: =SUM(K1,N1,Q1,T1,W1,Z1) -> 0 | K1: =COUNTA(K6:K506)-COUNTIF(K6:K506,"N/A") -> 0 | N1: =COUNTA(N6:N506)-COUNTIF(N6:N506,"N/A") -> 0 | Q1: =COUNTA(Q6:Q506)-COUNTIF(Q6:Q506,"N/A") -> 0 | T1: =COUNTA(T6:T506)-COUNTIF(T6:T506,"N/A") -> 0 | W1: =COUNTA(W6:W506)-COUNTIF(W6:W506,"N/A") -> 0 | Z1: =COUNTA(Z6:Z506)-COUNTIF(Z6:Z506,"N/A") -> 0
H2: Total cas OK | I2: =SUM(K2,N2,Q2,T2,W2,Z2) -> 0 | K2: =COUNTIF(K6:K503,"OK") -> 0 | N2: =COUNTIF(N6:N503,"OK") -> 0 | Q2: =COUNTIF(Q6:Q503,"OK") -> 0 | T2: =COUNTIF(T6:T503,"OK") -> 0 | W2: =COUNTIF(W6:W503,"OK") -> 0 | Z2: =COUNTIF(Z6:Z503,"OK") -> 0
H3: Total cas KO | I3: =SUM(K3,N3,Q3,T3,W3,Z3) -> 0 | K3: =COUNTIF(K6:K504,"KO") -> 0 | N3: =COUNTIF(N6:N504,"KO") -> 0 | Q3: =COUNTIF(Q6:Q504,"KO") -> 0 | T3: =COUNTIF(T6:T504,"KO") -> 0 | W3: =COUNTIF(W6:W504,"KO") -> 0 | Z3: =COUNTIF(Z6:Z504,"KO") -> 0
H4: Tickets ouverts | I4: =SUM(L4,O4,R4,U4,X4,AA4) -> 0 | L4: {=SUM(LEN(L6:L110)-LEN(SUBSTITUTE(L6:L110,CHAR(10),""))+(LEN(L6:L110)>0))} -> 0 | O4: {=SUM(LEN(O6:O110)-LEN(SUBSTITUTE(O6:O110,CHAR(10),""))+(LEN(O6:O110)>0))} -> 0 | R4: {=SUM(LEN(R6:R110)-LEN(SUBSTITUTE(R6:R110,CHAR(10),""))+(LEN(R6:R110)>0))} -> 0 | U4: {=SUM(LEN(U6:U110)-LEN(SUBSTITUTE(U6:U110,CHAR(10),""))+(LEN(U6:U110)>0))} -> 0 | X4: {=SUM(LEN(X6:X110)-LEN(SUBSTITUTE(X6:X110,CHAR(10),""))+(LEN(X6:X110)>0))} -> 0 | AA4: {=SUM(LEN(AA6:AA110)-LEN(SUBSTITUTE(AA6:AA110,CHAR(10),""))+(LEN(AA6:AA110)>0))} -> 0
A5: Réf. | B5: Catégorie | C5: Description du test | D5: Pré-requis | E5: Profil | F5: Type client | G5: Réalim. | H5: Résultats attendus | I5: Résultats obtenus | J5: Jeux de tests Edge | K5: Statut Edge | L5: N° de Ticket | M5: Jeux de tests Chrome | N5: Statut Chrome | O5: N° de Ticket | P5: Jeux de tests Tel IOS | Q5: Statut Tel IOS | R5: N° de Ticket | S5: Jeux de tests Tel Android | T5: Statut Tel Android | U5: N° de Ticket | V5: Jeux de tests Tablette IOS | W5: Statut Tablette IOS | X5: N° de Ticket | Y5: Jeux de tests Tablette Android | Z5: Statut Tablette Android | AA5: N° de Ticket
A6: 1
A7: 2
A8: 3
A9: 4
A10: 5
A11: 6
A12: 7
A13: 8
A14: 9
A15: 10
A16: 11
A17: 12
... A19: 14

Sheet Contacts > Contacts
H1: Cas a jouer | I1: =SUM(K1,N1,Q1,T1,W1,Z1) -> 0 | K1: =COUNTA(K6:K506)-COUNTIF(K6:K506,"N/A") -> 0 | N1: =COUNTA(N6:N506)-COUNTIF(N6:N506,"N/A") -> 0 | Q1: =COUNTA(Q6:Q506)-COUNTIF(Q6:Q506,"N/A") -> 0 | T1: =COUNTA(T6:T506)-COUNTIF(T6:T506,"N/A") -> 0 | W1: =COUNTA(W6:W506)-COUNTIF(W6:W506,"N/A") -> 0 | Z1: =COUNTA(Z6:Z506)-COUNTIF(Z6:Z506,"N/A") -> 0
H2: Total cas OK | I2: =SUM(K2,N2,Q2,T2,W2,Z2) -> 0 | K2: =COUNTIF(K6:K503,"OK") -> 0 | N2: =COUNTIF(N6:N503,"OK") -> 0 | Q2: =COUNTIF(Q6:Q503,"OK") -> 0 | T2: =COUNTIF(T6:T503,"OK") -> 0 | W2: =COUNTIF(W6:W503,"OK") -> 0 | Z2: =COUNTIF(Z6:Z503,"OK") -> 0
H3: Total cas KO | I3: =SUM(K3,N3,Q3,T3,W3,Z3) -> 0 | K3: =COUNTIF(K6:K504,"KO") -> 0 | N3: =COUNTIF(N6:N504,"KO") -> 0 | Q3: =COUNTIF(Q6:Q504,"KO") -> 0 | T3: =COUNTIF(T6:T504,"KO") -> 0 | W3: =COUNTIF(W6:W504,"KO") -> 0 | Z3: =COUNTIF(Z6:Z504,"KO") -> 0
H4: Tickets ouverts | I4: =SUM(L4,O4,R4,U4,X4,AA4) -> 0 | L4: {=SUM(LEN(L6:L110)-LEN(SUBSTITUTE(L6:L110,CHAR(10),""))+(LEN(L6:L110)>0))} -> 0 | O4: {=SUM(LEN(O6:O110)-LEN(SUBSTITUTE(O6:O110,CHAR(10),""))+(LEN(O6:O110)>0))} -> 0 | R4: {=SUM(LEN(R6:R110)-LEN(SUBSTITUTE(R6:R110,CHAR(10),""))+(LEN(R6:R110)>0))} -> 0 | U4: {=SUM(LEN(U6:U110)-LEN(SUBSTITUTE(U6:U110,CHAR(10),""))+(LEN(U6:U110)>0))} -> 0 | X4: {=SUM(LEN(X6:X110)-LEN(SUBSTITUTE(X6:X110,CHAR(10),""))+(LEN(X6:X110)>0))} -> 0 | AA4: {=SUM(LEN(AA6:AA110)-LEN(SUBSTITUTE(AA6:AA110,CHAR(10),""))+(LEN(AA6:AA110)>0))} -> 0
A5: Réf. | B5: Catégorie | C5: Description du test | D5: Pré-requis | E5: Profil | F5: Type client | G5: Réalim. | H5: Résultats attendus | I5: Résultats obtenus | J5: Jeux de tests Edge | K5: Statut Edge | L5: N° de Ticket | M5: Jeux de tests Chrome | N5: Statut Chrome | O5: N° de Ticket | P5: Jeux de tests Tel IOS | Q5: Statut Tel IOS | R5: N° de Ticket | S5: Jeux de tests Tel Android | T5: Statut Tel Android | U5: N° de Ticket | V5: Jeux de tests Tablette IOS | W5: Statut Tablette IOS | X5: N° de Ticket | Y5: Jeux de tests Tablette Android | Z5: Statut Tablette Android | AA5: N° de Ticket
A6: 1
A7: 2
A8: 3
A9: 4
A10: 5
A11: 6
A12: 7
A13: 8
A14: 9
A15: 10
A16: 11
A17: 12
... A22: 17

Sheet Contacts > Profils
H1: Cas a jouer | I1: =SUM(K1,N1,Q1,T1,W1,Z1) -> 0 | K1: =COUNTA(K6:K506)-COUNTIF(K6:K506,"N/A") -> 0 | N1: =COUNTA(N6:N506)-COUNTIF(N6:N506,"N/A") -> 0 | Q1: =COUNTA(Q6:Q506)-COUNTIF(Q6:Q506,"N/A") -> 0 | T1: =COUNTA(T6:T506)-COUNTIF(T6:T506,"N/A") -> 0 | W1: =COUNTA(W6:W506)-COUNTIF(W6:W506,"N/A") -> 0 | Z1: =COUNTA(Z6:Z506)-COUNTIF(Z6:Z506,"N/A") -> 0
H2: Total cas OK | I2: =SUM(K2,N2,Q2,T2,W2,Z2) -> 0 | K2: =COUNTIF(K6:K503,"OK") -> 0 | N2: =COUNTIF(N6:N503,"OK") -> 0 | Q2: =COUNTIF(Q6:Q503,"OK") -> 0 | T2: =COUNTIF(T6:T503,"OK") -> 0 | W2: =COUNTIF(W6:W503,"OK") -> 0 | Z2: =COUNTIF(Z6:Z503,"OK") -> 0
H3: Total cas KO | I3: =SUM(K3,N3,Q3,T3,W3,Z3) -> 0 | K3: =COUNTIF(K6:K504,"KO") -> 0 | N3: =COUNTIF(N6:N504,"KO") -> 0 | Q3: =COUNTIF(Q6:Q504,"KO") -> 0 | T3: =COUNTIF(T6:T504,"KO") -> 0 | W3: =COUNTIF(W6:W504,"KO") -> 0 | Z3: =COUNTIF(Z6:Z504,"KO") -> 0
H4: Tickets ouverts | I4: =SUM(L4,O4,R4,U4,X4,AA4) -> 0 | L4: {=SUM(LEN(L6:L110)-LEN(SUBSTITUTE(L6:L110,CHAR(10),""))+(LEN(L6:L110)>0))} -> 0 | O4: {=SUM(LEN(O6:O110)-LEN(SUBSTITUTE(O6:O110,CHAR(10),""))+(LEN(O6:O110)>0))} -> 0 | R4: {=SUM(LEN(R6:R110)-LEN(SUBSTITUTE(R6:R110,CHAR(10),""))+(LEN(R6:R110)>0))} -> 0 | U4: {=SUM(LEN(U6:U110)-LEN(SUBSTITUTE(U6:U110,CHAR(10),""))+(LEN(U6:U110)>0))} -> 0 | X4: {=SUM(LEN(X6:X110)-LEN(SUBSTITUTE(X6:X110,CHAR(10),""))+(LEN(X6:X110)>0))} -> 0 | AA4: {=SUM(LEN(AA6:AA110)-LEN(SUBSTITUTE(AA6:AA110,CHAR(10),""))+(LEN(AA6:AA110)>0))} -> 0
A5: Réf. | B5: Catégorie | C5: Description du test | D5: Pré-requis | E5: Profil | F5: Type client | G5: Réalim. | H5: Résultats attendus | I5: Résultats obtenus | J5: Jeux de tests Edge | K5: Statut Edge | L5: N° de Ticket | M5: Jeux de tests Chrome | N5: Statut Chrome | O5: N° de Ticket | P5: Jeux de tests Tel IOS | Q5: Statut Tel IOS | R5: N° de Ticket | S5: Jeux de tests Tel Android | T5: Statut Tel Android | U5: N° de Ticket | V5: Jeux de tests Tablette IOS | W5: Statut Tablette IOS | X5: N° de Ticket | Y5: Jeux de tests Tablette Android | Z5: Statut Tablette Android | AA5: N° de Ticket
A6: 1
A7: 2
A8: 3
A9: 4
A10: 5
A11: 6
A12: 7
A13: 8
A14: 9
A15: 10
A16: 11
A17: 12
... A21: 16

Sheet Contacts > Droits
H1: Cas a jouer | I1: =SUM(K1,N1,Q1,T1,W1,Z1) -> 0 | K1: =COUNTA(K6:K506)-COUNTIF(K6:K506,"N/A") -> 0 | N1: =COUNTA(N6:N506)-COUNTIF(N6:N506,"N/A") -> 0 | Q1: =COUNTA(Q6:Q506)-COUNTIF(Q6:Q506,"N/A") -> 0 | T1: =COUNTA(T6:T506)-COUNTIF(T6:T506,"N/A") -> 0 | W1: =COUNTA(W6:W506)-COUNTIF(W6:W506,"N/A") -> 0 | Z1: =COUNTA(Z6:Z506)-COUNTIF(Z6:Z506,"N/A") -> 0
H2: Total cas OK | I2: =SUM(K2,N2,Q2,T2,W2,Z2) -> 0 | K2: =COUNTIF(K6:K503,"OK") -> 0 | N2: =COUNTIF(N6:N503,"OK") -> 0 | Q2: =COUNTIF(Q6:Q503,"OK") -> 0 | T2: =COUNTIF(T6:T503,"OK") -> 0 | W2: =COUNTIF(W6:W503,"OK") -> 0 | Z2: =COUNTIF(Z6:Z503,"OK") -> 0
H3: Total cas KO | I3: =SUM(K3,N3,Q3,T3,W3,Z3) -> 0 | K3: =COUNTIF(K6:K504,"KO") -> 0 | N3: =COUNTIF(N6:N504,"KO") -> 0 | Q3: =COUNTIF(Q6:Q504,"KO") -> 0 | T3: =COUNTIF(T6:T504,"KO") -> 0 | W3: =COUNTIF(W6:W504,"KO") -> 0 | Z3: =COUNTIF(Z6:Z504,"KO") -> 0
H4: Tickets ouverts | I4: =SUM(L4,O4,R4,U4,X4,AA4) -> 0 | L4: {=SUM(LEN(L6:L110)-LEN(SUBSTITUTE(L6:L110,CHAR(10),""))+(LEN(L6:L110)>0))} -> 0 | O4: {=SUM(LEN(O6:O110)-LEN(SUBSTITUTE(O6:O110,CHAR(10),""))+(LEN(O6:O110)>0))} -> 0 | R4: {=SUM(LEN(R6:R110)-LEN(SUBSTITUTE(R6:R110,CHAR(10),""))+(LEN(R6:R110)>0))} -> 0 | U4: {=SUM(LEN(U6:U110)-LEN(SUBSTITUTE(U6:U110,CHAR(10),""))+(LEN(U6:U110)>0))} -> 0 | X4: {=SUM(LEN(X6:X110)-LEN(SUBSTITUTE(X6:X110,CHAR(10),""))+(LEN(X6:X110)>0))} -> 0 | AA4: {=SUM(LEN(AA6:AA110)-LEN(SUBSTITUTE(AA6:AA110,CHAR(10),""))+(LEN(AA6:AA110)>0))} -> 0
A5: Réf. | B5: Catégorie | C5: Description du test | D5: Pré-requis | E5: Profil | F5: Type client | G5: Réalim. | H5: Résultats attendus | I5: Résultats obtenus | J5: Jeux de tests Edge | K5: Statut Edge | L5: N° de Ticket | M5: Jeux de tests Chrome | N5: Statut Chrome | O5: N° de Ticket | P5: Jeux de tests Tel IOS | Q5: Statut Tel IOS | R5: N° de Ticket | S5: Jeux de tests Tel Android | T5: Statut Tel Android | U5: N° de Ticket | V5: Jeux de tests Tablette IOS | W5: Statut Tablette IOS | X5: N° de Ticket | Y5: Jeux de tests Tablette Android | Z5: Statut Tablette Android | AA5: N° de Ticket
A6: 1
A7: 2
A8: 3
A9: 4
A10: 5
A11: 6
A12: 7
A13: 8
A14: 9
A15: 10
A16: 11
A17: 12
... A25: 20

Sheet Affaires > Déclaration
H1: Cas a jouer | I1: =SUM(K1,N1,Q1,T1,W1,Z1) -> 6 | K1: =COUNTA(K6:K506)-COUNTIF(K6:K506,"N/A") -> 0 | N1: =COUNTA(N6:N506)-COUNTIF(N6:N506,"N/A") -> 6 | Q1: =COUNTA(Q6:Q506)-COUNTIF(Q6:Q506,"N/A") -> 0 | T1: =COUNTA(T6:T506)-COUNTIF(T6:T506,"N/A") -> 0 | W1: =COUNTA(W6:W506)-COUNTIF(W6:W506,"N/A") -> 0 | Z1: =COUNTA(Z6:Z506)-COUNTIF(Z6:Z506,"N/A") -> 0
H2: Total cas OK | I2: =SUM(K2,N2,Q2,T2,W2,Z2) -> 6 | K2: =COUNTIF(K6:K503,"OK") -> 0 | N2: =COUNTIF(N6:N503,"OK") -> 6 | Q2: =COUNTIF(Q6:Q503,"OK") -> 0 | T2: =COUNTIF(T6:T503,"OK") -> 0 | W2: =COUNTIF(W6:W503,"OK") -> 0 | Z2: =COUNTIF(Z6:Z503,"OK") -> 0
H3: Total cas KO | I3: =SUM(K3,N3,Q3,T3,W3,Z3) -> 0 | K3: =COUNTIF(K6:K504,"KO") -> 0 | N3: =COUNTIF(N6:N504,"KO") -> 0 | Q3: =COUNTIF(Q6:Q504,"KO") -> 0 | T3: =COUNTIF(T6:T504,"KO") -> 0 | W3: =COUNTIF(W6:W504,"KO") -> 0 | Z3: =COUNTIF(Z6:Z504,"KO") -> 0
H4: Tickets ouverts | I4: =SUM(L4,O4,R4,U4,X4,AA4) -> 0 | L4: {=SUM(LEN(L6:L110)-LEN(SUBSTITUTE(L6:L110,CHAR(10),""))+(LEN(L6:L110)>0))} -> 0 | O4: {=SUM(LEN(O6:O110)-LEN(SUBSTITUTE(O6:O110,CHAR(10),""))+(LEN(O6:O110)>0))} -> 0 | R4: {=SUM(LEN(R6:R110)-LEN(SUBSTITUTE(R6:R110,CHAR(10),""))+(LEN(R6:R110)>0))} -> 0 | U4: {=SUM(LEN(U6:U110)-LEN(SUBSTITUTE(U6:U110,CHAR(10),""))+(LEN(U6:U110)>0))} -> 0 | X4: {=SUM(LEN(X6:X110)-LEN(SUBSTITUTE(X6:X110,CHAR(10),""))+(LEN(X6:X110)>0))} -> 0 | AA4: {=SUM(LEN(AA6:AA110)-LEN(SUBSTITUTE(AA6:AA110,CHAR(10),""))+(LEN(AA6:AA110)>0))} -> 0
A5: Réf. | B5: Catégorie | C5: Description du test | D5: Pré-requis | E5: Profil | F5: Type client | G5: Réalim. | H5: Résultats attendus | I5: Résultats obtenus | J5: Jeux de tests Edge | K5: Statut Edge | L5: N° de Ticket | M5: Jeux de tests Chrome | N5: Statut Chrome | O5: N° de Ticket | P5: Jeux de tests Tel IOS | Q5: Statut Tel IOS | R5: N° de Ticket | S5: Jeux de tests Tel Android | T5: Statut Tel Android | U5: N° de Ticket | V5: Jeux de tests Tablette IOS | W5: Statut Tablette IOS | X5: N° de Ticket | Y5: Jeux de tests Tablette Android | Z5: Statut Tablette Android | AA5: N° de Ticket
A6: 1 | N6: OK
A7: 2 | N7: OK
A8: 3 | N8: OK
A9: 4 | N9: OK
A10: 5 | N10: OK
A11: 6 | N11: OK
A12: 7
A13: 8
A14: 9

Sheet Affaires > Option
H1: Cas a jouer | I1: =SUM(K1,N1,Q1,T1,W1,Z1) -> 33 | K1: =COUNTA(K6:K506)-COUNTIF(K6:K506,"N/A") -> 17 | N1: =COUNTA(N6:N506)-COUNTIF(N6:N506,"N/A") -> 16 | Q1: =COUNTA(Q6:Q506)-COUNTIF(Q6:Q506,"N/A") -> 0 | T1: =COUNTA(T6:T506)-COUNTIF(T6:T506,"N/A") -> 0 | W1: =COUNTA(W6:W506)-COUNTIF(W6:W506,"N/A") -> 0 | Z1: =COUNTA(Z6:Z506)-COUNTIF(Z6:Z506,"N/A") -> 0
H2: Total cas OK | I2: =SUM(K2,N2,Q2,T2,W2,Z2) -> 0 | K2: =COUNTIF(K6:K503,"OK") -> 0 | N2: =COUNTIF(N6:N503,"OK") -> 0 | Q2: =COUNTIF(Q6:Q503,"OK") -> 0 | T2: =COUNTIF(T6:T503,"OK") -> 0 | W2: =COUNTIF(W6:W503,"OK") -> 0 | Z2: =COUNTIF(Z6:Z503,"OK") -> 0
H3: Total cas KO | I3: =SUM(K3,N3,Q3,T3,W3,Z3) -> 0 | K3: =COUNTIF(K6:K504,"KO") -> 0 | N3: =COUNTIF(N6:N504,"KO") -> 0 | Q3: =COUNTIF(Q6:Q504,"KO") -> 0 | T3: =COUNTIF(T6:T504,"KO") -> 0 | W3: =COUNTIF(W6:W504,"KO") -> 0 | Z3: =COUNTIF(Z6:Z504,"KO") -> 0
H4: Tickets ouverts | I4: =SUM(L4,O4,R4,U4,X4,AA4) -> 0 | L4: {=SUM(LEN(L6:L110)-LEN(SUBSTITUTE(L6:L110,CHAR(10),""))+(LEN(L6:L110)>0))} -> 0 | O4: {=SUM(LEN(O6:O110)-LEN(SUBSTITUTE(O6:O110,CHAR(10),""))+(LEN(O6:O110)>0))} -> 0 | R4: {=SUM(LEN(R6:R110)-LEN(SUBSTITUTE(R6:R110,CHAR(10),""))+(LEN(R6:R110)>0))} -> 0 | U4: {=SUM(LEN(U6:U110)-LEN(SUBSTITUTE(U6:U110,CHAR(10),""))+(LEN(U6:U110)>0))} -> 0 | X4: {=SUM(LEN(X6:X110)-LEN(SUBSTITUTE(X6:X110,CHAR(10),""))+(LEN(X6:X110)>0))} -> 0 | AA4: {=SUM(LEN(AA6:AA110)-LEN(SUBSTITUTE(AA6:AA110,CHAR(10),""))+(LEN(AA6:AA110)>0))} -> 0
A5: Réf. | B5: Catégorie | C5: Description du test | D5: Pré-requis | E5: Profil | F5: Type client | G5: Réalim. | H5: Résultats attendus | I5: Résultats obtenus | J5: Jeux de tests Edge | K5: Statut Edge | L5: N° de Ticket | M5: Jeux de tests Chrome | N5: Statut Chrome | O5: N° de Ticket | P5: Jeux de tests Tel IOS | Q5: Statut Tel IOS | R5: N° de Ticket | S5: Jeux de tests Tel Android | T5: Statut Tel Android | U5: N° de Ticket | V5: Jeux de tests Tablette IOS | W5: Statut Tablette IOS | X5: N° de Ticket | Y5: Jeux de tests Tablette Android | Z5: Statut Tablette Android | AA5: N° de Ticket
A6: 1 | K6: x | N6: x
A7: 2 | K7: x | N7: x
A8: 3 | K8: x | N8: x
A9: 4 | K9: x | N9: x
A10: 5 | K10: x | N10: x
A11: 6 | K11: x | N11: x
A12: 7 | K12: x | N12: x
A13: 8 | K13: x | N13: x
A14: 9 | K14: x | N14: x
A15: 10 | K15: x | N15: x
A16: 11 | K16: x | N16: x
A17: 12 | K17: x | N17: x
K18: x | N18: x
K19: x | N19: x
K20: x | N20: x
K21: x | N21: x
K22: x

Sheet Affaires > Contrôles
H1: Cas a jouer | I1: =SUM(K1,N1,Q1,T1,W1,Z1) -> 6 | K1: =COUNTA(K6:K506)-COUNTIF(K6:K506,"N/A") -> 6 | N1: =COUNTA(N6:N506)-COUNTIF(N6:N506,"N/A") -> 0 | Q1: =COUNTA(Q6:Q506)-COUNTIF(Q6:Q506,"N/A") -> 0 | T1: =COUNTA(T6:T506)-COUNTIF(T6:T506,"N/A") -> 0 | W1: =COUNTA(W6:W506)-COUNTIF(W6:W506,"N/A") -> 0 | Z1: =COUNTA(Z6:Z506)-COUNTIF(Z6:Z506,"N/A") -> 0
H2: Total cas OK | I2: =SUM(K2,N2,Q2,T2,W2,Z2) -> 0 | K2: =COUNTIF(K6:K503,"OK") -> 0 | N2: =COUNTIF(N6:N503,"OK") -> 0 | Q2: =COUNTIF(Q6:Q503,"OK") -> 0 | T2: =COUNTIF(T6:T503,"OK") -> 0 | W2: =COUNTIF(W6:W503,"OK") -> 0 | Z2: =COUNTIF(Z6:Z503,"OK") -> 0
H3: Total cas KO | I3: =SUM(K3,N3,Q3,T3,W3,Z3) -> 0 | K3: =COUNTIF(K6:K504,"KO") -> 0 | N3: =COUNTIF(N6:N504,"KO") -> 0 | Q3: =COUNTIF(Q6:Q504,"KO") -> 0 | T3: =COUNTIF(T6:T504,"KO") -> 0 | W3: =COUNTIF(W6:W504,"KO") -> 0 | Z3: =COUNTIF(Z6:Z504,"KO") -> 0
H4: Tickets ouverts | I4: =SUM(L4,O4,R4,U4,X4,AA4) -> 5 | L4: {=SUM(LEN(L6:L110)-LEN(SUBSTITUTE(L6:L110,CHAR(10),""))+(LEN(L6:L110)>0))} -> 5 | O4: {=SUM(LEN(O6:O110)-LEN(SUBSTITUTE(O6:O110,CHAR(10),""))+(LEN(O6:O110)>0))} -> 0 | R4: {=SUM(LEN(R6:R110)-LEN(SUBSTITUTE(R6:R110,CHAR(10),""))+(LEN(R6:R110)>0))} -> 0 | U4: {=SUM(LEN(U6:U110)-LEN(SUBSTITUTE(U6:U110,CHAR(10),""))+(LEN(U6:U110)>0))} -> 0 | X4: {=SUM(LEN(X6:X110)-LEN(SUBSTITUTE(X6:X110,CHAR(10),""))+(LEN(X6:X110)>0))} -> 0 | AA4: {=SUM(LEN(AA6:AA110)-LEN(SUBSTITUTE(AA6:AA110,CHAR(10),""))+(LEN(AA6:AA110)>0))} -> 0
A5: Réf. | B5: Catégorie | C5: Description du test | D5: Pré-requis | E5: Profil | F5: Type client | G5: Réalim. | H5: Résultats attendus | I5: Résultats obtenus | J5: Jeux de tests Edge | K5: Statut Edge | L5: N° de Ticket | M5: Jeux de tests Chrome | N5: Statut Chrome | O5: N° de Ticket | P5: Jeux de tests Tel IOS | Q5: Statut Tel IOS | R5: N° de Ticket | S5: Jeux de tests Tel Android | T5: Statut Tel Android | U5: N° de Ticket | V5: Jeux de tests Tablette IOS | W5: Statut Tablette IOS | X5: N° de Ticket | Y5: Jeux de tests Tablette Android | Z5: Statut Tablette Android | AA5: N° de Ticket
A6: 1 | K6: x | L6: x
A7: 2 | K7: x | L7: x
A8: 3 | K8: x | L8: x
A9: 4 | K9: x | L9: x
A10: 5 | K10: x | L10: x
A11: 6 | K11: x
A12: 7
A13: 8
A14: 9
A15: 10
A16: 11

Sheet Boite à outils > Outils
H1: Cas a jouer | I1: =SUM(K1,N1,Q1,T1,W1,Z1) -> 0 | K1: =COUNTA(K6:K507)-COUNTIF(K6:K507,"N/A") -> 0 | N1: =COUNTA(N6:N507)-COUNTIF(N6:N507,"N/A") -> 0 | Q1: =COUNTA(Q6:Q507)-COUNTIF(Q6:Q507,"N/A") -> 0 | T1: =COUNTA(T6:T507)-COUNTIF(T6:T507,"N/A") -> 0 | W1: =COUNTA(W6:W507)-COUNTIF(W6:W507,"N/A") -> 0 | Z1: =COUNTA(Z6:Z507)-COUNTIF(Z6:Z507,"N/A") -> 0
B2: FO à vérifier | H2: Total cas OK | I2: =SUM(K2,N2,Q2,T2,W2,Z2) -> 0 | K2: =COUNTIF(K6:K504,"OK") -> 0 | N2: =COUNTIF(N6:N504,"OK") -> 0 | Q2: =COUNTIF(Q6:Q504,"OK") -> 0 | T2: =COUNTIF(T6:T504,"OK") -> 0 | W2: =COUNTIF(W6:W504,"OK") -> 0 | Z2: =COUNTIF(Z6:Z504,"OK") -> 0
H3: Total cas KO | I3: =SUM(K3,N3,Q3,T3,W3,Z3) -> 0 | K3: =COUNTIF(K6:K505,"KO") -> 0 | N3: =COUNTIF(N6:N505,"KO") -> 0 | Q3: =COUNTIF(Q6:Q505,"KO") -> 0 | T3: =COUNTIF(T6:T505,"KO") -> 0 | W3: =COUNTIF(W6:W505,"KO") -> 0 | Z3: =COUNTIF(Z6:Z505,"KO") -> 0
H4: Tickets ouverts | I4: =SUM(L4,O4,R4,U4,X4,AA4) -> 0 | L4: {=SUM(LEN(L6:L111)-LEN(SUBSTITUTE(L6:L111,CHAR(10),""))+(LEN(L6:L111)>0))} -> 0 | O4: {=SUM(LEN(O6:O111)-LEN(SUBSTITUTE(O6:O111,CHAR(10),""))+(LEN(O6:O111)>0))} -> 0 | R4: {=SUM(LEN(R6:R111)-LEN(SUBSTITUTE(R6:R111,CHAR(10),""))+(LEN(R6:R111)>0))} -> 0 | U4: {=SUM(LEN(U6:U111)-LEN(SUBSTITUTE(U6:U111,CHAR(10),""))+(LEN(U6:U111)>0))} -> 0 | X4: {=SUM(LEN(X6:X111)-LEN(SUBSTITUTE(X6:X111,CHAR(10),""))+(LEN(X6:X111)>0))} -> 0 | AA4: {=SUM(LEN(AA6:AA111)-LEN(SUBSTITUTE(AA6:AA111,CHAR(10),""))+(LEN(AA6:AA111)>0))} -> 0
A5: Réf. | B5: Catégorie | C5: Description du test | D5: Pré-requis | E5: Profil | F5: Type client | G5: Réalim. | H5: Résultats attendus | I5: Résultats obtenus | J5: Jeux de tests Edge | K5: Statut Edge | L5: N° de Ticket | M5: Jeux de tests Chrome | N5: Statut Chrome | O5: N° de Ticket | P5: Jeux de tests Tel IOS | Q5: Statut Tel IOS | R5: N° de Ticket | S5: Jeux de tests Tel Android | T5: Statut Tel Android | U5: N° de Ticket | V5: Jeux de tests Tablette IOS | W5: Statut Tablette IOS | X5: N° de Ticket | Y5: Jeux de tests Tablette Android | Z5: Statut Tablette Android | AA5: N° de Ticket
A6: 1
A7: 2
A8: 3
A9: 4
A10: 5
A11: 6
A12: 7
A13: 8
A14: 9
A15: 10
A16: 11
A17: 12
... A33: 28

Sheet Boite à outils > Catégorie
H1: Cas a jouer | I1: =SUM(K1,N1,Q1,T1,W1,Z1) -> 0 | K1: =COUNTA(K6:K507)-COUNTIF(K6:K507,"N/A") -> 0 | N1: =COUNTA(N6:N507)-COUNTIF(N6:N507,"N/A") -> 0 | Q1: =COUNTA(Q6:Q507)-COUNTIF(Q6:Q507,"N/A") -> 0 | T1: =COUNTA(T6:T507)-COUNTIF(T6:T507,"N/A") -> 0 | W1: =COUNTA(W6:W507)-COUNTIF(W6:W507,"N/A") -> 0 | Z1: =COUNTA(Z6:Z507)-COUNTIF(Z6:Z507,"N/A") -> 0
B2: FO à vérifier | H2: Total cas OK | I2: =SUM(K2,N2,Q2,T2,W2,Z2) -> 0 | K2: =COUNTIF(K6:K504,"OK") -> 0 | N2: =COUNTIF(N6:N504,"OK") -> 0 | Q2: =COUNTIF(Q6:Q504,"OK") -> 0 | T2: =COUNTIF(T6:T504,"OK") -> 0 | W2: =COUNTIF(W6:W504,"OK") -> 0 | Z2: =COUNTIF(Z6:Z504,"OK") -> 0
H3: Total cas KO | I3: =SUM(K3,N3,Q3,T3,W3,Z3) -> 0 | K3: =COUNTIF(K6:K505,"KO") -> 0 | N3: =COUNTIF(N6:N505,"KO") -> 0 | Q3: =COUNTIF(Q6:Q505,"KO") -> 0 | T3: =COUNTIF(T6:T505,"KO") -> 0 | W3: =COUNTIF(W6:W505,"KO") -> 0 | Z3: =COUNTIF(Z6:Z505,"KO") -> 0
H4: Tickets ouverts | I4: =SUM(L4,O4,R4,U4,X4,AA4) -> 0 | L4: {=SUM(LEN(L6:L111)-LEN(SUBSTITUTE(L6:L111,CHAR(10),""))+(LEN(L6:L111)>0))} -> 0 | O4: {=SUM(LEN(O6:O111)-LEN(SUBSTITUTE(O6:O111,CHAR(10),""))+(LEN(O6:O111)>0))} -> 0 | R4: {=SUM(LEN(R6:R111)-LEN(SUBSTITUTE(R6:R111,CHAR(10),""))+(LEN(R6:R111)>0))} -> 0 | U4: {=SUM(LEN(U6:U111)-LEN(SUBSTITUTE(U6:U111,CHAR(10),""))+(LEN(U6:U111)>0))} -> 0 | X4: {=SUM(LEN(X6:X111)-LEN(SUBSTITUTE(X6:X111,CHAR(10),""))+(LEN(X6:X111)>0))} -> 0 | AA4: {=SUM(LEN(AA6:AA111)-LEN(SUBSTITUTE(AA6:AA111,CHAR(10),""))+(LEN(AA6:AA111)>0))} -> 0
A5: Réf. | B5: Catégorie | C5: Description du test | D5: Pré-requis | E5: Profil | F5: Type client | G5: Réalim. | H5: Résultats attendus | I5: Résultats obtenus | J5: Jeux de tests Edge | K5: Statut Edge | L5: N° de Ticket | M5: Jeux de tests Chrome | N5: Statut Chrome | O5: N° de Ticket | P5: Jeux de tests Tel IOS | Q5: Statut Tel IOS | R5: N° de Ticket | S5: Jeux de tests Tel Android | T5: Statut Tel Android | U5: N° de Ticket | V5: Jeux de tests Tablette IOS | W5: Statut Tablette IOS | X5: N° de Ticket | Y5: Jeux de tests Tablette Android | Z5: Statut Tablette Android | AA5: N° de Ticket
A6: 1
A7: 2
A8: 3
A9: 4
A10: 5
A11: 6
A12: 7
A13: 8
A14: 9
A15: 10
A16: 11
A17: 12
... A33: 28

Sheet Editique > Liasse
H1: Cas a jouer | I1: =SUM(K1,N1,Q1,T1,W1,Z1) -> 0 | K1: =COUNTA(K6:K506)-COUNTIF(K6:K506,"N/A") -> 0 | N1: =COUNTA(N18:N506)-COUNTIF(N18:N506,"N/A") -> 0 | Q1: =COUNTA(Q6:Q506)-COUNTIF(Q6:Q506,"N/A") -> 0 | T1: =COUNTA(T6:T506)-COUNTIF(T6:T506,"N/A") -> 0 | W1: =COUNTA(W6:W506)-COUNTIF(W6:W506,"N/A") -> 0 | Z1: =COUNTA(Z6:Z506)-COUNTIF(Z6:Z506,"N/A") -> 0
H2: Total cas OK | I2: =SUM(K2,N2,Q2,T2,W2,Z2) -> 0 | K2: =COUNTIF(K6:K503,"OK") -> 0 | N2: =COUNTIF(N18:N503,"OK") -> 0 | Q2: =COUNTIF(Q6:Q503,"OK") -> 0 | T2: =COUNTIF(T6:T503,"OK") -> 0 | W2: =COUNTIF(W6:W503,"OK") -> 0 | Z2: =COUNTIF(Z6:Z503,"OK") -> 0
H3: Total cas KO | I3: =SUM(K3,N3,Q3,T3,W3,Z3) -> 0 | K3: =COUNTIF(K6:K504,"KO") -> 0 | N3: =COUNTIF(N18:N504,"KO") -> 0 | Q3: =COUNTIF(Q6:Q504,"KO") -> 0 | T3: =COUNTIF(T6:T504,"KO") -> 0 | W3: =COUNTIF(W6:W504,"KO") -> 0 | Z3: =COUNTIF(Z6:Z504,"KO") -> 0
H4: Tickets ouverts | I4: =SUM(L4,O4,R4,U4,X4,AA4) -> 0 | L4: =COUNTIF(L6:L200,"*") -> 0 | O4: {=SUM(LEN(O18:O110)-LEN(SUBSTITUTE(O18:O110,CHAR(10),""))+(LEN(O18:O110)>0))} -> 0 | R4: {=SUM(LEN(R6:R110)-LEN(SUBSTITUTE(R6:R110,CHAR(10),""))+(LEN(R6:R110)>0))} -> 0 | U4: {=SUM(LEN(U6:U110)-LEN(SUBSTITUTE(U6:U110,CHAR(10),""))+(LEN(U6:U110)>0))} -> 0 | X4: {=SUM(LEN(X6:X110)-LEN(SUBSTITUTE(X6:X110,CHAR(10),""))+(LEN(X6:X110)>0))} -> 0 | AA4: {=SUM(LEN(AA6:AA110)-LEN(SUBSTITUTE(AA6:AA110,CHAR(10),""))+(LEN(AA6:AA110)>0))} -> 0
A5: Réf. | B5: Catégorie | C5: Description du test | D5: Pré-requis | E5: Profil | F5: Type client | G5: Réalim. | H5: Résultats attendus | I5: Résultats obtenus | J5: Jeux de tests Edge | K5: Statut Edge | L5: N° de Ticket | M5: Jeux de tests Chrome | N5: Statut Chrome | O5: N° de Ticket | P5: Jeux de tests Tel IOS | Q5: Statut Tel IOS | R5: N° de Ticket | S5: Jeux de tests Tel Android | T5: Statut Tel Android | U5: N° de Ticket | V5: Jeux de tests Tablette IOS | W5: Statut Tablette IOS | X5: N° de Ticket | Y5: Jeux de tests Tablette Android | Z5: Statut Tablette Android | AA5: N° de Ticket
A6: 1
A7: 2
A8: 3
A9: 4
A10: 5
A11: 6
A12: 7
A13: 8
A14: 9

Sheet Editique > Documents Communs
H1: Cas a jouer | I1: =SUM(K1,N1,Q1,T1,W1,Z1) -> 4 | K1: =COUNTA(K6:K506)-COUNTIF(K6:K506,"N/A") -> 0 | N1: =COUNTA(N6:N506)-COUNTIF(N6:N506,"N/A") -> 4 | Q1: =COUNTA(Q6:Q506)-COUNTIF(Q6:Q506,"N/A") -> 0 | T1: =COUNTA(T6:T506)-COUNTIF(T6:T506,"N/A") -> 0 | W1: =COUNTA(W6:W506)-COUNTIF(W6:W506,"N/A") -> 0 | Z1: =COUNTA(Z6:Z506)-COUNTIF(Z6:Z506,"N/A") -> 0
H2: Total cas OK | I2: =SUM(K2,N2,Q2,T2,W2,Z2) -> 2 | K2: =COUNTIF(K6:K503,"OK") -> 0 | N2: =COUNTIF(N6:N503,"OK") -> 2 | Q2: =COUNTIF(Q6:Q503,"OK") -> 0 | T2: =COUNTIF(T6:T503,"OK") -> 0 | W2: =COUNTIF(W6:W503,"OK") -> 0 | Z2: =COUNTIF(Z6:Z503,"OK") -> 0
H3: Total cas KO | I3: =SUM(K3,N3,Q3,T3,W3,Z3) -> 2 | K3: =COUNTIF(K6:K504,"KO") -> 0 | N3: =COUNTIF(N6:N504,"KO") -> 2 | Q3: =COUNTIF(Q6:Q504,"KO") -> 0 | T3: =COUNTIF(T6:T504,"KO") -> 0 | W3: =COUNTIF(W6:W504,"KO") -> 0 | Z3: =COUNTIF(Z6:Z504,"KO") -> 0
H4: Tickets ouverts | I4: =SUM(L4,O4,R4,U4,X4,AA4) -> 2 | L4: =COUNTIF(L6:L200,"*") -> 0 | O4: {=SUM(LEN(O6:O110)-LEN(SUBSTITUTE(O6:O110,CHAR(10),""))+(LEN(O6:O110)>0))} -> 2 | R4: {=SUM(LEN(R6:R110)-LEN(SUBSTITUTE(R6:R110,CHAR(10),""))+(LEN(R6:R110)>0))} -> 0 | U4: {=SUM(LEN(U6:U110)-LEN(SUBSTITUTE(U6:U110,CHAR(10),""))+(LEN(U6:U110)>0))} -> 0 | X4: {=SUM(LEN(X6:X110)-LEN(SUBSTITUTE(X6:X110,CHAR(10),""))+(LEN(X6:X110)>0))} -> 0 | AA4: {=SUM(LEN(AA6:AA110)-LEN(SUBSTITUTE(AA6:AA110,CHAR(10),""))+(LEN(AA6:AA110)>0))} -> 0
A5: Réf. | B5: Catégorie | C5: Description du test | D5: Pré-requis | E5: Profil | F5: Type client | G5: Réalim. | H5: Résultats attendus | I5: Résultats obtenus | J5: Jeux de tests Edge | K5: Statut Edge | L5: N° de Ticket | M5: Jeux de tests Chrome | N5: Statut Chrome | O5: N° de Ticket | P5: Jeux de tests Tel IOS | Q5: Statut Tel IOS | R5: N° de Ticket | S5: Jeux de tests Tel Android | T5: Statut Tel Android | U5: N° de Ticket | V5: Jeux de tests Tablette IOS | W5: Statut Tablette IOS | X5: N° de Ticket | Y5: Jeux de tests Tablette Android | Z5: Statut Tablette Android | AA5: N° de Ticket
A6: 1
A7: 2
A8: 3
A9: 4 | N9: Ok
A10: 5 | N10: KO | O10: #2109697
A11: 6 | N11: KO | O11: #2109696
A12: 7 | N12: Ok
A13: 8
A14: 9

Sheet Editique > Balises éditiques
H1: Cas a jouer | I1: =SUM(K1,N1,Q1,T1,W1,Z1) -> 0 | K1: =COUNTA(K17:K506)-COUNTIF(K17:K506,"N/A") -> 0 | N1: =COUNTA(N17:N506)-COUNTIF(N17:N506,"N/A") -> 0 | Q1: =COUNTA(Q17:Q506)-COUNTIF(Q17:Q506,"N/A") -> 0 | T1: =COUNTA(T6:T506)-COUNTIF(T6:T506,"N/A") -> 0 | W1: =COUNTA(W6:W506)-COUNTIF(W6:W506,"N/A") -> 0 | Z1: =COUNTA(Z6:Z506)-COUNTIF(Z6:Z506,"N/A") -> 0
H2: Total cas OK | I2: =SUM(K2,N2,Q2,T2,W2,Z2) -> 0 | K2: =COUNTIF(K17:K503,"OK") -> 0 | N2: =COUNTIF(N17:N503,"OK") -> 0 | Q2: =COUNTIF(Q17:Q503,"OK") -> 0 | T2: =COUNTIF(T6:T503,"OK") -> 0 | W2: =COUNTIF(W6:W503,"OK") -> 0 | Z2: =COUNTIF(Z6:Z503,"OK") -> 0
H3: Total cas KO | I3: =SUM(K3,N3,Q3,T3,W3,Z3) -> 0 | K3: =COUNTIF(K17:K504,"KO") -> 0 | N3: =COUNTIF(N17:N504,"KO") -> 0 | Q3: =COUNTIF(Q17:Q504,"KO") -> 0 | T3: =COUNTIF(T6:T504,"KO") -> 0 | W3: =COUNTIF(W6:W504,"KO") -> 0 | Z3: =COUNTIF(Z6:Z504,"KO") -> 0
H4: Tickets ouverts | I4: =SUM(L4,O4,R4,U4,X4,AA4) -> 0 | L4: =COUNTIF(L17:L200,"*") -> 0 | O4: {=SUM(LEN(O17:O110)-LEN(SUBSTITUTE(O17:O110,CHAR(10),""))+(LEN(O17:O110)>0))} -> 0 | R4: {=SUM(LEN(R17:R110)-LEN(SUBSTITUTE(R17:R110,CHAR(10),""))+(LEN(R17:R110)>0))} -> 0 | U4: {=SUM(LEN(U6:U110)-LEN(SUBSTITUTE(U6:U110,CHAR(10),""))+(LEN(U6:U110)>0))} -> 0 | X4: {=SUM(LEN(X6:X110)-LEN(SUBSTITUTE(X6:X110,CHAR(10),""))+(LEN(X6:X110)>0))} -> 0 | AA4: {=SUM(LEN(AA6:AA110)-LEN(SUBSTITUTE(AA6:AA110,CHAR(10),""))+(LEN(AA6:AA110)>0))} -> 0
A5: Réf. | B5: Catégorie | C5: Description du test | D5: Pré-requis | E5: Profil | F5: Type client | G5: Réalim. | H5: Résultats attendus | I5: Résultats obtenus | J5: Jeux de tests Edge | K5: Statut Edge | L5: N° de Ticket | M5: Jeux de tests Chrome | N5: Statut Chrome | O5: N° de Ticket | P5: Jeux de tests Tel IOS | Q5: Statut Tel IOS | R5: N° de Ticket | S5: Jeux de tests Tel Android | T5: Statut Tel Android | U5: N° de Ticket | V5: Jeux de tests Tablette IOS | W5: Statut Tablette IOS | X5: N° de Ticket | Y5: Jeux de tests Tablette Android | Z5: Statut Tablette Android | AA5: N° de Ticket
A6: 1
A7: 2
A8: 3
A9: 4
A10: 5
A11: 6
A12: 7
A13: 8
A14: 9

Sheet Actualité
H1: Cas a jouer | I1: =SUM(K1,N1,Q1,T1,W1,Z1) -> 0 | K1: =COUNTA(K6:K506)-COUNTIF(K6:K506,"N/A") -> 0 | N1: =COUNTA(N6:N506)-COUNTIF(N6:N506,"N/A") -> 0 | Q1: =COUNTA(Q6:Q506)-COUNTIF(Q6:Q506,"N/A") -> 0 | T1: =COUNTA(T6:T506)-COUNTIF(T6:T506,"N/A") -> 0 | W1: =COUNTA(W6:W506)-COUNTIF(W6:W506,"N/A") -> 0 | Z1: =COUNTA(Z6:Z506)-COUNTIF(Z6:Z506,"N/A") -> 0
H2: Total cas OK | I2: =SUM(K2,N2,Q2,T2,W2,Z2) -> 0 | K2: =COUNTIF(K6:K503,"OK") -> 0 | N2: =COUNTIF(N6:N503,"OK") -> 0 | Q2: =COUNTIF(Q6:Q503,"OK") -> 0 | T2: =COUNTIF(T6:T503,"OK") -> 0 | W2: =COUNTIF(W6:W503,"OK") -> 0 | Z2: =COUNTIF(Z6:Z503,"OK") -> 0
H3: Total cas KO | I3: =SUM(K3,N3,Q3,T3,W3,Z3) -> 0 | K3: =COUNTIF(K6:K504,"KO") -> 0 | N3: =COUNTIF(N6:N504,"KO") -> 0 | Q3: =COUNTIF(Q6:Q504,"KO") -> 0 | T3: =COUNTIF(T6:T504,"KO") -> 0 | W3: =COUNTIF(W6:W504,"KO") -> 0 | Z3: =COUNTIF(Z6:Z504,"KO") -> 0
H4: Tickets ouverts | I4: =SUM(L4,O4,R4,U4,X4,AA4) -> 0 | L4: {=SUM(LEN(L6:L110)-LEN(SUBSTITUTE(L6:L110,CHAR(10),""))+(LEN(L6:L110)>0))} -> 0 | O4: {=SUM(LEN(O6:O110)-LEN(SUBSTITUTE(O6:O110,CHAR(10),""))+(LEN(O6:O110)>0))} -> 0 | R4: {=SUM(LEN(R6:R110)-LEN(SUBSTITUTE(R6:R110,CHAR(10),""))+(LEN(R6:R110)>0))} -> 0 | U4: {=SUM(LEN(U6:U110)-LEN(SUBSTITUTE(U6:U110,CHAR(10),""))+(LEN(U6:U110)>0))} -> 0 | X4: {=SUM(LEN(X6:X110)-LEN(SUBSTITUTE(X6:X110,CHAR(10),""))+(LEN(X6:X110)>0))} -> 0 | AA4: {=SUM(LEN(AA6:AA110)-LEN(SUBSTITUTE(AA6:AA110,CHAR(10),""))+(LEN(AA6:AA110)>0))} -> 0
A5: Réf. | B5: Catégorie | C5: Description du test | D5: Pré-requis | E5: Profil | F5: Type client | G5: Réalim. | H5: Résultats attendus | I5: Résultats obtenus | J5: Jeux de tests Edge | K5: Statut Edge | L5: N° de Ticket | M5: Jeux de tests Chrome | N5: Statut Chrome | O5: N° de Ticket | P5: Jeux de tests Tel IOS | Q5: Statut Tel IOS | R5: N° de Ticket | S5: Jeux de tests Tel Android | T5: Statut Tel Android | U5: N° de Ticket | V5: Jeux de tests Tablette IOS | W5: Statut Tablette IOS | X5: N° de Ticket | Y5: Jeux de tests Tablette Android | Z5: Statut Tablette Android | AA5: N° de Ticket
A6: 1
A7: 2
A8: 3
A9: 4
A10: 5
A11: 6
A12: 7
A13: 8
A14: 9
A15: 10
A16: 11
A17: 12
... A19: 14

Sheet Extracteur de données
H1: Cas a jouer | I1: =SUM(K1,N1,Q1,T1,W1,Z1) -> 0 | K1: =COUNTA(K6:K506)-COUNTIF(K6:K506,"N/A") -> 0 | N1: =COUNTA(N6:N506)-COUNTIF(N6:N506,"N/A") -> 0 | Q1: =COUNTA(Q6:Q506)-COUNTIF(Q6:Q506,"N/A") -> 0 | T1: =COUNTA(T6:T506)-COUNTIF(T6:T506,"N/A") -> 0 | W1: =COUNTA(W6:W506)-COUNTIF(W6:W506,"N/A") -> 0 | Z1: =COUNTA(Z6:Z506)-COUNTIF(Z6:Z506,"N/A") -> 0
H2: Total cas OK | I2: =SUM(K2,N2,Q2,T2,W2,Z2) -> 0 | K2: =COUNTIF(K6:K503,"OK") -> 0 | N2: =COUNTIF(N6:N503,"OK") -> 0 | Q2: =COUNTIF(Q6:Q503,"OK") -> 0 | T2: =COUNTIF(T6:T503,"OK") -> 0 | W2: =COUNTIF(W6:W503,"OK") -> 0 | Z2: =COUNTIF(Z6:Z503,"OK") -> 0
H3: Total cas KO | I3: =SUM(K3,N3,Q3,T3,W3,Z3) -> 0 | K3: =COUNTIF(K6:K504,"KO") -> 0 | N3: =COUNTIF(N6:N504,"KO") -> 0 | Q3: =COUNTIF(Q6:Q504,"KO") -> 0 | T3: =COUNTIF(T6:T504,"KO") -> 0 | W3: =COUNTIF(W6:W504,"KO") -> 0 | Z3: =COUNTIF(Z6:Z504,"KO") -> 0
H4: Tickets ouverts | I4: =SUM(L4,O4,R4,U4,X4,AA4) -> 0 | L4: {=SUM(LEN(L6:L110)-LEN(SUBSTITUTE(L6:L110,CHAR(10),""))+(LEN(L6:L110)>0))} -> 0 | O4: {=SUM(LEN(O6:O110)-LEN(SUBSTITUTE(O6:O110,CHAR(10),""))+(LEN(O6:O110)>0))} -> 0 | R4: {=SUM(LEN(R6:R110)-LEN(SUBSTITUTE(R6:R110,CHAR(10),""))+(LEN(R6:R110)>0))} -> 0 | U4: {=SUM(LEN(U6:U110)-LEN(SUBSTITUTE(U6:U110,CHAR(10),""))+(LEN(U6:U110)>0))} -> 0 | X4: {=SUM(LEN(X6:X110)-LEN(SUBSTITUTE(X6:X110,CHAR(10),""))+(LEN(X6:X110)>0))} -> 0 | AA4: {=SUM(LEN(AA6:AA110)-LEN(SUBSTITUTE(AA6:AA110,CHAR(10),""))+(LEN(AA6:AA110)>0))} -> 0
A5: Réf. | B5: Catégorie | C5: Description du test | D5: Pré-requis | E5: Profil | F5: Type client | G5: Réalim. | H5: Résultats attendus | I5: Résultats obtenus | J5: Jeux de tests Edge | K5: Statut Edge | L5: N° de Ticket | M5: Jeux de tests Chrome | N5: Statut Chrome | O5: N° de Ticket | P5: Jeux de tests Tel IOS | Q5: Statut Tel IOS | R5: N° de Ticket | S5: Jeux de tests Tel Android | T5: Statut Tel Android | U5: N° de Ticket | V5: Jeux de tests Tablette IOS | W5: Statut Tablette IOS | X5: N° de Ticket | Y5: Jeux de tests Tablette Android | Z5: Statut Tablette Android | AA5: N° de Ticket
A6: 1
A7: 2
A8: 3
A9: 4
A10: 5
A11: 6
A12: 7
A13: 8
A14: 9
A15: 10
A16: 11

Sheet Flux
H1: Cas a jouer | I1: =SUM(K1,N1,Q1,T1,W1,Z1) -> 0 | K1: =COUNTA(K6:K506)-COUNTIF(K6:K506,"N/A") -> 0 | N1: =COUNTA(N6:N506)-COUNTIF(N6:N506,"N/A") -> 0 | Q1: =COUNTA(Q6:Q506)-COUNTIF(Q6:Q506,"N/A") -> 0 | T1: =COUNTA(T6:T506)-COUNTIF(T6:T506,"N/A") -> 0 | W1: =COUNTA(W6:W506)-COUNTIF(W6:W506,"N/A") -> 0 | Z1: =COUNTA(Z6:Z506)-COUNTIF(Z6:Z506,"N/A") -> 0
H2: Total cas OK | I2: =SUM(K2,N2,Q2,T2,W2,Z2) -> 0 | K2: =COUNTIF(K6:K503,"OK") -> 0 | N2: =COUNTIF(N6:N503,"OK") -> 0 | Q2: =COUNTIF(Q6:Q503,"OK") -> 0 | T2: =COUNTIF(T6:T503,"OK") -> 0 | W2: =COUNTIF(W6:W503,"OK") -> 0 | Z2: =COUNTIF(Z6:Z503,"OK") -> 0
H3: Total cas KO | I3: =SUM(K3,N3,Q3,T3,W3,Z3) -> 0 | K3: =COUNTIF(K6:K504,"KO") -> 0 | N3: =COUNTIF(N6:N504,"KO") -> 0 | Q3: =COUNTIF(Q6:Q504,"KO") -> 0 | T3: =COUNTIF(T6:T504,"KO") -> 0 | W3: =COUNTIF(W6:W504,"KO") -> 0 | Z3: =COUNTIF(Z6:Z504,"KO") -> 0
H4: Tickets ouverts | I4: =SUM(L4,O4,R4,U4,X4,AA4) -> 0 | L4: {=SUM(LEN(L6:L110)-LEN(SUBSTITUTE(L6:L110,CHAR(10),""))+(LEN(L6:L110)>0))} -> 0 | O4: {=SUM(LEN(O6:O110)-LEN(SUBSTITUTE(O6:O110,CHAR(10),""))+(LEN(O6:O110)>0))} -> 0 | R4: {=SUM(LEN(R6:R110)-LEN(SUBSTITUTE(R6:R110,CHAR(10),""))+(LEN(R6:R110)>0))} -> 0 | U4: {=SUM(LEN(U6:U110)-LEN(SUBSTITUTE(U6:U110,CHAR(10),""))+(LEN(U6:U110)>0))} -> 0 | X4: {=SUM(LEN(X6:X110)-LEN(SUBSTITUTE(X6:X110,CHAR(10),""))+(LEN(X6:X110)>0))} -> 0 | AA4: {=SUM(LEN(AA6:AA110)-LEN(SUBSTITUTE(AA6:AA110,CHAR(10),""))+(LEN(AA6:AA110)>0))} -> 0
A5: Réf. | B5: Catégorie | C5: Description du test | D5: Pré-requis | E5: Profil | F5: Type client | G5: Réalim. | H5: Résultats attendus | I5: Résultats obtenus | J5: Jeux de tests Edge | K5: Statut Edge | L5: N° de Ticket | M5: Jeux de tests Chrome | N5: Statut Chrome | O5: N° de Ticket | P5: Jeux de tests Tel IOS | Q5: Statut Tel IOS | R5: N° de Ticket | S5: Jeux de tests Tel Android | T5: Statut Tel Android | U5: N° de Ticket | V5: Jeux de tests Tablette IOS | W5: Statut Tablette IOS | X5: N° de Ticket | Y5: Jeux de tests Tablette Android | Z5: Statut Tablette Android | AA5: N° de Ticket
A6: 1
A7: 2
A8: 3
A9: 4
A10: 5
A11: 6
A12: 7
A13: 8
A14: 9
A15: 10
A16: 11
A17: 12
... A23: 18

Sheet GED Editique
H1: Cas a jouer | I1: =SUM(K1,N1,Q1,T1,W1,Z1) -> 0 | K1: =COUNTA(K6:K506)-COUNTIF(K6:K506,"N/A") -> 0 | N1: =COUNTA(N6:N506)-COUNTIF(N6:N506,"N/A") -> 0 | Q1: =COUNTA(Q6:Q506)-COUNTIF(Q6:Q506,"N/A") -> 0 | T1: =COUNTA(T6:T506)-COUNTIF(T6:T506,"N/A") -> 0 | W1: =COUNTA(W6:W506)-COUNTIF(W6:W506,"N/A") -> 0 | Z1: =COUNTA(Z6:Z506)-COUNTIF(Z6:Z506,"N/A") -> 0
H2: Total cas OK | I2: =SUM(K2,N2,Q2,T2,W2,Z2) -> 0 | K2: =COUNTIF(K6:K503,"OK") -> 0 | N2: =COUNTIF(N6:N503,"OK") -> 0 | Q2: =COUNTIF(Q6:Q503,"OK") -> 0 | T2: =COUNTIF(T6:T503,"OK") -> 0 | W2: =COUNTIF(W6:W503,"OK") -> 0 | Z2: =COUNTIF(Z6:Z503,"OK") -> 0
H3: Total cas KO | I3: =SUM(K3,N3,Q3,T3,W3,Z3) -> 0 | K3: =COUNTIF(K6:K504,"KO") -> 0 | N3: =COUNTIF(N6:N504,"KO") -> 0 | Q3: =COUNTIF(Q6:Q504,"KO") -> 0 | T3: =COUNTIF(T6:T504,"KO") -> 0 | W3: =COUNTIF(W6:W504,"KO") -> 0 | Z3: =COUNTIF(Z6:Z504,"KO") -> 0
H4: Tickets ouverts | I4: =SUM(L4,O4,R4,U4,X4,AA4) -> 0 | L4: {=SUM(LEN(L6:L110)-LEN(SUBSTITUTE(L6:L110,CHAR(10),""))+(LEN(L6:L110)>0))} -> 0 | O4: {=SUM(LEN(O6:O110)-LEN(SUBSTITUTE(O6:O110,CHAR(10),""))+(LEN(O6:O110)>0))} -> 0 | R4: {=SUM(LEN(R6:R110)-LEN(SUBSTITUTE(R6:R110,CHAR(10),""))+(LEN(R6:R110)>0))} -> 0 | U4: {=SUM(LEN(U6:U110)-LEN(SUBSTITUTE(U6:U110,CHAR(10),""))+(LEN(U6:U110)>0))} -> 0 | X4: {=SUM(LEN(X6:X110)-LEN(SUBSTITUTE(X6:X110,CHAR(10),""))+(LEN(X6:X110)>0))} -> 0 | AA4: {=SUM(LEN(AA6:AA110)-LEN(SUBSTITUTE(AA6:AA110,CHAR(10),""))+(LEN(AA6:AA110)>0))} -> 0
A5: Réf. | B5: Catégorie | C5: Description du test | D5: Pré-requis | E5: Profil | F5: Type client | G5: Réalim. | H5: Résultats attendus | I5: Résultats obtenus | J5: Jeux de tests Edge | K5: Statut Edge | L5: N° de Ticket | M5: Jeux de tests Chrome | N5: Statut Chrome | O5: N° de Ticket | P5: Jeux de tests Tel IOS | Q5: Statut Tel IOS | R5: N° de Ticket | S5: Jeux de tests Tel Android | T5: Statut Tel Android | U5: N° de Ticket | V5: Jeux de tests Tablette IOS | W5: Statut Tablette IOS | X5: N° de Ticket | Y5: Jeux de tests Tablette Android | Z5: Statut Tablette Android | AA5: N° de Ticket
A6: 1
A7: 2
A8: 3
A9: 4
A10: 5
A11: 6
A12: 7
A13: 8
A14: 9
A15: 10
A16: 11
A17: 12
... A19: 14

Sheet Notifications
H1: Cas a jouer | I1: =SUM(K1,N1,Q1,T1,W1,Z1) -> 0 | K1: =COUNTA(K6:K506)-COUNTIF(K6:K506,"N/A") -> 0 | N1: =COUNTA(N6:N506)-COUNTIF(N6:N506,"N/A") -> 0 | Q1: =COUNTA(Q6:Q506)-COUNTIF(Q6:Q506,"N/A") -> 0 | T1: =COUNTA(T6:T506)-COUNTIF(T6:T506,"N/A") -> 0 | W1: =COUNTA(W6:W506)-COUNTIF(W6:W506,"N/A") -> 0 | Z1: =COUNTA(Z6:Z506)-COUNTIF(Z6:Z506,"N/A") -> 0
H2: Total cas OK | I2: =SUM(K2,N2,Q2,T2,W2,Z2) -> 0 | K2: =COUNTIF(K6:K503,"OK") -> 0 | N2: =COUNTIF(N6:N503,"OK") -> 0 | Q2: =COUNTIF(Q6:Q503,"OK") -> 0 | T2: =COUNTIF(T6:T503,"OK") -> 0 | W2: =COUNTIF(W6:W503,"OK") -> 0 | Z2: =COUNTIF(Z6:Z503,"OK") -> 0
H3: Total cas KO | I3: =SUM(K3,N3,Q3,T3,W3,Z3) -> 0 | K3: =COUNTIF(K6:K504,"KO") -> 0 | N3: =COUNTIF(N6:N504,"KO") -> 0 | Q3: =COUNTIF(Q6:Q504,"KO") -> 0 | T3: =COUNTIF(T6:T504,"KO") -> 0 | W3: =COUNTIF(W6:W504,"KO") -> 0 | Z3: =COUNTIF(Z6:Z504,"KO") -> 0
H4: Tickets ouverts | I4: =SUM(L4,O4,R4,U4,X4,AA4) -> 0 | L4: {=SUM(LEN(L6:L110)-LEN(SUBSTITUTE(L6:L110,CHAR(10),""))+(LEN(L6:L110)>0))} -> 0 | O4: {=SUM(LEN(O6:O110)-LEN(SUBSTITUTE(O6:O110,CHAR(10),""))+(LEN(O6:O110)>0))} -> 0 | R4: {=SUM(LEN(R6:R110)-LEN(SUBSTITUTE(R6:R110,CHAR(10),""))+(LEN(R6:R110)>0))} -> 0 | U4: {=SUM(LEN(U6:U110)-LEN(SUBSTITUTE(U6:U110,CHAR(10),""))+(LEN(U6:U110)>0))} -> 0 | X4: {=SUM(LEN(X6:X110)-LEN(SUBSTITUTE(X6:X110,CHAR(10),""))+(LEN(X6:X110)>0))} -> 0 | AA4: {=SUM(LEN(AA6:AA110)-LEN(SUBSTITUTE(AA6:AA110,CHAR(10),""))+(LEN(AA6:AA110)>0))} -> 0
A5: Réf. | B5: Catégorie | C5: Description du test | D5: Pré-requis | E5: Profil | F5: Type client | G5: Réalim. | H5: Résultats attendus | I5: Résultats obtenus | J5: Jeux de tests Edge | K5: Statut Edge | L5: N° de Ticket | M5: Jeux de tests Chrome | N5: Statut Chrome | O5: N° de Ticket | P5: Jeux de tests Tel IOS | Q5: Statut Tel IOS | R5: N° de Ticket | S5: Jeux de tests Tel Android | T5: Statut Tel Android | U5: N° de Ticket | V5: Jeux de tests Tablette IOS | W5: Statut Tablette IOS | X5: N° de Ticket | Y5: Jeux de tests Tablette Android | Z5: Statut Tablette Android | AA5: N° de Ticket
A6: 1
A7: 2
A8: 3
A9: 4
A10: 5
A11: 6
A12: 7
A13: 8
A14: 9
A15: 10
A16: 11
A17: 12
... A27: 22

Sheet Paramètres
H1: Cas a jouer | I1: =SUM(K1,N1,Q1,T1,W1,Z1) -> 0 | K1: =COUNTA(K6:K506)-COUNTIF(K6:K506,"N/A") -> 0 | N1: =COUNTA(N6:N506)-COUNTIF(N6:N506,"N/A") -> 0 | Q1: =COUNTA(Q6:Q506)-COUNTIF(Q6:Q506,"N/A") -> 0 | T1: =COUNTA(T6:T506)-COUNTIF(T6:T506,"N/A") -> 0 | W1: =COUNTA(W6:W506)-COUNTIF(W6:W506,"N/A") -> 0 | Z1: =COUNTA(Z6:Z506)-COUNTIF(Z6:Z506,"N/A") -> 0
H2: Total cas OK | I2: =SUM(K2,N2,Q2,T2,W2,Z2) -> 0 | K2: =COUNTIF(K6:K503,"OK") -> 0 | N2: =COUNTIF(N6:N503,"OK") -> 0 | Q2: =COUNTIF(Q6:Q503,"OK") -> 0 | T2: =COUNTIF(T6:T503,"OK") -> 0 | W2: =COUNTIF(W6:W503,"OK") -> 0 | Z2: =COUNTIF(Z6:Z503,"OK") -> 0
H3: Total cas KO | I3: =SUM(K3,N3,Q3,T3,W3,Z3) -> 0 | K3: =COUNTIF(K6:K504,"KO") -> 0 | N3: =COUNTIF(N6:N504,"KO") -> 0 | Q3: =COUNTIF(Q6:Q504,"KO") -> 0 | T3: =COUNTIF(T6:T504,"KO") -> 0 | W3: =COUNTIF(W6:W504,"KO") -> 0 | Z3: =COUNTIF(Z6:Z504,"KO") -> 0
H4: Tickets ouverts | I4: =SUM(L4,O4,R4,U4,X4,AA4) -> 0 | L4: {=SUM(LEN(L6:L110)-LEN(SUBSTITUTE(L6:L110,CHAR(10),""))+(LEN(L6:L110)>0))} -> 0 | O4: {=SUM(LEN(O6:O110)-LEN(SUBSTITUTE(O6:O110,CHAR(10),""))+(LEN(O6:O110)>0))} -> 0 | R4: {=SUM(LEN(R6:R110)-LEN(SUBSTITUTE(R6:R110,CHAR(10),""))+(LEN(R6:R110)>0))} -> 0 | U4: {=SUM(LEN(U6:U110)-LEN(SUBSTITUTE(U6:U110,CHAR(10),""))+(LEN(U6:U110)>0))} -> 0 | X4: {=SUM(LEN(X6:X110)-LEN(SUBSTITUTE(X6:X110,CHAR(10),""))+(LEN(X6:X110)>0))} -> 0 | AA4: {=SUM(LEN(AA6:AA110)-LEN(SUBSTITUTE(AA6:AA110,CHAR(10),""))+(LEN(AA6:AA110)>0))} -> 0
A5: Réf. | B5: Catégorie | C5: Description du test | D5: Pré-requis | E5: Profil | F5: Type client | G5: Réalim. | H5: Résultats attendus | I5: Résultats obtenus | J5: Jeux de tests Edge | K5: Statut Edge | L5: N° de Ticket | M5: Jeux de tests Chrome | N5: Statut Chrome | O5: N° de Ticket | P5: Jeux de tests Tel IOS | Q5: Statut Tel IOS | R5: N° de Ticket | S5: Jeux de tests Tel Android | T5: Statut Tel Android | U5: N° de Ticket | V5: Jeux de tests Tablette IOS | W5: Statut Tablette IOS | X5: N° de Ticket | Y5: Jeux de tests Tablette Android | Z5: Statut Tablette Android | AA5: N° de Ticket
A6: 1
A7: 2
A8: 3
A9: 4
A10: 5
A11: 6
A12: 7
A13: 8
A14: 9
A15: 10
A16: 11

Sheet Propriétaire
H1: Cas a jouer | I1: =SUM(K1,N1,Q1,T1,W1,Z1) -> 0 | K1: =COUNTA(K6:K506)-COUNTIF(K6:K506,"N/A") -> 0 | N1: =COUNTA(N6:N506)-COUNTIF(N6:N506,"N/A") -> 0 | Q1: =COUNTA(Q6:Q506)-COUNTIF(Q6:Q506,"N/A") -> 0 | T1: =COUNTA(T6:T506)-COUNTIF(T6:T506,"N/A") -> 0 | W1: =COUNTA(W6:W506)-COUNTIF(W6:W506,"N/A") -> 0 | Z1: =COUNTA(Z6:Z506)-COUNTIF(Z6:Z506,"N/A") -> 0
H2: Total cas OK | I2: =SUM(K2,N2,Q2,T2,W2,Z2) -> 0 | K2: =COUNTIF(K6:K503,"OK") -> 0 | N2: =COUNTIF(N6:N503,"OK") -> 0 | Q2: =COUNTIF(Q6:Q503,"OK") -> 0 | T2: =COUNTIF(T6:T503,"OK") -> 0 | W2: =COUNTIF(W6:W503,"OK") -> 0 | Z2: =COUNTIF(Z6:Z503,"OK") -> 0
H3: Total cas KO | I3: =SUM(K3,N3,Q3,T3,W3,Z3) -> 0 | K3: =COUNTIF(K6:K504,"KO") -> 0 | N3: =COUNTIF(N6:N504,"KO") -> 0 | Q3: =COUNTIF(Q6:Q504,"KO") -> 0 | T3: =COUNTIF(T6:T504,"KO") -> 0 | W3: =COUNTIF(W6:W504,"KO") -> 0 | Z3: =COUNTIF(Z6:Z504,"KO") -> 0
H4: Tickets ouverts | I4: =SUM(L4,O4,R4,U4,X4,AA4) -> 0 | L4: {=SUM(LEN(L6:L110)-LEN(SUBSTITUTE(L6:L110,CHAR(10),""))+(LEN(L6:L110)>0))} -> 0 | O4: {=SUM(LEN(O6:O110)-LEN(SUBSTITUTE(O6:O110,CHAR(10),""))+(LEN(O6:O110)>0))} -> 0 | R4: {=SUM(LEN(R6:R110)-LEN(SUBSTITUTE(R6:R110,CHAR(10),""))+(LEN(R6:R110)>0))} -> 0 | U4: {=SUM(LEN(U6:U110)-LEN(SUBSTITUTE(U6:U110,CHAR(10),""))+(LEN(U6:U110)>0))} -> 0 | X4: {=SUM(LEN(X6:X110)-LEN(SUBSTITUTE(X6:X110,CHAR(10),""))+(LEN(X6:X110)>0))} -> 0 | AA4: {=SUM(LEN(AA6:AA110)-LEN(SUBSTITUTE(AA6:AA110,CHAR(10),""))+(LEN(AA6:AA110)>0))} -> 0
A5: Réf. | B5: Catégorie | C5: Description du test | D5: Pré-requis | E5: Profil | F5: Type client | G5: Réalim. | H5: Résultats attendus | I5: Résultats obtenus | J5: Jeux de tests Edge | K5: Statut Edge | L5: N° de Ticket | M5: Jeux de tests Chrome | N5: Statut Chrome | O5: N° de Ticket | P5: Jeux de tests Tel IOS | Q5: Statut Tel IOS | R5: N° de Ticket | S5: Jeux de tests Tel Android | T5: Statut Tel Android | U5: N° de Ticket | V5: Jeux de tests Tablette IOS | W5: Statut Tablette IOS | X5: N° de Ticket | Y5: Jeux de tests Tablette Android | Z5: Statut Tablette Android | AA5: N° de Ticket
A6: 1
A7: 2
A8: 3
A9: 4
A10: 5
A11: 6
A12: 7
A13: 8
A14: 9
A15: 10
A16: 11
A17: 12
... A26: 21
