Workbook

Sheet Feuil1
A1: Div. | B1: Variété | C1: Fournisseur | D1: TypContrat | E1: Contrat | F1: P | G1: Votre référ. | H1: Déb/pér/va | I1: Fin pér/va | J1: Qté cible | K1: qté comm | L1: Solde | M1: Récolte | N1: Prix brut | O1: Grp.gam. | P1: CG | Q1: Fret
A2: 1220 | B2: SEBASTIAN | C2: ACOLYANCE | D2: ZQF | E2: 4600004344 | F2: 10 | G2: ACOLYANCE | H2: 41542 | I2: 41912 | J2: 4000 | K2: 720 | L2: =J2-K2 -> 3280 | M2: 2013 | N2: 193.74 | O2: FRII | P2: 1 | Q2: 4.4
A3: 1220 | B3: SEBASTIAN | C3: COMPAGRI | D3: ZQF | E3: 4600005512 | F3: 10 | G3: COMPAGRI | H3: 41518 | I3: 41820 | J3: 1763.58 | K3: 1763.58 | L3: =J3-K3 -> 0 | M3: 2013 | N3: 237 | O3: FRII | P3: 1 | Q3: 4.4
A4: 1220 | B4: TIPPLE | C4: COOP AGRICOLE D'ESTERNAY | D4: ZCC1 | E4: 4600005031 | F4: 30 | G4: AM 13/8738 | H4: 41548 | I4: 41729 | J4: 500 | K4: 480 | L4: =J4-K4 -> 20 | M4: 2013 | N4: 231 | O4: FRII | P4: 9 | Q4: 4.5
A5: 1220 | B5: TIPPLE | C5: COOP AGRICOLE D'ESTERNAY | D5: ZCC1 | E5: 4600005716 | F5: 20 | G5: AM 13/9681 | H5: 41548 | I5: 41820 | J5: 350 | K5: 350 | L5: =J5-K5 -> 0 | M5: 2013 | N5: 183 | O5: FRII | P5: 9 | Q5: 4.5
A6: 1220 | B6: BERMUDE | C6: COOP AGRICOLE D'ESTERNAY | D6: ZCP1 | E6: 4600005572 | F6: 10 | G6: AM 13/9532 | H6: 41548 | I6: 41729 | J6: 200 | L6: =J6-K6 -> 200 | M6: 2013 | N6: 188.03 | O6: FRII | P6: 13 | Q6: 6
A7: 1230 | B7: EXPLORER | C7: ACOLYANCE | D7: ZQM | E7: 4600004342 | F7: 10 | G7: ACOLYANCE | H7: 41548 | I7: 41912 | J7: 5000 | K7: 839.58 | L7: =J7-K7 -> 4160.42 | M7: 2013 | N7: 190 | O7: FRII | P7: 1 | Q7: 4.4
A8: 1230 | B8: TIPPLE | C8: ACOLYANCE | D8: ZQF | E8: 4600004344 | F8: 20 | G8: ACOLYANCE | H8: 41542 | I8: 41912 | J8: 1800 | L8: =J8-K8 -> 1800 | M8: 2013 | N8: 193.74 | O8: FRII | P8: 1 | Q8: 4.4
A9: 1230 | B9: CERVOISE | C9: ACOLYANCE | D9: ZQM | E9: 4600004341 | F9: 10 | G9: ACOLYANCE | H9: 41548 | I9: 41912 | J9: 510.88 | K9: 510.88 | L9: =J9-K9 -> 0 | M9: 2013 | N9: 180 | O9: FRII | P9: 6 | Q9: 4.4
A10: 1230 | B10: CERVOISE | C10: ACOLYANCE | D10: ZQF | E10: 4600004343 | F10: 10 | G10: ACOLYANCE | H10: 41548 | I10: 41912 | J10: 2470 | K10: 89.7 | L10: =J10-K10 -> 2380.3 | M10: 2013 | N10: 177.84 | O10: FRII | P10: 6 | Q10: 4.4
A11: 1230 | B11: CERVOISE | C11: COOP AGRICOLE D'ESTERNAY | D11: ZCP1 | E11: 4600005209 | F11: 10 | G11: BLE NOV 13 | H11: 41518 | I11: 41820 | J11: 1000 | K11: 967.42 | L11: =J11-K11 -> 32.58 | M11: 2013 | N11: 178.5 | O11: FRII | P11: 9 | Q11: 4.4
A12: 1230 | B12: ESTEREL | C12: CER'EST | D12: ZQP | E12: 4600004243 | F12: 30 | G12: BLE NOV 13 | H12: 41548 | I12: 41820 | J12: 2000 | L12: =J12-K12 -> 2000 | M12: 2013 | N12: 179.5 | O12: FRII | P12: 6 | Q12: 5.2
A13: 1230 | B13: ESTEREL | C13: CER'EST | D13: ZQM | E13: 4600004351 | F13: 10 | G13: CER'EST | H13: 41548 | I13: 41912 | J13: 5950 | K13: 30.6 | L13: =J13-K13 -> 5919.4 | M13: 2013 | N13: 180 | O13: FRII | P13: 6 | Q13: 5.2
A14: 1230 | B14: ESTEREL | C14: CER'EST | D14: ZQF | E14: 4600004354 | F14: 10 | G14: CER'EST | H14: 41548 | I14: 41912 | J14: 6250 | L14: =J14-K14 -> 6250 | M14: 2013 | N14: 198.8 | O14: FRII | P14: 6 | Q14: 5.2
A15: 1230 | B15: ESTEREL | C15: GAP SA Grains & Produits | D15: ZCC3 | E15: 4600004774 | F15: 10 | G15: COBACK 3015 | H15: 41456 | I15: 41698 | J15: 3000 | K15: 309.1 | L15: =J15-K15 -> 2690.9 | M15: 2013 | N15: 210 | O15: FRII | P15: 9 | Q15: 6

Sheet 1220
A1: Div. | B1: Variété | C1: Fournisseur | D1: TypContrat | E1: Contrat | F1: P | G1: Votre référ. | H1: Déb/pér/va | I1: Fin pér/va | J1: Qté cible | K1: qté comm
A2: {=IF(ROW()-1>COUNTIF(Feuil1!$A$2:$A$15,1220),"",(SMALL(IF((Feuil1!$A$2:$A$15=1220)*(Feuil1!A$2:A$15<>""),Feuil1!A$2:A$15),ROW()-1)))} -> 1220 | B2: {=IF($A2="","",INDEX(Feuil1!B$2:B$15,SMALL(IF((Feuil1!$A$2:$A$15=1220)*(Feuil1!A$2:A$15<>""),ROW(Feuil1!A$2:A$15)),ROW()-1)))} -> SEBASTIAN | C2: {=IF($A2="","",INDEX(Feuil1!C$2:C$15,SMALL(IF((Feuil1!$A$2:$A$15=1220)*(Feuil1!B$2:B$15<>""),ROW(Feuil1!B$2:B$15)),ROW()-1)))} -> COMPAGRI | D2: {=IF($A2="","",INDEX(Feuil1!D$2:D$15,SMALL(IF((Feuil1!$A$2:$A$15=1220)*(Feuil1!C$2:C$15<>""),ROW(Feuil1!C$2:C$15)),ROW()-1)))} -> ZQF | E2: {=IF($A2="","",INDEX(Feuil1!E$2:E$15,SMALL(IF((Feuil1!$A$2:$A$15=1220)*(Feuil1!D$2:D$15<>""),ROW(Feuil1!D$2:D$15)),ROW()-1)))} -> 4600005512 | F2: {=IF($A2="","",INDEX(Feuil1!F$2:F$15,SMALL(IF((Feuil1!$A$2:$A$15=1220)*(Feuil1!E$2:E$15<>""),ROW(Feuil1!E$2:E$15)),ROW()-1)))} -> 10 | G2: {=IF($A2="","",INDEX(Feuil1!G$2:G$15,SMALL(IF((Feuil1!$A$2:$A$15=1220)*(Feuil1!F$2:F$15<>""),ROW(Feuil1!F$2:F$15)),ROW()-1)))} -> COMPAGRI | H2: {=IF($A2="","",INDEX(Feuil1!H$2:H$15,SMALL(IF((Feuil1!$A$2:$A$15=1220)*(Feuil1!G$2:G$15<>""),ROW(Feuil1!G$2:G$15)),ROW()-1)))} -> 41518 | I2: {=IF($A2="","",INDEX(Feuil1!I$2:I$15,SMALL(IF((Feuil1!$A$2:$A$15=1220)*(Feuil1!H$2:H$15<>""),ROW(Feuil1!H$2:H$15)),ROW()-1)))} -> 41820 | ... K2: {=IF($A2="","",INDEX(Feuil1!K$2:K$15,SMALL(IF((Feuil1!$A$2:$A$15=1220)*(Feuil1!J$2:J$15<>""),ROW(Feuil1!J$2:J$15)),ROW()-1)))} -> 1763.58
A3: {=IF(ROW()-1>COUNTIF(Feuil1!$A$2:$A$15,1220),"",(SMALL(IF((Feuil1!$A$2:$A$15=1220)*(Feuil1!A$2:A$15<>""),Feuil1!A$2:A$15),ROW()-1)))} -> 1220 | B3: {=IF($A3="","",INDEX(Feuil1!B$2:B$15,SMALL(IF((Feuil1!$A$2:$A$15=1220)*(Feuil1!A$2:A$15<>""),ROW(Feuil1!A$2:A$15)),ROW()-1)))} -> TIPPLE | C3: {=IF($A3="","",INDEX(Feuil1!C$2:C$15,SMALL(IF((Feuil1!$A$2:$A$15=1220)*(Feuil1!B$2:B$15<>""),ROW(Feuil1!B$2:B$15)),ROW()-1)))} -> COOP AGRICOLE D'ESTERNAY | D3: {=IF($A3="","",INDEX(Feuil1!D$2:D$15,SMALL(IF((Feuil1!$A$2:$A$15=1220)*(Feuil1!C$2:C$15<>""),ROW(Feuil1!C$2:C$15)),ROW()-1)))} -> ZCC1 | E3: {=IF($A3="","",INDEX(Feuil1!E$2:E$15,SMALL(IF((Feuil1!$A$2:$A$15=1220)*(Feuil1!D$2:D$15<>""),ROW(Feuil1!D$2:D$15)),ROW()-1)))} -> 4600005031 | F3: {=IF($A3="","",INDEX(Feuil1!F$2:F$15,SMALL(IF((Feuil1!$A$2:$A$15=1220)*(Feuil1!E$2:E$15<>""),ROW(Feuil1!E$2:E$15)),ROW()-1)))} -> 30 | G3: {=IF($A3="","",INDEX(Feuil1!G$2:G$15,SMALL(IF((Feuil1!$A$2:$A$15=1220)*(Feuil1!F$2:F$15<>""),ROW(Feuil1!F$2:F$15)),ROW()-1)))} -> AM 13/8738 | H3: {=IF($A3="","",INDEX(Feuil1!H$2:H$15,SMALL(IF((Feuil1!$A$2:$A$15=1220)*(Feuil1!G$2:G$15<>""),ROW(Feuil1!G$2:G$15)),ROW()-1)))} -> 41548 | I3: {=IF($A3="","",INDEX(Feuil1!I$2:I$15,SMALL(IF((Feuil1!$A$2:$A$15=1220)*(Feuil1!H$2:H$15<>""),ROW(Feuil1!H$2:H$15)),ROW()-1)))} -> 41729 | ... K3: {=IF($A3="","",INDEX(Feuil1!K$2:K$15,SMALL(IF((Feuil1!$A$2:$A$15=1220)*(Feuil1!J$2:J$15<>""),ROW(Feuil1!J$2:J$15)),ROW()-1)))} -> 480
A4: {=IF(ROW()-1>COUNTIF(Feuil1!$A$2:$A$15,1220),"",(SMALL(IF((Feuil1!$A$2:$A$15=1220)*(Feuil1!A$2:A$15<>""),Feuil1!A$2:A$15),ROW()-1)))} -> 1220 | B4: {=IF($A4="","",INDEX(Feuil1!B$2:B$15,SMALL(IF((Feuil1!$A$2:$A$15=1220)*(Feuil1!A$2:A$15<>""),ROW(Feuil1!A$2:A$15)),ROW()-1)))} -> TIPPLE | C4: {=IF($A4="","",INDEX(Feuil1!C$2:C$15,SMALL(IF((Feuil1!$A$2:$A$15=1220)*(Feuil1!B$2:B$15<>""),ROW(Feuil1!B$2:B$15)),ROW()-1)))} -> COOP AGRICOLE D'ESTERNAY | D4: {=IF($A4="","",INDEX(Feuil1!D$2:D$15,SMALL(IF((Feuil1!$A$2:$A$15=1220)*(Feuil1!C$2:C$15<>""),ROW(Feuil1!C$2:C$15)),ROW()-1)))} -> ZCC1 | E4: {=IF($A4="","",INDEX(Feuil1!E$2:E$15,SMALL(IF((Feuil1!$A$2:$A$15=1220)*(Feuil1!D$2:D$15<>""),ROW(Feuil1!D$2:D$15)),ROW()-1)))} -> 4600005716 | F4: {=IF($A4="","",INDEX(Feuil1!F$2:F$15,SMALL(IF((Feuil1!$A$2:$A$15=1220)*(Feuil1!E$2:E$15<>""),ROW(Feuil1!E$2:E$15)),ROW()-1)))} -> 20 | G4: {=IF($A4="","",INDEX(Feuil1!G$2:G$15,SMALL(IF((Feuil1!$A$2:$A$15=1220)*(Feuil1!F$2:F$15<>""),ROW(Feuil1!F$2:F$15)),ROW()-1)))} -> AM 13/9681 | H4: {=IF($A4="","",INDEX(Feuil1!H$2:H$15,SMALL(IF((Feuil1!$A$2:$A$15=1220)*(Feuil1!G$2:G$15<>""),ROW(Feuil1!G$2:G$15)),ROW()-1)))} -> 41548 | I4: {=IF($A4="","",INDEX(Feuil1!I$2:I$15,SMALL(IF((Feuil1!$A$2:$A$15=1220)*(Feuil1!H$2:H$15<>""),ROW(Feuil1!H$2:H$15)),ROW()-1)))} -> 41820 | ... K4: {=IF($A4="","",INDEX(Feuil1!K$2:K$15,SMALL(IF((Feuil1!$A$2:$A$15=1220)*(Feuil1!J$2:J$15<>""),ROW(Feuil1!J$2:J$15)),ROW()-1)))} -> 350
A5: {=IF(ROW()-1>COUNTIF(Feuil1!$A$2:$A$15,1220),"",(SMALL(IF((Feuil1!$A$2:$A$15=1220)*(Feuil1!A$2:A$15<>""),Feuil1!A$2:A$15),ROW()-1)))} -> 1220 | B5: {=IF($A5="","",INDEX(Feuil1!B$2:B$15,SMALL(IF((Feuil1!$A$2:$A$15=1220)*(Feuil1!A$2:A$15<>""),ROW(Feuil1!A$2:A$15)),ROW()-1)))} -> BERMUDE | C5: {=IF($A5="","",INDEX(Feuil1!C$2:C$15,SMALL(IF((Feuil1!$A$2:$A$15=1220)*(Feuil1!B$2:B$15<>""),ROW(Feuil1!B$2:B$15)),ROW()-1)))} -> COOP AGRICOLE D'ESTERNAY | D5: {=IF($A5="","",INDEX(Feuil1!D$2:D$15,SMALL(IF((Feuil1!$A$2:$A$15=1220)*(Feuil1!C$2:C$15<>""),ROW(Feuil1!C$2:C$15)),ROW()-1)))} -> ZCP1 | E5: {=IF($A5="","",INDEX(Feuil1!E$2:E$15,SMALL(IF((Feuil1!$A$2:$A$15=1220)*(Feuil1!D$2:D$15<>""),ROW(Feuil1!D$2:D$15)),ROW()-1)))} -> 4600005572 | F5: {=IF($A5="","",INDEX(Feuil1!F$2:F$15,SMALL(IF((Feuil1!$A$2:$A$15=1220)*(Feuil1!E$2:E$15<>""),ROW(Feuil1!E$2:E$15)),ROW()-1)))} -> 10 | G5: {=IF($A5="","",INDEX(Feuil1!G$2:G$15,SMALL(IF((Feuil1!$A$2:$A$15=1220)*(Feuil1!F$2:F$15<>""),ROW(Feuil1!F$2:F$15)),ROW()-1)))} -> AM 13/9532 | H5: {=IF($A5="","",INDEX(Feuil1!H$2:H$15,SMALL(IF((Feuil1!$A$2:$A$15=1220)*(Feuil1!G$2:G$15<>""),ROW(Feuil1!G$2:G$15)),ROW()-1)))} -> 41548 | I5: {=IF($A5="","",INDEX(Feuil1!I$2:I$15,SMALL(IF((Feuil1!$A$2:$A$15=1220)*(Feuil1!H$2:H$15<>""),ROW(Feuil1!H$2:H$15)),ROW()-1)))} -> 41729 | ... K5: {=IF($A5="","",INDEX(Feuil1!K$2:K$15,SMALL(IF((Feuil1!$A$2:$A$15=1220)*(Feuil1!J$2:J$15<>""),ROW(Feuil1!J$2:J$15)),ROW()-1)))} -> 0
A6: {=IF(ROW()-1>COUNTIF(Feuil1!$A$2:$A$15,1220),"",(SMALL(IF((Feuil1!$A$2:$A$15=1220)*(Feuil1!A$2:A$15<>""),Feuil1!A$2:A$15),ROW()-1)))} -> 1220 | B6: {=IF($A6="","",INDEX(Feuil1!B$2:B$15,SMALL(IF((Feuil1!$A$2:$A$15=1220)*(Feuil1!A$2:A$15<>""),ROW(Feuil1!A$2:A$15)),ROW()-1)))} -> EXPLORER | C6: {=IF($A6="","",INDEX(Feuil1!C$2:C$15,SMALL(IF((Feuil1!$A$2:$A$15=1220)*(Feuil1!B$2:B$15<>""),ROW(Feuil1!B$2:B$15)),ROW()-1)))} -> ACOLYANCE | D6: {=IF($A6="","",INDEX(Feuil1!D$2:D$15,SMALL(IF((Feuil1!$A$2:$A$15=1220)*(Feuil1!C$2:C$15<>""),ROW(Feuil1!C$2:C$15)),ROW()-1)))} -> ZQM | E6: {=IF($A6="","",INDEX(Feuil1!E$2:E$15,SMALL(IF((Feuil1!$A$2:$A$15=1220)*(Feuil1!D$2:D$15<>""),ROW(Feuil1!D$2:D$15)),ROW()-1)))} -> 4600004342 | F6: {=IF($A6="","",INDEX(Feuil1!F$2:F$15,SMALL(IF((Feuil1!$A$2:$A$15=1220)*(Feuil1!E$2:E$15<>""),ROW(Feuil1!E$2:E$15)),ROW()-1)))} -> 10 | G6: {=IF($A6="","",INDEX(Feuil1!G$2:G$15,SMALL(IF((Feuil1!$A$2:$A$15=1220)*(Feuil1!F$2:F$15<>""),ROW(Feuil1!F$2:F$15)),ROW()-1)))} -> ACOLYANCE | H6: {=IF($A6="","",INDEX(Feuil1!H$2:H$15,SMALL(IF((Feuil1!$A$2:$A$15=1220)*(Feuil1!G$2:G$15<>""),ROW(Feuil1!G$2:G$15)),ROW()-1)))} -> 41548 | I6: {=IF($A6="","",INDEX(Feuil1!I$2:I$15,SMALL(IF((Feuil1!$A$2:$A$15=1220)*(Feuil1!H$2:H$15<>""),ROW(Feuil1!H$2:H$15)),ROW()-1)))} -> 41912 | ... K6: {=IF($A6="","",INDEX(Feuil1!K$2:K$15,SMALL(IF((Feuil1!$A$2:$A$15=1220)*(Feuil1!J$2:J$15<>""),ROW(Feuil1!J$2:J$15)),ROW()-1)))} -> 839.58
A7: {=IF(ROW()-1>COUNTIF(Feuil1!$A$2:$A$15,1220),"",(SMALL(IF((Feuil1!$A$2:$A$15=1220)*(Feuil1!A$2:A$15<>""),Feuil1!A$2:A$15),ROW()-1)))} | B7: {=IF($A7="","",INDEX(Feuil1!B$2:B$15,SMALL(IF((Feuil1!$A$2:$A$15=1220)*(Feuil1!A$2:A$15<>""),ROW(Feuil1!A$2:A$15)),ROW()-1)))} | C7: {=IF($A7="","",INDEX(Feuil1!C$2:C$15,SMALL(IF((Feuil1!$A$2:$A$15=1220)*(Feuil1!B$2:B$15<>""),ROW(Feuil1!B$2:B$15)),ROW()-1)))} | D7: {=IF($A7="","",INDEX(Feuil1!D$2:D$15,SMALL(IF((Feuil1!$A$2:$A$15=1220)*(Feuil1!C$2:C$15<>""),ROW(Feuil1!C$2:C$15)),ROW()-1)))} | E7: {=IF($A7="","",INDEX(Feuil1!E$2:E$15,SMALL(IF((Feuil1!$A$2:$A$15=1220)*(Feuil1!D$2:D$15<>""),ROW(Feuil1!D$2:D$15)),ROW()-1)))} | F7: {=IF($A7="","",INDEX(Feuil1!F$2:F$15,SMALL(IF((Feuil1!$A$2:$A$15=1220)*(Feuil1!E$2:E$15<>""),ROW(Feuil1!E$2:E$15)),ROW()-1)))} | G7: {=IF($A7="","",INDEX(Feuil1!G$2:G$15,SMALL(IF((Feuil1!$A$2:$A$15=1220)*(Feuil1!F$2:F$15<>""),ROW(Feuil1!F$2:F$15)),ROW()-1)))} | H7: {=IF($A7="","",INDEX(Feuil1!H$2:H$15,SMALL(IF((Feuil1!$A$2:$A$15=1220)*(Feuil1!G$2:G$15<>""),ROW(Feuil1!G$2:G$15)),ROW()-1)))} | I7: {=IF($A7="","",INDEX(Feuil1!I$2:I$15,SMALL(IF((Feuil1!$A$2:$A$15=1220)*(Feuil1!H$2:H$15<>""),ROW(Feuil1!H$2:H$15)),ROW()-1)))} | ... K7: {=IF($A7="","",INDEX(Feuil1!K$2:K$15,SMALL(IF((Feuil1!$A$2:$A$15=1220)*(Feuil1!J$2:J$15<>""),ROW(Feuil1!J$2:J$15)),ROW()-1)))}
A8: {=IF(ROW()-1>COUNTIF(Feuil1!$A$2:$A$15,1220),"",(SMALL(IF((Feuil1!$A$2:$A$15=1220)*(Feuil1!A$2:A$15<>""),Feuil1!A$2:A$15),ROW()-1)))} | B8: {=IF($A8="","",INDEX(Feuil1!B$2:B$15,SMALL(IF((Feuil1!$A$2:$A$15=1220)*(Feuil1!A$2:A$15<>""),ROW(Feuil1!A$2:A$15)),ROW()-1)))} | C8: {=IF($A8="","",INDEX(Feuil1!C$2:C$15,SMALL(IF((Feuil1!$A$2:$A$15=1220)*(Feuil1!B$2:B$15<>""),ROW(Feuil1!B$2:B$15)),ROW()-1)))} | D8: {=IF($A8="","",INDEX(Feuil1!D$2:D$15,SMALL(IF((Feuil1!$A$2:$A$15=1220)*(Feuil1!C$2:C$15<>""),ROW(Feuil1!C$2:C$15)),ROW()-1)))} | E8: {=IF($A8="","",INDEX(Feuil1!E$2:E$15,SMALL(IF((Feuil1!$A$2:$A$15=1220)*(Feuil1!D$2:D$15<>""),ROW(Feuil1!D$2:D$15)),ROW()-1)))} | F8: {=IF($A8="","",INDEX(Feuil1!F$2:F$15,SMALL(IF((Feuil1!$A$2:$A$15=1220)*(Feuil1!E$2:E$15<>""),ROW(Feuil1!E$2:E$15)),ROW()-1)))} | G8: {=IF($A8="","",INDEX(Feuil1!G$2:G$15,SMALL(IF((Feuil1!$A$2:$A$15=1220)*(Feuil1!F$2:F$15<>""),ROW(Feuil1!F$2:F$15)),ROW()-1)))} | H8: {=IF($A8="","",INDEX(Feuil1!H$2:H$15,SMALL(IF((Feuil1!$A$2:$A$15=1220)*(Feuil1!G$2:G$15<>""),ROW(Feuil1!G$2:G$15)),ROW()-1)))} | I8: {=IF($A8="","",INDEX(Feuil1!I$2:I$15,SMALL(IF((Feuil1!$A$2:$A$15=1220)*(Feuil1!H$2:H$15<>""),ROW(Feuil1!H$2:H$15)),ROW()-1)))} | ... K8: {=IF($A8="","",INDEX(Feuil1!K$2:K$15,SMALL(IF((Feuil1!$A$2:$A$15=1220)*(Feuil1!J$2:J$15<>""),ROW(Feuil1!J$2:J$15)),ROW()-1)))}

Sheet 1230
A1: Div. | B1: Variété | C1: Fournisseur | D1: TypContrat | E1: Contrat | F1: P | G1: Votre référ. | H1: Déb/pér/va | I1: Fin pér/va | J1: Qté cible | K1: qté comm
