Workbook

Sheet Mileage
C2: Moteur | D2: Heures | E2: B.V. | F2: Heures | G2: Butée | H2: Heures | I2: Robot | J2: Heures | K2: Piston | L2: Heures | M2: Cardan Gauche | N2: Heures | O2: Cardan Droit | P2: Heures
B3: #60 | C3: CDL 107034 | D3: =#REF! -> #REF! | E3: 259 | F3: =VLOOKUP(E3,'B.V.'!$B$3:$H$100,4,FALSE) -> 4.03125 | G3: =VLOOKUP(E3,'B.V.'!$B$3:$O$23,2,FALSE) -> 180055457#062 | H3: =VLOOKUP(G3,Butée!$B$3:$G$100,3,FALSE) -> 1.0208333 | I3: 889 | J3: =VLOOKUP(I3,Robot!$B$3:$G$100,3,FALSE) -> 4.4895833 | K3: 142 | L3: =VLOOKUP(K3,Piston!$B$3:$G$100,3,FALSE) -> 0.60416667 | M3: =VLOOKUP(Q3,Table225684[[Voiture]:[État]],2,FALSE) -> #N/A | N3: =VLOOKUP(M3,Table225684[[Référence Cardan Gauche2]:[État]],2,FALSE) -> #N/A | O3: =VLOOKUP(Q3,Table225684[[Voiture2]:[État2]],2,FALSE) -> #N/A | P3: =VLOOKUP(O3,Cardan!I3:M100,2,FALSE) -> #N/A | Q3: =B3 -> #60
B4: #260 | C4: CTY2 | D4: =Moteur!I15+Table8[[#This Row],['#04_Charade]] -> #VALUE! | E4: 244 | F4: =VLOOKUP(E4,'B.V.'!$B$3:$H$100,4,FALSE) -> 1.2868056 | G4: =VLOOKUP(E4,'B.V.'!$B$3:$O$23,2,FALSE) -> ?B2 | H4: =VLOOKUP(G4,Butée!$B$3:$G$100,3,FALSE) -> #VALUE! | I4: 269 | J4: =VLOOKUP(I4,Robot!$B$3:$G$100,3,FALSE) -> 5.3006944 | K4: 229 | L4: =VLOOKUP(K4,Piston!$B$3:$G$100,3,FALSE) -> #VALUE! | M4: =VLOOKUP(Q4,Table225684[[Voiture]:[État]],2,FALSE) -> SL009 | N4: =VLOOKUP(M4,Table225684[[Référence Cardan Gauche2]:[État]],2,FALSE) -> 0.34583333 | O4: =VLOOKUP(Q4,Table225684[[Voiture2]:[État2]],2,FALSE) -> SR009 | P4: =VLOOKUP(O4,Cardan!I4:M101,2,FALSE) -> 0.34583333 | Q4: =B4 -> #260
B5: #274 | C5: / | D5: =VLOOKUP(C5,Moteur!$B$3:$D$100,3,FALSE) -> / | E5: / | F5: =VLOOKUP(E5,'B.V.'!$B$3:$H$100,4,FALSE) -> / | G5: =VLOOKUP(E5,'B.V.'!$B$3:$O$23,2,FALSE) -> / | H5: =VLOOKUP(G5,Butée!$B$3:$G$100,3,FALSE) -> / | I5: / | J5: =VLOOKUP(I5,Robot!$B$3:$G$100,3,FALSE) -> / | K5: / | L5: =VLOOKUP(K5,Piston!$B$3:$G$100,3,FALSE) -> / | M5: =VLOOKUP(Q5,Table225684[[Voiture]:[État]],2,FALSE) -> #N/A | N5: =VLOOKUP(M5,Table225684[[Référence Cardan Gauche2]:[État]],2,FALSE) -> #N/A | O5: =VLOOKUP(Q5,Table225684[[Voiture2]:[État2]],2,FALSE) -> #N/A | P5: =VLOOKUP(O5,Cardan!I5:M102,2,FALSE) -> #N/A | Q5: =B5 -> #274
B6: #290 | C6: CDL 107005 | D6: =VLOOKUP(C6,Moteur!$B$3:$D$100,3,FALSE) -> 10.232639 | E6: 31 | F6: =VLOOKUP(E6,'B.V.'!$B$3:$H$100,4,FALSE) -> 0.76041667 | G6: =VLOOKUP(E6,'B.V.'!$B$3:$O$23,2,FALSE) -> 15022392#004 | H6: =VLOOKUP(G6,Butée!$B$3:$G$100,3,FALSE) -> 0.76041667 | I6: 235 | J6: =VLOOKUP(I6,Robot!$B$3:$G$100,3,FALSE) -> 4.2395833 | K6: 229 | L6: =VLOOKUP(K6,Piston!$B$3:$G$100,3,FALSE) -> #VALUE! | M6: =VLOOKUP(Q6,Table225684[[Voiture]:[État]],2,FALSE) -> SL010 | N6: =VLOOKUP(M6,Table225684[[Référence Cardan Gauche2]:[État]],2,FALSE) -> 0.325 | O6: =VLOOKUP(Q6,Table225684[[Voiture2]:[État2]],2,FALSE) -> SR010 | P6: =VLOOKUP(O6,Cardan!I6:M103,2,FALSE) -> #N/A | Q6: =B6 -> #290
B7: #292 | C7: CTY 01 | D7: =VLOOKUP(C7,Moteur!$B$3:$D$100,3,FALSE) -> 0.96041667 | E7: 65 | F7: =VLOOKUP(E7,'B.V.'!$B$3:$H$100,4,FALSE) -> 2.85625 | G7: =VLOOKUP(E7,'B.V.'!$B$3:$O$23,2,FALSE) -> 15016782#022 | H7: =VLOOKUP(G7,Butée!$B$3:$G$100,3,FALSE) -> 2.04375 | I7: 404 | J7: =VLOOKUP(I7,Robot!$B$3:$G$100,3,FALSE) -> 2.3354167 | K7: 540 | L7: =VLOOKUP(K7,Piston!$B$3:$G$100,3,FALSE) -> 6.0368056 | M7: =VLOOKUP(Q7,Table225684[[Voiture]:[État]],2,FALSE) -> SL012 | N7: =VLOOKUP(M7,Table225684[[Référence Cardan Gauche2]:[État]],2,FALSE) -> 0.32847222 | O7: =VLOOKUP(Q7,Table225684[[Voiture2]:[État2]],2,FALSE) -> SR012 | P7: =VLOOKUP(O7,Cardan!I7:M104,2,FALSE) -> 0.32847222 | Q7: =B7 -> #292
B8: #315 | C8: WRT000160 | D8: =VLOOKUP(C8,Moteur!$B$3:$D$100,3,FALSE) -> 2.8604167 | E8: 203228 | F8: =VLOOKUP(E8,'B.V.'!$B$3:$H$100,4,FALSE) -> 2.8604167 | G8: =VLOOKUP(E8,'B.V.'!$B$3:$O$23,2,FALSE) -> 19010529#012 | H8: =VLOOKUP(G8,Butée!$B$3:$G$100,3,FALSE) -> #VALUE! | I8: 831 | J8: =VLOOKUP(I8,Robot!$B$3:$G$100,3,FALSE) -> 3.0375 | K8: ?P1 | L8: =VLOOKUP(K8,Piston!$B$3:$G$100,3,FALSE) -> #VALUE! | M8: =VLOOKUP(Q8,Table225684[[Voiture]:[État]],2,FALSE) -> SL013 | N8: =VLOOKUP(M8,Table225684[[Référence Cardan Gauche2]:[État]],2,FALSE) -> 0.33680556 | O8: =VLOOKUP(Q8,Table225684[[Voiture2]:[État2]],2,FALSE) -> SR013 | P8: =VLOOKUP(O8,Cardan!I8:M105,2,FALSE) -> 0.33680556 | Q8: =B8 -> #315
B9: #365 | C9: WRT00027 | D9: =VLOOKUP(C9,Moteur!$B$3:$D$100,3,FALSE) -> 1.8756944 | E9: 222 | F9: =VLOOKUP(E9,'B.V.'!$B$3:$H$100,4,FALSE) -> 0.97291667 | G9: =VLOOKUP(E9,'B.V.'!$B$3:$O$23,2,FALSE) -> 18005457#051 | H9: =VLOOKUP(G9,Butée!$B$3:$G$100,3,FALSE) -> 1.8756944 | I9: / | J9: =VLOOKUP(I9,Robot!$B$3:$G$100,3,FALSE) -> / | K9: / | L9: =VLOOKUP(K9,Piston!$B$3:$G$100,3,FALSE) -> / | M9: =VLOOKUP(Q9,Table225684[[Voiture]:[État]],2,FALSE) -> SL011 | N9: =VLOOKUP(M9,Table225684[[Référence Cardan Gauche2]:[État]],2,FALSE) -> 0.31597222 | O9: =VLOOKUP(Q9,Table225684[[Voiture2]:[État2]],2,FALSE) -> SR011 | P9: =VLOOKUP(O9,Cardan!I9:M106,2,FALSE) -> #N/A | Q9: =B9 -> #365
B10: #371 | C10: CDL 104191 | D10: =VLOOKUP(C10,Moteur!$B$3:$D$100,3,FALSE) -> 4.7638889 | E10: 182 | F10: =VLOOKUP(E10,'B.V.'!$B$3:$H$100,4,FALSE) -> 4.7638889 | G10: =VLOOKUP(E10,'B.V.'!$B$3:$O$23,2,FALSE) -> ?B3 | H10: =VLOOKUP(G10,Butée!$B$3:$G$100,3,FALSE) -> 0 | I10: 492 | J10: =VLOOKUP(I10,Robot!$B$3:$G$100,3,FALSE) -> 1.3541667 | K10: 482 | L10: =VLOOKUP(K10,Piston!$B$3:$G$100,3,FALSE) -> #VALUE! | M10: =VLOOKUP(Q10,Table225684[[Voiture]:[État]],2,FALSE) -> #N/A | N10: =VLOOKUP(M10,Table225684[[Référence Cardan Gauche2]:[État]],2,FALSE) -> #N/A | O10: =VLOOKUP(Q10,Table225684[[Voiture2]:[État2]],2,FALSE) -> #N/A | P10: =VLOOKUP(O10,Cardan!I10:M107,2,FALSE) -> #N/A | Q10: =B10 -> #371
B11: #383 | C11: CDL WRT00169 | D11: =VLOOKUP(C11,Moteur!$B$3:$D$100,3,FALSE) -> #VALUE! | E11: ?BV1 | F11: =VLOOKUP(E11,'B.V.'!$B$3:$H$100,4,FALSE) -> 0 | G11: =VLOOKUP(E11,'B.V.'!$B$3:$O$23,2,FALSE) -> ?B1 | H11: =VLOOKUP(G11,Butée!$B$3:$G$100,3,FALSE) -> #VALUE! | I11: 412 | J11: =VLOOKUP(I11,Robot!$B$3:$G$100,3,FALSE) -> 2.625 | K11: 41 | L11: =VLOOKUP(K11,Piston!$B$3:$G$100,3,FALSE) -> #VALUE! | M11: =VLOOKUP(Q11,Table225684[[Voiture]:[État]],2,FALSE) -> #N/A | N11: =VLOOKUP(M11,Table225684[[Référence Cardan Gauche2]:[État]],2,FALSE) -> #N/A | O11: =VLOOKUP(Q11,Table225684[[Voiture2]:[État2]],2,FALSE) -> #N/A | P11: =VLOOKUP(O11,Cardan!I11:M108,2,FALSE) -> #N/A | Q11: =B11 -> #383
B12: # | D12: =VLOOKUP(C12,Moteur!$B$3:$D$100,3,FALSE) -> #N/A | F12: =VLOOKUP(E12,'B.V.'!$B$3:$H$100,4,FALSE) -> #N/A | G12: =VLOOKUP(E12,'B.V.'!$B$3:$O$23,2,FALSE) -> #N/A | H12: =VLOOKUP(G12,Butée!$B$3:$G$100,3,FALSE) -> #N/A | J12: =VLOOKUP(I12,Robot!$B$3:$G$100,3,FALSE) -> #N/A | L12: =VLOOKUP(K12,Piston!$B$3:$G$100,3,FALSE) -> #N/A | M12: =VLOOKUP(Q12,Table225684[[Voiture]:[État]],2,FALSE) -> #N/A | N12: =VLOOKUP(M12,Table225684[[Référence Cardan Gauche2]:[État]],2,FALSE) -> #N/A | O12: =VLOOKUP(Q12,Table225684[[Voiture2]:[État2]],2,FALSE) -> #N/A | P12: =VLOOKUP(O12,Cardan!I12:M109,2,FALSE) -> #N/A | Q12: =B12 -> #
B13: # | D13: =VLOOKUP(C13,Moteur!$B$3:$D$100,3,FALSE) -> #N/A | F13: =VLOOKUP(E13,'B.V.'!$B$3:$H$100,4,FALSE) -> #N/A | G13: =VLOOKUP(E13,'B.V.'!$B$3:$O$23,2,FALSE) -> #N/A | H13: =VLOOKUP(G13,Butée!$B$3:$G$100,3,FALSE) -> #N/A | J13: =VLOOKUP(I13,Robot!$B$3:$G$100,3,FALSE) -> #N/A | L13: =VLOOKUP(K13,Piston!$B$3:$G$100,3,FALSE) -> #N/A | M13: =VLOOKUP(Q13,Table225684[[Voiture]:[État]],2,FALSE) -> #N/A | N13: =VLOOKUP(M13,Table225684[[Référence Cardan Gauche2]:[État]],2,FALSE) -> #N/A | O13: =VLOOKUP(Q13,Table225684[[Voiture2]:[État2]],2,FALSE) -> #N/A | P13: =VLOOKUP(O13,Cardan!I13:M110,2,FALSE) -> #N/A | Q13: =B13 -> #
B14: # | D14: =VLOOKUP(C14,Moteur!$B$3:$D$100,3,FALSE) -> #N/A | F14: =VLOOKUP(E14,'B.V.'!$B$3:$H$100,4,FALSE) -> #N/A | G14: =VLOOKUP(E14,'B.V.'!$B$3:$O$23,2,FALSE) -> #N/A | H14: =VLOOKUP(G14,Butée!$B$3:$G$100,3,FALSE) -> #N/A | J14: =VLOOKUP(I14,Robot!$B$3:$G$100,3,FALSE) -> #N/A | L14: =VLOOKUP(K14,Piston!$B$3:$G$100,3,FALSE) -> #N/A | M14: =VLOOKUP(Q14,Table225684[[Voiture]:[État]],2,FALSE) -> #N/A | N14: =VLOOKUP(M14,Table225684[[Référence Cardan Gauche2]:[État]],2,FALSE) -> #N/A | O14: =VLOOKUP(Q14,Table225684[[Voiture2]:[État2]],2,FALSE) -> #N/A | P14: =VLOOKUP(O14,Cardan!I14:M111,2,FALSE) -> #N/A | Q14: =B14 -> #
B15: # | D15: =VLOOKUP(C15,Moteur!$B$3:$D$100,3,FALSE) -> #N/A | F15: =VLOOKUP(E15,'B.V.'!$B$3:$H$100,4,FALSE) -> #N/A | G15: =VLOOKUP(E15,'B.V.'!$B$3:$O$23,2,FALSE) -> #N/A | H15: =VLOOKUP(G15,Butée!$B$3:$G$100,3,FALSE) -> #N/A | J15: =VLOOKUP(I15,Robot!$B$3:$G$100,3,FALSE) -> #N/A | L15: =VLOOKUP(K15,Piston!$B$3:$G$100,3,FALSE) -> #N/A | M15: =VLOOKUP(Q15,Table225684[[Voiture]:[État]],2,FALSE) -> #N/A | N15: =VLOOKUP(M15,Table225684[[Référence Cardan Gauche2]:[État]],2,FALSE) -> #N/A | O15: =VLOOKUP(Q15,Table225684[[Voiture2]:[État2]],2,FALSE) -> #N/A | P15: =VLOOKUP(O15,Cardan!I15:M112,2,FALSE) -> #N/A | Q15: =B15 -> #
B16: # | D16: =VLOOKUP(C16,Moteur!$B$3:$D$100,3,FALSE) -> #N/A | F16: =VLOOKUP(E16,'B.V.'!$B$3:$H$100,4,FALSE) -> #N/A | G16: =VLOOKUP(E16,'B.V.'!$B$3:$O$23,2,FALSE) -> #N/A | H16: =VLOOKUP(G16,Butée!$B$3:$G$100,3,FALSE) -> #N/A | J16: =VLOOKUP(I16,Robot!$B$3:$G$100,3,FALSE) -> #N/A | L16: =VLOOKUP(K16,Piston!$B$3:$G$100,3,FALSE) -> #N/A | M16: =VLOOKUP(Q16,Table225684[[Voiture]:[État]],2,FALSE) -> #N/A | N16: =VLOOKUP(M16,Table225684[[Référence Cardan Gauche2]:[État]],2,FALSE) -> #N/A | O16: =VLOOKUP(Q16,Table225684[[Voiture2]:[État2]],2,FALSE) -> #N/A | P16: =VLOOKUP(O16,Cardan!I16:M113,2,FALSE) -> #N/A | Q16: =B16 -> #
B17: # | D17: =VLOOKUP(C17,Moteur!$B$3:$D$100,3,FALSE) -> #N/A | F17: =VLOOKUP(E17,'B.V.'!$B$3:$H$100,4,FALSE) -> #N/A | G17: =VLOOKUP(E17,'B.V.'!$B$3:$O$23,2,FALSE) -> #N/A | H17: =VLOOKUP(G17,Butée!$B$3:$G$100,3,FALSE) -> #N/A | J17: =VLOOKUP(I17,Robot!$B$3:$G$100,3,FALSE) -> #N/A | L17: =VLOOKUP(K17,Piston!$B$3:$G$100,3,FALSE) -> #N/A | M17: =VLOOKUP(Q17,Table225684[[Voiture]:[État]],2,FALSE) -> #N/A | N17: =VLOOKUP(M17,Table225684[[Référence Cardan Gauche2]:[État]],2,FALSE) -> #N/A | O17: =VLOOKUP(Q17,Table225684[[Voiture2]:[État2]],2,FALSE) -> #N/A | P17: =VLOOKUP(O17,Cardan!I17:M114,2,FALSE) -> #N/A | Q17: =B17 -> #
B18: # | D18: =VLOOKUP(C18,Moteur!$B$3:$D$100,3,FALSE) -> #N/A | F18: =VLOOKUP(E18,'B.V.'!$B$3:$H$100,4,FALSE) -> #N/A | G18: =VLOOKUP(E18,'B.V.'!$B$3:$O$23,2,FALSE) -> #N/A | H18: =VLOOKUP(G18,Butée!$B$3:$G$100,3,FALSE) -> #N/A | J18: =VLOOKUP(I18,Robot!$B$3:$G$100,3,FALSE) -> #N/A | L18: =VLOOKUP(K18,Piston!$B$3:$G$100,3,FALSE) -> #N/A | M18: =VLOOKUP(Q18,Table225684[[Voiture]:[État]],2,FALSE) -> #N/A | N18: =VLOOKUP(M18,Table225684[[Référence Cardan Gauche2]:[État]],2,FALSE) -> #N/A | O18: =VLOOKUP(Q18,Table225684[[Voiture2]:[État2]],2,FALSE) -> #N/A | P18: =VLOOKUP(O18,Cardan!I18:M115,2,FALSE) -> #N/A | Q18: =B18 -> #
B19: # | D19: =VLOOKUP(C19,Moteur!$B$3:$D$100,3,FALSE) -> #N/A | F19: =VLOOKUP(E19,'B.V.'!$B$3:$H$100,4,FALSE) -> #N/A | G19: =VLOOKUP(E19,'B.V.'!$B$3:$O$23,2,FALSE) -> #N/A | H19: =VLOOKUP(G19,Butée!$B$3:$G$100,3,FALSE) -> #N/A | J19: =VLOOKUP(I19,Robot!$B$3:$G$100,3,FALSE) -> #N/A | L19: =VLOOKUP(K19,Piston!$B$3:$G$100,3,FALSE) -> #N/A | M19: =VLOOKUP(Q19,Table225684[[Voiture]:[État]],2,FALSE) -> #N/A | N19: =VLOOKUP(M19,Table225684[[Référence Cardan Gauche2]:[État]],2,FALSE) -> #N/A | O19: =VLOOKUP(Q19,Table225684[[Voiture2]:[État2]],2,FALSE) -> #N/A | P19: =VLOOKUP(O19,Cardan!I19:M116,2,FALSE) -> #N/A | Q19: =B19 -> #
B20: # | D20: =VLOOKUP(C20,Moteur!$B$3:$D$100,3,FALSE) -> #N/A | F20: =VLOOKUP(E20,'B.V.'!$B$3:$H$100,4,FALSE) -> #N/A | G20: =VLOOKUP(E20,'B.V.'!$B$3:$O$23,2,FALSE) -> #N/A | H20: =VLOOKUP(G20,Butée!$B$3:$G$100,3,FALSE) -> #N/A | J20: =VLOOKUP(I20,Robot!$B$3:$G$100,3,FALSE) -> #N/A | L20: =VLOOKUP(K20,Piston!$B$3:$G$100,3,FALSE) -> #N/A | M20: =VLOOKUP(Q20,Table225684[[Voiture]:[État]],2,FALSE) -> #N/A | N20: =VLOOKUP(M20,Table225684[[Référence Cardan Gauche2]:[État]],2,FALSE) -> #N/A | O20: =VLOOKUP(Q20,Table225684[[Voiture2]:[État2]],2,FALSE) -> #N/A | P20: =VLOOKUP(O20,Cardan!I20:M117,2,FALSE) -> #N/A | Q20: =B20 -> #
B21: # | D21: =VLOOKUP(C21,Moteur!$B$3:$D$100,3,FALSE) -> #N/A | F21: =VLOOKUP(E21,'B.V.'!$B$3:$H$100,4,FALSE) -> #N/A | G21: =VLOOKUP(E21,'B.V.'!$B$3:$O$23,2,FALSE) -> #N/A | H21: =VLOOKUP(G21,Butée!$B$3:$G$100,3,FALSE) -> #N/A | J21: =VLOOKUP(I21,Robot!$B$3:$G$100,3,FALSE) -> #N/A | L21: =VLOOKUP(K21,Piston!$B$3:$G$100,3,FALSE) -> #N/A | M21: =VLOOKUP(Q21,Table225684[[Voiture]:[État]],2,FALSE) -> #N/A | N21: =VLOOKUP(M21,Table225684[[Référence Cardan Gauche2]:[État]],2,FALSE) -> #N/A | O21: =VLOOKUP(Q21,Table225684[[Voiture2]:[État2]],2,FALSE) -> #N/A | P21: =VLOOKUP(O21,Cardan!I21:M118,2,FALSE) -> #N/A | Q21: =B21 -> #
B22: # | D22: =VLOOKUP(C22,Moteur!$B$3:$D$100,3,FALSE) -> #N/A | F22: =VLOOKUP(E22,'B.V.'!$B$3:$H$100,4,FALSE) -> #N/A | G22: =VLOOKUP(E22,'B.V.'!$B$3:$O$23,2,FALSE) -> #N/A | H22: =VLOOKUP(G22,Butée!$B$3:$G$100,3,FALSE) -> #N/A | J22: =VLOOKUP(I22,Robot!$B$3:$G$100,3,FALSE) -> #N/A | L22: =VLOOKUP(K22,Piston!$B$3:$G$100,3,FALSE) -> #N/A | M22: =VLOOKUP(Q22,Table225684[[Voiture]:[État]],2,FALSE) -> #N/A | N22: =VLOOKUP(M22,Table225684[[Référence Cardan Gauche2]:[État]],2,FALSE) -> #N/A | O22: =VLOOKUP(Q22,Table225684[[Voiture2]:[État2]],2,FALSE) -> #N/A | P22: =VLOOKUP(O22,Cardan!I22:M119,2,FALSE) -> #N/A | Q22: =B22 -> #
B23: # | D23: =VLOOKUP(C23,Moteur!$B$3:$D$100,3,FALSE) -> #N/A | F23: =VLOOKUP(E23,'B.V.'!$B$3:$H$100,4,FALSE) -> #N/A | G23: =VLOOKUP(E23,'B.V.'!$B$3:$O$23,2,FALSE) -> #N/A | H23: =VLOOKUP(G23,Butée!$B$3:$G$100,3,FALSE) -> #N/A | J23: =VLOOKUP(I23,Robot!$B$3:$G$100,3,FALSE) -> #N/A | L23: =VLOOKUP(K23,Piston!$B$3:$G$100,3,FALSE) -> #N/A | M23: =VLOOKUP(Q23,Table225684[[Voiture]:[État]],2,FALSE) -> #N/A | N23: =VLOOKUP(M23,Table225684[[Référence Cardan Gauche2]:[État]],2,FALSE) -> #N/A | O23: =VLOOKUP(Q23,Table225684[[Voiture2]:[État2]],2,FALSE) -> #N/A | P23: =VLOOKUP(O23,Cardan!I23:M120,2,FALSE) -> #N/A | Q23: =B23 -> #

Sheet Roulage
B1: 2023 | H1: =B1+1 -> 2024 | P1: =H1+1 -> 2025 | W1: =P1+1 -> 2026 | AD1: =W1+1 -> 2027 | AK1: =AD1+1 -> 2028 | AR1: =AK1+1 -> 2029 | AY1: =AR1+1 -> 2030 | BF1: =AY1+1 -> 2031 | BM1: =BF1+1 -> 2032 | BT1: =BM1+1 -> 2033 | CA1: =BT1+1 -> 2034 | CH1: =CA1+1 -> 2035
B2: #04_Charade | C2: #05_Spa24H | D2: Track Day Mettet | E2: #06_AnneauDuRhin | F2: #07_Zolder | G2: Recap | H2: #01_ | I2: #02_ | J2: #03_ | K2: #04_ | L2: #05_ | M2: #06_ | N2: #07_ | O2: Recap2 | P2: # | Q2: #2 | R2: #3 | S2: #4 | T2: #5 | U2: #6 | V2: Recap3 | W2: #8 | X2: #10 | Y2: #11 | Z2: #12 | AA2: #13 | AB2: #14 | AC2: Recap4 | AD2: #17 | AE2: #18 | AF2: #19 | AG2: #20 | AH2: #21 | AI2: #22 | AJ2: Recap5 | AK2: #25 | AL2: #26 | AM2: #27 | AN2: #28 | AO2: #29 | AP2: #30 | AQ2: Recap6 | AR2: #33 | AS2: #34 | AT2: #35 | AU2: #36 | AV2: #37 | AW2: #38 | AX2: Recap7 | AY2: #41 | AZ2: #42 | BA2: #43 | BB2: #44 | BC2: #45 | BD2: #46 | BE2: Recap8 | BF2: #49 | BG2: #50 | BH2: #51 | BI2: #52 | BJ2: #53 | BK2: #54 | BL2: Recap13 | BM2: #57 | BN2: #58 | BO2: #59 | BP2: #60 | BQ2: #61 | BR2: #62 | BS2: Recap9 | BT2: #65 | BU2: #66 | BV2: #67 | BW2: #68 | BX2: #69 | BY2: #70 | BZ2: Recap10 | CA2: #73 | CB2: #74 | CC2: #75 | CD2: #76 | CE2: #77 | CF2: #78 | CG2: Recap11 | CH2: #81 | CI2: #82 | CJ2: #83 | CK2: #84 | CL2: #85 | CM2: #86 | CN2: Recap12
A3: #60 | B3: 0.41666667 | G3: =SUM(Table8[[#This Row],['#04_Charade]:['#07_Zolder]]) -> 0.41666667 | O3: =SUM(Table8[[#This Row],['#01_]:['#07_]]) -> 0 | V3: =SUM(Table8[[#This Row],['#]:['#6]]) -> 0 | AC3: =SUM(Table8[[#This Row],['#8]:['#14]]) -> 0 | AJ3: =SUM(Table8[[#This Row],['#17]:['#22]]) -> 0 | AQ3: =SUM(Table8[[#This Row],['#25]:['#30]]) -> 0 | AX3: =SUM(Table8[[#This Row],['#33]:['#38]]) -> 0 | BE3: =SUM(Table8[[#This Row],['#41]:['#46]]) -> 0 | BL3: =SUM(Table8[[#This Row],['#49]:['#54]]) -> 0 | BS3: =SUM(Table8[[#This Row],['#57]:['#62]]) -> 0 | BZ3: =SUM(Table8[[#This Row],['#65]:['#70]]) -> 0 | CG3: =SUM(Table8[[#This Row],['#73]:['#78]]) -> 0 | CN3: =SUM(Table8[[#This Row],['#81]:['#86]]) -> 0
A4: #260 | B4: 0.41666667 | G4: =SUM(Table8[[#This Row],['#04_Charade]:['#07_Zolder]]) -> 0.41666667 | O4: =SUM(Table8[[#This Row],['#01_]:['#07_]]) -> 0 | V4: =SUM(Table8[[#This Row],['#]:['#6]]) -> 0 | AC4: =SUM(Table8[[#This Row],['#8]:['#14]]) -> 0 | AJ4: =SUM(Table8[[#This Row],['#17]:['#22]]) -> 0 | AQ4: =SUM(Table8[[#This Row],['#25]:['#30]]) -> 0 | AX4: =SUM(Table8[[#This Row],['#33]:['#38]]) -> 0 | BE4: =SUM(Table8[[#This Row],['#41]:['#46]]) -> 0 | BL4: =SUM(Table8[[#This Row],['#49]:['#54]]) -> 0 | BS4: =SUM(Table8[[#This Row],['#57]:['#62]]) -> 0 | BZ4: =SUM(Table8[[#This Row],['#65]:['#70]]) -> 0 | CG4: =SUM(Table8[[#This Row],['#73]:['#78]]) -> 0 | CN4: =SUM(Table8[[#This Row],['#81]:['#86]]) -> 0
A5: #274 | G5: =SUM(Table8[[#This Row],['#04_Charade]:['#07_Zolder]]) -> 0 | O5: =SUM(Table8[[#This Row],['#01_]:['#07_]]) -> 0 | V5: =SUM(Table8[[#This Row],['#]:['#6]]) -> 0 | AC5: =SUM(Table8[[#This Row],['#8]:['#14]]) -> 0 | AJ5: =SUM(Table8[[#This Row],['#17]:['#22]]) -> 0 | AQ5: =SUM(Table8[[#This Row],['#25]:['#30]]) -> 0 | AX5: =SUM(Table8[[#This Row],['#33]:['#38]]) -> 0 | BE5: =SUM(Table8[[#This Row],['#41]:['#46]]) -> 0 | BL5: =SUM(Table8[[#This Row],['#49]:['#54]]) -> 0 | BS5: =SUM(Table8[[#This Row],['#57]:['#62]]) -> 0 | BZ5: =SUM(Table8[[#This Row],['#65]:['#70]]) -> 0 | CG5: =SUM(Table8[[#This Row],['#73]:['#78]]) -> 0 | CN5: =SUM(Table8[[#This Row],['#81]:['#86]]) -> 0
A6: #290 | G6: =SUM(Table8[[#This Row],['#04_Charade]:['#07_Zolder]]) -> 0 | O6: =SUM(Table8[[#This Row],['#01_]:['#07_]]) -> 0 | V6: =SUM(Table8[[#This Row],['#]:['#6]]) -> 0 | AC6: =SUM(Table8[[#This Row],['#8]:['#14]]) -> 0 | AJ6: =SUM(Table8[[#This Row],['#17]:['#22]]) -> 0 | AQ6: =SUM(Table8[[#This Row],['#25]:['#30]]) -> 0 | AX6: =SUM(Table8[[#This Row],['#33]:['#38]]) -> 0 | BE6: =SUM(Table8[[#This Row],['#41]:['#46]]) -> 0 | BL6: =SUM(Table8[[#This Row],['#49]:['#54]]) -> 0 | BS6: =SUM(Table8[[#This Row],['#57]:['#62]]) -> 0 | BZ6: =SUM(Table8[[#This Row],['#65]:['#70]]) -> 0 | CG6: =SUM(Table8[[#This Row],['#73]:['#78]]) -> 0 | CN6: =SUM(Table8[[#This Row],['#81]:['#86]]) -> 0
A7: #292 | B7: 0.41666667 | G7: =SUM(Table8[[#This Row],['#04_Charade]:['#07_Zolder]]) -> 0.41666667 | O7: =SUM(Table8[[#This Row],['#01_]:['#07_]]) -> 0 | V7: =SUM(Table8[[#This Row],['#]:['#6]]) -> 0 | AC7: =SUM(Table8[[#This Row],['#8]:['#14]]) -> 0 | AJ7: =SUM(Table8[[#This Row],['#17]:['#22]]) -> 0 | AQ7: =SUM(Table8[[#This Row],['#25]:['#30]]) -> 0 | AX7: =SUM(Table8[[#This Row],['#33]:['#38]]) -> 0 | BE7: =SUM(Table8[[#This Row],['#41]:['#46]]) -> 0 | BL7: =SUM(Table8[[#This Row],['#49]:['#54]]) -> 0 | BS7: =SUM(Table8[[#This Row],['#57]:['#62]]) -> 0 | BZ7: =SUM(Table8[[#This Row],['#65]:['#70]]) -> 0 | CG7: =SUM(Table8[[#This Row],['#73]:['#78]]) -> 0 | CN7: =SUM(Table8[[#This Row],['#81]:['#86]]) -> 0
A8: #315 | G8: =SUM(Table8[[#This Row],['#04_Charade]:['#07_Zolder]]) -> 0 | O8: =SUM(Table8[[#This Row],['#01_]:['#07_]]) -> 0 | V8: =SUM(Table8[[#This Row],['#]:['#6]]) -> 0 | AC8: =SUM(Table8[[#This Row],['#8]:['#14]]) -> 0 | AJ8: =SUM(Table8[[#This Row],['#17]:['#22]]) -> 0 | AQ8: =SUM(Table8[[#This Row],['#25]:['#30]]) -> 0 | AX8: =SUM(Table8[[#This Row],['#33]:['#38]]) -> 0 | BE8: =SUM(Table8[[#This Row],['#41]:['#46]]) -> 0 | BL8: =SUM(Table8[[#This Row],['#49]:['#54]]) -> 0 | BS8: =SUM(Table8[[#This Row],['#57]:['#62]]) -> 0 | BZ8: =SUM(Table8[[#This Row],['#65]:['#70]]) -> 0 | CG8: =SUM(Table8[[#This Row],['#73]:['#78]]) -> 0 | CN8: =SUM(Table8[[#This Row],['#81]:['#86]]) -> 0
A9: #365 | G9: =SUM(Table8[[#This Row],['#04_Charade]:['#07_Zolder]]) -> 0 | O9: =SUM(Table8[[#This Row],['#01_]:['#07_]]) -> 0 | V9: =SUM(Table8[[#This Row],['#]:['#6]]) -> 0 | AC9: =SUM(Table8[[#This Row],['#8]:['#14]]) -> 0 | AJ9: =SUM(Table8[[#This Row],['#17]:['#22]]) -> 0 | AQ9: =SUM(Table8[[#This Row],['#25]:['#30]]) -> 0 | AX9: =SUM(Table8[[#This Row],['#33]:['#38]]) -> 0 | BE9: =SUM(Table8[[#This Row],['#41]:['#46]]) -> 0 | BL9: =SUM(Table8[[#This Row],['#49]:['#54]]) -> 0 | BS9: =SUM(Table8[[#This Row],['#57]:['#62]]) -> 0 | BZ9: =SUM(Table8[[#This Row],['#65]:['#70]]) -> 0 | CG9: =SUM(Table8[[#This Row],['#73]:['#78]]) -> 0 | CN9: =SUM(Table8[[#This Row],['#81]:['#86]]) -> 0
A10: #371 | G10: =SUM(Table8[[#This Row],['#04_Charade]:['#07_Zolder]]) -> 0 | O10: =SUM(Table8[[#This Row],['#01_]:['#07_]]) -> 0 | V10: =SUM(Table8[[#This Row],['#]:['#6]]) -> 0 | AC10: =SUM(Table8[[#This Row],['#8]:['#14]]) -> 0 | AJ10: =SUM(Table8[[#This Row],['#17]:['#22]]) -> 0 | AQ10: =SUM(Table8[[#This Row],['#25]:['#30]]) -> 0 | AX10: =SUM(Table8[[#This Row],['#33]:['#38]]) -> 0 | BE10: =SUM(Table8[[#This Row],['#41]:['#46]]) -> 0 | BL10: =SUM(Table8[[#This Row],['#49]:['#54]]) -> 0 | BS10: =SUM(Table8[[#This Row],['#57]:['#62]]) -> 0 | BZ10: =SUM(Table8[[#This Row],['#65]:['#70]]) -> 0 | CG10: =SUM(Table8[[#This Row],['#73]:['#78]]) -> 0 | CN10: =SUM(Table8[[#This Row],['#81]:['#86]]) -> 0
A11: #383 | G11: =SUM(Table8[[#This Row],['#04_Charade]:['#07_Zolder]]) -> 0 | O11: =SUM(Table8[[#This Row],['#01_]:['#07_]]) -> 0 | V11: =SUM(Table8[[#This Row],['#]:['#6]]) -> 0 | AC11: =SUM(Table8[[#This Row],['#8]:['#14]]) -> 0 | AJ11: =SUM(Table8[[#This Row],['#17]:['#22]]) -> 0 | AQ11: =SUM(Table8[[#This Row],['#25]:['#30]]) -> 0 | AX11: =SUM(Table8[[#This Row],['#33]:['#38]]) -> 0 | BE11: =SUM(Table8[[#This Row],['#41]:['#46]]) -> 0 | BL11: =SUM(Table8[[#This Row],['#49]:['#54]]) -> 0 | BS11: =SUM(Table8[[#This Row],['#57]:['#62]]) -> 0 | BZ11: =SUM(Table8[[#This Row],['#65]:['#70]]) -> 0 | CG11: =SUM(Table8[[#This Row],['#73]:['#78]]) -> 0 | CN11: =SUM(Table8[[#This Row],['#81]:['#86]]) -> 0
A12: =Mileage!B12 -> # | G12: =SUM(Table8[[#This Row],['#04_Charade]:['#07_Zolder]]) -> 0 | O12: =SUM(Table8[[#This Row],['#01_]:['#07_]]) -> 0 | V12: =SUM(Table8[[#This Row],['#]:['#6]]) -> 0 | AC12: =SUM(Table8[[#This Row],['#8]:['#14]]) -> 0 | AJ12: =SUM(Table8[[#This Row],['#17]:['#22]]) -> 0 | AQ12: =SUM(Table8[[#This Row],['#25]:['#30]]) -> 0 | AX12: =SUM(Table8[[#This Row],['#33]:['#38]]) -> 0 | BE12: =SUM(Table8[[#This Row],['#41]:['#46]]) -> 0 | BL12: =SUM(Table8[[#This Row],['#49]:['#54]]) -> 0 | BS12: =SUM(Table8[[#This Row],['#57]:['#62]]) -> 0 | BZ12: =SUM(Table8[[#This Row],['#65]:['#70]]) -> 0 | CG12: =SUM(Table8[[#This Row],['#73]:['#78]]) -> 0 | CN12: =SUM(Table8[[#This Row],['#81]:['#86]]) -> 0
A13: =Mileage!B13 -> # | G13: =SUM(Table8[[#This Row],['#04_Charade]:['#07_Zolder]]) -> 0 | O13: =SUM(Table8[[#This Row],['#01_]:['#07_]]) -> 0 | V13: =SUM(Table8[[#This Row],['#]:['#6]]) -> 0 | AC13: =SUM(Table8[[#This Row],['#8]:['#14]]) -> 0 | AJ13: =SUM(Table8[[#This Row],['#17]:['#22]]) -> 0 | AQ13: =SUM(Table8[[#This Row],['#25]:['#30]]) -> 0 | AX13: =SUM(Table8[[#This Row],['#33]:['#38]]) -> 0 | BE13: =SUM(Table8[[#This Row],['#41]:['#46]]) -> 0 | BL13: =SUM(Table8[[#This Row],['#49]:['#54]]) -> 0 | BS13: =SUM(Table8[[#This Row],['#57]:['#62]]) -> 0 | BZ13: =SUM(Table8[[#This Row],['#65]:['#70]]) -> 0 | CG13: =SUM(Table8[[#This Row],['#73]:['#78]]) -> 0 | CN13: =SUM(Table8[[#This Row],['#81]:['#86]]) -> 0
A14: =Mileage!B14 -> # | G14: =SUM(Table8[[#This Row],['#04_Charade]:['#07_Zolder]]) -> 0 | O14: =SUM(Table8[[#This Row],['#01_]:['#07_]]) -> 0 | V14: =SUM(Table8[[#This Row],['#]:['#6]]) -> 0 | AC14: =SUM(Table8[[#This Row],['#8]:['#14]]) -> 0 | AJ14: =SUM(Table8[[#This Row],['#17]:['#22]]) -> 0 | AQ14: =SUM(Table8[[#This Row],['#25]:['#30]]) -> 0 | AX14: =SUM(Table8[[#This Row],['#33]:['#38]]) -> 0 | BE14: =SUM(Table8[[#This Row],['#41]:['#46]]) -> 0 | BL14: =SUM(Table8[[#This Row],['#49]:['#54]]) -> 0 | BS14: =SUM(Table8[[#This Row],['#57]:['#62]]) -> 0 | BZ14: =SUM(Table8[[#This Row],['#65]:['#70]]) -> 0 | CG14: =SUM(Table8[[#This Row],['#73]:['#78]]) -> 0 | CN14: =SUM(Table8[[#This Row],['#81]:['#86]]) -> 0
A15: =Mileage!B15 -> # | G15: =SUM(Table8[[#This Row],['#04_Charade]:['#07_Zolder]]) -> 0 | O15: =SUM(Table8[[#This Row],['#01_]:['#07_]]) -> 0 | V15: =SUM(Table8[[#This Row],['#]:['#6]]) -> 0 | AC15: =SUM(Table8[[#This Row],['#8]:['#14]]) -> 0 | AJ15: =SUM(Table8[[#This Row],['#17]:['#22]]) -> 0 | AQ15: =SUM(Table8[[#This Row],['#25]:['#30]]) -> 0 | AX15: =SUM(Table8[[#This Row],['#33]:['#38]]) -> 0 | BE15: =SUM(Table8[[#This Row],['#41]:['#46]]) -> 0 | BL15: =SUM(Table8[[#This Row],['#49]:['#54]]) -> 0 | BS15: =SUM(Table8[[#This Row],['#57]:['#62]]) -> 0 | BZ15: =SUM(Table8[[#This Row],['#65]:['#70]]) -> 0 | CG15: =SUM(Table8[[#This Row],['#73]:['#78]]) -> 0 | CN15: =SUM(Table8[[#This Row],['#81]:['#86]]) -> 0
A16: =Mileage!B16 -> # | G16: =SUM(Table8[[#This Row],['#04_Charade]:['#07_Zolder]]) -> 0 | O16: =SUM(Table8[[#This Row],['#01_]:['#07_]]) -> 0 | V16: =SUM(Table8[[#This Row],['#]:['#6]]) -> 0 | AC16: =SUM(Table8[[#This Row],['#8]:['#14]]) -> 0 | AJ16: =SUM(Table8[[#This Row],['#17]:['#22]]) -> 0 | AQ16: =SUM(Table8[[#This Row],['#25]:['#30]]) -> 0 | AX16: =SUM(Table8[[#This Row],['#33]:['#38]]) -> 0 | BE16: =SUM(Table8[[#This Row],['#41]:['#46]]) -> 0 | BL16: =SUM(Table8[[#This Row],['#49]:['#54]]) -> 0 | BS16: =SUM(Table8[[#This Row],['#57]:['#62]]) -> 0 | BZ16: =SUM(Table8[[#This Row],['#65]:['#70]]) -> 0 | CG16: =SUM(Table8[[#This Row],['#73]:['#78]]) -> 0 | CN16: =SUM(Table8[[#This Row],['#81]:['#86]]) -> 0
A17: =Mileage!B17 -> # | G17: =SUM(Table8[[#This Row],['#04_Charade]:['#07_Zolder]]) -> 0 | O17: =SUM(Table8[[#This Row],['#01_]:['#07_]]) -> 0 | V17: =SUM(Table8[[#This Row],['#]:['#6]]) -> 0 | AC17: =SUM(Table8[[#This Row],['#8]:['#14]]) -> 0 | AJ17: =SUM(Table8[[#This Row],['#17]:['#22]]) -> 0 | AQ17: =SUM(Table8[[#This Row],['#25]:['#30]]) -> 0 | AX17: =SUM(Table8[[#This Row],['#33]:['#38]]) -> 0 | BE17: =SUM(Table8[[#This Row],['#41]:['#46]]) -> 0 | BL17: =SUM(Table8[[#This Row],['#49]:['#54]]) -> 0 | BS17: =SUM(Table8[[#This Row],['#57]:['#62]]) -> 0 | BZ17: =SUM(Table8[[#This Row],['#65]:['#70]]) -> 0 | CG17: =SUM(Table8[[#This Row],['#73]:['#78]]) -> 0 | CN17: =SUM(Table8[[#This Row],['#81]:['#86]]) -> 0
A18: =Mileage!B18 -> # | G18: =SUM(Table8[[#This Row],['#04_Charade]:['#07_Zolder]]) -> 0 | O18: =SUM(Table8[[#This Row],['#01_]:['#07_]]) -> 0 | V18: =SUM(Table8[[#This Row],['#]:['#6]]) -> 0 | AC18: =SUM(Table8[[#This Row],['#8]:['#14]]) -> 0 | AJ18: =SUM(Table8[[#This Row],['#17]:['#22]]) -> 0 | AQ18: =SUM(Table8[[#This Row],['#25]:['#30]]) -> 0 | AX18: =SUM(Table8[[#This Row],['#33]:['#38]]) -> 0 | BE18: =SUM(Table8[[#This Row],['#41]:['#46]]) -> 0 | BL18: =SUM(Table8[[#This Row],['#49]:['#54]]) -> 0 | BS18: =SUM(Table8[[#This Row],['#57]:['#62]]) -> 0 | BZ18: =SUM(Table8[[#This Row],['#65]:['#70]]) -> 0 | CG18: =SUM(Table8[[#This Row],['#73]:['#78]]) -> 0 | CN18: =SUM(Table8[[#This Row],['#81]:['#86]]) -> 0
A19: =Mileage!B19 -> # | G19: =SUM(Table8[[#This Row],['#04_Charade]:['#07_Zolder]]) -> 0 | O19: =SUM(Table8[[#This Row],['#01_]:['#07_]]) -> 0 | V19: =SUM(Table8[[#This Row],['#]:['#6]]) -> 0 | AC19: =SUM(Table8[[#This Row],['#8]:['#14]]) -> 0 | AJ19: =SUM(Table8[[#This Row],['#17]:['#22]]) -> 0 | AQ19: =SUM(Table8[[#This Row],['#25]:['#30]]) -> 0 | AX19: =SUM(Table8[[#This Row],['#33]:['#38]]) -> 0 | BE19: =SUM(Table8[[#This Row],['#41]:['#46]]) -> 0 | BL19: =SUM(Table8[[#This Row],['#49]:['#54]]) -> 0 | BS19: =SUM(Table8[[#This Row],['#57]:['#62]]) -> 0 | BZ19: =SUM(Table8[[#This Row],['#65]:['#70]]) -> 0 | CG19: =SUM(Table8[[#This Row],['#73]:['#78]]) -> 0 | CN19: =SUM(Table8[[#This Row],['#81]:['#86]]) -> 0
A20: =Mileage!B20 -> # | G20: =SUM(Table8[[#This Row],['#04_Charade]:['#07_Zolder]]) -> 0 | O20: =SUM(Table8[[#This Row],['#01_]:['#07_]]) -> 0 | V20: =SUM(Table8[[#This Row],['#]:['#6]]) -> 0 | AC20: =SUM(Table8[[#This Row],['#8]:['#14]]) -> 0 | AJ20: =SUM(Table8[[#This Row],['#17]:['#22]]) -> 0 | AQ20: =SUM(Table8[[#This Row],['#25]:['#30]]) -> 0 | AX20: =SUM(Table8[[#This Row],['#33]:['#38]]) -> 0 | BE20: =SUM(Table8[[#This Row],['#41]:['#46]]) -> 0 | BL20: =SUM(Table8[[#This Row],['#49]:['#54]]) -> 0 | BS20: =SUM(Table8[[#This Row],['#57]:['#62]]) -> 0 | BZ20: =SUM(Table8[[#This Row],['#65]:['#70]]) -> 0 | CG20: =SUM(Table8[[#This Row],['#73]:['#78]]) -> 0 | CN20: =SUM(Table8[[#This Row],['#81]:['#86]]) -> 0
A21: =Mileage!B21 -> # | G21: =SUM(Table8[[#This Row],['#04_Charade]:['#07_Zolder]]) -> 0 | O21: =SUM(Table8[[#This Row],['#01_]:['#07_]]) -> 0 | V21: =SUM(Table8[[#This Row],['#]:['#6]]) -> 0 | AC21: =SUM(Table8[[#This Row],['#8]:['#14]]) -> 0 | AJ21: =SUM(Table8[[#This Row],['#17]:['#22]]) -> 0 | AQ21: =SUM(Table8[[#This Row],['#25]:['#30]]) -> 0 | AX21: =SUM(Table8[[#This Row],['#33]:['#38]]) -> 0 | BE21: =SUM(Table8[[#This Row],['#41]:['#46]]) -> 0 | BL21: =SUM(Table8[[#This Row],['#49]:['#54]]) -> 0 | BS21: =SUM(Table8[[#This Row],['#57]:['#62]]) -> 0 | BZ21: =SUM(Table8[[#This Row],['#65]:['#70]]) -> 0 | CG21: =SUM(Table8[[#This Row],['#73]:['#78]]) -> 0 | CN21: =SUM(Table8[[#This Row],['#81]:['#86]]) -> 0
A22: =Mileage!B22 -> # | G22: =SUM(Table8[[#This Row],['#04_Charade]:['#07_Zolder]]) -> 0 | O22: =SUM(Table8[[#This Row],['#01_]:['#07_]]) -> 0 | V22: =SUM(Table8[[#This Row],['#]:['#6]]) -> 0 | AC22: =SUM(Table8[[#This Row],['#8]:['#14]]) -> 0 | AJ22: =SUM(Table8[[#This Row],['#17]:['#22]]) -> 0 | AQ22: =SUM(Table8[[#This Row],['#25]:['#30]]) -> 0 | AX22: =SUM(Table8[[#This Row],['#33]:['#38]]) -> 0 | BE22: =SUM(Table8[[#This Row],['#41]:['#46]]) -> 0 | BL22: =SUM(Table8[[#This Row],['#49]:['#54]]) -> 0 | BS22: =SUM(Table8[[#This Row],['#57]:['#62]]) -> 0 | BZ22: =SUM(Table8[[#This Row],['#65]:['#70]]) -> 0 | CG22: =SUM(Table8[[#This Row],['#73]:['#78]]) -> 0 | CN22: =SUM(Table8[[#This Row],['#81]:['#86]]) -> 0
A23: =Mileage!B23 -> # | G23: =SUM(Table8[[#This Row],['#04_Charade]:['#07_Zolder]]) -> 0 | O23: =SUM(Table8[[#This Row],['#01_]:['#07_]]) -> 0 | V23: =SUM(Table8[[#This Row],['#]:['#6]]) -> 0 | AC23: =SUM(Table8[[#This Row],['#8]:['#14]]) -> 0 | AJ23: =SUM(Table8[[#This Row],['#17]:['#22]]) -> 0 | AQ23: =SUM(Table8[[#This Row],['#25]:['#30]]) -> 0 | AX23: =SUM(Table8[[#This Row],['#33]:['#38]]) -> 0 | BE23: =SUM(Table8[[#This Row],['#41]:['#46]]) -> 0 | BL23: =SUM(Table8[[#This Row],['#49]:['#54]]) -> 0 | BS23: =SUM(Table8[[#This Row],['#57]:['#62]]) -> 0 | BZ23: =SUM(Table8[[#This Row],['#65]:['#70]]) -> 0 | CG23: =SUM(Table8[[#This Row],['#73]:['#78]]) -> 0 | CN23: =SUM(Table8[[#This Row],['#81]:['#86]]) -> 0
G24: =SUM(Table8[[#This Row],['#04_Charade]:['#07_Zolder]]) -> 0 | O24: =SUM(Table8[[#This Row],['#01_]:['#07_]]) -> 0 | V24: =SUM(Table8[[#This Row],['#]:['#6]]) -> 0 | AC24: =SUM(Table8[[#This Row],['#8]:['#14]]) -> 0 | AJ24: =SUM(Table8[[#This Row],['#17]:['#22]]) -> 0 | AQ24: =SUM(Table8[[#This Row],['#25]:['#30]]) -> 0 | AX24: =SUM(Table8[[#This Row],['#33]:['#38]]) -> 0 | BE24: =SUM(Table8[[#This Row],['#41]:['#46]]) -> 0 | BL24: =SUM(Table8[[#This Row],['#49]:['#54]]) -> 0 | BS24: =SUM(Table8[[#This Row],['#57]:['#62]]) -> 0 | BZ24: =SUM(Table8[[#This Row],['#65]:['#70]]) -> 0 | CG24: =SUM(Table8[[#This Row],['#73]:['#78]]) -> 0 | CN24: =SUM(Table8[[#This Row],['#81]:['#86]]) -> 0
G25: =SUM(Table8[[#This Row],['#04_Charade]:['#07_Zolder]]) -> 0 | O25: =SUM(Table8[[#This Row],['#01_]:['#07_]]) -> 0 | V25: =SUM(Table8[[#This Row],['#]:['#6]]) -> 0 | AC25: =SUM(Table8[[#This Row],['#8]:['#14]]) -> 0 | AJ25: =SUM(Table8[[#This Row],['#17]:['#22]]) -> 0 | AQ25: =SUM(Table8[[#This Row],['#25]:['#30]]) -> 0 | AX25: =SUM(Table8[[#This Row],['#33]:['#38]]) -> 0 | BE25: =SUM(Table8[[#This Row],['#41]:['#46]]) -> 0 | BL25: =SUM(Table8[[#This Row],['#49]:['#54]]) -> 0 | BS25: =SUM(Table8[[#This Row],['#57]:['#62]]) -> 0 | BZ25: =SUM(Table8[[#This Row],['#65]:['#70]]) -> 0 | CG25: =SUM(Table8[[#This Row],['#73]:['#78]]) -> 0 | CN25: =SUM(Table8[[#This Row],['#81]:['#86]]) -> 0
G26: =SUM(Table8[[#This Row],['#04_Charade]:['#07_Zolder]]) -> 0 | O26: =SUM(Table8[[#This Row],['#01_]:['#07_]]) -> 0 | V26: =SUM(Table8[[#This Row],['#]:['#6]]) -> 0 | AC26: =SUM(Table8[[#This Row],['#8]:['#14]]) -> 0 | AJ26: =SUM(Table8[[#This Row],['#17]:['#22]]) -> 0 | AQ26: =SUM(Table8[[#This Row],['#25]:['#30]]) -> 0 | AX26: =SUM(Table8[[#This Row],['#33]:['#38]]) -> 0 | BE26: =SUM(Table8[[#This Row],['#41]:['#46]]) -> 0 | BL26: =SUM(Table8[[#This Row],['#49]:['#54]]) -> 0 | BS26: =SUM(Table8[[#This Row],['#57]:['#62]]) -> 0 | BZ26: =SUM(Table8[[#This Row],['#65]:['#70]]) -> 0 | CG26: =SUM(Table8[[#This Row],['#73]:['#78]]) -> 0 | CN26: =SUM(Table8[[#This Row],['#81]:['#86]]) -> 0
G27: =SUM(Table8[[#This Row],['#04_Charade]:['#07_Zolder]]) -> 0 | O27: =SUM(Table8[[#This Row],['#01_]:['#07_]]) -> 0 | V27: =SUM(Table8[[#This Row],['#]:['#6]]) -> 0 | AC27: =SUM(Table8[[#This Row],['#8]:['#14]]) -> 0 | AJ27: =SUM(Table8[[#This Row],['#17]:['#22]]) -> 0 | AQ27: =SUM(Table8[[#This Row],['#25]:['#30]]) -> 0 | AX27: =SUM(Table8[[#This Row],['#33]:['#38]]) -> 0 | BE27: =SUM(Table8[[#This Row],['#41]:['#46]]) -> 0 | BL27: =SUM(Table8[[#This Row],['#49]:['#54]]) -> 0 | BS27: =SUM(Table8[[#This Row],['#57]:['#62]]) -> 0 | BZ27: =SUM(Table8[[#This Row],['#65]:['#70]]) -> 0 | CG27: =SUM(Table8[[#This Row],['#73]:['#78]]) -> 0 | CN27: =SUM(Table8[[#This Row],['#81]:['#86]]) -> 0
G28: =SUM(Table8[[#This Row],['#04_Charade]:['#07_Zolder]]) -> 0 | O28: =SUM(Table8[[#This Row],['#01_]:['#07_]]) -> 0 | V28: =SUM(Table8[[#This Row],['#]:['#6]]) -> 0 | AC28: =SUM(Table8[[#This Row],['#8]:['#14]]) -> 0 | AJ28: =SUM(Table8[[#This Row],['#17]:['#22]]) -> 0 | AQ28: =SUM(Table8[[#This Row],['#25]:['#30]]) -> 0 | AX28: =SUM(Table8[[#This Row],['#33]:['#38]]) -> 0 | BE28: =SUM(Table8[[#This Row],['#41]:['#46]]) -> 0 | BL28: =SUM(Table8[[#This Row],['#49]:['#54]]) -> 0 | BS28: =SUM(Table8[[#This Row],['#57]:['#62]]) -> 0 | BZ28: =SUM(Table8[[#This Row],['#65]:['#70]]) -> 0 | CG28: =SUM(Table8[[#This Row],['#73]:['#78]]) -> 0 | CN28: =SUM(Table8[[#This Row],['#81]:['#86]]) -> 0
G29: =SUM(Table8[[#This Row],['#04_Charade]:['#07_Zolder]]) -> 0 | O29: =SUM(Table8[[#This Row],['#01_]:['#07_]]) -> 0 | V29: =SUM(Table8[[#This Row],['#]:['#6]]) -> 0 | AC29: =SUM(Table8[[#This Row],['#8]:['#14]]) -> 0 | AJ29: =SUM(Table8[[#This Row],['#17]:['#22]]) -> 0 | AQ29: =SUM(Table8[[#This Row],['#25]:['#30]]) -> 0 | AX29: =SUM(Table8[[#This Row],['#33]:['#38]]) -> 0 | BE29: =SUM(Table8[[#This Row],['#41]:['#46]]) -> 0 | BL29: =SUM(Table8[[#This Row],['#49]:['#54]]) -> 0 | BS29: =SUM(Table8[[#This Row],['#57]:['#62]]) -> 0 | BZ29: =SUM(Table8[[#This Row],['#65]:['#70]]) -> 0 | CG29: =SUM(Table8[[#This Row],['#73]:['#78]]) -> 0 | CN29: =SUM(Table8[[#This Row],['#81]:['#86]]) -> 0
G30: =SUM(Table8[[#This Row],['#04_Charade]:['#07_Zolder]]) -> 0 | O30: =SUM(Table8[[#This Row],['#01_]:['#07_]]) -> 0 | V30: =SUM(Table8[[#This Row],['#]:['#6]]) -> 0 | AC30: =SUM(Table8[[#This Row],['#8]:['#14]]) -> 0 | AJ30: =SUM(Table8[[#This Row],['#17]:['#22]]) -> 0 | AQ30: =SUM(Table8[[#This Row],['#25]:['#30]]) -> 0 | AX30: =SUM(Table8[[#This Row],['#33]:['#38]]) -> 0 | BE30: =SUM(Table8[[#This Row],['#41]:['#46]]) -> 0 | BL30: =SUM(Table8[[#This Row],['#49]:['#54]]) -> 0 | BS30: =SUM(Table8[[#This Row],['#57]:['#62]]) -> 0 | BZ30: =SUM(Table8[[#This Row],['#65]:['#70]]) -> 0 | CG30: =SUM(Table8[[#This Row],['#73]:['#78]]) -> 0 | CN30: =SUM(Table8[[#This Row],['#81]:['#86]]) -> 0
G31: =SUM(Table8[[#This Row],['#04_Charade]:['#07_Zolder]]) -> 0 | O31: =SUM(Table8[[#This Row],['#01_]:['#07_]]) -> 0 | V31: =SUM(Table8[[#This Row],['#]:['#6]]) -> 0 | AC31: =SUM(Table8[[#This Row],['#8]:['#14]]) -> 0 | AJ31: =SUM(Table8[[#This Row],['#17]:['#22]]) -> 0 | AQ31: =SUM(Table8[[#This Row],['#25]:['#30]]) -> 0 | AX31: =SUM(Table8[[#This Row],['#33]:['#38]]) -> 0 | BE31: =SUM(Table8[[#This Row],['#41]:['#46]]) -> 0 | BL31: =SUM(Table8[[#This Row],['#49]:['#54]]) -> 0 | BS31: =SUM(Table8[[#This Row],['#57]:['#62]]) -> 0 | BZ31: =SUM(Table8[[#This Row],['#65]:['#70]]) -> 0 | CG31: =SUM(Table8[[#This Row],['#73]:['#78]]) -> 0 | CN31: =SUM(Table8[[#This Row],['#81]:['#86]]) -> 0
G32: =SUM(Table8[[#This Row],['#04_Charade]:['#07_Zolder]]) -> 0 | O32: =SUM(Table8[[#This Row],['#01_]:['#07_]]) -> 0 | V32: =SUM(Table8[[#This Row],['#]:['#6]]) -> 0 | AC32: =SUM(Table8[[#This Row],['#8]:['#14]]) -> 0 | AJ32: =SUM(Table8[[#This Row],['#17]:['#22]]) -> 0 | AQ32: =SUM(Table8[[#This Row],['#25]:['#30]]) -> 0 | AX32: =SUM(Table8[[#This Row],['#33]:['#38]]) -> 0 | BE32: =SUM(Table8[[#This Row],['#41]:['#46]]) -> 0 | BL32: =SUM(Table8[[#This Row],['#49]:['#54]]) -> 0 | BS32: =SUM(Table8[[#This Row],['#57]:['#62]]) -> 0 | BZ32: =SUM(Table8[[#This Row],['#65]:['#70]]) -> 0 | CG32: =SUM(Table8[[#This Row],['#73]:['#78]]) -> 0 | CN32: =SUM(Table8[[#This Row],['#81]:['#86]]) -> 0
G33: =SUM(Table8[[#This Row],['#04_Charade]:['#07_Zolder]]) -> 0 | O33: =SUM(Table8[[#This Row],['#01_]:['#07_]]) -> 0 | V33: =SUM(Table8[[#This Row],['#]:['#6]]) -> 0 | AC33: =SUM(Table8[[#This Row],['#8]:['#14]]) -> 0 | AJ33: =SUM(Table8[[#This Row],['#17]:['#22]]) -> 0 | AQ33: =SUM(Table8[[#This Row],['#25]:['#30]]) -> 0 | AX33: =SUM(Table8[[#This Row],['#33]:['#38]]) -> 0 | BE33: =SUM(Table8[[#This Row],['#41]:['#46]]) -> 0 | BL33: =SUM(Table8[[#This Row],['#49]:['#54]]) -> 0 | BS33: =SUM(Table8[[#This Row],['#57]:['#62]]) -> 0 | BZ33: =SUM(Table8[[#This Row],['#65]:['#70]]) -> 0 | CG33: =SUM(Table8[[#This Row],['#73]:['#78]]) -> 0 | CN33: =SUM(Table8[[#This Row],['#81]:['#86]]) -> 0
G34: =SUM(Table8[[#This Row],['#04_Charade]:['#07_Zolder]]) -> 0 | O34: =SUM(Table8[[#This Row],['#01_]:['#07_]]) -> 0 | V34: =SUM(Table8[[#This Row],['#]:['#6]]) -> 0 | AC34: =SUM(Table8[[#This Row],['#8]:['#14]]) -> 0 | AJ34: =SUM(Table8[[#This Row],['#17]:['#22]]) -> 0 | AQ34: =SUM(Table8[[#This Row],['#25]:['#30]]) -> 0 | AX34: =SUM(Table8[[#This Row],['#33]:['#38]]) -> 0 | BE34: =SUM(Table8[[#This Row],['#41]:['#46]]) -> 0 | BL34: =SUM(Table8[[#This Row],['#49]:['#54]]) -> 0 | BS34: =SUM(Table8[[#This Row],['#57]:['#62]]) -> 0 | BZ34: =SUM(Table8[[#This Row],['#65]:['#70]]) -> 0 | CG34: =SUM(Table8[[#This Row],['#73]:['#78]]) -> 0 | CN34: =SUM(Table8[[#This Row],['#81]:['#86]]) -> 0
G35: =SUM(Table8[[#This Row],['#04_Charade]:['#07_Zolder]]) -> 0 | O35: =SUM(Table8[[#This Row],['#01_]:['#07_]]) -> 0 | V35: =SUM(Table8[[#This Row],['#]:['#6]]) -> 0 | AC35: =SUM(Table8[[#This Row],['#8]:['#14]]) -> 0 | AJ35: =SUM(Table8[[#This Row],['#17]:['#22]]) -> 0 | AQ35: =SUM(Table8[[#This Row],['#25]:['#30]]) -> 0 | AX35: =SUM(Table8[[#This Row],['#33]:['#38]]) -> 0 | BE35: =SUM(Table8[[#This Row],['#41]:['#46]]) -> 0 | BL35: =SUM(Table8[[#This Row],['#49]:['#54]]) -> 0 | BS35: =SUM(Table8[[#This Row],['#57]:['#62]]) -> 0 | BZ35: =SUM(Table8[[#This Row],['#65]:['#70]]) -> 0 | CG35: =SUM(Table8[[#This Row],['#73]:['#78]]) -> 0 | CN35: =SUM(Table8[[#This Row],['#81]:['#86]]) -> 0
... G42: =SUM(Table8[[#This Row],['#04_Charade]:['#07_Zolder]]) -> 0 | O42: =SUM(Table8[[#This Row],['#01_]:['#07_]]) -> 0 | V42: =SUM(Table8[[#This Row],['#]:['#6]]) -> 0 | AC42: =SUM(Table8[[#This Row],['#8]:['#14]]) -> 0 | AJ42: =SUM(Table8[[#This Row],['#17]:['#22]]) -> 0 | AQ42: =SUM(Table8[[#This Row],['#25]:['#30]]) -> 0 | AX42: =SUM(Table8[[#This Row],['#33]:['#38]]) -> 0 | BE42: =SUM(Table8[[#This Row],['#41]:['#46]]) -> 0 | BL42: =SUM(Table8[[#This Row],['#49]:['#54]]) -> 0 | BS42: =SUM(Table8[[#This Row],['#57]:['#62]]) -> 0 | BZ42: =SUM(Table8[[#This Row],['#65]:['#70]]) -> 0 | CG42: =SUM(Table8[[#This Row],['#73]:['#78]]) -> 0 | CN42: =SUM(Table8[[#This Row],['#81]:['#86]]) -> 0

Sheet Moteur
C1: Condition de révision = | E1: 10.416667
B2: Référence | C2: Voiture | D2: Heures | E2: Révision | F2: Avancement | G2: État | H2: Commentaire | I2: Column1 | N2: A FAIRE
B3: WRT00077 | C3: =VLOOKUP(B3,Mileage!$C$3:$Q$23,15,FALSE) -> #N/A | D3: =Table2[[#This Row],[Column1]]+SUM(Roulage!B12:BH12) -> 0.125 | E3: =IF(OR(Table2[[#This Row],[Heures]]>$E$1,Table2[[#This Row],[État]]="HS"),"OUI","") | H3: Spare Camion | I3: 0.125 | N3: EN COURS
B4: WRT00027 | C4: =VLOOKUP(B4,Mileage!$C$3:$Q$23,15,FALSE) -> #365 | D4: =Table2[[#This Row],[Column1]]+SUM(Roulage!B8:BH8) -> 1.8756944 | E4: =IF(OR(Table2[[#This Row],[Heures]]>$E$1,Table2[[#This Row],[État]]="HS"),"OUI","") | I4: 1.8756944
B5: WRT000164 | C5: =VLOOKUP(B5,Mileage!$C$3:$Q$23,15,FALSE) -> #N/A | D5: =Table2[[#This Row],[Column1]]+SUM(Roulage!B4:BH4) -> 1.3680556 | E5: =IF(OR(Table2[[#This Row],[Heures]]>$E$1,Table2[[#This Row],[État]]="HS"),"OUI","") -> OUI | F5: A FAIRE | G5: HS | H5: Ex #260 | I5: 0.53472222
B6: WRT000160 | C6: =VLOOKUP(B6,Mileage!$C$3:$Q$23,15,FALSE) -> #315 | D6: =Table2[[#This Row],[Column1]]+SUM(Roulage!B7:BH7) -> 2.8604167 | E6: =IF(OR(Table2[[#This Row],[Heures]]>$E$1,Table2[[#This Row],[État]]="HS"),"OUI","") | I6: 2.0270833 | L6: {=_xlfn.SWITCH(E13>$E$1,"OUI","",IF(G13="HS",OUI,""))}
B7: CTY2 | C7: =VLOOKUP(B7,Mileage!$C$3:$Q$23,15,FALSE) -> #260 | D7: =Table2[[#This Row],[Column1]]+SUM(Roulage!B18:BH18) -> 0.45347222 | E7: =IF(OR(Table2[[#This Row],[Heures]]>$E$1,Table2[[#This Row],[État]]="HS"),"OUI","") | I7: 0.45347222
B8: CTY 01 | C8: =VLOOKUP(B8,Mileage!$C$3:$Q$23,15,FALSE) -> #292 | D8: =Table2[[#This Row],[Column1]]+SUM(Roulage!B17:BH17) -> 0.96041667 | E8: =IF(OR(Table2[[#This Row],[Heures]]>$E$1,Table2[[#This Row],[État]]="HS"),"OUI","") | I8: 0.96041667
B9: CDL WRT00169 | C9: =VLOOKUP(B9,Mileage!$C$3:$Q$23,15,FALSE) -> #383 | D9: =Table2[[#This Row],[Column1]]+SUM(Roulage!B10:BH10) -> #VALUE! | E9: =IF(OR(Table2[[#This Row],[Heures]]>$E$1,Table2[[#This Row],[État]]="HS"),"OUI","") -> #VALUE! | I9: ?
B10: CDL WRT00095 | C10: =VLOOKUP(B10,Mileage!$C$3:$Q$23,15,FALSE) -> #N/A | D10: =Table2[[#This Row],[Column1]]+SUM(Roulage!B15:BH15) -> 1.8229167 | E10: =IF(OR(Table2[[#This Row],[Heures]]>$E$1,Table2[[#This Row],[État]]="HS"),"OUI","") | H10: Moteur Atelier | I10: 1.8229167
B11: CDL WRT00063 | C11: =VLOOKUP(B11,Mileage!$C$3:$Q$23,15,FALSE) -> #N/A | D11: =Table2[[#This Row],[Column1]]+SUM(Roulage!B11:BH11) -> 10.763889 | E11: =IF(OR(Table2[[#This Row],[Heures]]>$E$1,Table2[[#This Row],[État]]="HS"),"OUI","") -> OUI | F11: EN COURS | G11: HS | I11: 10.763889
B12: CDL 107034 | C12: =VLOOKUP(B12,Mileage!$C$3:$Q$23,15,FALSE) -> #60 | D12: =Table2[[#This Row],[Column1]]+SUMIF(Roulage!1:1048576,Roulage!A3,Table8[#This Row]) -> 10.90625 | E12: =IF(OR(Table2[[#This Row],[Heures]]>$E$1,Table2[[#This Row],[État]]="HS"),"OUI","") -> OUI | F12: A FAIRE | I12: 10.90625
B13: CDL 107005 | C13: =VLOOKUP(B13,Mileage!$C$3:$Q$23,15,FALSE) -> #290 | D13: =Table2[[#This Row],[Column1]]+SUM(Roulage!B5:BH5) -> 10.232639 | E13: =IF(OR(Table2[[#This Row],[Heures]]>$E$1,Table2[[#This Row],[État]]="HS"),"OUI","") | I13: 10.232639
B14: CDL 105989 | C14: =VLOOKUP(B14,Mileage!$C$3:$Q$23,15,FALSE) -> #N/A | D14: =Table2[[#This Row],[Column1]]+SUM(Roulage!B14:BH14) -> #VALUE! | E14: =IF(OR(Table2[[#This Row],[Heures]]>$E$1,Table2[[#This Row],[État]]="HS"),"OUI","") -> #VALUE! | H14: Moteur Atelier | I14: ?
B15: CDL 105987 | C15: =VLOOKUP(B15,Mileage!$C$3:$Q$23,15,FALSE) -> #N/A | D15: =Table2[[#This Row],[Column1]]+SUM(Roulage!B16:BH16) -> #VALUE! | E15: =IF(OR(Table2[[#This Row],[Heures]]>$E$1,Table2[[#This Row],[État]]="HS"),"OUI","") -> #VALUE! | H15: Moteur Atelier (#365) | I15: ?
B16: CDL 104329 | C16: =VLOOKUP(B16,Mileage!$C$3:$Q$23,15,FALSE) -> #N/A | D16: =Table2[[#This Row],[Column1]]+SUM(Roulage!B13:BH13) -> 0 | E16: =IF(OR(Table2[[#This Row],[Heures]]>$E$1,Table2[[#This Row],[État]]="HS"),"OUI","") | H16: Moteur Atelier | I16: 0
B17: CDL 104193 | C17: =VLOOKUP(B17,Mileage!$C$3:$Q$23,15,FALSE) -> #N/A | D17: =Table2[[#This Row],[Column1]]+SUM(Roulage!B6:BH6) -> 3.2916667 | E17: =IF(OR(Table2[[#This Row],[Heures]]>$E$1,Table2[[#This Row],[État]]="HS"),"OUI","") | H17: Moteur Atelier | I17: 3.2916667
A18: x | B18: CDL 104191 | C18: =VLOOKUP(B18,Mileage!$C$3:$Q$23,15,FALSE) -> #371 | D18: =Table2[[#This Row],[Column1]]+SUM(Roulage!B9:BH9) -> 4.7638889 | E18: =IF(OR(Table2[[#This Row],[Heures]]>$E$1,Table2[[#This Row],[État]]="HS"),"OUI","") | I18: 4.7638889
B19: / | C19: / | D19: / | E19: / | F19: / | G19: / | H19: / | I19: /
C20: =VLOOKUP(B20,Mileage!$C$3:$Q$23,15,FALSE) -> #N/A | D20: =Table2[[#This Row],[Column1]]+SUM(Roulage!B19:BH19) -> 0 | E20: =IF(OR(Table2[[#This Row],[Heures]]>$E$1,Table2[[#This Row],[État]]="HS"),"OUI","")
C21: =VLOOKUP(B21,Mileage!$C$3:$Q$23,15,FALSE) -> #N/A | D21: =Table2[[#This Row],[Column1]]+SUM(Roulage!B20:BH20) -> 0 | E21: =IF(OR(Table2[[#This Row],[Heures]]>$E$1,Table2[[#This Row],[État]]="HS"),"OUI","")
C22: =VLOOKUP(B22,Mileage!$C$3:$Q$23,15,FALSE) -> #N/A | D22: =Table2[[#This Row],[Column1]]+SUM(Roulage!B21:BH21) -> 0 | E22: =IF(OR(Table2[[#This Row],[Heures]]>$E$1,Table2[[#This Row],[État]]="HS"),"OUI","")
C23: =VLOOKUP(B23,Mileage!$C$3:$Q$23,15,FALSE) -> #N/A | D23: =Table2[[#This Row],[Column1]]+SUM(Roulage!B22:BH22) -> 0 | E23: =IF(OR(Table2[[#This Row],[Heures]]>$E$1,Table2[[#This Row],[État]]="HS"),"OUI","")
C24: =VLOOKUP(B24,Mileage!$C$3:$Q$23,15,FALSE) -> #N/A | D24: =Table2[[#This Row],[Column1]]+SUM(Roulage!B23:BH23) -> 0 | E24: =IF(OR(Table2[[#This Row],[Heures]]>$E$1,Table2[[#This Row],[État]]="HS"),"OUI","")
C25: =VLOOKUP(B25,Mileage!$C$3:$Q$23,15,FALSE) -> #N/A | D25: =Table2[[#This Row],[Column1]]+SUM(Roulage!B24:BH24) -> 0 | E25: =IF(OR(Table2[[#This Row],[Heures]]>$E$1,Table2[[#This Row],[État]]="HS"),"OUI","")
C26: =VLOOKUP(B26,Mileage!$C$3:$Q$23,15,FALSE) -> #N/A | D26: =Table2[[#This Row],[Column1]]+SUM(Roulage!B25:BH25) -> 0 | E26: =IF(OR(Table2[[#This Row],[Heures]]>$E$1,Table2[[#This Row],[État]]="HS"),"OUI","")
C27: =VLOOKUP(B27,Mileage!$C$3:$Q$23,15,FALSE) -> #N/A | D27: =Table2[[#This Row],[Column1]]+SUM(Roulage!B26:BH26) -> 0 | E27: =IF(OR(Table2[[#This Row],[Heures]]>$E$1,Table2[[#This Row],[État]]="HS"),"OUI","")
C28: =VLOOKUP(B28,Mileage!$C$3:$Q$23,15,FALSE) -> #N/A | D28: =Table2[[#This Row],[Column1]]+SUM(Roulage!B27:BH27) -> 0 | E28: =IF(OR(Table2[[#This Row],[Heures]]>$E$1,Table2[[#This Row],[État]]="HS"),"OUI","")
C29: =VLOOKUP(B29,Mileage!$C$3:$Q$23,15,FALSE) -> #N/A | D29: =Table2[[#This Row],[Column1]]+SUM(Roulage!B28:BH28) -> 0 | E29: =IF(OR(Table2[[#This Row],[Heures]]>$E$1,Table2[[#This Row],[État]]="HS"),"OUI","")
C30: =VLOOKUP(B30,Mileage!$C$3:$Q$23,15,FALSE) -> #N/A | D30: =Table2[[#This Row],[Column1]]+SUM(Roulage!B29:BH29) -> 0 | E30: =IF(OR(Table2[[#This Row],[Heures]]>$E$1,Table2[[#This Row],[État]]="HS"),"OUI","")
C31: =VLOOKUP(B31,Mileage!$C$3:$Q$23,15,FALSE) -> #N/A | D31: =Table2[[#This Row],[Column1]]+SUM(Roulage!B30:BH30) -> 0 | E31: =IF(OR(Table2[[#This Row],[Heures]]>$E$1,Table2[[#This Row],[État]]="HS"),"OUI","")
... C100: =VLOOKUP(B100,Mileage!$C$3:$Q$23,15,FALSE) -> #N/A | D100: =Table2[[#This Row],[Column1]]+SUM(Roulage!B99:BH99) -> 0 | E100: =IF(OR(Table2[[#This Row],[Heures]]>$E$1,Table2[[#This Row],[État]]="HS"),"OUI","")

Sheet B.V.
D1: Condition de révision = | F1: 2.9166667
B2: Référence | C2: Référence Butée | D2: Voiture | E2: Heures | F2: Révision | G2: Avancement | H2: État | I2: Commentaire | J2: Column1
B3: 31 | C3: 15022392#004 | D3: =VLOOKUP(B3,Mileage!$E$3:$Q$23,13,FALSE) -> #290 | E3: =Table22[[#This Row],[Column1]]+SUM(Roulage!B12:BH12) -> 0.76041667 | F3: =IF(OR(Table22[[#This Row],[Heures]]>$F$1,Table22[[#This Row],[État]]="HS"),"OUI","") | J3: 0.76041667
B4: 65 | C4: 15016782#022 | D4: =VLOOKUP(B4,Mileage!$E$3:$Q$23,13,FALSE) -> #292 | E4: =Table22[[#This Row],[Column1]]+SUM(Roulage!B6:BH6) -> 2.85625 | F4: =IF(OR(Table22[[#This Row],[Heures]]>$F$1,Table22[[#This Row],[État]]="HS"),"OUI","") | J4: 2.85625
B5: 182 | C5: ?B3 | D5: =VLOOKUP(B5,Mileage!$E$3:$Q$23,13,FALSE) -> #371 | E5: =Table22[[#This Row],[Column1]]+SUM(Roulage!B9:BH9) -> 4.7638889 | F5: =IF(OR(Table22[[#This Row],[Heures]]>$F$1,Table22[[#This Row],[État]]="HS"),"OUI","") -> OUI | G5: A FAIRE | J5: 4.7638889
B6: 222 | C6: 18005457#051 | D6: =VLOOKUP(B6,Mileage!$E$3:$Q$23,13,FALSE) -> #365 | E6: =Table22[[#This Row],[Column1]]+SUM(Roulage!B8:BH8) -> 0.97291667 | F6: =IF(OR(Table22[[#This Row],[Heures]]>$F$1,Table22[[#This Row],[État]]="HS"),"OUI","") | J6: 0.97291667
B7: 243 | C7: 14015365#043 | D7: =VLOOKUP(B7,Mileage!$E$3:$Q$23,13,FALSE) -> #N/A | E7: =Table22[[#This Row],[Column1]]+SUM(Roulage!B11:BH11) -> 0 | F7: =IF(OR(Table22[[#This Row],[Heures]]>$F$1,Table22[[#This Row],[État]]="HS"),"OUI","") | J7: 0
B8: 244 | C8: ?B2 | D8: =VLOOKUP(B8,Mileage!$E$3:$Q$23,13,FALSE) -> #260 | E8: =Table22[[#This Row],[Column1]]+SUM(Roulage!B10:BH10) -> 1.2868056 | F8: =IF(OR(Table22[[#This Row],[Heures]]>$F$1,Table22[[#This Row],[État]]="HS"),"OUI","") | J8: 1.2868056
B9: 259 | C9: 180055457#062 | D9: =VLOOKUP(B9,Mileage!$E$3:$Q$23,13,FALSE) -> #60 | E9: =Table22[[#This Row],[Column1]]+SUM(Roulage!B3:BH3) -> 4.03125 | F9: =IF(OR(Table22[[#This Row],[Heures]]>$F$1,Table22[[#This Row],[État]]="HS"),"OUI","") -> OUI | G9: A FAIRE | J9: 3.1979167
B10: 355 | C10: 180055457#043 | D10: =VLOOKUP(B10,Mileage!$E$3:$Q$23,13,FALSE) -> #N/A | E10: =Table22[[#This Row],[Column1]]+SUM(Roulage!B4:BH4) -> 0.83333333 | F10: =IF(OR(Table22[[#This Row],[Heures]]>$F$1,Table22[[#This Row],[État]]="HS"),"OUI","") | J10: 0
B11: 203228 | C11: 19010529#012 | D11: =VLOOKUP(B11,Mileage!$E$3:$Q$23,13,FALSE) -> #315 | E11: =Table22[[#This Row],[Column1]]+SUM(Roulage!B7:BH7) -> 2.8604167 | F11: =IF(OR(Table22[[#This Row],[Heures]]>$F$1,Table22[[#This Row],[État]]="HS"),"OUI","") | J11: 2.0270833
B12: 221303 | C12: 18005457#012 | D12: =VLOOKUP(B12,Mileage!$E$3:$Q$23,13,FALSE) -> #N/A | E12: =Table22[[#This Row],[Column1]]+SUM(Roulage!B5:BH5) -> 0 | F12: =IF(OR(Table22[[#This Row],[Heures]]>$F$1,Table22[[#This Row],[État]]="HS"),"OUI","") | J12: 0
B13: / | C13: / | D13: / | E13: / | F13: / | G13: / | H13: / | I13: / | J13: /
B14: ?BV1 | C14: ?B1 | D14: =VLOOKUP(B14,Mileage!$E$3:$Q$23,13,FALSE) -> #383 | E14: =Table22[[#This Row],[Column1]]+SUM(Roulage!B13:BH13) -> 0 | F14: =IF(OR(Table22[[#This Row],[Heures]]>$F$1,Table22[[#This Row],[État]]="HS"),"OUI","")
D15: =VLOOKUP(B15,Mileage!$E$3:$Q$23,13,FALSE) -> #N/A | E15: =Table22[[#This Row],[Column1]]+SUM(Roulage!B14:BH14) -> 0 | F15: =IF(OR(Table22[[#This Row],[Heures]]>$F$1,Table22[[#This Row],[État]]="HS"),"OUI","")
D16: =VLOOKUP(B16,Mileage!$E$3:$Q$23,13,FALSE) -> #N/A | E16: =Table22[[#This Row],[Column1]]+SUM(Roulage!B15:BH15) -> 0 | F16: =IF(OR(Table22[[#This Row],[Heures]]>$F$1,Table22[[#This Row],[État]]="HS"),"OUI","")
D17: =VLOOKUP(B17,Mileage!$E$3:$Q$23,13,FALSE) -> #N/A | E17: =Table22[[#This Row],[Column1]]+SUM(Roulage!B16:BH16) -> 0 | F17: =IF(OR(Table22[[#This Row],[Heures]]>$F$1,Table22[[#This Row],[État]]="HS"),"OUI","")
D18: =VLOOKUP(B18,Mileage!$E$3:$Q$23,13,FALSE) -> #N/A | E18: =Table22[[#This Row],[Column1]]+SUM(Roulage!B17:BH17) -> 0 | F18: =IF(OR(Table22[[#This Row],[Heures]]>$F$1,Table22[[#This Row],[État]]="HS"),"OUI","")
D19: =VLOOKUP(B19,Mileage!$E$3:$Q$23,13,FALSE) -> #N/A | E19: =Table22[[#This Row],[Column1]]+SUM(Roulage!B18:BH18) -> 0 | F19: =IF(OR(Table22[[#This Row],[Heures]]>$F$1,Table22[[#This Row],[État]]="HS"),"OUI","")
D20: =VLOOKUP(B20,Mileage!$E$3:$Q$23,13,FALSE) -> #N/A | E20: =Table22[[#This Row],[Column1]]+SUM(Roulage!B19:BH19) -> 0 | F20: =IF(OR(Table22[[#This Row],[Heures]]>$F$1,Table22[[#This Row],[État]]="HS"),"OUI","")
D21: =VLOOKUP(B21,Mileage!$E$3:$Q$23,13,FALSE) -> #N/A | E21: =Table22[[#This Row],[Column1]]+SUM(Roulage!B20:BH20) -> 0 | F21: =IF(OR(Table22[[#This Row],[Heures]]>$F$1,Table22[[#This Row],[État]]="HS"),"OUI","")
D22: =VLOOKUP(B22,Mileage!$E$3:$Q$23,13,FALSE) -> #N/A | E22: =Table22[[#This Row],[Column1]]+SUM(Roulage!B21:BH21) -> 0 | F22: =IF(OR(Table22[[#This Row],[Heures]]>$F$1,Table22[[#This Row],[État]]="HS"),"OUI","")
D23: =VLOOKUP(B23,Mileage!$E$3:$Q$23,13,FALSE) -> #N/A | E23: =Table22[[#This Row],[Column1]]+SUM(Roulage!B22:BH22) -> 0 | F23: =IF(OR(Table22[[#This Row],[Heures]]>$F$1,Table22[[#This Row],[État]]="HS"),"OUI","")
D24: =VLOOKUP(B24,Mileage!$E$3:$Q$23,13,FALSE) -> #N/A | E24: =Table22[[#This Row],[Column1]]+SUM(Roulage!B23:BH23) -> 0 | F24: =IF(OR(Table22[[#This Row],[Heures]]>$F$1,Table22[[#This Row],[État]]="HS"),"OUI","")
D25: =VLOOKUP(B25,Mileage!$E$3:$Q$23,13,FALSE) -> #N/A | E25: =Table22[[#This Row],[Column1]]+SUM(Roulage!B24:BH24) -> 0 | F25: =IF(OR(Table22[[#This Row],[Heures]]>$F$1,Table22[[#This Row],[État]]="HS"),"OUI","")
D26: =VLOOKUP(B26,Mileage!$E$3:$Q$23,13,FALSE) -> #N/A | E26: =Table22[[#This Row],[Column1]]+SUM(Roulage!B25:BH25) -> 0 | F26: =IF(OR(Table22[[#This Row],[Heures]]>$F$1,Table22[[#This Row],[État]]="HS"),"OUI","")
... D100: =VLOOKUP(B100,Mileage!$E$3:$Q$23,13,FALSE) -> #N/A | E100: =Table22[[#This Row],[Column1]]+SUM(Roulage!B99:BH99) -> 0 | F100: =IF(OR(Table22[[#This Row],[Heures]]>$F$1,Table22[[#This Row],[État]]="HS"),"OUI","")

Sheet Butée
B2: Référence | C2: Voiture | D2: Heures | E2: Révision | F2: Avancement | G2: État | H2: Commentaire | I2: Column1
B3: / | C3: / | D3: / | E3: / | F3: / | G3: / | H3: / | I3: /
B4: 180055457#062 | C4: =VLOOKUP(B4,'B.V.'!$C$3:$J$23,2,FALSE) -> #60 | D4: =Table225[[#This Row],[Column1]]+SUM(Roulage!B3:BH3) -> 1.0208333 | I4: 0.1875
B5: 180055457#043 | C5: =VLOOKUP(B5,'B.V.'!$C$3:$J$23,2,FALSE) -> #N/A | D5: =Table225[[#This Row],[Column1]]+SUM(Roulage!B4:BH4) -> 4.0763889 | I5: 3.2430556
B6: 18005457#012 | C6: =VLOOKUP(B6,'B.V.'!$C$3:$J$23,2,FALSE) -> #N/A | D6: =Table225[[#This Row],[Column1]]+SUM(Roulage!B5:BH5) -> 5.0763889 | I6: 5.0763889
B7: 15016782#022 | C7: =VLOOKUP(B7,'B.V.'!$C$3:$J$23,2,FALSE) -> #292 | D7: =Table225[[#This Row],[Column1]]+SUM(Roulage!B6:BH6) -> 2.04375 | I7: 2.04375
B8: 19010529#012 | C8: =VLOOKUP(B8,'B.V.'!$C$3:$J$23,2,FALSE) -> #315 | D8: =Table225[[#This Row],[Column1]]+SUM(Roulage!B7:BH7) -> #VALUE! | I8: ?
B9: 18005457#051 | C9: =VLOOKUP(B9,'B.V.'!$C$3:$J$23,2,FALSE) -> #365 | D9: =Table225[[#This Row],[Column1]]+SUM(Roulage!B8:BH8) -> 1.8756944 | I9: 1.8756944
B10: 14015365#043 | C10: =VLOOKUP(B10,'B.V.'!$C$3:$J$23,2,FALSE) -> #N/A | D10: =Table225[[#This Row],[Column1]]+SUM(Roulage!B9:BH9) -> 1.5 | I10: 1.5
B11: 21000547#013 | C11: =VLOOKUP(B11,'B.V.'!$C$3:$J$23,2,FALSE) -> #N/A | D11: =Table225[[#This Row],[Column1]]+SUM(Roulage!B10:BH10) -> 0 | H11: Corp Seul
B12: 15022392#004 | C12: =VLOOKUP(B12,'B.V.'!$C$3:$J$23,2,FALSE) -> #290 | D12: =Table225[[#This Row],[Column1]]+SUM(Roulage!B11:BH11) -> 0.76041667 | I12: 0.76041667
B13: 14017404#067 | C13: =VLOOKUP(B13,'B.V.'!$C$3:$J$23,2,FALSE) -> #N/A | D13: =Table225[[#This Row],[Column1]]+SUM(Roulage!B12:BH12) -> 0 | I13: 0
B14: 17027203#019 | C14: =VLOOKUP(B14,'B.V.'!$C$3:$J$23,2,FALSE) -> #N/A | D14: =Table225[[#This Row],[Column1]]+SUM(Roulage!B13:BH13) -> 0 | H14: Corp Seul
B15: ?B1 | C15: =VLOOKUP(B15,'B.V.'!$C$3:$J$23,2,FALSE) -> #383 | D15: =Table225[[#This Row],[Column1]]+SUM(Roulage!B14:BH14) -> #VALUE! | I15: ?
B16: ?B2 | C16: =VLOOKUP(B16,'B.V.'!$C$3:$J$23,2,FALSE) -> #260 | D16: =Table225[[#This Row],[Column1]]+SUM(Roulage!B15:BH15) -> #VALUE! | I16: ?
B17: ?B3 | C17: =VLOOKUP(B17,'B.V.'!$C$3:$J$23,2,FALSE) -> #371 | D17: =Table225[[#This Row],[Column1]]+SUM(Roulage!B16:BH16) -> 0
C18: =VLOOKUP(B18,'B.V.'!$C$3:$J$23,2,FALSE) -> #N/A | D18: =Table225[[#This Row],[Column1]]+SUM(Roulage!B17:BH17) -> 0
C19: =VLOOKUP(B19,'B.V.'!$C$3:$J$23,2,FALSE) -> #N/A | D19: =Table225[[#This Row],[Column1]]+SUM(Roulage!B18:BH18) -> 0
C20: =VLOOKUP(B20,'B.V.'!$C$3:$J$23,2,FALSE) -> #N/A | D20: =Table225[[#This Row],[Column1]]+SUM(Roulage!B19:BH19) -> 0
C21: =VLOOKUP(B21,'B.V.'!$C$3:$J$23,2,FALSE) -> #N/A | D21: =Table225[[#This Row],[Column1]]+SUM(Roulage!B20:BH20) -> 0
C22: =VLOOKUP(B22,'B.V.'!$C$3:$J$23,2,FALSE) -> #N/A | D22: =Table225[[#This Row],[Column1]]+SUM(Roulage!B21:BH21) -> 0
C23: =VLOOKUP(B23,'B.V.'!$C$3:$J$23,2,FALSE) -> #N/A | D23: =Table225[[#This Row],[Column1]]+SUM(Roulage!B22:BH22) -> 0
C24: =VLOOKUP(B24,'B.V.'!$C$3:$J$23,2,FALSE) -> #N/A | D24: =Table225[[#This Row],[Column1]]+SUM(Roulage!B23:BH23) -> 0
C25: =VLOOKUP(B25,'B.V.'!$C$3:$J$23,2,FALSE) -> #N/A | D25: =Table225[[#This Row],[Column1]]+SUM(Roulage!B24:BH24) -> 0
C26: =VLOOKUP(B26,'B.V.'!$C$3:$J$23,2,FALSE) -> #N/A | D26: =Table225[[#This Row],[Column1]]+SUM(Roulage!B25:BH25) -> 0
C27: =VLOOKUP(B27,'B.V.'!$C$3:$J$23,2,FALSE) -> #N/A | D27: =Table225[[#This Row],[Column1]]+SUM(Roulage!B26:BH26) -> 0
C28: =VLOOKUP(B28,'B.V.'!$C$3:$J$23,2,FALSE) -> #N/A | D28: =Table225[[#This Row],[Column1]]+SUM(Roulage!B27:BH27) -> 0
C29: =VLOOKUP(B29,'B.V.'!$C$3:$J$23,2,FALSE) -> #N/A | D29: =Table225[[#This Row],[Column1]]+SUM(Roulage!B28:BH28) -> 0
... C100: =VLOOKUP(B100,'B.V.'!$C$3:$J$23,2,FALSE) -> #N/A | D100: =Table225[[#This Row],[Column1]]+SUM(Roulage!B99:BH99) -> 0

Sheet Robot
B2: Référence | C2: Voiture | D2: Heures | E2: Révision | F2: Avancement | G2: État | H2: Commentaire | I2: Column1
B3: / | C3: / | D3: / | E3: / | F3: / | G3: / | H3: / | I3: /
B4: 889 | C4: =VLOOKUP(B4,Mileage!$I$3:$Q$23,9,FALSE) -> #60 | D4: =Table2256[[#This Row],[Column1]]+SUM(Roulage!B3:BH3) -> 4.4895833 | E4: =IF(Table2256[[#This Row],[État]]="HS","OUI","") | I4: 3.65625
B5: 269 | C5: =VLOOKUP(B5,Mileage!$I$3:$Q$23,9,FALSE) -> #260 | D5: =Table2256[[#This Row],[Column1]]+SUM(Roulage!B4:BH4) -> 5.3006944 | E5: =IF(Table2256[[#This Row],[État]]="HS","OUI","") | I5: 4.4673611
B6: 1037 | C6: =VLOOKUP(B6,Mileage!$I$3:$Q$23,9,FALSE) -> #N/A | D6: =Table2256[[#This Row],[Column1]]+SUM(Roulage!B5:BH5) -> 0 | E6: =IF(Table2256[[#This Row],[État]]="HS","OUI","") | I6: 0
B7: 404 | C7: =VLOOKUP(B7,Mileage!$I$3:$Q$23,9,FALSE) -> #292 | D7: =Table2256[[#This Row],[Column1]]+SUM(Roulage!B6:BH6) -> 2.3354167 | E7: =IF(Table2256[[#This Row],[État]]="HS","OUI","") | I7: 2.3354167
B8: 831 | C8: =VLOOKUP(B8,Mileage!$I$3:$Q$23,9,FALSE) -> #315 | D8: =Table2256[[#This Row],[Column1]]+SUM(Roulage!B7:BH7) -> 3.0375 | E8: =IF(Table2256[[#This Row],[État]]="HS","OUI","") | I8: 2.2041667
B9: 492 | C9: =VLOOKUP(B9,Mileage!$I$3:$Q$23,9,FALSE) -> #371 | D9: =Table2256[[#This Row],[Column1]]+SUM(Roulage!B8:BH8) -> 1.3541667 | E9: =IF(Table2256[[#This Row],[État]]="HS","OUI","") | I9: 1.3541667
B10: 412 | C10: =VLOOKUP(B10,Mileage!$I$3:$Q$23,9,FALSE) -> #383 | D10: =Table2256[[#This Row],[Column1]]+SUM(Roulage!B9:BH9) -> 2.625 | E10: =IF(Table2256[[#This Row],[État]]="HS","OUI","") | I10: 2.625
B11: 235 | C11: =VLOOKUP(B11,Mileage!$I$3:$Q$23,9,FALSE) -> #290 | D11: =Table2256[[#This Row],[Column1]]+SUM(Roulage!B10:BH10) -> 4.2395833 | E11: =IF(Table2256[[#This Row],[État]]="HS","OUI","") | I11: 4.2395833
C12: =VLOOKUP(B12,Mileage!$I$3:$Q$23,9,FALSE) -> #N/A | D12: =Table2256[[#This Row],[Column1]]+SUM(Roulage!B11:BH11) -> 0 | E12: =IF(Table2256[[#This Row],[État]]="HS","OUI","")
C13: =VLOOKUP(B13,Mileage!$I$3:$Q$23,9,FALSE) -> #N/A | D13: =Table2256[[#This Row],[Column1]]+SUM(Roulage!B12:BH12) -> 0 | E13: =IF(Table2256[[#This Row],[État]]="HS","OUI","")
C14: =VLOOKUP(B14,Mileage!$I$3:$Q$23,9,FALSE) -> #N/A | D14: =Table2256[[#This Row],[Column1]]+SUM(Roulage!B13:BH13) -> 0 | E14: =IF(Table2256[[#This Row],[État]]="HS","OUI","")
C15: =VLOOKUP(B15,Mileage!$I$3:$Q$23,9,FALSE) -> #N/A | D15: =Table2256[[#This Row],[Column1]]+SUM(Roulage!B14:BH14) -> 0 | E15: =IF(Table2256[[#This Row],[État]]="HS","OUI","")
C16: =VLOOKUP(B16,Mileage!$I$3:$Q$23,9,FALSE) -> #N/A | D16: =Table2256[[#This Row],[Column1]]+SUM(Roulage!B15:BH15) -> 0 | E16: =IF(Table2256[[#This Row],[État]]="HS","OUI","")
C17: =VLOOKUP(B17,Mileage!$I$3:$Q$23,9,FALSE) -> #N/A | D17: =Table2256[[#This Row],[Column1]]+SUM(Roulage!B16:BH16) -> 0 | E17: =IF(Table2256[[#This Row],[État]]="HS","OUI","")
C18: =VLOOKUP(B18,Mileage!$I$3:$Q$23,9,FALSE) -> #N/A | D18: =Table2256[[#This Row],[Column1]]+SUM(Roulage!B17:BH17) -> 0 | E18: =IF(Table2256[[#This Row],[État]]="HS","OUI","")
C19: =VLOOKUP(B19,Mileage!$I$3:$Q$23,9,FALSE) -> #N/A | D19: =Table2256[[#This Row],[Column1]]+SUM(Roulage!B18:BH18) -> 0 | E19: =IF(Table2256[[#This Row],[État]]="HS","OUI","")
C20: =VLOOKUP(B20,Mileage!$I$3:$Q$23,9,FALSE) -> #N/A | D20: =Table2256[[#This Row],[Column1]]+SUM(Roulage!B19:BH19) -> 0 | E20: =IF(Table2256[[#This Row],[État]]="HS","OUI","")
C21: =VLOOKUP(B21,Mileage!$I$3:$Q$23,9,FALSE) -> #N/A | D21: =Table2256[[#This Row],[Column1]]+SUM(Roulage!B20:BH20) -> 0 | E21: =IF(Table2256[[#This Row],[État]]="HS","OUI","")
C22: =VLOOKUP(B22,Mileage!$I$3:$Q$23,9,FALSE) -> #N/A | D22: =Table2256[[#This Row],[Column1]]+SUM(Roulage!B21:BH21) -> 0 | E22: =IF(Table2256[[#This Row],[État]]="HS","OUI","")
C23: =VLOOKUP(B23,Mileage!$I$3:$Q$23,9,FALSE) -> #N/A | D23: =Table2256[[#This Row],[Column1]]+SUM(Roulage!B22:BH22) -> 0 | E23: =IF(Table2256[[#This Row],[État]]="HS","OUI","")
... C100: =VLOOKUP(B100,Mileage!$I$3:$Q$23,9,FALSE) -> #N/A | D100: =Table2256[[#This Row],[Column1]]+SUM(Roulage!B99:BH99) -> 0 | E100: =IF(Table2256[[#This Row],[État]]="HS","OUI","")

Sheet Piston
B2: Référence | C2: Voiture | D2: Heures | E2: Révision | F2: Avancement | G2: État | H2: Commentaire | I2: Column1
B3: / | C3: / | D3: / | E3: / | F3: / | G3: / | H3: / | I3: / | K3: =I4+SUMIF(Roulage!A3:A23,"#60",Roulage!B3:F23) -> 0.60416667
B4: 142 | C4: =VLOOKUP(B4,Mileage!$K$3:$Q$23,7,FALSE) -> #60 | D4: =Table22568[[#This Row],[Column1]]+IF(Table22568[[#This Row],[Voiture]]=Roulage!A3,SUMIF(Roulage!$A$3:$A$23,Table22568[[#This Row],[Voiture]],Roulage!$B$3:$F$23),"") -> 0.60416667 | E4: =IF(Table22568[[#This Row],[État]]="HS","OUI","") | I4: 0.1875
B5: 196 | C5: =VLOOKUP(B5,Mileage!$K$3:$Q$23,7,FALSE) -> #N/A | D5: =Table22568[[#This Row],[Column1]]+IF(Table22568[[#This Row],[Voiture]]=Roulage!A4,SUMIF(Roulage!$A$3:$A$23,Table22568[[#This Row],[Voiture]],Roulage!$B$3:$F$23),"") -> #N/A | E5: =IF(Table22568[[#This Row],[État]]="HS","OUI","") | I5: 3.5972222
B6: 540 | C6: =VLOOKUP(B6,Mileage!$K$3:$Q$23,7,FALSE) -> #292 | D6: =Table22568[[#This Row],[Column1]]+SUMIF(Roulage!A3:A23,Table22568[[#This Row],[Voiture]],Roulage!B3:F23) -> 6.0368056 | E6: =IF(Table22568[[#This Row],[État]]="HS","OUI","") | I6: 5.6201389
B7: 229 | C7: =VLOOKUP(B7,Mileage!$K$3:$Q$23,7,FALSE) -> #260 | D7: =Table22568[[#This Row],[Column1]]+IF(Table22568[[#This Row],[Voiture]]=Roulage!A6,SUMIF(Roulage!$A$3:$A$23,Table22568[[#This Row],[Voiture]],Roulage!$B$3:$F$23),"") -> #VALUE! | E7: =IF(Table22568[[#This Row],[État]]="HS","OUI","") | I7: 2.15625
B8: 365 | C8: =VLOOKUP(B8,Mileage!$K$3:$Q$23,7,FALSE) -> #N/A | D8: =Table22568[[#This Row],[Column1]]+IF(Table22568[[#This Row],[Voiture]]=Roulage!A7,SUMIF(Roulage!$A$3:$A$23,Table22568[[#This Row],[Voiture]],Roulage!$B$3:$F$23),"") -> #N/A | E8: =IF(Table22568[[#This Row],[État]]="HS","OUI","") | I8: 4.1840278
B9: 482 | C9: =VLOOKUP(B9,Mileage!$K$3:$Q$23,7,FALSE) -> #371 | D9: =Table22568[[#This Row],[Column1]]+IF(Table22568[[#This Row],[Voiture]]=Roulage!A8,SUMIF(Roulage!$A$3:$A$23,Table22568[[#This Row],[Voiture]],Roulage!$B$3:$F$23),"") -> #VALUE! | E9: =IF(Table22568[[#This Row],[État]]="HS","OUI","") | I9: 1.3680556
B10: 41 | C10: =VLOOKUP(B10,Mileage!$K$3:$Q$23,7,FALSE) -> #383 | D10: =Table22568[[#This Row],[Column1]]+IF(Table22568[[#This Row],[Voiture]]=Roulage!A9,SUMIF(Roulage!$A$3:$A$23,Table22568[[#This Row],[Voiture]],Roulage!$B$3:$F$23),"") -> #VALUE! | E10: =IF(Table22568[[#This Row],[État]]="HS","OUI","") | I10: ?
B11: 293 | C11: =VLOOKUP(B11,Mileage!$K$3:$Q$23,7,FALSE) -> #N/A | D11: =Table22568[[#This Row],[Column1]]+IF(Table22568[[#This Row],[Voiture]]=Roulage!A10,SUMIF(Roulage!$A$3:$A$23,Table22568[[#This Row],[Voiture]],Roulage!$B$3:$F$23),"") -> #N/A | E11: =IF(Table22568[[#This Row],[État]]="HS","OUI","") | I11: 2.3701389
B12: ?P1 | C12: =VLOOKUP(B12,Mileage!$K$3:$Q$23,7,FALSE) -> #315 | D12: =Table22568[[#This Row],[Column1]]+IF(Table22568[[#This Row],[Voiture]]=Roulage!A11,SUMIF(Roulage!$A$3:$A$23,Table22568[[#This Row],[Voiture]],Roulage!$B$3:$F$23),"") -> #VALUE! | E12: =IF(Table22568[[#This Row],[État]]="HS","OUI","")
C13: =VLOOKUP(B13,Mileage!$K$3:$Q$23,7,FALSE) -> #N/A | D13: =Table22568[[#This Row],[Column1]]+SUM(Roulage!B12:BH12) -> 0 | E13: =IF(Table22568[[#This Row],[État]]="HS","OUI","")
C14: =VLOOKUP(B14,Mileage!$K$3:$Q$23,7,FALSE) -> #N/A | D14: =Table22568[[#This Row],[Column1]]+SUM(Roulage!B13:BH13) -> 0 | E14: =IF(Table22568[[#This Row],[État]]="HS","OUI","")
C15: =VLOOKUP(B15,Mileage!$K$3:$Q$23,7,FALSE) -> #N/A | D15: =Table22568[[#This Row],[Column1]]+SUM(Roulage!B14:BH14) -> 0 | E15: =IF(Table22568[[#This Row],[État]]="HS","OUI","")
C16: =VLOOKUP(B16,Mileage!$K$3:$Q$23,7,FALSE) -> #N/A | D16: =Table22568[[#This Row],[Column1]]+SUM(Roulage!B15:BH15) -> 0 | E16: =IF(Table22568[[#This Row],[État]]="HS","OUI","")
C17: =VLOOKUP(B17,Mileage!$K$3:$Q$23,7,FALSE) -> #N/A | D17: =Table22568[[#This Row],[Column1]]+SUM(Roulage!B16:BH16) -> 0 | E17: =IF(Table22568[[#This Row],[État]]="HS","OUI","")
C18: =VLOOKUP(B18,Mileage!$K$3:$Q$23,7,FALSE) -> #N/A | D18: =Table22568[[#This Row],[Column1]]+SUM(Roulage!B17:BH17) -> 0 | E18: =IF(Table22568[[#This Row],[État]]="HS","OUI","")
C19: =VLOOKUP(B19,Mileage!$K$3:$Q$23,7,FALSE) -> #N/A | D19: =Table22568[[#This Row],[Column1]]+SUM(Roulage!B18:BH18) -> 0 | E19: =IF(Table22568[[#This Row],[État]]="HS","OUI","")
C20: =VLOOKUP(B20,Mileage!$K$3:$Q$23,7,FALSE) -> #N/A | D20: =Table22568[[#This Row],[Column1]]+SUM(Roulage!B19:BH19) -> 0 | E20: =IF(Table22568[[#This Row],[État]]="HS","OUI","")
C21: =VLOOKUP(B21,Mileage!$K$3:$Q$23,7,FALSE) -> #N/A | D21: =Table22568[[#This Row],[Column1]]+SUM(Roulage!B20:BH20) -> 0 | E21: =IF(Table22568[[#This Row],[État]]="HS","OUI","")
C22: =VLOOKUP(B22,Mileage!$K$3:$Q$23,7,FALSE) -> #N/A | D22: =Table22568[[#This Row],[Column1]]+SUM(Roulage!B21:BH21) -> 0 | E22: =IF(Table22568[[#This Row],[État]]="HS","OUI","")
C23: =VLOOKUP(B23,Mileage!$K$3:$Q$23,7,FALSE) -> #N/A | D23: =Table22568[[#This Row],[Column1]]+SUM(Roulage!B22:BH22) -> 0 | E23: =IF(Table22568[[#This Row],[État]]="HS","OUI","")
C24: =VLOOKUP(B24,Mileage!$K$3:$Q$23,7,FALSE) -> #N/A | D24: =Table22568[[#This Row],[Column1]]+SUM(Roulage!B23:BH23) -> 0 | E24: =IF(Table22568[[#This Row],[État]]="HS","OUI","")
... C100: =VLOOKUP(B100,Mileage!$K$3:$Q$23,7,FALSE) -> #N/A | D100: =Table22568[[#This Row],[Column1]]+SUM(Roulage!B99:BH99) -> 0 | E100: =IF(Table22568[[#This Row],[État]]="HS","OUI","")

Sheet Cardan
C1: Condition de révision = | D1: 2.9166667
B2: Voiture | C2: Référence Cardan Gauche2 | D2: Heures | E2: Révision | F2: Avancement | G2: État | H2: Voiture2 | I2: Référence Cardan Droite2 | J2: Heures2 | K2: Révision2 | L2: Avancement2 | M2: État2
B3: / | C3: / | D3: / | E3: / | F3: / | G3: / | H3: / | I3: / | J3: / | K3: / | L3: / | M3: /
B4: #260 | C4: SL009 | D4: 0.34583333 | E4: =IF(OR(Table225684[[#This Row],[Heures]]>$D$1,Table225684[[#This Row],[État]]="HS"),"OUI","") | H4: #260 | I4: SR009 | J4: 0.34583333 | K4: =IF(OR(Table225684[[#This Row],[Heures2]]>$D$1,Table225684[[#This Row],[État2]]="HS"),"OUI","")
B5: #290 | C5: SL010 | D5: 0.325 | E5: =IF(OR(Table225684[[#This Row],[Heures]]>$D$1,Table225684[[#This Row],[État]]="HS"),"OUI","") | H5: #290 | I5: SR010 | J5: 0.325 | K5: =IF(OR(Table225684[[#This Row],[Heures2]]>$D$1,Table225684[[#This Row],[État2]]="HS"),"OUI","")
B6: #365 | C6: SL011 | D6: 0.31597222 | E6: =IF(OR(Table225684[[#This Row],[Heures]]>$D$1,Table225684[[#This Row],[État]]="HS"),"OUI","") | H6: #365 | I6: SR011 | J6: 0.31597222 | K6: =IF(OR(Table225684[[#This Row],[Heures2]]>$D$1,Table225684[[#This Row],[État2]]="HS"),"OUI","")
B7: #292 | C7: SL012 | D7: 0.32847222 | E7: =IF(OR(Table225684[[#This Row],[Heures]]>$D$1,Table225684[[#This Row],[État]]="HS"),"OUI","") | H7: #292 | I7: SR012 | J7: 0.32847222 | K7: =IF(OR(Table225684[[#This Row],[Heures2]]>$D$1,Table225684[[#This Row],[État2]]="HS"),"OUI","")
B8: #315 | C8: SL013 | D8: 0.33680556 | E8: =IF(OR(Table225684[[#This Row],[Heures]]>$D$1,Table225684[[#This Row],[État]]="HS"),"OUI","") | H8: #315 | I8: SR013 | J8: 0.33680556 | K8: =IF(OR(Table225684[[#This Row],[Heures2]]>$D$1,Table225684[[#This Row],[État2]]="HS"),"OUI","")
B9: =VLOOKUP(#REF!,Mileage!$K$3:$Q$23,3,FALSE) -> #REF! | C9: SL014 | D9: 0 | E9: =IF(OR(Table225684[[#This Row],[Heures]]>$D$1,Table225684[[#This Row],[État]]="HS"),"OUI","") | H9: =VLOOKUP(#REF!,Mileage!$K$3:$Q$23,3,FALSE) -> #REF! | K9: =IF(OR(Table225684[[#This Row],[Heures2]]>$D$1,Table225684[[#This Row],[État2]]="HS"),"OUI","")
B10: =VLOOKUP(#REF!,Mileage!$K$3:$Q$23,3,FALSE) -> #REF! | E10: =IF(OR(Table225684[[#This Row],[Heures]]>$D$1,Table225684[[#This Row],[État]]="HS"),"OUI","") | H10: =VLOOKUP(#REF!,Mileage!$K$3:$Q$23,3,FALSE) -> #REF! | K10: =IF(OR(Table225684[[#This Row],[Heures2]]>$D$1,Table225684[[#This Row],[État2]]="HS"),"OUI","")
B11: =VLOOKUP(#REF!,Mileage!$K$3:$Q$23,3,FALSE) -> #REF! | E11: =IF(OR(Table225684[[#This Row],[Heures]]>$D$1,Table225684[[#This Row],[État]]="HS"),"OUI","") | H11: =VLOOKUP(#REF!,Mileage!$K$3:$Q$23,3,FALSE) -> #REF! | K11: =IF(OR(Table225684[[#This Row],[Heures2]]>$D$1,Table225684[[#This Row],[État2]]="HS"),"OUI","")
B12: =VLOOKUP(#REF!,Mileage!$K$3:$Q$23,3,FALSE) -> #REF! | E12: =IF(OR(Table225684[[#This Row],[Heures]]>$D$1,Table225684[[#This Row],[État]]="HS"),"OUI","") | H12: =VLOOKUP(#REF!,Mileage!$K$3:$Q$23,3,FALSE) -> #REF! | K12: =IF(OR(Table225684[[#This Row],[Heures2]]>$D$1,Table225684[[#This Row],[État2]]="HS"),"OUI","")
B13: =VLOOKUP(#REF!,Mileage!$K$3:$Q$23,3,FALSE) -> #REF! | E13: =IF(OR(Table225684[[#This Row],[Heures]]>$D$1,Table225684[[#This Row],[État]]="HS"),"OUI","") | H13: =VLOOKUP(#REF!,Mileage!$K$3:$Q$23,3,FALSE) -> #REF! | K13: =IF(OR(Table225684[[#This Row],[Heures2]]>$D$1,Table225684[[#This Row],[État2]]="HS"),"OUI","")
B14: =VLOOKUP(#REF!,Mileage!$K$3:$Q$23,3,FALSE) -> #REF! | E14: =IF(OR(Table225684[[#This Row],[Heures]]>$D$1,Table225684[[#This Row],[État]]="HS"),"OUI","") | H14: =VLOOKUP(#REF!,Mileage!$K$3:$Q$23,3,FALSE) -> #REF! | K14: =IF(OR(Table225684[[#This Row],[Heures2]]>$D$1,Table225684[[#This Row],[État2]]="HS"),"OUI","")
B15: =VLOOKUP(#REF!,Mileage!$K$3:$Q$23,3,FALSE) -> #REF! | E15: =IF(OR(Table225684[[#This Row],[Heures]]>$D$1,Table225684[[#This Row],[État]]="HS"),"OUI","") | H15: =VLOOKUP(#REF!,Mileage!$K$3:$Q$23,3,FALSE) -> #REF! | K15: =IF(OR(Table225684[[#This Row],[Heures2]]>$D$1,Table225684[[#This Row],[État2]]="HS"),"OUI","")
B16: =VLOOKUP(#REF!,Mileage!$K$3:$Q$23,3,FALSE) -> #REF! | E16: =IF(OR(Table225684[[#This Row],[Heures]]>$D$1,Table225684[[#This Row],[État]]="HS"),"OUI","") | H16: =VLOOKUP(#REF!,Mileage!$K$3:$Q$23,3,FALSE) -> #REF! | K16: =IF(OR(Table225684[[#This Row],[Heures2]]>$D$1,Table225684[[#This Row],[État2]]="HS"),"OUI","")
B17: =VLOOKUP(#REF!,Mileage!$K$3:$Q$23,3,FALSE) -> #REF! | E17: =IF(OR(Table225684[[#This Row],[Heures]]>$D$1,Table225684[[#This Row],[État]]="HS"),"OUI","") | H17: =VLOOKUP(#REF!,Mileage!$K$3:$Q$23,3,FALSE) -> #REF! | K17: =IF(OR(Table225684[[#This Row],[Heures2]]>$D$1,Table225684[[#This Row],[État2]]="HS"),"OUI","")
B18: =VLOOKUP(#REF!,Mileage!$K$3:$Q$23,3,FALSE) -> #REF! | E18: =IF(OR(Table225684[[#This Row],[Heures]]>$D$1,Table225684[[#This Row],[État]]="HS"),"OUI","") | H18: =VLOOKUP(#REF!,Mileage!$K$3:$Q$23,3,FALSE) -> #REF! | K18: =IF(OR(Table225684[[#This Row],[Heures2]]>$D$1,Table225684[[#This Row],[État2]]="HS"),"OUI","")
B19: =VLOOKUP(#REF!,Mileage!$K$3:$Q$23,3,FALSE) -> #REF! | E19: =IF(OR(Table225684[[#This Row],[Heures]]>$D$1,Table225684[[#This Row],[État]]="HS"),"OUI","") | H19: =VLOOKUP(#REF!,Mileage!$K$3:$Q$23,3,FALSE) -> #REF! | K19: =IF(OR(Table225684[[#This Row],[Heures2]]>$D$1,Table225684[[#This Row],[État2]]="HS"),"OUI","")
B20: =VLOOKUP(#REF!,Mileage!$K$3:$Q$23,3,FALSE) -> #REF! | E20: =IF(OR(Table225684[[#This Row],[Heures]]>$D$1,Table225684[[#This Row],[État]]="HS"),"OUI","") | H20: =VLOOKUP(#REF!,Mileage!$K$3:$Q$23,3,FALSE) -> #REF! | K20: =IF(OR(Table225684[[#This Row],[Heures2]]>$D$1,Table225684[[#This Row],[État2]]="HS"),"OUI","")
B21: =VLOOKUP(#REF!,Mileage!$K$3:$Q$23,3,FALSE) -> #REF! | E21: =IF(OR(Table225684[[#This Row],[Heures]]>$D$1,Table225684[[#This Row],[État]]="HS"),"OUI","") | H21: =VLOOKUP(#REF!,Mileage!$K$3:$Q$23,3,FALSE) -> #REF! | K21: =IF(OR(Table225684[[#This Row],[Heures2]]>$D$1,Table225684[[#This Row],[État2]]="HS"),"OUI","")
... B100: =VLOOKUP(#REF!,Mileage!$K$3:$Q$23,3,FALSE) -> #REF! | E100: =IF(OR(Table225684[[#This Row],[Heures]]>$D$1,Table225684[[#This Row],[État]]="HS"),"OUI","") | H100: =VLOOKUP(#REF!,Mileage!$K$3:$Q$23,3,FALSE) -> #REF! | K100: =IF(OR(Table225684[[#This Row],[Heures2]]>$D$1,Table225684[[#This Row],[État2]]="HS"),"OUI","")
