Workbook
Name Choix: Feuil2!#REF!

Sheet Base
H6: Ouverture des plis | J6: Répartition en % | K6: Estimation | M6: Delta en €
A9: 1 | C9: Gros œuvre | H9: =VLOOKUP("x",Feuil2!A15:D37,3) -> #N/A | I9: =VLOOKUP("x",Feuil2!A15:D37,4) -> #N/A | J9: =I9*1/$I$44 -> #N/A | M9: =IF(COUNT(I9-K9),(I9-K9),"") | O9: =A9 -> 1
O10: =A11 -> 2
A11: 2 | C11: Charpente | H11: =VLOOKUP("x",Feuil3!A15:D37,3) -> #N/A | I11: =VLOOKUP("x",Feuil3!A15:D39,4) -> #N/A | J11: =I11*1/$I$44 -> #N/A | M11: =IF(COUNT(I11-K11),(I11-K11),"") | O11: =A13 -> 3
O12: =A15 -> 4
A13: 3 | C13: Couverture - zinguerie | H13: =VLOOKUP("x",Feuil4!A15:D37,3) -> #N/A | I13: =VLOOKUP("x",Feuil4!A15:F37,4) -> #N/A | J13: =I13*1/$I$44 -> #N/A | M13: =IF(COUNT(I13-K13),(I13-K13),"") | O13: =A17 -> 5
O14: =A19 -> 6
A15: 4 | C15: Façade | H15: =VLOOKUP("x",Feuil5!A15:F37,3) -> #N/A | I15: =VLOOKUP("x",Feuil5!A15:F37,4) -> #N/A | J15: =I15*1/$I$44 -> #N/A | M15: =IF(COUNT(I15-K15),(I15-K15),"") | O15: =A21 -> 7
O16: =A23 -> 10
A17: 5 | C17: Menuiseries extérieures | H17: =VLOOKUP("x",Feuil6!A15:F37,3) -> #N/A | I17: =VLOOKUP("x",Feuil6!A15:F37,4) -> #N/A | J17: =I17*1/$I$44 -> #N/A | M17: =IF(COUNT(I17-K17),(I17-K17),"") | O17: =A25 -> 11
O18: =A27 -> 0
A19: 6 | C19: Menuiseries intérieures | H19: =VLOOKUP("x",Feuil7!A15:F37,3) -> #N/A | I19: =VLOOKUP("x",Feuil7!A15:F37,4) -> #N/A | J19: =I19*1/$I$44 -> #N/A | M19: =IF(COUNT(I19-K19),(I19-K19),"") | O19: =A29 -> 0
O20: =A31 -> 0
A21: 7 | C21: Platrerie - Peinture - Faux plafonds | H21: =VLOOKUP("x",Feuil8!A15:F37,3) -> #N/A | I21: =VLOOKUP("x",Feuil8!A15:F37,4) -> #N/A | J21: =I21*1/$I$44 -> #N/A | M21: =IF(COUNT(I21-K21),(I21-K21),"") | O21: =A33 -> 8
O22: =A35 -> 9
A23: 10 | C23: Carrelage | H23: =VLOOKUP("x",Feuil9!A15:F37,3) -> #N/A | I23: =VLOOKUP("x",Feuil9!A15:F37,4) -> #N/A | J23: =I23*1/$I$44 -> #N/A | M23: =IF(COUNT(I23-K23),(I23-K23),"") | O23: =A37 -> 0
A25: 11 | C25: sol collé | H25: =VLOOKUP("x",Feuil10!A15:F37,3) -> #N/A | I25: =VLOOKUP("x",Feuil10!A15:F37,4) -> #N/A | J25: =I25*1/$I$44 -> #N/A | M25: =IF(COUNT(I25-K25),(I25-K25),"")
H27: =VLOOKUP("x",Feuil11!A15:F37,3) -> #N/A | I27: =VLOOKUP("x",[1]LOT10!A15:F37,4) -> #N/A | J27: =I27*1/$I$44 -> #N/A | M27: =IF(COUNT(I27-K27),(I27-K27),"")
H29: =VLOOKUP("x",Feuil12!A15:F37,3) -> #N/A | I29: =VLOOKUP("x",Feuil12!A15:F37,4) -> #N/A | J29: =I29*1/$I$44 -> #N/A | M29: =IF(COUNT(I29-K29),(I29-K29),"")
H31: =VLOOKUP("x",Feuil13!A15:F37,3) -> #N/A | I31: =VLOOKUP("x",Feuil13!A15:F37,4) -> #N/A | J31: =I31*1/$I$44 -> #N/A | M31: =IF(COUNT(I31-K31),(I31-K31),"")
A33: 8 | C33: Courant | H33: =VLOOKUP("x",Feuil14!A15:F37,3) -> #N/A | I33: =VLOOKUP("x",Feuil14!A15:F37,4) -> #N/A | J33: =I33*1/$I$44 -> #N/A | M33: =IF(COUNT(I33-K33),(I33-K33),"")
A35: 9 | C35: WC | H35: =VLOOKUP("x",Feuil15!A15:F37,3) -> #N/A | I35: =VLOOKUP("x",Feuil15!A15:F37,4) -> #N/A | J35: =I35*1/$I$44 -> #N/A | M35: =IF(COUNT(I35-K35),(I35-K35),"")
H37: =VLOOKUP("x",Feuil16!A15:F37,3) -> #N/A | I37: =VLOOKUP("x",Feuil16!A15:F37,4) -> #N/A | J37: =I37*1/$I$44 -> #N/A | M37: =IF(COUNT(I37-K37),(I37-K37),"")
M39: =IF(COUNT(I41-#REF!),(I41-#REF!),"")
G41: TOTAL H.T. Hors Fluides | I41: =IF(COUNT(I9:I31),SUM(I9:I31),"") | J41: =IF(COUNT(J9:J31),SUM(J9:J31),"") | K41: =IF(COUNT(K9:K32),SUM(K9:K32),"") | M41: =SUM(M8:M38) -> 0
G44: TOTAL H.T. Avec Fluides | I44: =IF(COUNT(I33:I37),SUM(I9:I31),"") | J44: =IF(COUNT(J33:J37),SUM(J9:J37),"") | K44: =IF(COUNT(K9:K32),SUM(K9:K32),"")

Sheet Feuil2
A1: =CONCATENATE(Base!A1)
A7: =CONCATENATE(Base!A9) -> 1 | B7: =CONCATENATE(Base!C9) -> Gros œuvre
C9: Estimation H.T. | D9: =IF(COUNT(Base!#REF!),Base!#REF!,"'") -> '
B13: N° d'ouverture | C13: Entreprise | D13: Offre | E13: Classement | G13: Delta
B15: =IF(C15<>"",1,"") | E15: =IF(ISNUMBER($D15),COUNTIF($D$15:$D$37,"<"&$D15)+1,"") | G15: =IF(AND(D15<>"",COUNT(D15-$D$9)),(D15-$D$9),"")
B16: =IF(C16<>"",B15+1,"") | E16: =IF(ISNUMBER($D16),COUNTIF($D$15:$D$37,"<"&$D16)+1,"") | G16: =IF(AND(D16<>"",COUNT(D16-$D$9)),(D16-$D$9),"")
B17: =IF(C17<>"",B16+1,"") | E17: =IF(ISNUMBER($D17),COUNTIF($D$15:$D$37,"<"&$D17)+1,"") | G17: =IF(AND(D17<>"",COUNT(D17-$D$9)),(D17-$D$9),"")
B18: =IF(C18<>"",B17+1,"") | E18: =IF(ISNUMBER($D18),COUNTIF($D$15:$D$37,"<"&$D18)+1,"") | G18: =IF(AND(D18<>"",COUNT(D18-$D$9)),(D18-$D$9),"")
B19: =IF(C19<>"",B18+1,"") | E19: =IF(ISNUMBER($D19),COUNTIF($D$15:$D$37,"<"&$D19)+1,"") | G19: =IF(AND(D19<>"",COUNT(D19-$D$9)),(D19-$D$9),"")
B20: =IF(C20<>"",B19+1,"") | E20: =IF(ISNUMBER($D20),COUNTIF($D$15:$D$37,"<"&$D20)+1,"") | G20: =IF(AND(D20<>"",COUNT(D20-$D$9)),(D20-$D$9),"")
B21: =IF(C21<>"",B20+1,"") | E21: =IF(ISNUMBER($D21),COUNTIF($D$15:$D$37,"<"&$D21)+1,"") | G21: =IF(AND(D21<>"",COUNT(D21-$D$9)),(D21-$D$9),"")
B22: =IF(C22<>"",B21+1,"") | E22: =IF(ISNUMBER($D22),COUNTIF($D$15:$D$37,"<"&$D22)+1,"") | G22: =IF(AND(D22<>"",COUNT(D22-$D$9)),(D22-$D$9),"")
B23: =IF(C23<>"",B22+1,"") | E23: =IF(ISNUMBER($D23),COUNTIF($D$15:$D$37,"<"&$D23)+1,"") | G23: =IF(AND(D23<>"",COUNT(D23-$D$9)),(D23-$D$9),"")
B24: =IF(C24<>"",B23+1,"") | E24: =IF(ISNUMBER($D24),COUNTIF($D$15:$D$37,"<"&$D24)+1,"") | G24: =IF(AND(D24<>"",COUNT(D24-$D$9)),(D24-$D$9),"")
B25: =IF(C25<>"",B24+1,"") | E25: =IF(ISNUMBER($D25),COUNTIF($D$15:$D$37,"<"&$D25)+1,"") | G25: =IF(AND(D25<>"",COUNT(D25-$D$9)),(D25-$D$9),"")
B26: =IF(C26<>"",B25+1,"") | E26: =IF(ISNUMBER($D26),COUNTIF($D$15:$D$37,"<"&$D26)+1,"") | G26: =IF(AND(D26<>"",COUNT(D26-$D$9)),(D26-$D$9),"")
B27: =IF(C27<>"",B26+1,"") | E27: =IF(ISNUMBER($D27),COUNTIF($D$15:$D$37,"<"&$D27)+1,"") | G27: =IF(AND(D27<>"",COUNT(D27-$D$9)),(D27-$D$9),"")
... B37: =IF(C37<>"",B36+1,"") | E37: =IF(ISNUMBER($D37),COUNTIF($D$15:$D$37,"<"&$D37)+1,"") | G37: =IF(AND(D37<>"",COUNT(D37-$D$9)),(D37-$D$9),"")

Sheet Feuil3
A1: =CONCATENATE(Base!A1)
A7: =CONCATENATE(Base!A11) -> 2 | B7: =CONCATENATE(Base!C11) -> Charpente
C9: Estimation H.T. | D9: =IF(COUNT(Base!#REF!),Base!#REF!,"'") -> '
B13: N° d'ouverture | C13: Entreprise | D13: Offre | E13: Classement | G13: Delta
B15: =IF(C15<>"",1,"") | E15: =IF(ISNUMBER($D15),COUNTIF($D$15:$D$37,"<"&$D15)+1,"") | G15: =IF(AND(D15<>"",COUNT(D15-$D$9)),(D15-$D$9),"")
B16: =IF(C16<>"",B15+1,"") | E16: =IF(ISNUMBER($D16),COUNTIF($D$15:$D$37,"<"&$D16)+1,"") | G16: =IF(AND(D16<>"",COUNT(D16-$D$9)),(D16-$D$9),"")
B17: =IF(C17<>"",B16+1,"") | E17: =IF(ISNUMBER($D17),COUNTIF($D$15:$D$37,"<"&$D17)+1,"") | G17: =IF(AND(D17<>"",COUNT(D17-$D$9)),(D17-$D$9),"")
B18: =IF(C18<>"",B17+1,"") | E18: =IF(ISNUMBER($D18),COUNTIF($D$15:$D$37,"<"&$D18)+1,"") | G18: =IF(AND(D18<>"",COUNT(D18-$D$9)),(D18-$D$9),"")
B19: =IF(C19<>"",B18+1,"") | E19: =IF(ISNUMBER($D19),COUNTIF($D$15:$D$37,"<"&$D19)+1,"") | G19: =IF(AND(D19<>"",COUNT(D19-$D$9)),(D19-$D$9),"")
B20: =IF(C20<>"",B19+1,"") | E20: =IF(ISNUMBER($D20),COUNTIF($D$15:$D$37,"<"&$D20)+1,"") | G20: =IF(AND(D20<>"",COUNT(D20-$D$9)),(D20-$D$9),"")
B21: =IF(C21<>"",B20+1,"") | E21: =IF(ISNUMBER($D21),COUNTIF($D$15:$D$37,"<"&$D21)+1,"") | G21: =IF(AND(D21<>"",COUNT(D21-$D$9)),(D21-$D$9),"")
B22: =IF(C22<>"",B21+1,"") | E22: =IF(ISNUMBER($D22),COUNTIF($D$15:$D$37,"<"&$D22)+1,"") | G22: =IF(AND(D22<>"",COUNT(D22-$D$9)),(D22-$D$9),"")
B23: =IF(C23<>"",B22+1,"") | E23: =IF(ISNUMBER($D23),COUNTIF($D$15:$D$37,"<"&$D23)+1,"") | G23: =IF(AND(D23<>"",COUNT(D23-$D$9)),(D23-$D$9),"")
B24: =IF(C24<>"",B23+1,"") | E24: =IF(ISNUMBER($D24),COUNTIF($D$15:$D$37,"<"&$D24)+1,"") | G24: =IF(AND(D24<>"",COUNT(D24-$D$9)),(D24-$D$9),"")
B25: =IF(C25<>"",B24+1,"") | E25: =IF(ISNUMBER($D25),COUNTIF($D$15:$D$37,"<"&$D25)+1,"") | G25: =IF(AND(D25<>"",COUNT(D25-$D$9)),(D25-$D$9),"")
B26: =IF(C26<>"",B25+1,"") | E26: =IF(ISNUMBER($D26),COUNTIF($D$15:$D$37,"<"&$D26)+1,"") | G26: =IF(AND(D26<>"",COUNT(D26-$D$9)),(D26-$D$9),"")
B27: =IF(C27<>"",B26+1,"") | E27: =IF(ISNUMBER($D27),COUNTIF($D$15:$D$37,"<"&$D27)+1,"") | G27: =IF(AND(D27<>"",COUNT(D27-$D$9)),(D27-$D$9),"")
... B37: =IF(C37<>"",B36+1,"") | E37: =IF(ISNUMBER($D37),COUNTIF($D$15:$D$37,"<"&$D37)+1,"") | G37: =IF(AND(D37<>"",COUNT(D37-$D$9)),(D37-$D$9),"")

Sheet Feuil4
A1: =CONCATENATE(Base!A1)
A7: =CONCATENATE(Base!A13) -> 3 | B7: =CONCATENATE(Base!C13) -> Couverture - zinguerie
C9: Estimation H.T. | D9: =IF(COUNT(Base!#REF!),Base!#REF!,"'") -> '
B13: N° d'ouverture | C13: Entreprise | D13: Offre | E13: Classement | G13: Delta
B15: =IF(C15<>"",1,"") | E15: =IF(ISNUMBER($D15),COUNTIF($D$15:$D$37,"<"&$D15)+1,"") | G15: =IF(AND(D15<>"",COUNT(D15-$D$9)),(D15-$D$9),"")
B16: =IF(C16<>"",B15+1,"") | E16: =IF(ISNUMBER($D16),COUNTIF($D$15:$D$37,"<"&$D16)+1,"") | G16: =IF(AND(D16<>"",COUNT(D16-$D$9)),(D16-$D$9),"")
B17: =IF(C17<>"",B16+1,"") | E17: =IF(ISNUMBER($D17),COUNTIF($D$15:$D$37,"<"&$D17)+1,"") | G17: =IF(AND(D17<>"",COUNT(D17-$D$9)),(D17-$D$9),"")
B18: =IF(C18<>"",B17+1,"") | E18: =IF(ISNUMBER($D18),COUNTIF($D$15:$D$37,"<"&$D18)+1,"") | G18: =IF(AND(D18<>"",COUNT(D18-$D$9)),(D18-$D$9),"")
B19: =IF(C19<>"",B18+1,"") | E19: =IF(ISNUMBER($D19),COUNTIF($D$15:$D$37,"<"&$D19)+1,"") | G19: =IF(AND(D19<>"",COUNT(D19-$D$9)),(D19-$D$9),"")
B20: =IF(C20<>"",B19+1,"") | E20: =IF(ISNUMBER($D20),COUNTIF($D$15:$D$37,"<"&$D20)+1,"") | G20: =IF(AND(D20<>"",COUNT(D20-$D$9)),(D20-$D$9),"")
B21: =IF(C21<>"",B20+1,"") | E21: =IF(ISNUMBER($D21),COUNTIF($D$15:$D$37,"<"&$D21)+1,"") | G21: =IF(AND(D21<>"",COUNT(D21-$D$9)),(D21-$D$9),"")
B22: =IF(C22<>"",B21+1,"") | E22: =IF(ISNUMBER($D22),COUNTIF($D$15:$D$37,"<"&$D22)+1,"") | G22: =IF(AND(D22<>"",COUNT(D22-$D$9)),(D22-$D$9),"")
B23: =IF(C23<>"",B22+1,"") | E23: =IF(ISNUMBER($D23),COUNTIF($D$15:$D$37,"<"&$D23)+1,"") | G23: =IF(AND(D23<>"",COUNT(D23-$D$9)),(D23-$D$9),"")
B24: =IF(C24<>"",B23+1,"") | E24: =IF(ISNUMBER($D24),COUNTIF($D$15:$D$37,"<"&$D24)+1,"") | G24: =IF(AND(D24<>"",COUNT(D24-$D$9)),(D24-$D$9),"")
B25: =IF(C25<>"",B24+1,"") | E25: =IF(ISNUMBER($D25),COUNTIF($D$15:$D$37,"<"&$D25)+1,"") | G25: =IF(AND(D25<>"",COUNT(D25-$D$9)),(D25-$D$9),"")
B26: =IF(C26<>"",B25+1,"") | E26: =IF(ISNUMBER($D26),COUNTIF($D$15:$D$37,"<"&$D26)+1,"") | G26: =IF(AND(D26<>"",COUNT(D26-$D$9)),(D26-$D$9),"")
B27: =IF(C27<>"",B26+1,"") | E27: =IF(ISNUMBER($D27),COUNTIF($D$15:$D$37,"<"&$D27)+1,"") | G27: =IF(AND(D27<>"",COUNT(D27-$D$9)),(D27-$D$9),"")
... B37: =IF(C37<>"",B36+1,"") | E37: =IF(ISNUMBER($D37),COUNTIF($D$15:$D$37,"<"&$D37)+1,"") | G37: =IF(AND(D37<>"",COUNT(D37-$D$9)),(D37-$D$9),"")

Sheet Feuil5
A1: =CONCATENATE(Base!A1)
A7: =CONCATENATE(Base!A15) -> 4 | B7: =CONCATENATE(Base!C15) -> Façade
C9: Estimation H.T. | D9: =IF(COUNT(Base!#REF!),Base!#REF!,"'") -> '
B13: N° d'ouverture | C13: Entreprise | D13: Offre | E13: Classement | G13: Delta
B15: =IF(C15<>"",1,"") | E15: =IF(ISNUMBER($D15),COUNTIF($D$15:$D$37,"<"&$D15)+1,"") | G15: =IF(AND(D15<>"",COUNT(D15-$D$9)),(D15-$D$9),"")
B16: =IF(C16<>"",B15+1,"") | E16: =IF(ISNUMBER($D16),COUNTIF($D$15:$D$37,"<"&$D16)+1,"") | G16: =IF(AND(D16<>"",COUNT(D16-$D$9)),(D16-$D$9),"")
B17: =IF(C17<>"",B16+1,"") | E17: =IF(ISNUMBER($D17),COUNTIF($D$15:$D$37,"<"&$D17)+1,"") | G17: =IF(AND(D17<>"",COUNT(D17-$D$9)),(D17-$D$9),"")
B18: =IF(C18<>"",B17+1,"") | E18: =IF(ISNUMBER($D18),COUNTIF($D$15:$D$37,"<"&$D18)+1,"") | G18: =IF(AND(D18<>"",COUNT(D18-$D$9)),(D18-$D$9),"")
B19: =IF(C19<>"",B18+1,"") | E19: =IF(ISNUMBER($D19),COUNTIF($D$15:$D$37,"<"&$D19)+1,"") | G19: =IF(AND(D19<>"",COUNT(D19-$D$9)),(D19-$D$9),"")
B20: =IF(C20<>"",B19+1,"") | E20: =IF(ISNUMBER($D20),COUNTIF($D$15:$D$37,"<"&$D20)+1,"") | G20: =IF(AND(D20<>"",COUNT(D20-$D$9)),(D20-$D$9),"")
B21: =IF(C21<>"",B20+1,"") | E21: =IF(ISNUMBER($D21),COUNTIF($D$15:$D$37,"<"&$D21)+1,"") | G21: =IF(AND(D21<>"",COUNT(D21-$D$9)),(D21-$D$9),"")
B22: =IF(C22<>"",B21+1,"") | E22: =IF(ISNUMBER($D22),COUNTIF($D$15:$D$37,"<"&$D22)+1,"") | G22: =IF(AND(D22<>"",COUNT(D22-$D$9)),(D22-$D$9),"")
B23: =IF(C23<>"",B22+1,"") | E23: =IF(ISNUMBER($D23),COUNTIF($D$15:$D$37,"<"&$D23)+1,"") | G23: =IF(AND(D23<>"",COUNT(D23-$D$9)),(D23-$D$9),"")
B24: =IF(C24<>"",B23+1,"") | E24: =IF(ISNUMBER($D24),COUNTIF($D$15:$D$37,"<"&$D24)+1,"") | G24: =IF(AND(D24<>"",COUNT(D24-$D$9)),(D24-$D$9),"")
B25: =IF(C25<>"",B24+1,"") | E25: =IF(ISNUMBER($D25),COUNTIF($D$15:$D$37,"<"&$D25)+1,"") | G25: =IF(AND(D25<>"",COUNT(D25-$D$9)),(D25-$D$9),"")
B26: =IF(C26<>"",B25+1,"") | E26: =IF(ISNUMBER($D26),COUNTIF($D$15:$D$37,"<"&$D26)+1,"") | G26: =IF(AND(D26<>"",COUNT(D26-$D$9)),(D26-$D$9),"")
B27: =IF(C27<>"",B26+1,"") | E27: =IF(ISNUMBER($D27),COUNTIF($D$15:$D$37,"<"&$D27)+1,"") | G27: =IF(AND(D27<>"",COUNT(D27-$D$9)),(D27-$D$9),"")
... B37: =IF(C37<>"",B36+1,"") | E37: =IF(ISNUMBER($D37),COUNTIF($D$15:$D$37,"<"&$D37)+1,"") | G37: =IF(AND(D37<>"",COUNT(D37-$D$9)),(D37-$D$9),"")

Sheet Feuil6
A1: =CONCATENATE(Base!A1)
A7: =CONCATENATE(Base!A17) -> 5 | B7: =CONCATENATE(Base!C17) -> Menuiseries extérieures
C9: Estimation H.T. | D9: =IF(COUNT(Base!#REF!),Base!#REF!,"'") -> '
B13: N° d'ouverture | C13: Entreprise | D13: Offre | E13: Classement | G13: Delta
B15: =IF(C15<>"",1,"") | E15: =IF(ISNUMBER($D15),COUNTIF($D$15:$D$37,"<"&$D15)+1,"") | G15: =IF(AND(D15<>"",COUNT(D15-$D$9)),(D15-$D$9),"")
B16: =IF(C16<>"",B15+1,"") | E16: =IF(ISNUMBER($D16),COUNTIF($D$15:$D$37,"<"&$D16)+1,"") | G16: =IF(AND(D16<>"",COUNT(D16-$D$9)),(D16-$D$9),"")
B17: =IF(C17<>"",B16+1,"") | E17: =IF(ISNUMBER($D17),COUNTIF($D$15:$D$37,"<"&$D17)+1,"") | G17: =IF(AND(D17<>"",COUNT(D17-$D$9)),(D17-$D$9),"")
B18: =IF(C18<>"",B17+1,"") | E18: =IF(ISNUMBER($D18),COUNTIF($D$15:$D$37,"<"&$D18)+1,"") | G18: =IF(AND(D18<>"",COUNT(D18-$D$9)),(D18-$D$9),"")
B19: =IF(C19<>"",B18+1,"") | E19: =IF(ISNUMBER($D19),COUNTIF($D$15:$D$37,"<"&$D19)+1,"") | G19: =IF(AND(D19<>"",COUNT(D19-$D$9)),(D19-$D$9),"")
B20: =IF(C20<>"",B19+1,"") | E20: =IF(ISNUMBER($D20),COUNTIF($D$15:$D$37,"<"&$D20)+1,"") | G20: =IF(AND(D20<>"",COUNT(D20-$D$9)),(D20-$D$9),"")
B21: =IF(C21<>"",B20+1,"") | E21: =IF(ISNUMBER($D21),COUNTIF($D$15:$D$37,"<"&$D21)+1,"") | G21: =IF(AND(D21<>"",COUNT(D21-$D$9)),(D21-$D$9),"")
B22: =IF(C22<>"",B21+1,"") | E22: =IF(ISNUMBER($D22),COUNTIF($D$15:$D$37,"<"&$D22)+1,"") | G22: =IF(AND(D22<>"",COUNT(D22-$D$9)),(D22-$D$9),"")
B23: =IF(C23<>"",B22+1,"") | E23: =IF(ISNUMBER($D23),COUNTIF($D$15:$D$37,"<"&$D23)+1,"") | G23: =IF(AND(D23<>"",COUNT(D23-$D$9)),(D23-$D$9),"")
B24: =IF(C24<>"",B23+1,"") | E24: =IF(ISNUMBER($D24),COUNTIF($D$15:$D$37,"<"&$D24)+1,"") | G24: =IF(AND(D24<>"",COUNT(D24-$D$9)),(D24-$D$9),"")
B25: =IF(C25<>"",B24+1,"") | E25: =IF(ISNUMBER($D25),COUNTIF($D$15:$D$37,"<"&$D25)+1,"") | G25: =IF(AND(D25<>"",COUNT(D25-$D$9)),(D25-$D$9),"")
B26: =IF(C26<>"",B25+1,"") | E26: =IF(ISNUMBER($D26),COUNTIF($D$15:$D$37,"<"&$D26)+1,"") | G26: =IF(AND(D26<>"",COUNT(D26-$D$9)),(D26-$D$9),"")
B27: =IF(C27<>"",B26+1,"") | E27: =IF(ISNUMBER($D27),COUNTIF($D$15:$D$37,"<"&$D27)+1,"") | G27: =IF(AND(D27<>"",COUNT(D27-$D$9)),(D27-$D$9),"")
... B37: =IF(C37<>"",B36+1,"") | E37: =IF(ISNUMBER($D37),COUNTIF($D$15:$D$37,"<"&$D37)+1,"") | G37: =IF(AND(D37<>"",COUNT(D37-$D$9)),(D37-$D$9),"")

Sheet Feuil7
A1: =CONCATENATE(Base!A1)
A7: =CONCATENATE(Base!A19) -> 6 | B7: =CONCATENATE(Base!C19) -> Menuiseries intérieures
C9: Estimation H.T. | D9: =IF(COUNT(Base!#REF!),Base!#REF!,"'") -> '
B13: N° d'ouverture | C13: Entreprise | D13: Offre | E13: Classement | G13: Delta
B15: =IF(C15<>"",1,"") | E15: =IF(ISNUMBER($D15),COUNTIF($D$15:$D$37,"<"&$D15)+1,"") | G15: =IF(AND(D15<>"",COUNT(D15-$D$9)),(D15-$D$9),"")
B16: =IF(C16<>"",B15+1,"") | E16: =IF(ISNUMBER($D16),COUNTIF($D$15:$D$37,"<"&$D16)+1,"") | G16: =IF(AND(D16<>"",COUNT(D16-$D$9)),(D16-$D$9),"")
B17: =IF(C17<>"",B16+1,"") | E17: =IF(ISNUMBER($D17),COUNTIF($D$15:$D$37,"<"&$D17)+1,"") | G17: =IF(AND(D17<>"",COUNT(D17-$D$9)),(D17-$D$9),"")
B18: =IF(C18<>"",B17+1,"") | E18: =IF(ISNUMBER($D18),COUNTIF($D$15:$D$37,"<"&$D18)+1,"") | G18: =IF(AND(D18<>"",COUNT(D18-$D$9)),(D18-$D$9),"")
B19: =IF(C19<>"",B18+1,"") | E19: =IF(ISNUMBER($D19),COUNTIF($D$15:$D$37,"<"&$D19)+1,"") | G19: =IF(AND(D19<>"",COUNT(D19-$D$9)),(D19-$D$9),"")
B20: =IF(C20<>"",B19+1,"") | E20: =IF(ISNUMBER($D20),COUNTIF($D$15:$D$37,"<"&$D20)+1,"") | G20: =IF(AND(D20<>"",COUNT(D20-$D$9)),(D20-$D$9),"")
B21: =IF(C21<>"",B20+1,"") | E21: =IF(ISNUMBER($D21),COUNTIF($D$15:$D$37,"<"&$D21)+1,"") | G21: =IF(AND(D21<>"",COUNT(D21-$D$9)),(D21-$D$9),"")
B22: =IF(C22<>"",B21+1,"") | E22: =IF(ISNUMBER($D22),COUNTIF($D$15:$D$37,"<"&$D22)+1,"") | G22: =IF(AND(D22<>"",COUNT(D22-$D$9)),(D22-$D$9),"")
B23: =IF(C23<>"",B22+1,"") | E23: =IF(ISNUMBER($D23),COUNTIF($D$15:$D$37,"<"&$D23)+1,"") | G23: =IF(AND(D23<>"",COUNT(D23-$D$9)),(D23-$D$9),"")
B24: =IF(C24<>"",B23+1,"") | E24: =IF(ISNUMBER($D24),COUNTIF($D$15:$D$37,"<"&$D24)+1,"") | G24: =IF(AND(D24<>"",COUNT(D24-$D$9)),(D24-$D$9),"")
B25: =IF(C25<>"",B24+1,"") | E25: =IF(ISNUMBER($D25),COUNTIF($D$15:$D$37,"<"&$D25)+1,"") | G25: =IF(AND(D25<>"",COUNT(D25-$D$9)),(D25-$D$9),"")
B26: =IF(C26<>"",B25+1,"") | E26: =IF(ISNUMBER($D26),COUNTIF($D$15:$D$37,"<"&$D26)+1,"") | G26: =IF(AND(D26<>"",COUNT(D26-$D$9)),(D26-$D$9),"")
B27: =IF(C27<>"",B26+1,"") | E27: =IF(ISNUMBER($D27),COUNTIF($D$15:$D$37,"<"&$D27)+1,"") | G27: =IF(AND(D27<>"",COUNT(D27-$D$9)),(D27-$D$9),"")
... B37: =IF(C37<>"",B36+1,"") | E37: =IF(ISNUMBER($D37),COUNTIF($D$15:$D$37,"<"&$D37)+1,"") | G37: =IF(AND(D37<>"",COUNT(D37-$D$9)),(D37-$D$9),"")

Sheet Feuil8
A1: =CONCATENATE(Base!A1)
A7: =CONCATENATE(Base!A21) -> 7 | B7: =CONCATENATE(Base!C21) -> Platrerie - Peinture - Faux plafonds
C9: Estimation H.T. | D9: =IF(COUNT(Base!#REF!),Base!#REF!,"'") -> '
B13: N° d'ouverture | C13: Entreprise | D13: Offre | E13: Classement | G13: Delta
B15: =IF(C15<>"",1,"") | E15: =IF(ISNUMBER($D15),COUNTIF($D$15:$D$37,"<"&$D15)+1,"") | G15: =IF(AND(D15<>"",COUNT(D15-$D$9)),(D15-$D$9),"")
B16: =IF(C16<>"",B15+1,"") | E16: =IF(ISNUMBER($D16),COUNTIF($D$15:$D$37,"<"&$D16)+1,"") | G16: =IF(AND(D16<>"",COUNT(D16-$D$9)),(D16-$D$9),"")
B17: =IF(C17<>"",B16+1,"") | E17: =IF(ISNUMBER($D17),COUNTIF($D$15:$D$37,"<"&$D17)+1,"") | G17: =IF(AND(D17<>"",COUNT(D17-$D$9)),(D17-$D$9),"")
B18: =IF(C18<>"",B17+1,"") | E18: =IF(ISNUMBER($D18),COUNTIF($D$15:$D$37,"<"&$D18)+1,"") | G18: =IF(AND(D18<>"",COUNT(D18-$D$9)),(D18-$D$9),"")
B19: =IF(C19<>"",B18+1,"") | E19: =IF(ISNUMBER($D19),COUNTIF($D$15:$D$37,"<"&$D19)+1,"") | G19: =IF(AND(D19<>"",COUNT(D19-$D$9)),(D19-$D$9),"")
B20: =IF(C20<>"",B19+1,"") | E20: =IF(ISNUMBER($D20),COUNTIF($D$15:$D$37,"<"&$D20)+1,"") | G20: =IF(AND(D20<>"",COUNT(D20-$D$9)),(D20-$D$9),"")
B21: =IF(C21<>"",B20+1,"") | E21: =IF(ISNUMBER($D21),COUNTIF($D$15:$D$37,"<"&$D21)+1,"") | G21: =IF(AND(D21<>"",COUNT(D21-$D$9)),(D21-$D$9),"")
B22: =IF(C22<>"",B21+1,"") | E22: =IF(ISNUMBER($D22),COUNTIF($D$15:$D$37,"<"&$D22)+1,"") | G22: =IF(AND(D22<>"",COUNT(D22-$D$9)),(D22-$D$9),"")
B23: =IF(C23<>"",B22+1,"") | E23: =IF(ISNUMBER($D23),COUNTIF($D$15:$D$37,"<"&$D23)+1,"") | G23: =IF(AND(D23<>"",COUNT(D23-$D$9)),(D23-$D$9),"")
B24: =IF(C24<>"",B23+1,"") | E24: =IF(ISNUMBER($D24),COUNTIF($D$15:$D$37,"<"&$D24)+1,"") | G24: =IF(AND(D24<>"",COUNT(D24-$D$9)),(D24-$D$9),"")
B25: =IF(C25<>"",B24+1,"") | E25: =IF(ISNUMBER($D25),COUNTIF($D$15:$D$37,"<"&$D25)+1,"") | G25: =IF(AND(D25<>"",COUNT(D25-$D$9)),(D25-$D$9),"")
B26: =IF(C26<>"",B25+1,"") | E26: =IF(ISNUMBER($D26),COUNTIF($D$15:$D$37,"<"&$D26)+1,"") | G26: =IF(AND(D26<>"",COUNT(D26-$D$9)),(D26-$D$9),"")
B27: =IF(C27<>"",B26+1,"") | E27: =IF(ISNUMBER($D27),COUNTIF($D$15:$D$37,"<"&$D27)+1,"") | G27: =IF(AND(D27<>"",COUNT(D27-$D$9)),(D27-$D$9),"")
... B37: =IF(C37<>"",B36+1,"") | E37: =IF(ISNUMBER($D37),COUNTIF($D$15:$D$37,"<"&$D37)+1,"") | G37: =IF(AND(D37<>"",COUNT(D37-$D$9)),(D37-$D$9),"")

Sheet Feuil9
A1: =CONCATENATE(Base!A1)
A7: =CONCATENATE(Base!A23) -> 10 | B7: =CONCATENATE(Base!C23) -> Carrelage
C9: Estimation H.T. | D9: =IF(COUNT(Base!#REF!),Base!#REF!,"'") -> '
B13: N° d'ouverture | C13: Entreprise | D13: Offre | E13: Classement | G13: Delta
B15: =IF(C15<>"",1,"") | E15: =IF(ISNUMBER($D15),COUNTIF($D$15:$D$37,"<"&$D15)+1,"") | G15: =IF(AND(D15<>"",COUNT(D15-$D$9)),(D15-$D$9),"")
B16: =IF(C16<>"",B15+1,"") | E16: =IF(ISNUMBER($D16),COUNTIF($D$15:$D$37,"<"&$D16)+1,"") | G16: =IF(AND(D16<>"",COUNT(D16-$D$9)),(D16-$D$9),"")
B17: =IF(C17<>"",B16+1,"") | E17: =IF(ISNUMBER($D17),COUNTIF($D$15:$D$37,"<"&$D17)+1,"") | G17: =IF(AND(D17<>"",COUNT(D17-$D$9)),(D17-$D$9),"")
B18: =IF(C18<>"",B17+1,"") | E18: =IF(ISNUMBER($D18),COUNTIF($D$15:$D$37,"<"&$D18)+1,"") | G18: =IF(AND(D18<>"",COUNT(D18-$D$9)),(D18-$D$9),"")
B19: =IF(C19<>"",B18+1,"") | E19: =IF(ISNUMBER($D19),COUNTIF($D$15:$D$37,"<"&$D19)+1,"") | G19: =IF(AND(D19<>"",COUNT(D19-$D$9)),(D19-$D$9),"")
B20: =IF(C20<>"",B19+1,"") | E20: =IF(ISNUMBER($D20),COUNTIF($D$15:$D$37,"<"&$D20)+1,"") | G20: =IF(AND(D20<>"",COUNT(D20-$D$9)),(D20-$D$9),"")
B21: =IF(C21<>"",B20+1,"") | E21: =IF(ISNUMBER($D21),COUNTIF($D$15:$D$37,"<"&$D21)+1,"") | G21: =IF(AND(D21<>"",COUNT(D21-$D$9)),(D21-$D$9),"")
B22: =IF(C22<>"",B21+1,"") | E22: =IF(ISNUMBER($D22),COUNTIF($D$15:$D$37,"<"&$D22)+1,"") | G22: =IF(AND(D22<>"",COUNT(D22-$D$9)),(D22-$D$9),"")
B23: =IF(C23<>"",B22+1,"") | E23: =IF(ISNUMBER($D23),COUNTIF($D$15:$D$37,"<"&$D23)+1,"") | G23: =IF(AND(D23<>"",COUNT(D23-$D$9)),(D23-$D$9),"")
B24: =IF(C24<>"",B23+1,"") | E24: =IF(ISNUMBER($D24),COUNTIF($D$15:$D$37,"<"&$D24)+1,"") | G24: =IF(AND(D24<>"",COUNT(D24-$D$9)),(D24-$D$9),"")
B25: =IF(C25<>"",B24+1,"") | E25: =IF(ISNUMBER($D25),COUNTIF($D$15:$D$37,"<"&$D25)+1,"") | G25: =IF(AND(D25<>"",COUNT(D25-$D$9)),(D25-$D$9),"")
B26: =IF(C26<>"",B25+1,"") | E26: =IF(ISNUMBER($D26),COUNTIF($D$15:$D$37,"<"&$D26)+1,"") | G26: =IF(AND(D26<>"",COUNT(D26-$D$9)),(D26-$D$9),"")
B27: =IF(C27<>"",B26+1,"") | E27: =IF(ISNUMBER($D27),COUNTIF($D$15:$D$37,"<"&$D27)+1,"") | G27: =IF(AND(D27<>"",COUNT(D27-$D$9)),(D27-$D$9),"")
... B37: =IF(C37<>"",B36+1,"") | E37: =IF(ISNUMBER($D37),COUNTIF($D$15:$D$37,"<"&$D37)+1,"") | G37: =IF(AND(D37<>"",COUNT(D37-$D$9)),(D37-$D$9),"")

Sheet Feuil10
A1: =CONCATENATE(Base!A1)
A7: =CONCATENATE(Base!A25) -> 11 | B7: =CONCATENATE(Base!C25) -> sol collé
C9: Estimation H.T. | D9: =IF(COUNT(Base!#REF!),Base!#REF!,"'") -> '
B13: N° d'ouverture | C13: Entreprise | D13: Offre | E13: Classement | G13: Delta
B15: =IF(C15<>"",1,"") | E15: =IF(ISNUMBER($D15),COUNTIF($D$15:$D$37,"<"&$D15)+1,"") | G15: =IF(AND(D15<>"",COUNT(D15-$D$9)),(D15-$D$9),"")
B16: =IF(C16<>"",B15+1,"") | E16: =IF(ISNUMBER($D16),COUNTIF($D$15:$D$37,"<"&$D16)+1,"") | G16: =IF(AND(D16<>"",COUNT(D16-$D$9)),(D16-$D$9),"")
B17: =IF(C17<>"",B16+1,"") | E17: =IF(ISNUMBER($D17),COUNTIF($D$15:$D$37,"<"&$D17)+1,"") | G17: =IF(AND(D17<>"",COUNT(D17-$D$9)),(D17-$D$9),"")
B18: =IF(C18<>"",B17+1,"") | E18: =IF(ISNUMBER($D18),COUNTIF($D$15:$D$37,"<"&$D18)+1,"") | G18: =IF(AND(D18<>"",COUNT(D18-$D$9)),(D18-$D$9),"")
B19: =IF(C19<>"",B18+1,"") | E19: =IF(ISNUMBER($D19),COUNTIF($D$15:$D$37,"<"&$D19)+1,"") | G19: =IF(AND(D19<>"",COUNT(D19-$D$9)),(D19-$D$9),"")
B20: =IF(C20<>"",B19+1,"") | E20: =IF(ISNUMBER($D20),COUNTIF($D$15:$D$37,"<"&$D20)+1,"") | G20: =IF(AND(D20<>"",COUNT(D20-$D$9)),(D20-$D$9),"")
B21: =IF(C21<>"",B20+1,"") | E21: =IF(ISNUMBER($D21),COUNTIF($D$15:$D$37,"<"&$D21)+1,"") | G21: =IF(AND(D21<>"",COUNT(D21-$D$9)),(D21-$D$9),"")
B22: =IF(C22<>"",B21+1,"") | E22: =IF(ISNUMBER($D22),COUNTIF($D$15:$D$37,"<"&$D22)+1,"") | G22: =IF(AND(D22<>"",COUNT(D22-$D$9)),(D22-$D$9),"")
B23: =IF(C23<>"",B22+1,"") | E23: =IF(ISNUMBER($D23),COUNTIF($D$15:$D$37,"<"&$D23)+1,"") | G23: =IF(AND(D23<>"",COUNT(D23-$D$9)),(D23-$D$9),"")
B24: =IF(C24<>"",B23+1,"") | E24: =IF(ISNUMBER($D24),COUNTIF($D$15:$D$37,"<"&$D24)+1,"") | G24: =IF(AND(D24<>"",COUNT(D24-$D$9)),(D24-$D$9),"")
B25: =IF(C25<>"",B24+1,"") | E25: =IF(ISNUMBER($D25),COUNTIF($D$15:$D$37,"<"&$D25)+1,"") | G25: =IF(AND(D25<>"",COUNT(D25-$D$9)),(D25-$D$9),"")
B26: =IF(C26<>"",B25+1,"") | E26: =IF(ISNUMBER($D26),COUNTIF($D$15:$D$37,"<"&$D26)+1,"") | G26: =IF(AND(D26<>"",COUNT(D26-$D$9)),(D26-$D$9),"")
B27: =IF(C27<>"",B26+1,"") | E27: =IF(ISNUMBER($D27),COUNTIF($D$15:$D$37,"<"&$D27)+1,"") | G27: =IF(AND(D27<>"",COUNT(D27-$D$9)),(D27-$D$9),"")
... B37: =IF(C37<>"",B36+1,"") | E37: =IF(ISNUMBER($D37),COUNTIF($D$15:$D$37,"<"&$D37)+1,"") | G37: =IF(AND(D37<>"",COUNT(D37-$D$9)),(D37-$D$9),"")

Sheet Feuil11
A1: =CONCATENATE(Base!A1)
A7: =CONCATENATE(Base!A27) | B7: =CONCATENATE(Base!C27)
C9: Estimation H.T. | D9: =IF(COUNT(Base!#REF!),Base!#REF!,"'") -> '
B13: N° d'ouverture | C13: Entreprise | D13: Offre | E13: Classement | G13: Delta
B15: =IF(C15<>"",1,"") | E15: =IF(ISNUMBER($D15),COUNTIF($D$15:$D$37,"<"&$D15)+1,"") | G15: =IF(AND(D15<>"",COUNT(D15-$D$9)),(D15-$D$9),"")
B16: =IF(C16<>"",B15+1,"") | E16: =IF(ISNUMBER($D16),COUNTIF($D$15:$D$37,"<"&$D16)+1,"") | G16: =IF(AND(D16<>"",COUNT(D16-$D$9)),(D16-$D$9),"")
B17: =IF(C17<>"",B16+1,"") | E17: =IF(ISNUMBER($D17),COUNTIF($D$15:$D$37,"<"&$D17)+1,"") | G17: =IF(AND(D17<>"",COUNT(D17-$D$9)),(D17-$D$9),"")
B18: =IF(C18<>"",B17+1,"") | E18: =IF(ISNUMBER($D18),COUNTIF($D$15:$D$37,"<"&$D18)+1,"") | G18: =IF(AND(D18<>"",COUNT(D18-$D$9)),(D18-$D$9),"")
B19: =IF(C19<>"",B18+1,"") | E19: =IF(ISNUMBER($D19),COUNTIF($D$15:$D$37,"<"&$D19)+1,"") | G19: =IF(AND(D19<>"",COUNT(D19-$D$9)),(D19-$D$9),"")
B20: =IF(C20<>"",B19+1,"") | E20: =IF(ISNUMBER($D20),COUNTIF($D$15:$D$37,"<"&$D20)+1,"") | G20: =IF(AND(D20<>"",COUNT(D20-$D$9)),(D20-$D$9),"")
B21: =IF(C21<>"",B20+1,"") | E21: =IF(ISNUMBER($D21),COUNTIF($D$15:$D$37,"<"&$D21)+1,"") | G21: =IF(AND(D21<>"",COUNT(D21-$D$9)),(D21-$D$9),"")
B22: =IF(C22<>"",B21+1,"") | E22: =IF(ISNUMBER($D22),COUNTIF($D$15:$D$37,"<"&$D22)+1,"") | G22: =IF(AND(D22<>"",COUNT(D22-$D$9)),(D22-$D$9),"")
B23: =IF(C23<>"",B22+1,"") | E23: =IF(ISNUMBER($D23),COUNTIF($D$15:$D$37,"<"&$D23)+1,"") | G23: =IF(AND(D23<>"",COUNT(D23-$D$9)),(D23-$D$9),"")
B24: =IF(C24<>"",B23+1,"") | E24: =IF(ISNUMBER($D24),COUNTIF($D$15:$D$37,"<"&$D24)+1,"") | G24: =IF(AND(D24<>"",COUNT(D24-$D$9)),(D24-$D$9),"")
B25: =IF(C25<>"",B24+1,"") | E25: =IF(ISNUMBER($D25),COUNTIF($D$15:$D$37,"<"&$D25)+1,"") | G25: =IF(AND(D25<>"",COUNT(D25-$D$9)),(D25-$D$9),"")
B26: =IF(C26<>"",B25+1,"") | E26: =IF(ISNUMBER($D26),COUNTIF($D$15:$D$37,"<"&$D26)+1,"") | G26: =IF(AND(D26<>"",COUNT(D26-$D$9)),(D26-$D$9),"")
B27: =IF(C27<>"",B26+1,"") | E27: =IF(ISNUMBER($D27),COUNTIF($D$15:$D$37,"<"&$D27)+1,"") | G27: =IF(AND(D27<>"",COUNT(D27-$D$9)),(D27-$D$9),"")
... B37: =IF(C37<>"",B36+1,"") | E37: =IF(ISNUMBER($D37),COUNTIF($D$15:$D$37,"<"&$D37)+1,"") | G37: =IF(AND(D37<>"",COUNT(D37-$D$9)),(D37-$D$9),"")

Sheet Feuil12
A1: =CONCATENATE(Base!A1)
A7: =CONCATENATE(Base!A29) | B7: =CONCATENATE(Base!C29)
C9: Estimation H.T. | D9: =IF(COUNT(Base!#REF!),Base!#REF!,"'") -> '
B13: N° d'ouverture | C13: Entreprise | D13: Offre | E13: Classement | G13: Delta
B15: =IF(C15<>"",1,"") | E15: =IF(ISNUMBER($D15),COUNTIF($D$15:$D$37,"<"&$D15)+1,"") | G15: =IF(AND(D15<>"",COUNT(D15-$D$9)),(D15-$D$9),"")
B16: =IF(C16<>"",B15+1,"") | E16: =IF(ISNUMBER($D16),COUNTIF($D$15:$D$37,"<"&$D16)+1,"") | G16: =IF(AND(D16<>"",COUNT(D16-$D$9)),(D16-$D$9),"")
B17: =IF(C17<>"",B16+1,"") | E17: =IF(ISNUMBER($D17),COUNTIF($D$15:$D$37,"<"&$D17)+1,"") | G17: =IF(AND(D17<>"",COUNT(D17-$D$9)),(D17-$D$9),"")
B18: =IF(C18<>"",B17+1,"") | E18: =IF(ISNUMBER($D18),COUNTIF($D$15:$D$37,"<"&$D18)+1,"") | G18: =IF(AND(D18<>"",COUNT(D18-$D$9)),(D18-$D$9),"")
B19: =IF(C19<>"",B18+1,"") | E19: =IF(ISNUMBER($D19),COUNTIF($D$15:$D$37,"<"&$D19)+1,"") | G19: =IF(AND(D19<>"",COUNT(D19-$D$9)),(D19-$D$9),"")
B20: =IF(C20<>"",B19+1,"") | E20: =IF(ISNUMBER($D20),COUNTIF($D$15:$D$37,"<"&$D20)+1,"") | G20: =IF(AND(D20<>"",COUNT(D20-$D$9)),(D20-$D$9),"")
B21: =IF(C21<>"",B20+1,"") | E21: =IF(ISNUMBER($D21),COUNTIF($D$15:$D$37,"<"&$D21)+1,"") | G21: =IF(AND(D21<>"",COUNT(D21-$D$9)),(D21-$D$9),"")
B22: =IF(C22<>"",B21+1,"") | E22: =IF(ISNUMBER($D22),COUNTIF($D$15:$D$37,"<"&$D22)+1,"") | G22: =IF(AND(D22<>"",COUNT(D22-$D$9)),(D22-$D$9),"")
B23: =IF(C23<>"",B22+1,"") | E23: =IF(ISNUMBER($D23),COUNTIF($D$15:$D$37,"<"&$D23)+1,"") | G23: =IF(AND(D23<>"",COUNT(D23-$D$9)),(D23-$D$9),"")
B24: =IF(C24<>"",B23+1,"") | E24: =IF(ISNUMBER($D24),COUNTIF($D$15:$D$37,"<"&$D24)+1,"") | G24: =IF(AND(D24<>"",COUNT(D24-$D$9)),(D24-$D$9),"")
B25: =IF(C25<>"",B24+1,"") | E25: =IF(ISNUMBER($D25),COUNTIF($D$15:$D$37,"<"&$D25)+1,"") | G25: =IF(AND(D25<>"",COUNT(D25-$D$9)),(D25-$D$9),"")
B26: =IF(C26<>"",B25+1,"") | E26: =IF(ISNUMBER($D26),COUNTIF($D$15:$D$37,"<"&$D26)+1,"") | G26: =IF(AND(D26<>"",COUNT(D26-$D$9)),(D26-$D$9),"")
B27: =IF(C27<>"",B26+1,"") | E27: =IF(ISNUMBER($D27),COUNTIF($D$15:$D$37,"<"&$D27)+1,"") | G27: =IF(AND(D27<>"",COUNT(D27-$D$9)),(D27-$D$9),"")
... B37: =IF(C37<>"",B36+1,"") | E37: =IF(ISNUMBER($D37),COUNTIF($D$15:$D$37,"<"&$D37)+1,"") | G37: =IF(AND(D37<>"",COUNT(D37-$D$9)),(D37-$D$9),"")

Sheet Feuil13
A1: =CONCATENATE(Base!A1)
A7: =CONCATENATE(Base!A31) | B7: =CONCATENATE(Base!C31)
C9: Estimation H.T. | D9: =IF(COUNT(Base!#REF!),Base!#REF!,"'") -> '
B13: N° d'ouverture | C13: Entreprise | D13: Offre | E13: Classement | G13: Delta
B15: =IF(C15<>"",1,"") | E15: =IF(ISNUMBER($D15),COUNTIF($D$15:$D$37,"<"&$D15)+1,"") | G15: =IF(AND(D15<>"",COUNT(D15-$D$9)),(D15-$D$9),"")
B16: =IF(C16<>"",B15+1,"") | E16: =IF(ISNUMBER($D16),COUNTIF($D$15:$D$37,"<"&$D16)+1,"") | G16: =IF(AND(D16<>"",COUNT(D16-$D$9)),(D16-$D$9),"")
B17: =IF(C17<>"",B16+1,"") | E17: =IF(ISNUMBER($D17),COUNTIF($D$15:$D$37,"<"&$D17)+1,"") | G17: =IF(AND(D17<>"",COUNT(D17-$D$9)),(D17-$D$9),"")
B18: =IF(C18<>"",B17+1,"") | E18: =IF(ISNUMBER($D18),COUNTIF($D$15:$D$37,"<"&$D18)+1,"") | G18: =IF(AND(D18<>"",COUNT(D18-$D$9)),(D18-$D$9),"")
B19: =IF(C19<>"",B18+1,"") | E19: =IF(ISNUMBER($D19),COUNTIF($D$15:$D$37,"<"&$D19)+1,"") | G19: =IF(AND(D19<>"",COUNT(D19-$D$9)),(D19-$D$9),"")
B20: =IF(C20<>"",B19+1,"") | E20: =IF(ISNUMBER($D20),COUNTIF($D$15:$D$37,"<"&$D20)+1,"") | G20: =IF(AND(D20<>"",COUNT(D20-$D$9)),(D20-$D$9),"")
B21: =IF(C21<>"",B20+1,"") | E21: =IF(ISNUMBER($D21),COUNTIF($D$15:$D$37,"<"&$D21)+1,"") | G21: =IF(AND(D21<>"",COUNT(D21-$D$9)),(D21-$D$9),"")
B22: =IF(C22<>"",B21+1,"") | E22: =IF(ISNUMBER($D22),COUNTIF($D$15:$D$37,"<"&$D22)+1,"") | G22: =IF(AND(D22<>"",COUNT(D22-$D$9)),(D22-$D$9),"")
B23: =IF(C23<>"",B22+1,"") | E23: =IF(ISNUMBER($D23),COUNTIF($D$15:$D$37,"<"&$D23)+1,"") | G23: =IF(AND(D23<>"",COUNT(D23-$D$9)),(D23-$D$9),"")
B24: =IF(C24<>"",B23+1,"") | E24: =IF(ISNUMBER($D24),COUNTIF($D$15:$D$37,"<"&$D24)+1,"") | G24: =IF(AND(D24<>"",COUNT(D24-$D$9)),(D24-$D$9),"")
B25: =IF(C25<>"",B24+1,"") | E25: =IF(ISNUMBER($D25),COUNTIF($D$15:$D$37,"<"&$D25)+1,"") | G25: =IF(AND(D25<>"",COUNT(D25-$D$9)),(D25-$D$9),"")
B26: =IF(C26<>"",B25+1,"") | E26: =IF(ISNUMBER($D26),COUNTIF($D$15:$D$37,"<"&$D26)+1,"") | G26: =IF(AND(D26<>"",COUNT(D26-$D$9)),(D26-$D$9),"")
B27: =IF(C27<>"",B26+1,"") | E27: =IF(ISNUMBER($D27),COUNTIF($D$15:$D$37,"<"&$D27)+1,"") | G27: =IF(AND(D27<>"",COUNT(D27-$D$9)),(D27-$D$9),"")
... B37: =IF(C37<>"",B36+1,"") | E37: =IF(ISNUMBER($D37),COUNTIF($D$15:$D$37,"<"&$D37)+1,"") | G37: =IF(AND(D37<>"",COUNT(D37-$D$9)),(D37-$D$9),"")

Sheet Feuil14
A1: =CONCATENATE(Base!A1)
A7: =CONCATENATE(Base!A33) -> 8 | B7: =CONCATENATE(Base!C33) -> Courant
C9: Estimation H.T. | D9: =IF(COUNT(Base!#REF!),Base!#REF!,"'") -> '
B13: N° d'ouverture | C13: Entreprise | D13: Offre | E13: Classement | G13: Delta
B15: =IF(C15<>"",1,"") | E15: =IF(ISNUMBER($D15),COUNTIF($D$15:$D$37,"<"&$D15)+1,"") | G15: =IF(AND(D15<>"",COUNT(D15-$D$9)),(D15-$D$9),"")
B16: =IF(C16<>"",B15+1,"") | E16: =IF(ISNUMBER($D16),COUNTIF($D$15:$D$37,"<"&$D16)+1,"") | G16: =IF(AND(D16<>"",COUNT(D16-$D$9)),(D16-$D$9),"")
B17: =IF(C17<>"",B16+1,"") | E17: =IF(ISNUMBER($D17),COUNTIF($D$15:$D$37,"<"&$D17)+1,"") | G17: =IF(AND(D17<>"",COUNT(D17-$D$9)),(D17-$D$9),"")
B18: =IF(C18<>"",B17+1,"") | E18: =IF(ISNUMBER($D18),COUNTIF($D$15:$D$37,"<"&$D18)+1,"") | G18: =IF(AND(D18<>"",COUNT(D18-$D$9)),(D18-$D$9),"")
B19: =IF(C19<>"",B18+1,"") | E19: =IF(ISNUMBER($D19),COUNTIF($D$15:$D$37,"<"&$D19)+1,"") | G19: =IF(AND(D19<>"",COUNT(D19-$D$9)),(D19-$D$9),"")
B20: =IF(C20<>"",B19+1,"") | E20: =IF(ISNUMBER($D20),COUNTIF($D$15:$D$37,"<"&$D20)+1,"") | G20: =IF(AND(D20<>"",COUNT(D20-$D$9)),(D20-$D$9),"")
B21: =IF(C21<>"",B20+1,"") | E21: =IF(ISNUMBER($D21),COUNTIF($D$15:$D$37,"<"&$D21)+1,"") | G21: =IF(AND(D21<>"",COUNT(D21-$D$9)),(D21-$D$9),"")
B22: =IF(C22<>"",B21+1,"") | E22: =IF(ISNUMBER($D22),COUNTIF($D$15:$D$37,"<"&$D22)+1,"") | G22: =IF(AND(D22<>"",COUNT(D22-$D$9)),(D22-$D$9),"")
B23: =IF(C23<>"",B22+1,"") | E23: =IF(ISNUMBER($D23),COUNTIF($D$15:$D$37,"<"&$D23)+1,"") | G23: =IF(AND(D23<>"",COUNT(D23-$D$9)),(D23-$D$9),"")
B24: =IF(C24<>"",B23+1,"") | E24: =IF(ISNUMBER($D24),COUNTIF($D$15:$D$37,"<"&$D24)+1,"") | G24: =IF(AND(D24<>"",COUNT(D24-$D$9)),(D24-$D$9),"")
B25: =IF(C25<>"",B24+1,"") | E25: =IF(ISNUMBER($D25),COUNTIF($D$15:$D$37,"<"&$D25)+1,"") | G25: =IF(AND(D25<>"",COUNT(D25-$D$9)),(D25-$D$9),"")
B26: =IF(C26<>"",B25+1,"") | E26: =IF(ISNUMBER($D26),COUNTIF($D$15:$D$37,"<"&$D26)+1,"") | G26: =IF(AND(D26<>"",COUNT(D26-$D$9)),(D26-$D$9),"")
B27: =IF(C27<>"",B26+1,"") | E27: =IF(ISNUMBER($D27),COUNTIF($D$15:$D$37,"<"&$D27)+1,"") | G27: =IF(AND(D27<>"",COUNT(D27-$D$9)),(D27-$D$9),"")
... B37: =IF(C37<>"",B36+1,"") | E37: =IF(ISNUMBER($D37),COUNTIF($D$15:$D$37,"<"&$D37)+1,"") | G37: =IF(AND(D37<>"",COUNT(D37-$D$9)),(D37-$D$9),"")

Sheet Feuil15
A1: =CONCATENATE(Base!A1)
A7: =CONCATENATE(Base!A35) -> 9 | B7: =CONCATENATE(Base!C35) -> WC
C9: Estimation H.T. | D9: =IF(COUNT(Base!#REF!),Base!#REF!,"'") -> '
B13: N° d'ouverture | C13: Entreprise | D13: Offre | E13: Classement | G13: Delta
B15: =IF(C15<>"",1,"") | E15: =IF(ISNUMBER($D15),COUNTIF($D$15:$D$37,"<"&$D15)+1,"") | G15: =IF(AND(D15<>"",COUNT(D15-$D$9)),(D15-$D$9),"")
B16: =IF(C16<>"",B15+1,"") | E16: =IF(ISNUMBER($D16),COUNTIF($D$15:$D$37,"<"&$D16)+1,"") | G16: =IF(AND(D16<>"",COUNT(D16-$D$9)),(D16-$D$9),"")
B17: =IF(C17<>"",B16+1,"") | E17: =IF(ISNUMBER($D17),COUNTIF($D$15:$D$37,"<"&$D17)+1,"") | G17: =IF(AND(D17<>"",COUNT(D17-$D$9)),(D17-$D$9),"")
B18: =IF(C18<>"",B17+1,"") | E18: =IF(ISNUMBER($D18),COUNTIF($D$15:$D$37,"<"&$D18)+1,"") | G18: =IF(AND(D18<>"",COUNT(D18-$D$9)),(D18-$D$9),"")
B19: =IF(C19<>"",B18+1,"") | E19: =IF(ISNUMBER($D19),COUNTIF($D$15:$D$37,"<"&$D19)+1,"") | G19: =IF(AND(D19<>"",COUNT(D19-$D$9)),(D19-$D$9),"")
B20: =IF(C20<>"",B19+1,"") | E20: =IF(ISNUMBER($D20),COUNTIF($D$15:$D$37,"<"&$D20)+1,"") | G20: =IF(AND(D20<>"",COUNT(D20-$D$9)),(D20-$D$9),"")
B21: =IF(C21<>"",B20+1,"") | E21: =IF(ISNUMBER($D21),COUNTIF($D$15:$D$37,"<"&$D21)+1,"") | G21: =IF(AND(D21<>"",COUNT(D21-$D$9)),(D21-$D$9),"")
B22: =IF(C22<>"",B21+1,"") | E22: =IF(ISNUMBER($D22),COUNTIF($D$15:$D$37,"<"&$D22)+1,"") | G22: =IF(AND(D22<>"",COUNT(D22-$D$9)),(D22-$D$9),"")
B23: =IF(C23<>"",B22+1,"") | E23: =IF(ISNUMBER($D23),COUNTIF($D$15:$D$37,"<"&$D23)+1,"") | G23: =IF(AND(D23<>"",COUNT(D23-$D$9)),(D23-$D$9),"")
B24: =IF(C24<>"",B23+1,"") | E24: =IF(ISNUMBER($D24),COUNTIF($D$15:$D$37,"<"&$D24)+1,"") | G24: =IF(AND(D24<>"",COUNT(D24-$D$9)),(D24-$D$9),"")
B25: =IF(C25<>"",B24+1,"") | E25: =IF(ISNUMBER($D25),COUNTIF($D$15:$D$37,"<"&$D25)+1,"") | G25: =IF(AND(D25<>"",COUNT(D25-$D$9)),(D25-$D$9),"")
B26: =IF(C26<>"",B25+1,"") | E26: =IF(ISNUMBER($D26),COUNTIF($D$15:$D$37,"<"&$D26)+1,"") | G26: =IF(AND(D26<>"",COUNT(D26-$D$9)),(D26-$D$9),"")
B27: =IF(C27<>"",B26+1,"") | E27: =IF(ISNUMBER($D27),COUNTIF($D$15:$D$37,"<"&$D27)+1,"") | G27: =IF(AND(D27<>"",COUNT(D27-$D$9)),(D27-$D$9),"")
... B37: =IF(C37<>"",B36+1,"") | E37: =IF(ISNUMBER($D37),COUNTIF($D$15:$D$37,"<"&$D37)+1,"") | G37: =IF(AND(D37<>"",COUNT(D37-$D$9)),(D37-$D$9),"")

Sheet Feuil16
A1: =CONCATENATE(Base!A1)
A7: =CONCATENATE(Base!A37) | B7: =CONCATENATE(Base!C37)
C9: Estimation H.T. | D9: =IF(COUNT(Base!#REF!),Base!#REF!,"'") -> '
B13: N° d'ouverture | C13: Entreprise | D13: Offre | E13: Classement | G13: Delta
B15: =IF(C15<>"",1,"") | E15: =IF(ISNUMBER($D15),COUNTIF($D$15:$D$37,"<"&$D15)+1,"") | G15: =IF(AND(D15<>"",COUNT(D15-$D$9)),(D15-$D$9),"")
B16: =IF(C16<>"",B15+1,"") | E16: =IF(ISNUMBER($D16),COUNTIF($D$15:$D$37,"<"&$D16)+1,"") | G16: =IF(AND(D16<>"",COUNT(D16-$D$9)),(D16-$D$9),"")
B17: =IF(C17<>"",B16+1,"") | E17: =IF(ISNUMBER($D17),COUNTIF($D$15:$D$37,"<"&$D17)+1,"") | G17: =IF(AND(D17<>"",COUNT(D17-$D$9)),(D17-$D$9),"")
B18: =IF(C18<>"",B17+1,"") | E18: =IF(ISNUMBER($D18),COUNTIF($D$15:$D$37,"<"&$D18)+1,"") | G18: =IF(AND(D18<>"",COUNT(D18-$D$9)),(D18-$D$9),"")
B19: =IF(C19<>"",B18+1,"") | E19: =IF(ISNUMBER($D19),COUNTIF($D$15:$D$37,"<"&$D19)+1,"") | G19: =IF(AND(D19<>"",COUNT(D19-$D$9)),(D19-$D$9),"")
B20: =IF(C20<>"",B19+1,"") | E20: =IF(ISNUMBER($D20),COUNTIF($D$15:$D$37,"<"&$D20)+1,"") | G20: =IF(AND(D20<>"",COUNT(D20-$D$9)),(D20-$D$9),"")
B21: =IF(C21<>"",B20+1,"") | E21: =IF(ISNUMBER($D21),COUNTIF($D$15:$D$37,"<"&$D21)+1,"") | G21: =IF(AND(D21<>"",COUNT(D21-$D$9)),(D21-$D$9),"")
B22: =IF(C22<>"",B21+1,"") | E22: =IF(ISNUMBER($D22),COUNTIF($D$15:$D$37,"<"&$D22)+1,"") | G22: =IF(AND(D22<>"",COUNT(D22-$D$9)),(D22-$D$9),"")
B23: =IF(C23<>"",B22+1,"") | E23: =IF(ISNUMBER($D23),COUNTIF($D$15:$D$37,"<"&$D23)+1,"") | G23: =IF(AND(D23<>"",COUNT(D23-$D$9)),(D23-$D$9),"")
B24: =IF(C24<>"",B23+1,"") | E24: =IF(ISNUMBER($D24),COUNTIF($D$15:$D$37,"<"&$D24)+1,"") | G24: =IF(AND(D24<>"",COUNT(D24-$D$9)),(D24-$D$9),"")
B25: =IF(C25<>"",B24+1,"") | E25: =IF(ISNUMBER($D25),COUNTIF($D$15:$D$37,"<"&$D25)+1,"") | G25: =IF(AND(D25<>"",COUNT(D25-$D$9)),(D25-$D$9),"")
B26: =IF(C26<>"",B25+1,"") | E26: =IF(ISNUMBER($D26),COUNTIF($D$15:$D$37,"<"&$D26)+1,"") | G26: =IF(AND(D26<>"",COUNT(D26-$D$9)),(D26-$D$9),"")
B27: =IF(C27<>"",B26+1,"") | E27: =IF(ISNUMBER($D27),COUNTIF($D$15:$D$37,"<"&$D27)+1,"") | G27: =IF(AND(D27<>"",COUNT(D27-$D$9)),(D27-$D$9),"")
... B37: =IF(C37<>"",B36+1,"") | E37: =IF(ISNUMBER($D37),COUNTIF($D$15:$D$37,"<"&$D37)+1,"") | G37: =IF(AND(D37<>"",COUNT(D37-$D$9)),(D37-$D$9),"")
