Workbook

Sheet Feuil1
A1: ='[1]1SCSOPTI'!A1 -> JournalCode | B1: ='[1]1SCSOPTI'!B1 -> JournalLib | C1: ='[1]1SCSOPTI'!C1 -> EcritureNum | D1: ='[1]1SCSOPTI'!D1 -> EcritureDate | E1: ='[1]1SCSOPTI'!E1 -> CompteNum | F1: ='[1]1SCSOPTI'!F1 -> CompteLib | G1: ='[1]1SCSOPTI'!G1 -> CompAuxNum | H1: ='[1]1SCSOPTI'!H1 -> CompAuxLib | ... R1: ='[1]1SCSOPTI'!R1 -> Idevise
A2: ='[1]1SCSOPTI'!A2 -> 1 | B2: ='[1]1SCSOPTI'!B2 -> ACHAT | C2: ='[1]1SCSOPTI'!C2 -> 1 | D2: ='[1]1SCSOPTI'!D2 -> 20220101 | E2: ='[1]1SCSOPTI'!E2 -> 401 | F2: ='[1]1SCSOPTI'!F2 -> Collectif fournisseur | G2: ='[1]1SCSOPTI'!G2 -> FDIV | H2: ='[1]1SCSOPTI'!H2 -> DIV | ... K2: ='[1]1SCSOPTI'!K2 -> FRAIS ACQUISITION NOTAIRES | L2: {=IFERROR(_xlfn.IFS((LEFT('[1]1SCSOPTI'!E2,1)="C"),('[1]1SCSOPTI'!L2*'[1]Répartition des résultats'!$C$5),(LEFT('[1]1SCSOPTI'!E2,1)="F"),('[1]1SCSOPTI'!L2*'[1]Répartition des résultats'!$C$5),(LEFT('[1]1SCSOPTI'!E2,1)="1"),('[1]1SCSOPTI'!L2),(LEFT('[1]1SCSOPTI'!E2,1)="3"),('[1]1SCSOPTI'!L2*'[1]Répartition des résultats'!$C$5),(LEFT('[1]1SCSOPTI'!E2,2)<"45"),('[1]1SCSOPTI'!L2*'[1]Répartition des résultats'!$C$5),(LEFT('[1]1SCSOPTI'!E2,2)>"46"),('[1]1SCSOPTI'!L2*'[1]Répartition des résultats'!$C$5),(LEFT('[1]1SCSOPTI'!E2,4)="4452"),('[1]1SCSOPTI'!L2),(LEFT('[1]1SCSOPTI'!E2,4)="4672"),('[1]1SCSOPTI'!L2),(LEFT('[1]1SCSOPTI'!E2,1)="5"),('[1]1SCSOPTI'!L2),(LEFT('[1]1SCSOPTI'!E2,1)="6"),('[1]1SCSOPTI'!L2*'[1]Répartition des résultats'!$C$5),(LEFT('[1]1SCSOPTI'!E2,1)="7"),('[1]1SCSOPTI'!L2*'[1]Répartition des résultats'!$C$5)),0)} -> 0 | M2: {=IFERROR(_xlfn.IFS((LEFT('[1]1SCSOPTI'!E2,1)="C"),('[1]1SCSOPTI'!M2*'[1]Répartition des résultats'!$C$5),(LEFT('[1]1SCSOPTI'!E2,1)="F"),('[1]1SCSOPTI'!M2*'[1]Répartition des résultats'!$C$5),(LEFT('[1]1SCSOPTI'!E2,1)="1"),('[1]1SCSOPTI'!M2),(LEFT('[1]1SCSOPTI'!E2,1)="3"),('[1]1SCSOPTI'!M2*'[1]Répartition des résultats'!$C$5),(LEFT('[1]1SCSOPTI'!E2,2)<"45"),('[1]1SCSOPTI'!M2*'[1]Répartition des résultats'!$C$5),(LEFT('[1]1SCSOPTI'!E2,2)>"46"),('[1]1SCSOPTI'!M2*'[1]Répartition des résultats'!$C$5),(LEFT('[1]1SCSOPTI'!E2,4)="4452"),('[1]1SCSOPTI'!M2),(LEFT('[1]1SCSOPTI'!E2,4)="4672"),('[1]1SCSOPTI'!M2),(LEFT('[1]1SCSOPTI'!E2,1)="5"),('[1]1SCSOPTI'!M2),(LEFT('[1]1SCSOPTI'!E2,1)="6"),('[1]1SCSOPTI'!M2*'[1]Répartition des résultats'!$C$5),(LEFT('[1]1SCSOPTI'!E2,1)="7"),('[1]1SCSOPTI'!M2*'[1]Répartition des résultats'!$C$5)),0)} -> 8120 | N2: ='[1]1SCSOPTI'!N2 -> D | O2: ='[1]1SCSOPTI'!O2 -> 20230626 | P2: ='[1]1SCSOPTI'!P2 -> 20230626 | Q2: ='[1]1SCSOPTI'!Q2 -> 0 | R2: ='[1]1SCSOPTI'!R2 -> 0
A3: ='[1]1SCSOPTI'!A3 -> 1 | B3: ='[1]1SCSOPTI'!B3 -> ACHAT | C3: ='[1]1SCSOPTI'!C3 -> 1 | D3: ='[1]1SCSOPTI'!D3 -> 20220101 | E3: ='[1]1SCSOPTI'!E3 -> 622660 | F3: ='[1]1SCSOPTI'!F3 -> NOTAIRES FRAIS D'ACQUISITION | G3: ='[1]1SCSOPTI'!G3 -> 0 | H3: ='[1]1SCSOPTI'!H3 -> 0 | ... K3: ='[1]1SCSOPTI'!K3 -> FRAIS ACQUISITION NOTAIRES projet acq I1 | L3: {=IFERROR(_xlfn.IFS((LEFT('[1]1SCSOPTI'!E3,1)="C"),('[1]1SCSOPTI'!L3*'[1]Répartition des résultats'!$C$5),(LEFT('[1]1SCSOPTI'!E3,1)="F"),('[1]1SCSOPTI'!L3*'[1]Répartition des résultats'!$C$5),(LEFT('[1]1SCSOPTI'!E3,1)="1"),('[1]1SCSOPTI'!L3),(LEFT('[1]1SCSOPTI'!E3,1)="3"),('[1]1SCSOPTI'!L3*'[1]Répartition des résultats'!$C$5),(LEFT('[1]1SCSOPTI'!E3,2)<"45"),('[1]1SCSOPTI'!L3*'[1]Répartition des résultats'!$C$5),(LEFT('[1]1SCSOPTI'!E3,2)>"46"),('[1]1SCSOPTI'!L3*'[1]Répartition des résultats'!$C$5),(LEFT('[1]1SCSOPTI'!E3,4)="4452"),('[1]1SCSOPTI'!L3),(LEFT('[1]1SCSOPTI'!E3,4)="4672"),('[1]1SCSOPTI'!L3),(LEFT('[1]1SCSOPTI'!E3,1)="5"),('[1]1SCSOPTI'!L3),(LEFT('[1]1SCSOPTI'!E3,1)="6"),('[1]1SCSOPTI'!L3*'[1]Répartition des résultats'!$C$5),(LEFT('[1]1SCSOPTI'!E3,1)="7"),('[1]1SCSOPTI'!L3*'[1]Répartition des résultats'!$C$5)),0)} -> 2560 | M3: {=IFERROR(_xlfn.IFS((LEFT('[1]1SCSOPTI'!E3,1)="C"),('[1]1SCSOPTI'!M3*'[1]Répartition des résultats'!$C$5),(LEFT('[1]1SCSOPTI'!E3,1)="F"),('[1]1SCSOPTI'!M3*'[1]Répartition des résultats'!$C$5),(LEFT('[1]1SCSOPTI'!E3,1)="1"),('[1]1SCSOPTI'!M3),(LEFT('[1]1SCSOPTI'!E3,1)="3"),('[1]1SCSOPTI'!M3*'[1]Répartition des résultats'!$C$5),(LEFT('[1]1SCSOPTI'!E3,2)<"45"),('[1]1SCSOPTI'!M3*'[1]Répartition des résultats'!$C$5),(LEFT('[1]1SCSOPTI'!E3,2)>"46"),('[1]1SCSOPTI'!M3*'[1]Répartition des résultats'!$C$5),(LEFT('[1]1SCSOPTI'!E3,4)="4452"),('[1]1SCSOPTI'!M3),(LEFT('[1]1SCSOPTI'!E3,4)="4672"),('[1]1SCSOPTI'!M3),(LEFT('[1]1SCSOPTI'!E3,1)="5"),('[1]1SCSOPTI'!M3),(LEFT('[1]1SCSOPTI'!E3,1)="6"),('[1]1SCSOPTI'!M3*'[1]Répartition des résultats'!$C$5),(LEFT('[1]1SCSOPTI'!E3,1)="7"),('[1]1SCSOPTI'!M3*'[1]Répartition des résultats'!$C$5)),0)} -> 0 | N3: ='[1]1SCSOPTI'!N3 -> 0 | O3: ='[1]1SCSOPTI'!O3 -> 0 | P3: ='[1]1SCSOPTI'!P3 -> 20230626 | Q3: ='[1]1SCSOPTI'!Q3 -> 0 | R3: ='[1]1SCSOPTI'!R3 -> 0
A4: ='[1]1SCSOPTI'!A4 -> 1 | B4: ='[1]1SCSOPTI'!B4 -> ACHAT | C4: ='[1]1SCSOPTI'!C4 -> 1 | D4: ='[1]1SCSOPTI'!D4 -> 20220101 | E4: ='[1]1SCSOPTI'!E4 -> 622660 | F4: ='[1]1SCSOPTI'!F4 -> NOTAIRES FRAIS D'ACQUISITION | G4: ='[1]1SCSOPTI'!G4 -> 0 | H4: ='[1]1SCSOPTI'!H4 -> 0 | ... K4: ='[1]1SCSOPTI'!K4 -> FRAIS ACQUISITION NOTAIRES RACHAT 1 I2/I3/I4/I5 | L4: {=IFERROR(_xlfn.IFS((LEFT('[1]1SCSOPTI'!E4,1)="C"),('[1]1SCSOPTI'!L4*'[1]Répartition des résultats'!$C$5),(LEFT('[1]1SCSOPTI'!E4,1)="F"),('[1]1SCSOPTI'!L4*'[1]Répartition des résultats'!$C$5),(LEFT('[1]1SCSOPTI'!E4,1)="1"),('[1]1SCSOPTI'!L4),(LEFT('[1]1SCSOPTI'!E4,1)="3"),('[1]1SCSOPTI'!L4*'[1]Répartition des résultats'!$C$5),(LEFT('[1]1SCSOPTI'!E4,2)<"45"),('[1]1SCSOPTI'!L4*'[1]Répartition des résultats'!$C$5),(LEFT('[1]1SCSOPTI'!E4,2)>"46"),('[1]1SCSOPTI'!L4*'[1]Répartition des résultats'!$C$5),(LEFT('[1]1SCSOPTI'!E4,4)="4452"),('[1]1SCSOPTI'!L4),(LEFT('[1]1SCSOPTI'!E4,4)="4672"),('[1]1SCSOPTI'!L4),(LEFT('[1]1SCSOPTI'!E4,1)="5"),('[1]1SCSOPTI'!L4),(LEFT('[1]1SCSOPTI'!E4,1)="6"),('[1]1SCSOPTI'!L4*'[1]Répartition des résultats'!$C$5),(LEFT('[1]1SCSOPTI'!E4,1)="7"),('[1]1SCSOPTI'!L4*'[1]Répartition des résultats'!$C$5)),0)} -> 1200 | M4: {=IFERROR(_xlfn.IFS((LEFT('[1]1SCSOPTI'!E4,1)="C"),('[1]1SCSOPTI'!M4*'[1]Répartition des résultats'!$C$5),(LEFT('[1]1SCSOPTI'!E4,1)="F"),('[1]1SCSOPTI'!M4*'[1]Répartition des résultats'!$C$5),(LEFT('[1]1SCSOPTI'!E4,1)="1"),('[1]1SCSOPTI'!M4),(LEFT('[1]1SCSOPTI'!E4,1)="3"),('[1]1SCSOPTI'!M4*'[1]Répartition des résultats'!$C$5),(LEFT('[1]1SCSOPTI'!E4,2)<"45"),('[1]1SCSOPTI'!M4*'[1]Répartition des résultats'!$C$5),(LEFT('[1]1SCSOPTI'!E4,2)>"46"),('[1]1SCSOPTI'!M4*'[1]Répartition des résultats'!$C$5),(LEFT('[1]1SCSOPTI'!E4,4)="4452"),('[1]1SCSOPTI'!M4),(LEFT('[1]1SCSOPTI'!E4,4)="4672"),('[1]1SCSOPTI'!M4),(LEFT('[1]1SCSOPTI'!E4,1)="5"),('[1]1SCSOPTI'!M4),(LEFT('[1]1SCSOPTI'!E4,1)="6"),('[1]1SCSOPTI'!M4*'[1]Répartition des résultats'!$C$5),(LEFT('[1]1SCSOPTI'!E4,1)="7"),('[1]1SCSOPTI'!M4*'[1]Répartition des résultats'!$C$5)),0)} -> 0 | N4: ='[1]1SCSOPTI'!N4 -> 0 | O4: ='[1]1SCSOPTI'!O4 -> 0 | P4: ='[1]1SCSOPTI'!P4 -> 20230626 | Q4: ='[1]1SCSOPTI'!Q4 -> 0 | R4: ='[1]1SCSOPTI'!R4 -> 0
A5: ='[1]1SCSOPTI'!A5 -> 1 | B5: ='[1]1SCSOPTI'!B5 -> ACHAT | C5: ='[1]1SCSOPTI'!C5 -> 1 | D5: ='[1]1SCSOPTI'!D5 -> 20220101 | E5: ='[1]1SCSOPTI'!E5 -> 622660 | F5: ='[1]1SCSOPTI'!F5 -> NOTAIRES FRAIS D'ACQUISITION | G5: ='[1]1SCSOPTI'!G5 -> 0 | H5: ='[1]1SCSOPTI'!H5 -> 0 | ... K5: ='[1]1SCSOPTI'!K5 -> FRAIS ACQUISITION NOTAIRES RACHAT 2 I6/I7 | L5: {=IFERROR(_xlfn.IFS((LEFT('[1]1SCSOPTI'!E5,1)="C"),('[1]1SCSOPTI'!L5*'[1]Répartition des résultats'!$C$5),(LEFT('[1]1SCSOPTI'!E5,1)="F"),('[1]1SCSOPTI'!L5*'[1]Répartition des résultats'!$C$5),(LEFT('[1]1SCSOPTI'!E5,1)="1"),('[1]1SCSOPTI'!L5),(LEFT('[1]1SCSOPTI'!E5,1)="3"),('[1]1SCSOPTI'!L5*'[1]Répartition des résultats'!$C$5),(LEFT('[1]1SCSOPTI'!E5,2)<"45"),('[1]1SCSOPTI'!L5*'[1]Répartition des résultats'!$C$5),(LEFT('[1]1SCSOPTI'!E5,2)>"46"),('[1]1SCSOPTI'!L5*'[1]Répartition des résultats'!$C$5),(LEFT('[1]1SCSOPTI'!E5,4)="4452"),('[1]1SCSOPTI'!L5),(LEFT('[1]1SCSOPTI'!E5,4)="4672"),('[1]1SCSOPTI'!L5),(LEFT('[1]1SCSOPTI'!E5,1)="5"),('[1]1SCSOPTI'!L5),(LEFT('[1]1SCSOPTI'!E5,1)="6"),('[1]1SCSOPTI'!L5*'[1]Répartition des résultats'!$C$5),(LEFT('[1]1SCSOPTI'!E5,1)="7"),('[1]1SCSOPTI'!L5*'[1]Répartition des résultats'!$C$5)),0)} -> 1120 | M5: {=IFERROR(_xlfn.IFS((LEFT('[1]1SCSOPTI'!E5,1)="C"),('[1]1SCSOPTI'!M5*'[1]Répartition des résultats'!$C$5),(LEFT('[1]1SCSOPTI'!E5,1)="F"),('[1]1SCSOPTI'!M5*'[1]Répartition des résultats'!$C$5),(LEFT('[1]1SCSOPTI'!E5,1)="1"),('[1]1SCSOPTI'!M5),(LEFT('[1]1SCSOPTI'!E5,1)="3"),('[1]1SCSOPTI'!M5*'[1]Répartition des résultats'!$C$5),(LEFT('[1]1SCSOPTI'!E5,2)<"45"),('[1]1SCSOPTI'!M5*'[1]Répartition des résultats'!$C$5),(LEFT('[1]1SCSOPTI'!E5,2)>"46"),('[1]1SCSOPTI'!M5*'[1]Répartition des résultats'!$C$5),(LEFT('[1]1SCSOPTI'!E5,4)="4452"),('[1]1SCSOPTI'!M5),(LEFT('[1]1SCSOPTI'!E5,4)="4672"),('[1]1SCSOPTI'!M5),(LEFT('[1]1SCSOPTI'!E5,1)="5"),('[1]1SCSOPTI'!M5),(LEFT('[1]1SCSOPTI'!E5,1)="6"),('[1]1SCSOPTI'!M5*'[1]Répartition des résultats'!$C$5),(LEFT('[1]1SCSOPTI'!E5,1)="7"),('[1]1SCSOPTI'!M5*'[1]Répartition des résultats'!$C$5)),0)} -> 0 | N5: ='[1]1SCSOPTI'!N5 -> 0 | O5: ='[1]1SCSOPTI'!O5 -> 0 | P5: ='[1]1SCSOPTI'!P5 -> 20230626 | Q5: ='[1]1SCSOPTI'!Q5 -> 0 | R5: ='[1]1SCSOPTI'!R5 -> 0
A6: ='[1]1SCSOPTI'!A6 -> 1 | B6: ='[1]1SCSOPTI'!B6 -> ACHAT | C6: ='[1]1SCSOPTI'!C6 -> 1 | D6: ='[1]1SCSOPTI'!D6 -> 20220101 | E6: ='[1]1SCSOPTI'!E6 -> 622660 | F6: ='[1]1SCSOPTI'!F6 -> NOTAIRES FRAIS D'ACQUISITION | G6: ='[1]1SCSOPTI'!G6 -> 0 | H6: ='[1]1SCSOPTI'!H6 -> 0 | ... K6: ='[1]1SCSOPTI'!K6 -> FRAIS ACQUISITION NOTAIRES RACHAT 3 I8 | L6: {=IFERROR(_xlfn.IFS((LEFT('[1]1SCSOPTI'!E6,1)="C"),('[1]1SCSOPTI'!L6*'[1]Répartition des résultats'!$C$5),(LEFT('[1]1SCSOPTI'!E6,1)="F"),('[1]1SCSOPTI'!L6*'[1]Répartition des résultats'!$C$5),(LEFT('[1]1SCSOPTI'!E6,1)="1"),('[1]1SCSOPTI'!L6),(LEFT('[1]1SCSOPTI'!E6,1)="3"),('[1]1SCSOPTI'!L6*'[1]Répartition des résultats'!$C$5),(LEFT('[1]1SCSOPTI'!E6,2)<"45"),('[1]1SCSOPTI'!L6*'[1]Répartition des résultats'!$C$5),(LEFT('[1]1SCSOPTI'!E6,2)>"46"),('[1]1SCSOPTI'!L6*'[1]Répartition des résultats'!$C$5),(LEFT('[1]1SCSOPTI'!E6,4)="4452"),('[1]1SCSOPTI'!L6),(LEFT('[1]1SCSOPTI'!E6,4)="4672"),('[1]1SCSOPTI'!L6),(LEFT('[1]1SCSOPTI'!E6,1)="5"),('[1]1SCSOPTI'!L6),(LEFT('[1]1SCSOPTI'!E6,1)="6"),('[1]1SCSOPTI'!L6*'[1]Répartition des résultats'!$C$5),(LEFT('[1]1SCSOPTI'!E6,1)="7"),('[1]1SCSOPTI'!L6*'[1]Répartition des résultats'!$C$5)),0)} -> 1120 | M6: {=IFERROR(_xlfn.IFS((LEFT('[1]1SCSOPTI'!E6,1)="C"),('[1]1SCSOPTI'!M6*'[1]Répartition des résultats'!$C$5),(LEFT('[1]1SCSOPTI'!E6,1)="F"),('[1]1SCSOPTI'!M6*'[1]Répartition des résultats'!$C$5),(LEFT('[1]1SCSOPTI'!E6,1)="1"),('[1]1SCSOPTI'!M6),(LEFT('[1]1SCSOPTI'!E6,1)="3"),('[1]1SCSOPTI'!M6*'[1]Répartition des résultats'!$C$5),(LEFT('[1]1SCSOPTI'!E6,2)<"45"),('[1]1SCSOPTI'!M6*'[1]Répartition des résultats'!$C$5),(LEFT('[1]1SCSOPTI'!E6,2)>"46"),('[1]1SCSOPTI'!M6*'[1]Répartition des résultats'!$C$5),(LEFT('[1]1SCSOPTI'!E6,4)="4452"),('[1]1SCSOPTI'!M6),(LEFT('[1]1SCSOPTI'!E6,4)="4672"),('[1]1SCSOPTI'!M6),(LEFT('[1]1SCSOPTI'!E6,1)="5"),('[1]1SCSOPTI'!M6),(LEFT('[1]1SCSOPTI'!E6,1)="6"),('[1]1SCSOPTI'!M6*'[1]Répartition des résultats'!$C$5),(LEFT('[1]1SCSOPTI'!E6,1)="7"),('[1]1SCSOPTI'!M6*'[1]Répartition des résultats'!$C$5)),0)} -> 0 | N6: ='[1]1SCSOPTI'!N6 -> 0 | O6: ='[1]1SCSOPTI'!O6 -> 0 | P6: ='[1]1SCSOPTI'!P6 -> 20230626 | Q6: ='[1]1SCSOPTI'!Q6 -> 0 | R6: ='[1]1SCSOPTI'!R6 -> 0
A7: ='[1]1SCSOPTI'!A7 -> 1 | B7: ='[1]1SCSOPTI'!B7 -> ACHAT | C7: ='[1]1SCSOPTI'!C7 -> 1 | D7: ='[1]1SCSOPTI'!D7 -> 20220101 | E7: ='[1]1SCSOPTI'!E7 -> 622660 | F7: ='[1]1SCSOPTI'!F7 -> NOTAIRES FRAIS D'ACQUISITION | G7: ='[1]1SCSOPTI'!G7 -> 0 | H7: ='[1]1SCSOPTI'!H7 -> 0 | ... K7: ='[1]1SCSOPTI'!K7 -> FRAIS ACQUISITION NOTAIRES RACHAT 4 I9 | L7: {=IFERROR(_xlfn.IFS((LEFT('[1]1SCSOPTI'!E7,1)="C"),('[1]1SCSOPTI'!L7*'[1]Répartition des résultats'!$C$5),(LEFT('[1]1SCSOPTI'!E7,1)="F"),('[1]1SCSOPTI'!L7*'[1]Répartition des résultats'!$C$5),(LEFT('[1]1SCSOPTI'!E7,1)="1"),('[1]1SCSOPTI'!L7),(LEFT('[1]1SCSOPTI'!E7,1)="3"),('[1]1SCSOPTI'!L7*'[1]Répartition des résultats'!$C$5),(LEFT('[1]1SCSOPTI'!E7,2)<"45"),('[1]1SCSOPTI'!L7*'[1]Répartition des résultats'!$C$5),(LEFT('[1]1SCSOPTI'!E7,2)>"46"),('[1]1SCSOPTI'!L7*'[1]Répartition des résultats'!$C$5),(LEFT('[1]1SCSOPTI'!E7,4)="4452"),('[1]1SCSOPTI'!L7),(LEFT('[1]1SCSOPTI'!E7,4)="4672"),('[1]1SCSOPTI'!L7),(LEFT('[1]1SCSOPTI'!E7,1)="5"),('[1]1SCSOPTI'!L7),(LEFT('[1]1SCSOPTI'!E7,1)="6"),('[1]1SCSOPTI'!L7*'[1]Répartition des résultats'!$C$5),(LEFT('[1]1SCSOPTI'!E7,1)="7"),('[1]1SCSOPTI'!L7*'[1]Répartition des résultats'!$C$5)),0)} -> 800 | M7: {=IFERROR(_xlfn.IFS((LEFT('[1]1SCSOPTI'!E7,1)="C"),('[1]1SCSOPTI'!M7*'[1]Répartition des résultats'!$C$5),(LEFT('[1]1SCSOPTI'!E7,1)="F"),('[1]1SCSOPTI'!M7*'[1]Répartition des résultats'!$C$5),(LEFT('[1]1SCSOPTI'!E7,1)="1"),('[1]1SCSOPTI'!M7),(LEFT('[1]1SCSOPTI'!E7,1)="3"),('[1]1SCSOPTI'!M7*'[1]Répartition des résultats'!$C$5),(LEFT('[1]1SCSOPTI'!E7,2)<"45"),('[1]1SCSOPTI'!M7*'[1]Répartition des résultats'!$C$5),(LEFT('[1]1SCSOPTI'!E7,2)>"46"),('[1]1SCSOPTI'!M7*'[1]Répartition des résultats'!$C$5),(LEFT('[1]1SCSOPTI'!E7,4)="4452"),('[1]1SCSOPTI'!M7),(LEFT('[1]1SCSOPTI'!E7,4)="4672"),('[1]1SCSOPTI'!M7),(LEFT('[1]1SCSOPTI'!E7,1)="5"),('[1]1SCSOPTI'!M7),(LEFT('[1]1SCSOPTI'!E7,1)="6"),('[1]1SCSOPTI'!M7*'[1]Répartition des résultats'!$C$5),(LEFT('[1]1SCSOPTI'!E7,1)="7"),('[1]1SCSOPTI'!M7*'[1]Répartition des résultats'!$C$5)),0)} -> 0 | N7: ='[1]1SCSOPTI'!N7 -> 0 | O7: ='[1]1SCSOPTI'!O7 -> 0 | P7: ='[1]1SCSOPTI'!P7 -> 20230626 | Q7: ='[1]1SCSOPTI'!Q7 -> 0 | R7: ='[1]1SCSOPTI'!R7 -> 0
A8: ='[1]1SCSOPTI'!A8 -> 1 | B8: ='[1]1SCSOPTI'!B8 -> ACHAT | C8: ='[1]1SCSOPTI'!C8 -> 1 | D8: ='[1]1SCSOPTI'!D8 -> 20220101 | E8: ='[1]1SCSOPTI'!E8 -> 622660 | F8: ='[1]1SCSOPTI'!F8 -> NOTAIRES FRAIS D'ACQUISITION | G8: ='[1]1SCSOPTI'!G8 -> 0 | H8: ='[1]1SCSOPTI'!H8 -> 0 | ... K8: ='[1]1SCSOPTI'!K8 -> FRAIS ACQUISITION NOTAIRES RACHAT 5 I10 | L8: {=IFERROR(_xlfn.IFS((LEFT('[1]1SCSOPTI'!E8,1)="C"),('[1]1SCSOPTI'!L8*'[1]Répartition des résultats'!$C$5),(LEFT('[1]1SCSOPTI'!E8,1)="F"),('[1]1SCSOPTI'!L8*'[1]Répartition des résultats'!$C$5),(LEFT('[1]1SCSOPTI'!E8,1)="1"),('[1]1SCSOPTI'!L8),(LEFT('[1]1SCSOPTI'!E8,1)="3"),('[1]1SCSOPTI'!L8*'[1]Répartition des résultats'!$C$5),(LEFT('[1]1SCSOPTI'!E8,2)<"45"),('[1]1SCSOPTI'!L8*'[1]Répartition des résultats'!$C$5),(LEFT('[1]1SCSOPTI'!E8,2)>"46"),('[1]1SCSOPTI'!L8*'[1]Répartition des résultats'!$C$5),(LEFT('[1]1SCSOPTI'!E8,4)="4452"),('[1]1SCSOPTI'!L8),(LEFT('[1]1SCSOPTI'!E8,4)="4672"),('[1]1SCSOPTI'!L8),(LEFT('[1]1SCSOPTI'!E8,1)="5"),('[1]1SCSOPTI'!L8),(LEFT('[1]1SCSOPTI'!E8,1)="6"),('[1]1SCSOPTI'!L8*'[1]Répartition des résultats'!$C$5),(LEFT('[1]1SCSOPTI'!E8,1)="7"),('[1]1SCSOPTI'!L8*'[1]Répartition des résultats'!$C$5)),0)} -> 360 | M8: {=IFERROR(_xlfn.IFS((LEFT('[1]1SCSOPTI'!E8,1)="C"),('[1]1SCSOPTI'!M8*'[1]Répartition des résultats'!$C$5),(LEFT('[1]1SCSOPTI'!E8,1)="F"),('[1]1SCSOPTI'!M8*'[1]Répartition des résultats'!$C$5),(LEFT('[1]1SCSOPTI'!E8,1)="1"),('[1]1SCSOPTI'!M8),(LEFT('[1]1SCSOPTI'!E8,1)="3"),('[1]1SCSOPTI'!M8*'[1]Répartition des résultats'!$C$5),(LEFT('[1]1SCSOPTI'!E8,2)<"45"),('[1]1SCSOPTI'!M8*'[1]Répartition des résultats'!$C$5),(LEFT('[1]1SCSOPTI'!E8,2)>"46"),('[1]1SCSOPTI'!M8*'[1]Répartition des résultats'!$C$5),(LEFT('[1]1SCSOPTI'!E8,4)="4452"),('[1]1SCSOPTI'!M8),(LEFT('[1]1SCSOPTI'!E8,4)="4672"),('[1]1SCSOPTI'!M8),(LEFT('[1]1SCSOPTI'!E8,1)="5"),('[1]1SCSOPTI'!M8),(LEFT('[1]1SCSOPTI'!E8,1)="6"),('[1]1SCSOPTI'!M8*'[1]Répartition des résultats'!$C$5),(LEFT('[1]1SCSOPTI'!E8,1)="7"),('[1]1SCSOPTI'!M8*'[1]Répartition des résultats'!$C$5)),0)} -> 0 | N8: ='[1]1SCSOPTI'!N8 -> 0 | O8: ='[1]1SCSOPTI'!O8 -> 0 | P8: ='[1]1SCSOPTI'!P8 -> 20230626 | Q8: ='[1]1SCSOPTI'!Q8 -> 0 | R8: ='[1]1SCSOPTI'!R8 -> 0
A9: ='[1]1SCSOPTI'!A9 -> 1 | B9: ='[1]1SCSOPTI'!B9 -> ACHAT | C9: ='[1]1SCSOPTI'!C9 -> 1 | D9: ='[1]1SCSOPTI'!D9 -> 20220101 | E9: ='[1]1SCSOPTI'!E9 -> 622660 | F9: ='[1]1SCSOPTI'!F9 -> NOTAIRES FRAIS D'ACQUISITION | G9: ='[1]1SCSOPTI'!G9 -> 0 | H9: ='[1]1SCSOPTI'!H9 -> 0 | ... K9: ='[1]1SCSOPTI'!K9 -> FRAIS ACQUISITION NOTAIRES RACHAT 6 I11 | L9: {=IFERROR(_xlfn.IFS((LEFT('[1]1SCSOPTI'!E9,1)="C"),('[1]1SCSOPTI'!L9*'[1]Répartition des résultats'!$C$5),(LEFT('[1]1SCSOPTI'!E9,1)="F"),('[1]1SCSOPTI'!L9*'[1]Répartition des résultats'!$C$5),(LEFT('[1]1SCSOPTI'!E9,1)="1"),('[1]1SCSOPTI'!L9),(LEFT('[1]1SCSOPTI'!E9,1)="3"),('[1]1SCSOPTI'!L9*'[1]Répartition des résultats'!$C$5),(LEFT('[1]1SCSOPTI'!E9,2)<"45"),('[1]1SCSOPTI'!L9*'[1]Répartition des résultats'!$C$5),(LEFT('[1]1SCSOPTI'!E9,2)>"46"),('[1]1SCSOPTI'!L9*'[1]Répartition des résultats'!$C$5),(LEFT('[1]1SCSOPTI'!E9,4)="4452"),('[1]1SCSOPTI'!L9),(LEFT('[1]1SCSOPTI'!E9,4)="4672"),('[1]1SCSOPTI'!L9),(LEFT('[1]1SCSOPTI'!E9,1)="5"),('[1]1SCSOPTI'!L9),(LEFT('[1]1SCSOPTI'!E9,1)="6"),('[1]1SCSOPTI'!L9*'[1]Répartition des résultats'!$C$5),(LEFT('[1]1SCSOPTI'!E9,1)="7"),('[1]1SCSOPTI'!L9*'[1]Répartition des résultats'!$C$5)),0)} -> 960 | M9: {=IFERROR(_xlfn.IFS((LEFT('[1]1SCSOPTI'!E9,1)="C"),('[1]1SCSOPTI'!M9*'[1]Répartition des résultats'!$C$5),(LEFT('[1]1SCSOPTI'!E9,1)="F"),('[1]1SCSOPTI'!M9*'[1]Répartition des résultats'!$C$5),(LEFT('[1]1SCSOPTI'!E9,1)="1"),('[1]1SCSOPTI'!M9),(LEFT('[1]1SCSOPTI'!E9,1)="3"),('[1]1SCSOPTI'!M9*'[1]Répartition des résultats'!$C$5),(LEFT('[1]1SCSOPTI'!E9,2)<"45"),('[1]1SCSOPTI'!M9*'[1]Répartition des résultats'!$C$5),(LEFT('[1]1SCSOPTI'!E9,2)>"46"),('[1]1SCSOPTI'!M9*'[1]Répartition des résultats'!$C$5),(LEFT('[1]1SCSOPTI'!E9,4)="4452"),('[1]1SCSOPTI'!M9),(LEFT('[1]1SCSOPTI'!E9,4)="4672"),('[1]1SCSOPTI'!M9),(LEFT('[1]1SCSOPTI'!E9,1)="5"),('[1]1SCSOPTI'!M9),(LEFT('[1]1SCSOPTI'!E9,1)="6"),('[1]1SCSOPTI'!M9*'[1]Répartition des résultats'!$C$5),(LEFT('[1]1SCSOPTI'!E9,1)="7"),('[1]1SCSOPTI'!M9*'[1]Répartition des résultats'!$C$5)),0)} -> 0 | N9: ='[1]1SCSOPTI'!N9 -> 0 | O9: ='[1]1SCSOPTI'!O9 -> 0 | P9: ='[1]1SCSOPTI'!P9 -> 20230626 | Q9: ='[1]1SCSOPTI'!Q9 -> 0 | R9: ='[1]1SCSOPTI'!R9 -> 0
A10: ='[1]1SCSOPTI'!A10 -> 1 | B10: ='[1]1SCSOPTI'!B10 -> ACHAT | C10: ='[1]1SCSOPTI'!C10 -> 2 | D10: ='[1]1SCSOPTI'!D10 -> 20220101 | E10: ='[1]1SCSOPTI'!E10 -> 401 | F10: ='[1]1SCSOPTI'!F10 -> Collectif fournisseur | G10: ='[1]1SCSOPTI'!G10 -> FDIV | H10: ='[1]1SCSOPTI'!H10 -> DIV | ... K10: ='[1]1SCSOPTI'!K10 -> FRAIS DE TRAVAUX | L10: {=IFERROR(_xlfn.IFS((LEFT('[1]1SCSOPTI'!E10,1)="C"),('[1]1SCSOPTI'!L10*'[1]Répartition des résultats'!$C$5),(LEFT('[1]1SCSOPTI'!E10,1)="F"),('[1]1SCSOPTI'!L10*'[1]Répartition des résultats'!$C$5),(LEFT('[1]1SCSOPTI'!E10,1)="1"),('[1]1SCSOPTI'!L10),(LEFT('[1]1SCSOPTI'!E10,1)="3"),('[1]1SCSOPTI'!L10*'[1]Répartition des résultats'!$C$5),(LEFT('[1]1SCSOPTI'!E10,2)<"45"),('[1]1SCSOPTI'!L10*'[1]Répartition des résultats'!$C$5),(LEFT('[1]1SCSOPTI'!E10,2)>"46"),('[1]1SCSOPTI'!L10*'[1]Répartition des résultats'!$C$5),(LEFT('[1]1SCSOPTI'!E10,4)="4452"),('[1]1SCSOPTI'!L10),(LEFT('[1]1SCSOPTI'!E10,4)="4672"),('[1]1SCSOPTI'!L10),(LEFT('[1]1SCSOPTI'!E10,1)="5"),('[1]1SCSOPTI'!L10),(LEFT('[1]1SCSOPTI'!E10,1)="6"),('[1]1SCSOPTI'!L10*'[1]Répartition des résultats'!$C$5),(LEFT('[1]1SCSOPTI'!E10,1)="7"),('[1]1SCSOPTI'!L10*'[1]Répartition des résultats'!$C$5)),0)} -> 0 | M10: {=IFERROR(_xlfn.IFS((LEFT('[1]1SCSOPTI'!E10,1)="C"),('[1]1SCSOPTI'!M10*'[1]Répartition des résultats'!$C$5),(LEFT('[1]1SCSOPTI'!E10,1)="F"),('[1]1SCSOPTI'!M10*'[1]Répartition des résultats'!$C$5),(LEFT('[1]1SCSOPTI'!E10,1)="1"),('[1]1SCSOPTI'!M10),(LEFT('[1]1SCSOPTI'!E10,1)="3"),('[1]1SCSOPTI'!M10*'[1]Répartition des résultats'!$C$5),(LEFT('[1]1SCSOPTI'!E10,2)<"45"),('[1]1SCSOPTI'!M10*'[1]Répartition des résultats'!$C$5),(LEFT('[1]1SCSOPTI'!E10,2)>"46"),('[1]1SCSOPTI'!M10*'[1]Répartition des résultats'!$C$5),(LEFT('[1]1SCSOPTI'!E10,4)="4452"),('[1]1SCSOPTI'!M10),(LEFT('[1]1SCSOPTI'!E10,4)="4672"),('[1]1SCSOPTI'!M10),(LEFT('[1]1SCSOPTI'!E10,1)="5"),('[1]1SCSOPTI'!M10),(LEFT('[1]1SCSOPTI'!E10,1)="6"),('[1]1SCSOPTI'!M10*'[1]Répartition des résultats'!$C$5),(LEFT('[1]1SCSOPTI'!E10,1)="7"),('[1]1SCSOPTI'!M10*'[1]Répartition des résultats'!$C$5)),0)} -> 8640 | N10: ='[1]1SCSOPTI'!N10 -> D | O10: ='[1]1SCSOPTI'!O10 -> 20230626 | P10: ='[1]1SCSOPTI'!P10 -> 20230626 | Q10: ='[1]1SCSOPTI'!Q10 -> 0 | R10: ='[1]1SCSOPTI'!R10 -> 0
A11: ='[1]1SCSOPTI'!A11 -> 1 | B11: ='[1]1SCSOPTI'!B11 -> ACHAT | C11: ='[1]1SCSOPTI'!C11 -> 2 | D11: ='[1]1SCSOPTI'!D11 -> 20220101 | E11: ='[1]1SCSOPTI'!E11 -> 218100 | F11: ='[1]1SCSOPTI'!F11 -> AAI DIVERS TRAVAUX | G11: ='[1]1SCSOPTI'!G11 -> 0 | H11: ='[1]1SCSOPTI'!H11 -> 0 | ... K11: ='[1]1SCSOPTI'!K11 -> FRAIS DE TRAVAUX | L11: {=IFERROR(_xlfn.IFS((LEFT('[1]1SCSOPTI'!E11,1)="C"),('[1]1SCSOPTI'!L11*'[1]Répartition des résultats'!$C$5),(LEFT('[1]1SCSOPTI'!E11,1)="F"),('[1]1SCSOPTI'!L11*'[1]Répartition des résultats'!$C$5),(LEFT('[1]1SCSOPTI'!E11,1)="1"),('[1]1SCSOPTI'!L11),(LEFT('[1]1SCSOPTI'!E11,1)="3"),('[1]1SCSOPTI'!L11*'[1]Répartition des résultats'!$C$5),(LEFT('[1]1SCSOPTI'!E11,2)<"45"),('[1]1SCSOPTI'!L11*'[1]Répartition des résultats'!$C$5),(LEFT('[1]1SCSOPTI'!E11,2)>"46"),('[1]1SCSOPTI'!L11*'[1]Répartition des résultats'!$C$5),(LEFT('[1]1SCSOPTI'!E11,4)="4452"),('[1]1SCSOPTI'!L11),(LEFT('[1]1SCSOPTI'!E11,4)="4672"),('[1]1SCSOPTI'!L11),(LEFT('[1]1SCSOPTI'!E11,1)="5"),('[1]1SCSOPTI'!L11),(LEFT('[1]1SCSOPTI'!E11,1)="6"),('[1]1SCSOPTI'!L11*'[1]Répartition des résultats'!$C$5),(LEFT('[1]1SCSOPTI'!E11,1)="7"),('[1]1SCSOPTI'!L11*'[1]Répartition des résultats'!$C$5)),0)} -> 7200 | M11: {=IFERROR(_xlfn.IFS((LEFT('[1]1SCSOPTI'!E11,1)="C"),('[1]1SCSOPTI'!M11*'[1]Répartition des résultats'!$C$5),(LEFT('[1]1SCSOPTI'!E11,1)="F"),('[1]1SCSOPTI'!M11*'[1]Répartition des résultats'!$C$5),(LEFT('[1]1SCSOPTI'!E11,1)="1"),('[1]1SCSOPTI'!M11),(LEFT('[1]1SCSOPTI'!E11,1)="3"),('[1]1SCSOPTI'!M11*'[1]Répartition des résultats'!$C$5),(LEFT('[1]1SCSOPTI'!E11,2)<"45"),('[1]1SCSOPTI'!M11*'[1]Répartition des résultats'!$C$5),(LEFT('[1]1SCSOPTI'!E11,2)>"46"),('[1]1SCSOPTI'!M11*'[1]Répartition des résultats'!$C$5),(LEFT('[1]1SCSOPTI'!E11,4)="4452"),('[1]1SCSOPTI'!M11),(LEFT('[1]1SCSOPTI'!E11,4)="4672"),('[1]1SCSOPTI'!M11),(LEFT('[1]1SCSOPTI'!E11,1)="5"),('[1]1SCSOPTI'!M11),(LEFT('[1]1SCSOPTI'!E11,1)="6"),('[1]1SCSOPTI'!M11*'[1]Répartition des résultats'!$C$5),(LEFT('[1]1SCSOPTI'!E11,1)="7"),('[1]1SCSOPTI'!M11*'[1]Répartition des résultats'!$C$5)),0)} -> 0 | N11: ='[1]1SCSOPTI'!N11 -> 0 | O11: ='[1]1SCSOPTI'!O11 -> 0 | P11: ='[1]1SCSOPTI'!P11 -> 20230626 | Q11: ='[1]1SCSOPTI'!Q11 -> 0 | R11: ='[1]1SCSOPTI'!R11 -> 0
A12: ='[1]1SCSOPTI'!A12 -> 1 | B12: ='[1]1SCSOPTI'!B12 -> ACHAT | C12: ='[1]1SCSOPTI'!C12 -> 2 | D12: ='[1]1SCSOPTI'!D12 -> 20220101 | E12: ='[1]1SCSOPTI'!E12 -> 445620 | F12: ='[1]1SCSOPTI'!F12 -> TVA DED./IMMOS | G12: ='[1]1SCSOPTI'!G12 -> 0 | H12: ='[1]1SCSOPTI'!H12 -> 0 | ... K12: ='[1]1SCSOPTI'!K12 -> FRAIS DE TRAVAUX | L12: {=IFERROR(_xlfn.IFS((LEFT('[1]1SCSOPTI'!E12,1)="C"),('[1]1SCSOPTI'!L12*'[1]Répartition des résultats'!$C$5),(LEFT('[1]1SCSOPTI'!E12,1)="F"),('[1]1SCSOPTI'!L12*'[1]Répartition des résultats'!$C$5),(LEFT('[1]1SCSOPTI'!E12,1)="1"),('[1]1SCSOPTI'!L12),(LEFT('[1]1SCSOPTI'!E12,1)="3"),('[1]1SCSOPTI'!L12*'[1]Répartition des résultats'!$C$5),(LEFT('[1]1SCSOPTI'!E12,2)<"45"),('[1]1SCSOPTI'!L12*'[1]Répartition des résultats'!$C$5),(LEFT('[1]1SCSOPTI'!E12,2)>"46"),('[1]1SCSOPTI'!L12*'[1]Répartition des résultats'!$C$5),(LEFT('[1]1SCSOPTI'!E12,4)="4452"),('[1]1SCSOPTI'!L12),(LEFT('[1]1SCSOPTI'!E12,4)="4672"),('[1]1SCSOPTI'!L12),(LEFT('[1]1SCSOPTI'!E12,1)="5"),('[1]1SCSOPTI'!L12),(LEFT('[1]1SCSOPTI'!E12,1)="6"),('[1]1SCSOPTI'!L12*'[1]Répartition des résultats'!$C$5),(LEFT('[1]1SCSOPTI'!E12,1)="7"),('[1]1SCSOPTI'!L12*'[1]Répartition des résultats'!$C$5)),0)} -> 1440 | M12: {=IFERROR(_xlfn.IFS((LEFT('[1]1SCSOPTI'!E12,1)="C"),('[1]1SCSOPTI'!M12*'[1]Répartition des résultats'!$C$5),(LEFT('[1]1SCSOPTI'!E12,1)="F"),('[1]1SCSOPTI'!M12*'[1]Répartition des résultats'!$C$5),(LEFT('[1]1SCSOPTI'!E12,1)="1"),('[1]1SCSOPTI'!M12),(LEFT('[1]1SCSOPTI'!E12,1)="3"),('[1]1SCSOPTI'!M12*'[1]Répartition des résultats'!$C$5),(LEFT('[1]1SCSOPTI'!E12,2)<"45"),('[1]1SCSOPTI'!M12*'[1]Répartition des résultats'!$C$5),(LEFT('[1]1SCSOPTI'!E12,2)>"46"),('[1]1SCSOPTI'!M12*'[1]Répartition des résultats'!$C$5),(LEFT('[1]1SCSOPTI'!E12,4)="4452"),('[1]1SCSOPTI'!M12),(LEFT('[1]1SCSOPTI'!E12,4)="4672"),('[1]1SCSOPTI'!M12),(LEFT('[1]1SCSOPTI'!E12,1)="5"),('[1]1SCSOPTI'!M12),(LEFT('[1]1SCSOPTI'!E12,1)="6"),('[1]1SCSOPTI'!M12*'[1]Répartition des résultats'!$C$5),(LEFT('[1]1SCSOPTI'!E12,1)="7"),('[1]1SCSOPTI'!M12*'[1]Répartition des résultats'!$C$5)),0)} -> 0 | N12: ='[1]1SCSOPTI'!N12 -> 0 | O12: ='[1]1SCSOPTI'!O12 -> 0 | P12: ='[1]1SCSOPTI'!P12 -> 20230626 | Q12: ='[1]1SCSOPTI'!Q12 -> 0 | R12: ='[1]1SCSOPTI'!R12 -> 0
A13: ='[1]1SCSOPTI'!A13 -> 1 | B13: ='[1]1SCSOPTI'!B13 -> ACHAT | C13: ='[1]1SCSOPTI'!C13 -> 3 | D13: ='[1]1SCSOPTI'!D13 -> 20220101 | E13: ='[1]1SCSOPTI'!E13 -> 401 | F13: ='[1]1SCSOPTI'!F13 -> Collectif fournisseur | G13: ='[1]1SCSOPTI'!G13 -> FDIV | H13: ='[1]1SCSOPTI'!H13 -> DIV | ... K13: ='[1]1SCSOPTI'!K13 -> PARC IMMO | L13: {=IFERROR(_xlfn.IFS((LEFT('[1]1SCSOPTI'!E13,1)="C"),('[1]1SCSOPTI'!L13*'[1]Répartition des résultats'!$C$5),(LEFT('[1]1SCSOPTI'!E13,1)="F"),('[1]1SCSOPTI'!L13*'[1]Répartition des résultats'!$C$5),(LEFT('[1]1SCSOPTI'!E13,1)="1"),('[1]1SCSOPTI'!L13),(LEFT('[1]1SCSOPTI'!E13,1)="3"),('[1]1SCSOPTI'!L13*'[1]Répartition des résultats'!$C$5),(LEFT('[1]1SCSOPTI'!E13,2)<"45"),('[1]1SCSOPTI'!L13*'[1]Répartition des résultats'!$C$5),(LEFT('[1]1SCSOPTI'!E13,2)>"46"),('[1]1SCSOPTI'!L13*'[1]Répartition des résultats'!$C$5),(LEFT('[1]1SCSOPTI'!E13,4)="4452"),('[1]1SCSOPTI'!L13),(LEFT('[1]1SCSOPTI'!E13,4)="4672"),('[1]1SCSOPTI'!L13),(LEFT('[1]1SCSOPTI'!E13,1)="5"),('[1]1SCSOPTI'!L13),(LEFT('[1]1SCSOPTI'!E13,1)="6"),('[1]1SCSOPTI'!L13*'[1]Répartition des résultats'!$C$5),(LEFT('[1]1SCSOPTI'!E13,1)="7"),('[1]1SCSOPTI'!L13*'[1]Répartition des résultats'!$C$5)),0)} -> 0 | M13: {=IFERROR(_xlfn.IFS((LEFT('[1]1SCSOPTI'!E13,1)="C"),('[1]1SCSOPTI'!M13*'[1]Répartition des résultats'!$C$5),(LEFT('[1]1SCSOPTI'!E13,1)="F"),('[1]1SCSOPTI'!M13*'[1]Répartition des résultats'!$C$5),(LEFT('[1]1SCSOPTI'!E13,1)="1"),('[1]1SCSOPTI'!M13),(LEFT('[1]1SCSOPTI'!E13,1)="3"),('[1]1SCSOPTI'!M13*'[1]Répartition des résultats'!$C$5),(LEFT('[1]1SCSOPTI'!E13,2)<"45"),('[1]1SCSOPTI'!M13*'[1]Répartition des résultats'!$C$5),(LEFT('[1]1SCSOPTI'!E13,2)>"46"),('[1]1SCSOPTI'!M13*'[1]Répartition des résultats'!$C$5),(LEFT('[1]1SCSOPTI'!E13,4)="4452"),('[1]1SCSOPTI'!M13),(LEFT('[1]1SCSOPTI'!E13,4)="4672"),('[1]1SCSOPTI'!M13),(LEFT('[1]1SCSOPTI'!E13,1)="5"),('[1]1SCSOPTI'!M13),(LEFT('[1]1SCSOPTI'!E13,1)="6"),('[1]1SCSOPTI'!M13*'[1]Répartition des résultats'!$C$5),(LEFT('[1]1SCSOPTI'!E13,1)="7"),('[1]1SCSOPTI'!M13*'[1]Répartition des résultats'!$C$5)),0)} -> 101680 | N13: ='[1]1SCSOPTI'!N13 -> D | O13: ='[1]1SCSOPTI'!O13 -> 20230626 | P13: ='[1]1SCSOPTI'!P13 -> 20230626 | Q13: ='[1]1SCSOPTI'!Q13 -> 0 | R13: ='[1]1SCSOPTI'!R13 -> 0
... A186: ='[1]1SCSOPTI'!A186 -> 0 | B186: ='[1]1SCSOPTI'!B186 -> 0 | C186: ='[1]1SCSOPTI'!C186 -> 0 | D186: ='[1]1SCSOPTI'!D186 -> 0 | E186: ='[1]1SCSOPTI'!E186 -> 0 | F186: ='[1]1SCSOPTI'!F186 -> 0 | G186: ='[1]1SCSOPTI'!G186 -> 0 | H186: ='[1]1SCSOPTI'!H186 -> 0 | ... K186: ='[1]1SCSOPTI'!K186 -> 0 | L186: {=IFERROR(_xlfn.IFS((LEFT('[1]1SCSOPTI'!E186,1)="C"),('[1]1SCSOPTI'!L186*'[1]Répartition des résultats'!$C$5),(LEFT('[1]1SCSOPTI'!E186,1)="F"),('[1]1SCSOPTI'!L186*'[1]Répartition des résultats'!$C$5),(LEFT('[1]1SCSOPTI'!E186,1)="1"),('[1]1SCSOPTI'!L186),(LEFT('[1]1SCSOPTI'!E186,1)="3"),('[1]1SCSOPTI'!L186*'[1]Répartition des résultats'!$C$5),(LEFT('[1]1SCSOPTI'!E186,2)<"45"),('[1]1SCSOPTI'!L186*'[1]Répartition des résultats'!$C$5),(LEFT('[1]1SCSOPTI'!E186,2)>"46"),('[1]1SCSOPTI'!L186*'[1]Répartition des résultats'!$C$5),(LEFT('[1]1SCSOPTI'!E186,4)="4452"),('[1]1SCSOPTI'!L186),(LEFT('[1]1SCSOPTI'!E186,4)="4672"),('[1]1SCSOPTI'!L186),(LEFT('[1]1SCSOPTI'!E186,1)="5"),('[1]1SCSOPTI'!L186),(LEFT('[1]1SCSOPTI'!E186,1)="6"),('[1]1SCSOPTI'!L186*'[1]Répartition des résultats'!$C$5),(LEFT('[1]1SCSOPTI'!E186,1)="7"),('[1]1SCSOPTI'!L186*'[1]Répartition des résultats'!$C$5)),0)} -> 0 | M186: {=IFERROR(_xlfn.IFS((LEFT('[1]1SCSOPTI'!E186,1)="C"),('[1]1SCSOPTI'!M186*'[1]Répartition des résultats'!$C$5),(LEFT('[1]1SCSOPTI'!E186,1)="F"),('[1]1SCSOPTI'!M186*'[1]Répartition des résultats'!$C$5),(LEFT('[1]1SCSOPTI'!E186,1)="1"),('[1]1SCSOPTI'!M186),(LEFT('[1]1SCSOPTI'!E186,1)="3"),('[1]1SCSOPTI'!M186*'[1]Répartition des résultats'!$C$5),(LEFT('[1]1SCSOPTI'!E186,2)<"45"),('[1]1SCSOPTI'!M186*'[1]Répartition des résultats'!$C$5),(LEFT('[1]1SCSOPTI'!E186,2)>"46"),('[1]1SCSOPTI'!M186*'[1]Répartition des résultats'!$C$5),(LEFT('[1]1SCSOPTI'!E186,4)="4452"),('[1]1SCSOPTI'!M186),(LEFT('[1]1SCSOPTI'!E186,4)="4672"),('[1]1SCSOPTI'!M186),(LEFT('[1]1SCSOPTI'!E186,1)="5"),('[1]1SCSOPTI'!M186),(LEFT('[1]1SCSOPTI'!E186,1)="6"),('[1]1SCSOPTI'!M186*'[1]Répartition des résultats'!$C$5),(LEFT('[1]1SCSOPTI'!E186,1)="7"),('[1]1SCSOPTI'!M186*'[1]Répartition des résultats'!$C$5)),0)} -> 0 | N186: ='[1]1SCSOPTI'!N186 -> 0 | O186: ='[1]1SCSOPTI'!O186 -> 0 | P186: ='[1]1SCSOPTI'!P186 -> 0 | Q186: ='[1]1SCSOPTI'!Q186 -> 0 | R186: ='[1]1SCSOPTI'!R186 -> 0
A187: ='[1]1SCSOPTI'!A187 -> 0 | B187: ='[1]1SCSOPTI'!B187 -> 0 | C187: ='[1]1SCSOPTI'!C187 -> 0 | E187: ='[1]1SCSOPTI'!E187 -> 0 | F187: ='[1]1SCSOPTI'!F187 -> 0 | G187: ='[1]1SCSOPTI'!G187 -> 0 | H187: ='[1]1SCSOPTI'!H187 -> 0 | I187: ='[1]1SCSOPTI'!I187 -> 0 | J187: ='[1]1SCSOPTI'!J187 -> 0 | K187: ='[1]1SCSOPTI'!K187 -> 0 | L187: {=IFERROR(_xlfn.IFS((LEFT('[1]1SCSOPTI'!E187,1)="C"),('[1]1SCSOPTI'!L187*'[1]Répartition des résultats'!$C$5),(LEFT('[1]1SCSOPTI'!E187,1)="F"),('[1]1SCSOPTI'!L187*'[1]Répartition des résultats'!$C$5),(LEFT('[1]1SCSOPTI'!E187,1)="1"),('[1]1SCSOPTI'!L187),(LEFT('[1]1SCSOPTI'!E187,1)="3"),('[1]1SCSOPTI'!L187*'[1]Répartition des résultats'!$C$5),(LEFT('[1]1SCSOPTI'!E187,2)<"45"),('[1]1SCSOPTI'!L187*'[1]Répartition des résultats'!$C$5),(LEFT('[1]1SCSOPTI'!E187,2)>"46"),('[1]1SCSOPTI'!L187*'[1]Répartition des résultats'!$C$5),(LEFT('[1]1SCSOPTI'!E187,4)="4452"),('[1]1SCSOPTI'!L187),(LEFT('[1]1SCSOPTI'!E187,4)="4672"),('[1]1SCSOPTI'!L187),(LEFT('[1]1SCSOPTI'!E187,1)="5"),('[1]1SCSOPTI'!L187),(LEFT('[1]1SCSOPTI'!E187,1)="6"),('[1]1SCSOPTI'!L187*'[1]Répartition des résultats'!$C$5),(LEFT('[1]1SCSOPTI'!E187,1)="7"),('[1]1SCSOPTI'!L187*'[1]Répartition des résultats'!$C$5)),0)} -> 0 | M187: {=IFERROR(_xlfn.IFS((LEFT('[1]1SCSOPTI'!E187,1)="C"),('[1]1SCSOPTI'!M187*'[1]Répartition des résultats'!$C$5),(LEFT('[1]1SCSOPTI'!E187,1)="F"),('[1]1SCSOPTI'!M187*'[1]Répartition des résultats'!$C$5),(LEFT('[1]1SCSOPTI'!E187,1)="1"),('[1]1SCSOPTI'!M187),(LEFT('[1]1SCSOPTI'!E187,1)="3"),('[1]1SCSOPTI'!M187*'[1]Répartition des résultats'!$C$5),(LEFT('[1]1SCSOPTI'!E187,2)<"45"),('[1]1SCSOPTI'!M187*'[1]Répartition des résultats'!$C$5),(LEFT('[1]1SCSOPTI'!E187,2)>"46"),('[1]1SCSOPTI'!M187*'[1]Répartition des résultats'!$C$5),(LEFT('[1]1SCSOPTI'!E187,4)="4452"),('[1]1SCSOPTI'!M187),(LEFT('[1]1SCSOPTI'!E187,4)="4672"),('[1]1SCSOPTI'!M187),(LEFT('[1]1SCSOPTI'!E187,1)="5"),('[1]1SCSOPTI'!M187),(LEFT('[1]1SCSOPTI'!E187,1)="6"),('[1]1SCSOPTI'!M187*'[1]Répartition des résultats'!$C$5),(LEFT('[1]1SCSOPTI'!E187,1)="7"),('[1]1SCSOPTI'!M187*'[1]Répartition des résultats'!$C$5)),0)} -> 0 | N187: ='[1]1SCSOPTI'!N187 -> 0 | O187: ='[1]1SCSOPTI'!O187 -> 0 | P187: ='[1]1SCSOPTI'!P187 -> 0 | Q187: ='[1]1SCSOPTI'!Q187 -> 0 | R187: ='[1]1SCSOPTI'!R187 -> 0
A188: ='[1]1SCSOPTI'!A188 -> 0 | B188: ='[1]1SCSOPTI'!B188 -> 0 | C188: ='[1]1SCSOPTI'!C188 -> 0 | E188: ='[1]1SCSOPTI'!E188 -> 0 | F188: ='[1]1SCSOPTI'!F188 -> 0 | G188: ='[1]1SCSOPTI'!G188 -> 0 | H188: ='[1]1SCSOPTI'!H188 -> 0 | I188: ='[1]1SCSOPTI'!I188 -> 0 | J188: ='[1]1SCSOPTI'!J188 -> 0 | K188: ='[1]1SCSOPTI'!K188 -> 0 | L188: {=IFERROR(_xlfn.IFS((LEFT('[1]1SCSOPTI'!E188,1)="C"),('[1]1SCSOPTI'!L188*'[1]Répartition des résultats'!$C$5),(LEFT('[1]1SCSOPTI'!E188,1)="F"),('[1]1SCSOPTI'!L188*'[1]Répartition des résultats'!$C$5),(LEFT('[1]1SCSOPTI'!E188,1)="1"),('[1]1SCSOPTI'!L188),(LEFT('[1]1SCSOPTI'!E188,1)="3"),('[1]1SCSOPTI'!L188*'[1]Répartition des résultats'!$C$5),(LEFT('[1]1SCSOPTI'!E188,2)<"45"),('[1]1SCSOPTI'!L188*'[1]Répartition des résultats'!$C$5),(LEFT('[1]1SCSOPTI'!E188,2)>"46"),('[1]1SCSOPTI'!L188*'[1]Répartition des résultats'!$C$5),(LEFT('[1]1SCSOPTI'!E188,4)="4452"),('[1]1SCSOPTI'!L188),(LEFT('[1]1SCSOPTI'!E188,4)="4672"),('[1]1SCSOPTI'!L188),(LEFT('[1]1SCSOPTI'!E188,1)="5"),('[1]1SCSOPTI'!L188),(LEFT('[1]1SCSOPTI'!E188,1)="6"),('[1]1SCSOPTI'!L188*'[1]Répartition des résultats'!$C$5),(LEFT('[1]1SCSOPTI'!E188,1)="7"),('[1]1SCSOPTI'!L188*'[1]Répartition des résultats'!$C$5)),0)} -> 0 | M188: {=IFERROR(_xlfn.IFS((LEFT('[1]1SCSOPTI'!E188,1)="C"),('[1]1SCSOPTI'!M188*'[1]Répartition des résultats'!$C$5),(LEFT('[1]1SCSOPTI'!E188,1)="F"),('[1]1SCSOPTI'!M188*'[1]Répartition des résultats'!$C$5),(LEFT('[1]1SCSOPTI'!E188,1)="1"),('[1]1SCSOPTI'!M188),(LEFT('[1]1SCSOPTI'!E188,1)="3"),('[1]1SCSOPTI'!M188*'[1]Répartition des résultats'!$C$5),(LEFT('[1]1SCSOPTI'!E188,2)<"45"),('[1]1SCSOPTI'!M188*'[1]Répartition des résultats'!$C$5),(LEFT('[1]1SCSOPTI'!E188,2)>"46"),('[1]1SCSOPTI'!M188*'[1]Répartition des résultats'!$C$5),(LEFT('[1]1SCSOPTI'!E188,4)="4452"),('[1]1SCSOPTI'!M188),(LEFT('[1]1SCSOPTI'!E188,4)="4672"),('[1]1SCSOPTI'!M188),(LEFT('[1]1SCSOPTI'!E188,1)="5"),('[1]1SCSOPTI'!M188),(LEFT('[1]1SCSOPTI'!E188,1)="6"),('[1]1SCSOPTI'!M188*'[1]Répartition des résultats'!$C$5),(LEFT('[1]1SCSOPTI'!E188,1)="7"),('[1]1SCSOPTI'!M188*'[1]Répartition des résultats'!$C$5)),0)} -> 0 | N188: ='[1]1SCSOPTI'!N188 -> 0 | O188: ='[1]1SCSOPTI'!O188 -> 0 | P188: ='[1]1SCSOPTI'!P188 -> 0 | Q188: ='[1]1SCSOPTI'!Q188 -> 0 | R188: ='[1]1SCSOPTI'!R188 -> 0
A189: ='[1]1SCSOPTI'!A189 -> 0 | B189: ='[1]1SCSOPTI'!B189 -> 0 | C189: ='[1]1SCSOPTI'!C189 -> 0 | E189: ='[1]1SCSOPTI'!E189 -> 0 | F189: ='[1]1SCSOPTI'!F189 -> 0 | G189: ='[1]1SCSOPTI'!G189 -> 0 | H189: ='[1]1SCSOPTI'!H189 -> 0 | I189: ='[1]1SCSOPTI'!I189 -> 0 | J189: ='[1]1SCSOPTI'!J189 -> 0 | K189: ='[1]1SCSOPTI'!K189 -> 0 | L189: {=IFERROR(_xlfn.IFS((LEFT('[1]1SCSOPTI'!E189,1)="C"),('[1]1SCSOPTI'!L189*'[1]Répartition des résultats'!$C$5),(LEFT('[1]1SCSOPTI'!E189,1)="F"),('[1]1SCSOPTI'!L189*'[1]Répartition des résultats'!$C$5),(LEFT('[1]1SCSOPTI'!E189,1)="1"),('[1]1SCSOPTI'!L189),(LEFT('[1]1SCSOPTI'!E189,1)="3"),('[1]1SCSOPTI'!L189*'[1]Répartition des résultats'!$C$5),(LEFT('[1]1SCSOPTI'!E189,2)<"45"),('[1]1SCSOPTI'!L189*'[1]Répartition des résultats'!$C$5),(LEFT('[1]1SCSOPTI'!E189,2)>"46"),('[1]1SCSOPTI'!L189*'[1]Répartition des résultats'!$C$5),(LEFT('[1]1SCSOPTI'!E189,4)="4452"),('[1]1SCSOPTI'!L189),(LEFT('[1]1SCSOPTI'!E189,4)="4672"),('[1]1SCSOPTI'!L189),(LEFT('[1]1SCSOPTI'!E189,1)="5"),('[1]1SCSOPTI'!L189),(LEFT('[1]1SCSOPTI'!E189,1)="6"),('[1]1SCSOPTI'!L189*'[1]Répartition des résultats'!$C$5),(LEFT('[1]1SCSOPTI'!E189,1)="7"),('[1]1SCSOPTI'!L189*'[1]Répartition des résultats'!$C$5)),0)} -> 0 | M189: {=IFERROR(_xlfn.IFS((LEFT('[1]1SCSOPTI'!E189,1)="C"),('[1]1SCSOPTI'!M189*'[1]Répartition des résultats'!$C$5),(LEFT('[1]1SCSOPTI'!E189,1)="F"),('[1]1SCSOPTI'!M189*'[1]Répartition des résultats'!$C$5),(LEFT('[1]1SCSOPTI'!E189,1)="1"),('[1]1SCSOPTI'!M189),(LEFT('[1]1SCSOPTI'!E189,1)="3"),('[1]1SCSOPTI'!M189*'[1]Répartition des résultats'!$C$5),(LEFT('[1]1SCSOPTI'!E189,2)<"45"),('[1]1SCSOPTI'!M189*'[1]Répartition des résultats'!$C$5),(LEFT('[1]1SCSOPTI'!E189,2)>"46"),('[1]1SCSOPTI'!M189*'[1]Répartition des résultats'!$C$5),(LEFT('[1]1SCSOPTI'!E189,4)="4452"),('[1]1SCSOPTI'!M189),(LEFT('[1]1SCSOPTI'!E189,4)="4672"),('[1]1SCSOPTI'!M189),(LEFT('[1]1SCSOPTI'!E189,1)="5"),('[1]1SCSOPTI'!M189),(LEFT('[1]1SCSOPTI'!E189,1)="6"),('[1]1SCSOPTI'!M189*'[1]Répartition des résultats'!$C$5),(LEFT('[1]1SCSOPTI'!E189,1)="7"),('[1]1SCSOPTI'!M189*'[1]Répartition des résultats'!$C$5)),0)} -> 0 | N189: ='[1]1SCSOPTI'!N189 -> 0 | O189: ='[1]1SCSOPTI'!O189 -> 0 | P189: ='[1]1SCSOPTI'!P189 -> 0 | Q189: ='[1]1SCSOPTI'!Q189 -> 0 | R189: ='[1]1SCSOPTI'!R189 -> 0
A190: ='[1]1SCSOPTI'!A190 -> 0 | B190: ='[1]1SCSOPTI'!B190 -> 0 | C190: ='[1]1SCSOPTI'!C190 -> 0 | E190: ='[1]1SCSOPTI'!E190 -> 0 | F190: ='[1]1SCSOPTI'!F190 -> 0 | G190: ='[1]1SCSOPTI'!G190 -> 0 | H190: ='[1]1SCSOPTI'!H190 -> 0 | I190: ='[1]1SCSOPTI'!I190 -> 0 | J190: ='[1]1SCSOPTI'!J190 -> 0 | K190: ='[1]1SCSOPTI'!K190 -> 0 | L190: {=IFERROR(_xlfn.IFS((LEFT('[1]1SCSOPTI'!E190,1)="C"),('[1]1SCSOPTI'!L190*'[1]Répartition des résultats'!$C$5),(LEFT('[1]1SCSOPTI'!E190,1)="F"),('[1]1SCSOPTI'!L190*'[1]Répartition des résultats'!$C$5),(LEFT('[1]1SCSOPTI'!E190,1)="1"),('[1]1SCSOPTI'!L190),(LEFT('[1]1SCSOPTI'!E190,1)="3"),('[1]1SCSOPTI'!L190*'[1]Répartition des résultats'!$C$5),(LEFT('[1]1SCSOPTI'!E190,2)<"45"),('[1]1SCSOPTI'!L190*'[1]Répartition des résultats'!$C$5),(LEFT('[1]1SCSOPTI'!E190,2)>"46"),('[1]1SCSOPTI'!L190*'[1]Répartition des résultats'!$C$5),(LEFT('[1]1SCSOPTI'!E190,4)="4452"),('[1]1SCSOPTI'!L190),(LEFT('[1]1SCSOPTI'!E190,4)="4672"),('[1]1SCSOPTI'!L190),(LEFT('[1]1SCSOPTI'!E190,1)="5"),('[1]1SCSOPTI'!L190),(LEFT('[1]1SCSOPTI'!E190,1)="6"),('[1]1SCSOPTI'!L190*'[1]Répartition des résultats'!$C$5),(LEFT('[1]1SCSOPTI'!E190,1)="7"),('[1]1SCSOPTI'!L190*'[1]Répartition des résultats'!$C$5)),0)} -> 0 | M190: {=IFERROR(_xlfn.IFS((LEFT('[1]1SCSOPTI'!E190,1)="C"),('[1]1SCSOPTI'!M190*'[1]Répartition des résultats'!$C$5),(LEFT('[1]1SCSOPTI'!E190,1)="F"),('[1]1SCSOPTI'!M190*'[1]Répartition des résultats'!$C$5),(LEFT('[1]1SCSOPTI'!E190,1)="1"),('[1]1SCSOPTI'!M190),(LEFT('[1]1SCSOPTI'!E190,1)="3"),('[1]1SCSOPTI'!M190*'[1]Répartition des résultats'!$C$5),(LEFT('[1]1SCSOPTI'!E190,2)<"45"),('[1]1SCSOPTI'!M190*'[1]Répartition des résultats'!$C$5),(LEFT('[1]1SCSOPTI'!E190,2)>"46"),('[1]1SCSOPTI'!M190*'[1]Répartition des résultats'!$C$5),(LEFT('[1]1SCSOPTI'!E190,4)="4452"),('[1]1SCSOPTI'!M190),(LEFT('[1]1SCSOPTI'!E190,4)="4672"),('[1]1SCSOPTI'!M190),(LEFT('[1]1SCSOPTI'!E190,1)="5"),('[1]1SCSOPTI'!M190),(LEFT('[1]1SCSOPTI'!E190,1)="6"),('[1]1SCSOPTI'!M190*'[1]Répartition des résultats'!$C$5),(LEFT('[1]1SCSOPTI'!E190,1)="7"),('[1]1SCSOPTI'!M190*'[1]Répartition des résultats'!$C$5)),0)} -> 0 | N190: ='[1]1SCSOPTI'!N190 -> 0 | O190: ='[1]1SCSOPTI'!O190 -> 0 | P190: ='[1]1SCSOPTI'!P190 -> 0 | Q190: ='[1]1SCSOPTI'!Q190 -> 0 | R190: ='[1]1SCSOPTI'!R190 -> 0
A191: ='[1]1SCSOPTI'!A191 -> 0 | B191: ='[1]1SCSOPTI'!B191 -> 0 | C191: ='[1]1SCSOPTI'!C191 -> 0 | E191: ='[1]1SCSOPTI'!E191 -> 0 | F191: ='[1]1SCSOPTI'!F191 -> 0 | G191: ='[1]1SCSOPTI'!G191 -> 0 | H191: ='[1]1SCSOPTI'!H191 -> 0 | I191: ='[1]1SCSOPTI'!I191 -> 0 | J191: ='[1]1SCSOPTI'!J191 -> 0 | K191: ='[1]1SCSOPTI'!K191 -> 0 | L191: {=IFERROR(_xlfn.IFS((LEFT('[1]1SCSOPTI'!E191,1)="C"),('[1]1SCSOPTI'!L191*'[1]Répartition des résultats'!$C$5),(LEFT('[1]1SCSOPTI'!E191,1)="F"),('[1]1SCSOPTI'!L191*'[1]Répartition des résultats'!$C$5),(LEFT('[1]1SCSOPTI'!E191,1)="1"),('[1]1SCSOPTI'!L191),(LEFT('[1]1SCSOPTI'!E191,1)="3"),('[1]1SCSOPTI'!L191*'[1]Répartition des résultats'!$C$5),(LEFT('[1]1SCSOPTI'!E191,2)<"45"),('[1]1SCSOPTI'!L191*'[1]Répartition des résultats'!$C$5),(LEFT('[1]1SCSOPTI'!E191,2)>"46"),('[1]1SCSOPTI'!L191*'[1]Répartition des résultats'!$C$5),(LEFT('[1]1SCSOPTI'!E191,4)="4452"),('[1]1SCSOPTI'!L191),(LEFT('[1]1SCSOPTI'!E191,4)="4672"),('[1]1SCSOPTI'!L191),(LEFT('[1]1SCSOPTI'!E191,1)="5"),('[1]1SCSOPTI'!L191),(LEFT('[1]1SCSOPTI'!E191,1)="6"),('[1]1SCSOPTI'!L191*'[1]Répartition des résultats'!$C$5),(LEFT('[1]1SCSOPTI'!E191,1)="7"),('[1]1SCSOPTI'!L191*'[1]Répartition des résultats'!$C$5)),0)} -> 0 | M191: {=IFERROR(_xlfn.IFS((LEFT('[1]1SCSOPTI'!E191,1)="C"),('[1]1SCSOPTI'!M191*'[1]Répartition des résultats'!$C$5),(LEFT('[1]1SCSOPTI'!E191,1)="F"),('[1]1SCSOPTI'!M191*'[1]Répartition des résultats'!$C$5),(LEFT('[1]1SCSOPTI'!E191,1)="1"),('[1]1SCSOPTI'!M191),(LEFT('[1]1SCSOPTI'!E191,1)="3"),('[1]1SCSOPTI'!M191*'[1]Répartition des résultats'!$C$5),(LEFT('[1]1SCSOPTI'!E191,2)<"45"),('[1]1SCSOPTI'!M191*'[1]Répartition des résultats'!$C$5),(LEFT('[1]1SCSOPTI'!E191,2)>"46"),('[1]1SCSOPTI'!M191*'[1]Répartition des résultats'!$C$5),(LEFT('[1]1SCSOPTI'!E191,4)="4452"),('[1]1SCSOPTI'!M191),(LEFT('[1]1SCSOPTI'!E191,4)="4672"),('[1]1SCSOPTI'!M191),(LEFT('[1]1SCSOPTI'!E191,1)="5"),('[1]1SCSOPTI'!M191),(LEFT('[1]1SCSOPTI'!E191,1)="6"),('[1]1SCSOPTI'!M191*'[1]Répartition des résultats'!$C$5),(LEFT('[1]1SCSOPTI'!E191,1)="7"),('[1]1SCSOPTI'!M191*'[1]Répartition des résultats'!$C$5)),0)} -> 0 | N191: ='[1]1SCSOPTI'!N191 -> 0 | O191: ='[1]1SCSOPTI'!O191 -> 0 | P191: ='[1]1SCSOPTI'!P191 -> 0 | Q191: ='[1]1SCSOPTI'!Q191 -> 0 | R191: ='[1]1SCSOPTI'!R191 -> 0
A192: ='[1]1SCSOPTI'!A192 -> 0 | B192: ='[1]1SCSOPTI'!B192 -> 0 | C192: ='[1]1SCSOPTI'!C192 -> 0 | E192: ='[1]1SCSOPTI'!E192 -> 0 | F192: ='[1]1SCSOPTI'!F192 -> 0 | G192: ='[1]1SCSOPTI'!G192 -> 0 | H192: ='[1]1SCSOPTI'!H192 -> 0 | I192: ='[1]1SCSOPTI'!I192 -> 0 | J192: ='[1]1SCSOPTI'!J192 -> 0 | K192: ='[1]1SCSOPTI'!K192 -> 0 | L192: {=IFERROR(_xlfn.IFS((LEFT('[1]1SCSOPTI'!E192,1)="C"),('[1]1SCSOPTI'!L192*'[1]Répartition des résultats'!$C$5),(LEFT('[1]1SCSOPTI'!E192,1)="F"),('[1]1SCSOPTI'!L192*'[1]Répartition des résultats'!$C$5),(LEFT('[1]1SCSOPTI'!E192,1)="1"),('[1]1SCSOPTI'!L192),(LEFT('[1]1SCSOPTI'!E192,1)="3"),('[1]1SCSOPTI'!L192*'[1]Répartition des résultats'!$C$5),(LEFT('[1]1SCSOPTI'!E192,2)<"45"),('[1]1SCSOPTI'!L192*'[1]Répartition des résultats'!$C$5),(LEFT('[1]1SCSOPTI'!E192,2)>"46"),('[1]1SCSOPTI'!L192*'[1]Répartition des résultats'!$C$5),(LEFT('[1]1SCSOPTI'!E192,4)="4452"),('[1]1SCSOPTI'!L192),(LEFT('[1]1SCSOPTI'!E192,4)="4672"),('[1]1SCSOPTI'!L192),(LEFT('[1]1SCSOPTI'!E192,1)="5"),('[1]1SCSOPTI'!L192),(LEFT('[1]1SCSOPTI'!E192,1)="6"),('[1]1SCSOPTI'!L192*'[1]Répartition des résultats'!$C$5),(LEFT('[1]1SCSOPTI'!E192,1)="7"),('[1]1SCSOPTI'!L192*'[1]Répartition des résultats'!$C$5)),0)} -> 0 | M192: {=IFERROR(_xlfn.IFS((LEFT('[1]1SCSOPTI'!E192,1)="C"),('[1]1SCSOPTI'!M192*'[1]Répartition des résultats'!$C$5),(LEFT('[1]1SCSOPTI'!E192,1)="F"),('[1]1SCSOPTI'!M192*'[1]Répartition des résultats'!$C$5),(LEFT('[1]1SCSOPTI'!E192,1)="1"),('[1]1SCSOPTI'!M192),(LEFT('[1]1SCSOPTI'!E192,1)="3"),('[1]1SCSOPTI'!M192*'[1]Répartition des résultats'!$C$5),(LEFT('[1]1SCSOPTI'!E192,2)<"45"),('[1]1SCSOPTI'!M192*'[1]Répartition des résultats'!$C$5),(LEFT('[1]1SCSOPTI'!E192,2)>"46"),('[1]1SCSOPTI'!M192*'[1]Répartition des résultats'!$C$5),(LEFT('[1]1SCSOPTI'!E192,4)="4452"),('[1]1SCSOPTI'!M192),(LEFT('[1]1SCSOPTI'!E192,4)="4672"),('[1]1SCSOPTI'!M192),(LEFT('[1]1SCSOPTI'!E192,1)="5"),('[1]1SCSOPTI'!M192),(LEFT('[1]1SCSOPTI'!E192,1)="6"),('[1]1SCSOPTI'!M192*'[1]Répartition des résultats'!$C$5),(LEFT('[1]1SCSOPTI'!E192,1)="7"),('[1]1SCSOPTI'!M192*'[1]Répartition des résultats'!$C$5)),0)} -> 0 | N192: ='[1]1SCSOPTI'!N192 -> 0 | O192: ='[1]1SCSOPTI'!O192 -> 0 | P192: ='[1]1SCSOPTI'!P192 -> 0 | Q192: ='[1]1SCSOPTI'!Q192 -> 0 | R192: ='[1]1SCSOPTI'!R192 -> 0
A193: ='[1]1SCSOPTI'!A193 -> 0 | B193: ='[1]1SCSOPTI'!B193 -> 0 | C193: ='[1]1SCSOPTI'!C193 -> 0 | E193: ='[1]1SCSOPTI'!E193 -> 0 | F193: ='[1]1SCSOPTI'!F193 -> 0 | G193: ='[1]1SCSOPTI'!G193 -> 0 | H193: ='[1]1SCSOPTI'!H193 -> 0 | I193: ='[1]1SCSOPTI'!I193 -> 0 | J193: ='[1]1SCSOPTI'!J193 -> 0 | K193: ='[1]1SCSOPTI'!K193 -> 0 | L193: {=IFERROR(_xlfn.IFS((LEFT('[1]1SCSOPTI'!E193,1)="C"),('[1]1SCSOPTI'!L193*'[1]Répartition des résultats'!$C$5),(LEFT('[1]1SCSOPTI'!E193,1)="F"),('[1]1SCSOPTI'!L193*'[1]Répartition des résultats'!$C$5),(LEFT('[1]1SCSOPTI'!E193,1)="1"),('[1]1SCSOPTI'!L193),(LEFT('[1]1SCSOPTI'!E193,1)="3"),('[1]1SCSOPTI'!L193*'[1]Répartition des résultats'!$C$5),(LEFT('[1]1SCSOPTI'!E193,2)<"45"),('[1]1SCSOPTI'!L193*'[1]Répartition des résultats'!$C$5),(LEFT('[1]1SCSOPTI'!E193,2)>"46"),('[1]1SCSOPTI'!L193*'[1]Répartition des résultats'!$C$5),(LEFT('[1]1SCSOPTI'!E193,4)="4452"),('[1]1SCSOPTI'!L193),(LEFT('[1]1SCSOPTI'!E193,4)="4672"),('[1]1SCSOPTI'!L193),(LEFT('[1]1SCSOPTI'!E193,1)="5"),('[1]1SCSOPTI'!L193),(LEFT('[1]1SCSOPTI'!E193,1)="6"),('[1]1SCSOPTI'!L193*'[1]Répartition des résultats'!$C$5),(LEFT('[1]1SCSOPTI'!E193,1)="7"),('[1]1SCSOPTI'!L193*'[1]Répartition des résultats'!$C$5)),0)} -> 0 | M193: {=IFERROR(_xlfn.IFS((LEFT('[1]1SCSOPTI'!E193,1)="C"),('[1]1SCSOPTI'!M193*'[1]Répartition des résultats'!$C$5),(LEFT('[1]1SCSOPTI'!E193,1)="F"),('[1]1SCSOPTI'!M193*'[1]Répartition des résultats'!$C$5),(LEFT('[1]1SCSOPTI'!E193,1)="1"),('[1]1SCSOPTI'!M193),(LEFT('[1]1SCSOPTI'!E193,1)="3"),('[1]1SCSOPTI'!M193*'[1]Répartition des résultats'!$C$5),(LEFT('[1]1SCSOPTI'!E193,2)<"45"),('[1]1SCSOPTI'!M193*'[1]Répartition des résultats'!$C$5),(LEFT('[1]1SCSOPTI'!E193,2)>"46"),('[1]1SCSOPTI'!M193*'[1]Répartition des résultats'!$C$5),(LEFT('[1]1SCSOPTI'!E193,4)="4452"),('[1]1SCSOPTI'!M193),(LEFT('[1]1SCSOPTI'!E193,4)="4672"),('[1]1SCSOPTI'!M193),(LEFT('[1]1SCSOPTI'!E193,1)="5"),('[1]1SCSOPTI'!M193),(LEFT('[1]1SCSOPTI'!E193,1)="6"),('[1]1SCSOPTI'!M193*'[1]Répartition des résultats'!$C$5),(LEFT('[1]1SCSOPTI'!E193,1)="7"),('[1]1SCSOPTI'!M193*'[1]Répartition des résultats'!$C$5)),0)} -> 0 | N193: ='[1]1SCSOPTI'!N193 -> 0 | O193: ='[1]1SCSOPTI'!O193 -> 0 | P193: ='[1]1SCSOPTI'!P193 -> 0 | Q193: ='[1]1SCSOPTI'!Q193 -> 0 | R193: ='[1]1SCSOPTI'!R193 -> 0
A194: ='[1]1SCSOPTI'!A194 -> 0 | B194: ='[1]1SCSOPTI'!B194 -> 0 | C194: ='[1]1SCSOPTI'!C194 -> 0 | E194: ='[1]1SCSOPTI'!E194 -> 0 | F194: ='[1]1SCSOPTI'!F194 -> 0 | G194: ='[1]1SCSOPTI'!G194 -> 0 | H194: ='[1]1SCSOPTI'!H194 -> 0 | I194: ='[1]1SCSOPTI'!I194 -> 0 | J194: ='[1]1SCSOPTI'!J194 -> 0 | K194: ='[1]1SCSOPTI'!K194 -> 0 | L194: {=IFERROR(_xlfn.IFS((LEFT('[1]1SCSOPTI'!E194,1)="C"),('[1]1SCSOPTI'!L194*'[1]Répartition des résultats'!$C$5),(LEFT('[1]1SCSOPTI'!E194,1)="F"),('[1]1SCSOPTI'!L194*'[1]Répartition des résultats'!$C$5),(LEFT('[1]1SCSOPTI'!E194,1)="1"),('[1]1SCSOPTI'!L194),(LEFT('[1]1SCSOPTI'!E194,1)="3"),('[1]1SCSOPTI'!L194*'[1]Répartition des résultats'!$C$5),(LEFT('[1]1SCSOPTI'!E194,2)<"45"),('[1]1SCSOPTI'!L194*'[1]Répartition des résultats'!$C$5),(LEFT('[1]1SCSOPTI'!E194,2)>"46"),('[1]1SCSOPTI'!L194*'[1]Répartition des résultats'!$C$5),(LEFT('[1]1SCSOPTI'!E194,4)="4452"),('[1]1SCSOPTI'!L194),(LEFT('[1]1SCSOPTI'!E194,4)="4672"),('[1]1SCSOPTI'!L194),(LEFT('[1]1SCSOPTI'!E194,1)="5"),('[1]1SCSOPTI'!L194),(LEFT('[1]1SCSOPTI'!E194,1)="6"),('[1]1SCSOPTI'!L194*'[1]Répartition des résultats'!$C$5),(LEFT('[1]1SCSOPTI'!E194,1)="7"),('[1]1SCSOPTI'!L194*'[1]Répartition des résultats'!$C$5)),0)} -> 0 | M194: {=IFERROR(_xlfn.IFS((LEFT('[1]1SCSOPTI'!E194,1)="C"),('[1]1SCSOPTI'!M194*'[1]Répartition des résultats'!$C$5),(LEFT('[1]1SCSOPTI'!E194,1)="F"),('[1]1SCSOPTI'!M194*'[1]Répartition des résultats'!$C$5),(LEFT('[1]1SCSOPTI'!E194,1)="1"),('[1]1SCSOPTI'!M194),(LEFT('[1]1SCSOPTI'!E194,1)="3"),('[1]1SCSOPTI'!M194*'[1]Répartition des résultats'!$C$5),(LEFT('[1]1SCSOPTI'!E194,2)<"45"),('[1]1SCSOPTI'!M194*'[1]Répartition des résultats'!$C$5),(LEFT('[1]1SCSOPTI'!E194,2)>"46"),('[1]1SCSOPTI'!M194*'[1]Répartition des résultats'!$C$5),(LEFT('[1]1SCSOPTI'!E194,4)="4452"),('[1]1SCSOPTI'!M194),(LEFT('[1]1SCSOPTI'!E194,4)="4672"),('[1]1SCSOPTI'!M194),(LEFT('[1]1SCSOPTI'!E194,1)="5"),('[1]1SCSOPTI'!M194),(LEFT('[1]1SCSOPTI'!E194,1)="6"),('[1]1SCSOPTI'!M194*'[1]Répartition des résultats'!$C$5),(LEFT('[1]1SCSOPTI'!E194,1)="7"),('[1]1SCSOPTI'!M194*'[1]Répartition des résultats'!$C$5)),0)} -> 0 | N194: ='[1]1SCSOPTI'!N194 -> 0 | O194: ='[1]1SCSOPTI'!O194 -> 0 | P194: ='[1]1SCSOPTI'!P194 -> 0 | Q194: ='[1]1SCSOPTI'!Q194 -> 0 | R194: ='[1]1SCSOPTI'!R194 -> 0
A195: ='[1]1SCSOPTI'!A195 -> 0 | B195: ='[1]1SCSOPTI'!B195 -> 0 | C195: ='[1]1SCSOPTI'!C195 -> 0 | E195: ='[1]1SCSOPTI'!E195 -> 0 | F195: ='[1]1SCSOPTI'!F195 -> 0 | G195: ='[1]1SCSOPTI'!G195 -> 0 | H195: ='[1]1SCSOPTI'!H195 -> 0 | I195: ='[1]1SCSOPTI'!I195 -> 0 | J195: ='[1]1SCSOPTI'!J195 -> 0 | K195: ='[1]1SCSOPTI'!K195 -> 0 | L195: {=IFERROR(_xlfn.IFS((LEFT('[1]1SCSOPTI'!E195,1)="C"),('[1]1SCSOPTI'!L195*'[1]Répartition des résultats'!$C$5),(LEFT('[1]1SCSOPTI'!E195,1)="F"),('[1]1SCSOPTI'!L195*'[1]Répartition des résultats'!$C$5),(LEFT('[1]1SCSOPTI'!E195,1)="1"),('[1]1SCSOPTI'!L195),(LEFT('[1]1SCSOPTI'!E195,1)="3"),('[1]1SCSOPTI'!L195*'[1]Répartition des résultats'!$C$5),(LEFT('[1]1SCSOPTI'!E195,2)<"45"),('[1]1SCSOPTI'!L195*'[1]Répartition des résultats'!$C$5),(LEFT('[1]1SCSOPTI'!E195,2)>"46"),('[1]1SCSOPTI'!L195*'[1]Répartition des résultats'!$C$5),(LEFT('[1]1SCSOPTI'!E195,4)="4452"),('[1]1SCSOPTI'!L195),(LEFT('[1]1SCSOPTI'!E195,4)="4672"),('[1]1SCSOPTI'!L195),(LEFT('[1]1SCSOPTI'!E195,1)="5"),('[1]1SCSOPTI'!L195),(LEFT('[1]1SCSOPTI'!E195,1)="6"),('[1]1SCSOPTI'!L195*'[1]Répartition des résultats'!$C$5),(LEFT('[1]1SCSOPTI'!E195,1)="7"),('[1]1SCSOPTI'!L195*'[1]Répartition des résultats'!$C$5)),0)} -> 0 | M195: {=IFERROR(_xlfn.IFS((LEFT('[1]1SCSOPTI'!E195,1)="C"),('[1]1SCSOPTI'!M195*'[1]Répartition des résultats'!$C$5),(LEFT('[1]1SCSOPTI'!E195,1)="F"),('[1]1SCSOPTI'!M195*'[1]Répartition des résultats'!$C$5),(LEFT('[1]1SCSOPTI'!E195,1)="1"),('[1]1SCSOPTI'!M195),(LEFT('[1]1SCSOPTI'!E195,1)="3"),('[1]1SCSOPTI'!M195*'[1]Répartition des résultats'!$C$5),(LEFT('[1]1SCSOPTI'!E195,2)<"45"),('[1]1SCSOPTI'!M195*'[1]Répartition des résultats'!$C$5),(LEFT('[1]1SCSOPTI'!E195,2)>"46"),('[1]1SCSOPTI'!M195*'[1]Répartition des résultats'!$C$5),(LEFT('[1]1SCSOPTI'!E195,4)="4452"),('[1]1SCSOPTI'!M195),(LEFT('[1]1SCSOPTI'!E195,4)="4672"),('[1]1SCSOPTI'!M195),(LEFT('[1]1SCSOPTI'!E195,1)="5"),('[1]1SCSOPTI'!M195),(LEFT('[1]1SCSOPTI'!E195,1)="6"),('[1]1SCSOPTI'!M195*'[1]Répartition des résultats'!$C$5),(LEFT('[1]1SCSOPTI'!E195,1)="7"),('[1]1SCSOPTI'!M195*'[1]Répartition des résultats'!$C$5)),0)} -> 0 | N195: ='[1]1SCSOPTI'!N195 -> 0 | O195: ='[1]1SCSOPTI'!O195 -> 0 | P195: ='[1]1SCSOPTI'!P195 -> 0 | Q195: ='[1]1SCSOPTI'!Q195 -> 0 | R195: ='[1]1SCSOPTI'!R195 -> 0
A196: ='[1]1SCSOPTI'!A196 -> 0 | B196: ='[1]1SCSOPTI'!B196 -> 0 | C196: ='[1]1SCSOPTI'!C196 -> 0 | E196: ='[1]1SCSOPTI'!E196 -> 0 | F196: ='[1]1SCSOPTI'!F196 -> 0 | G196: ='[1]1SCSOPTI'!G196 -> 0 | H196: ='[1]1SCSOPTI'!H196 -> 0 | I196: ='[1]1SCSOPTI'!I196 -> 0 | J196: ='[1]1SCSOPTI'!J196 -> 0 | K196: ='[1]1SCSOPTI'!K196 -> 0 | L196: {=IFERROR(_xlfn.IFS((LEFT('[1]1SCSOPTI'!E196,1)="C"),('[1]1SCSOPTI'!L196*'[1]Répartition des résultats'!$C$5),(LEFT('[1]1SCSOPTI'!E196,1)="F"),('[1]1SCSOPTI'!L196*'[1]Répartition des résultats'!$C$5),(LEFT('[1]1SCSOPTI'!E196,1)="1"),('[1]1SCSOPTI'!L196),(LEFT('[1]1SCSOPTI'!E196,1)="3"),('[1]1SCSOPTI'!L196*'[1]Répartition des résultats'!$C$5),(LEFT('[1]1SCSOPTI'!E196,2)<"45"),('[1]1SCSOPTI'!L196*'[1]Répartition des résultats'!$C$5),(LEFT('[1]1SCSOPTI'!E196,2)>"46"),('[1]1SCSOPTI'!L196*'[1]Répartition des résultats'!$C$5),(LEFT('[1]1SCSOPTI'!E196,4)="4452"),('[1]1SCSOPTI'!L196),(LEFT('[1]1SCSOPTI'!E196,4)="4672"),('[1]1SCSOPTI'!L196),(LEFT('[1]1SCSOPTI'!E196,1)="5"),('[1]1SCSOPTI'!L196),(LEFT('[1]1SCSOPTI'!E196,1)="6"),('[1]1SCSOPTI'!L196*'[1]Répartition des résultats'!$C$5),(LEFT('[1]1SCSOPTI'!E196,1)="7"),('[1]1SCSOPTI'!L196*'[1]Répartition des résultats'!$C$5)),0)} -> 0 | M196: {=IFERROR(_xlfn.IFS((LEFT('[1]1SCSOPTI'!E196,1)="C"),('[1]1SCSOPTI'!M196*'[1]Répartition des résultats'!$C$5),(LEFT('[1]1SCSOPTI'!E196,1)="F"),('[1]1SCSOPTI'!M196*'[1]Répartition des résultats'!$C$5),(LEFT('[1]1SCSOPTI'!E196,1)="1"),('[1]1SCSOPTI'!M196),(LEFT('[1]1SCSOPTI'!E196,1)="3"),('[1]1SCSOPTI'!M196*'[1]Répartition des résultats'!$C$5),(LEFT('[1]1SCSOPTI'!E196,2)<"45"),('[1]1SCSOPTI'!M196*'[1]Répartition des résultats'!$C$5),(LEFT('[1]1SCSOPTI'!E196,2)>"46"),('[1]1SCSOPTI'!M196*'[1]Répartition des résultats'!$C$5),(LEFT('[1]1SCSOPTI'!E196,4)="4452"),('[1]1SCSOPTI'!M196),(LEFT('[1]1SCSOPTI'!E196,4)="4672"),('[1]1SCSOPTI'!M196),(LEFT('[1]1SCSOPTI'!E196,1)="5"),('[1]1SCSOPTI'!M196),(LEFT('[1]1SCSOPTI'!E196,1)="6"),('[1]1SCSOPTI'!M196*'[1]Répartition des résultats'!$C$5),(LEFT('[1]1SCSOPTI'!E196,1)="7"),('[1]1SCSOPTI'!M196*'[1]Répartition des résultats'!$C$5)),0)} -> 0 | N196: ='[1]1SCSOPTI'!N196 -> 0 | O196: ='[1]1SCSOPTI'!O196 -> 0 | P196: ='[1]1SCSOPTI'!P196 -> 0 | Q196: ='[1]1SCSOPTI'!Q196 -> 0 | R196: ='[1]1SCSOPTI'!R196 -> 0
A197: ='[1]1SCSOPTI'!A197 -> 0 | B197: ='[1]1SCSOPTI'!B197 -> 0 | C197: ='[1]1SCSOPTI'!C197 -> 0 | E197: ='[1]1SCSOPTI'!E197 -> 0 | F197: ='[1]1SCSOPTI'!F197 -> 0 | G197: ='[1]1SCSOPTI'!G197 -> 0 | H197: ='[1]1SCSOPTI'!H197 -> 0 | I197: ='[1]1SCSOPTI'!I197 -> 0 | J197: ='[1]1SCSOPTI'!J197 -> 0 | K197: ='[1]1SCSOPTI'!K197 -> 0 | L197: {=IFERROR(_xlfn.IFS((LEFT('[1]1SCSOPTI'!E197,1)="C"),('[1]1SCSOPTI'!L197*'[1]Répartition des résultats'!$C$5),(LEFT('[1]1SCSOPTI'!E197,1)="F"),('[1]1SCSOPTI'!L197*'[1]Répartition des résultats'!$C$5),(LEFT('[1]1SCSOPTI'!E197,1)="1"),('[1]1SCSOPTI'!L197),(LEFT('[1]1SCSOPTI'!E197,1)="3"),('[1]1SCSOPTI'!L197*'[1]Répartition des résultats'!$C$5),(LEFT('[1]1SCSOPTI'!E197,2)<"45"),('[1]1SCSOPTI'!L197*'[1]Répartition des résultats'!$C$5),(LEFT('[1]1SCSOPTI'!E197,2)>"46"),('[1]1SCSOPTI'!L197*'[1]Répartition des résultats'!$C$5),(LEFT('[1]1SCSOPTI'!E197,4)="4452"),('[1]1SCSOPTI'!L197),(LEFT('[1]1SCSOPTI'!E197,4)="4672"),('[1]1SCSOPTI'!L197),(LEFT('[1]1SCSOPTI'!E197,1)="5"),('[1]1SCSOPTI'!L197),(LEFT('[1]1SCSOPTI'!E197,1)="6"),('[1]1SCSOPTI'!L197*'[1]Répartition des résultats'!$C$5),(LEFT('[1]1SCSOPTI'!E197,1)="7"),('[1]1SCSOPTI'!L197*'[1]Répartition des résultats'!$C$5)),0)} -> 0 | M197: {=IFERROR(_xlfn.IFS((LEFT('[1]1SCSOPTI'!E197,1)="C"),('[1]1SCSOPTI'!M197*'[1]Répartition des résultats'!$C$5),(LEFT('[1]1SCSOPTI'!E197,1)="F"),('[1]1SCSOPTI'!M197*'[1]Répartition des résultats'!$C$5),(LEFT('[1]1SCSOPTI'!E197,1)="1"),('[1]1SCSOPTI'!M197),(LEFT('[1]1SCSOPTI'!E197,1)="3"),('[1]1SCSOPTI'!M197*'[1]Répartition des résultats'!$C$5),(LEFT('[1]1SCSOPTI'!E197,2)<"45"),('[1]1SCSOPTI'!M197*'[1]Répartition des résultats'!$C$5),(LEFT('[1]1SCSOPTI'!E197,2)>"46"),('[1]1SCSOPTI'!M197*'[1]Répartition des résultats'!$C$5),(LEFT('[1]1SCSOPTI'!E197,4)="4452"),('[1]1SCSOPTI'!M197),(LEFT('[1]1SCSOPTI'!E197,4)="4672"),('[1]1SCSOPTI'!M197),(LEFT('[1]1SCSOPTI'!E197,1)="5"),('[1]1SCSOPTI'!M197),(LEFT('[1]1SCSOPTI'!E197,1)="6"),('[1]1SCSOPTI'!M197*'[1]Répartition des résultats'!$C$5),(LEFT('[1]1SCSOPTI'!E197,1)="7"),('[1]1SCSOPTI'!M197*'[1]Répartition des résultats'!$C$5)),0)} -> 0 | N197: ='[1]1SCSOPTI'!N197 -> 0 | O197: ='[1]1SCSOPTI'!O197 -> 0 | P197: ='[1]1SCSOPTI'!P197 -> 0 | Q197: ='[1]1SCSOPTI'!Q197 -> 0 | R197: ='[1]1SCSOPTI'!R197 -> 0
A198: ='[1]1SCSOPTI'!A198 -> 0 | B198: ='[1]1SCSOPTI'!B198 -> 0 | C198: ='[1]1SCSOPTI'!C198 -> 0 | E198: ='[1]1SCSOPTI'!E198 -> 0 | F198: ='[1]1SCSOPTI'!F198 -> 0 | G198: ='[1]1SCSOPTI'!G198 -> 0 | H198: ='[1]1SCSOPTI'!H198 -> 0 | I198: ='[1]1SCSOPTI'!I198 -> 0 | J198: ='[1]1SCSOPTI'!J198 -> 0 | K198: ='[1]1SCSOPTI'!K198 -> 0 | L198: {=IFERROR(_xlfn.IFS((LEFT('[1]1SCSOPTI'!E198,1)="C"),('[1]1SCSOPTI'!L198*'[1]Répartition des résultats'!$C$5),(LEFT('[1]1SCSOPTI'!E198,1)="F"),('[1]1SCSOPTI'!L198*'[1]Répartition des résultats'!$C$5),(LEFT('[1]1SCSOPTI'!E198,1)="1"),('[1]1SCSOPTI'!L198),(LEFT('[1]1SCSOPTI'!E198,1)="3"),('[1]1SCSOPTI'!L198*'[1]Répartition des résultats'!$C$5),(LEFT('[1]1SCSOPTI'!E198,2)<"45"),('[1]1SCSOPTI'!L198*'[1]Répartition des résultats'!$C$5),(LEFT('[1]1SCSOPTI'!E198,2)>"46"),('[1]1SCSOPTI'!L198*'[1]Répartition des résultats'!$C$5),(LEFT('[1]1SCSOPTI'!E198,4)="4452"),('[1]1SCSOPTI'!L198),(LEFT('[1]1SCSOPTI'!E198,4)="4672"),('[1]1SCSOPTI'!L198),(LEFT('[1]1SCSOPTI'!E198,1)="5"),('[1]1SCSOPTI'!L198),(LEFT('[1]1SCSOPTI'!E198,1)="6"),('[1]1SCSOPTI'!L198*'[1]Répartition des résultats'!$C$5),(LEFT('[1]1SCSOPTI'!E198,1)="7"),('[1]1SCSOPTI'!L198*'[1]Répartition des résultats'!$C$5)),0)} -> 0 | M198: {=IFERROR(_xlfn.IFS((LEFT('[1]1SCSOPTI'!E198,1)="C"),('[1]1SCSOPTI'!M198*'[1]Répartition des résultats'!$C$5),(LEFT('[1]1SCSOPTI'!E198,1)="F"),('[1]1SCSOPTI'!M198*'[1]Répartition des résultats'!$C$5),(LEFT('[1]1SCSOPTI'!E198,1)="1"),('[1]1SCSOPTI'!M198),(LEFT('[1]1SCSOPTI'!E198,1)="3"),('[1]1SCSOPTI'!M198*'[1]Répartition des résultats'!$C$5),(LEFT('[1]1SCSOPTI'!E198,2)<"45"),('[1]1SCSOPTI'!M198*'[1]Répartition des résultats'!$C$5),(LEFT('[1]1SCSOPTI'!E198,2)>"46"),('[1]1SCSOPTI'!M198*'[1]Répartition des résultats'!$C$5),(LEFT('[1]1SCSOPTI'!E198,4)="4452"),('[1]1SCSOPTI'!M198),(LEFT('[1]1SCSOPTI'!E198,4)="4672"),('[1]1SCSOPTI'!M198),(LEFT('[1]1SCSOPTI'!E198,1)="5"),('[1]1SCSOPTI'!M198),(LEFT('[1]1SCSOPTI'!E198,1)="6"),('[1]1SCSOPTI'!M198*'[1]Répartition des résultats'!$C$5),(LEFT('[1]1SCSOPTI'!E198,1)="7"),('[1]1SCSOPTI'!M198*'[1]Répartition des résultats'!$C$5)),0)} -> 0 | N198: ='[1]1SCSOPTI'!N198 -> 0 | O198: ='[1]1SCSOPTI'!O198 -> 0 | P198: ='[1]1SCSOPTI'!P198 -> 0 | Q198: ='[1]1SCSOPTI'!Q198 -> 0 | R198: ='[1]1SCSOPTI'!R198 -> 0
... A320: ='[1]1SCSOPTI'!A320 -> 0 | B320: ='[1]1SCSOPTI'!B320 -> 0 | C320: ='[1]1SCSOPTI'!C320 -> 0 | E320: ='[1]1SCSOPTI'!E320 -> 0 | F320: ='[1]1SCSOPTI'!F320 -> 0 | G320: ='[1]1SCSOPTI'!G320 -> 0 | H320: ='[1]1SCSOPTI'!H320 -> 0 | I320: ='[1]1SCSOPTI'!I320 -> 0 | J320: ='[1]1SCSOPTI'!J320 -> 0 | K320: ='[1]1SCSOPTI'!K320 -> 0 | L320: {=IFERROR(_xlfn.IFS((LEFT('[1]1SCSOPTI'!E320,1)="C"),('[1]1SCSOPTI'!L320*'[1]Répartition des résultats'!$C$5),(LEFT('[1]1SCSOPTI'!E320,1)="F"),('[1]1SCSOPTI'!L320*'[1]Répartition des résultats'!$C$5),(LEFT('[1]1SCSOPTI'!E320,1)="1"),('[1]1SCSOPTI'!L320),(LEFT('[1]1SCSOPTI'!E320,1)="3"),('[1]1SCSOPTI'!L320*'[1]Répartition des résultats'!$C$5),(LEFT('[1]1SCSOPTI'!E320,2)<"45"),('[1]1SCSOPTI'!L320*'[1]Répartition des résultats'!$C$5),(LEFT('[1]1SCSOPTI'!E320,2)>"46"),('[1]1SCSOPTI'!L320*'[1]Répartition des résultats'!$C$5),(LEFT('[1]1SCSOPTI'!E320,4)="4452"),('[1]1SCSOPTI'!L320),(LEFT('[1]1SCSOPTI'!E320,4)="4672"),('[1]1SCSOPTI'!L320),(LEFT('[1]1SCSOPTI'!E320,1)="5"),('[1]1SCSOPTI'!L320),(LEFT('[1]1SCSOPTI'!E320,1)="6"),('[1]1SCSOPTI'!L320*'[1]Répartition des résultats'!$C$5),(LEFT('[1]1SCSOPTI'!E320,1)="7"),('[1]1SCSOPTI'!L320*'[1]Répartition des résultats'!$C$5)),0)} -> 0 | M320: {=IFERROR(_xlfn.IFS((LEFT('[1]1SCSOPTI'!E320,1)="C"),('[1]1SCSOPTI'!M320*'[1]Répartition des résultats'!$C$5),(LEFT('[1]1SCSOPTI'!E320,1)="F"),('[1]1SCSOPTI'!M320*'[1]Répartition des résultats'!$C$5),(LEFT('[1]1SCSOPTI'!E320,1)="1"),('[1]1SCSOPTI'!M320),(LEFT('[1]1SCSOPTI'!E320,1)="3"),('[1]1SCSOPTI'!M320*'[1]Répartition des résultats'!$C$5),(LEFT('[1]1SCSOPTI'!E320,2)<"45"),('[1]1SCSOPTI'!M320*'[1]Répartition des résultats'!$C$5),(LEFT('[1]1SCSOPTI'!E320,2)>"46"),('[1]1SCSOPTI'!M320*'[1]Répartition des résultats'!$C$5),(LEFT('[1]1SCSOPTI'!E320,4)="4452"),('[1]1SCSOPTI'!M320),(LEFT('[1]1SCSOPTI'!E320,4)="4672"),('[1]1SCSOPTI'!M320),(LEFT('[1]1SCSOPTI'!E320,1)="5"),('[1]1SCSOPTI'!M320),(LEFT('[1]1SCSOPTI'!E320,1)="6"),('[1]1SCSOPTI'!M320*'[1]Répartition des résultats'!$C$5),(LEFT('[1]1SCSOPTI'!E320,1)="7"),('[1]1SCSOPTI'!M320*'[1]Répartition des résultats'!$C$5)),0)} -> 0 | N320: ='[1]1SCSOPTI'!N320 -> 0 | O320: ='[1]1SCSOPTI'!O320 -> 0 | P320: ='[1]1SCSOPTI'!P320 -> 0 | Q320: ='[1]1SCSOPTI'!Q320 -> 0 | R320: ='[1]1SCSOPTI'!R320 -> 0

Sheet Feuil3
C4: 01 | D4: 02 | E4: 03 | F4: 04 | G4: 05 | H4: 06 | I4: 07 | J4: 08 | K4: 09 | L4: 10 | M4: 11
A5: Charges fixes | C5: % d'affectation
A6: Frais bancaires | B6: 627800 | C6: 0.405 | D6: 0.045 | E6: 0.035 | F6: 0.03 | G6: 0.035 | H6: 0.06 | I6: 0.06 | J6: 0.15 | K6: 0.05 | L6: 0.03 | M6: 0.1
A7: Taux d'intérêt | B7: 661100 | C7: 0.36 | D7: 0.064 | E7: 0.064 | F7: 0.064 | G7: 0.064 | H7: 0.064 | I7: 0.064 | J7: 0.064 | K7: 0.064 | L7: 0.064 | M7: 0.064
A8: Taux d'assurance | B8: 616800 | C8: 0.36 | D8: 0.064 | E8: 0.064 | F8: 0.064 | G8: 0.064 | H8: 0.064 | I8: 0.064 | J8: 0.064 | K8: 0.064 | L8: 0.064 | M8: 0.064

Sheet Feuil2
C1: Suffixe/comptes | D1: 01 | E1: 02 | F1: 03 | G1: 04 | H1: 05 | I1: 06 | J1: 07 | K1: 08 | L1: 09 | M1: 10 | N1: 11
