Workbook

Sheet Sommaire
A1: Matchs | B1: Issues | D1: Rencontres | E1: Cote Domicile | F1: Cote Nul | G1: Cote Extérieur | H1: TRJ
A2: 3 | B2: 3 | D2: Leverkusen - Bayern | E2: 5.8 | F2: 5.1 | G2: 1.5 | H2: =IF(D2="","",IF(1/E2+1/F2+1/G2<1,"Surebet","Pas de Surebet")) -> Pas de Surebet | I2: =IF(D2="","",1/(1/E2+1/F2+1/G2)) -> 0.96603527
A3: Nombre de combinaison | D3: Leipzig - Paderborn | E3: 1.14 | F3: 9.3 | G3: 18 | H3: =IF(D3="","",IF(1/E3+1/F3+1/G3<1,"Surebet","Pas de Surebet")) -> Pas de Surebet | I3: =IF(D3="","",1/(1/E3+1/F3+1/G3)) -> 0.96128389
A4: =IF(OR(A2="",B2=""),"",B2^A2) -> 27 | D4: Dortmund - Hertha | E4: 1.38 | F4: 5.4 | G4: 8 | H4: =IF(D4="","",IF(1/E4+1/F4+1/G4<1,"Surebet","Pas de Surebet")) -> Pas de Surebet | I4: =IF(D4="","",1/(1/E4+1/F4+1/G4)) -> 0.96634896
A6: 2 Matchs & 2 Issues | D6: Saisir le nombre de match avec la liste déroulante
D7: Saisir le nombre d'issue possible avec la liste déroulante
D8: Saisir les rencontres dans les cellules ORANGE
A9: 3 Matchs & 2 Issues | D9: Saisir les cotes des équipes si 3 issues
D10: Cliquer sur le type de Matchs & Issues souhaité
D11: Pour les matchs à 2 Issues, une liste déroulante vous permettra de sélectionner entre Over/Under et BTTS/NoBTTS + Saisir les cotes
A12: 2 Matchs & 3 Issues
A15: 3 Matchs & 3 Issues | D15: ATTENTION séparer les deux équipes par un tiret
D16: ESPACE TIRET ESPACE

Sheet 2M_2I
A1: Type de paris | C1: Rencontre | D1: Type de paris | F1: Cote Over / BTTS | G1: Cote Under / NoBTTS
C2: =Sommaire!D2 -> Leverkusen - Bayern | D2: =IF($A$2="","",IF($A$2="Over / Under","Over","BTTS")) | E2: =IF($A$2="","",IF($A$2="Over / Under","Under","NoBTTS"))
C3: =Sommaire!D3 -> Leipzig - Paderborn | D3: =IF($A$2="","",IF($A$2="Over / Under","Over","BTTS")) | E3: =IF($A$2="","",IF($A$2="Over / Under","Under","NoBTTS"))
A4: TRJ
A5: =1/(SUM(I7:I10)) -> #DIV/0! | F5: Combinaison
A6: =IF(A5>1,"Surebet","Pas de Surebet") -> #DIV/0! | F6: Match 1 | G6: Match 2 | H6: Cote
F7: =D2 | G7: =D3 | H7: =F2*F3 -> 0 | I7: =1/H7 -> #DIV/0!
A8: Saisir le type de paris avec la liste déroulante | F8: =D2 | G8: =E3 | H8: =F2*G3 -> 0 | I8: =1/H8 -> #DIV/0!
F9: =E2 | G9: =D3 | H9: =G2*F3 -> 0 | I9: =1/H9 -> #DIV/0!
A10: Saisir les cotes Over/BTTS ou Under/NoBBTTS | F10: =E2 | G10: =E3 | H10: =G2*G3 -> 0 | I10: =1/H10 -> #DIV/0!
A13: RETOUR

Sheet 3M_2I
A1: Type de paris | C1: Rencontre | D1: Type de paris | F1: Cote Over / BTTS | G1: Cote Under / NoBTTS
C2: =Sommaire!D2 -> Leverkusen - Bayern | D2: =IF($A$2="","",IF($A$2="Over / Under","Over","BTTS")) | E2: =IF($A$2="","",IF($A$2="Over / Under","Under","NoBTTS"))
C3: =Sommaire!D3 -> Leipzig - Paderborn | D3: =IF($A$2="","",IF($A$2="Over / Under","Over","BTTS")) | E3: =IF($A$2="","",IF($A$2="Over / Under","Under","NoBTTS"))
A4: TRJ | C4: =Sommaire!D4 -> Dortmund - Hertha | D4: =IF($A$2="","",IF($A$2="Over / Under","Over","BTTS")) | E4: =IF($A$2="","",IF($A$2="Over / Under","Under","NoBTTS"))
A5: =1/SUM(J8:J15) -> #DIV/0!
A6: =IF(A5>1,"Surebet","Pas de Surebet") -> #DIV/0! | F6: Combinaison
F7: Match 1 | G7: Match 2 | H7: Match 3 | I7: Cote
A8: Saisir le type de paris avec la liste déroulante | F8: =D2 | G8: =D3 | H8: =D4 | I8: =F2*F3*F4 -> 0 | J8: =1/I8 -> #DIV/0!
F9: =E2 | G9: =E3 | H9: =E4 | I9: =G2*G3*G4 -> 0 | J9: =1/I9 -> #DIV/0!
A10: Saisir les cotes Over/BTTS ou Under/NoBBTTS | F10: =D2 | G10: =D3 | H10: =E4 | I10: =F2*F3*G4 -> 0 | J10: =1/I10 -> #DIV/0!
F11: =D2 | G11: =E3 | H11: =E4 | I11: =F2*G3*G4 -> 0 | J11: =1/I11 -> #DIV/0!
F12: =E2 | G12: =E3 | H12: =D4 | I12: =G2*G3*F4 -> 0 | J12: =1/I12 -> #DIV/0!
A13: RETOUR | F13: =D2 | G13: =E3 | H13: =D4 | I13: =F2*G3*F4 -> 0 | J13: =1/I13 -> #DIV/0!
F14: =E2 | G14: =D3 | H14: =E4 | I14: =G2*F3*G4 -> 0 | J14: =1/I14 -> #DIV/0!
F15: =E2 | G15: =D3 | H15: =D4 | I15: =G2*F3*F4 -> 0 | J15: =1/I15 -> #DIV/0!

Sheet 2M_3I
A1: Rencontre | B1: Type de paris | F1: Combinaison | N1: 100
A2: =Sommaire!D2 -> Leverkusen - Bayern | B2: =IF(A2="","",LEFT(A2,SEARCH(" - ",A2))) -> Leverkusen | C2: =IF(A2="","","Nul") -> Nul | D2: =IF(A2="","",RIGHT(A2,LEN(A2)-LEN(LEFT(A2,SEARCH("-",A2))))) -> Bayern | F2: Match 1 | G2: Match 2 | H2: Cote | I2: Cote Boostée | J2: Mise Max. | L2: Combinaison | M2: =H2 -> Cote | N2: Mise | O2: Gain net
A3: =Sommaire!D3 -> Leipzig - Paderborn | B3: =IF(A3="","",LEFT(A3,SEARCH(" - ",A3))) -> Leipzig | C3: =IF(A3="","","Nul") -> Nul | D3: =IF(A3="","",RIGHT(A3,LEN(A3)-LEN(LEFT(A3,SEARCH("-",A3))))) -> Paderborn | F3: =B2 -> Leverkusen | G3: =B3 -> Leipzig | H3: =IF(I3="",Sommaire!E2*Sommaire!E3,I3) -> 6.612 | K3: =1/H3 -> 0.15124017 | L3: =F3&" / "&G3 -> Leverkusen / Leipzig | M3: =H3 -> 6.612 | N3: =IF(J3="",$N$1/M3,J3) -> 15.124017 | O3: =IF(N3="","",(M3*N3)-SUM($N$3:$N$11)) -> -7.685035
F4: =B2 -> Leverkusen | G4: =C3 -> Nul | H4: =IF(I4="",Sommaire!E2*Sommaire!F3,I4) -> 53.94 | K4: =1/H4 -> 0.018539118 | L4: =F4&" / "&G4 -> Leverkusen / Nul | M4: =H4 -> 53.94 | N4: =IF(J4="",$N$1/M4,J4) -> 1.8539118 | O4: =IF(N4="","",(M4*N4)-SUM($N$3:$N$11)) -> -7.685035
A5: TRJ | F5: =B2 -> Leverkusen | G5: =D3 -> Paderborn | H5: =IF(I5="",Sommaire!E2*Sommaire!G3,I5) -> 104.4 | K5: =1/H5 -> 0.0095785441 | L5: =F5&" / "&G5 -> Leverkusen / Paderborn | M5: =H5 -> 104.4 | N5: =IF(J5="",$N$1/M5,J5) -> 0.95785441 | O5: =IF(N5="","",(M5*N5)-SUM($N$3:$N$11)) -> -7.685035
A6: =1/SUM(K3:K11) -> 0.92863414 | F6: =C2 -> Nul | G6: =B3 -> Leipzig | H6: =IF(I6="",Sommaire!F2*Sommaire!E3,I6) -> 5.814 | K6: =1/H6 -> 0.17199862 | L6: =F6&" / "&G6 -> Nul / Leipzig | M6: =H6 -> 5.814 | N6: =IF(J6="",$N$1/M6,J6) -> 17.199862 | O6: =IF(N6="","",(M6*N6)-SUM($N$3:$N$11)) -> -7.685035
A7: =IF(A6>1,"Surebet","Pas de Surebet") -> Pas de Surebet | F7: =C2 -> Nul | G7: =C3 -> Nul | H7: =IF(I7="",Sommaire!F2*Sommaire!F3,I7) -> 47.43 | K7: =1/H7 -> 0.021083702 | L7: =F7&" / "&G7 -> Nul / Nul | M7: =H7 -> 47.43 | N7: =IF(J7="",$N$1/M7,J7) -> 2.1083702 | O7: =IF(N7="","",(M7*N7)-SUM($N$3:$N$11)) -> -7.685035
F8: =C2 -> Nul | G8: =D3 -> Paderborn | H8: =IF(I8="",Sommaire!F2*Sommaire!G3,I8) -> 91.8 | K8: =1/H8 -> 0.010893246 | L8: =F8&" / "&G8 -> Nul / Paderborn | M8: =H8 -> 91.8 | N8: =IF(J8="",$N$1/M8,J8) -> 1.0893246 | O8: =IF(N8="","",(M8*N8)-SUM($N$3:$N$11)) -> -7.685035
A9: RETOUR | F9: =D2 -> Bayern | G9: =B3 -> Leipzig | H9: =IF(I9="",Sommaire!G2*Sommaire!E3,I9) -> 1.71 | K9: =1/H9 -> 0.58479532 | L9: =F9&" / "&G9 -> Bayern / Leipzig | M9: =H9 -> 1.71 | N9: =IF(J9="",$N$1/M9,J9) -> 58.479532 | O9: =IF(N9="","",(M9*N9)-SUM($N$3:$N$11)) -> -7.685035
F10: =D2 -> Bayern | G10: =C3 -> Nul | H10: =IF(I10="",Sommaire!G2*Sommaire!F3,I10) -> 13.95 | K10: =1/H10 -> 0.071684588 | L10: =F10&" / "&G10 -> Bayern / Nul | M10: =H10 -> 13.95 | N10: =IF(J10="",$N$1/M10,J10) -> 7.1684588 | O10: =IF(N10="","",(M10*N10)-SUM($N$3:$N$11)) -> -7.685035
F11: =D2 -> Bayern | G11: =D3 -> Paderborn | H11: =IF(I11="",Sommaire!G2*Sommaire!G3,I11) -> 27 | K11: =1/H11 -> 0.037037037 | L11: =F11&" / "&G11 -> Bayern / Paderborn | M11: =H11 -> 27 | N11: =IF(J11="",$N$1/M11,J11) -> 3.7037037 | O11: =IF(N11="","",(M11*N11)-SUM($N$3:$N$11)) -> -7.685035
I13: Cote Boostée et Mise Max. à mettre automatiquement dans la cellule MISE. Généralement 1 seule Cote Boostée. | M13: Trouver les mises automatiquement de la colonne MISE pour obtenir un GAIN NET identiques.
L18: Si il y a une CB alors il y a une MISE MAX qui sera la MISE.
L19: Les MISES devront alors s'ajuster à la MISE de la CB pour que le GAIN NET soit identique partout

Sheet 3M_3I
A1: Rencontre | B1: Type de paris | F1: Combinaison | O1: 100
A2: =Sommaire!D2 -> Leverkusen - Bayern | B2: =IF(A2="","",LEFT(A2,SEARCH(" - ",A2))) -> Leverkusen | C2: =IF(A2="","","Nul") -> Nul | D2: =IF(A2="","",RIGHT(A2,LEN(A2)-LEN(LEFT(A2,SEARCH("-",A2))))) -> Bayern | F2: Match 1 | G2: Match 2 | H2: Match 3 | I2: Cote | J2: Cote Boostée | K2: Mise Max. | M2: Combinaison | N2: =I2 -> Cote | O2: Mise | P2: Gain net
A3: =Sommaire!D3 -> Leipzig - Paderborn | B3: =IF(A3="","",LEFT(A3,SEARCH(" - ",A3))) -> Leipzig | C3: =IF(A3="","","Nul") -> Nul | D3: =IF(A3="","",RIGHT(A3,LEN(A3)-LEN(LEFT(A3,SEARCH("-",A3))))) -> Paderborn | F3: =B2 -> Leverkusen | G3: =$B$3 -> Leipzig | H3: =$B$4 -> Dortmund | I3: =IF(J3="",Sommaire!E2*Sommaire!E3*Sommaire!E4,J3) -> 9.12456 | L3: =1/I3 -> 0.10959433 | M3: =F3&" / "&G3&" / "&H3 -> Leverkusen / Leipzig / Dortmund | N3: =I3 -> 9.12456 | O3: =IF(K3="",$O$1/N3,K3) -> 10.959433 | P3: =O3*N3-SUM($O$3:$O$29) -> 25.591536
A4: =Sommaire!D4 -> Dortmund - Hertha | B4: =IF(A4="","",LEFT(A4,SEARCH(" - ",A4))) -> Dortmund | C4: =IF(A4="","","Nul") -> Nul | D4: =IF(A4="","",RIGHT(A4,LEN(A4)-LEN(LEFT(A4,SEARCH("-",A4))))) -> Hertha | F4: =B2 -> Leverkusen | G4: =$B$3 -> Leipzig | H4: =$C$4 -> Nul | I4: =IF(J4="",Sommaire!E2*Sommaire!E3*Sommaire!F4,J4) -> 35.7048 | L4: =1/I4 -> 0.028007439 | M4: =F4&" / "&G4&" / "&H4 -> Leverkusen / Leipzig / Nul | N4: =I4 -> 35.7048 | O4: =IF(K4="",$O$1/N4,K4) -> 2.8007439 | P4: =O4*N4-SUM($O$3:$O$29) -> 25.591536
F5: =B2 -> Leverkusen | G5: =$B$3 -> Leipzig | H5: =$D$4 -> Hertha | I5: =IF(J5="",Sommaire!E2*Sommaire!E3*Sommaire!G4,J5) -> 52.896 | L5: =1/I5 -> 0.018905021 | M5: =F5&" / "&G5&" / "&H5 -> Leverkusen / Leipzig / Hertha | N5: =I5 -> 52.896 | O5: =IF(K5="",$O$1/N5,K5) -> 1.8905021 | P5: =O5*N5-SUM($O$3:$O$29) -> 25.591536
A6: TRJ | F6: =B2 -> Leverkusen | G6: =$C$3 -> Nul | H6: =$B$4 -> Dortmund | I6: =IF(J6="",Sommaire!E2*Sommaire!F3*Sommaire!E4,J6) -> 74.4372 | L6: =1/I6 -> 0.013434143 | M6: =F6&" / "&G6&" / "&H6 -> Leverkusen / Nul / Dortmund | N6: =I6 -> 74.4372 | O6: =IF(K6="",$O$1/N6,K6) -> 1.3434143 | P6: =O6*N6-SUM($O$3:$O$29) -> 25.591536
A7: =1/SUM(L3:L29) -> 1.1228579 | F7: =B2 -> Leverkusen | G7: =$C$3 -> Nul | H7: =$C$4 -> Nul | I7: =IF(J7="",Sommaire!E2*Sommaire!F3*Sommaire!F4,J7) -> 291.276 | L7: =1/I7 -> 0.0034331699 | M7: =F7&" / "&G7&" / "&H7 -> Leverkusen / Nul / Nul | N7: =I7 -> 291.276 | O7: =IF(K7="",$O$1/N7,K7) -> 0.34331699 | P7: =O7*N7-SUM($O$3:$O$29) -> 25.591536
A8: =IF(A7>1,"Surebet","Pas de Surebet") -> Surebet | F8: =B2 -> Leverkusen | G8: =$C$3 -> Nul | H8: =$D$4 -> Hertha | I8: =IF(J8="",Sommaire!E2*Sommaire!F3*Sommaire!G4,J8) -> 431.52 | L8: =1/I8 -> 0.0023173897 | M8: =F8&" / "&G8&" / "&H8 -> Leverkusen / Nul / Hertha | N8: =I8 -> 431.52 | O8: =IF(K8="",$O$1/N8,K8) -> 0.23173897 | P8: =O8*N8-SUM($O$3:$O$29) -> 25.591536
F9: =B2 -> Leverkusen | G9: =$D$3 -> Paderborn | H9: =$B$4 -> Dortmund | I9: =IF(J9="",Sommaire!E2*Sommaire!G3*Sommaire!E4,J9) -> 144.072 | L9: =1/I9 -> 0.006940974 | M9: =F9&" / "&G9&" / "&H9 -> Leverkusen / Paderborn / Dortmund | N9: =I9 -> 144.072 | O9: =IF(K9="",$O$1/N9,K9) -> 0.6940974 | P9: =O9*N9-SUM($O$3:$O$29) -> 25.591536
A10: RETOUR | F10: =B2 -> Leverkusen | G10: =$D$3 -> Paderborn | H10: =$C$4 -> Nul | I10: =IF(J10="",Sommaire!E2*Sommaire!G3*Sommaire!F4,J10) -> 563.76 | L10: =1/I10 -> 0.0017738045 | M10: =F10&" / "&G10&" / "&H10 -> Leverkusen / Paderborn / Nul | N10: =I10 -> 563.76 | O10: =IF(K10="",$O$1/N10,K10) -> 0.17738045 | P10: =O10*N10-SUM($O$3:$O$29) -> 25.591536
F11: =B2 -> Leverkusen | G11: =$D$3 -> Paderborn | H11: =$D$4 -> Hertha | I11: =IF(J11="",Sommaire!E2*Sommaire!G3*Sommaire!G4,J11) -> 835.2 | L11: =1/I11 -> 0.001197318 | M11: =F11&" / "&G11&" / "&H11 -> Leverkusen / Paderborn / Hertha | N11: =I11 -> 835.2 | O11: =IF(K11="",$O$1/N11,K11) -> 0.1197318 | P11: =O11*N11-SUM($O$3:$O$29) -> 25.591536
F12: =$C$2 -> Nul | G12: =$B$3 -> Leipzig | H12: =$B$4 -> Dortmund | I12: =IF(J12="",Sommaire!F2*Sommaire!E3*Sommaire!E4,J12) -> 8.02332 | L12: =1/I12 -> 0.12463668 | M12: =F12&" / "&G12&" / "&H12 -> Nul / Leipzig / Dortmund | N12: =I12 -> 8.02332 | O12: =IF(K12="",$O$1/N12,K12) -> 12.463668 | P12: =O12*N12-SUM($O$3:$O$29) -> 25.591536
F13: =$C$2 -> Nul | G13: =$B$3 -> Leipzig | H13: =$C$4 -> Nul | I13: =IF(J13="",Sommaire!F2*Sommaire!E3*Sommaire!F4,J13) -> 31.3956 | L13: =1/I13 -> 0.031851597 | M13: =F13&" / "&G13&" / "&H13 -> Nul / Leipzig / Nul | N13: =I13 -> 31.3956 | O13: =IF(K13="",$O$1/N13,K13) -> 3.1851597 | P13: =O13*N13-SUM($O$3:$O$29) -> 25.591536
F14: =$C$2 -> Nul | G14: =$B$3 -> Leipzig | H14: =$D$4 -> Hertha | I14: =IF(J14="",Sommaire!F2*Sommaire!E3*Sommaire!G4,J14) -> 46.512 | L14: =1/I14 -> 0.021499828 | M14: =F14&" / "&G14&" / "&H14 -> Nul / Leipzig / Hertha | N14: =I14 -> 46.512 | O14: =IF(K14="",$O$1/N14,K14) -> 2.1499828 | P14: =O14*N14-SUM($O$3:$O$29) -> 25.591536
F15: =$C$2 -> Nul | G15: =$C$3 -> Nul | H15: =$B$4 -> Dortmund | I15: =IF(J15="",Sommaire!F2*Sommaire!F3*Sommaire!E4,J15) -> 65.4534 | L15: =1/I15 -> 0.015278045 | M15: =F15&" / "&G15&" / "&H15 -> Nul / Nul / Dortmund | N15: =I15 -> 65.4534 | O15: =IF(K15="",$O$1/N15,K15) -> 1.5278045 | P15: =O15*N15-SUM($O$3:$O$29) -> 25.591536
F16: =$C$2 -> Nul | G16: =$C$3 -> Nul | H16: =$C$4 -> Nul | I16: =IF(J16="",Sommaire!F2*Sommaire!F3*Sommaire!F4,J16) -> 256.122 | L16: =1/I16 -> 0.0039043893 | M16: =F16&" / "&G16&" / "&H16 -> Nul / Nul / Nul | N16: =I16 -> 256.122 | O16: =IF(K16="",$O$1/N16,K16) -> 0.39043893 | P16: =O16*N16-SUM($O$3:$O$29) -> 25.591536
F17: =$C$2 -> Nul | G17: =$C$3 -> Nul | H17: =$D$4 -> Hertha | I17: =IF(J17="",Sommaire!F2*Sommaire!F3*Sommaire!G4,J17) -> 379.44 | L17: =1/I17 -> 0.0026354628 | M17: =F17&" / "&G17&" / "&H17 -> Nul / Nul / Hertha | N17: =I17 -> 379.44 | O17: =IF(K17="",$O$1/N17,K17) -> 0.26354628 | P17: =O17*N17-SUM($O$3:$O$29) -> 25.591536
F18: =$C$2 -> Nul | G18: =$D$3 -> Paderborn | H18: =$B$4 -> Dortmund | I18: =IF(J18="",Sommaire!F2*Sommaire!G3*Sommaire!E4,J18) -> 126.684 | L18: =1/I18 -> 0.0078936567 | M18: =F18&" / "&G18&" / "&H18 -> Nul / Paderborn / Dortmund | N18: =I18 -> 126.684 | O18: =IF(K18="",$O$1/N18,K18) -> 0.78936567 | P18: =O18*N18-SUM($O$3:$O$29) -> 25.591536
F19: =$C$2 -> Nul | G19: =$D$3 -> Paderborn | H19: =$C$4 -> Nul | I19: =IF(J19="",Sommaire!F2*Sommaire!G3*Sommaire!F4,J19) -> 495.72 | L19: =1/I19 -> 0.0020172678 | M19: =F19&" / "&G19&" / "&H19 -> Nul / Paderborn / Nul | N19: =I19 -> 495.72 | O19: =IF(K19="",$O$1/N19,K19) -> 0.20172678 | P19: =O19*N19-SUM($O$3:$O$29) -> 25.591536
F20: =$C$2 -> Nul | G20: =$D$3 -> Paderborn | H20: =$D$4 -> Hertha | I20: =IF(J20="",Sommaire!F2*Sommaire!G3*Sommaire!G4,J20) -> 734.4 | L20: =1/I20 -> 0.0013616558 | M20: =F20&" / "&G20&" / "&H20 -> Nul / Paderborn / Hertha | N20: =I20 -> 734.4 | O20: =IF(K20="",$O$1/N20,K20) -> 0.13616558 | P20: =O20*N20-SUM($O$3:$O$29) -> 25.591536
F21: =$D$2 -> Bayern | G21: =$B$3 -> Leipzig | H21: =$B$4 -> Dortmund | I21: =IF(J21="",Sommaire!G2*Sommaire!E3*Sommaire!E4,J21) -> 5 | J21: 5 | K21: 5.35 | L21: =1/I21 -> 0.2 | M21: =F21&" / "&G21&" / "&H21 -> Bayern / Leipzig / Dortmund | N21: =I21 -> 5 | O21: =IF(K21="",$O$1/N21,K21) -> 5.35 | P21: =O21*N21-SUM($O$3:$O$29) -> -47.658464
F22: =$D$2 -> Bayern | G22: =$B$3 -> Leipzig | H22: =$C$4 -> Nul | I22: =IF(J22="",Sommaire!G2*Sommaire!E3*Sommaire!F4,J22) -> 9.234 | L22: =1/I22 -> 0.10829543 | M22: =F22&" / "&G22&" / "&H22 -> Bayern / Leipzig / Nul | N22: =I22 -> 9.234 | O22: =IF(K22="",$O$1/N22,K22) -> 10.829543 | P22: =O22*N22-SUM($O$3:$O$29) -> 25.591536
F23: =$D$2 -> Bayern | G23: =$B$3 -> Leipzig | H23: =$D$4 -> Hertha | I23: =IF(J23="",Sommaire!G2*Sommaire!E3*Sommaire!G4,J23) -> 13.68 | L23: =1/I23 -> 0.073099415 | M23: =F23&" / "&G23&" / "&H23 -> Bayern / Leipzig / Hertha | N23: =I23 -> 13.68 | O23: =IF(K23="",$O$1/N23,K23) -> 7.3099415 | P23: =O23*N23-SUM($O$3:$O$29) -> 25.591536
F24: =$D$2 -> Bayern | G24: =$C$3 -> Nul | H24: =$B$4 -> Dortmund | I24: =IF(J24="",Sommaire!G2*Sommaire!F3*Sommaire!E4,J24) -> 19.251 | L24: =1/I24 -> 0.051945353 | M24: =F24&" / "&G24&" / "&H24 -> Bayern / Nul / Dortmund | N24: =I24 -> 19.251 | O24: =IF(K24="",$O$1/N24,K24) -> 5.1945353 | P24: =O24*N24-SUM($O$3:$O$29) -> 25.591536
F25: =$D$2 -> Bayern | G25: =$C$3 -> Nul | H25: =$C$4 -> Nul | I25: =IF(J25="",Sommaire!G2*Sommaire!F3*Sommaire!F4,J25) -> 75.33 | L25: =1/I25 -> 0.013274924 | M25: =F25&" / "&G25&" / "&H25 -> Bayern / Nul / Nul | N25: =I25 -> 75.33 | O25: =IF(K25="",$O$1/N25,K25) -> 1.3274924 | P25: =O25*N25-SUM($O$3:$O$29) -> 25.591536
F26: =$D$2 -> Bayern | G26: =$C$3 -> Nul | H26: =$D$4 -> Hertha | I26: =IF(J26="",Sommaire!G2*Sommaire!F3*Sommaire!G4,J26) -> 111.6 | L26: =1/I26 -> 0.0089605735 | M26: =F26&" / "&G26&" / "&H26 -> Bayern / Nul / Hertha | N26: =I26 -> 111.6 | O26: =IF(K26="",$O$1/N26,K26) -> 0.89605735 | P26: =O26*N26-SUM($O$3:$O$29) -> 25.591536
F27: =$D$2 -> Bayern | G27: =$D$3 -> Paderborn | H27: =$B$4 -> Dortmund | I27: =IF(J27="",Sommaire!G2*Sommaire!G3*Sommaire!E4,J27) -> 37.26 | L27: =1/I27 -> 0.026838433 | M27: =F27&" / "&G27&" / "&H27 -> Bayern / Paderborn / Dortmund | N27: =I27 -> 37.26 | O27: =IF(K27="",$O$1/N27,K27) -> 2.6838433 | P27: =O27*N27-SUM($O$3:$O$29) -> 25.591536
F28: =$D$2 -> Bayern | G28: =$D$3 -> Paderborn | H28: =$C$4 -> Nul | I28: =IF(J28="",Sommaire!G2*Sommaire!G3*Sommaire!F4,J28) -> 145.8 | L28: =1/I28 -> 0.0068587106 | M28: =F28&" / "&G28&" / "&H28 -> Bayern / Paderborn / Nul | N28: =I28 -> 145.8 | O28: =IF(K28="",$O$1/N28,K28) -> 0.68587106 | P28: =O28*N28-SUM($O$3:$O$29) -> 25.591536
F29: =$D$2 -> Bayern | G29: =$D$3 -> Paderborn | H29: =$D$4 -> Hertha | I29: =IF(J29="",Sommaire!G2*Sommaire!G3*Sommaire!G4,J29) -> 216 | L29: =1/I29 -> 0.0046296296 | M29: =F29&" / "&G29&" / "&H29 -> Bayern / Paderborn / Hertha | N29: =I29 -> 216 | O29: =IF(K29="",$O$1/N29,K29) -> 0.46296296 | P29: =O29*N29-SUM($O$3:$O$29) -> 25.591536

Sheet Feuil1
A1: Paris | B1: Cotes | C1: Mises en € | D1: Gain Brut | E1: Gain Net
B2: 9.12456 | C2: =ROUND(I2,2) -> 2.93 | D2: =IF(B2="","",B2*C2) -> 26.734961 | E2: =IF(B2="","",IF(AND(B2>0,SUM($C$2:$C$28)=$A$30),D2-$A$30,D2-SUM($C$2:$C$28))) -> 2.6249608 | G2: =IF(B2="","",1/B2) -> 0.10959433 | H2: =IF(G2="","",G2/$G$29) -> 0.12305885 | I2: =IF(H2="","",IF(H2*$A$30<0.1,0.1,H2*$A$30)) -> 2.9300313
B3: 35.7048 | C3: =ROUND(I3,2) -> 0.75 | D3: =IF(B3="","",B3*C3) -> 26.7786 | E3: =IF(B3="","",IF(AND(B3>0,SUM($C$2:$C$28)=$A$30),D3-$A$30,D3-SUM($C$2:$C$28))) -> 2.6686 | G3: =IF(B3="","",1/B3) -> 0.028007439 | H3: =IF(G3="","",G3/$G$29) -> 0.031448374 | I3: =IF(H3="","",IF(H3*$A$30<0.1,0.1,H3*$A$30)) -> 0.74878578
B4: 52.896 | C4: =ROUND(I4,2) -> 0.51 | D4: =IF(B4="","",B4*C4) -> 26.97696 | E4: =IF(B4="","",IF(AND(B4>0,SUM($C$2:$C$28)=$A$30),D4-$A$30,D4-SUM($C$2:$C$28))) -> 2.86696 | G4: =IF(B4="","",1/B4) -> 0.018905021 | H4: =IF(G4="","",G4/$G$29) -> 0.021227652 | I4: =IF(H4="","",IF(H4*$A$30<0.1,0.1,H4*$A$30)) -> 0.5054304
B5: 74.4372 | C5: =ROUND(I5,2) -> 0.36 | D5: =IF(B5="","",B5*C5) -> 26.797392 | E5: =IF(B5="","",IF(AND(B5>0,SUM($C$2:$C$28)=$A$30),D5-$A$30,D5-SUM($C$2:$C$28))) -> 2.687392 | G5: =IF(B5="","",1/B5) -> 0.013434143 | H5: =IF(G5="","",G5/$G$29) -> 0.015084634 | I5: =IF(H5="","",IF(H5*$A$30<0.1,0.1,H5*$A$30)) -> 0.35916513
B6: 291.276 | C6: =ROUND(I6,2) -> 0.1 | D6: =IF(B6="","",B6*C6) -> 29.1276 | E6: =IF(B6="","",IF(AND(B6>0,SUM($C$2:$C$28)=$A$30),D6-$A$30,D6-SUM($C$2:$C$28))) -> 5.0176 | G6: =IF(B6="","",1/B6) -> 0.0034331699 | H6: =IF(G6="","",G6/$G$29) -> 0.003854962 | I6: =IF(H6="","",IF(H6*$A$30<0.1,0.1,H6*$A$30)) -> 0.1
B7: 431.52 | C7: =ROUND(I7,2) -> 0.1 | D7: =IF(B7="","",B7*C7) -> 43.152 | E7: =IF(B7="","",IF(AND(B7>0,SUM($C$2:$C$28)=$A$30),D7-$A$30,D7-SUM($C$2:$C$28))) -> 19.042 | G7: =IF(B7="","",1/B7) -> 0.0023173897 | H7: =IF(G7="","",G7/$G$29) -> 0.0026020993 | I7: =IF(H7="","",IF(H7*$A$30<0.1,0.1,H7*$A$30)) -> 0.1
B8: 144.072 | C8: =ROUND(I8,2) -> 0.19 | D8: =IF(B8="","",B8*C8) -> 27.37368 | E8: =IF(B8="","",IF(AND(B8>0,SUM($C$2:$C$28)=$A$30),D8-$A$30,D8-SUM($C$2:$C$28))) -> 3.26368 | G8: =IF(B8="","",1/B8) -> 0.006940974 | H8: =IF(G8="","",G8/$G$29) -> 0.0077937275 | I8: =IF(H8="","",IF(H8*$A$30<0.1,0.1,H8*$A$30)) -> 0.18556865
B9: 563.76 | C9: =ROUND(I9,2) -> 0.1 | D9: =IF(B9="","",B9*C9) -> 56.376 | E9: =IF(B9="","",IF(AND(B9>0,SUM($C$2:$C$28)=$A$30),D9-$A$30,D9-SUM($C$2:$C$28))) -> 32.266 | G9: =IF(B9="","",1/B9) -> 0.0017738045 | H9: =IF(G9="","",G9/$G$29) -> 0.0019917303 | I9: =IF(H9="","",IF(H9*$A$30<0.1,0.1,H9*$A$30)) -> 0.1
B10: 835.2 | C10: =ROUND(I10,2) -> 0.1 | D10: =IF(B10="","",B10*C10) -> 83.52 | E10: =IF(B10="","",IF(AND(B10>0,SUM($C$2:$C$28)=$A$30),D10-$A$30,D10-SUM($C$2:$C$28))) -> 59.41 | G10: =IF(B10="","",1/B10) -> 0.001197318 | H10: =IF(G10="","",G10/$G$29) -> 0.001344418 | I10: =IF(H10="","",IF(H10*$A$30<0.1,0.1,H10*$A$30)) -> 0.1
B11: 8.02332 | C11: =ROUND(I11,2) -> 3.33 | D11: =IF(B11="","",B11*C11) -> 26.717656 | E11: =IF(B11="","",IF(AND(B11>0,SUM($C$2:$C$28)=$A$30),D11-$A$30,D11-SUM($C$2:$C$28))) -> 2.6076556 | G11: =IF(B11="","",1/B11) -> 0.12463668 | H11: =IF(G11="","",G11/$G$29) -> 0.13994929 | I11: =IF(H11="","",IF(H11*$A$30<0.1,0.1,H11*$A$30)) -> 3.3321925
B12: 31.3956 | C12: =ROUND(I12,2) -> 0.85 | D12: =IF(B12="","",B12*C12) -> 26.68626 | E12: =IF(B12="","",IF(AND(B12>0,SUM($C$2:$C$28)=$A$30),D12-$A$30,D12-SUM($C$2:$C$28))) -> 2.57626 | G12: =IF(B12="","",1/B12) -> 0.031851597 | H12: =IF(G12="","",G12/$G$29) -> 0.035764817 | I12: =IF(H12="","",IF(H12*$A$30<0.1,0.1,H12*$A$30)) -> 0.8515603
B13: 46.512 | C13: =ROUND(I13,2) -> 0.57 | D13: =IF(B13="","",B13*C13) -> 26.51184 | E13: =IF(B13="","",IF(AND(B13>0,SUM($C$2:$C$28)=$A$30),D13-$A$30,D13-SUM($C$2:$C$28))) -> 2.40184 | G13: =IF(B13="","",1/B13) -> 0.021499828 | H13: =IF(G13="","",G13/$G$29) -> 0.024141252 | I13: =IF(H13="","",IF(H13*$A$30<0.1,0.1,H13*$A$30)) -> 0.5748032
... B28: 216 | C28: =ROUND(I28,2) -> 0.12 | D28: =IF(B28="","",B28*C28) -> 25.92 | E28: =IF(B28="","",IF(AND(B28>0,SUM($C$2:$C$28)=$A$30),D28-$A$30,D28-SUM($C$2:$C$28))) -> 1.81 | G28: =IF(B28="","",1/B28) -> 0.0046296296 | H28: =IF(G28="","",G28/$G$29) -> 0.0051984162 | I28: =IF(H28="","",IF(H28*$A$30<0.1,0.1,H28*$A$30)) -> 0.12377429
A29: Mise souhaitée | B29: Gain Moyen | C29: Cote équivalente | G29: =SUM(G2:G28) -> 0.89058464 | H29: =SUM(H2:H28) -> 1 | I29: =IF(H29="","",IF(H29*$A$30<0.1,0.1,H29*$A$30)) -> 23.81
A30: 23.81 | B30: =AVERAGE(E2:E28) -> 9.4405508 | C30: =IF(B30=0,"",AVERAGE(D2:D28)/SUM(C2:C28)) -> 1.3915616
