Workbook
Name JoursFériés: Aide!$M$4:$M$16

Sheet Planning
B2: Année : | C2: 2023 | E2: =IF(AND(C2<>"",C3<>""),"Planning des Plans de Surveillance pour le mois de "&C3&" "&C2,"") -> Planning des Plans de Surveillance pour le mois de Juin 2023
B3: Mois : | C3: Juin
B4: Procédé spécial : | C4: Tous
D7: 1 | E7: 2 | F7: 3 | G7: 4 | H7: 5 | I7: 6 | J7: 7 | K7: 8 | L7: 9 | M7: 10 | N7: 11 | O7: 12 | P7: 13 | Q7: 14 | R7: 15 | S7: 16 | T7: 17 | U7: 18 | V7: 19 | W7: 20 | X7: 21 | Y7: 22 | Z7: 23 | AA7: 24 | AB7: 25 | AC7: 26 | AD7: 27 | AE7: 28 | AF7: 29 | AG7: 30 | AH7: 31
D8: =DATE($C$2,VLOOKUP($C$3,Aide!$B$4:$C$15,2,FALSE),D7) -> 45078 | E8: =DATE($C$2,VLOOKUP($C$3,Aide!$B$4:$C$15,2,FALSE),E7) -> 45079 | F8: =DATE($C$2,VLOOKUP($C$3,Aide!$B$4:$C$15,2,FALSE),F7) -> 45080 | G8: =DATE($C$2,VLOOKUP($C$3,Aide!$B$4:$C$15,2,FALSE),G7) -> 45081 | H8: =DATE($C$2,VLOOKUP($C$3,Aide!$B$4:$C$15,2,FALSE),H7) -> 45082 | I8: =DATE($C$2,VLOOKUP($C$3,Aide!$B$4:$C$15,2,FALSE),I7) -> 45083 | J8: =DATE($C$2,VLOOKUP($C$3,Aide!$B$4:$C$15,2,FALSE),J7) -> 45084 | K8: =DATE($C$2,VLOOKUP($C$3,Aide!$B$4:$C$15,2,FALSE),K7) -> 45085 | ... AH8: =DATE($C$2,VLOOKUP($C$3,Aide!$B$4:$C$15,2,FALSE),AH7) -> 45108
D9: =IF(AND($C$2<>"",$C$3<>""),TEXT(D8,"jjjj")&" "&TEXT(D8,"jj"),"") -> jeudi 01 | E9: =IF(AND($C$2<>"",$C$3<>""),IF(MONTH(E8)=MONTH($D$8),TEXT(E8,"jjjj")&" "&TEXT(E8,"jj"),""),"") -> vendredi 02 | F9: =IF(AND($C$2<>"",$C$3<>""),IF(MONTH(F8)=MONTH($D$8),TEXT(F8,"jjjj")&" "&TEXT(F8,"jj"),""),"") -> samedi 03 | G9: =IF(AND($C$2<>"",$C$3<>""),IF(MONTH(G8)=MONTH($D$8),TEXT(G8,"jjjj")&" "&TEXT(G8,"jj"),""),"") -> dimanche 04 | H9: =IF(AND($C$2<>"",$C$3<>""),IF(MONTH(H8)=MONTH($D$8),TEXT(H8,"jjjj")&" "&TEXT(H8,"jj"),""),"") -> lundi 05 | I9: =IF(AND($C$2<>"",$C$3<>""),IF(MONTH(I8)=MONTH($D$8),TEXT(I8,"jjjj")&" "&TEXT(I8,"jj"),""),"") -> mardi 06 | J9: =IF(AND($C$2<>"",$C$3<>""),IF(MONTH(J8)=MONTH($D$8),TEXT(J8,"jjjj")&" "&TEXT(J8,"jj"),""),"") -> mercredi 07 | K9: =IF(AND($C$2<>"",$C$3<>""),IF(MONTH(K8)=MONTH($D$8),TEXT(K8,"jjjj")&" "&TEXT(K8,"jj"),""),"") -> jeudi 08 | L9: =IF(AND($C$2<>"",$C$3<>""),IF(MONTH(L8)=MONTH($D$8),TEXT(L8,"jjjj")&" "&TEXT(L8,"jj"),""),"") -> vendredi 09 | ... AH9: =IF(AND($C$2<>"",$C$3<>""),IF(MONTH(AH8)=MONTH($D$8),TEXT(AH8,"jjjj")&" "&TEXT(AH8,"jj"),""),"") | AK9: =IF(WEEKDAY(DATE(YEAR(D8),MONTH(D8),1),2)=1,DATE(YEAR(D8),MONTH(D8),1),DATE(YEAR(D8),MONTH(D8),1)+8-(WEEKDAY(DATE(YEAR(D8),MONTH(D8),1),2))) -> 45082
C10: =IF(AND($C$2<>"",$C$3<>""),"Agrafage","") -> Agrafage | D10: =IF(D9<>"",IF(OR(WEEKDAY(D$8,2)=6,WEEKDAY(D$8,2)=7),"",IF(AND(D$8>=Programmation!$B$1,D$8<=Programmation!$C$1,D$17=""),"X","")),"") | E10: =IF(E9<>"",IF(OR(WEEKDAY(E$8,2)=6,WEEKDAY(E$8,2)=7),"",IF(AND(E$8>=Programmation!$B$1,E$8<=Programmation!$C$1,E$17=""),"X","")),"") | F10: =IF(F9<>"",IF(OR(WEEKDAY(F$8,2)=6,WEEKDAY(F$8,2)=7),"",IF(AND(F$8>=Programmation!$B$1,F$8<=Programmation!$C$1,F$17=""),"X","")),"") | G10: =IF(G9<>"",IF(OR(WEEKDAY(G$8,2)=6,WEEKDAY(G$8,2)=7),"",IF(AND(G$8>=Programmation!$B$1,G$8<=Programmation!$C$1,G$17=""),"X","")),"") | H10: =IF(H9<>"",IF(OR(WEEKDAY(H$8,2)=6,WEEKDAY(H$8,2)=7),"",IF(AND(H$8>=Programmation!$B$1,H$8<=Programmation!$C$1,H$17=""),"X","")),"") | I10: =IF(I9<>"",IF(OR(WEEKDAY(I$8,2)=6,WEEKDAY(I$8,2)=7),"",IF(AND(I$8>=Programmation!$B$1,I$8<=Programmation!$C$1,I$17=""),"X","")),"") | J10: =IF(J9<>"",IF(OR(WEEKDAY(J$8,2)=6,WEEKDAY(J$8,2)=7),"",IF(AND(J$8>=Programmation!$B$1,J$8<=Programmation!$C$1,J$17=""),"X","")),"") | K10: =IF(K9<>"",IF(OR(WEEKDAY(K$8,2)=6,WEEKDAY(K$8,2)=7),"",IF(AND(K$8>=Programmation!$B$1,K$8<=Programmation!$C$1,K$17=""),"X","")),"") -> X | ... AH10: =IF(AH9<>"",IF(OR(WEEKDAY(AH$8,2)=6,WEEKDAY(AH$8,2)=7),"",IF(AND(AH$8>=Programmation!$B$1,AH$8<=Programmation!$C$1,AH$17=""),"X","")),"")
C12: =IF(AND($C$2<>"",$C$3<>""),"Sertissage 8 pans","") -> Sertissage 8 pans | D12: =IF(D9<>"",IF(OR(WEEKDAY(D$8,2)=6,WEEKDAY(D$8,2)=7),"",IF(AND(D$8>=Programmation!$B$2,D$8<=Programmation!$C$2,D$17=""),"X","")),"") | E12: =IF(E9<>"",IF(OR(WEEKDAY(E$8,2)=6,WEEKDAY(E$8,2)=7),"",IF(AND(E$8>=Programmation!$B$2,E$8<=Programmation!$C$2,E$17=""),"X","")),"") | F12: =IF(F9<>"",IF(OR(WEEKDAY(F$8,2)=6,WEEKDAY(F$8,2)=7),"",IF(AND(F$8>=Programmation!$B$2,F$8<=Programmation!$C$2,F$17=""),"X","")),"") | G12: =IF(G9<>"",IF(OR(WEEKDAY(G$8,2)=6,WEEKDAY(G$8,2)=7),"",IF(AND(G$8>=Programmation!$B$2,G$8<=Programmation!$C$2,G$17=""),"X","")),"") | H12: =IF(H9<>"",IF(OR(WEEKDAY(H$8,2)=6,WEEKDAY(H$8,2)=7),"",IF(AND(H$8>=Programmation!$B$2,H$8<=Programmation!$C$2,H$17=""),"X","")),"") -> X | I12: =IF(I9<>"",IF(OR(WEEKDAY(I$8,2)=6,WEEKDAY(I$8,2)=7),"",IF(AND(I$8>=Programmation!$B$2,I$8<=Programmation!$C$2,I$17=""),"X","")),"") -> X | J12: =IF(J9<>"",IF(OR(WEEKDAY(J$8,2)=6,WEEKDAY(J$8,2)=7),"",IF(AND(J$8>=Programmation!$B$2,J$8<=Programmation!$C$2,J$17=""),"X","")),"") -> X | K12: =IF(K9<>"",IF(OR(WEEKDAY(K$8,2)=6,WEEKDAY(K$8,2)=7),"",IF(AND(K$8>=Programmation!$B$2,K$8<=Programmation!$C$2,K$17=""),"X","")),"") -> X | ... AH12: =IF(AH9<>"",IF(OR(WEEKDAY(AH$8,2)=6,WEEKDAY(AH$8,2)=7),"",IF(AND(AH$8>=Programmation!$B$2,AH$8<=Programmation!$C$2,AH$17=""),"X","")),"")
D13: =IF(D9<>"",IF(OR(WEEKDAY(D$8,2)=6,WEEKDAY(D$8,2)=7),"",IF(AND(D$8>=Programmation!$B$2,D$8<=Programmation!$C$2,D$17=""),"X","")),"") | AM13: =VLOOKUP(C3,Aide!B4:C15,2,FALSE) -> 6
AM14: =MONTH(TODAY()) -> 5
C17: Jours fériés | D17: =IF(COUNTIF(JoursFériés,D$8),"1","") | E17: =IF(COUNTIF(JoursFériés,E$8),"1","") | F17: =IF(COUNTIF(JoursFériés,F$8),"1","") | G17: =IF(COUNTIF(JoursFériés,G$8),"1","") | H17: =IF(COUNTIF(JoursFériés,H$8),"1","") | I17: =IF(COUNTIF(JoursFériés,I$8),"1","") | J17: =IF(COUNTIF(JoursFériés,J$8),"1","") | K17: =IF(COUNTIF(JoursFériés,K$8),"1","") | ... AH17: =IF(COUNTIF(JoursFériés,AH$8),"1","")

Sheet Programmation
A1: Agrafage | B1: =DATE(Planning!C2,VLOOKUP(Planning!C3,Aide!B4:C15,2,FALSE),8) -> 45085 | C1: =DATE(Planning!C2,VLOOKUP(Planning!C3,Aide!B4:C15,2,FALSE),14) -> 45091 | D1: renvoie jour choisi dans formule, avec le mois + année choisis dans planning | E1: Périodicité | F1: Mensuelle
A2: Sertissage 8 pans | B2: =IF(WEEKDAY(DATE(YEAR(Planning!D8),MONTH(Planning!D8),1),2)=1,DATE(YEAR(Planning!D8),MONTH(Planning!D8),1),DATE(YEAR(Planning!D8),MONTH(Planning!D8),1)+8-(WEEKDAY(DATE(YEAR(Planning!D8),MONTH(Planning!D8),1),2))) -> 45082 | C2: =B2+6 -> 45088 | D2: renvoie date du premier lundi du mois (=1e semaine complete) | E2: Périodicité | F2: Trimestrielle
B5: =_xlfn.IFS(F1="Hebdomadaire",DATE(Planning!C2,VLOOKUP(Planning!C3,Aide!B4:C15,2,FALSE),8+6),F1="Mensuelle",DATE(Planning!C2,VLOOKUP(Planning!C3,Aide!B4:C15,2,FALSE)+1,8),F1="Trimestrielle",DATE(Planning!C2,VLOOKUP(Planning!C3,Aide!B4:C15,2,FALSE)+3,8)) -> 45115

Sheet Aide
L2: FÉRIÉS | M2: Colonne1
B3: Mois | C3: Num | E3: Années | G3: Procédé spéciaux | H3: Périodicité | L3: Date | M3: Formule | O3: Hebdomadaire
B4: Janvier | C4: 1 | E4: 2023 | G4: Tous | H4: Mensuelle | L4: Jour de l'an | M4: =DATE(Planning!$C$2,1,1) -> 44927 | O4: Mensuelle
B5: Février | C5: 2 | E5: 2024 | G5: Sertissage 8 pans | H5: Mensuelle | L5: Pâques (cellule D7) | M5: =FLOOR(DAY(MINUTE(Planning!$C$2/38)/2+56)&"/5/"&Planning!$C$2,7)-34 -> 45025 | O5: Trimestrielle
B6: Mars | C6: 3 | E6: 2025 | G6: Agrafage | L6: Lundi de Pâques | M6: =M5+1 -> 45026 | O6: Annuelle
B7: Avril | C7: 4 | E7: 2026 | L7: Fête du travail | M7: =DATE(Planning!$C$2,5,1) -> 45047
B8: Mai | C8: 5 | E8: 2027 | L8: Armistice 39/45 | M8: =DATE(Planning!$C$2,5,8) -> 45054
B9: Juin | C9: 6 | E9: 2028 | L9: Ascension | M9: =M5+39 -> 45064
B10: Juillet | C10: 7 | E10: 2029 | L10: Pentecôte | M10: =M5+49 -> 45074
B11: Août | C11: 8 | E11: 2030 | L11: Lundi de Pentecôte | M11: =M5+50 -> 45075
B12: Septembre | C12: 9 | L12: Fête Nationale | M12: =DATE(Planning!$C$2,7,14) -> 45121
B13: Octobre | C13: 10 | L13: Assomption | M13: =DATE(Planning!$C$2,8,15) -> 45153
B14: Novembre | C14: 11 | L14: Toussaint | M14: =DATE(Planning!$C$2,11,1) -> 45231
B15: Décembre | C15: 12 | L15: Armistice 14/18 | M15: =DATE(Planning!$C$2,11,11) -> 45241
L16: Noël | M16: =DATE(Planning!$C$2,12,25) -> 45285
