Workbook
Name Année: #REF!
Name Feries: #REF!

Sheet Cartons
C1: Carton n° 1 | D1: Carton n° 2 | E1: Carton n° 3 | F1: Carton n° 4
A2: 45717 | B2: 0.33333333 | C2: 4 | D2: 8 | E2: 2 | F2: 7
A3: 45717 | B3: 0.83333333 | C3: 2 | D3: 10 | E3: 6 | F3: 4
A4: 45718 | B4: 0.33333333 | C4: 2 | D4: 9 | E4: 4 | F4: 5
A5: 45718 | B5: 0.83333333 | C5: 8 | D5: 2 | E5: 3 | F5: 6
A6: 45719 | B6: 0.33333333 | C6: 5 | D6: 9 | E6: 3 | F6: 8
A7: 45719 | B7: 0.83333333 | C7: 3 | D7: 11 | E7: 7 | F7: 5
A8: 45720 | B8: 0.33333333 | C8: 3 | D8: 10 | E8: 5 | F8: 6
A9: 45720 | B9: 0.83333333 | C9: 9 | D9: 3 | E9: 4 | F9: 7
A10: 45722 | B10: 0.33333333 | C10: 6 | D10: 10 | E10: 4 | F10: 9
A11: 45722 | B11: 0.83333333 | C11: 4 | D11: 12 | E11: 8 | F11: 6
A12: 45723 | B12: 0.33333333 | C12: 4 | D12: 11 | E12: 6 | F12: 7
A13: 45723 | B13: 0.83333333 | C13: 10 | D13: 4 | E13: 5 | F13: 8
... A25: 45730 | B25: 0.83333333 | C25: 4 | D25: 12 | E25: 8 | F25: 6
A26: 45731 | B26: 0.33333333
A27: 45731 | B27: 0.83333333
A28: 45732 | B28: 0.33333333
A29: 45732 | B29: 0.83333333
A30: 45733 | B30: 0.33333333
A31: 45733 | B31: 0.83333333
A32: 45734 | B32: 0.33333333
A33: 45734 | B33: 0.83333333
A34: 45736 | B34: 0.33333333
A35: 45736 | B35: 0.83333333

Sheet 8 dernier jours uniquement
B3: Date | C3: Heure | D3: Somme cartons 1 et 2 | E3: Somme cartons 2 et 4
B4: 45724 | C4: 0.33333333 | D4: =SUMIFS(Cartons!C:C,Cartons!$A:$A,$B4,Cartons!$B:$B,$C4)+SUMIFS(Cartons!D:D,Cartons!$A:$A,$B4,Cartons!$B:$B,$C4) -> 18 | E4: =SUMIFS(Cartons!E:E,Cartons!$A:$A,$B4,Cartons!$B:$B,$C4)+SUMIFS(Cartons!F:F,Cartons!$A:$A,$B4,Cartons!$B:$B,$C4) -> 15
B5: 45724 | C5: 0.83333333 | D5: =SUMIFS(Cartons!C:C,Cartons!A:A,B5,Cartons!B:B,C5)+SUMIFS(Cartons!D:D,Cartons!A:A,B5,Cartons!B:B,C5) -> 18 | E5: =SUMIFS(Cartons!E:E,Cartons!$A:$A,$B5,Cartons!$B:$B,$C5)+SUMIFS(Cartons!F:F,Cartons!$A:$A,$B5,Cartons!$B:$B,$C5) -> 16
B6: 45725 | C6: 0.33333333 | D6: =SUMIFS(Cartons!C:C,Cartons!A:A,B6,Cartons!B:B,C6)+SUMIFS(Cartons!D:D,Cartons!A:A,B6,Cartons!B:B,C6) -> 12 | E6: =SUMIFS(Cartons!E:E,Cartons!$A:$A,$B6,Cartons!$B:$B,$C6)+SUMIFS(Cartons!F:F,Cartons!$A:$A,$B6,Cartons!$B:$B,$C6) -> 9
B7: 45725 | C7: 0.83333333 | D7: =SUMIFS(Cartons!C:C,Cartons!A:A,B7,Cartons!B:B,C7)+SUMIFS(Cartons!D:D,Cartons!A:A,B7,Cartons!B:B,C7) -> 12 | E7: =SUMIFS(Cartons!E:E,Cartons!$A:$A,$B7,Cartons!$B:$B,$C7)+SUMIFS(Cartons!F:F,Cartons!$A:$A,$B7,Cartons!$B:$B,$C7) -> 10
B8: 45726 | C8: 0.33333333 | D8: =SUMIFS(Cartons!C:C,Cartons!A:A,B8,Cartons!B:B,C8)+SUMIFS(Cartons!D:D,Cartons!A:A,B8,Cartons!B:B,C8) -> 11 | E8: =SUMIFS(Cartons!E:E,Cartons!$A:$A,$B8,Cartons!$B:$B,$C8)+SUMIFS(Cartons!F:F,Cartons!$A:$A,$B8,Cartons!$B:$B,$C8) -> 9
B9: 45726 | C9: 0.83333333 | D9: =SUMIFS(Cartons!C:C,Cartons!A:A,B9,Cartons!B:B,C9)+SUMIFS(Cartons!D:D,Cartons!A:A,B9,Cartons!B:B,C9) -> 10 | E9: =SUMIFS(Cartons!E:E,Cartons!$A:$A,$B9,Cartons!$B:$B,$C9)+SUMIFS(Cartons!F:F,Cartons!$A:$A,$B9,Cartons!$B:$B,$C9) -> 9
B10: 45727 | C10: 0.33333333 | D10: =SUMIFS(Cartons!C:C,Cartons!A:A,B10,Cartons!B:B,C10)+SUMIFS(Cartons!D:D,Cartons!A:A,B10,Cartons!B:B,C10) -> 14 | E10: =SUMIFS(Cartons!E:E,Cartons!$A:$A,$B10,Cartons!$B:$B,$C10)+SUMIFS(Cartons!F:F,Cartons!$A:$A,$B10,Cartons!$B:$B,$C10) -> 11
B11: 45727 | C11: 0.83333333 | D11: =SUMIFS(Cartons!C:C,Cartons!A:A,B11,Cartons!B:B,C11)+SUMIFS(Cartons!D:D,Cartons!A:A,B11,Cartons!B:B,C11) -> 14 | E11: =SUMIFS(Cartons!E:E,Cartons!$A:$A,$B11,Cartons!$B:$B,$C11)+SUMIFS(Cartons!F:F,Cartons!$A:$A,$B11,Cartons!$B:$B,$C11) -> 12
B12: 45728 | C12: 0.33333333 | D12: =SUMIFS(Cartons!C:C,Cartons!A:A,B12,Cartons!B:B,C12)+SUMIFS(Cartons!D:D,Cartons!A:A,B12,Cartons!B:B,C12) -> 0 | E12: =SUMIFS(Cartons!E:E,Cartons!$A:$A,$B12,Cartons!$B:$B,$C12)+SUMIFS(Cartons!F:F,Cartons!$A:$A,$B12,Cartons!$B:$B,$C12) -> 0
B13: 45728 | C13: 0.83333333 | D13: =SUMIFS(Cartons!C:C,Cartons!A:A,B13,Cartons!B:B,C13)+SUMIFS(Cartons!D:D,Cartons!A:A,B13,Cartons!B:B,C13) -> 0 | E13: =SUMIFS(Cartons!E:E,Cartons!$A:$A,$B13,Cartons!$B:$B,$C13)+SUMIFS(Cartons!F:F,Cartons!$A:$A,$B13,Cartons!$B:$B,$C13) -> 0
B14: 45729 | C14: 0.33333333 | D14: =SUMIFS(Cartons!C:C,Cartons!A:A,B14,Cartons!B:B,C14)+SUMIFS(Cartons!D:D,Cartons!A:A,B14,Cartons!B:B,C14) -> 13 | E14: =SUMIFS(Cartons!E:E,Cartons!$A:$A,$B14,Cartons!$B:$B,$C14)+SUMIFS(Cartons!F:F,Cartons!$A:$A,$B14,Cartons!$B:$B,$C14) -> 11
B15: 45729 | C15: 0.83333333 | D15: =SUMIFS(Cartons!C:C,Cartons!A:A,B15,Cartons!B:B,C15)+SUMIFS(Cartons!D:D,Cartons!A:A,B15,Cartons!B:B,C15) -> 12 | E15: =SUMIFS(Cartons!E:E,Cartons!$A:$A,$B15,Cartons!$B:$B,$C15)+SUMIFS(Cartons!F:F,Cartons!$A:$A,$B15,Cartons!$B:$B,$C15) -> 11
B16: 45730 | C16: 0.33333333 | D16: =SUMIFS(Cartons!C:C,Cartons!A:A,B16,Cartons!B:B,C16)+SUMIFS(Cartons!D:D,Cartons!A:A,B16,Cartons!B:B,C16) -> 16 | E16: =SUMIFS(Cartons!E:E,Cartons!$A:$A,$B16,Cartons!$B:$B,$C16)+SUMIFS(Cartons!F:F,Cartons!$A:$A,$B16,Cartons!$B:$B,$C16) -> 13
... B19: 45731 | C19: 0.83333333 | D19: =SUMIFS(Cartons!C:C,Cartons!A:A,B19,Cartons!B:B,C19)+SUMIFS(Cartons!D:D,Cartons!A:A,B19,Cartons!B:B,C19) -> 0 | E19: =SUMIFS(Cartons!E:E,Cartons!$A:$A,$B19,Cartons!$B:$B,$C19)+SUMIFS(Cartons!F:F,Cartons!$A:$A,$B19,Cartons!$B:$B,$C19) -> 0
D20: {=IF($B20=0,"",SUMPRODUCT((Cartons!$A$2:$A$999=$B20)*(HOUR(Cartons!$B$2:$B$999)=HOUR($C20))*(Cartons!$C$2:$C$999+Cartons!$D$2:$D$999)))} | E20: {=IF($B20="","",SUMPRODUCT((Cartons!$A$2:$A$999=$B20)*(HOUR(Cartons!$B$2:$B$999)=HOUR($C20))*(Cartons!$E$2:$E$999+Cartons!$F$2:$F$999)))}
D21: {=IF($B21=0,"",SUMPRODUCT((Cartons!$A$2:$A$999=$B21)*(HOUR(Cartons!$B$2:$B$999)=HOUR($C21))*(Cartons!$C$2:$C$999+Cartons!$D$2:$D$999)))} | E21: {=IF($B21="","",SUMPRODUCT((Cartons!$A$2:$A$999=$B21)*(HOUR(Cartons!$B$2:$B$999)=HOUR($C21))*(Cartons!$E$2:$E$999+Cartons!$F$2:$F$999)))}
D22: {=IF($B22=0,"",SUMPRODUCT((Cartons!$A$2:$A$999=$B22)*(HOUR(Cartons!$B$2:$B$999)=HOUR($C22))*(Cartons!$C$2:$C$999+Cartons!$D$2:$D$999)))} | E22: {=IF($B22="","",SUMPRODUCT((Cartons!$A$2:$A$999=$B22)*(HOUR(Cartons!$B$2:$B$999)=HOUR($C22))*(Cartons!$E$2:$E$999+Cartons!$F$2:$F$999)))}
D23: {=IF($B23=0,"",SUMPRODUCT((Cartons!$A$2:$A$999=$B23)*(HOUR(Cartons!$B$2:$B$999)=HOUR($C23))*(Cartons!$C$2:$C$999+Cartons!$D$2:$D$999)))} | E23: {=IF($B23="","",SUMPRODUCT((Cartons!$A$2:$A$999=$B23)*(HOUR(Cartons!$B$2:$B$999)=HOUR($C23))*(Cartons!$E$2:$E$999+Cartons!$F$2:$F$999)))}
D24: {=IF($B24=0,"",SUMPRODUCT((Cartons!$A$2:$A$999=$B24)*(HOUR(Cartons!$B$2:$B$999)=HOUR($C24))*(Cartons!$C$2:$C$999+Cartons!$D$2:$D$999)))} | E24: {=IF($B24="","",SUMPRODUCT((Cartons!$A$2:$A$999=$B24)*(HOUR(Cartons!$B$2:$B$999)=HOUR($C24))*(Cartons!$E$2:$E$999+Cartons!$F$2:$F$999)))}
D25: {=IF($B25=0,"",SUMPRODUCT((Cartons!$A$2:$A$999=$B25)*(HOUR(Cartons!$B$2:$B$999)=HOUR($C25))*(Cartons!$C$2:$C$999+Cartons!$D$2:$D$999)))} | E25: {=IF($B25="","",SUMPRODUCT((Cartons!$A$2:$A$999=$B25)*(HOUR(Cartons!$B$2:$B$999)=HOUR($C25))*(Cartons!$E$2:$E$999+Cartons!$F$2:$F$999)))}
D26: {=IF($B26=0,"",SUMPRODUCT((Cartons!$A$2:$A$999=$B26)*(HOUR(Cartons!$B$2:$B$999)=HOUR($C26))*(Cartons!$C$2:$C$999+Cartons!$D$2:$D$999)))} | E26: {=IF($B26="","",SUMPRODUCT((Cartons!$A$2:$A$999=$B26)*(HOUR(Cartons!$B$2:$B$999)=HOUR($C26))*(Cartons!$E$2:$E$999+Cartons!$F$2:$F$999)))}
D27: {=IF($B27=0,"",SUMPRODUCT((Cartons!$A$2:$A$999=$B27)*(HOUR(Cartons!$B$2:$B$999)=HOUR($C27))*(Cartons!$C$2:$C$999+Cartons!$D$2:$D$999)))} | E27: {=IF($B27="","",SUMPRODUCT((Cartons!$A$2:$A$999=$B27)*(HOUR(Cartons!$B$2:$B$999)=HOUR($C27))*(Cartons!$E$2:$E$999+Cartons!$F$2:$F$999)))}
D28: {=IF($B28=0,"",SUMPRODUCT((Cartons!$A$2:$A$999=$B28)*(HOUR(Cartons!$B$2:$B$999)=HOUR($C28))*(Cartons!$C$2:$C$999+Cartons!$D$2:$D$999)))} | E28: {=IF($B28="","",SUMPRODUCT((Cartons!$A$2:$A$999=$B28)*(HOUR(Cartons!$B$2:$B$999)=HOUR($C28))*(Cartons!$E$2:$E$999+Cartons!$F$2:$F$999)))}
