Workbook

Sheet REPORT
A1: GROUP | B1: GROUP+
A2: Réception A janvier 2024
A3: Livraison B janvier 2024
A4: Dotation à un contact A janvier 2024
A5: Consommation A janvier 2024
A6: Réception A février 2024
A7: Livraison B février 2024
A8: Dotation à un contact A février 2024
A9: Consommation A février 2024
A10: Dotation à un contact A février 2024
A11: Consommation A février 2024

Sheet TABLEAUX
J1: 2024
D2: Attention, il faut mettre les accents pour le moi comme dans la feuille REPORT !
C3: JANVIER | D3: FÉVRIER | E3: MARS | F3: AVRIL | G3: MAI | H3: JUIN | I3: JUILLET | J3: AOÛT | K3: SEPTEMBRE | L3: OCTOBRE | M3: NOVEMBRE | N3: DÉCEMBRE
A4: Consommation | B4: A | C4: =COUNTIF(REPORT!$A:$A,$A4 & "*" &$B4 &"*" & LOWER(C$3)&"*") -> 1 | D4: =COUNTIF(REPORT!$A:$A,$A4 & "*" &$B4 &"*" & LOWER(D$3)&"*") -> 2 | E4: =COUNTIF(REPORT!$A:$A,$A4 & "*" &$B4 &"*" & LOWER(E$3)&"*") -> 0 | F4: =COUNTIF(REPORT!$A:$A,$A4 & "*" &$B4 &"*" & LOWER(F$3)&"*") -> 0 | G4: =COUNTIF(REPORT!$A:$A,$A4 & "*" &$B4 &"*" & LOWER(G$3)&"*") -> 0 | H4: =COUNTIF(REPORT!$A:$A,$A4 & "*" &$B4 &"*" & LOWER(H$3)&"*") -> 0 | I4: =COUNTIF(REPORT!$A:$A,$A4 & "*" &$B4 &"*" & LOWER(I$3)&"*") -> 0 | J4: =COUNTIF(REPORT!$A:$A,$A4 & "*" &$B4 &"*" & LOWER(J$3)&"*") -> 0 | ... N4: =COUNTIF(REPORT!$A:$A,$A4 & "*" &$B4 &"*" & LOWER(N$3)&"*") -> 0
A5: Dotation à un contact | B5: B | C5: =COUNTIF(REPORT!$A:$A,$A5 & "*" &$B5 &"*" & LOWER(C$3)&"*") -> 0 | D5: =COUNTIF(REPORT!$A:$A,$A5 & "*" &$B5 &"*" & LOWER(D$3)&"*") -> 0 | E5: =COUNTIF(REPORT!$A:$A,$A5 & "*" &$B5 &"*" & LOWER(E$3)&"*") -> 0 | F5: =COUNTIF(REPORT!$A:$A,$A5 & "*" &$B5 &"*" & LOWER(F$3)&"*") -> 0 | G5: =COUNTIF(REPORT!$A:$A,$A5 & "*" &$B5 &"*" & LOWER(G$3)&"*") -> 0 | H5: =COUNTIF(REPORT!$A:$A,$A5 & "*" &$B5 &"*" & LOWER(H$3)&"*") -> 0 | I5: =COUNTIF(REPORT!$A:$A,$A5 & "*" &$B5 &"*" & LOWER(I$3)&"*") -> 0 | J5: =COUNTIF(REPORT!$A:$A,$A5 & "*" &$B5 &"*" & LOWER(J$3)&"*") -> 0 | ... N5: =COUNTIF(REPORT!$A:$A,$A5 & "*" &$B5 &"*" & LOWER(N$3)&"*") -> 0
A7: Réception | B7: A | C7: =COUNTIF(REPORT!$A:$A,$A7 & "*" &$B7 &"*" & LOWER(C$3)&"*") -> 1 | D7: =COUNTIF(REPORT!$A:$A,$A7 & "*" &$B7 &"*" & LOWER(D$3)&"*") -> 1 | E7: =COUNTIF(REPORT!$A:$A,$A7 & "*" &$B7 &"*" & LOWER(E$3)&"*") -> 0 | F7: =COUNTIF(REPORT!$A:$A,$A7 & "*" &$B7 &"*" & LOWER(F$3)&"*") -> 0 | G7: =COUNTIF(REPORT!$A:$A,$A7 & "*" &$B7 &"*" & LOWER(G$3)&"*") -> 0 | H7: =COUNTIF(REPORT!$A:$A,$A7 & "*" &$B7 &"*" & LOWER(H$3)&"*") -> 0 | I7: =COUNTIF(REPORT!$A:$A,$A7 & "*" &$B7 &"*" & LOWER(I$3)&"*") -> 0 | J7: =COUNTIF(REPORT!$A:$A,$A7 & "*" &$B7 &"*" & LOWER(J$3)&"*") -> 0 | ... N7: =COUNTIF(REPORT!$A:$A,$A7 & "*" &$B7 &"*" & LOWER(N$3)&"*") -> 0
B8: B | C8: =COUNTIF(REPORT!$A:$A,$A7 & "*" &$B8 &"*" & LOWER(C$3)&"*") -> 0 | D8: =COUNTIF(REPORT!$A:$A,$A7 & "*" &$B8 &"*" & LOWER(D$3)&"*") -> 0 | E8: =COUNTIF(REPORT!$A:$A,$A7 & "*" &$B8 &"*" & LOWER(E$3)&"*") -> 0 | F8: =COUNTIF(REPORT!$A:$A,$A7 & "*" &$B8 &"*" & LOWER(F$3)&"*") -> 0 | G8: =COUNTIF(REPORT!$A:$A,$A7 & "*" &$B8 &"*" & LOWER(G$3)&"*") -> 0 | H8: =COUNTIF(REPORT!$A:$A,$A7 & "*" &$B8 &"*" & LOWER(H$3)&"*") -> 0 | I8: =COUNTIF(REPORT!$A:$A,$A7 & "*" &$B8 &"*" & LOWER(I$3)&"*") -> 0 | J8: =COUNTIF(REPORT!$A:$A,$A7 & "*" &$B8 &"*" & LOWER(J$3)&"*") -> 0 | ... N8: =COUNTIF(REPORT!$A:$A,$A7 & "*" &$B8 &"*" & LOWER(N$3)&"*") -> 0
A9: Et ne pas mettre de pluriel s'il n'y en a pas dans la feuille REPORT !
