Workbook

Sheet Résumé mois par mois
A1: Indemnités kilométriques et de déplacement
A2: Synthèse mois par mois
B4: Société :
B5: Nom du salarié indemnisé :
B6: Année : | C6: 44927
B7: Distance totale parcourue : | C7: =IF('Suivi annuel'!E10="","0",LARGE('Suivi annuel'!E:E,1)) -> 900
B8: Nombre de déplacements : | C8: =IF('Suivi annuel'!A10="",0,LARGE('Suivi annuel'!A:A,1)) -> 12
B9: Véhicule :
B10: Puissance fiscale : | C10: 5 cv
D12: Mois | E12: Indemnités kilométriques et de déplacement
D13: 44927 | E13: =SUMIFS('Suivi annuel'!L:L,'Suivi annuel'!B:B,AND(">="&D13,"<"&D14)) -> 0
D14: 44958 | E14: =SUMIFS('Suivi annuel'!L:L,'Suivi annuel'!B:B,">="&D14,'Suivi annuel'!B:B,"<"&D15) -> 0
D15: 44986 | E15: =SUMIFS('Suivi annuel'!L:L,'Suivi annuel'!B:B,AND('Suivi annuel'!B:B>='Résumé mois par mois'!D15,'Suivi annuel'!B:B<=EOMONTH('Résumé mois par mois'!D15,0))) -> 0
D16: 45017 | E16: =SUMIF('Suivi annuel'!L:L,AND('Suivi annuel'!B:B>='Résumé mois par mois'!D16,'Suivi annuel'!B:B<=EOMONTH('Résumé mois par mois'!D16,0)),'Suivi annuel'!F:F) -> 0
D17: 45047 | E17: =SUMIFS('Suivi annuel'!L:L,'Suivi annuel'!B:B,AND('Suivi annuel'!B:B>='Résumé mois par mois'!D17,'Suivi annuel'!B:B<=EOMONTH('Résumé mois par mois'!D17,0))) -> 0
D18: 45078 | E18: =SUMIFS('Suivi annuel'!L:L,'Suivi annuel'!B:B,AND('Suivi annuel'!B:B>='Résumé mois par mois'!D18,'Suivi annuel'!B:B<=EOMONTH('Résumé mois par mois'!D18,0))) -> 0
D19: 45108 | E19: =SUMIFS('Suivi annuel'!L:L,'Suivi annuel'!B:B,AND('Suivi annuel'!B:B>='Résumé mois par mois'!D19,'Suivi annuel'!B:B<=EOMONTH('Résumé mois par mois'!D19,0))) -> 0
D20: 45139 | E20: =SUMIFS('Suivi annuel'!L:L,'Suivi annuel'!B:B,AND('Suivi annuel'!B:B>='Résumé mois par mois'!D20,'Suivi annuel'!B:B<=EOMONTH('Résumé mois par mois'!D20,0))) -> 0
D21: 45170 | E21: =SUMIFS('Suivi annuel'!L:L,'Suivi annuel'!B:B,AND('Suivi annuel'!B:B>='Résumé mois par mois'!D21,'Suivi annuel'!B:B<=EOMONTH('Résumé mois par mois'!D21,0))) -> 0
D22: 45200 | E22: =SUMIFS('Suivi annuel'!L:L,'Suivi annuel'!B:B,AND('Suivi annuel'!B:B>='Résumé mois par mois'!D22,'Suivi annuel'!B:B<=EOMONTH('Résumé mois par mois'!D22,0))) -> 0
D23: 45231 | E23: =SUMIFS('Suivi annuel'!L:L,'Suivi annuel'!B:B,AND('Suivi annuel'!B:B>='Résumé mois par mois'!D23,'Suivi annuel'!B:B<=EOMONTH('Résumé mois par mois'!D23,0))) -> 0
D24: 45261 | E24: =SUMIFS('Suivi annuel'!L:L,'Suivi annuel'!B:B,AND('Suivi annuel'!B:B>='Résumé mois par mois'!D24,'Suivi annuel'!B:B<=EOMONTH('Résumé mois par mois'!D24,0))) -> 0
D25: Total | E25: =SUM(E13:E24) -> 0

Sheet Suivi annuel
A1: Indemnités kilométriques et de déplacement
A2: Suivi annuel des déplacements
B4: Rappel des taux
B5: Puissance fiscale | C5: Jusqu'à 5000 km | D5: De 5001 à 20000 km | E5: Au-delà de 20 000 km | G5: Seules les cases en gris sont à remplir à la main, le reste se calcule automatiquement
B6: ='Résumé mois par mois'!C10 -> 5 cv | C6: =IF($B6='Grille des taux'!$B8,'Grille des taux'!C8,IF($B6='Grille des taux'!$B9,'Grille des taux'!C9,IF($B6='Grille des taux'!$B10,'Grille des taux'!C10,IF($B6='Grille des taux'!$B11,'Grille des taux'!C11,'Grille des taux'!C12)))) -> d × 0,636 | D6: =IF($B6='Grille des taux'!$B8,'Grille des taux'!D8,IF($B6='Grille des taux'!$B9,'Grille des taux'!D9,IF($B6='Grille des taux'!$B10,'Grille des taux'!D10,IF($B6='Grille des taux'!$B11,'Grille des taux'!D11,'Grille des taux'!D12)))) -> (d × 0,357) + 1395 | E6: =IF($B6='Grille des taux'!$B8,'Grille des taux'!E8,IF($B6='Grille des taux'!$B9,'Grille des taux'!E9,IF($B6='Grille des taux'!$B10,'Grille des taux'!E10,IF($B6='Grille des taux'!$B11,'Grille des taux'!E11,'Grille des taux'!E12)))) -> d × 0,427
B7: cf. feuille "Grille des taux"
A9: N° | B9: Date | C9: Nom du client et ville du déplacement | D9: Kilomètres parcourus avec le véhicule personnel | E9: Total annuel des kilomètres parcourus à date | F9: Montant de l'indemnité kilométrique | G9: Total annuel de l'indemnité kilométrique à date | H9: Entretien du véhicule de société (HT) | I9: Frais d'hôtel et de restauration | J9: Essence, parking et autoroute | K9: Autres frais (HT) | L9: Total
A10: =IF(B10="","",1) -> 1 | B10: 44929 | D10: 130 | E10: =IF(D10="","",D10) -> 130 | F10: =IF(D10="","",D10*0.636) -> 82.68 | G10: =IF(D10="","",IF(E10<=5000,E10*0.636,IF(AND(E10>5000,E10<=20000),E10*0.357+1395,E10*0.427))) -> 82.68 | I10: 85 | L10: =IF(AND(D10="",H10="",I10="",J10="",K10=""),"",SUM(F10,H10:K10)) -> 167.68
A11: =IF(B11="","",A10+1) -> 2 | B11: 44942 | D11: 82 | E11: =IF(D11="","",E10+D11) -> 212 | F11: =IF(D11="","",IF(E11<=5000,D11*0.636,IF(AND(E10<=5000,E11>5000),G11-G10,IF(AND(E11>=5000,E11<20000),D11*0.357,IF(AND(E10<=20000,E11>20000),G11-G10,D11*0.427))))) -> 52.152 | G11: =IF(D11="","",IF(E11<=5000,E11*0.636,IF(AND(E11>5000,E11<=20000),E11*0.357+1395,E11*0.427))) -> 134.832 | L11: =IF(D11="","",SUM(F11,H11:K11)) -> 52.152
A12: =IF(B12="","",A11+1) -> 3 | B12: 44991 | D12: 11 | E12: =IF(D12="","",E11+D12) -> 223 | F12: =IF(D12="","",IF(E12<=5000,D12*0.636,IF(AND(E11<=5000,E12>5000),G12-G11,IF(AND(E12>=5000,E12<20000),D12*0.357,IF(AND(E11<=20000,E12>20000),G12-G11,D12*0.427))))) -> 6.996 | G12: =IF(D12="","",IF(E12<=5000,E12*0.636,IF(AND(E12>5000,E12<=20000),E12*0.357+1395,E12*0.427))) -> 141.828 | L12: =IF(D12="","",SUM(F12,H12:K12)) -> 6.996
A13: =IF(B13="","",A12+1) -> 4 | B13: 45031 | D13: 45 | E13: =IF(D13="","",E12+D13) -> 268 | F13: =IF(D13="","",IF(E13<=5000,D13*0.636,IF(AND(E12<=5000,E13>5000),G13-G12,IF(AND(E13>=5000,E13<20000),D13*0.357,IF(AND(E12<=20000,E13>20000),G13-G12,D13*0.427))))) -> 28.62 | G13: =IF(D13="","",IF(E13<=5000,E13*0.636,IF(AND(E13>5000,E13<=20000),E13*0.357+1395,E13*0.427))) -> 170.448 | L13: =IF(D13="","",SUM(F13,H13:K13)) -> 28.62
A14: =IF(B14="","",A13+1) -> 5 | B14: 45056 | D14: 51 | E14: =IF(D14="","",E13+D14) -> 319 | F14: =IF(D14="","",IF(E14<=5000,D14*0.636,IF(AND(E13<=5000,E14>5000),G14-G13,IF(AND(E14>=5000,E14<20000),D14*0.357,IF(AND(E13<=20000,E14>20000),G14-G13,D14*0.427))))) -> 32.436 | G14: =IF(D14="","",IF(E14<=5000,E14*0.636,IF(AND(E14>5000,E14<=20000),E14*0.357+1395,E14*0.427))) -> 202.884 | L14: =IF(D14="","",SUM(F14,H14:K14)) -> 32.436
A15: =IF(B15="","",A14+1) -> 6 | B15: 45088 | D15: 53 | E15: =IF(D15="","",E14+D15) -> 372 | F15: =IF(D15="","",IF(E15<=5000,D15*0.636,IF(AND(E14<=5000,E15>5000),G15-G14,IF(AND(E15>=5000,E15<20000),D15*0.357,IF(AND(E14<=20000,E15>20000),G15-G14,D15*0.427))))) -> 33.708 | G15: =IF(D15="","",IF(E15<=5000,E15*0.636,IF(AND(E15>5000,E15<=20000),E15*0.357+1395,E15*0.427))) -> 236.592 | L15: =IF(D15="","",SUM(F15,H15:K15)) -> 33.708
A16: =IF(B16="","",A15+1) -> 7 | B16: 45113 | D16: 120 | E16: =IF(D16="","",E15+D16) -> 492 | F16: =IF(D16="","",IF(E16<=5000,D16*0.636,IF(AND(E15<=5000,E16>5000),G16-G15,IF(AND(E16>=5000,E16<20000),D16*0.357,IF(AND(E15<=20000,E16>20000),G16-G15,D16*0.427))))) -> 76.32 | G16: =IF(D16="","",IF(E16<=5000,E16*0.636,IF(AND(E16>5000,E16<=20000),E16*0.357+1395,E16*0.427))) -> 312.912 | L16: =IF(D16="","",SUM(F16,H16:K16)) -> 76.32
A17: =IF(B17="","",A16+1) -> 8 | B17: 45153 | D17: 65 | E17: =IF(D17="","",E16+D17) -> 557 | F17: =IF(D17="","",IF(E17<=5000,D17*0.636,IF(AND(E16<=5000,E17>5000),G17-G16,IF(AND(E17>=5000,E17<20000),D17*0.357,IF(AND(E16<=20000,E17>20000),G17-G16,D17*0.427))))) -> 41.34 | G17: =IF(D17="","",IF(E17<=5000,E17*0.636,IF(AND(E17>5000,E17<=20000),E17*0.357+1395,E17*0.427))) -> 354.252 | L17: =IF(D17="","",SUM(F17,H17:K17)) -> 41.34
A18: =IF(B18="","",A17+1) -> 9 | B18: 45170 | D18: 117 | E18: =IF(D18="","",E17+D18) -> 674 | F18: =IF(D18="","",IF(E18<=5000,D18*0.636,IF(AND(E17<=5000,E18>5000),G18-G17,IF(AND(E18>=5000,E18<20000),D18*0.357,IF(AND(E17<=20000,E18>20000),G18-G17,D18*0.427))))) -> 74.412 | G18: =IF(D18="","",IF(E18<=5000,E18*0.636,IF(AND(E18>5000,E18<=20000),E18*0.357+1395,E18*0.427))) -> 428.664 | L18: =IF(D18="","",SUM(F18,H18:K18)) -> 74.412
A19: =IF(B19="","",A18+1) -> 10 | B19: 45211 | D19: 90 | E19: =IF(D19="","",E18+D19) -> 764 | F19: =IF(D19="","",IF(E19<=5000,D19*0.636,IF(AND(E18<=5000,E19>5000),G19-G18,IF(AND(E19>=5000,E19<20000),D19*0.357,IF(AND(E18<=20000,E19>20000),G19-G18,D19*0.427))))) -> 57.24 | G19: =IF(D19="","",IF(E19<=5000,E19*0.636,IF(AND(E19>5000,E19<=20000),E19*0.357+1395,E19*0.427))) -> 485.904 | L19: =IF(D19="","",SUM(F19,H19:K19)) -> 57.24
A20: =IF(B20="","",A19+1) -> 11 | B20: 45241 | D20: 67 | E20: =IF(D20="","",E19+D20) -> 831 | F20: =IF(D20="","",IF(E20<=5000,D20*0.636,IF(AND(E19<=5000,E20>5000),G20-G19,IF(AND(E20>=5000,E20<20000),D20*0.357,IF(AND(E19<=20000,E20>20000),G20-G19,D20*0.427))))) -> 42.612 | G20: =IF(D20="","",IF(E20<=5000,E20*0.636,IF(AND(E20>5000,E20<=20000),E20*0.357+1395,E20*0.427))) -> 528.516 | L20: =IF(D20="","",SUM(F20,H20:K20)) -> 42.612
A21: =IF(B21="","",A20+1) -> 12 | B21: 45285 | D21: 69 | E21: =IF(D21="","",E20+D21) -> 900 | F21: =IF(D21="","",IF(E21<=5000,D21*0.636,IF(AND(E20<=5000,E21>5000),G21-G20,IF(AND(E21>=5000,E21<20000),D21*0.357,IF(AND(E20<=20000,E21>20000),G21-G20,D21*0.427))))) -> 43.884 | G21: =IF(D21="","",IF(E21<=5000,E21*0.636,IF(AND(E21>5000,E21<=20000),E21*0.357+1395,E21*0.427))) -> 572.4 | L21: =IF(D21="","",SUM(F21,H21:K21)) -> 43.884
A22: =IF(B22="","",A21+1) | E22: =IF(D22="","",E21+D22) | F22: =IF(D22="","",IF(E22<=5000,D22*0.636,IF(AND(E21<=5000,E22>5000),G22-G21,IF(AND(E22>=5000,E22<20000),D22*0.357,IF(AND(E21<=20000,E22>20000),G22-G21,D22*0.427))))) | G22: =IF(D22="","",IF(E22<=5000,E22*0.636,IF(AND(E22>5000,E22<=20000),E22*0.357+1395,E22*0.427))) | L22: =IF(D22="","",SUM(F22,H22:K22))
A23: =IF(B23="","",A22+1) | E23: =IF(D23="","",E22+D23) | F23: =IF(D23="","",IF(E23<=5000,D23*0.636,IF(AND(E22<=5000,E23>5000),G23-G22,IF(AND(E23>=5000,E23<20000),D23*0.357,IF(AND(E22<=20000,E23>20000),G23-G22,D23*0.427))))) | G23: =IF(D23="","",IF(E23<=5000,E23*0.636,IF(AND(E23>5000,E23<=20000),E23*0.357+1395,E23*0.427))) | L23: =IF(D23="","",SUM(F23,H23:K23))
A24: =IF(B24="","",A23+1) | E24: =IF(D24="","",E23+D24) | F24: =IF(D24="","",IF(E24<=5000,D24*0.636,IF(AND(E23<=5000,E24>5000),G24-G23,IF(AND(E24>=5000,E24<20000),D24*0.357,IF(AND(E23<=20000,E24>20000),G24-G23,D24*0.427))))) | G24: =IF(D24="","",IF(E24<=5000,E24*0.636,IF(AND(E24>5000,E24<=20000),E24*0.357+1395,E24*0.427))) | L24: =IF(D24="","",SUM(F24,H24:K24))
A25: =IF(B25="","",A24+1) | E25: =IF(D25="","",E24+D25) | F25: =IF(D25="","",IF(E25<=5000,D25*0.636,IF(AND(E24<=5000,E25>5000),G25-G24,IF(AND(E25>=5000,E25<20000),D25*0.357,IF(AND(E24<=20000,E25>20000),G25-G24,D25*0.427))))) | G25: =IF(D25="","",IF(E25<=5000,E25*0.636,IF(AND(E25>5000,E25<=20000),E25*0.357+1395,E25*0.427))) | L25: =IF(D25="","",SUM(F25,H25:K25))
A26: =IF(B26="","",A25+1) | E26: =IF(D26="","",E25+D26) | F26: =IF(D26="","",IF(E26<=5000,D26*0.636,IF(AND(E25<=5000,E26>5000),G26-G25,IF(AND(E26>=5000,E26<20000),D26*0.357,IF(AND(E25<=20000,E26>20000),G26-G25,D26*0.427))))) | G26: =IF(D26="","",IF(E26<=5000,E26*0.636,IF(AND(E26>5000,E26<=20000),E26*0.357+1395,E26*0.427))) | L26: =IF(D26="","",SUM(F26,H26:K26))
A27: =IF(B27="","",A26+1) | E27: =IF(D27="","",E26+D27) | F27: =IF(D27="","",IF(E27<=5000,D27*0.636,IF(AND(E26<=5000,E27>5000),G27-G26,IF(AND(E27>=5000,E27<20000),D27*0.357,IF(AND(E26<=20000,E27>20000),G27-G26,D27*0.427))))) | G27: =IF(D27="","",IF(E27<=5000,E27*0.636,IF(AND(E27>5000,E27<=20000),E27*0.357+1395,E27*0.427))) | L27: =IF(D27="","",SUM(F27,H27:K27))
A28: =IF(B28="","",A27+1) | E28: =IF(D28="","",E27+D28) | F28: =IF(D28="","",IF(E28<=5000,D28*0.636,IF(AND(E27<=5000,E28>5000),G28-G27,IF(AND(E28>=5000,E28<20000),D28*0.357,IF(AND(E27<=20000,E28>20000),G28-G27,D28*0.427))))) | G28: =IF(D28="","",IF(E28<=5000,E28*0.636,IF(AND(E28>5000,E28<=20000),E28*0.357+1395,E28*0.427))) | L28: =IF(D28="","",SUM(F28,H28:K28))
A29: =IF(B29="","",A28+1) | E29: =IF(D29="","",E28+D29) | F29: =IF(D29="","",IF(E29<=5000,D29*0.636,IF(AND(E28<=5000,E29>5000),G29-G28,IF(AND(E29>=5000,E29<20000),D29*0.357,IF(AND(E28<=20000,E29>20000),G29-G28,D29*0.427))))) | G29: =IF(D29="","",IF(E29<=5000,E29*0.636,IF(AND(E29>5000,E29<=20000),E29*0.357+1395,E29*0.427))) | L29: =IF(D29="","",SUM(F29,H29:K29))
A30: =IF(B30="","",A29+1) | E30: =IF(D30="","",E29+D30) | F30: =IF(D30="","",IF(E30<=5000,D30*0.636,IF(AND(E29<=5000,E30>5000),G30-G29,IF(AND(E30>=5000,E30<20000),D30*0.357,IF(AND(E29<=20000,E30>20000),G30-G29,D30*0.427))))) | G30: =IF(D30="","",IF(E30<=5000,E30*0.636,IF(AND(E30>5000,E30<=20000),E30*0.357+1395,E30*0.427))) | L30: =IF(D30="","",SUM(F30,H30:K30))
A31: =IF(B31="","",A30+1) | E31: =IF(D31="","",E30+D31) | F31: =IF(D31="","",IF(E31<=5000,D31*0.636,IF(AND(E30<=5000,E31>5000),G31-G30,IF(AND(E31>=5000,E31<20000),D31*0.357,IF(AND(E30<=20000,E31>20000),G31-G30,D31*0.427))))) | G31: =IF(D31="","",IF(E31<=5000,E31*0.636,IF(AND(E31>5000,E31<=20000),E31*0.357+1395,E31*0.427))) | L31: =IF(D31="","",SUM(F31,H31:K31))
A32: =IF(B32="","",A31+1) | E32: =IF(D32="","",E31+D32) | F32: =IF(D32="","",IF(E32<=5000,D32*0.636,IF(AND(E31<=5000,E32>5000),G32-G31,IF(AND(E32>=5000,E32<20000),D32*0.357,IF(AND(E31<=20000,E32>20000),G32-G31,D32*0.427))))) | G32: =IF(D32="","",IF(E32<=5000,E32*0.636,IF(AND(E32>5000,E32<=20000),E32*0.357+1395,E32*0.427))) | L32: =IF(D32="","",SUM(F32,H32:K32))
A33: =IF(B33="","",A32+1) | E33: =IF(D33="","",E32+D33) | F33: =IF(D33="","",IF(E33<=5000,D33*0.636,IF(AND(E32<=5000,E33>5000),G33-G32,IF(AND(E33>=5000,E33<20000),D33*0.357,IF(AND(E32<=20000,E33>20000),G33-G32,D33*0.427))))) | G33: =IF(D33="","",IF(E33<=5000,E33*0.636,IF(AND(E33>5000,E33<=20000),E33*0.357+1395,E33*0.427))) | L33: =IF(D33="","",SUM(F33,H33:K33))
... A274: =IF(B274="","",A273+1) | E274: =IF(D274="","",E273+D274) | F274: =IF(D274="","",IF(E274<=5000,D274*0.636,IF(AND(E273<=5000,E274>5000),G274-G273,IF(AND(E274>=5000,E274<20000),D274*0.357,IF(AND(E273<=20000,E274>20000),G274-G273,D274*0.427))))) | G274: =IF(D274="","",IF(E274<=5000,E274*0.636,IF(AND(E274>5000,E274<=20000),E274*0.357+1395,E274*0.427))) | L274: =IF(D274="","",SUM(F274,H274:K274))
A275: =IF(B275="","",A274+1) | E275: =IF(D275="","",E274+D275) | G275: =IF(D275="","",IF(E275<=5000,E275*0.636,IF(AND(E275>5000,E275<=20000),E275*0.357+1395,E275*0.427))) | L275: =IF(D275="","",SUM(F275,H275:K275))
A276: =IF(B276="","",A275+1)
A277: =IF(B277="","",A276+1)
A278: =IF(B278="","",A277+1)
A279: =IF(B279="","",A278+1)
A280: =IF(B280="","",A279+1)
A281: =IF(B281="","",A280+1)
A282: =IF(B282="","",A281+1)
A283: =IF(B283="","",A282+1)
A284: =IF(B284="","",A283+1)
A285: =IF(B285="","",A284+1)
A286: =IF(B286="","",A285+1)
A287: =IF(B287="","",A286+1)
... A300: =IF(B300="","",A299+1)

Sheet Grille des taux
A1: Indemnités kilométriques et de déplacement
A2: Grille des taux
A4: Le barème fiscal des indemnités kilométriques permet l’évaluation des frais de déplacement relatifs à l’utilisation d’un véhicule par les salariés optant pour le régime des frais réels déductibles. Ce barème est diffusé par un arrêté du 27 mars 2023 fixant le barème forfaitaire permettant l'évaluation des frais de déplacement relatifs à l'utilisation d'un véhicule par les bénéficiaires de traitements et salaires optant pour le régime des frais réels déductibles.
A5: Source : Urssaf
B7: Puissance fiscale | C7: Jusqu'à 5000 km | D7: De 5001 à 20000 km | E7: Au-delà de 20 000 km
B8: 3 cv et moins | C8: ="d × 0,529" -> d × 0,529 | D8: ="(d × 0,316) + 1065" -> (d × 0,316) + 1065 | E8: ="d × 0,370" -> d × 0,370
B9: 4 cv | C9: ="d × 0,606" -> d × 0,606 | D9: ="(d × 0,340) + 1330" -> (d × 0,340) + 1330 | E9: ="d × 0,407" -> d × 0,407
B10: 5 cv | C10: ="d × 0,636" -> d × 0,636 | D10: ="(d × 0,357) + 1395" -> (d × 0,357) + 1395 | E10: ="d × 0,427" -> d × 0,427
B11: 6 cv | C11: ="d × 0,665" -> d × 0,665 | D11: ="(d × 0,374) + 1457" -> (d × 0,374) + 1457 | E11: ="d × 0,447" -> d × 0,447
B12: 7 cv et plus | C12: ="d × 0,697" -> d × 0,697 | D12: ="(d × 0,394) + 1515" -> (d × 0,394) + 1515 | E12: ="d × 0,470" -> d × 0,470
B13: d = distance parcourue à titre professionnel en km
