Workbook

Sheet Données brutes
A1: # | B1: Espèce | C1: Ls | D1: ls | E1: Lp | F1: lp | H1: setosa | I1: Ls | J1: ls | K1: Lp | L1: lp
A2: 1 | B2: setosa | C2: 5.1 | D2: 3.5 | E2: 1.4 | F2: 0.2 | H2: moyenne = | I2: =AVERAGE(C2:C51) -> 5.006 | J2: =AVERAGE(D2:D51) -> 3.428 | K2: =AVERAGE(E2:E51) -> 1.462 | L2: =AVERAGE(F2:F51) -> 0.246
A3: 2 | B3: setosa | C3: 4.9 | D3: 3 | E3: 1.4 | F3: 0.2 | H3: Ecart type = | I3: =_xlfn.STDEV.S(C2:C51) -> 0.35248969 | J3: =_xlfn.STDEV.S(D2:D51) -> 0.37906437 | K3: =_xlfn.STDEV.S(E2:E51) -> 0.173664 | L3: =_xlfn.STDEV.S(F2:F51) -> 0.10538559
A4: 3 | B4: setosa | C4: 4.7 | D4: 3.2 | E4: 1.3 | F4: 0.2 | H4: D1 = | I4: =ABS(I2-I6)/SQRT(I3^2+I7^2) -> 1.4878921 | J4: =ABS(J2-J6)/SQRT(J3^2+J7^2) -> 1.3371355 | K4: =ABS(K2-K6)/SQRT(K3^2+K7^2) -> 5.5851139 | L4: =ABS(L2-L6)/SQRT(L3^2+L7^2) -> 4.8196881
A5: 4 | B5: setosa | C5: 4.6 | D5: 3.1 | E5: 1.5 | F5: 0.2 | H5: versicolor | I5: Ls | J5: ls | K5: Lp | L5: lp
A6: 5 | B6: setosa | C6: 5 | D6: 3.6 | E6: 1.4 | F6: 0.2 | H6: moyenne = | I6: =AVERAGE(C52:C101) -> 5.936 | J6: =AVERAGE(D52:D101) -> 2.77 | K6: =AVERAGE(E52:E101) -> 4.26 | L6: =AVERAGE(F52:F101) -> 1.326
A7: 6 | B7: setosa | C7: 5.4 | D7: 3.9 | E7: 1.7 | F7: 0.4 | H7: Ecart type = | I7: =_xlfn.STDEV.S(C52:C101) -> 0.51617115 | J7: =_xlfn.STDEV.S(D52:D101) -> 0.31379832 | K7: =_xlfn.STDEV.S(E52:E101) -> 0.46991098 | L7: =_xlfn.STDEV.S(F52:F101) -> 0.19775268
A8: 7 | B8: setosa | C8: 4.6 | D8: 3.4 | E8: 1.4 | F8: 0.3 | H8: D2 = | I8: =ABS(I6-I10)/SQRT(I7^2+I11^2) -> 0.79608419 | J8: =ABS(J6-J10)/SQRT(J7^2+J11^2) -> 0.45336303 | K8: =ABS(K6-K10)/SQRT(K7^2+K11^2) -> 1.7824436 | L8: =ABS(L6-L10)/SQRT(L7^2+L11^2) -> 2.0683392
A9: 8 | B9: setosa | C9: 5 | D9: 3.4 | E9: 1.5 | F9: 0.2 | H9: virginica | I9: Ls | J9: ls | K9: Lp | L9: lp
A10: 9 | B10: setosa | C10: 4.4 | D10: 2.9 | E10: 1.4 | F10: 0.2 | H10: moyenne = | I10: =AVERAGE(C102:C151) -> 6.588 | J10: =AVERAGE(D102:D151) -> 2.974 | K10: =AVERAGE(E102:E151) -> 5.552 | L10: =AVERAGE(F102:F151) -> 2.026
A11: 10 | B11: setosa | C11: 4.9 | D11: 3.1 | E11: 1.5 | F11: 0.1 | H11: Ecart type = | I11: =_xlfn.STDEV.S(C102:C151) -> 0.63587959 | J11: =_xlfn.STDEV.S(D102:D151) -> 0.32249664 | K11: =_xlfn.STDEV.S(E102:E151) -> 0.5518947 | L11: =_xlfn.STDEV.S(F102:F151) -> 0.27465006
A12: 11 | B12: setosa | C12: 5.4 | D12: 3.7 | E12: 1.5 | F12: 0.2 | H12: somme D = | I12: =I4+I8 -> 2.2839763 | J12: =J4+J8 -> 1.7904985 | K12: =K4+K8 -> 7.3675575 | L12: =L4+L8 -> 6.8880274
A13: 12 | B13: setosa | C13: 4.8 | D13: 3.4 | E13: 1.6 | F13: 0.2
A14: 13 | B14: setosa | C14: 4.8 | D14: 3 | E14: 1.4 | F14: 0.1
A15: 14 | B15: setosa | C15: 4.3 | D15: 3 | E15: 1.1 | F15: 0.1
A16: 15 | B16: setosa | C16: 5.8 | D16: 4 | E16: 1.2 | F16: 0.2
A17: 16 | B17: setosa | C17: 5.7 | D17: 4.4 | E17: 1.5 | F17: 0.4
A18: 17 | B18: setosa | C18: 5.4 | D18: 3.9 | E18: 1.3 | F18: 0.4
A19: 18 | B19: setosa | C19: 5.1 | D19: 3.5 | E19: 1.4 | F19: 0.3
A20: 19 | B20: setosa | C20: 5.7 | D20: 3.8 | E20: 1.7 | F20: 0.3
A21: 20 | B21: setosa | C21: 5.1 | D21: 3.8 | E21: 1.5 | F21: 0.3
A22: 21 | B22: setosa | C22: 5.4 | D22: 3.4 | E22: 1.7 | F22: 0.2
A23: 22 | B23: setosa | C23: 5.1 | D23: 3.7 | E23: 1.5 | F23: 0.4
A24: 23 | B24: setosa | C24: 4.6 | D24: 3.6 | E24: 1 | F24: 0.2
... A151: 150 | B151: virginica | C151: 5.9 | D151: 3 | E151: 5.1 | F151: 1.8

Sheet Combinaison des axes
A1: # | B1: Espèce | C1: Lp | D1: lp | E1: Ls | F1: ls | H1: setosa | I1: Lp | J1: lp | K1: Ls | L1: ls | N1: Linéaire | Q1: Espèce | R1: Lp | S1: lp | T1: Ls | U1: ls | W1: Combinaisons | Y1: setosa | AC1: Attribution | AD1: Succès
A2: 1 | B2: setosa | C2: ='Données brutes'!E2 -> 1.4 | D2: ='Données brutes'!F2 -> 0.2 | E2: ='Données brutes'!C2 -> 5.1 | F2: ='Données brutes'!D2 -> 3.5 | H2: Moyenne = | I2: =AVERAGE(C2:C51) -> 1.462 | J2: =AVERAGE(D2:D51) -> 0.246 | K2: =AVERAGE(E2:E51) -> 5.006 | L2: =AVERAGE(F2:F51) -> 3.428 | N2: a1 = | O2: 1 | Q2: setosa | R2: =$O$2*C2+$O$7*C2*C2+$O$9*C2*D2 -> 1.4 | S2: =$O$3*D2+$O$8*D2*D2 -> 0.3534028 | T2: =$O$4*E2 -> -1.3177061 | U2: =$O$5*F2 -> -2.9948714 | W2: =SUM(R2:U2) -> -2.5591747 | Y2: Moyenne = | AA2: =AVERAGE(W2:W51) -> -2.3299961 | AC2: {=_xlfn.IFS(W2<=$AA$2+2*$AA$3,"setosa",W2>$AA$10-2*$AA$11,"virginica",1>0,"versicolor")} -> setosa | AD2: =IF(AC2=Q2,1,0) -> 1
A3: 2 | B3: setosa | C3: ='Données brutes'!E3 -> 1.4 | D3: ='Données brutes'!F3 -> 0.2 | E3: ='Données brutes'!C3 -> 4.9 | F3: ='Données brutes'!D3 -> 3 | H3: Ecart type = | I3: =_xlfn.STDEV.S(C2:C51) -> 0.173664 | J3: =_xlfn.STDEV.S(D2:D51) -> 0.10538559 | K3: =_xlfn.STDEV.S(E2:E51) -> 0.35248969 | L3: =_xlfn.STDEV.S(F2:F51) -> 0.37906437 | N3: a2 = | O3: 1.767014 | Q3: setosa | R3: =$O$2*C3+$O$7*C3*C3+$O$9*C3*D3 -> 1.4 | S3: =$O$3*D3+$O$8*D3*D3 -> 0.3534028 | T3: =$O$4*E3 -> -1.2660314 | U3: =$O$5*F3 -> -2.5670326 | W3: =SUM(R3:U3) -> -2.0796611 | Y3: Ecart type = | AA3: =_xlfn.STDEV.S(W2:W51) -> 0.42147039 | AC3: {=_xlfn.IFS(W3<=$AA$2+2*$AA$3,"setosa",W3>$AA$10-2*$AA$11,"virginica",1>0,"versicolor")} -> setosa | AD3: =IF(AC3=Q3,1,0) -> 1 | AE3: Succès global = | AF3: =SUM(AD:AD)/COUNT(AD:AD)*100 -> 96 | AG3: %
A4: 3 | B4: setosa | C4: ='Données brutes'!E4 -> 1.3 | D4: ='Données brutes'!F4 -> 0.2 | E4: ='Données brutes'!C4 -> 4.7 | F4: ='Données brutes'!D4 -> 3.2 | H4: D1 = | I4: =ABS(I2-I6)/SQRT(I3^2+I7^2) -> 5.5851139 | J4: 4.8196881 | K4: =ABS(K2-K6)/SQRT(K3^2+K7^2) -> 1.4878921 | L4: =ABS(L2-L6)/SQRT(L3^2+L7^2) -> 1.3371355 | N4: a3 = | O4: -0.25837375 | Q4: setosa | R4: =$O$2*C4+$O$7*C4*C4+$O$9*C4*D4 -> 1.3 | S4: =$O$3*D4+$O$8*D4*D4 -> 0.3534028 | T4: =$O$4*E4 -> -1.2143566 | U4: =$O$5*F4 -> -2.7381681 | W4: =SUM(R4:U4) -> -2.2991219 | Y4: D1 = | AA4: =ABS(AA2-AA6)/SQRT(AA3^2+AA7^2) -> 7.1483983 | AC4: {=_xlfn.IFS(W4<=$AA$2+2*$AA$3,"setosa",W4>$AA$10-2*$AA$11,"virginica",1>0,"versicolor")} -> setosa | AD4: =IF(AC4=Q4,1,0) -> 1 | AE4: Attribution setosa = | AF4: =COUNTIF(AC:AC,"setosa") -> 49
A5: 4 | B5: setosa | C5: ='Données brutes'!E5 -> 1.5 | D5: ='Données brutes'!F5 -> 0.2 | E5: ='Données brutes'!C5 -> 4.6 | F5: ='Données brutes'!D5 -> 3.1 | H5: versicolor | I5: Lp | J5: lp | K5: Ls | L5: ls | N5: a4 = | O5: -0.85567753 | Q5: setosa | R5: =$O$2*C5+$O$7*C5*C5+$O$9*C5*D5 -> 1.5 | S5: =$O$3*D5+$O$8*D5*D5 -> 0.3534028 | T5: =$O$4*E5 -> -1.1885192 | U5: =$O$5*F5 -> -2.6526003 | W5: =SUM(R5:U5) -> -1.9877168 | Y5: versicolor | AC5: {=_xlfn.IFS(W5<=$AA$2+2*$AA$3,"setosa",W5>$AA$10-2*$AA$11,"virginica",1>0,"versicolor")} -> setosa | AD5: =IF(AC5=Q5,1,0) -> 1 | AE5: Attribution versicolor = | AF5: =COUNTIF(AC:AC,"versicolor") -> 46
A6: 5 | B6: setosa | C6: ='Données brutes'!E6 -> 1.4 | D6: ='Données brutes'!F6 -> 0.2 | E6: ='Données brutes'!C6 -> 5 | F6: ='Données brutes'!D6 -> 3.6 | H6: Moyenne = | I6: =AVERAGE(C52:C101) -> 4.26 | J6: =AVERAGE(D52:D101) -> 1.326 | K6: =AVERAGE(E52:E101) -> 5.936 | L6: =AVERAGE(F52:F101) -> 2.77 | N6: Parabolique | Q6: setosa | R6: =$O$2*C6+$O$7*C6*C6+$O$9*C6*D6 -> 1.4 | S6: =$O$3*D6+$O$8*D6*D6 -> 0.3534028 | T6: =$O$4*E6 -> -1.2918687 | U6: =$O$5*F6 -> -3.0804391 | W6: =SUM(R6:U6) -> -2.618905 | Y6: Moyenne = | AA6: =AVERAGE(W52:W101) -> 2.6991272 | AC6: {=_xlfn.IFS(W6<=$AA$2+2*$AA$3,"setosa",W6>$AA$10-2*$AA$11,"virginica",1>0,"versicolor")} -> setosa | AD6: =IF(AC6=Q6,1,0) -> 1 | AE6: Attribution virginica = | AF6: =COUNTIF(AC:AC,"virginica") -> 55
A7: 6 | B7: setosa | C7: ='Données brutes'!E7 -> 1.7 | D7: ='Données brutes'!F7 -> 0.4 | E7: ='Données brutes'!C7 -> 5.4 | F7: ='Données brutes'!D7 -> 3.9 | H7: Ecart type = | I7: =_xlfn.STDEV.S(C52:C101) -> 0.46991098 | J7: =_xlfn.STDEV.S(D52:D101) -> 0.19775268 | K7: =_xlfn.STDEV.S(E52:E101) -> 0.51617115 | L7: =_xlfn.STDEV.S(F52:F101) -> 0.31379832 | N7: a5 = | Q7: setosa | R7: =$O$2*C7+$O$7*C7*C7+$O$9*C7*D7 -> 1.7 | S7: =$O$3*D7+$O$8*D7*D7 -> 0.70680559 | T7: =$O$4*E7 -> -1.3952182 | U7: =$O$5*F7 -> -3.3371424 | W7: =SUM(R7:U7) -> -2.325555 | Y7: Ecart type = | AA7: =_xlfn.STDEV.S(W52:W101) -> 0.563311 | AC7: {=_xlfn.IFS(W7<=$AA$2+2*$AA$3,"setosa",W7>$AA$10-2*$AA$11,"virginica",1>0,"versicolor")} -> setosa | AD7: =IF(AC7=Q7,1,0) -> 1
A8: 7 | B8: setosa | C8: ='Données brutes'!E8 -> 1.4 | D8: ='Données brutes'!F8 -> 0.3 | E8: ='Données brutes'!C8 -> 4.6 | F8: ='Données brutes'!D8 -> 3.4 | H8: D2 = | I8: =ABS(I6-I10)/SQRT(I7^2+I11^2) -> 1.7824436 | J8: 2.0683392 | K8: =ABS(K6-K10)/SQRT(K7^2+K11^2) -> 0.79608419 | L8: =ABS(L6-L10)/SQRT(L7^2+L11^2) -> 0.45336303 | N8: a6 = | Q8: setosa | R8: =$O$2*C8+$O$7*C8*C8+$O$9*C8*D8 -> 1.4 | S8: =$O$3*D8+$O$8*D8*D8 -> 0.53010419 | T8: =$O$4*E8 -> -1.1885192 | U8: =$O$5*F8 -> -2.9093036 | W8: =SUM(R8:U8) -> -2.1677186 | Y8: D2 = | AA8: =ABS(AA6-AA10)/SQRT(AA7^2+AA11^2) -> 2.5999566 | AC8: {=_xlfn.IFS(W8<=$AA$2+2*$AA$3,"setosa",W8>$AA$10-2*$AA$11,"virginica",1>0,"versicolor")} -> setosa | AD8: =IF(AC8=Q8,1,0) -> 1
A9: 8 | B9: setosa | C9: ='Données brutes'!E9 -> 1.5 | D9: ='Données brutes'!F9 -> 0.2 | E9: ='Données brutes'!C9 -> 5 | F9: ='Données brutes'!D9 -> 3.4 | H9: virginica | I9: Lp | J9: lp | K9: Ls | L9: ls | N9: a7 = | Q9: setosa | R9: =$O$2*C9+$O$7*C9*C9+$O$9*C9*D9 -> 1.5 | S9: =$O$3*D9+$O$8*D9*D9 -> 0.3534028 | T9: =$O$4*E9 -> -1.2918687 | U9: =$O$5*F9 -> -2.9093036 | W9: =SUM(R9:U9) -> -2.3477695 | Y9: virginica | AC9: {=_xlfn.IFS(W9<=$AA$2+2*$AA$3,"setosa",W9>$AA$10-2*$AA$11,"virginica",1>0,"versicolor")} -> setosa | AD9: =IF(AC9=Q9,1,0) -> 1
A10: 9 | B10: setosa | C10: ='Données brutes'!E10 -> 1.4 | D10: ='Données brutes'!F10 -> 0.2 | E10: ='Données brutes'!C10 -> 4.4 | F10: ='Données brutes'!D10 -> 2.9 | H10: Moyenne = | I10: =AVERAGE(C102:C151) -> 5.552 | J10: =AVERAGE(D102:D151) -> 2.026 | K10: =AVERAGE(E102:E151) -> 6.588 | L10: =AVERAGE(F102:F151) -> 2.974 | N10: a8 = | Q10: setosa | R10: =$O$2*C10+$O$7*C10*C10+$O$9*C10*D10 -> 1.4 | S10: =$O$3*D10+$O$8*D10*D10 -> 0.3534028 | T10: =$O$4*E10 -> -1.1368445 | U10: =$O$5*F10 -> -2.4814648 | W10: =SUM(R10:U10) -> -1.8649065 | Y10: Moyenne = | AA10: =AVERAGE(W102:W151) -> 4.8850191 | AC10: {=_xlfn.IFS(W10<=$AA$2+2*$AA$3,"setosa",W10>$AA$10-2*$AA$11,"virginica",1>0,"versicolor")} -> setosa | AD10: =IF(AC10=Q10,1,0) -> 1
A11: 10 | B11: setosa | C11: ='Données brutes'!E11 -> 1.5 | D11: ='Données brutes'!F11 -> 0.1 | E11: ='Données brutes'!C11 -> 4.9 | F11: ='Données brutes'!D11 -> 3.1 | H11: Ecart type = | I11: =_xlfn.STDEV.S(C102:C151) -> 0.5518947 | J11: =_xlfn.STDEV.S(D102:D151) -> 0.27465006 | K11: =_xlfn.STDEV.S(E102:E151) -> 0.63587959 | L11: =_xlfn.STDEV.S(F102:F151) -> 0.32249664 | N11: a9 = | Q11: setosa | R11: =$O$2*C11+$O$7*C11*C11+$O$9*C11*D11 -> 1.5 | S11: =$O$3*D11+$O$8*D11*D11 -> 0.1767014 | T11: =$O$4*E11 -> -1.2660314 | U11: =$O$5*F11 -> -2.6526003 | W11: =SUM(R11:U11) -> -2.2419303 | Y11: Ecart type = | AA11: =_xlfn.STDEV.S(W102:W151) -> 0.6241212 | AC11: {=_xlfn.IFS(W11<=$AA$2+2*$AA$3,"setosa",W11>$AA$10-2*$AA$11,"virginica",1>0,"versicolor")} -> setosa | AD11: =IF(AC11=Q11,1,0) -> 1
A12: 11 | B12: setosa | C12: ='Données brutes'!E12 -> 1.5 | D12: ='Données brutes'!F12 -> 0.2 | E12: ='Données brutes'!C12 -> 5.4 | F12: ='Données brutes'!D12 -> 3.7 | H12: Somme D = | I12: =I8+I4 -> 7.3675575 | J12: =J8+J4 -> 6.8880274 | K12: =K8+K4 -> 2.2839763 | L12: =L8+L4 -> 1.7904985 | N12: a10 = | Q12: setosa | R12: =$O$2*C12+$O$7*C12*C12+$O$9*C12*D12 -> 1.5 | S12: =$O$3*D12+$O$8*D12*D12 -> 0.3534028 | T12: =$O$4*E12 -> -1.3952182 | U12: =$O$5*F12 -> -3.1660069 | W12: =SUM(R12:U12) -> -2.7078223 | AC12: {=_xlfn.IFS(W12<=$AA$2+2*$AA$3,"setosa",W12>$AA$10-2*$AA$11,"virginica",1>0,"versicolor")} -> setosa | AD12: =IF(AC12=Q12,1,0) -> 1
A13: 12 | B13: setosa | C13: ='Données brutes'!E13 -> 1.6 | D13: ='Données brutes'!F13 -> 0.2 | E13: ='Données brutes'!C13 -> 4.8 | F13: ='Données brutes'!D13 -> 3.4 | Q13: setosa | R13: =$O$2*C13+$O$7*C13*C13+$O$9*C13*D13 -> 1.6 | S13: =$O$3*D13+$O$8*D13*D13 -> 0.3534028 | T13: =$O$4*E13 -> -1.240194 | U13: =$O$5*F13 -> -2.9093036 | W13: =SUM(R13:U13) -> -2.1960948 | Y13: Somme D = | AA13: =AA4+AA8 -> 9.7483549 | AC13: {=_xlfn.IFS(W13<=$AA$2+2*$AA$3,"setosa",W13>$AA$10-2*$AA$11,"virginica",1>0,"versicolor")} -> setosa | AD13: =IF(AC13=Q13,1,0) -> 1
A14: 13 | B14: setosa | C14: ='Données brutes'!E14 -> 1.4 | D14: ='Données brutes'!F14 -> 0.1 | E14: ='Données brutes'!C14 -> 4.8 | F14: ='Données brutes'!D14 -> 3 | Q14: setosa | R14: =$O$2*C14+$O$7*C14*C14+$O$9*C14*D14 -> 1.4 | S14: =$O$3*D14+$O$8*D14*D14 -> 0.1767014 | T14: =$O$4*E14 -> -1.240194 | U14: =$O$5*F14 -> -2.5670326 | W14: =SUM(R14:U14) -> -2.2305252 | AC14: {=_xlfn.IFS(W14<=$AA$2+2*$AA$3,"setosa",W14>$AA$10-2*$AA$11,"virginica",1>0,"versicolor")} -> setosa | AD14: =IF(AC14=Q14,1,0) -> 1
A15: 14 | B15: setosa | C15: ='Données brutes'!E15 -> 1.1 | D15: ='Données brutes'!F15 -> 0.1 | E15: ='Données brutes'!C15 -> 4.3 | F15: ='Données brutes'!D15 -> 3 | Q15: setosa | R15: =$O$2*C15+$O$7*C15*C15+$O$9*C15*D15 -> 1.1 | S15: =$O$3*D15+$O$8*D15*D15 -> 0.1767014 | T15: =$O$4*E15 -> -1.1110071 | U15: =$O$5*F15 -> -2.5670326 | W15: =SUM(R15:U15) -> -2.4013383 | AC15: {=_xlfn.IFS(W15<=$AA$2+2*$AA$3,"setosa",W15>$AA$10-2*$AA$11,"virginica",1>0,"versicolor")} -> setosa | AD15: =IF(AC15=Q15,1,0) -> 1
A16: 15 | B16: setosa | C16: ='Données brutes'!E16 -> 1.2 | D16: ='Données brutes'!F16 -> 0.2 | E16: ='Données brutes'!C16 -> 5.8 | F16: ='Données brutes'!D16 -> 4 | Q16: setosa | R16: =$O$2*C16+$O$7*C16*C16+$O$9*C16*D16 -> 1.2 | S16: =$O$3*D16+$O$8*D16*D16 -> 0.3534028 | T16: =$O$4*E16 -> -1.4985677 | U16: =$O$5*F16 -> -3.4227101 | W16: =SUM(R16:U16) -> -3.3678751 | AC16: {=_xlfn.IFS(W16<=$AA$2+2*$AA$3,"setosa",W16>$AA$10-2*$AA$11,"virginica",1>0,"versicolor")} -> setosa | AD16: =IF(AC16=Q16,1,0) -> 1
A17: 16 | B17: setosa | C17: ='Données brutes'!E17 -> 1.5 | D17: ='Données brutes'!F17 -> 0.4 | E17: ='Données brutes'!C17 -> 5.7 | F17: ='Données brutes'!D17 -> 4.4 | Q17: setosa | R17: =$O$2*C17+$O$7*C17*C17+$O$9*C17*D17 -> 1.5 | S17: =$O$3*D17+$O$8*D17*D17 -> 0.70680559 | T17: =$O$4*E17 -> -1.4727304 | U17: =$O$5*F17 -> -3.7649811 | W17: =SUM(R17:U17) -> -3.0309059 | AC17: {=_xlfn.IFS(W17<=$AA$2+2*$AA$3,"setosa",W17>$AA$10-2*$AA$11,"virginica",1>0,"versicolor")} -> setosa | AD17: =IF(AC17=Q17,1,0) -> 1
A18: 17 | B18: setosa | C18: ='Données brutes'!E18 -> 1.3 | D18: ='Données brutes'!F18 -> 0.4 | E18: ='Données brutes'!C18 -> 5.4 | F18: ='Données brutes'!D18 -> 3.9 | Q18: setosa | R18: =$O$2*C18+$O$7*C18*C18+$O$9*C18*D18 -> 1.3 | S18: =$O$3*D18+$O$8*D18*D18 -> 0.70680559 | T18: =$O$4*E18 -> -1.3952182 | U18: =$O$5*F18 -> -3.3371424 | W18: =SUM(R18:U18) -> -2.725555 | AC18: {=_xlfn.IFS(W18<=$AA$2+2*$AA$3,"setosa",W18>$AA$10-2*$AA$11,"virginica",1>0,"versicolor")} -> setosa | AD18: =IF(AC18=Q18,1,0) -> 1
A19: 18 | B19: setosa | C19: ='Données brutes'!E19 -> 1.4 | D19: ='Données brutes'!F19 -> 0.3 | E19: ='Données brutes'!C19 -> 5.1 | F19: ='Données brutes'!D19 -> 3.5 | Q19: setosa | R19: =$O$2*C19+$O$7*C19*C19+$O$9*C19*D19 -> 1.4 | S19: =$O$3*D19+$O$8*D19*D19 -> 0.53010419 | T19: =$O$4*E19 -> -1.3177061 | U19: =$O$5*F19 -> -2.9948714 | W19: =SUM(R19:U19) -> -2.3824733 | AC19: {=_xlfn.IFS(W19<=$AA$2+2*$AA$3,"setosa",W19>$AA$10-2*$AA$11,"virginica",1>0,"versicolor")} -> setosa | AD19: =IF(AC19=Q19,1,0) -> 1
A20: 19 | B20: setosa | C20: ='Données brutes'!E20 -> 1.7 | D20: ='Données brutes'!F20 -> 0.3 | E20: ='Données brutes'!C20 -> 5.7 | F20: ='Données brutes'!D20 -> 3.8 | Q20: setosa | R20: =$O$2*C20+$O$7*C20*C20+$O$9*C20*D20 -> 1.7 | S20: =$O$3*D20+$O$8*D20*D20 -> 0.53010419 | T20: =$O$4*E20 -> -1.4727304 | U20: =$O$5*F20 -> -3.2515746 | W20: =SUM(R20:U20) -> -2.4942008 | AC20: {=_xlfn.IFS(W20<=$AA$2+2*$AA$3,"setosa",W20>$AA$10-2*$AA$11,"virginica",1>0,"versicolor")} -> setosa | AD20: =IF(AC20=Q20,1,0) -> 1
A21: 20 | B21: setosa | C21: ='Données brutes'!E21 -> 1.5 | D21: ='Données brutes'!F21 -> 0.3 | E21: ='Données brutes'!C21 -> 5.1 | F21: ='Données brutes'!D21 -> 3.8 | Q21: setosa | R21: =$O$2*C21+$O$7*C21*C21+$O$9*C21*D21 -> 1.5 | S21: =$O$3*D21+$O$8*D21*D21 -> 0.53010419 | T21: =$O$4*E21 -> -1.3177061 | U21: =$O$5*F21 -> -3.2515746 | W21: =SUM(R21:U21) -> -2.5391765 | AC21: {=_xlfn.IFS(W21<=$AA$2+2*$AA$3,"setosa",W21>$AA$10-2*$AA$11,"virginica",1>0,"versicolor")} -> setosa | AD21: =IF(AC21=Q21,1,0) -> 1
A22: 21 | B22: setosa | C22: ='Données brutes'!E22 -> 1.7 | D22: ='Données brutes'!F22 -> 0.2 | E22: ='Données brutes'!C22 -> 5.4 | F22: ='Données brutes'!D22 -> 3.4 | Q22: setosa | R22: =$O$2*C22+$O$7*C22*C22+$O$9*C22*D22 -> 1.7 | S22: =$O$3*D22+$O$8*D22*D22 -> 0.3534028 | T22: =$O$4*E22 -> -1.3952182 | U22: =$O$5*F22 -> -2.9093036 | W22: =SUM(R22:U22) -> -2.251119 | AC22: {=_xlfn.IFS(W22<=$AA$2+2*$AA$3,"setosa",W22>$AA$10-2*$AA$11,"virginica",1>0,"versicolor")} -> setosa | AD22: =IF(AC22=Q22,1,0) -> 1
A23: 22 | B23: setosa | C23: ='Données brutes'!E23 -> 1.5 | D23: ='Données brutes'!F23 -> 0.4 | E23: ='Données brutes'!C23 -> 5.1 | F23: ='Données brutes'!D23 -> 3.7 | Q23: setosa | R23: =$O$2*C23+$O$7*C23*C23+$O$9*C23*D23 -> 1.5 | S23: =$O$3*D23+$O$8*D23*D23 -> 0.70680559 | T23: =$O$4*E23 -> -1.3177061 | U23: =$O$5*F23 -> -3.1660069 | W23: =SUM(R23:U23) -> -2.2769074 | AC23: {=_xlfn.IFS(W23<=$AA$2+2*$AA$3,"setosa",W23>$AA$10-2*$AA$11,"virginica",1>0,"versicolor")} -> setosa | AD23: =IF(AC23=Q23,1,0) -> 1
A24: 23 | B24: setosa | C24: ='Données brutes'!E24 -> 1 | D24: ='Données brutes'!F24 -> 0.2 | E24: ='Données brutes'!C24 -> 4.6 | F24: ='Données brutes'!D24 -> 3.6 | Q24: setosa | R24: =$O$2*C24+$O$7*C24*C24+$O$9*C24*D24 -> 1 | S24: =$O$3*D24+$O$8*D24*D24 -> 0.3534028 | T24: =$O$4*E24 -> -1.1885192 | U24: =$O$5*F24 -> -3.0804391 | W24: =SUM(R24:U24) -> -2.9155555 | AC24: {=_xlfn.IFS(W24<=$AA$2+2*$AA$3,"setosa",W24>$AA$10-2*$AA$11,"virginica",1>0,"versicolor")} -> setosa | AD24: =IF(AC24=Q24,1,0) -> 1
A25: 24 | B25: setosa | C25: ='Données brutes'!E25 -> 1.7 | D25: ='Données brutes'!F25 -> 0.5 | E25: ='Données brutes'!C25 -> 5.1 | F25: ='Données brutes'!D25 -> 3.3 | Q25: setosa | R25: =$O$2*C25+$O$7*C25*C25+$O$9*C25*D25 -> 1.7 | S25: =$O$3*D25+$O$8*D25*D25 -> 0.88350699 | T25: =$O$4*E25 -> -1.3177061 | U25: =$O$5*F25 -> -2.8237358 | W25: =SUM(R25:U25) -> -1.557935 | AC25: {=_xlfn.IFS(W25<=$AA$2+2*$AA$3,"setosa",W25>$AA$10-2*$AA$11,"virginica",1>0,"versicolor")} -> setosa | AD25: =IF(AC25=Q25,1,0) -> 1
... A151: 150 | B151: virginica | C151: ='Données brutes'!E151 -> 5.1 | D151: ='Données brutes'!F151 -> 1.8 | E151: ='Données brutes'!C151 -> 5.9 | F151: ='Données brutes'!D151 -> 3 | Q151: virginica | R151: =$O$2*C151+$O$7*C151*C151+$O$9*C151*D151 -> 5.1 | S151: =$O$3*D151+$O$8*D151*D151 -> 3.1806252 | T151: =$O$4*E151 -> -1.5244051 | U151: =$O$5*F151 -> -2.5670326 | W151: =SUM(R151:U151) -> 4.1891875 | AC151: {=_xlfn.IFS(W151<=$AA$2+2*$AA$3,"setosa",W151>$AA$10-2*$AA$11,"virginica",1>0,"versicolor")} -> virginica | AD151: =IF(AC151=Q151,1,0) -> 1

Sheet Optimisation des limites
A2: # | B2: Espèce | D2: setosa | H2: ='Combinaison des axes'!W1 -> Combinaisons | I2: Attribution | J2: Succès | K2: Succès global = | L2: =SUM(J:J)/COUNT(J:J)*100 -> 98.666667 | M2: %
A3: 1 | B3: setosa | D3: Moyenne = | F3: ='Combinaison des axes'!AA2 -> -2.3299961 | H3: ='Combinaison des axes'!W2 -> -2.5591747 | I3: {=_xlfn.IFS(H3<$F$14,"setosa",H3>$F$15,"virginica",1>0,"versicolor")} -> setosa | J3: =IF(I3=B3,1,0) -> 1 | K3: Attribution setosa = | L3: =COUNTIF(I:I,"setosa") -> 50
A4: 2 | B4: setosa | D4: Ecart type = | F4: ='Combinaison des axes'!AA3 -> 0.42147039 | H4: ='Combinaison des axes'!W3 -> -2.0796611 | I4: {=_xlfn.IFS(H4<$F$14,"setosa",H4>$F$15,"virginica",1>0,"versicolor")} -> setosa | J4: =IF(I4=B4,1,0) -> 1 | K4: Attribution versicolor = | L4: =COUNTIF(I:I,"versicolor") -> 50
A5: 3 | B5: setosa | D5: D1 = | F5: ='Combinaison des axes'!AA4 -> 7.1483983 | H5: ='Combinaison des axes'!W4 -> -2.2991219 | I5: {=_xlfn.IFS(H5<$F$14,"setosa",H5>$F$15,"virginica",1>0,"versicolor")} -> setosa | J5: =IF(I5=B5,1,0) -> 1 | K5: Attribution virginica = | L5: =COUNTIF(I:I,"virginica") -> 50
A6: 4 | B6: setosa | D6: versicolor | H6: ='Combinaison des axes'!W5 -> -1.9877168 | I6: {=_xlfn.IFS(H6<$F$14,"setosa",H6>$F$15,"virginica",1>0,"versicolor")} -> setosa | J6: =IF(I6=B6,1,0) -> 1
A7: 5 | B7: setosa | D7: Moyenne = | F7: ='Combinaison des axes'!AA6 -> 2.6991272 | H7: ='Combinaison des axes'!W6 -> -2.618905 | I7: {=_xlfn.IFS(H7<$F$14,"setosa",H7>$F$15,"virginica",1>0,"versicolor")} -> setosa | J7: =IF(I7=B7,1,0) -> 1
A8: 6 | B8: setosa | D8: Ecart type = | F8: ='Combinaison des axes'!AA7 -> 0.563311 | H8: ='Combinaison des axes'!W7 -> -2.325555 | I8: {=_xlfn.IFS(H8<$F$14,"setosa",H8>$F$15,"virginica",1>0,"versicolor")} -> setosa | J8: =IF(I8=B8,1,0) -> 1
A9: 7 | B9: setosa | D9: D2 = | F9: ='Combinaison des axes'!AA8 -> 2.5999566 | H9: ='Combinaison des axes'!W8 -> -2.1677186 | I9: {=_xlfn.IFS(H9<$F$14,"setosa",H9>$F$15,"virginica",1>0,"versicolor")} -> setosa | J9: =IF(I9=B9,1,0) -> 1
A10: 8 | B10: setosa | D10: virginica | H10: ='Combinaison des axes'!W9 -> -2.3477695 | I10: {=_xlfn.IFS(H10<$F$14,"setosa",H10>$F$15,"virginica",1>0,"versicolor")} -> setosa | J10: =IF(I10=B10,1,0) -> 1
A11: 9 | B11: setosa | D11: Moyenne = | F11: ='Combinaison des axes'!AA10 -> 4.8850191 | H11: ='Combinaison des axes'!W10 -> -1.8649065 | I11: {=_xlfn.IFS(H11<$F$14,"setosa",H11>$F$15,"virginica",1>0,"versicolor")} -> setosa | J11: =IF(I11=B11,1,0) -> 1
A12: 10 | B12: setosa | D12: Ecart type = | F12: ='Combinaison des axes'!AA11 -> 0.6241212 | H12: ='Combinaison des axes'!W11 -> -2.2419303 | I12: {=_xlfn.IFS(H12<$F$14,"setosa",H12>$F$15,"virginica",1>0,"versicolor")} -> setosa | J12: =IF(I12=B12,1,0) -> 1
A13: 11 | B13: setosa | H13: ='Combinaison des axes'!W12 -> -2.7078223 | I13: {=_xlfn.IFS(H13<$F$14,"setosa",H13>$F$15,"virginica",1>0,"versicolor")} -> setosa | J13: =IF(I13=B13,1,0) -> 1
A14: 12 | B14: setosa | D14: Limite 1 = | F14: -0.42041523 | H14: ='Combinaison des axes'!W13 -> -2.1960948 | I14: {=_xlfn.IFS(H14<$F$14,"setosa",H14>$F$15,"virginica",1>0,"versicolor")} -> setosa | J14: =IF(I14=B14,1,0) -> 1
A15: 13 | B15: setosa | D15: Limite 2 = | F15: 3.8410862 | H15: ='Combinaison des axes'!W14 -> -2.2305252 | I15: {=_xlfn.IFS(H15<$F$14,"setosa",H15>$F$15,"virginica",1>0,"versicolor")} -> setosa | J15: =IF(I15=B15,1,0) -> 1
A16: 14 | B16: setosa | H16: ='Combinaison des axes'!W15 -> -2.4013383 | I16: {=_xlfn.IFS(H16<$F$14,"setosa",H16>$F$15,"virginica",1>0,"versicolor")} -> setosa | J16: =IF(I16=B16,1,0) -> 1
A17: 15 | B17: setosa | D17: Min. Comb. = | F17: =MIN(H:H) -> -3.3678751 | H17: ='Combinaison des axes'!W16 -> -3.3678751 | I17: {=_xlfn.IFS(H17<$F$14,"setosa",H17>$F$15,"virginica",1>0,"versicolor")} -> setosa | J17: =IF(I17=B17,1,0) -> 1
A18: 16 | B18: setosa | D18: Max. Comb. = | F18: =MAX(H:H) -> 6.7498927 | H18: ='Combinaison des axes'!W17 -> -3.0309059 | I18: {=_xlfn.IFS(H18<$F$14,"setosa",H18>$F$15,"virginica",1>0,"versicolor")} -> setosa | J18: =IF(I18=B18,1,0) -> 1
A19: 17 | B19: setosa | H19: ='Combinaison des axes'!W18 -> -2.725555 | I19: {=_xlfn.IFS(H19<$F$14,"setosa",H19>$F$15,"virginica",1>0,"versicolor")} -> setosa | J19: =IF(I19=B19,1,0) -> 1
A20: 18 | B20: setosa | H20: ='Combinaison des axes'!W19 -> -2.3824733 | I20: {=_xlfn.IFS(H20<$F$14,"setosa",H20>$F$15,"virginica",1>0,"versicolor")} -> setosa | J20: =IF(I20=B20,1,0) -> 1
A21: 19 | B21: setosa | H21: ='Combinaison des axes'!W20 -> -2.4942008 | I21: {=_xlfn.IFS(H21<$F$14,"setosa",H21>$F$15,"virginica",1>0,"versicolor")} -> setosa | J21: =IF(I21=B21,1,0) -> 1
A22: 20 | B22: setosa | H22: ='Combinaison des axes'!W21 -> -2.5391765 | I22: {=_xlfn.IFS(H22<$F$14,"setosa",H22>$F$15,"virginica",1>0,"versicolor")} -> setosa | J22: =IF(I22=B22,1,0) -> 1
A23: 21 | B23: setosa | H23: ='Combinaison des axes'!W22 -> -2.251119 | I23: {=_xlfn.IFS(H23<$F$14,"setosa",H23>$F$15,"virginica",1>0,"versicolor")} -> setosa | J23: =IF(I23=B23,1,0) -> 1
A24: 22 | B24: setosa | H24: ='Combinaison des axes'!W23 -> -2.2769074 | I24: {=_xlfn.IFS(H24<$F$14,"setosa",H24>$F$15,"virginica",1>0,"versicolor")} -> setosa | J24: =IF(I24=B24,1,0) -> 1
A25: 23 | B25: setosa | H25: ='Combinaison des axes'!W24 -> -2.9155555 | I25: {=_xlfn.IFS(H25<$F$14,"setosa",H25>$F$15,"virginica",1>0,"versicolor")} -> setosa | J25: =IF(I25=B25,1,0) -> 1
A26: 24 | B26: setosa | H26: ='Combinaison des axes'!W25 -> -1.557935 | I26: {=_xlfn.IFS(H26<$F$14,"setosa",H26>$F$15,"virginica",1>0,"versicolor")} -> setosa | J26: =IF(I26=B26,1,0) -> 1
A27: 25 | B27: setosa | H27: ='Combinaison des axes'!W26 -> -1.8960948 | I27: {=_xlfn.IFS(H27<$F$14,"setosa",H27>$F$15,"virginica",1>0,"versicolor")} -> setosa | J27: =IF(I27=B27,1,0) -> 1
A28: 26 | B28: setosa | H28: ='Combinaison des axes'!W27 -> -1.9054985 | I28: {=_xlfn.IFS(H28<$F$14,"setosa",H28>$F$15,"virginica",1>0,"versicolor")} -> setosa | J28: =IF(I28=B28,1,0) -> 1
A29: 27 | B29: setosa | H29: ='Combinaison des axes'!W28 -> -1.8943667 | I29: {=_xlfn.IFS(H29<$F$14,"setosa",H29>$F$15,"virginica",1>0,"versicolor")} -> setosa | J29: =IF(I29=B29,1,0) -> 1
A30: 28 | B30: setosa | H30: ='Combinaison des axes'!W29 -> -2.485012 | I30: {=_xlfn.IFS(H30<$F$14,"setosa",H30>$F$15,"virginica",1>0,"versicolor")} -> setosa | J30: =IF(I30=B30,1,0) -> 1
... A152: 150 | B152: virginica | H152: ='Combinaison des axes'!W151 -> 4.1891875 | I152: {=_xlfn.IFS(H152<$F$14,"setosa",H152>$F$15,"virginica",1>0,"versicolor")} -> virginica | J152: =IF(I152=B152,1,0) -> 1
