Workbook

Sheet Feuil1
B3: Date d'audit | G3: Auditeur(s)
A6: Présentation générale du centre de formation
A19: Évaluation finale | C19: =IF(AND(I23>=8,I23<12),"Pas du tout satisfaisant",IF(AND(I23>=12,I23<15),"Peu satisfaisant",IF(AND(I23>=15,I23<20),"Satisfaisant",IF(I23=20,"Très satisfaisant","")))) | G19: Synthèse des résultats de l'audit
G20: Conformes | I20: =COUNTIF(E100:F171,"Conforme")+COUNTIF(E100:F171,"Conforme avec des points d'améliorations") & "/40" -> 2/40
G21: Non conformes | I21: =COUNTIF(E100:F171,"Non conforme")& "/40" -> 0/40
G22: Points d'améliorations | I22: =COUNTIF(E100:F171,"Conforme avec des points d'améliorations") -> 2
A25: Synthèse générale de l'audit
A35: Synthèse des forces et faiblesses
A36: Forces | F36: Faiblesses
A43: Synthèse des recommandations
A44: =Feuil2!D3&" "&Feuil2!D4&" "&Feuil2!D5&" "&Feuil2!D6&" "&Feuil2!D7&" "&Feuil2!D8&" "&Feuil2!D9&" "&Feuil2!D10 -> Test Test 2 | L44: Ici tu peux rallonger ta formule autant que tu veux. Là elle viendra rappatrier les 8 premiers commentaires.
A67: Informations sur l'échantillonnage des actions lors de l'audit
A68: Inscrire les documents vus, les ateliers vu, les exercices observés
A100: N° | B100: Attendu | E100: Constat | G100: Commentaires
A101: Critère 1 : Les structures
A102: 1 | B102: L’organisme contrôle l’accès du public à ses installations | E102: Conforme avec des points d'améliorations | G102: Test
A103: 2 | B103: L’organisme dispose de suffisamment de salles pour dispenser les modules théoriques
A104: 3 | B104: Toutes les salles disposent de moyens de projection
A105: 4 | B105: L’organisme dispose d’eau potable, de boissons chaudes (le cas échéant), de vestiaires, de douches, de toilettes. | E105: Conforme avec des points d'améliorations | G105: Test 2
A106: 5 | B106: Les éléments cités ci-dessus sont à l’abri des intempéries
A107: 6 | B107: Le(s) terrain(s) d’exercice(s) est suffisamment stable pour y circuler en toute sécurité
A108: 7 | B108: Les aires d’exercices disposent d’installations pour l’utilisation de tuyau et de poteaux incendie
A109: 8 | B109: Les installations présentes sur les aires d’exercice sont réalistes par rapport aux installations du monde professionnel
A110: 9 | B110: Les installations disposent de systèmes sûr pour l’alimentation/coupure du carburant
A115: N° | B115: Attendu | E115: Constat | G115: Commentaires
A116: Critère 1 : Les structures
A117: 10 | B117: L’approvisionnement en eau et en agents extincteur est suffisant pour l’utilisation des ateliers en toute sécurité
A118: 11 | B118: Les ateliers permettent d’utiliser une variété d’équipements de service incendie
A119: Critère 2 : Les ressources humaines
A120: 12 | B120: L’organisme dispose de suffisamment de moyens humains pour dispenser des formations
A121: 13 | B121: L’organisme détermine et évalue les compétences des différents intervenants
A122: 14 | B122: L’organisme entretient et développe les compétences des différents intervenants
A123: Critère 3 : La sécurité
A124: 15 | B124: L’organisme dispose d’une évaluation des risques liée à ses ateliers et à mis en place des moyens de maitrise de ces risques
A125: 16 | B125: L’organisme dispose des FDS des produits chimique utilisés
A126: 17 | B126: L’organisme dispose de moyens de protections individuels adaptés aux risques et aux ateliers
A132: N° | B132: Attendu | E132: Constat | G132: Commentaires
A133: Critère 3 : La sécurité
A134: 18 | B134: Les équipements de protections individuels sont correctement entretenus et contrôlés le cas échéant
A135: 19 | B135: L’organisme a une organisation en place permettant de réagir rapidement en cas d’incident ou d’accident
A136: 20 | B136: L’organisme réalise une maintenance régulière de ses équipements
A137: 21 | B137: L’organisme dispose d’une politique sécurité
A138: Critère 4 : L'environnement
A139: 22 | B139: L’organisme dispose des autorisations nécessaire pour son activité
A140: 23 | B140: L’organisme a pris en compte le risque de propagation du feu avant l’utilisation de ses ateliers
A141: 24 | B141: L’organisme a pris en compte les nuisances (odeur, visibilité…) dues aux fumées
A142: 25 | B142: L’organisme a pris en compte le traitement de l’eau et des hydrocarbures résultant des formations
A149: N° | B149: Attendu | E149: Constat | G149: Commentaires
A150: Critère 5 : Les formations
A151: 26 | B151: L’organisme a construit ses formations de façon pertinentes au regard des besoins et attentes des clients et des stagiaires
A152: 27 | B152: L’organisme dispose programme détaillant le contenu du stage et d’objectifs évaluables
A153: 28 | B153: L’organisme met à jour de manière régulière le programme de ses formations (à minima tous les 5 ans)
A154: 29 | B154: L’organisme effectue une veille afin de ne pas être en décalage avec les pratiques professionnelles ainsi qu’avec les moyens utilisés
A155: 30 | B155: L’organisme s’assure au préalable que les stagiaires peuvent suivre la formation (forme physique, langue…)
A156: 31 | B156: L’organisme dispose de contenu présenté en salle de formation (pack slides…)
A157: 32 | B157: L’organisme met à disposition des stagiaires des supports permettant l’assimilation de la théorie
A158: Critère 5 : La satisfaction
A159: 33 | B159: L’organisme recueil la satisfaction des stagiaires à la suite des stages
A165: N° | B165: Attendu | E165: Constat | G165: Commentaires
A166: Critère 5 : La satisfaction
A167: 34 | B167: L’organisme recueil la satisfaction des clients
A168: 35 | B168: L’organisme effectue des questionnaires à froid auprès des clients
A169: 36 | B169: L’organisme recueil les retours des formateurs à la suite des stages
A170: 37 | B170: L’organisme analyse la satisfaction des parties prenantes
A171: 38 | B171: L’organisme met en place des actions d’amélioration suite à l’analyse des questionnaires de satisfaction
C180: Critères de notation
C181: Note | D181: Notation | E181: Justification
C182: 20 | D182: Très satisfaisant | E182: Critères remplis, au delà de l'attendu
C183: 15 | D183: Satisfaisant | E183: Critères remplis
C184: 12 | D184: Peu satisfaisant | E184: Critères remplis, avec des possibilités d'amélioration
C185: 8 | D185: Pas du tout | E185: Critères non remplis

Sheet Feuil2
A1: Liste des commentaires pour : | D1: Conforme avec des points d'améliorations | H1: <- Tu peux modifier en D1 le commentaire exact que tu cherches
A2: ="" | D2: {=_xlfn.UNIQUE(A2:A151)}
A3: =IF(Feuil1!E102=Feuil2!$D$1,Feuil1!G102,"") -> Test | D3: Test
A4: =IF(Feuil1!E103=Feuil2!$D$1,Feuil1!G103,"") | D4: Test 2
A5: =IF(Feuil1!E104=Feuil2!$D$1,Feuil1!G104,"")
A6: =IF(Feuil1!E105=Feuil2!$D$1,Feuil1!G105,"") -> Test 2
A7: =IF(Feuil1!E106=Feuil2!$D$1,Feuil1!G106,"")
A8: =IF(Feuil1!E107=Feuil2!$D$1,Feuil1!G107,"")
A9: =IF(Feuil1!E108=Feuil2!$D$1,Feuil1!G108,"")
A10: =IF(Feuil1!E109=Feuil2!$D$1,Feuil1!G109,"")
A11: =IF(Feuil1!E110=Feuil2!$D$1,Feuil1!G110,"")
A12: =IF(Feuil1!E111=Feuil2!$D$1,Feuil1!G111,"")
A13: =IF(Feuil1!E112=Feuil2!$D$1,Feuil1!G112,"")
A14: =IF(Feuil1!E113=Feuil2!$D$1,Feuil1!G113,"")
A15: =IF(Feuil1!E114=Feuil2!$D$1,Feuil1!G114,"")
A16: =IF(Feuil1!E115=Feuil2!$D$1,Feuil1!G115,"")
... A151: =IF(Feuil1!E250=Feuil2!$D$1,Feuil1!G250,"")
