Workbook

Sheet BDD
A1: Clé unique | B1: Code | C1: Période | D1: Couleur | E1: Montant | F1: Site
A2: =B2&"_"&C2 -> B_P1_2023 | B2: B | C2: P1_2023 | D2: Rouge | E2: 10 | F2: Paris
A3: =B3&"_"&C3 -> R_P1_2023 | B3: R | C3: P1_2023 | D3: Noir | E3: 15 | F3: Paris
A4: =B4&"_"&C4 -> B_P1_2023 | B4: B | C4: P1_2023 | D4: Violet | E4: 12 | F4: Paris
A5: =B5&"_"&C5 -> R_P1_2023 | B5: R | C5: P1_2023 | D5: Rouge | E5: 10 | F5: Paris
A6: =B6&"_"&C6 -> B_P1_2023 | B6: B | C6: P1_2023 | D6: Noir | E6: 14 | F6: Paris
A7: =B7&"_"&C7 -> R_P1_2023 | B7: R | C7: P1_2023 | D7: Violet | E7: 16 | F7: Paris
A8: =B8&"_"&C8 -> B_P1_2022 | B8: B | C8: P1_2022 | D8: Rouge | E8: 13 | F8: Paris
A9: =B9&"_"&C9 -> B_P1_2022 | B9: B | C9: P1_2022 | D9: Noir | E9: 12 | F9: Paris
A10: =B10&"_"&C10 -> R_P1_2022 | B10: R | C10: P1_2022 | D10: Violet | E10: 14 | F10: Paris
A11: =B11&"_"&C11 -> B_P1_2022 | B11: B | C11: P1_2022 | D11: Rouge | E11: 15 | F11: Paris
A12: =B12&"_"&C12 -> R_P1_2023 | B12: R | C12: P1_2023 | D12: Noir | E12: 10 | F12: Paris
A13: =B13&"_"&C13 -> R_P1_2023 | B13: R | C13: P1_2023 | D13: Violet | E13: 14 | F13: Paris
... A61: =B61&"_"&C61 -> B_P2_2022 | B61: B | C61: P2_2022 | D61: Violet | E61: 15 | F61: Bruxelles

Sheet Mapping
A1: Prénom | B1: Nom | C1: Code | D1: Adresse mail | E1: Nom fichier | F1: Copie | K1: Sites | L1: Opérationnel
A2: Juliette | B2: Muller | C2: =LEFT(A2,2)&LEFT(B2,1) -> JuM | D2: =C2&"@cacahuètes.x" -> JuM@cacahuètes.x | E2: ="Récap sites pour "&C2&" V1" -> Récap sites pour JuM V1 | F2: Mail des personnes en copie (s'il y en a), chaque mail séparé par ";" (ou autre chose s'il le faut) | K2: Paris | L2: PiJ
A3: Pierre | B3: Jean | C3: =LEFT(A3,2)&LEFT(B3,1) -> PiJ | D3: =C3&"@cacahuètes.x" -> PiJ@cacahuètes.x | E3: ="Récap sites pour "&C3&" V1" -> Récap sites pour PiJ V1 | K3: Bruxelles | L3: ClM
A4: Clémentine | B4: Muller | C4: =LEFT(A4,2)&LEFT(B4,1) -> ClM | D4: =C4&"@cacahuètes.x" -> ClM@cacahuètes.x | E4: ="Récap sites pour "&C4&" V1" -> Récap sites pour ClM V1 | F4: Personne@mail.com;quelquun@mail.com | K4: Londres | L4: ClM
A5: Marie | B5: Dupont | C5: =LEFT(A5,2)&LEFT(B5,1) -> MaD | D5: =C5&"@cacahuètes.x" -> MaD@cacahuètes.x | E5: ="Récap sites pour "&C5&" V1" -> Récap sites pour MaD V1
L7: Le nombre de sites varie, il peut être de trois sites comme 3000
A8: Le nombre d'opérationnels (responsables de sites) varie, il peut être de trois comme 100, et n'est pas proportionnel ou lié au nombre de sites
E10: Si je crée plusieurs versions de fichiers, et qu'en cherchant à l'enregistrer la Macro se rend compte qu'il en existe déjà 1 (ou plusieurs) à ce nom, j'aimerais qu'il ajoute V2 (Version 2), ou V3, etc…

Sheet Par_site
E3: Si cette liste peut ne pas avoir de vides ce serait pas mal (mais ça reste esthétique)
E5: Paris
E7: P1_2022 | F7: P2_2022 | G7: P1_2023 | H7: P2_2023
B8: =D8 -> Rouge | C8: R | D8: Rouge | E8: =IF($E$5="Sites","",SUMIFS(BDD!$E:$E,BDD!$F:$F,Par_site!$E$5,BDD!$D:$D,Par_site!$B8,BDD!$C:$C,Par_site!E$7,BDD!$B:$B,Par_site!$C8)) -> 12 | F8: =IF($E$5="Sites","",SUMIFS(BDD!$E:$E,BDD!$F:$F,Par_site!$E$5,BDD!$D:$D,Par_site!$B8,BDD!$C:$C,Par_site!F$7,BDD!$B:$B,Par_site!$C8)) -> 0 | G8: =IF($E$5="Sites","",SUMIFS(BDD!$E:$E,BDD!$F:$F,Par_site!$E$5,BDD!$D:$D,Par_site!$B8,BDD!$C:$C,Par_site!G$7,BDD!$B:$B,Par_site!$C8)) -> 10 | H8: =IF($E$5="Sites","",SUMIFS(BDD!$E:$E,BDD!$F:$F,Par_site!$E$5,BDD!$D:$D,Par_site!$B8,BDD!$C:$C,Par_site!H$7,BDD!$B:$B,Par_site!$C8)) -> 27
B9: =D8 -> Rouge | C9: B | E9: =IF($E$5="Sites","",SUMIFS(BDD!$E:$E,BDD!$F:$F,Par_site!$E$5,BDD!$D:$D,Par_site!$B9,BDD!$C:$C,Par_site!E$7,BDD!$B:$B,Par_site!$C9)) -> 28 | F9: =IF($E$5="Sites","",SUMIFS(BDD!$E:$E,BDD!$F:$F,Par_site!$E$5,BDD!$D:$D,Par_site!$B9,BDD!$C:$C,Par_site!F$7,BDD!$B:$B,Par_site!$C9)) -> 45 | G9: =IF($E$5="Sites","",SUMIFS(BDD!$E:$E,BDD!$F:$F,Par_site!$E$5,BDD!$D:$D,Par_site!$B9,BDD!$C:$C,Par_site!G$7,BDD!$B:$B,Par_site!$C9)) -> 10 | H9: =IF($E$5="Sites","",SUMIFS(BDD!$E:$E,BDD!$F:$F,Par_site!$E$5,BDD!$D:$D,Par_site!$B9,BDD!$C:$C,Par_site!H$7,BDD!$B:$B,Par_site!$C9)) -> 0
B10: =D10 -> Noir | C10: R | D10: Noir | E10: =IF($E$5="Sites","",SUMIFS(BDD!$E:$E,BDD!$F:$F,Par_site!$E$5,BDD!$D:$D,Par_site!$B10,BDD!$C:$C,Par_site!E$7,BDD!$B:$B,Par_site!$C10)) -> 0 | F10: =IF($E$5="Sites","",SUMIFS(BDD!$E:$E,BDD!$F:$F,Par_site!$E$5,BDD!$D:$D,Par_site!$B10,BDD!$C:$C,Par_site!F$7,BDD!$B:$B,Par_site!$C10)) -> 27 | G10: =IF($E$5="Sites","",SUMIFS(BDD!$E:$E,BDD!$F:$F,Par_site!$E$5,BDD!$D:$D,Par_site!$B10,BDD!$C:$C,Par_site!G$7,BDD!$B:$B,Par_site!$C10)) -> 38 | H10: =IF($E$5="Sites","",SUMIFS(BDD!$E:$E,BDD!$F:$F,Par_site!$E$5,BDD!$D:$D,Par_site!$B10,BDD!$C:$C,Par_site!H$7,BDD!$B:$B,Par_site!$C10)) -> 27
B11: =D10 -> Noir | C11: B | E11: =IF($E$5="Sites","",SUMIFS(BDD!$E:$E,BDD!$F:$F,Par_site!$E$5,BDD!$D:$D,Par_site!$B11,BDD!$C:$C,Par_site!E$7,BDD!$B:$B,Par_site!$C11)) -> 12 | F11: =IF($E$5="Sites","",SUMIFS(BDD!$E:$E,BDD!$F:$F,Par_site!$E$5,BDD!$D:$D,Par_site!$B11,BDD!$C:$C,Par_site!F$7,BDD!$B:$B,Par_site!$C11)) -> 0 | G11: =IF($E$5="Sites","",SUMIFS(BDD!$E:$E,BDD!$F:$F,Par_site!$E$5,BDD!$D:$D,Par_site!$B11,BDD!$C:$C,Par_site!G$7,BDD!$B:$B,Par_site!$C11)) -> 14 | H11: =IF($E$5="Sites","",SUMIFS(BDD!$E:$E,BDD!$F:$F,Par_site!$E$5,BDD!$D:$D,Par_site!$B11,BDD!$C:$C,Par_site!H$7,BDD!$B:$B,Par_site!$C11)) -> 10
B12: =D12 -> Violet | C12: R | D12: Violet | E12: =IF($E$5="Sites","",SUMIFS(BDD!$E:$E,BDD!$F:$F,Par_site!$E$5,BDD!$D:$D,Par_site!$B12,BDD!$C:$C,Par_site!E$7,BDD!$B:$B,Par_site!$C12)) -> 14 | F12: =IF($E$5="Sites","",SUMIFS(BDD!$E:$E,BDD!$F:$F,Par_site!$E$5,BDD!$D:$D,Par_site!$B12,BDD!$C:$C,Par_site!F$7,BDD!$B:$B,Par_site!$C12)) -> 0 | G12: =IF($E$5="Sites","",SUMIFS(BDD!$E:$E,BDD!$F:$F,Par_site!$E$5,BDD!$D:$D,Par_site!$B12,BDD!$C:$C,Par_site!G$7,BDD!$B:$B,Par_site!$C12)) -> 30 | H12: =IF($E$5="Sites","",SUMIFS(BDD!$E:$E,BDD!$F:$F,Par_site!$E$5,BDD!$D:$D,Par_site!$B12,BDD!$C:$C,Par_site!H$7,BDD!$B:$B,Par_site!$C12)) -> 0
B13: =D12 -> Violet | C13: B | E13: =IF($E$5="Sites","",SUMIFS(BDD!$E:$E,BDD!$F:$F,Par_site!$E$5,BDD!$D:$D,Par_site!$B13,BDD!$C:$C,Par_site!E$7,BDD!$B:$B,Par_site!$C13)) -> 0 | F13: =IF($E$5="Sites","",SUMIFS(BDD!$E:$E,BDD!$F:$F,Par_site!$E$5,BDD!$D:$D,Par_site!$B13,BDD!$C:$C,Par_site!F$7,BDD!$B:$B,Par_site!$C13)) -> 42 | G13: =IF($E$5="Sites","",SUMIFS(BDD!$E:$E,BDD!$F:$F,Par_site!$E$5,BDD!$D:$D,Par_site!$B13,BDD!$C:$C,Par_site!G$7,BDD!$B:$B,Par_site!$C13)) -> 12 | H13: =IF($E$5="Sites","",SUMIFS(BDD!$E:$E,BDD!$F:$F,Par_site!$E$5,BDD!$D:$D,Par_site!$B13,BDD!$C:$C,Par_site!H$7,BDD!$B:$B,Par_site!$C13)) -> 38

Sheet BESOIN
B5: Ce que je cherche à faire :
B6: J'aimerais deux macros :
B8: 1) Une qui crée mes fichiers "Récap sites" par opérationnels / responsables
B9: Crée autant de fichiers que j'ai d'opérationnels dans mon mapping (selon les noms de fichiers en colonne E)
B10: Dans chaque fichiers qu'il y mette ma feuille "Intro" en copié collé valeurs et format
B11: Qu'il mette également autant de feuilles que l'opérationnel a de sites (Exemple : Marie a 20 sites, elle aura 20 feuilles dans son fichier, voir Mapping colonnes K et L)
B12: Et que dans la feuille "Par site", il vienne en E5 remplir chaque nom de site, copier toute la feuille, et la coller (en valeur + format) dans le fichier de l'opérationnel correspondant
B14: Et donc me retrouver avec un fichier par opérationnel dans lequel j'ai ma feuille d'intro, et chacun de leurs sites (1 par feuille)
B15: J'aimerais que les fichiers se trouve au même endroit sur le réseau que là où sera mon fichier de travail, s'il faut que je mette ce lien quelque part dans le fichier c'est ok aussi
B18: 2) Une macro qui vienne récupérer la version la plus récente de chaque fichier (s'il ne trouve pas de fichier à son nom, qu'il ignore cet opérationnel et me le dise à la fin, exemple "Aucun fichier pour X trouvé, mail non envoyé")
B19: et qui envoie à chaque personne un mail (outlook) avec son fichier le plus récent joint, et les personnes en copie (s'il y en a) ajoutées.
B20: Un message final "X mails envoyés"

Sheet Macro
B12: Lise des opérationnels à qui envoyer le mail :
B13: PiJ
B14: ClM
B16: Cette liste ne sera pas liée à celle des fichiers à créer, elles sont indépendantes

Sheet Intro
B5: Explications pour l'opérationnel
