Workbook
Name Accompagnements: '[1]Liste FT'!$C$3:$C$402
Name Classes: 'Parametrage base'!$D$15:$D$30
Name COL_SEM_1: 'Parametrage base'!$AJ$5
Name COL_SEM_2: 'Parametrage base'!$AK$5
Name Désserts: '[2]Liste FT'!$E$3:$E$402
Name Entrée: '[2]Liste FT'!$A$3:$A$402
Name Entrées: '[1]Liste FT'!$A$3:$A$402
Name extract: OFFSET([3]Parametrage!$AH$3,,,COUNT([3]Parametrage!$AH$3:$AH$337))
Name extract: OFFSET([3]Parametrage!$AH$3,,,COUNT([3]Parametrage!$AH$3:$AH$337))
Name extract: OFFSET(Parametrage!$AH$3,,,COUNT(Parametrage!$AH$3:$AH$337))
Name feries: Calendrier!$AN$3:$AO$15
Name feries: [3]Calendrier!$AN$3:$AO$15
Name Fromages: '[2]Liste FT'!$D$3:$D$402
Name Garnitures: '[2]Liste FT'!$C$3:$C$402
Name Jours: [2]Ingrédients!$A$505:$A$513
Name Modalités: [2]Devis!$T$2:$T$10
Name Modulation: [2]Ingrédients!$B$505:$B$517
Name Plats: '[2]Liste FT'!$B$3:$B$402
Name Plats_protidiques: '[1]Liste FT'!$B$3:$B$402
Name Profs: 'Parametrage base'!$E$15:$E$24
Name Recettes: '[2]Fiches techniques'!$A$407:$A$2406
Name semaine: Parametrage!$AJ$3:$AJ$24
Name semaines: '[3]Parametrage base'!$F$3:$F$48
Name Stockage: '[2]Stock sécurité'!$T$7:$T$23
Name tranche1: [4]Calendrier!$A$3:$A$198
Name tranche2: [4]Calendrier!$U$3:$U$198
Name TVA: [2]Devis!$S$2:$S$10
Name unité: '[2]Stock sécurité'!$U$7:$U$14
Name vacances: [3]Calendrier!$AN$18:$AN$27

Sheet Parametrage base
B2: Infos | C2: dates | D2: Vacances | F2: Numéro de semaine
B3: =+Parametrage!H2 -> Ouverture pédago | C3: =IFERROR(Parametrage!I2,"-") -> 45236 | D3: =+Parametrage!J2 -> Vacances toussaint | E3: =+Parametrage!K2 -> 43 | F3: 35 | H3: PFMP1 | J3: N°sem | K3: PFMP1 | M3: N°sem | N3: PFMP1 | P3: N°sem | Q3: PFMP1 | S3: N°sem | T3: PFMP1 | V3: N°sem | W3: PFMP1 | Y3: N°sem | Z3: PFMP1 | AB3: N°sem | AC3: PFMP1 | AE3: N°sem | AF3: PFMP1 | AH3: N°sem | AJ3: Colonnes semaines du calendrier
B4: =+Parametrage!H3 -> Ouverture Application | C4: =+Parametrage!I3 -> 45187 | D4: =+Parametrage!J3 -> Vacances toussaint | E4: =+Parametrage!K3 -> 44 | F4: 36 | H4: PFMP 1cuis | I4: S1 | J4: =+Parametrage!C121 -> 49 | K4: PFMP Tcuis | L4: S1 | M4: =+Parametrage!C138 -> 2 | N4: PFMP 2pro1 | O4: S1 | P4: =+Parametrage!C19 -> 48 | Q4: PFMP 2pro2 | R4: S1 | S4: =+Parametrage!C36 -> 48 | T4: PFMP 1pro1 | U4: S1 | V4: =+Parametrage!C53 -> 10 | W4: PFMP 1pro2 | X4: S1 | Y4: =+Parametrage!C70 -> 10 | Z4: PFMP Tpro1 | AA4: S1 | AB4: =+Parametrage!C87 -> 36 | AC4: PFMP Tpro2 | AD4: S1 | AE4: =+Parametrage!C104 -> 36 | AF4: PFMP MCCDR | AG4: S1 | AH4: =+Parametrage!C155 -> 40 | AJ4: 1ère colonne des mois | AK4: 2ème colonne des mois
B5: =+Parametrage!H4 -> Remontée des notes | C5: =+Parametrage!I4 -> 45443 | D5: =+Parametrage!J4 -> Vacances Noël | E5: =+Parametrage!K4 -> 52 | F5: 37 | H5: PFMP 1cuis | I5: S2 | J5: =+Parametrage!C122 -> 50 | K5: PFMP Tcuis | L5: S2 | M5: =+Parametrage!C139 -> 3 | N5: PFMP 2pro1 | O5: S2 | P5: =+Parametrage!C20 -> 49 | Q5: PFMP 2pro2 | R5: S2 | S5: =+Parametrage!C37 -> 49 | T5: PFMP 1pro1 | U5: S2 | V5: =+Parametrage!C54 -> 11 | W5: PFMP 1pro2 | X5: S2 | Y5: =+Parametrage!C71 -> 11 | Z5: PFMP Tpro1 | AA5: S2 | AB5: =+Parametrage!C88 -> 37 | AC5: PFMP Tpro2 | AD5: S2 | AE5: =+Parametrage!C105 -> 37 | AF5: PFMP MCCDR | AG5: S2 | AH5: =+Parametrage!C156 -> 41 | AJ5: 1 | AK5: 21
B6: =+Parametrage!H5 -> 0 | C6: =+Parametrage!I5 -> 0 | D6: =+Parametrage!J5 -> Vacances Noël | E6: =+Parametrage!K5 -> 1 | F6: 38 | H6: PFMP 1cuis | I6: S3 | J6: =+Parametrage!C123 -> 51 | K6: PFMP Tcuis | L6: S3 | M6: =+Parametrage!C140 -> 4 | N6: PFMP 2pro1 | O6: S3 | P6: =+Parametrage!C21 -> 0 | Q6: PFMP 2pro2 | R6: S3 | S6: =+Parametrage!C38 -> 0 | T6: PFMP 1pro1 | U6: S3 | V6: =+Parametrage!C55 -> 12 | W6: PFMP 1pro2 | X6: S3 | Y6: =+Parametrage!C72 -> 12 | Z6: PFMP Tpro1 | AA6: S3 | AB6: =+Parametrage!C89 -> 38 | AC6: PFMP Tpro2 | AD6: S3 | AE6: =+Parametrage!C106 -> 38 | AF6: PFMP MCCDR | AG6: S3 | AH6: =+Parametrage!C157 -> 42
B7: =+Parametrage!H6 -> 0 | C7: =+Parametrage!I6 -> 0 | D7: =+Parametrage!J6 -> Vacances Hiver | E7: =+Parametrage!K6 -> 8 | F7: 39 | H7: PFMP 1cuis | I7: S4 | J7: =+Parametrage!C124 -> 0 | K7: PFMP Tcuis | L7: S4 | M7: =+Parametrage!C141 -> 5 | N7: PFMP 2pro1 | O7: S4 | P7: =+Parametrage!C22 -> 0 | Q7: PFMP 2pro2 | R7: S4 | S7: =+Parametrage!C39 -> 0 | T7: PFMP 1pro1 | U7: S4 | V7: =+Parametrage!C56 -> 13 | W7: PFMP 1pro2 | X7: S4 | Y7: =+Parametrage!C73 -> 13 | Z7: PFMP Tpro1 | AA7: S4 | AB7: =+Parametrage!C90 -> 39 | AC7: PFMP Tpro2 | AD7: S4 | AE7: =+Parametrage!C107 -> 39 | AF7: PFMP MCCDR | AG7: S4 | AH7: =+Parametrage!C158 -> 45
B8: =+Parametrage!H7 -> 0 | C8: =+Parametrage!I7 -> 0 | D8: =+Parametrage!J7 -> Vacances Hiver | E8: =+Parametrage!K7 -> 9 | F8: 40 | H8: PFMP 1cuis | I8: S5 | J8: =+Parametrage!C125 -> 0 | K8: PFMP Tcuis | L8: S5 | M8: =+Parametrage!C142 -> 6 | N8: PFMP 2pro1 | O8: S5 | P8: =+Parametrage!C23 -> 0 | Q8: PFMP 2pro2 | R8: S5 | S8: =+Parametrage!C40 -> 0 | T8: PFMP 1pro1 | U8: S5 | V8: =+Parametrage!C57 -> 0 | W8: PFMP 1pro2 | X8: S5 | Y8: =+Parametrage!C74 -> 0 | Z8: PFMP Tpro1 | AA8: S5 | AB8: =+Parametrage!C91 -> 0 | AC8: PFMP Tpro2 | AD8: S5 | AE8: =+Parametrage!C108 -> 0 | AF8: PFMP MCCDR | AG8: S5 | AH8: =+Parametrage!C159 -> 46
B9: =+Parametrage!H8 -> 0 | C9: =+Parametrage!I8 -> 0 | D9: =+Parametrage!J8 -> Vacances printemps | E9: =+Parametrage!K8 -> 16 | F9: 41 | H9: PFMP 1cuis | I9: S6 | J9: =+Parametrage!C126 -> 0 | K9: PFMP Tcuis | L9: S6 | M9: =+Parametrage!C143 -> 7 | N9: PFMP 2pro1 | O9: S6 | P9: =+Parametrage!C24 -> 0 | Q9: PFMP 2pro2 | R9: S6 | S9: =+Parametrage!C41 -> 0 | T9: PFMP 1pro1 | U9: S6 | V9: =+Parametrage!C58 -> 0 | W9: PFMP 1pro2 | X9: S6 | Y9: =+Parametrage!C75 -> 0 | Z9: PFMP Tpro1 | AA9: S6 | AB9: =+Parametrage!C92 -> 0 | AC9: PFMP Tpro2 | AD9: S6 | AE9: =+Parametrage!C109 -> 0 | AF9: PFMP MCCDR | AG9: S6 | AH9: =+Parametrage!C160 -> 47
B10: =+Parametrage!H9 -> 0 | C10: =+Parametrage!I9 -> 0 | D10: =+Parametrage!J9 -> Vacances printemps | E10: =+Parametrage!K9 -> 17 | F10: 42 | H10: PFMP2 | J10: N°sem | K10: PFMP2 | M10: N°sem | N10: PFMP2 | P10: N°sem | Q10: PFMP2 | S10: N°sem | T10: PFMP2 | V10: N°sem | W10: PFMP2 | Y10: N°sem | Z10: PFMP2 | AB10: N°sem | AC10: PFMP2 | AE10: N°sem | AF10: PFMP MCCDR | AG10: S7 | AH10: =+Parametrage!C161 -> 10
B11: =+Parametrage!H10 -> 0 | C11: =+Parametrage!I10 -> 0 | F11: 43 | H11: PFMP 1cuis | I11: S1 | J11: =+Parametrage!C128 -> 24 | K11: PFMP Tcuis | L11: S1 | M11: =+Parametrage!C145 -> 8 | N11: PFMP 2pro1 | O11: S1 | P11: =+Parametrage!C26 -> 24 | Q11: PFMP 2pro2 | R11: S1 | S11: =+Parametrage!C43 -> 24 | T11: PFMP 1pro1 | U11: S1 | V11: =+Parametrage!C60 -> 24 | W11: PFMP 1pro2 | X11: S1 | Y11: =+Parametrage!C77 -> 24 | Z11: PFMP Tpro1 | AA11: S1 | AB11: =+Parametrage!C94 -> 2 | AC11: PFMP Tpro2 | AD11: S1 | AE11: =+Parametrage!C111 -> 45 | AF11: PFMP MCCDR | AG11: S8 | AH11: =+Parametrage!C162 -> 11
B12: =+Parametrage!H11 -> 0 | C12: =+Parametrage!I11 -> 0 | F12: 44 | H12: PFMP 1cuis | I12: S2 | J12: =+Parametrage!C129 -> 25 | K12: PFMP Tcuis | L12: S2 | M12: =+Parametrage!C146 -> 0 | N12: PFMP 2pro1 | O12: S2 | P12: =+Parametrage!C27 -> 25 | Q12: PFMP 2pro2 | R12: S2 | S12: =+Parametrage!C44 -> 25 | T12: PFMP 1pro1 | U12: S2 | V12: =+Parametrage!C61 -> 25 | W12: PFMP 1pro2 | X12: S2 | Y12: =+Parametrage!C78 -> 25 | Z12: PFMP Tpro1 | AA12: S2 | AB12: =+Parametrage!C95 -> 3 | AC12: PFMP Tpro2 | AD12: S2 | AE12: =+Parametrage!C112 -> 46 | AF12: PFMP MCCDR | AG12: S9 | AH12: =+Parametrage!C163 -> 12
B13: =+Parametrage!H12 -> 0 | C13: =+Parametrage!I12 -> 0 | F13: 45 | H13: PFMP 1cuis | I13: S3 | J13: =+Parametrage!C130 -> 26 | K13: PFMP Tcuis | L13: S3 | M13: =+Parametrage!C147 -> 0 | N13: PFMP 2pro1 | O13: S3 | P13: =+Parametrage!C28 -> 26 | Q13: PFMP 2pro2 | R13: S3 | S13: =+Parametrage!C45 -> 26 | T13: PFMP 1pro1 | U13: S3 | V13: =+Parametrage!C62 -> 26 | W13: PFMP 1pro2 | X13: S3 | Y13: =+Parametrage!C79 -> 26 | Z13: PFMP Tpro1 | AA13: S3 | AB13: =+Parametrage!C96 -> 4 | AC13: PFMP Tpro2 | AD13: S3 | AE13: =+Parametrage!C113 -> 47 | AF13: PFMP MCCDR | AG13: S10 | AH13: =+Parametrage!C164 -> 13
B14: =+Parametrage!H13 -> 0 | C14: =+Parametrage!I13 -> 0 | D14: Classes | E14: Profs | F14: 46 | H14: PFMP 1cuis | I14: S4 | J14: =+Parametrage!C131 -> 27 | K14: PFMP Tcuis | L14: S4 | M14: =+Parametrage!C148 -> 0 | N14: PFMP 2pro1 | O14: S4 | P14: =+Parametrage!C29 -> 27 | Q14: PFMP 2pro2 | R14: S4 | S14: =+Parametrage!C46 -> 27 | T14: PFMP 1pro1 | U14: S4 | V14: =+Parametrage!C63 -> 27 | W14: PFMP 1pro2 | X14: S4 | Y14: =+Parametrage!C80 -> 27 | Z14: PFMP Tpro1 | AA14: S4 | AB14: =+Parametrage!C97 -> 5 | AC14: PFMP Tpro2 | AD14: S4 | AE14: =+Parametrage!C114 -> 48 | AF14: PFMP MCCDR | AG14: S11 | AH14: =+Parametrage!C165 -> 20
B15: =+Parametrage!H14 -> 0 | C15: =+Parametrage!I14 -> 0 | D15: 2 STHR | E15: Voisin | F15: 47 | H15: PFMP 1cuis | I15: S5 | J15: =+Parametrage!C132 -> 0 | K15: PFMP Tcuis | L15: S5 | M15: =+Parametrage!C149 -> 0 | N15: PFMP 2pro1 | O15: S5 | P15: =+Parametrage!C30 -> 0 | Q15: PFMP 2pro2 | R15: S5 | S15: =+Parametrage!C47 -> 0 | T15: PFMP 1pro1 | U15: S5 | V15: =+Parametrage!C64 -> 0 | W15: PFMP 1pro2 | X15: S5 | Y15: =+Parametrage!C81 -> 0 | Z15: PFMP Tpro1 | AA15: S5 | AB15: =+Parametrage!C98 -> 0 | AC15: PFMP Tpro2 | AD15: S5 | AE15: =+Parametrage!C115 -> 0 | AF15: PFMP MCCDR | AG15: S12 | AH15: =+Parametrage!C166 -> 21
D16: 1 STHR | E16: Kalinovski | F16: 48 | H16: PFMP 1cuis | I16: S6 | J16: =+Parametrage!C133 -> 0 | K16: PFMP Tcuis | L16: S6 | M16: =+Parametrage!C150 -> 0 | N16: PFMP 2pro1 | O16: S6 | P16: =+Parametrage!C31 -> 0 | Q16: PFMP 2pro2 | R16: S6 | S16: =+Parametrage!C48 -> 0 | T16: PFMP 1pro1 | U16: S6 | V16: =+Parametrage!C65 -> 0 | W16: PFMP 1pro2 | X16: S6 | Y16: =+Parametrage!C82 -> 0 | Z16: PFMP Tpro1 | AA16: S6 | AB16: =+Parametrage!C99 -> 0 | AC16: PFMP Tpro2 | AD16: S6 | AE16: =+Parametrage!C116 -> 0 | AF16: PFMP MCCDR | AG16: S13 | AH16: =+Parametrage!C167 -> 0
A17: Année | B17: =+Parametrage!C1 -> 2023 | D17: T STHR | E17: Catherine | F17: 49
D18: 1 BTS | E18: Ganon | F18: 50
A19: Jour férié | C19: Dates | D19: 2 BTS | E19: Portoles | F19: 51
A20: Jour de l'an | B20: Férié | C20: =+DATE($B$17,1,1) -> 44927 | D20: 2 PRO 1 | E20: Hennard | F20: 52
A21: Pâques | B21: Férié | C21: =FLOOR(DAY(MINUTE($B$17/38)/2+56)&"/5/"&$B$17,7)-34 -> 45025 | D21: 2 PRO 2 | E21: Soilly | F21: 53
A22: Lundi de pâques | B22: Férié | C22: =+C21+1 -> 45026 | D22: 1 PRO 1 | F22: 1
A23: Fête deu travail | B23: Férié | C23: =DATE($B$17,5,1) -> 45047 | D23: 1 PRO2 | F23: 2
A24: Armistice 39/45 | B24: Férié | C24: =DATE($B$17,5,8) -> 45054 | D24: T PRO 1 | F24: 3
A25: Ascension | B25: Férié | C25: =C21 + 39 -> 45064 | D25: T PRO 2 | F25: 4
A26: Pentecôte | B26: Férié | C26: =C21 + 49 -> 45074 | D26: 1 CAP | F26: 5
A27: Lundi de Pentecôte | B27: Férié | C27: =C21 + 50 -> 45075 | D27: T CAP | F27: 6
A28: Fête nationale | B28: Férié | C28: =DATE($B$17,7,14) -> 45121 | F28: 7
A29: Asomption | B29: Férié | C29: =+DATE($B$17,8,15) -> 45153 | F29: 8
A30: Toussaint | B30: Férié | C30: =DATE($B$17,11,1) -> 45231 | F30: 9
A31: Armistice 14/18 | B31: Férié | C31: =DATE($B$17,11,11) -> 45241 | F31: 10
A32: Noël | B32: Férié | C32: =DATE($B$17,12,25) -> 45285 | F32: 11
F33: 12
A34: Année | B34: =+B17+1 -> 2024 | F34: 13
F35: 14
A36: Jour férié | C36: Dates | F36: 15
A37: Jour de l'an | B37: Férié | C37: =+DATE($B$34,1,1) -> 45292 | F37: 16
A38: Pâques | B38: Férié | C38: =FLOOR(DAY(MINUTE($B$34/38)/2+56)&"/5/"&$B$34,7)-34 -> 45382 | F38: 17
A39: Lundi de pâques | B39: Férié | C39: =+C38+1 -> 45383 | F39: 18
A40: Fête deu travail | B40: Férié | C40: =DATE($B$34,5,1) -> 45413 | F40: 19
A41: Armistice 39/45 | B41: Férié | C41: =DATE($B$34,5,8) -> 45420 | F41: 20
A42: Ascension | B42: Férié | C42: =C38 + 39 -> 45421 | F42: 21
A43: Pentecôte | B43: Férié | C43: =C38 + 49 -> 45431 | F43: 22
A44: Lundi de Pentecôte | B44: Férié | C44: =C38 + 50 -> 45432 | F44: 23
A45: Fête nationale | B45: Férié | C45: =DATE($B$34,7,14) -> 45487 | F45: 24
A46: Asomption | B46: Férié | C46: =+DATE($B$34,8,15) -> 45519 | F46: 25
A47: Toussaint | B47: Férié | C47: =DATE($B$34,11,1) -> 45597 | F47: 26
A48: Armistice 14/18 | B48: Férié | C48: =DATE($B$34,11,11) -> 45607 | F48: 27
A49: Noël | B49: Férié | C49: =DATE($B$34,12,25) -> 45651
B51: Vacances toussaint
B52: Vacances | C52: =DATE($B$17,1,3)-WEEKDAY(DATE($B$17,1,3))-5+(7*$E$3) -> 45222
B53: Vacances | C53: =DATE($B$17,1,3)-WEEKDAY(DATE($B$17,1,3))-4+(7*$E$3) -> 45223
B54: Vacances | C54: =DATE($B$17,1,3)-WEEKDAY(DATE($B$17,1,3))-3+(7*$E$3) -> 45224
B55: Vacances | C55: =DATE($B$17,1,3)-WEEKDAY(DATE($B$17,1,3))-2+(7*$E$3) -> 45225
B56: Vacances | C56: =DATE($B$17,1,3)-WEEKDAY(DATE($B$17,1,3))-1+(7*$E$3) -> 45226
B57: Vacances | C57: =DATE($B$17,1,3)-WEEKDAY(DATE($B$17,1,3))+(7*$E$3) -> 45227
B58: Vacances | C58: =DATE($B$17,1,3)-WEEKDAY(DATE($B$17,1,3))+1+(7*$E$3) -> 45228
B59: Vacances | C59: =DATE($B$17,1,3)-WEEKDAY(DATE($B$17,1,3))-5+(7*$E$4) -> 45229
B60: Vacances | C60: =DATE($B$17,1,3)-WEEKDAY(DATE($B$17,1,3))-4+(7*$E$4) -> 45230
B61: Vacances | C61: =DATE($B$17,1,3)-WEEKDAY(DATE($B$17,1,3))-3+(7*$E$4) -> 45231
B62: Vacances | C62: =DATE($B$17,1,3)-WEEKDAY(DATE($B$17,1,3))-2+(7*$E$4) -> 45232
B63: Vacances | C63: =DATE($B$17,1,3)-WEEKDAY(DATE($B$17,1,3))-1+(7*$E$4) -> 45233
B64: Vacances | C64: =DATE($B$17,1,3)-WEEKDAY(DATE($B$17,1,3))+(7*$E$4) -> 45234
B65: Vacances | C65: =DATE($B$17,1,3)-WEEKDAY(DATE($B$17,1,3))+1+(7*$E$4) -> 45235
B67: Vacances Noel
B68: Vacances | C68: =DATE($B$17,1,3)-WEEKDAY(DATE($B$17,1,3))-5+(7*$E$5) -> 45285
B69: Vacances | C69: =DATE($B$17,1,3)-WEEKDAY(DATE($B$17,1,3))-4+(7*$E$5) -> 45286
B70: Vacances | C70: =DATE($B$17,1,3)-WEEKDAY(DATE($B$17,1,3))-3+(7*$E$5) -> 45287
B71: Vacances | C71: =DATE($B$17,1,3)-WEEKDAY(DATE($B$17,1,3))-2+(7*$E$5) -> 45288
B72: Vacances | C72: =DATE($B$17,1,3)-WEEKDAY(DATE($B$17,1,3))-1+(7*$E$5) -> 45289
B73: Vacances | C73: =DATE($B$17,1,3)-WEEKDAY(DATE($B$17,1,3))+(7*$E$5) -> 45290
B74: Vacances | C74: =DATE($B$17,1,3)-WEEKDAY(DATE($B$17,1,3))+1+(7*$E$5) -> 45291
B75: Vacances | C75: =DATE($B$34,1,3)-WEEKDAY(DATE($B$34,1,3))-5+(7*$E$6) -> 45292
B76: Vacances | C76: =DATE($B$34,1,3)-WEEKDAY(DATE($B$34,1,3))-4+(7*$E$6) -> 45293
B77: Vacances | C77: =DATE($B$34,1,3)-WEEKDAY(DATE($B$34,1,3))-3+(7*$E$6) -> 45294
B78: Vacances | C78: =DATE($B$34,1,3)-WEEKDAY(DATE($B$34,1,3))-2+(7*$E$6) -> 45295
B79: Vacances | C79: =DATE($B$34,1,3)-WEEKDAY(DATE($B$34,1,3))-1+(7*$E$6) -> 45296
B80: Vacances | C80: =DATE($B$34,1,3)-WEEKDAY(DATE($B$34,1,3))+(7*$E$6) -> 45297
B81: Vacances | C81: =DATE($B$34,1,3)-WEEKDAY(DATE($B$34,1,3))+1+(7*$E$6) -> 45298
B83: Vacances Hiver
B84: Vacances | C84: =DATE($B$34,1,3)-WEEKDAY(DATE($B$34,1,3))-5+(7*$E$7) -> 45341
B85: Vacances | C85: =DATE($B$34,1,3)-WEEKDAY(DATE($B$34,1,3))-4+(7*$E$7) -> 45342
B86: Vacances | C86: =DATE($B$34,1,3)-WEEKDAY(DATE($B$34,1,3))-3+(7*$E$7) -> 45343
B87: Vacances | C87: =DATE($B$34,1,3)-WEEKDAY(DATE($B$34,1,3))-2+(7*$E$7) -> 45344
B88: Vacances | C88: =DATE($B$34,1,3)-WEEKDAY(DATE($B$34,1,3))-1+(7*$E$7) -> 45345
B89: Vacances | C89: =DATE($B$34,1,3)-WEEKDAY(DATE($B$34,1,3))+(7*$E$7) -> 45346
B90: Vacances | C90: =DATE($B$34,1,3)-WEEKDAY(DATE($B$34,1,3))+1+(7*$E$7) -> 45347
B91: Vacances | C91: =DATE($B$34,1,3)-WEEKDAY(DATE($B$34,1,3))-5+(7*$E$8) -> 45348
B92: Vacances | C92: =DATE($B$34,1,3)-WEEKDAY(DATE($B$34,1,3))-4+(7*$E$8) -> 45349
B93: Vacances | C93: =DATE($B$34,1,3)-WEEKDAY(DATE($B$34,1,3))-3+(7*$E$8) -> 45350
B94: Vacances | C94: =DATE($B$34,1,3)-WEEKDAY(DATE($B$34,1,3))-2+(7*$E$8) -> 45351
B95: Vacances | C95: =DATE($B$34,1,3)-WEEKDAY(DATE($B$34,1,3))-1+(7*$E$8) -> 45352
B96: Vacances | C96: =DATE($B$34,1,3)-WEEKDAY(DATE($B$34,1,3))+(7*$E$8) -> 45353
B97: Vacances | C97: =DATE($B$34,1,3)-WEEKDAY(DATE($B$34,1,3))+1+(7*$E$8) -> 45354
B99: Vacances Printemps
B100: Vacances | C100: =DATE($B$34,1,3)-WEEKDAY(DATE($B$34,1,3))-5+(7*$E$9) -> 45397
B101: Vacances | C101: =DATE($B$34,1,3)-WEEKDAY(DATE($B$34,1,3))-4+(7*$E$9) -> 45398
B102: Vacances | C102: =DATE($B$34,1,3)-WEEKDAY(DATE($B$34,1,3))-3+(7*$E$9) -> 45399
B103: Vacances | C103: =DATE($B$34,1,3)-WEEKDAY(DATE($B$34,1,3))-2+(7*$E$9) -> 45400
B104: Vacances | C104: =DATE($B$34,1,3)-WEEKDAY(DATE($B$34,1,3))-1+(7*$E$9) -> 45401
B105: Vacances | C105: =DATE($B$34,1,3)-WEEKDAY(DATE($B$34,1,3))+(7*$E$9) -> 45402
...

Sheet Parametrage
A1: Rentrée | C1: 2023 | H1: Infos | I1: dates | J1: Vacances | L1: Application Midi | M1: Prof | N1: Classe | O1: Midi | P1: Nbre couverts | Q1: Pedagogique Midi | R1: Prof | S1: Classe | T1: Midi | U1: Nbre couverts
H2: Ouverture pédago | I2: 45236 | J2: Vacances toussaint | K2: 43 | L2: lundi midi | M2: Hennard | N2: 2 STHR | O2: =+_xlfn.CONCAT(M2," ",N2) -> #NAME? | P2: 10 | Q2: lundi midi | R2: Ganon | S2: 2 STHR | T2: =+_xlfn.CONCAT(R2," ",S2) -> #NAME? | U2: 10 | AH2: extract des semaine du calendrier | AI2: extract des semaine du calendrier | AJ2: sans doubles formule pour XL2007 | AK2: sans doubles formule pour XL2008 | AL2: pour utiliser en liste de choix
H3: Ouverture Application | I3: 45187 | J3: Vacances toussaint | K3: 44 | L3: mardi midi | M3: Ganon | N3: T CAP | O3: =+_xlfn.CONCAT(M3," ",N3) -> #NAME? | P3: 20 | Q3: mardi midi | R3: Ganon | S3: T CAP | T3: =+_xlfn.CONCAT(R3," ",S3) -> #NAME? | U3: 20 | AH3: =IFERROR(SMALL(IF((CHOOSE({1,2},tranche1,tranche2)>=Y$5)*(CHOOSE({1,2},tranche1,tranche2)<=Z$5)=1,CHOOSE({1,2},tranche1,tranche2),""),ROW(X1)),"") | AI3: {=IFERROR(SMALL(IF((CHOOSE({1,2},tranche1,tranche2)>=Y$6)*(CHOOSE({1,2},tranche1,tranche2)<=Z$6)=1,CHOOSE({1,2},tranche1,tranche2),""),ROW(Y1)),"")} -> 4 | AJ3: =IFERROR(OFFSET(AH$2,MATCH(0,COUNTIF(AJ$2:AJ2,extract),0),),"") | AK3: =IFERROR(OFFSET(AI$2,MATCH(0,COUNTIF(AK$2:AK2,extract),0),),"") | AL3: 1 | AM3: =MIN(53,Y$5+ROW(X1)) -> 13
H4: Remontée des notes | I4: 45443 | J4: Vacances Noël | K4: 52 | L4: mercredi midi | M4: Soilly | N4: 1 STHR | O4: =+_xlfn.CONCAT(M4," ",N4) -> #NAME? | P4: 30 | Q4: mercredi midi | R4: Ganon | S4: 1 STHR | T4: =+_xlfn.CONCAT(R4," ",S4) -> #NAME? | U4: 30 | Y4: de | Z4: a | AH4: {=IFERROR(SMALL(IF((CHOOSE({1,2},tranche1,tranche2)>=Y$5)*(CHOOSE({1,2},tranche1,tranche2)<=Z$5)=1,CHOOSE({1,2},tranche1,tranche2),""),ROW(X2)),"")} -> 12 | AI4: {=IFERROR(SMALL(IF((CHOOSE({1,2},tranche1,tranche2)>=Y$6)*(CHOOSE({1,2},tranche1,tranche2)<=Z$6)=1,CHOOSE({1,2},tranche1,tranche2),""),ROW(Y2)),"")} -> 4 | AJ4: {=IFERROR(OFFSET(AH$2,MATCH(0,COUNTIF(AJ$2:AJ3,extract),0),),"")} -> 12 | AK4: {=IFERROR(OFFSET(AI$2,MATCH(0,COUNTIF(AK$2:AK3,extract),0),),"")} -> 4 | AL4: =AL3+1 -> 2 | AM4: =MIN(53,Y$5+ROW(X2)) -> 14
J5: Vacances Noël | K5: 1 | L5: jeudi midi | M5: Ganon | N5: 1 PRO2 | O5: =+_xlfn.CONCAT(M5," ",N5) -> #NAME? | P5: 40 | Q5: jeudi midi | R5: Ganon | S5: 1 PRO2 | T5: =+_xlfn.CONCAT(R5," ",S5) -> #NAME? | U5: 40 | X5: Semaine période 1 | Y5: 12 | Z5: 20 | AH5: {=IFERROR(SMALL(IF((CHOOSE({1,2},tranche1,tranche2)>=Y$5)*(CHOOSE({1,2},tranche1,tranche2)<=Z$5)=1,CHOOSE({1,2},tranche1,tranche2),""),ROW(X3)),"")} -> 12 | AI5: {=IFERROR(SMALL(IF((CHOOSE({1,2},tranche1,tranche2)>=Y$6)*(CHOOSE({1,2},tranche1,tranche2)<=Z$6)=1,CHOOSE({1,2},tranche1,tranche2),""),ROW(Y3)),"")} -> 4 | AJ5: {=IFERROR(OFFSET(AH$2,MATCH(0,COUNTIF(AJ$2:AJ4,extract),0),),"")} -> 13 | AK5: {=IFERROR(OFFSET(AI$2,MATCH(0,COUNTIF(AK$2:AK4,extract),0),),"")} -> 4 | AL5: =AL4+1 -> 3 | AM5: =MIN(53,Y$5+ROW(X3)) -> 15
J6: Vacances Hiver | K6: 8 | L6: vendredi midi | M6: Voisin | N6: 1 PRO 1 | O6: =+_xlfn.CONCAT(M6," ",N6) -> #NAME? | P6: 50 | Q6: vendredi midi | R6: Ganon | S6: 1 PRO 1 | T6: =+_xlfn.CONCAT(R6," ",S6) -> #NAME? | U6: 50 | X6: Semaine période 2 | Y6: 4 | Z6: 6 | AH6: {=IFERROR(SMALL(IF((CHOOSE({1,2},tranche1,tranche2)>=Y$5)*(CHOOSE({1,2},tranche1,tranche2)<=Z$5)=1,CHOOSE({1,2},tranche1,tranche2),""),ROW(X4)),"")} -> 12 | AI6: {=IFERROR(SMALL(IF((CHOOSE({1,2},tranche1,tranche2)>=Y$6)*(CHOOSE({1,2},tranche1,tranche2)<=Z$6)=1,CHOOSE({1,2},tranche1,tranche2),""),ROW(Y4)),"")} -> 4 | AJ6: {=IFERROR(OFFSET(AH$2,MATCH(0,COUNTIF(AJ$2:AJ5,extract),0),),"")} -> 18 | AK6: {=IFERROR(OFFSET(AI$2,MATCH(0,COUNTIF(AK$2:AK5,extract),0),),"")} -> 4 | AL6: =AL5+1 -> 4 | AM6: =MIN(53,Y$5+ROW(X4)) -> 16
J7: Vacances Hiver | K7: 9 | L7: Application soir | M7: Prof | N7: Classe | O7: Soir | P7: Nbre couverts | AH7: {=IFERROR(SMALL(IF((CHOOSE({1,2},tranche1,tranche2)>=Y$5)*(CHOOSE({1,2},tranche1,tranche2)<=Z$5)=1,CHOOSE({1,2},tranche1,tranche2),""),ROW(X5)),"")} -> 12 | AI7: {=IFERROR(SMALL(IF((CHOOSE({1,2},tranche1,tranche2)>=Y$6)*(CHOOSE({1,2},tranche1,tranche2)<=Z$6)=1,CHOOSE({1,2},tranche1,tranche2),""),ROW(Y5)),"")} -> 4 | AJ7: {=IFERROR(OFFSET(AH$2,MATCH(0,COUNTIF(AJ$2:AJ6,extract),0),),"")} -> 19 | AK7: {=IFERROR(OFFSET(AI$2,MATCH(0,COUNTIF(AK$2:AK6,extract),0),),"")} -> 4 | AL7: =AL6+1 -> 5 | AM7: =MIN(53,Y$5+ROW(X5)) -> 17
J8: Vacances printemps | K8: 16 | L8: lundi soir | M8: Hennard | N8: T CAP | O8: =+_xlfn.CONCAT(M8," ",N8) -> #NAME? | P8: 2 | AH8: {=IFERROR(SMALL(IF((CHOOSE({1,2},tranche1,tranche2)>=Y$5)*(CHOOSE({1,2},tranche1,tranche2)<=Z$5)=1,CHOOSE({1,2},tranche1,tranche2),""),ROW(X6)),"")} -> 12 | AI8: {=IFERROR(SMALL(IF((CHOOSE({1,2},tranche1,tranche2)>=Y$6)*(CHOOSE({1,2},tranche1,tranche2)<=Z$6)=1,CHOOSE({1,2},tranche1,tranche2),""),ROW(Y6)),"")} -> 4 | AJ8: {=IFERROR(OFFSET(AH$2,MATCH(0,COUNTIF(AJ$2:AJ7,extract),0),),"")} -> 20 | AK8: {=IFERROR(OFFSET(AI$2,MATCH(0,COUNTIF(AK$2:AK7,extract),0),),"")} -> 4 | AL8: =AL7+1 -> 6 | AM8: =MIN(53,Y$5+ROW(X6)) -> 18
J9: Vacances printemps | K9: 17 | L9: mardi soir | M9: Catherine | N9: T PRO 1 | O9: =+_xlfn.CONCAT(M9," ",N9) -> #NAME? | P9: 200 | AH9: {=IFERROR(SMALL(IF((CHOOSE({1,2},tranche1,tranche2)>=Y$5)*(CHOOSE({1,2},tranche1,tranche2)<=Z$5)=1,CHOOSE({1,2},tranche1,tranche2),""),ROW(X7)),"")} -> 12 | AI9: {=IFERROR(SMALL(IF((CHOOSE({1,2},tranche1,tranche2)>=Y$6)*(CHOOSE({1,2},tranche1,tranche2)<=Z$6)=1,CHOOSE({1,2},tranche1,tranche2),""),ROW(Y7)),"")} -> 4 | AJ9: {=IFERROR(OFFSET(AH$2,MATCH(0,COUNTIF(AJ$2:AJ8,extract),0),),"")} | AK9: {=IFERROR(OFFSET(AI$2,MATCH(0,COUNTIF(AK$2:AK8,extract),0),),"")} -> 4 | AL9: =AL8+1 -> 7 | AM9: =MIN(53,Y$5+ROW(X7)) -> 19
L10: mercredi soir | O10: =+_xlfn.CONCAT(M10," ",N10) -> #NAME? | AH10: {=IFERROR(SMALL(IF((CHOOSE({1,2},tranche1,tranche2)>=Y$5)*(CHOOSE({1,2},tranche1,tranche2)<=Z$5)=1,CHOOSE({1,2},tranche1,tranche2),""),ROW(X8)),"")} -> 13 | AI10: {=IFERROR(SMALL(IF((CHOOSE({1,2},tranche1,tranche2)>=Y$6)*(CHOOSE({1,2},tranche1,tranche2)<=Z$6)=1,CHOOSE({1,2},tranche1,tranche2),""),ROW(Y8)),"")} -> 5 | AJ10: {=IFERROR(OFFSET(AH$2,MATCH(0,COUNTIF(AJ$2:AJ9,extract),0),),"")} | AK10: {=IFERROR(OFFSET(AI$2,MATCH(0,COUNTIF(AK$2:AK9,extract),0),),"")} -> 4 | AL10: =AL9+1 -> 8 | AM10: =MIN(53,Y$5+ROW(X8)) -> 20
L11: jeudi soir | O11: =+_xlfn.CONCAT(M11," ",N11) -> #NAME? | AH11: {=IFERROR(SMALL(IF((CHOOSE({1,2},tranche1,tranche2)>=Y$5)*(CHOOSE({1,2},tranche1,tranche2)<=Z$5)=1,CHOOSE({1,2},tranche1,tranche2),""),ROW(X9)),"")} -> 13 | AI11: {=IFERROR(SMALL(IF((CHOOSE({1,2},tranche1,tranche2)>=Y$6)*(CHOOSE({1,2},tranche1,tranche2)<=Z$6)=1,CHOOSE({1,2},tranche1,tranche2),""),ROW(Y9)),"")} -> 5 | AJ11: {=IFERROR(OFFSET(AH$2,MATCH(0,COUNTIF(AJ$2:AJ10,extract),0),),"")} | AK11: {=IFERROR(OFFSET(AI$2,MATCH(0,COUNTIF(AK$2:AK10,extract),0),),"")} -> 4 | AL11: =AL10+1 -> 9 | AM11: =MIN(53,Y$5+ROW(X9)) -> 21
L12: vendredi soir | M12: Portoles | N12: 1 PRO2 | O12: =+_xlfn.CONCAT(M12," ",N12) -> #NAME? | AH12: {=IFERROR(SMALL(IF((CHOOSE({1,2},tranche1,tranche2)>=Y$5)*(CHOOSE({1,2},tranche1,tranche2)<=Z$5)=1,CHOOSE({1,2},tranche1,tranche2),""),ROW(X10)),"")} -> 13 | AI12: {=IFERROR(SMALL(IF((CHOOSE({1,2},tranche1,tranche2)>=Y$6)*(CHOOSE({1,2},tranche1,tranche2)<=Z$6)=1,CHOOSE({1,2},tranche1,tranche2),""),ROW(Y10)),"")} -> 5 | AJ12: {=IFERROR(OFFSET(AH$2,MATCH(0,COUNTIF(AJ$2:AJ11,extract),0),),"")} | AK12: {=IFERROR(OFFSET(AI$2,MATCH(0,COUNTIF(AK$2:AK11,extract),0),),"")} -> 4 | AL12: =AL11+1 -> 10 | AM12: =MIN(53,Y$5+ROW(X10)) -> 22
AH13: {=IFERROR(SMALL(IF((CHOOSE({1,2},tranche1,tranche2)>=Y$5)*(CHOOSE({1,2},tranche1,tranche2)<=Z$5)=1,CHOOSE({1,2},tranche1,tranche2),""),ROW(X11)),"")} -> 13 | AI13: {=IFERROR(SMALL(IF((CHOOSE({1,2},tranche1,tranche2)>=Y$6)*(CHOOSE({1,2},tranche1,tranche2)<=Z$6)=1,CHOOSE({1,2},tranche1,tranche2),""),ROW(Y11)),"")} | AJ13: {=IFERROR(OFFSET(AH$2,MATCH(0,COUNTIF(AJ$2:AJ12,extract),0),),"")} | AK13: {=IFERROR(OFFSET(AI$2,MATCH(0,COUNTIF(AK$2:AK12,extract),0),),"")} -> 4 | AL13: =AL12+1 -> 11 | AM13: =MIN(53,Y$5+ROW(X11)) -> 23
AH14: {=IFERROR(SMALL(IF((CHOOSE({1,2},tranche1,tranche2)>=Y$5)*(CHOOSE({1,2},tranche1,tranche2)<=Z$5)=1,CHOOSE({1,2},tranche1,tranche2),""),ROW(X12)),"")} -> 13 | AI14: {=IFERROR(SMALL(IF((CHOOSE({1,2},tranche1,tranche2)>=Y$6)*(CHOOSE({1,2},tranche1,tranche2)<=Z$6)=1,CHOOSE({1,2},tranche1,tranche2),""),ROW(Y12)),"")} | AJ14: {=IFERROR(OFFSET(AH$2,MATCH(0,COUNTIF(AJ$2:AJ13,extract),0),),"")} | AK14: {=IFERROR(OFFSET(AI$2,MATCH(0,COUNTIF(AK$2:AK13,extract),0),),"")} -> 4 | AL14: =AL13+1 -> 12 | AM14: =MIN(53,Y$5+ROW(X12)) -> 24
AH15: {=IFERROR(SMALL(IF((CHOOSE({1,2},tranche1,tranche2)>=Y$5)*(CHOOSE({1,2},tranche1,tranche2)<=Z$5)=1,CHOOSE({1,2},tranche1,tranche2),""),ROW(X13)),"")} -> 13 | AI15: {=IFERROR(SMALL(IF((CHOOSE({1,2},tranche1,tranche2)>=Y$6)*(CHOOSE({1,2},tranche1,tranche2)<=Z$6)=1,CHOOSE({1,2},tranche1,tranche2),""),ROW(Y13)),"")} | AJ15: {=IFERROR(OFFSET(AH$2,MATCH(0,COUNTIF(AJ$2:AJ14,extract),0),),"")} | AK15: {=IFERROR(OFFSET(AI$2,MATCH(0,COUNTIF(AK$2:AK14,extract),0),),"")} -> 4 | AL15: =AL14+1 -> 13 | AM15: =MIN(53,Y$5+ROW(X13)) -> 25
A16: 2pro1 | AH16: {=IFERROR(SMALL(IF((CHOOSE({1,2},tranche1,tranche2)>=Y$5)*(CHOOSE({1,2},tranche1,tranche2)<=Z$5)=1,CHOOSE({1,2},tranche1,tranche2),""),ROW(X14)),"")} -> 13 | AI16: {=IFERROR(SMALL(IF((CHOOSE({1,2},tranche1,tranche2)>=Y$6)*(CHOOSE({1,2},tranche1,tranche2)<=Z$6)=1,CHOOSE({1,2},tranche1,tranche2),""),ROW(Y14)),"")} | AJ16: {=IFERROR(OFFSET(AH$2,MATCH(0,COUNTIF(AJ$2:AJ15,extract),0),),"")} | AK16: {=IFERROR(OFFSET(AI$2,MATCH(0,COUNTIF(AK$2:AK15,extract),0),),"")} -> 4 | AL16: =AL15+1 -> 14 | AM16: =MIN(53,Y$5+ROW(X14)) -> 26
H17: Modalités CCF | AH17: {=IFERROR(SMALL(IF((CHOOSE({1,2},tranche1,tranche2)>=Y$5)*(CHOOSE({1,2},tranche1,tranche2)<=Z$5)=1,CHOOSE({1,2},tranche1,tranche2),""),ROW(X15)),"")} -> 18 | AI17: {=IFERROR(SMALL(IF((CHOOSE({1,2},tranche1,tranche2)>=Y$6)*(CHOOSE({1,2},tranche1,tranche2)<=Z$6)=1,CHOOSE({1,2},tranche1,tranche2),""),ROW(Y15)),"")} | AJ17: {=IFERROR(OFFSET(AH$2,MATCH(0,COUNTIF(AJ$2:AJ16,extract),0),),"")} | AK17: {=IFERROR(OFFSET(AI$2,MATCH(0,COUNTIF(AK$2:AK16,extract),0),),"")} -> 4 | AL17: =AL16+1 -> 15 | AM17: =MIN(53,Y$5+ROW(X15)) -> 27
A18: PFMP1 | C18: N°sem | D18: Vie de classe | F18: Date | G18: CCF | H18: Date | I18: Points de vigilances | J18: Date | K18: Autre | L18: Date | AH18: {=IFERROR(SMALL(IF((CHOOSE({1,2},tranche1,tranche2)>=Y$5)*(CHOOSE({1,2},tranche1,tranche2)<=Z$5)=1,CHOOSE({1,2},tranche1,tranche2),""),ROW(X16)),"")} -> 18 | AI18: {=IFERROR(SMALL(IF((CHOOSE({1,2},tranche1,tranche2)>=Y$6)*(CHOOSE({1,2},tranche1,tranche2)<=Z$6)=1,CHOOSE({1,2},tranche1,tranche2),""),ROW(Y16)),"")} | AJ18: {=IFERROR(OFFSET(AH$2,MATCH(0,COUNTIF(AJ$2:AJ17,extract),0),),"")} | AK18: {=IFERROR(OFFSET(AI$2,MATCH(0,COUNTIF(AK$2:AK17,extract),0),),"")} -> 4 | AL18: =AL17+1 -> 16 | AM18: =MIN(53,Y$5+ROW(X16)) -> 28
A19: PFMP 2pro1 | B19: S1 | C19: 48 | D19: CC 2pro1 | E19: 1 | I19: Retour convention 2pro1 | AH19: {=IFERROR(SMALL(IF((CHOOSE({1,2},tranche1,tranche2)>=Y$5)*(CHOOSE({1,2},tranche1,tranche2)<=Z$5)=1,CHOOSE({1,2},tranche1,tranche2),""),ROW(X17)),"")} -> 18 | AI19: {=IFERROR(SMALL(IF((CHOOSE({1,2},tranche1,tranche2)>=Y$6)*(CHOOSE({1,2},tranche1,tranche2)<=Z$6)=1,CHOOSE({1,2},tranche1,tranche2),""),ROW(Y17)),"")} | AJ19: {=IFERROR(OFFSET(AH$2,MATCH(0,COUNTIF(AJ$2:AJ18,extract),0),),"")} | AK19: {=IFERROR(OFFSET(AI$2,MATCH(0,COUNTIF(AK$2:AK18,extract),0),),"")} -> 4 | AL19: =AL18+1 -> 17 | AM19: =MIN(53,Y$5+ROW(X17)) -> 29
A20: PFMP 2pro1 | B20: S2 | C20: 49 | D20: CC 2pro1 | E20: 2 | I20: Retour convention 2pro1 | AH20: {=IFERROR(SMALL(IF((CHOOSE({1,2},tranche1,tranche2)>=Y$5)*(CHOOSE({1,2},tranche1,tranche2)<=Z$5)=1,CHOOSE({1,2},tranche1,tranche2),""),ROW(X18)),"")} -> 18 | AI20: {=IFERROR(SMALL(IF((CHOOSE({1,2},tranche1,tranche2)>=Y$6)*(CHOOSE({1,2},tranche1,tranche2)<=Z$6)=1,CHOOSE({1,2},tranche1,tranche2),""),ROW(Y18)),"")} | AJ20: {=IFERROR(OFFSET(AH$2,MATCH(0,COUNTIF(AJ$2:AJ19,extract),0),),"")} | AK20: {=IFERROR(OFFSET(AI$2,MATCH(0,COUNTIF(AK$2:AK19,extract),0),),"")} -> 4 | AL20: =AL19+1 -> 18 | AM20: =MIN(53,Y$5+ROW(X18)) -> 30
A21: PFMP 2pro1 | B21: S3 | D21: CC 2pro1 | E21: 3 | I21: Préparation conseil 2pro1 | AH21: {=IFERROR(SMALL(IF((CHOOSE({1,2},tranche1,tranche2)>=Y$5)*(CHOOSE({1,2},tranche1,tranche2)<=Z$5)=1,CHOOSE({1,2},tranche1,tranche2),""),ROW(X19)),"")} -> 18 | AI21: {=IFERROR(SMALL(IF((CHOOSE({1,2},tranche1,tranche2)>=Y$6)*(CHOOSE({1,2},tranche1,tranche2)<=Z$6)=1,CHOOSE({1,2},tranche1,tranche2),""),ROW(Y19)),"")} | AJ21: {=IFERROR(OFFSET(AH$2,MATCH(0,COUNTIF(AJ$2:AJ20,extract),0),),"")} | AK21: {=IFERROR(OFFSET(AI$2,MATCH(0,COUNTIF(AK$2:AK20,extract),0),),"")} -> 4 | AL21: =AL20+1 -> 19 | AM21: =MIN(53,Y$5+ROW(X19)) -> 31
A22: PFMP 2pro1 | B22: S4 | D22: Réunion prt profs 2pro1 | I22: Préparation conseil 2pro1 | AH22: {=IFERROR(SMALL(IF((CHOOSE({1,2},tranche1,tranche2)>=Y$5)*(CHOOSE({1,2},tranche1,tranche2)<=Z$5)=1,CHOOSE({1,2},tranche1,tranche2),""),ROW(X20)),"")} -> 19 | AI22: {=IFERROR(SMALL(IF((CHOOSE({1,2},tranche1,tranche2)>=Y$6)*(CHOOSE({1,2},tranche1,tranche2)<=Z$6)=1,CHOOSE({1,2},tranche1,tranche2),""),ROW(Y20)),"")} | AJ22: {=IFERROR(OFFSET(AH$2,MATCH(0,COUNTIF(AJ$2:AJ21,extract),0),),"")} | AK22: {=IFERROR(OFFSET(AI$2,MATCH(0,COUNTIF(AK$2:AK21,extract),0),),"")} -> 4 | AL22: =AL21+1 -> 20 | AM22: =MIN(53,Y$5+ROW(X20)) -> 32
A23: PFMP 2pro1 | B23: S5 | D23: Photos classe 2pro1 | I23: Préparation conseil 2pro1 | AH23: {=IFERROR(SMALL(IF((CHOOSE({1,2},tranche1,tranche2)>=Y$5)*(CHOOSE({1,2},tranche1,tranche2)<=Z$5)=1,CHOOSE({1,2},tranche1,tranche2),""),ROW(X21)),"")} -> 19 | AI23: {=IFERROR(SMALL(IF((CHOOSE({1,2},tranche1,tranche2)>=Y$6)*(CHOOSE({1,2},tranche1,tranche2)<=Z$6)=1,CHOOSE({1,2},tranche1,tranche2),""),ROW(Y21)),"")} | AJ23: {=IFERROR(OFFSET(AH$2,MATCH(0,COUNTIF(AJ$2:AJ22,extract),0),),"")} | AK23: {=IFERROR(OFFSET(AI$2,MATCH(0,COUNTIF(AK$2:AK22,extract),0),),"")} -> 4 | AL23: =AL22+1 -> 21 | AM23: =MIN(53,Y$5+ROW(X21)) -> 33
A24: PFMP 2pro1 | B24: S6 | AH24: {=IFERROR(SMALL(IF((CHOOSE({1,2},tranche1,tranche2)>=Y$5)*(CHOOSE({1,2},tranche1,tranche2)<=Z$5)=1,CHOOSE({1,2},tranche1,tranche2),""),ROW(X22)),"")} -> 19 | AI24: {=IFERROR(SMALL(IF((CHOOSE({1,2},tranche1,tranche2)>=Y$6)*(CHOOSE({1,2},tranche1,tranche2)<=Z$6)=1,CHOOSE({1,2},tranche1,tranche2),""),ROW(Y22)),"")} | AJ24: {=IFERROR(OFFSET(AH$2,MATCH(0,COUNTIF(AJ$2:AJ23,extract),0),),"")} | AK24: {=IFERROR(OFFSET(AI$2,MATCH(0,COUNTIF(AK$2:AK23,extract),0),),"")} -> 4 | AL24: =AL23+1 -> 22 | AM24: =MIN(53,Y$5+ROW(X22)) -> 34
A25: PFMP2 | C25: N°sem | AH25: {=IFERROR(SMALL(IF((CHOOSE({1,2},tranche1,tranche2)>=Y$5)*(CHOOSE({1,2},tranche1,tranche2)<=Z$5)=1,CHOOSE({1,2},tranche1,tranche2),""),ROW(X23)),"")} -> 19 | AI25: {=IFERROR(SMALL(IF((CHOOSE({1,2},tranche1,tranche2)>=Y$6)*(CHOOSE({1,2},tranche1,tranche2)<=Z$6)=1,CHOOSE({1,2},tranche1,tranche2),""),ROW(Y23)),"")} | AJ25: {=IFERROR(OFFSET(AH$2,MATCH(0,COUNTIF(AJ$2:AJ24,extract),0),),"")} | AK25: {=IFERROR(OFFSET(AI$2,MATCH(0,COUNTIF(AK$2:AK24,extract),0),),"")} -> 4 | AL25: =AL24+1 -> 23 | AM25: =MIN(53,Y$5+ROW(X23)) -> 35
A26: PFMP 2pro1 | B26: S1 | C26: 24 | AH26: {=IFERROR(SMALL(IF((CHOOSE({1,2},tranche1,tranche2)>=Y$5)*(CHOOSE({1,2},tranche1,tranche2)<=Z$5)=1,CHOOSE({1,2},tranche1,tranche2),""),ROW(X24)),"")} -> 19 | AI26: {=IFERROR(SMALL(IF((CHOOSE({1,2},tranche1,tranche2)>=Y$6)*(CHOOSE({1,2},tranche1,tranche2)<=Z$6)=1,CHOOSE({1,2},tranche1,tranche2),""),ROW(Y24)),"")} | AJ26: {=IFERROR(OFFSET(AH$2,MATCH(0,COUNTIF(AJ$2:AJ25,extract),0),),"")} | AK26: {=IFERROR(OFFSET(AI$2,MATCH(0,COUNTIF(AK$2:AK25,extract),0),),"")} -> 4 | AL26: =AL25+1 -> 24 | AM26: =MIN(53,Y$5+ROW(X24)) -> 36
A27: PFMP 2pro1 | B27: S2 | C27: 25 | AH27: {=IFERROR(SMALL(IF((CHOOSE({1,2},tranche1,tranche2)>=Y$5)*(CHOOSE({1,2},tranche1,tranche2)<=Z$5)=1,CHOOSE({1,2},tranche1,tranche2),""),ROW(X25)),"")} -> 19 | AI27: {=IFERROR(SMALL(IF((CHOOSE({1,2},tranche1,tranche2)>=Y$6)*(CHOOSE({1,2},tranche1,tranche2)<=Z$6)=1,CHOOSE({1,2},tranche1,tranche2),""),ROW(Y25)),"")} | AJ27: {=IFERROR(OFFSET(AH$2,MATCH(0,COUNTIF(AJ$2:AJ26,extract),0),),"")} | AK27: {=IFERROR(OFFSET(AI$2,MATCH(0,COUNTIF(AK$2:AK26,extract),0),),"")} -> 4 | AL27: =AL26+1 -> 25 | AM27: =MIN(53,Y$5+ROW(X25)) -> 37
A28: PFMP 2pro1 | B28: S3 | C28: 26 | AH28: {=IFERROR(SMALL(IF((CHOOSE({1,2},tranche1,tranche2)>=Y$5)*(CHOOSE({1,2},tranche1,tranche2)<=Z$5)=1,CHOOSE({1,2},tranche1,tranche2),""),ROW(X26)),"")} -> 19 | AI28: {=IFERROR(SMALL(IF((CHOOSE({1,2},tranche1,tranche2)>=Y$6)*(CHOOSE({1,2},tranche1,tranche2)<=Z$6)=1,CHOOSE({1,2},tranche1,tranche2),""),ROW(Y26)),"")} | AJ28: {=IFERROR(OFFSET(AH$2,MATCH(0,COUNTIF(AJ$2:AJ27,extract),0),),"")} | AK28: {=IFERROR(OFFSET(AI$2,MATCH(0,COUNTIF(AK$2:AK27,extract),0),),"")} -> 4 | AL28: =AL27+1 -> 26 | AM28: =MIN(53,Y$5+ROW(X26)) -> 38
A29: PFMP 2pro1 | B29: S4 | C29: 27 | AH29: {=IFERROR(SMALL(IF((CHOOSE({1,2},tranche1,tranche2)>=Y$5)*(CHOOSE({1,2},tranche1,tranche2)<=Z$5)=1,CHOOSE({1,2},tranche1,tranche2),""),ROW(X27)),"")} -> 20 | AI29: {=IFERROR(SMALL(IF((CHOOSE({1,2},tranche1,tranche2)>=Y$6)*(CHOOSE({1,2},tranche1,tranche2)<=Z$6)=1,CHOOSE({1,2},tranche1,tranche2),""),ROW(Y27)),"")} | AJ29: {=IFERROR(OFFSET(AH$2,MATCH(0,COUNTIF(AJ$2:AJ28,extract),0),),"")} | AK29: {=IFERROR(OFFSET(AI$2,MATCH(0,COUNTIF(AK$2:AK28,extract),0),),"")} -> 4 | AL29: =AL28+1 -> 27 | AM29: =MIN(53,Y$5+ROW(X27)) -> 39
A30: PFMP 2pro1 | B30: S5 | D30: Planifier visite PFMP 1 | AH30: {=IFERROR(SMALL(IF((CHOOSE({1,2},tranche1,tranche2)>=Y$5)*(CHOOSE({1,2},tranche1,tranche2)<=Z$5)=1,CHOOSE({1,2},tranche1,tranche2),""),ROW(X28)),"")} -> 20 | AI30: {=IFERROR(SMALL(IF((CHOOSE({1,2},tranche1,tranche2)>=Y$6)*(CHOOSE({1,2},tranche1,tranche2)<=Z$6)=1,CHOOSE({1,2},tranche1,tranche2),""),ROW(Y28)),"")} | AJ30: {=IFERROR(OFFSET(AH$2,MATCH(0,COUNTIF(AJ$2:AJ29,extract),0),),"")} | AK30: {=IFERROR(OFFSET(AI$2,MATCH(0,COUNTIF(AK$2:AK29,extract),0),),"")} -> 4 | AL30: =AL29+1 -> 28 | AM30: =MIN(53,Y$5+ROW(X28)) -> 40
A31: PFMP 2pro1 | B31: S6 | D31: Planifier visite PFMP 2 | AH31: {=IFERROR(SMALL(IF((CHOOSE({1,2},tranche1,tranche2)>=Y$5)*(CHOOSE({1,2},tranche1,tranche2)<=Z$5)=1,CHOOSE({1,2},tranche1,tranche2),""),ROW(X29)),"")} -> 20 | AI31: {=IFERROR(SMALL(IF((CHOOSE({1,2},tranche1,tranche2)>=Y$6)*(CHOOSE({1,2},tranche1,tranche2)<=Z$6)=1,CHOOSE({1,2},tranche1,tranche2),""),ROW(Y29)),"")} | AJ31: {=IFERROR(OFFSET(AH$2,MATCH(0,COUNTIF(AJ$2:AJ30,extract),0),),"")} | AK31: {=IFERROR(OFFSET(AI$2,MATCH(0,COUNTIF(AK$2:AK30,extract),0),),"")} -> 4 | AL31: =AL30+1 -> 29 | AM31: =MIN(53,Y$5+ROW(X29)) -> 41
AH32: {=IFERROR(SMALL(IF((CHOOSE({1,2},tranche1,tranche2)>=Y$5)*(CHOOSE({1,2},tranche1,tranche2)<=Z$5)=1,CHOOSE({1,2},tranche1,tranche2),""),ROW(X30)),"")} -> 20 | AI32: {=IFERROR(SMALL(IF((CHOOSE({1,2},tranche1,tranche2)>=Y$6)*(CHOOSE({1,2},tranche1,tranche2)<=Z$6)=1,CHOOSE({1,2},tranche1,tranche2),""),ROW(Y30)),"")} | AJ32: {=IFERROR(OFFSET(AH$2,MATCH(0,COUNTIF(AJ$2:AJ31,extract),0),),"")} | AK32: {=IFERROR(OFFSET(AI$2,MATCH(0,COUNTIF(AK$2:AK31,extract),0),),"")} -> 4 | AL32: =AL31+1 -> 30 | AM32: =MIN(53,Y$5+ROW(X30)) -> 42
A33: 2pro2 | AH33: {=IFERROR(SMALL(IF((CHOOSE({1,2},tranche1,tranche2)>=Y$5)*(CHOOSE({1,2},tranche1,tranche2)<=Z$5)=1,CHOOSE({1,2},tranche1,tranche2),""),ROW(X31)),"")} -> 20 | AI33: {=IFERROR(SMALL(IF((CHOOSE({1,2},tranche1,tranche2)>=Y$6)*(CHOOSE({1,2},tranche1,tranche2)<=Z$6)=1,CHOOSE({1,2},tranche1,tranche2),""),ROW(Y31)),"")} | AJ33: {=IFERROR(OFFSET(AH$2,MATCH(0,COUNTIF(AJ$2:AJ32,extract),0),),"")} | AK33: {=IFERROR(OFFSET(AI$2,MATCH(0,COUNTIF(AK$2:AK32,extract),0),),"")} -> 4 | AL33: =AL32+1 -> 31 | AM33: =MIN(53,Y$5+ROW(X31)) -> 43
H34: Modalités CCF | AH34: {=IFERROR(SMALL(IF((CHOOSE({1,2},tranche1,tranche2)>=Y$5)*(CHOOSE({1,2},tranche1,tranche2)<=Z$5)=1,CHOOSE({1,2},tranche1,tranche2),""),ROW(X32)),"")} -> 20 | AI34: {=IFERROR(SMALL(IF((CHOOSE({1,2},tranche1,tranche2)>=Y$6)*(CHOOSE({1,2},tranche1,tranche2)<=Z$6)=1,CHOOSE({1,2},tranche1,tranche2),""),ROW(Y32)),"")} | AJ34: {=IFERROR(OFFSET(AH$2,MATCH(0,COUNTIF(AJ$2:AJ33,extract),0),),"")} | AK34: {=IFERROR(OFFSET(AI$2,MATCH(0,COUNTIF(AK$2:AK33,extract),0),),"")} -> 4 | AL34: =AL33+1 -> 32 | AM34: =MIN(53,Y$5+ROW(X32)) -> 44
A35: PFMP1 | C35: N°sem | D35: Vie de classe | F35: Date | G35: CCF | H35: Date | I35: Points de vigilances | J35: Date | K35: Autre | L35: Date | AH35: {=IFERROR(SMALL(IF((CHOOSE({1,2},tranche1,tranche2)>=Y$5)*(CHOOSE({1,2},tranche1,tranche2)<=Z$5)=1,CHOOSE({1,2},tranche1,tranche2),""),ROW(X33)),"")} -> 20 | AI35: {=IFERROR(SMALL(IF((CHOOSE({1,2},tranche1,tranche2)>=Y$6)*(CHOOSE({1,2},tranche1,tranche2)<=Z$6)=1,CHOOSE({1,2},tranche1,tranche2),""),ROW(Y33)),"")} | AJ35: {=IFERROR(OFFSET(AH$2,MATCH(0,COUNTIF(AJ$2:AJ34,extract),0),),"")} | AK35: {=IFERROR(OFFSET(AI$2,MATCH(0,COUNTIF(AK$2:AK34,extract),0),),"")} -> 4 | AL35: =AL34+1 -> 33 | AM35: =MIN(53,Y$5+ROW(X33)) -> 45
A36: PFMP 2pro2 | B36: S1 | C36: 48 | D36: CC 2pro2 | E36: 1 | I36: Retour convention 2pro2 | J36: 45243 | AH36: {=IFERROR(SMALL(IF((CHOOSE({1,2},tranche1,tranche2)>=Y$5)*(CHOOSE({1,2},tranche1,tranche2)<=Z$5)=1,CHOOSE({1,2},tranche1,tranche2),""),ROW(X34)),"")} | AI36: {=IFERROR(SMALL(IF((CHOOSE({1,2},tranche1,tranche2)>=Y$6)*(CHOOSE({1,2},tranche1,tranche2)<=Z$6)=1,CHOOSE({1,2},tranche1,tranche2),""),ROW(Y34)),"")} | AJ36: {=IFERROR(OFFSET(AH$2,MATCH(0,COUNTIF(AJ$2:AJ35,extract),0),),"")} | AK36: {=IFERROR(OFFSET(AI$2,MATCH(0,COUNTIF(AK$2:AK35,extract),0),),"")} -> 4 | AL36: =AL35+1 -> 34 | AM36: =MIN(53,Y$5+ROW(X34)) -> 46
A37: PFMP 2pro2 | B37: S2 | C37: 49 | D37: CC 2pro2 | E37: 2 | I37: Retour convention 2pro2 | J37: 45439 | AH37: {=IFERROR(SMALL(IF((CHOOSE({1,2},tranche1,tranche2)>=Y$5)*(CHOOSE({1,2},tranche1,tranche2)<=Z$5)=1,CHOOSE({1,2},tranche1,tranche2),""),ROW(X35)),"")} | AI37: {=IFERROR(SMALL(IF((CHOOSE({1,2},tranche1,tranche2)>=Y$6)*(CHOOSE({1,2},tranche1,tranche2)<=Z$6)=1,CHOOSE({1,2},tranche1,tranche2),""),ROW(Y35)),"")} | AJ37: {=IFERROR(OFFSET(AH$2,MATCH(0,COUNTIF(AJ$2:AJ36,extract),0),),"")} | AK37: {=IFERROR(OFFSET(AI$2,MATCH(0,COUNTIF(AK$2:AK36,extract),0),),"")} -> 4 | AL37: =AL36+1 -> 35 | AM37: =MIN(53,Y$5+ROW(X35)) -> 47
A38: PFMP 2pro2 | B38: S3 | D38: CC 2pro2 | E38: 3 | I38: Préparation conseil 2pro2 | AH38: {=IFERROR(SMALL(IF((CHOOSE({1,2},tranche1,tranche2)>=Y$5)*(CHOOSE({1,2},tranche1,tranche2)<=Z$5)=1,CHOOSE({1,2},tranche1,tranche2),""),ROW(X36)),"")} | AI38: {=IFERROR(SMALL(IF((CHOOSE({1,2},tranche1,tranche2)>=Y$6)*(CHOOSE({1,2},tranche1,tranche2)<=Z$6)=1,CHOOSE({1,2},tranche1,tranche2),""),ROW(Y36)),"")} | AJ38: {=IFERROR(OFFSET(AH$2,MATCH(0,COUNTIF(AJ$2:AJ37,extract),0),),"")} | AK38: {=IFERROR(OFFSET(AI$2,MATCH(0,COUNTIF(AK$2:AK37,extract),0),),"")} -> 4 | AL38: =AL37+1 -> 36 | AM38: =MIN(53,Y$5+ROW(X36)) -> 48
A39: PFMP 2pro2 | B39: S4 | D39: Réunion prt profs 2pro2 | I39: Préparation conseil 2pro2 | AH39: {=IFERROR(SMALL(IF((CHOOSE({1,2},tranche1,tranche2)>=Y$5)*(CHOOSE({1,2},tranche1,tranche2)<=Z$5)=1,CHOOSE({1,2},tranche1,tranche2),""),ROW(X37)),"")} | AI39: {=IFERROR(SMALL(IF((CHOOSE({1,2},tranche1,tranche2)>=Y$6)*(CHOOSE({1,2},tranche1,tranche2)<=Z$6)=1,CHOOSE({1,2},tranche1,tranche2),""),ROW(Y37)),"")} | AJ39: {=IFERROR(OFFSET(AH$2,MATCH(0,COUNTIF(AJ$2:AJ38,extract),0),),"")} | AK39: {=IFERROR(OFFSET(AI$2,MATCH(0,COUNTIF(AK$2:AK38,extract),0),),"")} -> 4 | AL39: =AL38+1 -> 37 | AM39: =MIN(53,Y$5+ROW(X37)) -> 49
A40: PFMP 2pro2 | B40: S5 | D40: Photos classe 2pro2 | I40: Préparation conseil 2pro2 | AH40: {=IFERROR(SMALL(IF((CHOOSE({1,2},tranche1,tranche2)>=Y$5)*(CHOOSE({1,2},tranche1,tranche2)<=Z$5)=1,CHOOSE({1,2},tranche1,tranche2),""),ROW(X38)),"")} | AI40: {=IFERROR(SMALL(IF((CHOOSE({1,2},tranche1,tranche2)>=Y$6)*(CHOOSE({1,2},tranche1,tranche2)<=Z$6)=1,CHOOSE({1,2},tranche1,tranche2),""),ROW(Y38)),"")} | AJ40: {=IFERROR(OFFSET(AH$2,MATCH(0,COUNTIF(AJ$2:AJ39,extract),0),),"")} | AK40: {=IFERROR(OFFSET(AI$2,MATCH(0,COUNTIF(AK$2:AK39,extract),0),),"")} -> 4 | AL40: =AL39+1 -> 38 | AM40: =MIN(53,Y$5+ROW(X38)) -> 50
A41: PFMP 2pro2 | B41: S6 | AH41: {=IFERROR(SMALL(IF((CHOOSE({1,2},tranche1,tranche2)>=Y$5)*(CHOOSE({1,2},tranche1,tranche2)<=Z$5)=1,CHOOSE({1,2},tranche1,tranche2),""),ROW(X39)),"")} | AI41: {=IFERROR(SMALL(IF((CHOOSE({1,2},tranche1,tranche2)>=Y$6)*(CHOOSE({1,2},tranche1,tranche2)<=Z$6)=1,CHOOSE({1,2},tranche1,tranche2),""),ROW(Y39)),"")} | AJ41: {=IFERROR(OFFSET(AH$2,MATCH(0,COUNTIF(AJ$2:AJ40,extract),0),),"")} | AK41: {=IFERROR(OFFSET(AI$2,MATCH(0,COUNTIF(AK$2:AK40,extract),0),),"")} -> 4 | AL41: =AL40+1 -> 39 | AM41: =MIN(53,Y$5+ROW(X39)) -> 51
A42: PFMP2 | C42: N°sem | AH42: {=IFERROR(SMALL(IF((CHOOSE({1,2},tranche1,tranche2)>=Y$5)*(CHOOSE({1,2},tranche1,tranche2)<=Z$5)=1,CHOOSE({1,2},tranche1,tranche2),""),ROW(X40)),"")} | AI42: {=IFERROR(SMALL(IF((CHOOSE({1,2},tranche1,tranche2)>=Y$6)*(CHOOSE({1,2},tranche1,tranche2)<=Z$6)=1,CHOOSE({1,2},tranche1,tranche2),""),ROW(Y40)),"")} | AJ42: {=IFERROR(OFFSET(AH$2,MATCH(0,COUNTIF(AJ$2:AJ41,extract),0),),"")} | AK42: {=IFERROR(OFFSET(AI$2,MATCH(0,COUNTIF(AK$2:AK41,extract),0),),"")} -> 4 | AL42: =AL41+1 -> 40 | AM42: =MIN(53,Y$5+ROW(X40)) -> 52
A43: PFMP 2pro2 | B43: S1 | C43: 24 | AH43: {=IFERROR(SMALL(IF((CHOOSE({1,2},tranche1,tranche2)>=Y$5)*(CHOOSE({1,2},tranche1,tranche2)<=Z$5)=1,CHOOSE({1,2},tranche1,tranche2),""),ROW(X41)),"")} | AI43: {=IFERROR(SMALL(IF((CHOOSE({1,2},tranche1,tranche2)>=Y$6)*(CHOOSE({1,2},tranche1,tranche2)<=Z$6)=1,CHOOSE({1,2},tranche1,tranche2),""),ROW(Y41)),"")} | AJ43: {=IFERROR(OFFSET(AH$2,MATCH(0,COUNTIF(AJ$2:AJ42,extract),0),),"")} | AK43: {=IFERROR(OFFSET(AI$2,MATCH(0,COUNTIF(AK$2:AK42,extract),0),),"")} -> 4 | AL43: =AL42+1 -> 41 | AM43: =MIN(53,Y$5+ROW(X41)) -> 53
A44: PFMP 2pro2 | B44: S2 | C44: 25 | AH44: {=IFERROR(SMALL(IF((CHOOSE({1,2},tranche1,tranche2)>=Y$5)*(CHOOSE({1,2},tranche1,tranche2)<=Z$5)=1,CHOOSE({1,2},tranche1,tranche2),""),ROW(X42)),"")} | AI44: {=IFERROR(SMALL(IF((CHOOSE({1,2},tranche1,tranche2)>=Y$6)*(CHOOSE({1,2},tranche1,tranche2)<=Z$6)=1,CHOOSE({1,2},tranche1,tranche2),""),ROW(Y42)),"")} | AJ44: {=IFERROR(OFFSET(AH$2,MATCH(0,COUNTIF(AJ$2:AJ43,extract),0),),"")} | AK44: {=IFERROR(OFFSET(AI$2,MATCH(0,COUNTIF(AK$2:AK43,extract),0),),"")} -> 4 | AL44: =AL43+1 -> 42 | AM44: =MIN(53,Y$5+ROW(X42)) -> 53
A45: PFMP 2pro2 | B45: S3 | C45: 26 | AH45: {=IFERROR(SMALL(IF((CHOOSE({1,2},tranche1,tranche2)>=Y$5)*(CHOOSE({1,2},tranche1,tranche2)<=Z$5)=1,CHOOSE({1,2},tranche1,tranche2),""),ROW(X43)),"")} | AI45: {=IFERROR(SMALL(IF((CHOOSE({1,2},tranche1,tranche2)>=Y$6)*(CHOOSE({1,2},tranche1,tranche2)<=Z$6)=1,CHOOSE({1,2},tranche1,tranche2),""),ROW(Y43)),"")} | AJ45: {=IFERROR(OFFSET(AH$2,MATCH(0,COUNTIF(AJ$2:AJ44,extract),0),),"")} | AK45: {=IFERROR(OFFSET(AI$2,MATCH(0,COUNTIF(AK$2:AK44,extract),0),),"")} -> 4 | AL45: =AL44+1 -> 43 | AM45: =MIN(53,Y$5+ROW(X43)) -> 53
A46: PFMP 2pro2 | B46: S4 | C46: 27 | AH46: {=IFERROR(SMALL(IF((CHOOSE({1,2},tranche1,tranche2)>=Y$5)*(CHOOSE({1,2},tranche1,tranche2)<=Z$5)=1,CHOOSE({1,2},tranche1,tranche2),""),ROW(X44)),"")} | AI46: {=IFERROR(SMALL(IF((CHOOSE({1,2},tranche1,tranche2)>=Y$6)*(CHOOSE({1,2},tranche1,tranche2)<=Z$6)=1,CHOOSE({1,2},tranche1,tranche2),""),ROW(Y44)),"")} | AJ46: {=IFERROR(OFFSET(AH$2,MATCH(0,COUNTIF(AJ$2:AJ45,extract),0),),"")} | AK46: {=IFERROR(OFFSET(AI$2,MATCH(0,COUNTIF(AK$2:AK45,extract),0),),"")} -> 4 | AL46: =AL45+1 -> 44 | AM46: =MIN(53,Y$5+ROW(X44)) -> 53
A47: PFMP 2pro2 | B47: S5 | D47: Planifier visite PFMP 1 | F47: 45257 | AH47: {=IFERROR(SMALL(IF((CHOOSE({1,2},tranche1,tranche2)>=Y$5)*(CHOOSE({1,2},tranche1,tranche2)<=Z$5)=1,CHOOSE({1,2},tranche1,tranche2),""),ROW(X45)),"")} | AI47: {=IFERROR(SMALL(IF((CHOOSE({1,2},tranche1,tranche2)>=Y$6)*(CHOOSE({1,2},tranche1,tranche2)<=Z$6)=1,CHOOSE({1,2},tranche1,tranche2),""),ROW(Y45)),"")} | AJ47: {=IFERROR(OFFSET(AH$2,MATCH(0,COUNTIF(AJ$2:AJ46,extract),0),),"")} | AK47: {=IFERROR(OFFSET(AI$2,MATCH(0,COUNTIF(AK$2:AK46,extract),0),),"")} -> 4 | AL47: =AL46+1 -> 45 | AM47: =MIN(53,Y$5+ROW(X45)) -> 53
A48: PFMP 2pro2 | B48: S6 | D48: Planifier visite PFMP 2 | F48: 45460 | AH48: {=IFERROR(SMALL(IF((CHOOSE({1,2},tranche1,tranche2)>=Y$5)*(CHOOSE({1,2},tranche1,tranche2)<=Z$5)=1,CHOOSE({1,2},tranche1,tranche2),""),ROW(X46)),"")} | AI48: {=IFERROR(SMALL(IF((CHOOSE({1,2},tranche1,tranche2)>=Y$6)*(CHOOSE({1,2},tranche1,tranche2)<=Z$6)=1,CHOOSE({1,2},tranche1,tranche2),""),ROW(Y46)),"")} | AJ48: {=IFERROR(OFFSET(AH$2,MATCH(0,COUNTIF(AJ$2:AJ47,extract),0),),"")} | AK48: {=IFERROR(OFFSET(AI$2,MATCH(0,COUNTIF(AK$2:AK47,extract),0),),"")} -> 4 | AL48: =AL47+1 -> 46 | AM48: =MIN(53,Y$5+ROW(X46)) -> 53
AH49: {=IFERROR(SMALL(IF((CHOOSE({1,2},tranche1,tranche2)>=Y$5)*(CHOOSE({1,2},tranche1,tranche2)<=Z$5)=1,CHOOSE({1,2},tranche1,tranche2),""),ROW(X47)),"")} | AI49: {=IFERROR(SMALL(IF((CHOOSE({1,2},tranche1,tranche2)>=Y$6)*(CHOOSE({1,2},tranche1,tranche2)<=Z$6)=1,CHOOSE({1,2},tranche1,tranche2),""),ROW(Y47)),"")} | AJ49: {=IFERROR(OFFSET(AH$2,MATCH(0,COUNTIF(AJ$2:AJ48,extract),0),),"")} | AK49: {=IFERROR(OFFSET(AI$2,MATCH(0,COUNTIF(AK$2:AK48,extract),0),),"")} -> 4 | AL49: =AL48+1 -> 47 | AM49: =MIN(53,Y$5+ROW(X47)) -> 53
A50: 1pro1 | AH50: {=IFERROR(SMALL(IF((CHOOSE({1,2},tranche1,tranche2)>=Y$5)*(CHOOSE({1,2},tranche1,tranche2)<=Z$5)=1,CHOOSE({1,2},tranche1,tranche2),""),ROW(X48)),"")} | AI50: {=IFERROR(SMALL(IF((CHOOSE({1,2},tranche1,tranche2)>=Y$6)*(CHOOSE({1,2},tranche1,tranche2)<=Z$6)=1,CHOOSE({1,2},tranche1,tranche2),""),ROW(Y48)),"")} | AJ50: {=IFERROR(OFFSET(AH$2,MATCH(0,COUNTIF(AJ$2:AJ49,extract),0),),"")} | AK50: {=IFERROR(OFFSET(AI$2,MATCH(0,COUNTIF(AK$2:AK49,extract),0),),"")} -> 4 | AL50: =AL49+1 -> 48 | AM50: =MIN(53,Y$5+ROW(X48)) -> 53
H51: Modalités CCF | AH51: {=IFERROR(SMALL(IF((CHOOSE({1,2},tranche1,tranche2)>=Y$5)*(CHOOSE({1,2},tranche1,tranche2)<=Z$5)=1,CHOOSE({1,2},tranche1,tranche2),""),ROW(X49)),"")} | AI51: {=IFERROR(SMALL(IF((CHOOSE({1,2},tranche1,tranche2)>=Y$6)*(CHOOSE({1,2},tranche1,tranche2)<=Z$6)=1,CHOOSE({1,2},tranche1,tranche2),""),ROW(Y49)),"")} | AJ51: {=IFERROR(OFFSET(AH$2,MATCH(0,COUNTIF(AJ$2:AJ50,extract),0),),"")} | AK51: {=IFERROR(OFFSET(AI$2,MATCH(0,COUNTIF(AK$2:AK50,extract),0),),"")} -> 4 | AL51: =AL50+1 -> 49 | AM51: =MIN(53,Y$5+ROW(X49)) -> 53
A52: PFMP1 | C52: N°sem | D52: Vie de classe | F52: Date | G52: CCF | H52: Date | I52: Points de vigilances | J52: Date | K52: Autre | L52: Date | AH52: {=IFERROR(SMALL(IF((CHOOSE({1,2},tranche1,tranche2)>=Y$5)*(CHOOSE({1,2},tranche1,tranche2)<=Z$5)=1,CHOOSE({1,2},tranche1,tranche2),""),ROW(X50)),"")} | AI52: {=IFERROR(SMALL(IF((CHOOSE({1,2},tranche1,tranche2)>=Y$6)*(CHOOSE({1,2},tranche1,tranche2)<=Z$6)=1,CHOOSE({1,2},tranche1,tranche2),""),ROW(Y50)),"")} | AL52: =AL51+1 -> 50 | AM52: =MIN(53,Y$5+ROW(X50)) -> 53
A53: PFMP 1pro1 | B53: S1 | C53: 10 | D53: CC 1pro1 | E53: 1 | G53: E1 S1 | I53: Retour convention 1pro1 | AH53: {=IFERROR(SMALL(IF((CHOOSE({1,2},tranche1,tranche2)>=Y$5)*(CHOOSE({1,2},tranche1,tranche2)<=Z$5)=1,CHOOSE({1,2},tranche1,tranche2),""),ROW(X51)),"")} | AI53: {=IFERROR(SMALL(IF((CHOOSE({1,2},tranche1,tranche2)>=Y$6)*(CHOOSE({1,2},tranche1,tranche2)<=Z$6)=1,CHOOSE({1,2},tranche1,tranche2),""),ROW(Y51)),"")} | AL53: =AL52+1 -> 51 | AM53: =MIN(53,Y$5+ROW(X51)) -> 53
A54: PFMP 1pro1 | B54: S2 | C54: 11 | D54: CC 1pro1 | E54: 2 | G54: E31 S1 | I54: Retour convention 1pro1 | AH54: {=IFERROR(SMALL(IF((CHOOSE({1,2},tranche1,tranche2)>=Y$5)*(CHOOSE({1,2},tranche1,tranche2)<=Z$5)=1,CHOOSE({1,2},tranche1,tranche2),""),ROW(X52)),"")} | AI54: {=IFERROR(SMALL(IF((CHOOSE({1,2},tranche1,tranche2)>=Y$6)*(CHOOSE({1,2},tranche1,tranche2)<=Z$6)=1,CHOOSE({1,2},tranche1,tranche2),""),ROW(Y52)),"")} | AL54: =AL53+1 -> 52 | AM54: =MIN(53,Y$5+ROW(X52)) -> 53
A55: PFMP 1pro1 | B55: S3 | C55: 12 | D55: CC 1pro1 | E55: 3 | G55: E22 S1 | I55: Préparation conseil 1pro1 | AH55: {=IFERROR(SMALL(IF((CHOOSE({1,2},tranche1,tranche2)>=Y$5)*(CHOOSE({1,2},tranche1,tranche2)<=Z$5)=1,CHOOSE({1,2},tranche1,tranche2),""),ROW(X53)),"")} | AI55: {=IFERROR(SMALL(IF((CHOOSE({1,2},tranche1,tranche2)>=Y$6)*(CHOOSE({1,2},tranche1,tranche2)<=Z$6)=1,CHOOSE({1,2},tranche1,tranche2),""),ROW(Y53)),"")} | AL55: =AL54+1 -> 53 | AM55: =MIN(53,Y$5+ROW(X53)) -> 53
A56: PFMP 1pro1 | B56: S4 | C56: 13 | D56: Réunion prt profs 1pro1 | G56: Chef œuvre | I56: Préparation conseil 1pro1 | AH56: {=IFERROR(SMALL(IF((CHOOSE({1,2},tranche1,tranche2)>=Y$5)*(CHOOSE({1,2},tranche1,tranche2)<=Z$5)=1,CHOOSE({1,2},tranche1,tranche2),""),ROW(X54)),"")} | AI56: {=IFERROR(SMALL(IF((CHOOSE({1,2},tranche1,tranche2)>=Y$6)*(CHOOSE({1,2},tranche1,tranche2)<=Z$6)=1,CHOOSE({1,2},tranche1,tranche2),""),ROW(Y54)),"")}
A57: PFMP 1pro1 | B57: S5 | D57: Photos classe 1pro1 | I57: Préparation conseil 1pro1 | AH57: {=IFERROR(SMALL(IF((CHOOSE({1,2},tranche1,tranche2)>=Y$5)*(CHOOSE({1,2},tranche1,tranche2)<=Z$5)=1,CHOOSE({1,2},tranche1,tranche2),""),ROW(X55)),"")} | AI57: {=IFERROR(SMALL(IF((CHOOSE({1,2},tranche1,tranche2)>=Y$6)*(CHOOSE({1,2},tranche1,tranche2)<=Z$6)=1,CHOOSE({1,2},tranche1,tranche2),""),ROW(Y55)),"")}
A58: PFMP 1pro1 | B58: S6 | I58: E1 S1 | AH58: {=IFERROR(SMALL(IF((CHOOSE({1,2},tranche1,tranche2)>=Y$5)*(CHOOSE({1,2},tranche1,tranche2)<=Z$5)=1,CHOOSE({1,2},tranche1,tranche2),""),ROW(X56)),"")} | AI58: {=IFERROR(SMALL(IF((CHOOSE({1,2},tranche1,tranche2)>=Y$6)*(CHOOSE({1,2},tranche1,tranche2)<=Z$6)=1,CHOOSE({1,2},tranche1,tranche2),""),ROW(Y56)),"")}
A59: PFMP2 | C59: N°sem | I59: E31 S1 | AH59: {=IFERROR(SMALL(IF((CHOOSE({1,2},tranche1,tranche2)>=Y$5)*(CHOOSE({1,2},tranche1,tranche2)<=Z$5)=1,CHOOSE({1,2},tranche1,tranche2),""),ROW(X57)),"")} | AI59: {=IFERROR(SMALL(IF((CHOOSE({1,2},tranche1,tranche2)>=Y$6)*(CHOOSE({1,2},tranche1,tranche2)<=Z$6)=1,CHOOSE({1,2},tranche1,tranche2),""),ROW(Y57)),"")}
A60: PFMP 1pro1 | B60: S1 | C60: 24 | I60: E22 S1 | AH60: {=IFERROR(SMALL(IF((CHOOSE({1,2},tranche1,tranche2)>=Y$5)*(CHOOSE({1,2},tranche1,tranche2)<=Z$5)=1,CHOOSE({1,2},tranche1,tranche2),""),ROW(X58)),"")} | AI60: {=IFERROR(SMALL(IF((CHOOSE({1,2},tranche1,tranche2)>=Y$6)*(CHOOSE({1,2},tranche1,tranche2)<=Z$6)=1,CHOOSE({1,2},tranche1,tranche2),""),ROW(Y58)),"")}
A61: PFMP 1pro1 | B61: S2 | C61: 25 | I61: Chef œuvre | AH61: {=IFERROR(SMALL(IF((CHOOSE({1,2},tranche1,tranche2)>=Y$5)*(CHOOSE({1,2},tranche1,tranche2)<=Z$5)=1,CHOOSE({1,2},tranche1,tranche2),""),ROW(X59)),"")} | AI61: {=IFERROR(SMALL(IF((CHOOSE({1,2},tranche1,tranche2)>=Y$6)*(CHOOSE({1,2},tranche1,tranche2)<=Z$6)=1,CHOOSE({1,2},tranche1,tranche2),""),ROW(Y59)),"")}
A62: PFMP 1pro1 | B62: S3 | C62: 26 | AH62: {=IFERROR(SMALL(IF((CHOOSE({1,2},tranche1,tranche2)>=Y$5)*(CHOOSE({1,2},tranche1,tranche2)<=Z$5)=1,CHOOSE({1,2},tranche1,tranche2),""),ROW(X60)),"")} | AI62: {=IFERROR(SMALL(IF((CHOOSE({1,2},tranche1,tranche2)>=Y$6)*(CHOOSE({1,2},tranche1,tranche2)<=Z$6)=1,CHOOSE({1,2},tranche1,tranche2),""),ROW(Y60)),"")}
A63: PFMP 1pro1 | B63: S4 | C63: 27 | AH63: {=IFERROR(SMALL(IF((CHOOSE({1,2},tranche1,tranche2)>=Y$5)*(CHOOSE({1,2},tranche1,tranche2)<=Z$5)=1,CHOOSE({1,2},tranche1,tranche2),""),ROW(X61)),"")} | AI63: {=IFERROR(SMALL(IF((CHOOSE({1,2},tranche1,tranche2)>=Y$6)*(CHOOSE({1,2},tranche1,tranche2)<=Z$6)=1,CHOOSE({1,2},tranche1,tranche2),""),ROW(Y61)),"")}
A64: PFMP 1pro1 | B64: S5 | D64: Planifier visite PFMP 1 | AH64: {=IFERROR(SMALL(IF((CHOOSE({1,2},tranche1,tranche2)>=Y$5)*(CHOOSE({1,2},tranche1,tranche2)<=Z$5)=1,CHOOSE({1,2},tranche1,tranche2),""),ROW(X62)),"")} | AI64: {=IFERROR(SMALL(IF((CHOOSE({1,2},tranche1,tranche2)>=Y$6)*(CHOOSE({1,2},tranche1,tranche2)<=Z$6)=1,CHOOSE({1,2},tranche1,tranche2),""),ROW(Y62)),"")}
A65: PFMP 1pro1 | B65: S6 | D65: Planifier visite PFMP 2 | AH65: {=IFERROR(SMALL(IF((CHOOSE({1,2},tranche1,tranche2)>=Y$5)*(CHOOSE({1,2},tranche1,tranche2)<=Z$5)=1,CHOOSE({1,2},tranche1,tranche2),""),ROW(X63)),"")} | AI65: {=IFERROR(SMALL(IF((CHOOSE({1,2},tranche1,tranche2)>=Y$6)*(CHOOSE({1,2},tranche1,tranche2)<=Z$6)=1,CHOOSE({1,2},tranche1,tranche2),""),ROW(Y63)),"")}
AH66: {=IFERROR(SMALL(IF((CHOOSE({1,2},tranche1,tranche2)>=Y$5)*(CHOOSE({1,2},tranche1,tranche2)<=Z$5)=1,CHOOSE({1,2},tranche1,tranche2),""),ROW(X64)),"")} | AI66: {=IFERROR(SMALL(IF((CHOOSE({1,2},tranche1,tranche2)>=Y$6)*(CHOOSE({1,2},tranche1,tranche2)<=Z$6)=1,CHOOSE({1,2},tranche1,tranche2),""),ROW(Y64)),"")}
A67: 1pro2 | AH67: {=IFERROR(SMALL(IF((CHOOSE({1,2},tranche1,tranche2)>=Y$5)*(CHOOSE({1,2},tranche1,tranche2)<=Z$5)=1,CHOOSE({1,2},tranche1,tranche2),""),ROW(X65)),"")} | AI67: {=IFERROR(SMALL(IF((CHOOSE({1,2},tranche1,tranche2)>=Y$6)*(CHOOSE({1,2},tranche1,tranche2)<=Z$6)=1,CHOOSE({1,2},tranche1,tranche2),""),ROW(Y65)),"")}
H68: Modalités CCF | AH68: {=IFERROR(SMALL(IF((CHOOSE({1,2},tranche1,tranche2)>=Y$5)*(CHOOSE({1,2},tranche1,tranche2)<=Z$5)=1,CHOOSE({1,2},tranche1,tranche2),""),ROW(X66)),"")} | AI68: {=IFERROR(SMALL(IF((CHOOSE({1,2},tranche1,tranche2)>=Y$6)*(CHOOSE({1,2},tranche1,tranche2)<=Z$6)=1,CHOOSE({1,2},tranche1,tranche2),""),ROW(Y66)),"")}
A69: PFMP1 | C69: N°sem | D69: Vie de classe | F69: Date | G69: CCF | H69: Date | I69: Points de vigilances | J69: Date | K69: Autre | L69: Date | AH69: {=IFERROR(SMALL(IF((CHOOSE({1,2},tranche1,tranche2)>=Y$5)*(CHOOSE({1,2},tranche1,tranche2)<=Z$5)=1,CHOOSE({1,2},tranche1,tranche2),""),ROW(X67)),"")} | AI69: {=IFERROR(SMALL(IF((CHOOSE({1,2},tranche1,tranche2)>=Y$6)*(CHOOSE({1,2},tranche1,tranche2)<=Z$6)=1,CHOOSE({1,2},tranche1,tranche2),""),ROW(Y67)),"")}
A70: PFMP 1pro2 | B70: S1 | C70: 10 | D70: CC 1pro2 | E70: 1 | G70: E1 S1 | I70: Retour convention 1pro2 | AH70: {=IFERROR(SMALL(IF((CHOOSE({1,2},tranche1,tranche2)>=Y$5)*(CHOOSE({1,2},tranche1,tranche2)<=Z$5)=1,CHOOSE({1,2},tranche1,tranche2),""),ROW(X68)),"")} | AI70: {=IFERROR(SMALL(IF((CHOOSE({1,2},tranche1,tranche2)>=Y$6)*(CHOOSE({1,2},tranche1,tranche2)<=Z$6)=1,CHOOSE({1,2},tranche1,tranche2),""),ROW(Y68)),"")}
A71: PFMP 1pro2 | B71: S2 | C71: 11 | D71: CC 1pro2 | E71: 2 | G71: E31 S1 | I71: Retour convention 1pro2 | AH71: {=IFERROR(SMALL(IF((CHOOSE({1,2},tranche1,tranche2)>=Y$5)*(CHOOSE({1,2},tranche1,tranche2)<=Z$5)=1,CHOOSE({1,2},tranche1,tranche2),""),ROW(X69)),"")} | AI71: {=IFERROR(SMALL(IF((CHOOSE({1,2},tranche1,tranche2)>=Y$6)*(CHOOSE({1,2},tranche1,tranche2)<=Z$6)=1,CHOOSE({1,2},tranche1,tranche2),""),ROW(Y69)),"")}
A72: PFMP 1pro2 | B72: S3 | C72: 12 | D72: CC 1pro2 | E72: 3 | G72: E22 S1 | I72: Préparation conseil 1pro2 | AH72: {=IFERROR(SMALL(IF((CHOOSE({1,2},tranche1,tranche2)>=Y$5)*(CHOOSE({1,2},tranche1,tranche2)<=Z$5)=1,CHOOSE({1,2},tranche1,tranche2),""),ROW(X70)),"")} | AI72: {=IFERROR(SMALL(IF((CHOOSE({1,2},tranche1,tranche2)>=Y$6)*(CHOOSE({1,2},tranche1,tranche2)<=Z$6)=1,CHOOSE({1,2},tranche1,tranche2),""),ROW(Y70)),"")}
A73: PFMP 1pro2 | B73: S4 | C73: 13 | D73: Réunion prt profs 1pro2 | G73: Chef œuvre | I73: Préparation conseil 1pro2 | AH73: {=IFERROR(SMALL(IF((CHOOSE({1,2},tranche1,tranche2)>=Y$5)*(CHOOSE({1,2},tranche1,tranche2)<=Z$5)=1,CHOOSE({1,2},tranche1,tranche2),""),ROW(X71)),"")} | AI73: {=IFERROR(SMALL(IF((CHOOSE({1,2},tranche1,tranche2)>=Y$6)*(CHOOSE({1,2},tranche1,tranche2)<=Z$6)=1,CHOOSE({1,2},tranche1,tranche2),""),ROW(Y71)),"")}
A74: PFMP 1pro2 | B74: S5 | D74: Photos classe 1pro2 | I74: Préparation conseil 1pro2 | AH74: {=IFERROR(SMALL(IF((CHOOSE({1,2},tranche1,tranche2)>=Y$5)*(CHOOSE({1,2},tranche1,tranche2)<=Z$5)=1,CHOOSE({1,2},tranche1,tranche2),""),ROW(X72)),"")} | AI74: {=IFERROR(SMALL(IF((CHOOSE({1,2},tranche1,tranche2)>=Y$6)*(CHOOSE({1,2},tranche1,tranche2)<=Z$6)=1,CHOOSE({1,2},tranche1,tranche2),""),ROW(Y72)),"")}
A75: PFMP 1pro2 | B75: S6 | I75: E1 S1 | AH75: {=IFERROR(SMALL(IF((CHOOSE({1,2},tranche1,tranche2)>=Y$5)*(CHOOSE({1,2},tranche1,tranche2)<=Z$5)=1,CHOOSE({1,2},tranche1,tranche2),""),ROW(X73)),"")} | AI75: {=IFERROR(SMALL(IF((CHOOSE({1,2},tranche1,tranche2)>=Y$6)*(CHOOSE({1,2},tranche1,tranche2)<=Z$6)=1,CHOOSE({1,2},tranche1,tranche2),""),ROW(Y73)),"")}
A76: PFMP2 | C76: N°sem | I76: E31 S1 | AH76: {=IFERROR(SMALL(IF((CHOOSE({1,2},tranche1,tranche2)>=Y$5)*(CHOOSE({1,2},tranche1,tranche2)<=Z$5)=1,CHOOSE({1,2},tranche1,tranche2),""),ROW(X74)),"")} | AI76: {=IFERROR(SMALL(IF((CHOOSE({1,2},tranche1,tranche2)>=Y$6)*(CHOOSE({1,2},tranche1,tranche2)<=Z$6)=1,CHOOSE({1,2},tranche1,tranche2),""),ROW(Y74)),"")}
A77: PFMP 1pro2 | B77: S1 | C77: 24 | I77: E22 S1 | AH77: {=IFERROR(SMALL(IF((CHOOSE({1,2},tranche1,tranche2)>=Y$5)*(CHOOSE({1,2},tranche1,tranche2)<=Z$5)=1,CHOOSE({1,2},tranche1,tranche2),""),ROW(X75)),"")} | AI77: {=IFERROR(SMALL(IF((CHOOSE({1,2},tranche1,tranche2)>=Y$6)*(CHOOSE({1,2},tranche1,tranche2)<=Z$6)=1,CHOOSE({1,2},tranche1,tranche2),""),ROW(Y75)),"")}
A78: PFMP 1pro2 | B78: S2 | C78: 25 | I78: Chef œuvre | AH78: {=IFERROR(SMALL(IF((CHOOSE({1,2},tranche1,tranche2)>=Y$5)*(CHOOSE({1,2},tranche1,tranche2)<=Z$5)=1,CHOOSE({1,2},tranche1,tranche2),""),ROW(X76)),"")} | AI78: {=IFERROR(SMALL(IF((CHOOSE({1,2},tranche1,tranche2)>=Y$6)*(CHOOSE({1,2},tranche1,tranche2)<=Z$6)=1,CHOOSE({1,2},tranche1,tranche2),""),ROW(Y76)),"")}
A79: PFMP 1pro2 | B79: S3 | C79: 26 | AH79: {=IFERROR(SMALL(IF((CHOOSE({1,2},tranche1,tranche2)>=Y$5)*(CHOOSE({1,2},tranche1,tranche2)<=Z$5)=1,CHOOSE({1,2},tranche1,tranche2),""),ROW(X77)),"")} | AI79: {=IFERROR(SMALL(IF((CHOOSE({1,2},tranche1,tranche2)>=Y$6)*(CHOOSE({1,2},tranche1,tranche2)<=Z$6)=1,CHOOSE({1,2},tranche1,tranche2),""),ROW(Y77)),"")}
A80: PFMP 1pro2 | B80: S4 | C80: 27 | AH80: {=IFERROR(SMALL(IF((CHOOSE({1,2},tranche1,tranche2)>=Y$5)*(CHOOSE({1,2},tranche1,tranche2)<=Z$5)=1,CHOOSE({1,2},tranche1,tranche2),""),ROW(X78)),"")} | AI80: {=IFERROR(SMALL(IF((CHOOSE({1,2},tranche1,tranche2)>=Y$6)*(CHOOSE({1,2},tranche1,tranche2)<=Z$6)=1,CHOOSE({1,2},tranche1,tranche2),""),ROW(Y78)),"")}
A81: PFMP 1pro2 | B81: S5 | D81: Planifier visite PFMP 1 | AH81: {=IFERROR(SMALL(IF((CHOOSE({1,2},tranche1,tranche2)>=Y$5)*(CHOOSE({1,2},tranche1,tranche2)<=Z$5)=1,CHOOSE({1,2},tranche1,tranche2),""),ROW(X79)),"")} | AI81: {=IFERROR(SMALL(IF((CHOOSE({1,2},tranche1,tranche2)>=Y$6)*(CHOOSE({1,2},tranche1,tranche2)<=Z$6)=1,CHOOSE({1,2},tranche1,tranche2),""),ROW(Y79)),"")}
A82: PFMP 1pro2 | B82: S6 | D82: Planifier visite PFMP 2 | AH82: {=IFERROR(SMALL(IF((CHOOSE({1,2},tranche1,tranche2)>=Y$5)*(CHOOSE({1,2},tranche1,tranche2)<=Z$5)=1,CHOOSE({1,2},tranche1,tranche2),""),ROW(X80)),"")} | AI82: {=IFERROR(SMALL(IF((CHOOSE({1,2},tranche1,tranche2)>=Y$6)*(CHOOSE({1,2},tranche1,tranche2)<=Z$6)=1,CHOOSE({1,2},tranche1,tranche2),""),ROW(Y80)),"")}
AH83: {=IFERROR(SMALL(IF((CHOOSE({1,2},tranche1,tranche2)>=Y$5)*(CHOOSE({1,2},tranche1,tranche2)<=Z$5)=1,CHOOSE({1,2},tranche1,tranche2),""),ROW(X81)),"")} | AI83: {=IFERROR(SMALL(IF((CHOOSE({1,2},tranche1,tranche2)>=Y$6)*(CHOOSE({1,2},tranche1,tranche2)<=Z$6)=1,CHOOSE({1,2},tranche1,tranche2),""),ROW(Y81)),"")}
A84: Tpro1 | AH84: {=IFERROR(SMALL(IF((CHOOSE({1,2},tranche1,tranche2)>=Y$5)*(CHOOSE({1,2},tranche1,tranche2)<=Z$5)=1,CHOOSE({1,2},tranche1,tranche2),""),ROW(X82)),"")} | AI84: {=IFERROR(SMALL(IF((CHOOSE({1,2},tranche1,tranche2)>=Y$6)*(CHOOSE({1,2},tranche1,tranche2)<=Z$6)=1,CHOOSE({1,2},tranche1,tranche2),""),ROW(Y82)),"")}
H85: Modalités CCF | AH85: {=IFERROR(SMALL(IF((CHOOSE({1,2},tranche1,tranche2)>=Y$5)*(CHOOSE({1,2},tranche1,tranche2)<=Z$5)=1,CHOOSE({1,2},tranche1,tranche2),""),ROW(X83)),"")} | AI85: {=IFERROR(SMALL(IF((CHOOSE({1,2},tranche1,tranche2)>=Y$6)*(CHOOSE({1,2},tranche1,tranche2)<=Z$6)=1,CHOOSE({1,2},tranche1,tranche2),""),ROW(Y83)),"")}
A86: PFMP1 | C86: N°sem | D86: Vie de classe | F86: Date | G86: CCF | H86: Date | I86: Points de vigilances | J86: Date | K86: Autre | L86: Date | AH86: {=IFERROR(SMALL(IF((CHOOSE({1,2},tranche1,tranche2)>=Y$5)*(CHOOSE({1,2},tranche1,tranche2)<=Z$5)=1,CHOOSE({1,2},tranche1,tranche2),""),ROW(X84)),"")} | AI86: {=IFERROR(SMALL(IF((CHOOSE({1,2},tranche1,tranche2)>=Y$6)*(CHOOSE({1,2},tranche1,tranche2)<=Z$6)=1,CHOOSE({1,2},tranche1,tranche2),""),ROW(Y84)),"")}
A87: PFMP Tpro1 | B87: S1 | C87: 36 | D87: CC Tpro1 | E87: 1 | G87: E1 S2 | I87: Retour convention Tpro1 | AH87: {=IFERROR(SMALL(IF((CHOOSE({1,2},tranche1,tranche2)>=Y$5)*(CHOOSE({1,2},tranche1,tranche2)<=Z$5)=1,CHOOSE({1,2},tranche1,tranche2),""),ROW(X85)),"")} | AI87: {=IFERROR(SMALL(IF((CHOOSE({1,2},tranche1,tranche2)>=Y$6)*(CHOOSE({1,2},tranche1,tranche2)<=Z$6)=1,CHOOSE({1,2},tranche1,tranche2),""),ROW(Y85)),"")}
A88: PFMP Tpro1 | B88: S2 | C88: 37 | D88: CC Tpro1 | E88: 2 | G88: E31 S2 | I88: Retour convention Tpro1 | AH88: {=IFERROR(SMALL(IF((CHOOSE({1,2},tranche1,tranche2)>=Y$5)*(CHOOSE({1,2},tranche1,tranche2)<=Z$5)=1,CHOOSE({1,2},tranche1,tranche2),""),ROW(X86)),"")} | AI88: {=IFERROR(SMALL(IF((CHOOSE({1,2},tranche1,tranche2)>=Y$6)*(CHOOSE({1,2},tranche1,tranche2)<=Z$6)=1,CHOOSE({1,2},tranche1,tranche2),""),ROW(Y86)),"")}
A89: PFMP Tpro1 | B89: S3 | C89: 38 | D89: CC Tpro1 | E89: 3 | G89: E22 S2 | I89: Préparation conseil Tpro1 | AH89: {=IFERROR(SMALL(IF((CHOOSE({1,2},tranche1,tranche2)>=Y$5)*(CHOOSE({1,2},tranche1,tranche2)<=Z$5)=1,CHOOSE({1,2},tranche1,tranche2),""),ROW(X87)),"")} | AI89: {=IFERROR(SMALL(IF((CHOOSE({1,2},tranche1,tranche2)>=Y$6)*(CHOOSE({1,2},tranche1,tranche2)<=Z$6)=1,CHOOSE({1,2},tranche1,tranche2),""),ROW(Y87)),"")}
A90: PFMP Tpro1 | B90: S4 | C90: 39 | D90: Réunion prt profs Tpro1 | G90: Chef œuvre | I90: Préparation conseil Tpro1 | AH90: {=IFERROR(SMALL(IF((CHOOSE({1,2},tranche1,tranche2)>=Y$5)*(CHOOSE({1,2},tranche1,tranche2)<=Z$5)=1,CHOOSE({1,2},tranche1,tranche2),""),ROW(X88)),"")} | AI90: {=IFERROR(SMALL(IF((CHOOSE({1,2},tranche1,tranche2)>=Y$6)*(CHOOSE({1,2},tranche1,tranche2)<=Z$6)=1,CHOOSE({1,2},tranche1,tranche2),""),ROW(Y88)),"")}
A91: PFMP Tpro1 | B91: S5 | D91: Photos classe Tpro1 | I91: Préparation conseil Tpro1 | AH91: {=IFERROR(SMALL(IF((CHOOSE({1,2},tranche1,tranche2)>=Y$5)*(CHOOSE({1,2},tranche1,tranche2)<=Z$5)=1,CHOOSE({1,2},tranche1,tranche2),""),ROW(X89)),"")} | AI91: {=IFERROR(SMALL(IF((CHOOSE({1,2},tranche1,tranche2)>=Y$6)*(CHOOSE({1,2},tranche1,tranche2)<=Z$6)=1,CHOOSE({1,2},tranche1,tranche2),""),ROW(Y89)),"")}
A92: PFMP Tpro1 | B92: S6 | I92: E1 S2 | AH92: {=IFERROR(SMALL(IF((CHOOSE({1,2},tranche1,tranche2)>=Y$5)*(CHOOSE({1,2},tranche1,tranche2)<=Z$5)=1,CHOOSE({1,2},tranche1,tranche2),""),ROW(X90)),"")} | AI92: {=IFERROR(SMALL(IF((CHOOSE({1,2},tranche1,tranche2)>=Y$6)*(CHOOSE({1,2},tranche1,tranche2)<=Z$6)=1,CHOOSE({1,2},tranche1,tranche2),""),ROW(Y90)),"")}
A93: PFMP2 | C93: N°sem | I93: E31 S2 | AH93: {=IFERROR(SMALL(IF((CHOOSE({1,2},tranche1,tranche2)>=Y$5)*(CHOOSE({1,2},tranche1,tranche2)<=Z$5)=1,CHOOSE({1,2},tranche1,tranche2),""),ROW(X91)),"")} | AI93: {=IFERROR(SMALL(IF((CHOOSE({1,2},tranche1,tranche2)>=Y$6)*(CHOOSE({1,2},tranche1,tranche2)<=Z$6)=1,CHOOSE({1,2},tranche1,tranche2),""),ROW(Y91)),"")}
A94: PFMP Tpro1 | B94: S1 | C94: 2 | I94: E22 S2 | AH94: {=IFERROR(SMALL(IF((CHOOSE({1,2},tranche1,tranche2)>=Y$5)*(CHOOSE({1,2},tranche1,tranche2)<=Z$5)=1,CHOOSE({1,2},tranche1,tranche2),""),ROW(X92)),"")} | AI94: {=IFERROR(SMALL(IF((CHOOSE({1,2},tranche1,tranche2)>=Y$6)*(CHOOSE({1,2},tranche1,tranche2)<=Z$6)=1,CHOOSE({1,2},tranche1,tranche2),""),ROW(Y92)),"")}
A95: PFMP Tpro1 | B95: S2 | C95: 3 | I95: Chef œuvre | AH95: {=IFERROR(SMALL(IF((CHOOSE({1,2},tranche1,tranche2)>=Y$5)*(CHOOSE({1,2},tranche1,tranche2)<=Z$5)=1,CHOOSE({1,2},tranche1,tranche2),""),ROW(X93)),"")} | AI95: {=IFERROR(SMALL(IF((CHOOSE({1,2},tranche1,tranche2)>=Y$6)*(CHOOSE({1,2},tranche1,tranche2)<=Z$6)=1,CHOOSE({1,2},tranche1,tranche2),""),ROW(Y93)),"")}
A96: PFMP Tpro1 | B96: S3 | C96: 4 | AH96: {=IFERROR(SMALL(IF((CHOOSE({1,2},tranche1,tranche2)>=Y$5)*(CHOOSE({1,2},tranche1,tranche2)<=Z$5)=1,CHOOSE({1,2},tranche1,tranche2),""),ROW(X94)),"")} | AI96: {=IFERROR(SMALL(IF((CHOOSE({1,2},tranche1,tranche2)>=Y$6)*(CHOOSE({1,2},tranche1,tranche2)<=Z$6)=1,CHOOSE({1,2},tranche1,tranche2),""),ROW(Y94)),"")}
A97: PFMP Tpro1 | B97: S4 | C97: 5 | AH97: {=IFERROR(SMALL(IF((CHOOSE({1,2},tranche1,tranche2)>=Y$5)*(CHOOSE({1,2},tranche1,tranche2)<=Z$5)=1,CHOOSE({1,2},tranche1,tranche2),""),ROW(X95)),"")} | AI97: {=IFERROR(SMALL(IF((CHOOSE({1,2},tranche1,tranche2)>=Y$6)*(CHOOSE({1,2},tranche1,tranche2)<=Z$6)=1,CHOOSE({1,2},tranche1,tranche2),""),ROW(Y95)),"")}
A98: PFMP Tpro1 | B98: S5 | D98: Planifier visite PFMP 1 | AH98: {=IFERROR(SMALL(IF((CHOOSE({1,2},tranche1,tranche2)>=Y$5)*(CHOOSE({1,2},tranche1,tranche2)<=Z$5)=1,CHOOSE({1,2},tranche1,tranche2),""),ROW(X96)),"")} | AI98: {=IFERROR(SMALL(IF((CHOOSE({1,2},tranche1,tranche2)>=Y$6)*(CHOOSE({1,2},tranche1,tranche2)<=Z$6)=1,CHOOSE({1,2},tranche1,tranche2),""),ROW(Y96)),"")}
A99: PFMP Tpro1 | B99: S6 | D99: Planifier visite PFMP 2 | AH99: {=IFERROR(SMALL(IF((CHOOSE({1,2},tranche1,tranche2)>=Y$5)*(CHOOSE({1,2},tranche1,tranche2)<=Z$5)=1,CHOOSE({1,2},tranche1,tranche2),""),ROW(X97)),"")} | AI99: {=IFERROR(SMALL(IF((CHOOSE({1,2},tranche1,tranche2)>=Y$6)*(CHOOSE({1,2},tranche1,tranche2)<=Z$6)=1,CHOOSE({1,2},tranche1,tranche2),""),ROW(Y97)),"")}
AH100: {=IFERROR(SMALL(IF((CHOOSE({1,2},tranche1,tranche2)>=Y$5)*(CHOOSE({1,2},tranche1,tranche2)<=Z$5)=1,CHOOSE({1,2},tranche1,tranche2),""),ROW(X98)),"")} | AI100: {=IFERROR(SMALL(IF((CHOOSE({1,2},tranche1,tranche2)>=Y$6)*(CHOOSE({1,2},tranche1,tranche2)<=Z$6)=1,CHOOSE({1,2},tranche1,tranche2),""),ROW(Y98)),"")}
...

Sheet Calendrier
A1: 1 | M1: Début de cycle : | N1: 36770 | O1: =+Parametrage!C1 -> 2023 | P1: Année scolaire : | V1: =+O1 -> 2023 | W1: =+O1+1 -> 2024
A2: Sem | B2: =DATE(YEAR(O1),MONTH(N1),DAY(A1)) -> 2071 | C2: Infos | D2: PFMP 1cuis | E2: PFMP Tcuis | F2: PFMP 2pro1 | G2: PFMP 2pro2 | H2: PFMP 1pro1 | I2: PFMP 1pro2 | J2: PFMP Tpro1 | K2: PFMP Tpro2 | L2: MCCDR | M2: Vie de classe | N2: Vigilance | O2: CCF | P2: Autres | Q2: Au cas ou | R2: Au cas ou | S2: Au cas ou | U2: Sem | V2: =+DATE(YEAR(O1),MONTH(N1)+1,DAY(A1)) -> 2101 | W2: Infos | X2: PFMP 1cuis | Y2: PFMP Tcuis | Z2: PFMP 2pro1 | AA2: PFMP 2pro2 | AB2: PFMP 1pro1 | AC2: PFMP 1pro2 | AD2: PFMP Tpro1 | AE2: PFMP Tpro | AF2: MCCDR | AG2: Vie de classe | AH2: Vigilance | AI2: CCF | AJ2: Autres
A3: =IFERROR(_xlfn.ISOWEEKNUM(B3),"") -> 35 | B3: =DATE(O1,MONTH(B2),1) -> 45170 | C3: =+IFERROR(INDEX('[5]Parametrage base'!B:B,MATCH(B3,'[5]Parametrage base'!C:C,0)),"") | D3: =IFERROR(INDEX('Parametrage base'!$H:$H,MATCH(A3,'Parametrage base'!$J:$J,0)),"") | E3: =IFERROR(INDEX('Parametrage base'!$K:$K,MATCH($A3,'Parametrage base'!$M:$M,0)),"") | F3: =IFERROR(INDEX('Parametrage base'!$N:$N,MATCH($A3,'Parametrage base'!$P:$P,0)),"") | G3: =IFERROR(INDEX('Parametrage base'!$Q:$Q,MATCH($A3,'Parametrage base'!$S:$S,0)),"") | H3: =IFERROR(INDEX('Parametrage base'!$T:$T,MATCH($A3,'Parametrage base'!$V:$V,0)),"") | I3: =IFERROR(INDEX('Parametrage base'!$W:$W,MATCH($A3,'Parametrage base'!$Y:$Y,0)),"") | J3: =IFERROR(INDEX('Parametrage base'!$Z:$Z,MATCH($A3,'Parametrage base'!$AB:$AB,0)),"") | K3: =IFERROR(INDEX('Parametrage base'!$AC:$AC,MATCH($A3,'Parametrage base'!$AE:$AE,0)),"") | L3: =IFERROR(INDEX('Parametrage base'!$AF:$AF,MATCH($A3,'Parametrage base'!$AH:$AH,0)),"") | M3: =IFERROR(INDEX(Parametrage!D:D,MATCH(B3,Parametrage!F:F,0)),"") | N3: =IFERROR(INDEX(Parametrage!I:I,MATCH(B3,Parametrage!J:J,0)),"") | O3: =IFERROR(INDEX(Parametrage!G:G,MATCH(B3,Parametrage!H:H,0)),"") | P3: =IFERROR(INDEX(Parametrage!K:K,MATCH(B3,Parametrage!L:L,0)),"") | U3: =IFERROR(_xlfn.ISOWEEKNUM(V3),"") -> 39 | V3: =DATE(O1,MONTH(V2),1) -> 45200 | W3: =+IFERROR(INDEX('Parametrage base'!$B:$B,MATCH(V3,'Parametrage base'!$C:$C,0)),"") | X3: =IFERROR(INDEX('Parametrage base'!$H:$H,MATCH(U3,'Parametrage base'!$J:$J,0)),"") | Y3: =IFERROR(INDEX('Parametrage base'!$K:$K,MATCH($U3,'Parametrage base'!$M:$M,0)),"") | Z3: =IFERROR(INDEX('Parametrage base'!$N:$N,MATCH($U3,'Parametrage base'!$P:$P,0)),"") | AA3: =IFERROR(INDEX('Parametrage base'!$Q:$Q,MATCH($U3,'Parametrage base'!$S:$S,0)),"") | AB3: =IFERROR(INDEX('Parametrage base'!$T:$T,MATCH($U3,'Parametrage base'!$V:$V,0)),"") | AC3: =IFERROR(INDEX('Parametrage base'!$W:$W,MATCH($U3,'Parametrage base'!$Y:$Y,0)),"") | AD3: =IFERROR(INDEX('Parametrage base'!$Z:$Z,MATCH($U3,'Parametrage base'!$AB:$AB,0)),"") -> PFMP Tpro1 | AE3: =IFERROR(INDEX('Parametrage base'!$AC:$AC,MATCH($U3,'Parametrage base'!$AE:$AE,0)),"") -> PFMP Tpro2 | AF3: =IFERROR(INDEX('Parametrage base'!$AF:$AF,MATCH($U3,'Parametrage base'!$AH:$AH,0)),"") | AG3: =IFERROR(INDEX(Parametrage!$D:$D,MATCH(V3,Parametrage!$F:$F,0)),"") | AH3: =IFERROR(INDEX(Parametrage!$I:$I,MATCH(V3,Parametrage!$J:$J,0)),"") | AI3: =IFERROR(INDEX(Parametrage!$G:$G,MATCH(V3,Parametrage!$H:$H,0)),"") | AJ3: =IFERROR(INDEX(Parametrage!$K:$K,MATCH(V3,Parametrage!$L:$L,0)),"") | AM3: Jour de l'an | AN3: =+'Parametrage base'!C20 -> 44927 | AO3: =+'Parametrage base'!C37 -> 45292
A4: =IFERROR(_xlfn.ISOWEEKNUM(B4),"") -> 35 | B4: =IF(B3<>"", IF(MONTH(B3+1)=MONTH($B$3), B3+1, ""),"") -> 45171 | C4: =+IFERROR(INDEX('Parametrage base'!B:B,MATCH(B4,'Parametrage base'!C:C,0)),"") | D4: =IFERROR(INDEX('Parametrage base'!H:H,MATCH(A4,'Parametrage base'!J:J,0)),"") | E4: =IFERROR(INDEX('Parametrage base'!$K:$K,MATCH($A4,'Parametrage base'!$M:$M,0)),"") | F4: =IFERROR(INDEX('Parametrage base'!$N:$N,MATCH($A4,'Parametrage base'!$P:$P,0)),"") | G4: =IFERROR(INDEX('Parametrage base'!$Q:$Q,MATCH($A4,'Parametrage base'!$S:$S,0)),"") | H4: =IFERROR(INDEX('Parametrage base'!$T:$T,MATCH($A4,'Parametrage base'!$V:$V,0)),"") | I4: =IFERROR(INDEX('Parametrage base'!$W:$W,MATCH($A4,'Parametrage base'!$Y:$Y,0)),"") | J4: =IFERROR(INDEX('Parametrage base'!$Z:$Z,MATCH($A4,'Parametrage base'!$AB:$AB,0)),"") | K4: =IFERROR(INDEX('Parametrage base'!$AC:$AC,MATCH($A4,'Parametrage base'!$AE:$AE,0)),"") | L4: =IFERROR(INDEX('Parametrage base'!$AF:$AF,MATCH($A4,'Parametrage base'!$AH:$AH,0)),"") | M4: =IFERROR(INDEX(Parametrage!D:D,MATCH(B4,Parametrage!F:F,0)),"") | N4: =IFERROR(INDEX(Parametrage!I:I,MATCH(B4,Parametrage!J:J,0)),"") | O4: =IFERROR(INDEX(Parametrage!G:G,MATCH(B4,Parametrage!H:H,0)),"") | P4: =IFERROR(INDEX(Parametrage!K:K,MATCH(B4,Parametrage!L:L,0)),"") | U4: =IFERROR(_xlfn.ISOWEEKNUM(V4),"") -> 40 | V4: =IF(V3<>"", IF(MONTH(V3+1)=MONTH($V$3), V3+1, ""),"") -> 45201 | W4: =+IFERROR(INDEX('Parametrage base'!B:B,MATCH(V4,'Parametrage base'!C:C,0)),"") | X4: =IFERROR(INDEX('Parametrage base'!$H:$H,MATCH(U4,'Parametrage base'!$J:$J,0)),"") | Y4: =IFERROR(INDEX('Parametrage base'!$K:$K,MATCH($U4,'Parametrage base'!$M:$M,0)),"") | Z4: =IFERROR(INDEX('Parametrage base'!$N:$N,MATCH($U4,'Parametrage base'!$P:$P,0)),"") | AA4: =IFERROR(INDEX('Parametrage base'!$Q:$Q,MATCH($U4,'Parametrage base'!$S:$S,0)),"") | AB4: =IFERROR(INDEX('Parametrage base'!$T:$T,MATCH($U4,'Parametrage base'!$V:$V,0)),"") | AC4: =IFERROR(INDEX('Parametrage base'!$W:$W,MATCH($U4,'Parametrage base'!$Y:$Y,0)),"") | AD4: =IFERROR(INDEX('Parametrage base'!$Z:$Z,MATCH($U4,'Parametrage base'!$AB:$AB,0)),"") | AE4: =IFERROR(INDEX('Parametrage base'!$AC:$AC,MATCH($U4,'Parametrage base'!$AE:$AE,0)),"") | AF4: =IFERROR(INDEX('Parametrage base'!$AF:$AF,MATCH($U4,'Parametrage base'!$AH:$AH,0)),"") -> PFMP MCCDR | AG4: =IFERROR(INDEX(Parametrage!D:D,MATCH(V4,Parametrage!F:F,0)),"") | AH4: =IFERROR(INDEX(Parametrage!I:I,MATCH(V4,Parametrage!J:J,0)),"") | AI4: =IFERROR(INDEX(Parametrage!G:G,MATCH(V4,Parametrage!H:H,0)),"") | AJ4: =IFERROR(INDEX(Parametrage!K:K,MATCH(V4,Parametrage!L:L,0)),"") | AM4: Pâques | AN4: =+'Parametrage base'!C21 -> 45025 | AO4: =+'Parametrage base'!C38 -> 45382
A5: =IFERROR(_xlfn.ISOWEEKNUM(B5),"") -> 35 | B5: =IF(B4<>"", IF(MONTH(B4+1)=MONTH($B$3), B4+1, ""),"") -> 45172 | C5: =+IFERROR(INDEX('Parametrage base'!B:B,MATCH(B5,'Parametrage base'!C:C,0)),"") | D5: =IFERROR(INDEX('Parametrage base'!H:H,MATCH(A5,'Parametrage base'!J:J,0)),"") | E5: =IFERROR(INDEX('Parametrage base'!$K:$K,MATCH($A5,'Parametrage base'!$M:$M,0)),"") | F5: =IFERROR(INDEX('Parametrage base'!$N:$N,MATCH($A5,'Parametrage base'!$P:$P,0)),"") | G5: =IFERROR(INDEX('Parametrage base'!$Q:$Q,MATCH($A5,'Parametrage base'!$S:$S,0)),"") | H5: =IFERROR(INDEX('Parametrage base'!$T:$T,MATCH($A5,'Parametrage base'!$V:$V,0)),"") | I5: =IFERROR(INDEX('Parametrage base'!$W:$W,MATCH($A5,'Parametrage base'!$Y:$Y,0)),"") | J5: =IFERROR(INDEX('Parametrage base'!$Z:$Z,MATCH($A5,'Parametrage base'!$AB:$AB,0)),"") | K5: =IFERROR(INDEX('Parametrage base'!$AC:$AC,MATCH($A5,'Parametrage base'!$AE:$AE,0)),"") | L5: =IFERROR(INDEX('Parametrage base'!$AF:$AF,MATCH($A5,'Parametrage base'!$AH:$AH,0)),"") | M5: =IFERROR(INDEX(Parametrage!D:D,MATCH(B5,Parametrage!F:F,0)),"") | N5: =IFERROR(INDEX(Parametrage!I:I,MATCH(B5,Parametrage!J:J,0)),"") | O5: =IFERROR(INDEX(Parametrage!G:G,MATCH(B5,Parametrage!H:H,0)),"") | P5: =IFERROR(INDEX(Parametrage!K:K,MATCH(B5,Parametrage!L:L,0)),"") | U5: =IFERROR(_xlfn.ISOWEEKNUM(V5),"") -> 40 | V5: =IF(V4<>"", IF(MONTH(V4+1)=MONTH($V$3), V4+1, ""),"") -> 45202 | W5: =+IFERROR(INDEX('Parametrage base'!B:B,MATCH(V5,'Parametrage base'!C:C,0)),"") | X5: =IFERROR(INDEX('Parametrage base'!$H:$H,MATCH(U5,'Parametrage base'!$J:$J,0)),"") | Y5: =IFERROR(INDEX('Parametrage base'!$K:$K,MATCH($U5,'Parametrage base'!$M:$M,0)),"") | Z5: =IFERROR(INDEX('Parametrage base'!$N:$N,MATCH($U5,'Parametrage base'!$P:$P,0)),"") | AA5: =IFERROR(INDEX('Parametrage base'!$Q:$Q,MATCH($U5,'Parametrage base'!$S:$S,0)),"") | AB5: =IFERROR(INDEX('Parametrage base'!$T:$T,MATCH($U5,'Parametrage base'!$V:$V,0)),"") | AC5: =IFERROR(INDEX('Parametrage base'!$W:$W,MATCH($U5,'Parametrage base'!$Y:$Y,0)),"") | AD5: =IFERROR(INDEX('Parametrage base'!$Z:$Z,MATCH($U5,'Parametrage base'!$AB:$AB,0)),"") | AE5: =IFERROR(INDEX('Parametrage base'!$AC:$AC,MATCH($U5,'Parametrage base'!$AE:$AE,0)),"") | AF5: =IFERROR(INDEX('Parametrage base'!$AF:$AF,MATCH($U5,'Parametrage base'!$AH:$AH,0)),"") -> PFMP MCCDR | AG5: =IFERROR(INDEX(Parametrage!D:D,MATCH(V5,Parametrage!F:F,0)),"") | AH5: =IFERROR(INDEX(Parametrage!I:I,MATCH(V5,Parametrage!J:J,0)),"") | AI5: =IFERROR(INDEX(Parametrage!G:G,MATCH(V5,Parametrage!H:H,0)),"") | AJ5: =IFERROR(INDEX(Parametrage!K:K,MATCH(V5,Parametrage!L:L,0)),"") | AM5: Lundi de pâques | AN5: =+'Parametrage base'!C22 -> 45026 | AO5: =+'Parametrage base'!C39 -> 45383
A6: =IFERROR(_xlfn.ISOWEEKNUM(B6),"") -> 36 | B6: =IF(B5<>"", IF(MONTH(B5+1)=MONTH($B$3), B5+1, ""),"") -> 45173 | C6: =+IFERROR(INDEX('Parametrage base'!B:B,MATCH(B6,'Parametrage base'!C:C,0)),"") | D6: =IFERROR(INDEX('Parametrage base'!H:H,MATCH(A6,'Parametrage base'!J:J,0)),"") | E6: =IFERROR(INDEX('Parametrage base'!$K:$K,MATCH($A6,'Parametrage base'!$M:$M,0)),"") | F6: =IFERROR(INDEX('Parametrage base'!$N:$N,MATCH($A6,'Parametrage base'!$P:$P,0)),"") | G6: =IFERROR(INDEX('Parametrage base'!$Q:$Q,MATCH($A6,'Parametrage base'!$S:$S,0)),"") | H6: =IFERROR(INDEX('Parametrage base'!$T:$T,MATCH($A6,'Parametrage base'!$V:$V,0)),"") | I6: =IFERROR(INDEX('Parametrage base'!$W:$W,MATCH($A6,'Parametrage base'!$Y:$Y,0)),"") | J6: =IFERROR(INDEX('Parametrage base'!$Z:$Z,MATCH($A6,'Parametrage base'!$AB:$AB,0)),"") -> PFMP Tpro1 | K6: =IFERROR(INDEX('Parametrage base'!$AC:$AC,MATCH($A6,'Parametrage base'!$AE:$AE,0)),"") -> PFMP Tpro2 | L6: =IFERROR(INDEX('Parametrage base'!$AF:$AF,MATCH($A6,'Parametrage base'!$AH:$AH,0)),"") | M6: =IFERROR(INDEX(Parametrage!D:D,MATCH(B6,Parametrage!F:F,0)),"") | N6: =IFERROR(INDEX(Parametrage!I:I,MATCH(B6,Parametrage!J:J,0)),"") | O6: =IFERROR(INDEX(Parametrage!G:G,MATCH(B6,Parametrage!H:H,0)),"") | P6: =IFERROR(INDEX(Parametrage!K:K,MATCH(B6,Parametrage!L:L,0)),"") | U6: =IFERROR(_xlfn.ISOWEEKNUM(V6),"") -> 40 | V6: =IF(V5<>"", IF(MONTH(V5+1)=MONTH($V$3), V5+1, ""),"") -> 45203 | W6: =+IFERROR(INDEX('Parametrage base'!B:B,MATCH(V6,'Parametrage base'!C:C,0)),"") | X6: =IFERROR(INDEX('Parametrage base'!$H:$H,MATCH(U6,'Parametrage base'!$J:$J,0)),"") | Y6: =IFERROR(INDEX('Parametrage base'!$K:$K,MATCH($U6,'Parametrage base'!$M:$M,0)),"") | Z6: =IFERROR(INDEX('Parametrage base'!$N:$N,MATCH($U6,'Parametrage base'!$P:$P,0)),"") | AA6: =IFERROR(INDEX('Parametrage base'!$Q:$Q,MATCH($U6,'Parametrage base'!$S:$S,0)),"") | AB6: =IFERROR(INDEX('Parametrage base'!$T:$T,MATCH($U6,'Parametrage base'!$V:$V,0)),"") | AC6: =IFERROR(INDEX('Parametrage base'!$W:$W,MATCH($U6,'Parametrage base'!$Y:$Y,0)),"") | AD6: =IFERROR(INDEX('Parametrage base'!$Z:$Z,MATCH($U6,'Parametrage base'!$AB:$AB,0)),"") | AE6: =IFERROR(INDEX('Parametrage base'!$AC:$AC,MATCH($U6,'Parametrage base'!$AE:$AE,0)),"") | AF6: =IFERROR(INDEX('Parametrage base'!$AF:$AF,MATCH($U6,'Parametrage base'!$AH:$AH,0)),"") -> PFMP MCCDR | AG6: =IFERROR(INDEX(Parametrage!D:D,MATCH(V6,Parametrage!F:F,0)),"") | AH6: =IFERROR(INDEX(Parametrage!I:I,MATCH(V6,Parametrage!J:J,0)),"") | AI6: =IFERROR(INDEX(Parametrage!G:G,MATCH(V6,Parametrage!H:H,0)),"") | AJ6: =IFERROR(INDEX(Parametrage!K:K,MATCH(V6,Parametrage!L:L,0)),"") | AM6: Fête deu travail | AN6: =+'Parametrage base'!C23 -> 45047 | AO6: =+'Parametrage base'!C40 -> 45413
A7: =IFERROR(_xlfn.ISOWEEKNUM(B7),"") -> 36 | B7: =IF(B6<>"", IF(MONTH(B6+1)=MONTH($B$3), B6+1, ""),"") -> 45174 | C7: =+IFERROR(INDEX('Parametrage base'!B:B,MATCH(B7,'Parametrage base'!C:C,0)),"") | D7: =IFERROR(INDEX('Parametrage base'!H:H,MATCH(A7,'Parametrage base'!J:J,0)),"") | E7: =IFERROR(INDEX('Parametrage base'!$K:$K,MATCH($A7,'Parametrage base'!$M:$M,0)),"") | F7: =IFERROR(INDEX('Parametrage base'!$N:$N,MATCH($A7,'Parametrage base'!$P:$P,0)),"") | G7: =IFERROR(INDEX('Parametrage base'!$Q:$Q,MATCH($A7,'Parametrage base'!$S:$S,0)),"") | H7: =IFERROR(INDEX('Parametrage base'!$T:$T,MATCH($A7,'Parametrage base'!$V:$V,0)),"") | I7: =IFERROR(INDEX('Parametrage base'!$W:$W,MATCH($A7,'Parametrage base'!$Y:$Y,0)),"") | J7: =IFERROR(INDEX('Parametrage base'!$Z:$Z,MATCH($A7,'Parametrage base'!$AB:$AB,0)),"") -> PFMP Tpro1 | K7: =IFERROR(INDEX('Parametrage base'!$AC:$AC,MATCH($A7,'Parametrage base'!$AE:$AE,0)),"") -> PFMP Tpro2 | L7: =IFERROR(INDEX('Parametrage base'!$AF:$AF,MATCH($A7,'Parametrage base'!$AH:$AH,0)),"") | M7: =IFERROR(INDEX(Parametrage!D:D,MATCH(B7,Parametrage!F:F,0)),"") | N7: =IFERROR(INDEX(Parametrage!I:I,MATCH(B7,Parametrage!J:J,0)),"") | O7: =IFERROR(INDEX(Parametrage!G:G,MATCH(B7,Parametrage!H:H,0)),"") | P7: =IFERROR(INDEX(Parametrage!K:K,MATCH(B7,Parametrage!L:L,0)),"") | U7: =IFERROR(_xlfn.ISOWEEKNUM(V7),"") -> 40 | V7: =IF(V6<>"", IF(MONTH(V6+1)=MONTH($V$3), V6+1, ""),"") -> 45204 | W7: =+IFERROR(INDEX('Parametrage base'!B:B,MATCH(V7,'Parametrage base'!C:C,0)),"") | X7: =IFERROR(INDEX('Parametrage base'!$H:$H,MATCH(U7,'Parametrage base'!$J:$J,0)),"") | Y7: =IFERROR(INDEX('Parametrage base'!$K:$K,MATCH($U7,'Parametrage base'!$M:$M,0)),"") | Z7: =IFERROR(INDEX('Parametrage base'!$N:$N,MATCH($U7,'Parametrage base'!$P:$P,0)),"") | AA7: =IFERROR(INDEX('Parametrage base'!$Q:$Q,MATCH($U7,'Parametrage base'!$S:$S,0)),"") | AB7: =IFERROR(INDEX('Parametrage base'!$T:$T,MATCH($U7,'Parametrage base'!$V:$V,0)),"") | AC7: =IFERROR(INDEX('Parametrage base'!$W:$W,MATCH($U7,'Parametrage base'!$Y:$Y,0)),"") | AD7: =IFERROR(INDEX('Parametrage base'!$Z:$Z,MATCH($U7,'Parametrage base'!$AB:$AB,0)),"") | AE7: =IFERROR(INDEX('Parametrage base'!$AC:$AC,MATCH($U7,'Parametrage base'!$AE:$AE,0)),"") | AF7: =IFERROR(INDEX('Parametrage base'!$AF:$AF,MATCH($U7,'Parametrage base'!$AH:$AH,0)),"") -> PFMP MCCDR | AG7: =IFERROR(INDEX(Parametrage!D:D,MATCH(V7,Parametrage!F:F,0)),"") | AH7: =IFERROR(INDEX(Parametrage!I:I,MATCH(V7,Parametrage!J:J,0)),"") | AI7: =IFERROR(INDEX(Parametrage!G:G,MATCH(V7,Parametrage!H:H,0)),"") | AJ7: =IFERROR(INDEX(Parametrage!K:K,MATCH(V7,Parametrage!L:L,0)),"") | AM7: Armistice 39/45 | AN7: =+'Parametrage base'!C24 -> 45054 | AO7: =+'Parametrage base'!C41 -> 45420
A8: =IFERROR(_xlfn.ISOWEEKNUM(B8),"") -> 36 | B8: =IF(B7<>"", IF(MONTH(B7+1)=MONTH($B$3), B7+1, ""),"") -> 45175 | C8: =+IFERROR(INDEX('Parametrage base'!B:B,MATCH(B8,'Parametrage base'!C:C,0)),"") | D8: =IFERROR(INDEX('Parametrage base'!H:H,MATCH(A8,'Parametrage base'!J:J,0)),"") | E8: =IFERROR(INDEX('Parametrage base'!$K:$K,MATCH($A8,'Parametrage base'!$M:$M,0)),"") | F8: =IFERROR(INDEX('Parametrage base'!$N:$N,MATCH($A8,'Parametrage base'!$P:$P,0)),"") | G8: =IFERROR(INDEX('Parametrage base'!$Q:$Q,MATCH($A8,'Parametrage base'!$S:$S,0)),"") | H8: =IFERROR(INDEX('Parametrage base'!$T:$T,MATCH($A8,'Parametrage base'!$V:$V,0)),"") | I8: =IFERROR(INDEX('Parametrage base'!$W:$W,MATCH($A8,'Parametrage base'!$Y:$Y,0)),"") | J8: =IFERROR(INDEX('Parametrage base'!$Z:$Z,MATCH($A8,'Parametrage base'!$AB:$AB,0)),"") -> PFMP Tpro1 | K8: =IFERROR(INDEX('Parametrage base'!$AC:$AC,MATCH($A8,'Parametrage base'!$AE:$AE,0)),"") -> PFMP Tpro2 | L8: =IFERROR(INDEX('Parametrage base'!$AF:$AF,MATCH($A8,'Parametrage base'!$AH:$AH,0)),"") | M8: =IFERROR(INDEX(Parametrage!D:D,MATCH(B8,Parametrage!F:F,0)),"") | N8: =IFERROR(INDEX(Parametrage!I:I,MATCH(B8,Parametrage!J:J,0)),"") | O8: =IFERROR(INDEX(Parametrage!G:G,MATCH(B8,Parametrage!H:H,0)),"") | P8: =IFERROR(INDEX(Parametrage!K:K,MATCH(B8,Parametrage!L:L,0)),"") | U8: =IFERROR(_xlfn.ISOWEEKNUM(V8),"") -> 40 | V8: =IF(V7<>"", IF(MONTH(V7+1)=MONTH($V$3), V7+1, ""),"") -> 45205 | W8: =+IFERROR(INDEX('Parametrage base'!B:B,MATCH(V8,'Parametrage base'!C:C,0)),"") | X8: =IFERROR(INDEX('Parametrage base'!$H:$H,MATCH(U8,'Parametrage base'!$J:$J,0)),"") | Y8: =IFERROR(INDEX('Parametrage base'!$K:$K,MATCH($U8,'Parametrage base'!$M:$M,0)),"") | Z8: =IFERROR(INDEX('Parametrage base'!$N:$N,MATCH($U8,'Parametrage base'!$P:$P,0)),"") | AA8: =IFERROR(INDEX('Parametrage base'!$Q:$Q,MATCH($U8,'Parametrage base'!$S:$S,0)),"") | AB8: =IFERROR(INDEX('Parametrage base'!$T:$T,MATCH($U8,'Parametrage base'!$V:$V,0)),"") | AC8: =IFERROR(INDEX('Parametrage base'!$W:$W,MATCH($U8,'Parametrage base'!$Y:$Y,0)),"") | AD8: =IFERROR(INDEX('Parametrage base'!$Z:$Z,MATCH($U8,'Parametrage base'!$AB:$AB,0)),"") | AE8: =IFERROR(INDEX('Parametrage base'!$AC:$AC,MATCH($U8,'Parametrage base'!$AE:$AE,0)),"") | AF8: =IFERROR(INDEX('Parametrage base'!$AF:$AF,MATCH($U8,'Parametrage base'!$AH:$AH,0)),"") -> PFMP MCCDR | AG8: =IFERROR(INDEX(Parametrage!D:D,MATCH(V8,Parametrage!F:F,0)),"") | AH8: =IFERROR(INDEX(Parametrage!I:I,MATCH(V8,Parametrage!J:J,0)),"") | AI8: =IFERROR(INDEX(Parametrage!G:G,MATCH(V8,Parametrage!H:H,0)),"") | AJ8: =IFERROR(INDEX(Parametrage!K:K,MATCH(V8,Parametrage!L:L,0)),"") | AM8: Ascension | AN8: =+'Parametrage base'!C25 -> 45064 | AO8: =+'Parametrage base'!C42 -> 45421
A9: =IFERROR(_xlfn.ISOWEEKNUM(B9),"") -> 36 | B9: =IF(B8<>"", IF(MONTH(B8+1)=MONTH($B$3), B8+1, ""),"") -> 45176 | C9: =+IFERROR(INDEX('Parametrage base'!B:B,MATCH(B9,'Parametrage base'!C:C,0)),"") | D9: =IFERROR(INDEX('Parametrage base'!H:H,MATCH(A9,'Parametrage base'!J:J,0)),"") | E9: =IFERROR(INDEX('Parametrage base'!$K:$K,MATCH($A9,'Parametrage base'!$M:$M,0)),"") | F9: =IFERROR(INDEX('Parametrage base'!$N:$N,MATCH($A9,'Parametrage base'!$P:$P,0)),"") | G9: =IFERROR(INDEX('Parametrage base'!$Q:$Q,MATCH($A9,'Parametrage base'!$S:$S,0)),"") | H9: =IFERROR(INDEX('Parametrage base'!$T:$T,MATCH($A9,'Parametrage base'!$V:$V,0)),"") | I9: =IFERROR(INDEX('Parametrage base'!$W:$W,MATCH($A9,'Parametrage base'!$Y:$Y,0)),"") | J9: =IFERROR(INDEX('Parametrage base'!$Z:$Z,MATCH($A9,'Parametrage base'!$AB:$AB,0)),"") -> PFMP Tpro1 | K9: =IFERROR(INDEX('Parametrage base'!$AC:$AC,MATCH($A9,'Parametrage base'!$AE:$AE,0)),"") -> PFMP Tpro2 | L9: =IFERROR(INDEX('Parametrage base'!$AF:$AF,MATCH($A9,'Parametrage base'!$AH:$AH,0)),"") | M9: =IFERROR(INDEX(Parametrage!D:D,MATCH(B9,Parametrage!F:F,0)),"") | N9: =IFERROR(INDEX(Parametrage!I:I,MATCH(B9,Parametrage!J:J,0)),"") | O9: =IFERROR(INDEX(Parametrage!G:G,MATCH(B9,Parametrage!H:H,0)),"") | P9: =IFERROR(INDEX(Parametrage!K:K,MATCH(B9,Parametrage!L:L,0)),"") | U9: =IFERROR(_xlfn.ISOWEEKNUM(V9),"") -> 40 | V9: =IF(V8<>"", IF(MONTH(V8+1)=MONTH($V$3), V8+1, ""),"") -> 45206 | W9: =+IFERROR(INDEX('Parametrage base'!B:B,MATCH(V9,'Parametrage base'!C:C,0)),"") | X9: =IFERROR(INDEX('Parametrage base'!$H:$H,MATCH(U9,'Parametrage base'!$J:$J,0)),"") | Y9: =IFERROR(INDEX('Parametrage base'!$K:$K,MATCH($U9,'Parametrage base'!$M:$M,0)),"") | Z9: =IFERROR(INDEX('Parametrage base'!$N:$N,MATCH($U9,'Parametrage base'!$P:$P,0)),"") | AA9: =IFERROR(INDEX('Parametrage base'!$Q:$Q,MATCH($U9,'Parametrage base'!$S:$S,0)),"") | AB9: =IFERROR(INDEX('Parametrage base'!$T:$T,MATCH($U9,'Parametrage base'!$V:$V,0)),"") | AC9: =IFERROR(INDEX('Parametrage base'!$W:$W,MATCH($U9,'Parametrage base'!$Y:$Y,0)),"") | AD9: =IFERROR(INDEX('Parametrage base'!$Z:$Z,MATCH($U9,'Parametrage base'!$AB:$AB,0)),"") | AE9: =IFERROR(INDEX('Parametrage base'!$AC:$AC,MATCH($U9,'Parametrage base'!$AE:$AE,0)),"") | AF9: =IFERROR(INDEX('Parametrage base'!$AF:$AF,MATCH($U9,'Parametrage base'!$AH:$AH,0)),"") -> PFMP MCCDR | AG9: =IFERROR(INDEX(Parametrage!D:D,MATCH(V9,Parametrage!F:F,0)),"") | AH9: =IFERROR(INDEX(Parametrage!I:I,MATCH(V9,Parametrage!J:J,0)),"") | AI9: =IFERROR(INDEX(Parametrage!G:G,MATCH(V9,Parametrage!H:H,0)),"") | AJ9: =IFERROR(INDEX(Parametrage!K:K,MATCH(V9,Parametrage!L:L,0)),"") | AM9: Pentecôte | AN9: =+'Parametrage base'!C26 -> 45074 | AO9: =+'Parametrage base'!C43 -> 45431
A10: =IFERROR(_xlfn.ISOWEEKNUM(B10),"") -> 36 | B10: =IF(B9<>"", IF(MONTH(B9+1)=MONTH($B$3), B9+1, ""),"") -> 45177 | C10: =+IFERROR(INDEX('Parametrage base'!B:B,MATCH(B10,'Parametrage base'!C:C,0)),"") | D10: =IFERROR(INDEX('Parametrage base'!H:H,MATCH(A10,'Parametrage base'!J:J,0)),"") | E10: =IFERROR(INDEX('Parametrage base'!$K:$K,MATCH($A10,'Parametrage base'!$M:$M,0)),"") | F10: =IFERROR(INDEX('Parametrage base'!$N:$N,MATCH($A10,'Parametrage base'!$P:$P,0)),"") | G10: =IFERROR(INDEX('Parametrage base'!$Q:$Q,MATCH($A10,'Parametrage base'!$S:$S,0)),"") | H10: =IFERROR(INDEX('Parametrage base'!$T:$T,MATCH($A10,'Parametrage base'!$V:$V,0)),"") | I10: =IFERROR(INDEX('Parametrage base'!$W:$W,MATCH($A10,'Parametrage base'!$Y:$Y,0)),"") | J10: =IFERROR(INDEX('Parametrage base'!$Z:$Z,MATCH($A10,'Parametrage base'!$AB:$AB,0)),"") -> PFMP Tpro1 | K10: =IFERROR(INDEX('Parametrage base'!$AC:$AC,MATCH($A10,'Parametrage base'!$AE:$AE,0)),"") -> PFMP Tpro2 | L10: =IFERROR(INDEX('Parametrage base'!$AF:$AF,MATCH($A10,'Parametrage base'!$AH:$AH,0)),"") | M10: =IFERROR(INDEX(Parametrage!D:D,MATCH(B10,Parametrage!F:F,0)),"") | N10: =IFERROR(INDEX(Parametrage!I:I,MATCH(B10,Parametrage!J:J,0)),"") | O10: =IFERROR(INDEX(Parametrage!G:G,MATCH(B10,Parametrage!H:H,0)),"") | P10: =IFERROR(INDEX(Parametrage!K:K,MATCH(B10,Parametrage!L:L,0)),"") | U10: =IFERROR(_xlfn.ISOWEEKNUM(V10),"") -> 40 | V10: =IF(V9<>"", IF(MONTH(V9+1)=MONTH($V$3), V9+1, ""),"") -> 45207 | W10: =+IFERROR(INDEX('Parametrage base'!B:B,MATCH(V10,'Parametrage base'!C:C,0)),"") | X10: =IFERROR(INDEX('Parametrage base'!$H:$H,MATCH(U10,'Parametrage base'!$J:$J,0)),"") | Y10: =IFERROR(INDEX('Parametrage base'!$K:$K,MATCH($U10,'Parametrage base'!$M:$M,0)),"") | Z10: =IFERROR(INDEX('Parametrage base'!$N:$N,MATCH($U10,'Parametrage base'!$P:$P,0)),"") | AA10: =IFERROR(INDEX('Parametrage base'!$Q:$Q,MATCH($U10,'Parametrage base'!$S:$S,0)),"") | AB10: =IFERROR(INDEX('Parametrage base'!$T:$T,MATCH($U10,'Parametrage base'!$V:$V,0)),"") | AC10: =IFERROR(INDEX('Parametrage base'!$W:$W,MATCH($U10,'Parametrage base'!$Y:$Y,0)),"") | AD10: =IFERROR(INDEX('Parametrage base'!$Z:$Z,MATCH($U10,'Parametrage base'!$AB:$AB,0)),"") | AE10: =IFERROR(INDEX('Parametrage base'!$AC:$AC,MATCH($U10,'Parametrage base'!$AE:$AE,0)),"") | AF10: =IFERROR(INDEX('Parametrage base'!$AF:$AF,MATCH($U10,'Parametrage base'!$AH:$AH,0)),"") -> PFMP MCCDR | AG10: =IFERROR(INDEX(Parametrage!D:D,MATCH(V10,Parametrage!F:F,0)),"") | AH10: =IFERROR(INDEX(Parametrage!I:I,MATCH(V10,Parametrage!J:J,0)),"") | AI10: =IFERROR(INDEX(Parametrage!G:G,MATCH(V10,Parametrage!H:H,0)),"") | AJ10: =IFERROR(INDEX(Parametrage!K:K,MATCH(V10,Parametrage!L:L,0)),"") | AM10: Lundi de Pentecôte | AN10: =+'Parametrage base'!C27 -> 45075 | AO10: =+'Parametrage base'!C44 -> 45432
A11: =IFERROR(_xlfn.ISOWEEKNUM(B11),"") -> 36 | B11: =IF(B10<>"", IF(MONTH(B10+1)=MONTH($B$3), B10+1, ""),"") -> 45178 | C11: =+IFERROR(INDEX('Parametrage base'!B:B,MATCH(B11,'Parametrage base'!C:C,0)),"") | D11: =IFERROR(INDEX('Parametrage base'!H:H,MATCH(A11,'Parametrage base'!J:J,0)),"") | E11: =IFERROR(INDEX('Parametrage base'!$K:$K,MATCH($A11,'Parametrage base'!$M:$M,0)),"") | F11: =IFERROR(INDEX('Parametrage base'!$N:$N,MATCH($A11,'Parametrage base'!$P:$P,0)),"") | G11: =IFERROR(INDEX('Parametrage base'!$Q:$Q,MATCH($A11,'Parametrage base'!$S:$S,0)),"") | H11: =IFERROR(INDEX('Parametrage base'!$T:$T,MATCH($A11,'Parametrage base'!$V:$V,0)),"") | I11: =IFERROR(INDEX('Parametrage base'!$W:$W,MATCH($A11,'Parametrage base'!$Y:$Y,0)),"") | J11: =IFERROR(INDEX('Parametrage base'!$Z:$Z,MATCH($A11,'Parametrage base'!$AB:$AB,0)),"") -> PFMP Tpro1 | K11: =IFERROR(INDEX('Parametrage base'!$AC:$AC,MATCH($A11,'Parametrage base'!$AE:$AE,0)),"") -> PFMP Tpro2 | L11: =IFERROR(INDEX('Parametrage base'!$AF:$AF,MATCH($A11,'Parametrage base'!$AH:$AH,0)),"") | M11: =IFERROR(INDEX(Parametrage!D:D,MATCH(B11,Parametrage!F:F,0)),"") | N11: =IFERROR(INDEX(Parametrage!I:I,MATCH(B11,Parametrage!J:J,0)),"") | O11: =IFERROR(INDEX(Parametrage!G:G,MATCH(B11,Parametrage!H:H,0)),"") | P11: =IFERROR(INDEX(Parametrage!K:K,MATCH(B11,Parametrage!L:L,0)),"") | U11: =IFERROR(_xlfn.ISOWEEKNUM(V11),"") -> 41 | V11: =IF(V10<>"", IF(MONTH(V10+1)=MONTH($V$3), V10+1, ""),"") -> 45208 | W11: =+IFERROR(INDEX('Parametrage base'!B:B,MATCH(V11,'Parametrage base'!C:C,0)),"") | X11: =IFERROR(INDEX('Parametrage base'!$H:$H,MATCH(U11,'Parametrage base'!$J:$J,0)),"") | Y11: =IFERROR(INDEX('Parametrage base'!$K:$K,MATCH($U11,'Parametrage base'!$M:$M,0)),"") | Z11: =IFERROR(INDEX('Parametrage base'!$N:$N,MATCH($U11,'Parametrage base'!$P:$P,0)),"") | AA11: =IFERROR(INDEX('Parametrage base'!$Q:$Q,MATCH($U11,'Parametrage base'!$S:$S,0)),"") | AB11: =IFERROR(INDEX('Parametrage base'!$T:$T,MATCH($U11,'Parametrage base'!$V:$V,0)),"") | AC11: =IFERROR(INDEX('Parametrage base'!$W:$W,MATCH($U11,'Parametrage base'!$Y:$Y,0)),"") | AD11: =IFERROR(INDEX('Parametrage base'!$Z:$Z,MATCH($U11,'Parametrage base'!$AB:$AB,0)),"") | AE11: =IFERROR(INDEX('Parametrage base'!$AC:$AC,MATCH($U11,'Parametrage base'!$AE:$AE,0)),"") | AF11: =IFERROR(INDEX('Parametrage base'!$AF:$AF,MATCH($U11,'Parametrage base'!$AH:$AH,0)),"") -> PFMP MCCDR | AG11: =IFERROR(INDEX(Parametrage!D:D,MATCH(V11,Parametrage!F:F,0)),"") | AH11: =IFERROR(INDEX(Parametrage!I:I,MATCH(V11,Parametrage!J:J,0)),"") | AI11: =IFERROR(INDEX(Parametrage!G:G,MATCH(V11,Parametrage!H:H,0)),"") | AJ11: =IFERROR(INDEX(Parametrage!K:K,MATCH(V11,Parametrage!L:L,0)),"") | AM11: Fête nationale | AN11: =+'Parametrage base'!C28 -> 45121 | AO11: =+'Parametrage base'!C45 -> 45487
A12: =IFERROR(_xlfn.ISOWEEKNUM(B12),"") -> 36 | B12: =IF(B11<>"", IF(MONTH(B11+1)=MONTH($B$3), B11+1, ""),"") -> 45179 | C12: =+IFERROR(INDEX('Parametrage base'!B:B,MATCH(B12,'Parametrage base'!C:C,0)),"") | D12: =IFERROR(INDEX('Parametrage base'!H:H,MATCH(A12,'Parametrage base'!J:J,0)),"") | E12: =IFERROR(INDEX('Parametrage base'!$K:$K,MATCH($A12,'Parametrage base'!$M:$M,0)),"") | F12: =IFERROR(INDEX('Parametrage base'!$N:$N,MATCH($A12,'Parametrage base'!$P:$P,0)),"") | G12: =IFERROR(INDEX('Parametrage base'!$Q:$Q,MATCH($A12,'Parametrage base'!$S:$S,0)),"") | H12: =IFERROR(INDEX('Parametrage base'!$T:$T,MATCH($A12,'Parametrage base'!$V:$V,0)),"") | I12: =IFERROR(INDEX('Parametrage base'!$W:$W,MATCH($A12,'Parametrage base'!$Y:$Y,0)),"") | J12: =IFERROR(INDEX('Parametrage base'!$Z:$Z,MATCH($A12,'Parametrage base'!$AB:$AB,0)),"") -> PFMP Tpro1 | K12: =IFERROR(INDEX('Parametrage base'!$AC:$AC,MATCH($A12,'Parametrage base'!$AE:$AE,0)),"") -> PFMP Tpro2 | L12: =IFERROR(INDEX('Parametrage base'!$AF:$AF,MATCH($A12,'Parametrage base'!$AH:$AH,0)),"") | M12: =IFERROR(INDEX(Parametrage!D:D,MATCH(B12,Parametrage!F:F,0)),"") | N12: =IFERROR(INDEX(Parametrage!I:I,MATCH(B12,Parametrage!J:J,0)),"") | O12: =IFERROR(INDEX(Parametrage!G:G,MATCH(B12,Parametrage!H:H,0)),"") | P12: =IFERROR(INDEX(Parametrage!K:K,MATCH(B12,Parametrage!L:L,0)),"") | U12: =IFERROR(_xlfn.ISOWEEKNUM(V12),"") -> 41 | V12: =IF(V11<>"", IF(MONTH(V11+1)=MONTH($V$3), V11+1, ""),"") -> 45209 | W12: =+IFERROR(INDEX('Parametrage base'!B:B,MATCH(V12,'Parametrage base'!C:C,0)),"") | X12: =IFERROR(INDEX('Parametrage base'!$H:$H,MATCH(U12,'Parametrage base'!$J:$J,0)),"") | Y12: =IFERROR(INDEX('Parametrage base'!$K:$K,MATCH($U12,'Parametrage base'!$M:$M,0)),"") | Z12: =IFERROR(INDEX('Parametrage base'!$N:$N,MATCH($U12,'Parametrage base'!$P:$P,0)),"") | AA12: =IFERROR(INDEX('Parametrage base'!$Q:$Q,MATCH($U12,'Parametrage base'!$S:$S,0)),"") | AB12: =IFERROR(INDEX('Parametrage base'!$T:$T,MATCH($U12,'Parametrage base'!$V:$V,0)),"") | AC12: =IFERROR(INDEX('Parametrage base'!$W:$W,MATCH($U12,'Parametrage base'!$Y:$Y,0)),"") | AD12: =IFERROR(INDEX('Parametrage base'!$Z:$Z,MATCH($U12,'Parametrage base'!$AB:$AB,0)),"") | AE12: =IFERROR(INDEX('Parametrage base'!$AC:$AC,MATCH($U12,'Parametrage base'!$AE:$AE,0)),"") | AF12: =IFERROR(INDEX('Parametrage base'!$AF:$AF,MATCH($U12,'Parametrage base'!$AH:$AH,0)),"") -> PFMP MCCDR | AG12: =IFERROR(INDEX(Parametrage!D:D,MATCH(V12,Parametrage!F:F,0)),"") | AH12: =IFERROR(INDEX(Parametrage!I:I,MATCH(V12,Parametrage!J:J,0)),"") | AI12: =IFERROR(INDEX(Parametrage!G:G,MATCH(V12,Parametrage!H:H,0)),"") | AJ12: =IFERROR(INDEX(Parametrage!K:K,MATCH(V12,Parametrage!L:L,0)),"") | AM12: Asomption | AN12: =+'Parametrage base'!C29 -> 45153 | AO12: =+'Parametrage base'!C46 -> 45519
A13: =IFERROR(_xlfn.ISOWEEKNUM(B13),"") -> 37 | B13: =IF(B12<>"", IF(MONTH(B12+1)=MONTH($B$3), B12+1, ""),"") -> 45180 | C13: =+IFERROR(INDEX('Parametrage base'!B:B,MATCH(B13,'Parametrage base'!C:C,0)),"") | D13: =IFERROR(INDEX('Parametrage base'!H:H,MATCH(A13,'Parametrage base'!J:J,0)),"") | E13: =IFERROR(INDEX('Parametrage base'!$K:$K,MATCH($A13,'Parametrage base'!$M:$M,0)),"") | F13: =IFERROR(INDEX('Parametrage base'!$N:$N,MATCH($A13,'Parametrage base'!$P:$P,0)),"") | G13: =IFERROR(INDEX('Parametrage base'!$Q:$Q,MATCH($A13,'Parametrage base'!$S:$S,0)),"") | H13: =IFERROR(INDEX('Parametrage base'!$T:$T,MATCH($A13,'Parametrage base'!$V:$V,0)),"") | I13: =IFERROR(INDEX('Parametrage base'!$W:$W,MATCH($A13,'Parametrage base'!$Y:$Y,0)),"") | J13: =IFERROR(INDEX('Parametrage base'!$Z:$Z,MATCH($A13,'Parametrage base'!$AB:$AB,0)),"") -> PFMP Tpro1 | K13: =IFERROR(INDEX('Parametrage base'!$AC:$AC,MATCH($A13,'Parametrage base'!$AE:$AE,0)),"") -> PFMP Tpro2 | L13: =IFERROR(INDEX('Parametrage base'!$AF:$AF,MATCH($A13,'Parametrage base'!$AH:$AH,0)),"") | M13: =IFERROR(INDEX(Parametrage!D:D,MATCH(B13,Parametrage!F:F,0)),"") | N13: =IFERROR(INDEX(Parametrage!I:I,MATCH(B13,Parametrage!J:J,0)),"") | O13: =IFERROR(INDEX(Parametrage!G:G,MATCH(B13,Parametrage!H:H,0)),"") | P13: =IFERROR(INDEX(Parametrage!K:K,MATCH(B13,Parametrage!L:L,0)),"") | U13: =IFERROR(_xlfn.ISOWEEKNUM(V13),"") -> 41 | V13: =IF(V12<>"", IF(MONTH(V12+1)=MONTH($V$3), V12+1, ""),"") -> 45210 | W13: =+IFERROR(INDEX('Parametrage base'!B:B,MATCH(V13,'Parametrage base'!C:C,0)),"") | X13: =IFERROR(INDEX('Parametrage base'!$H:$H,MATCH(U13,'Parametrage base'!$J:$J,0)),"") | Y13: =IFERROR(INDEX('Parametrage base'!$K:$K,MATCH($U13,'Parametrage base'!$M:$M,0)),"") | Z13: =IFERROR(INDEX('Parametrage base'!$N:$N,MATCH($U13,'Parametrage base'!$P:$P,0)),"") | AA13: =IFERROR(INDEX('Parametrage base'!$Q:$Q,MATCH($U13,'Parametrage base'!$S:$S,0)),"") | AB13: =IFERROR(INDEX('Parametrage base'!$T:$T,MATCH($U13,'Parametrage base'!$V:$V,0)),"") | AC13: =IFERROR(INDEX('Parametrage base'!$W:$W,MATCH($U13,'Parametrage base'!$Y:$Y,0)),"") | AD13: =IFERROR(INDEX('Parametrage base'!$Z:$Z,MATCH($U13,'Parametrage base'!$AB:$AB,0)),"") | AE13: =IFERROR(INDEX('Parametrage base'!$AC:$AC,MATCH($U13,'Parametrage base'!$AE:$AE,0)),"") | AF13: =IFERROR(INDEX('Parametrage base'!$AF:$AF,MATCH($U13,'Parametrage base'!$AH:$AH,0)),"") -> PFMP MCCDR | AG13: =IFERROR(INDEX(Parametrage!D:D,MATCH(V13,Parametrage!F:F,0)),"") | AH13: =IFERROR(INDEX(Parametrage!I:I,MATCH(V13,Parametrage!J:J,0)),"") | AI13: =IFERROR(INDEX(Parametrage!G:G,MATCH(V13,Parametrage!H:H,0)),"") | AJ13: =IFERROR(INDEX(Parametrage!K:K,MATCH(V13,Parametrage!L:L,0)),"") | AM13: Toussaint | AN13: =+'Parametrage base'!C30 -> 45231 | AO13: =+'Parametrage base'!C47 -> 45597
A14: =IFERROR(_xlfn.ISOWEEKNUM(B14),"") -> 37 | B14: =IF(B13<>"", IF(MONTH(B13+1)=MONTH($B$3), B13+1, ""),"") -> 45181 | C14: =+IFERROR(INDEX('Parametrage base'!B:B,MATCH(B14,'Parametrage base'!C:C,0)),"") | D14: =IFERROR(INDEX('Parametrage base'!H:H,MATCH(A14,'Parametrage base'!J:J,0)),"") | E14: =IFERROR(INDEX('Parametrage base'!$K:$K,MATCH($A14,'Parametrage base'!$M:$M,0)),"") | F14: =IFERROR(INDEX('Parametrage base'!$N:$N,MATCH($A14,'Parametrage base'!$P:$P,0)),"") | G14: =IFERROR(INDEX('Parametrage base'!$Q:$Q,MATCH($A14,'Parametrage base'!$S:$S,0)),"") | H14: =IFERROR(INDEX('Parametrage base'!$T:$T,MATCH($A14,'Parametrage base'!$V:$V,0)),"") | I14: =IFERROR(INDEX('Parametrage base'!$W:$W,MATCH($A14,'Parametrage base'!$Y:$Y,0)),"") | J14: =IFERROR(INDEX('Parametrage base'!$Z:$Z,MATCH($A14,'Parametrage base'!$AB:$AB,0)),"") -> PFMP Tpro1 | K14: =IFERROR(INDEX('Parametrage base'!$AC:$AC,MATCH($A14,'Parametrage base'!$AE:$AE,0)),"") -> PFMP Tpro2 | L14: =IFERROR(INDEX('Parametrage base'!$AF:$AF,MATCH($A14,'Parametrage base'!$AH:$AH,0)),"") | M14: =IFERROR(INDEX(Parametrage!D:D,MATCH(B14,Parametrage!F:F,0)),"") | N14: =IFERROR(INDEX(Parametrage!I:I,MATCH(B14,Parametrage!J:J,0)),"") | O14: =IFERROR(INDEX(Parametrage!G:G,MATCH(B14,Parametrage!H:H,0)),"") | P14: =IFERROR(INDEX(Parametrage!K:K,MATCH(B14,Parametrage!L:L,0)),"") | U14: =IFERROR(_xlfn.ISOWEEKNUM(V14),"") -> 41 | V14: =IF(V13<>"", IF(MONTH(V13+1)=MONTH($V$3), V13+1, ""),"") -> 45211 | W14: =+IFERROR(INDEX('Parametrage base'!B:B,MATCH(V14,'Parametrage base'!C:C,0)),"") | X14: =IFERROR(INDEX('Parametrage base'!$H:$H,MATCH(U14,'Parametrage base'!$J:$J,0)),"") | Y14: =IFERROR(INDEX('Parametrage base'!$K:$K,MATCH($U14,'Parametrage base'!$M:$M,0)),"") | Z14: =IFERROR(INDEX('Parametrage base'!$N:$N,MATCH($U14,'Parametrage base'!$P:$P,0)),"") | AA14: =IFERROR(INDEX('Parametrage base'!$Q:$Q,MATCH($U14,'Parametrage base'!$S:$S,0)),"") | AB14: =IFERROR(INDEX('Parametrage base'!$T:$T,MATCH($U14,'Parametrage base'!$V:$V,0)),"") | AC14: =IFERROR(INDEX('Parametrage base'!$W:$W,MATCH($U14,'Parametrage base'!$Y:$Y,0)),"") | AD14: =IFERROR(INDEX('Parametrage base'!$Z:$Z,MATCH($U14,'Parametrage base'!$AB:$AB,0)),"") | AE14: =IFERROR(INDEX('Parametrage base'!$AC:$AC,MATCH($U14,'Parametrage base'!$AE:$AE,0)),"") | AF14: =IFERROR(INDEX('Parametrage base'!$AF:$AF,MATCH($U14,'Parametrage base'!$AH:$AH,0)),"") -> PFMP MCCDR | AG14: =IFERROR(INDEX(Parametrage!D:D,MATCH(V14,Parametrage!F:F,0)),"") | AH14: =IFERROR(INDEX(Parametrage!I:I,MATCH(V14,Parametrage!J:J,0)),"") | AI14: =IFERROR(INDEX(Parametrage!G:G,MATCH(V14,Parametrage!H:H,0)),"") | AJ14: =IFERROR(INDEX(Parametrage!K:K,MATCH(V14,Parametrage!L:L,0)),"") | AM14: Armistice 14/18 | AN14: =+'Parametrage base'!C31 -> 45241 | AO14: =+'Parametrage base'!C48 -> 45607
A15: =IFERROR(_xlfn.ISOWEEKNUM(B15),"") -> 37 | B15: =IF(B14<>"", IF(MONTH(B14+1)=MONTH($B$3), B14+1, ""),"") -> 45182 | C15: =+IFERROR(INDEX('Parametrage base'!B:B,MATCH(B15,'Parametrage base'!C:C,0)),"") | D15: =IFERROR(INDEX('Parametrage base'!H:H,MATCH(A15,'Parametrage base'!J:J,0)),"") | E15: =IFERROR(INDEX('Parametrage base'!$K:$K,MATCH($A15,'Parametrage base'!$M:$M,0)),"") | F15: =IFERROR(INDEX('Parametrage base'!$N:$N,MATCH($A15,'Parametrage base'!$P:$P,0)),"") | G15: =IFERROR(INDEX('Parametrage base'!$Q:$Q,MATCH($A15,'Parametrage base'!$S:$S,0)),"") | H15: =IFERROR(INDEX('Parametrage base'!$T:$T,MATCH($A15,'Parametrage base'!$V:$V,0)),"") | I15: =IFERROR(INDEX('Parametrage base'!$W:$W,MATCH($A15,'Parametrage base'!$Y:$Y,0)),"") | J15: =IFERROR(INDEX('Parametrage base'!$Z:$Z,MATCH($A15,'Parametrage base'!$AB:$AB,0)),"") -> PFMP Tpro1 | K15: =IFERROR(INDEX('Parametrage base'!$AC:$AC,MATCH($A15,'Parametrage base'!$AE:$AE,0)),"") -> PFMP Tpro2 | L15: =IFERROR(INDEX('Parametrage base'!$AF:$AF,MATCH($A15,'Parametrage base'!$AH:$AH,0)),"") | M15: =IFERROR(INDEX(Parametrage!D:D,MATCH(B15,Parametrage!F:F,0)),"") | N15: =IFERROR(INDEX(Parametrage!I:I,MATCH(B15,Parametrage!J:J,0)),"") | O15: =IFERROR(INDEX(Parametrage!G:G,MATCH(B15,Parametrage!H:H,0)),"") | P15: =IFERROR(INDEX(Parametrage!K:K,MATCH(B15,Parametrage!L:L,0)),"") | U15: =IFERROR(_xlfn.ISOWEEKNUM(V15),"") -> 41 | V15: =IF(V14<>"", IF(MONTH(V14+1)=MONTH($V$3), V14+1, ""),"") -> 45212 | W15: =+IFERROR(INDEX('Parametrage base'!B:B,MATCH(V15,'Parametrage base'!C:C,0)),"") | X15: =IFERROR(INDEX('Parametrage base'!$H:$H,MATCH(U15,'Parametrage base'!$J:$J,0)),"") | Y15: =IFERROR(INDEX('Parametrage base'!$K:$K,MATCH($U15,'Parametrage base'!$M:$M,0)),"") | Z15: =IFERROR(INDEX('Parametrage base'!$N:$N,MATCH($U15,'Parametrage base'!$P:$P,0)),"") | AA15: =IFERROR(INDEX('Parametrage base'!$Q:$Q,MATCH($U15,'Parametrage base'!$S:$S,0)),"") | AB15: =IFERROR(INDEX('Parametrage base'!$T:$T,MATCH($U15,'Parametrage base'!$V:$V,0)),"") | AC15: =IFERROR(INDEX('Parametrage base'!$W:$W,MATCH($U15,'Parametrage base'!$Y:$Y,0)),"") | AD15: =IFERROR(INDEX('Parametrage base'!$Z:$Z,MATCH($U15,'Parametrage base'!$AB:$AB,0)),"") | AE15: =IFERROR(INDEX('Parametrage base'!$AC:$AC,MATCH($U15,'Parametrage base'!$AE:$AE,0)),"") | AF15: =IFERROR(INDEX('Parametrage base'!$AF:$AF,MATCH($U15,'Parametrage base'!$AH:$AH,0)),"") -> PFMP MCCDR | AG15: =IFERROR(INDEX(Parametrage!D:D,MATCH(V15,Parametrage!F:F,0)),"") | AH15: =IFERROR(INDEX(Parametrage!I:I,MATCH(V15,Parametrage!J:J,0)),"") | AI15: =IFERROR(INDEX(Parametrage!G:G,MATCH(V15,Parametrage!H:H,0)),"") | AJ15: =IFERROR(INDEX(Parametrage!K:K,MATCH(V15,Parametrage!L:L,0)),"") | AM15: Noël | AN15: =+'Parametrage base'!C32 -> 45285 | AO15: =+'Parametrage base'!C49 -> 45651
A16: =IFERROR(_xlfn.ISOWEEKNUM(B16),"") -> 37 | B16: =IF(B15<>"", IF(MONTH(B15+1)=MONTH($B$3), B15+1, ""),"") -> 45183 | C16: =+IFERROR(INDEX('Parametrage base'!B:B,MATCH(B16,'Parametrage base'!C:C,0)),"") | D16: =IFERROR(INDEX('Parametrage base'!H:H,MATCH(A16,'Parametrage base'!J:J,0)),"") | E16: =IFERROR(INDEX('Parametrage base'!$K:$K,MATCH($A16,'Parametrage base'!$M:$M,0)),"") | F16: =IFERROR(INDEX('Parametrage base'!$N:$N,MATCH($A16,'Parametrage base'!$P:$P,0)),"") | G16: =IFERROR(INDEX('Parametrage base'!$Q:$Q,MATCH($A16,'Parametrage base'!$S:$S,0)),"") | H16: =IFERROR(INDEX('Parametrage base'!$T:$T,MATCH($A16,'Parametrage base'!$V:$V,0)),"") | I16: =IFERROR(INDEX('Parametrage base'!$W:$W,MATCH($A16,'Parametrage base'!$Y:$Y,0)),"") | J16: =IFERROR(INDEX('Parametrage base'!$Z:$Z,MATCH($A16,'Parametrage base'!$AB:$AB,0)),"") -> PFMP Tpro1 | K16: =IFERROR(INDEX('Parametrage base'!$AC:$AC,MATCH($A16,'Parametrage base'!$AE:$AE,0)),"") -> PFMP Tpro2 | L16: =IFERROR(INDEX('Parametrage base'!$AF:$AF,MATCH($A16,'Parametrage base'!$AH:$AH,0)),"") | M16: =IFERROR(INDEX(Parametrage!D:D,MATCH(B16,Parametrage!F:F,0)),"") | N16: =IFERROR(INDEX(Parametrage!I:I,MATCH(B16,Parametrage!J:J,0)),"") | O16: =IFERROR(INDEX(Parametrage!G:G,MATCH(B16,Parametrage!H:H,0)),"") | P16: =IFERROR(INDEX(Parametrage!K:K,MATCH(B16,Parametrage!L:L,0)),"") | U16: =IFERROR(_xlfn.ISOWEEKNUM(V16),"") -> 41 | V16: =IF(V15<>"", IF(MONTH(V15+1)=MONTH($V$3), V15+1, ""),"") -> 45213 | W16: =+IFERROR(INDEX('Parametrage base'!B:B,MATCH(V16,'Parametrage base'!C:C,0)),"") | X16: =IFERROR(INDEX('Parametrage base'!$H:$H,MATCH(U16,'Parametrage base'!$J:$J,0)),"") | Y16: =IFERROR(INDEX('Parametrage base'!$K:$K,MATCH($U16,'Parametrage base'!$M:$M,0)),"") | Z16: =IFERROR(INDEX('Parametrage base'!$N:$N,MATCH($U16,'Parametrage base'!$P:$P,0)),"") | AA16: =IFERROR(INDEX('Parametrage base'!$Q:$Q,MATCH($U16,'Parametrage base'!$S:$S,0)),"") | AB16: =IFERROR(INDEX('Parametrage base'!$T:$T,MATCH($U16,'Parametrage base'!$V:$V,0)),"") | AC16: =IFERROR(INDEX('Parametrage base'!$W:$W,MATCH($U16,'Parametrage base'!$Y:$Y,0)),"") | AD16: =IFERROR(INDEX('Parametrage base'!$Z:$Z,MATCH($U16,'Parametrage base'!$AB:$AB,0)),"") | AE16: =IFERROR(INDEX('Parametrage base'!$AC:$AC,MATCH($U16,'Parametrage base'!$AE:$AE,0)),"") | AF16: =IFERROR(INDEX('Parametrage base'!$AF:$AF,MATCH($U16,'Parametrage base'!$AH:$AH,0)),"") -> PFMP MCCDR | AG16: =IFERROR(INDEX(Parametrage!D:D,MATCH(V16,Parametrage!F:F,0)),"") | AH16: =IFERROR(INDEX(Parametrage!I:I,MATCH(V16,Parametrage!J:J,0)),"") | AI16: =IFERROR(INDEX(Parametrage!G:G,MATCH(V16,Parametrage!H:H,0)),"") | AJ16: =IFERROR(INDEX(Parametrage!K:K,MATCH(V16,Parametrage!L:L,0)),"")
A17: =IFERROR(_xlfn.ISOWEEKNUM(B17),"") -> 37 | B17: =IF(B16<>"", IF(MONTH(B16+1)=MONTH($B$3), B16+1, ""),"") -> 45184 | C17: =+IFERROR(INDEX('Parametrage base'!B:B,MATCH(B17,'Parametrage base'!C:C,0)),"") | D17: =IFERROR(INDEX('Parametrage base'!H:H,MATCH(A17,'Parametrage base'!J:J,0)),"") | E17: =IFERROR(INDEX('Parametrage base'!$K:$K,MATCH($A17,'Parametrage base'!$M:$M,0)),"") | F17: =IFERROR(INDEX('Parametrage base'!$N:$N,MATCH($A17,'Parametrage base'!$P:$P,0)),"") | G17: =IFERROR(INDEX('Parametrage base'!$Q:$Q,MATCH($A17,'Parametrage base'!$S:$S,0)),"") | H17: =IFERROR(INDEX('Parametrage base'!$T:$T,MATCH($A17,'Parametrage base'!$V:$V,0)),"") | I17: =IFERROR(INDEX('Parametrage base'!$W:$W,MATCH($A17,'Parametrage base'!$Y:$Y,0)),"") | J17: =IFERROR(INDEX('Parametrage base'!$Z:$Z,MATCH($A17,'Parametrage base'!$AB:$AB,0)),"") -> PFMP Tpro1 | K17: =IFERROR(INDEX('Parametrage base'!$AC:$AC,MATCH($A17,'Parametrage base'!$AE:$AE,0)),"") -> PFMP Tpro2 | L17: =IFERROR(INDEX('Parametrage base'!$AF:$AF,MATCH($A17,'Parametrage base'!$AH:$AH,0)),"") | M17: =IFERROR(INDEX(Parametrage!D:D,MATCH(B17,Parametrage!F:F,0)),"") | N17: =IFERROR(INDEX(Parametrage!I:I,MATCH(B17,Parametrage!J:J,0)),"") | O17: =IFERROR(INDEX(Parametrage!G:G,MATCH(B17,Parametrage!H:H,0)),"") | P17: =IFERROR(INDEX(Parametrage!K:K,MATCH(B17,Parametrage!L:L,0)),"") | U17: =IFERROR(_xlfn.ISOWEEKNUM(V17),"") -> 41 | V17: =IF(V16<>"", IF(MONTH(V16+1)=MONTH($V$3), V16+1, ""),"") -> 45214 | W17: =+IFERROR(INDEX('Parametrage base'!B:B,MATCH(V17,'Parametrage base'!C:C,0)),"") | X17: =IFERROR(INDEX('Parametrage base'!$H:$H,MATCH(U17,'Parametrage base'!$J:$J,0)),"") | Y17: =IFERROR(INDEX('Parametrage base'!$K:$K,MATCH($U17,'Parametrage base'!$M:$M,0)),"") | Z17: =IFERROR(INDEX('Parametrage base'!$N:$N,MATCH($U17,'Parametrage base'!$P:$P,0)),"") | AA17: =IFERROR(INDEX('Parametrage base'!$Q:$Q,MATCH($U17,'Parametrage base'!$S:$S,0)),"") | AB17: =IFERROR(INDEX('Parametrage base'!$T:$T,MATCH($U17,'Parametrage base'!$V:$V,0)),"") | AC17: =IFERROR(INDEX('Parametrage base'!$W:$W,MATCH($U17,'Parametrage base'!$Y:$Y,0)),"") | AD17: =IFERROR(INDEX('Parametrage base'!$Z:$Z,MATCH($U17,'Parametrage base'!$AB:$AB,0)),"") | AE17: =IFERROR(INDEX('Parametrage base'!$AC:$AC,MATCH($U17,'Parametrage base'!$AE:$AE,0)),"") | AF17: =IFERROR(INDEX('Parametrage base'!$AF:$AF,MATCH($U17,'Parametrage base'!$AH:$AH,0)),"") -> PFMP MCCDR | AG17: =IFERROR(INDEX(Parametrage!D:D,MATCH(V17,Parametrage!F:F,0)),"") | AH17: =IFERROR(INDEX(Parametrage!I:I,MATCH(V17,Parametrage!J:J,0)),"") | AI17: =IFERROR(INDEX(Parametrage!G:G,MATCH(V17,Parametrage!H:H,0)),"") | AJ17: =IFERROR(INDEX(Parametrage!K:K,MATCH(V17,Parametrage!L:L,0)),"") | AN17: Semaine
A18: =IFERROR(_xlfn.ISOWEEKNUM(B18),"") -> 37 | B18: =IF(B17<>"", IF(MONTH(B17+1)=MONTH($B$3), B17+1, ""),"") -> 45185 | C18: =+IFERROR(INDEX('Parametrage base'!B:B,MATCH(B18,'Parametrage base'!C:C,0)),"") | D18: =IFERROR(INDEX('Parametrage base'!H:H,MATCH(A18,'Parametrage base'!J:J,0)),"") | E18: =IFERROR(INDEX('Parametrage base'!$K:$K,MATCH($A18,'Parametrage base'!$M:$M,0)),"") | F18: =IFERROR(INDEX('Parametrage base'!$N:$N,MATCH($A18,'Parametrage base'!$P:$P,0)),"") | G18: =IFERROR(INDEX('Parametrage base'!$Q:$Q,MATCH($A18,'Parametrage base'!$S:$S,0)),"") | H18: =IFERROR(INDEX('Parametrage base'!$T:$T,MATCH($A18,'Parametrage base'!$V:$V,0)),"") | I18: =IFERROR(INDEX('Parametrage base'!$W:$W,MATCH($A18,'Parametrage base'!$Y:$Y,0)),"") | J18: =IFERROR(INDEX('Parametrage base'!$Z:$Z,MATCH($A18,'Parametrage base'!$AB:$AB,0)),"") -> PFMP Tpro1 | K18: =IFERROR(INDEX('Parametrage base'!$AC:$AC,MATCH($A18,'Parametrage base'!$AE:$AE,0)),"") -> PFMP Tpro2 | L18: =IFERROR(INDEX('Parametrage base'!$AF:$AF,MATCH($A18,'Parametrage base'!$AH:$AH,0)),"") | M18: =IFERROR(INDEX(Parametrage!D:D,MATCH(B18,Parametrage!F:F,0)),"") | N18: =IFERROR(INDEX(Parametrage!I:I,MATCH(B18,Parametrage!J:J,0)),"") | O18: =IFERROR(INDEX(Parametrage!G:G,MATCH(B18,Parametrage!H:H,0)),"") | P18: =IFERROR(INDEX(Parametrage!K:K,MATCH(B18,Parametrage!L:L,0)),"") | U18: =IFERROR(_xlfn.ISOWEEKNUM(V18),"") -> 42 | V18: =IF(V17<>"", IF(MONTH(V17+1)=MONTH($V$3), V17+1, ""),"") -> 45215 | W18: =+IFERROR(INDEX('Parametrage base'!B:B,MATCH(V18,'Parametrage base'!C:C,0)),"") | X18: =IFERROR(INDEX('Parametrage base'!$H:$H,MATCH(U18,'Parametrage base'!$J:$J,0)),"") | Y18: =IFERROR(INDEX('Parametrage base'!$K:$K,MATCH($U18,'Parametrage base'!$M:$M,0)),"") | Z18: =IFERROR(INDEX('Parametrage base'!$N:$N,MATCH($U18,'Parametrage base'!$P:$P,0)),"") | AA18: =IFERROR(INDEX('Parametrage base'!$Q:$Q,MATCH($U18,'Parametrage base'!$S:$S,0)),"") | AB18: =IFERROR(INDEX('Parametrage base'!$T:$T,MATCH($U18,'Parametrage base'!$V:$V,0)),"") | AC18: =IFERROR(INDEX('Parametrage base'!$W:$W,MATCH($U18,'Parametrage base'!$Y:$Y,0)),"") | AD18: =IFERROR(INDEX('Parametrage base'!$Z:$Z,MATCH($U18,'Parametrage base'!$AB:$AB,0)),"") | AE18: =IFERROR(INDEX('Parametrage base'!$AC:$AC,MATCH($U18,'Parametrage base'!$AE:$AE,0)),"") | AF18: =IFERROR(INDEX('Parametrage base'!$AF:$AF,MATCH($U18,'Parametrage base'!$AH:$AH,0)),"") -> PFMP MCCDR | AG18: =IFERROR(INDEX(Parametrage!D:D,MATCH(V18,Parametrage!F:F,0)),"") | AH18: =IFERROR(INDEX(Parametrage!I:I,MATCH(V18,Parametrage!J:J,0)),"") | AI18: =IFERROR(INDEX(Parametrage!G:G,MATCH(V18,Parametrage!H:H,0)),"") | AJ18: =IFERROR(INDEX(Parametrage!K:K,MATCH(V18,Parametrage!L:L,0)),"") | AM18: =+'Parametrage base'!D3 -> Vacances toussaint | AN18: =+'Parametrage base'!E3 -> 43
A19: =IFERROR(_xlfn.ISOWEEKNUM(B19),"") -> 37 | B19: =IF(B18<>"", IF(MONTH(B18+1)=MONTH($B$3), B18+1, ""),"") -> 45186 | C19: =+IFERROR(INDEX('Parametrage base'!B:B,MATCH(B19,'Parametrage base'!C:C,0)),"") | D19: =IFERROR(INDEX('Parametrage base'!H:H,MATCH(A19,'Parametrage base'!J:J,0)),"") | E19: =IFERROR(INDEX('Parametrage base'!$K:$K,MATCH($A19,'Parametrage base'!$M:$M,0)),"") | F19: =IFERROR(INDEX('Parametrage base'!$N:$N,MATCH($A19,'Parametrage base'!$P:$P,0)),"") | G19: =IFERROR(INDEX('Parametrage base'!$Q:$Q,MATCH($A19,'Parametrage base'!$S:$S,0)),"") | H19: =IFERROR(INDEX('Parametrage base'!$T:$T,MATCH($A19,'Parametrage base'!$V:$V,0)),"") | I19: =IFERROR(INDEX('Parametrage base'!$W:$W,MATCH($A19,'Parametrage base'!$Y:$Y,0)),"") | J19: =IFERROR(INDEX('Parametrage base'!$Z:$Z,MATCH($A19,'Parametrage base'!$AB:$AB,0)),"") -> PFMP Tpro1 | K19: =IFERROR(INDEX('Parametrage base'!$AC:$AC,MATCH($A19,'Parametrage base'!$AE:$AE,0)),"") -> PFMP Tpro2 | L19: =IFERROR(INDEX('Parametrage base'!$AF:$AF,MATCH($A19,'Parametrage base'!$AH:$AH,0)),"") | M19: =IFERROR(INDEX(Parametrage!D:D,MATCH(B19,Parametrage!F:F,0)),"") | N19: =IFERROR(INDEX(Parametrage!I:I,MATCH(B19,Parametrage!J:J,0)),"") | O19: =IFERROR(INDEX(Parametrage!G:G,MATCH(B19,Parametrage!H:H,0)),"") | P19: =IFERROR(INDEX(Parametrage!K:K,MATCH(B19,Parametrage!L:L,0)),"") | U19: =IFERROR(_xlfn.ISOWEEKNUM(V19),"") -> 42 | V19: =IF(V18<>"", IF(MONTH(V18+1)=MONTH($V$3), V18+1, ""),"") -> 45216 | W19: =+IFERROR(INDEX('Parametrage base'!B:B,MATCH(V19,'Parametrage base'!C:C,0)),"") | X19: =IFERROR(INDEX('Parametrage base'!$H:$H,MATCH(U19,'Parametrage base'!$J:$J,0)),"") | Y19: =IFERROR(INDEX('Parametrage base'!$K:$K,MATCH($U19,'Parametrage base'!$M:$M,0)),"") | Z19: =IFERROR(INDEX('Parametrage base'!$N:$N,MATCH($U19,'Parametrage base'!$P:$P,0)),"") | AA19: =IFERROR(INDEX('Parametrage base'!$Q:$Q,MATCH($U19,'Parametrage base'!$S:$S,0)),"") | AB19: =IFERROR(INDEX('Parametrage base'!$T:$T,MATCH($U19,'Parametrage base'!$V:$V,0)),"") | AC19: =IFERROR(INDEX('Parametrage base'!$W:$W,MATCH($U19,'Parametrage base'!$Y:$Y,0)),"") | AD19: =IFERROR(INDEX('Parametrage base'!$Z:$Z,MATCH($U19,'Parametrage base'!$AB:$AB,0)),"") | AE19: =IFERROR(INDEX('Parametrage base'!$AC:$AC,MATCH($U19,'Parametrage base'!$AE:$AE,0)),"") | AF19: =IFERROR(INDEX('Parametrage base'!$AF:$AF,MATCH($U19,'Parametrage base'!$AH:$AH,0)),"") -> PFMP MCCDR | AG19: =IFERROR(INDEX(Parametrage!D:D,MATCH(V19,Parametrage!F:F,0)),"") | AH19: =IFERROR(INDEX(Parametrage!I:I,MATCH(V19,Parametrage!J:J,0)),"") | AI19: =IFERROR(INDEX(Parametrage!G:G,MATCH(V19,Parametrage!H:H,0)),"") | AJ19: =IFERROR(INDEX(Parametrage!K:K,MATCH(V19,Parametrage!L:L,0)),"") | AN19: =+'Parametrage base'!E4 -> 44
A20: =IFERROR(_xlfn.ISOWEEKNUM(B20),"") -> 38 | B20: =IF(B19<>"", IF(MONTH(B19+1)=MONTH($B$3), B19+1, ""),"") -> 45187 | C20: =+IFERROR(INDEX('Parametrage base'!B:B,MATCH(B20,'Parametrage base'!C:C,0)),"") -> Ouverture Application | D20: =IFERROR(INDEX('Parametrage base'!H:H,MATCH(A20,'Parametrage base'!J:J,0)),"") | E20: =IFERROR(INDEX('Parametrage base'!$K:$K,MATCH($A20,'Parametrage base'!$M:$M,0)),"") | F20: =IFERROR(INDEX('Parametrage base'!$N:$N,MATCH($A20,'Parametrage base'!$P:$P,0)),"") | G20: =IFERROR(INDEX('Parametrage base'!$Q:$Q,MATCH($A20,'Parametrage base'!$S:$S,0)),"") | H20: =IFERROR(INDEX('Parametrage base'!$T:$T,MATCH($A20,'Parametrage base'!$V:$V,0)),"") | I20: =IFERROR(INDEX('Parametrage base'!$W:$W,MATCH($A20,'Parametrage base'!$Y:$Y,0)),"") | J20: =IFERROR(INDEX('Parametrage base'!$Z:$Z,MATCH($A20,'Parametrage base'!$AB:$AB,0)),"") -> PFMP Tpro1 | K20: =IFERROR(INDEX('Parametrage base'!$AC:$AC,MATCH($A20,'Parametrage base'!$AE:$AE,0)),"") -> PFMP Tpro2 | L20: =IFERROR(INDEX('Parametrage base'!$AF:$AF,MATCH($A20,'Parametrage base'!$AH:$AH,0)),"") | M20: =IFERROR(INDEX(Parametrage!D:D,MATCH(B20,Parametrage!F:F,0)),"") -> Photos classe Tpro2 | N20: =IFERROR(INDEX(Parametrage!I:I,MATCH(B20,Parametrage!J:J,0)),"") | O20: =IFERROR(INDEX(Parametrage!G:G,MATCH(B20,Parametrage!H:H,0)),"") | P20: =IFERROR(INDEX(Parametrage!K:K,MATCH(B20,Parametrage!L:L,0)),"") | U20: =IFERROR(_xlfn.ISOWEEKNUM(V20),"") -> 42 | V20: =IF(V19<>"", IF(MONTH(V19+1)=MONTH($V$3), V19+1, ""),"") -> 45217 | W20: =+IFERROR(INDEX('Parametrage base'!B:B,MATCH(V20,'Parametrage base'!C:C,0)),"") | X20: =IFERROR(INDEX('Parametrage base'!$H:$H,MATCH(U20,'Parametrage base'!$J:$J,0)),"") | Y20: =IFERROR(INDEX('Parametrage base'!$K:$K,MATCH($U20,'Parametrage base'!$M:$M,0)),"") | Z20: =IFERROR(INDEX('Parametrage base'!$N:$N,MATCH($U20,'Parametrage base'!$P:$P,0)),"") | AA20: =IFERROR(INDEX('Parametrage base'!$Q:$Q,MATCH($U20,'Parametrage base'!$S:$S,0)),"") | AB20: =IFERROR(INDEX('Parametrage base'!$T:$T,MATCH($U20,'Parametrage base'!$V:$V,0)),"") | AC20: =IFERROR(INDEX('Parametrage base'!$W:$W,MATCH($U20,'Parametrage base'!$Y:$Y,0)),"") | AD20: =IFERROR(INDEX('Parametrage base'!$Z:$Z,MATCH($U20,'Parametrage base'!$AB:$AB,0)),"") | AE20: =IFERROR(INDEX('Parametrage base'!$AC:$AC,MATCH($U20,'Parametrage base'!$AE:$AE,0)),"") | AF20: =IFERROR(INDEX('Parametrage base'!$AF:$AF,MATCH($U20,'Parametrage base'!$AH:$AH,0)),"") -> PFMP MCCDR | AG20: =IFERROR(INDEX(Parametrage!D:D,MATCH(V20,Parametrage!F:F,0)),"") | AH20: =IFERROR(INDEX(Parametrage!I:I,MATCH(V20,Parametrage!J:J,0)),"") | AI20: =IFERROR(INDEX(Parametrage!G:G,MATCH(V20,Parametrage!H:H,0)),"") | AJ20: =IFERROR(INDEX(Parametrage!K:K,MATCH(V20,Parametrage!L:L,0)),"") | AM20: =+'Parametrage base'!D5 -> Vacances Noël | AN20: =+'Parametrage base'!E5 -> 52
A21: =IFERROR(_xlfn.ISOWEEKNUM(B21),"") -> 38 | B21: =IF(B20<>"", IF(MONTH(B20+1)=MONTH($B$3), B20+1, ""),"") -> 45188 | C21: =+IFERROR(INDEX('Parametrage base'!B:B,MATCH(B21,'Parametrage base'!C:C,0)),"") | D21: =IFERROR(INDEX('Parametrage base'!H:H,MATCH(A21,'Parametrage base'!J:J,0)),"") | E21: =IFERROR(INDEX('Parametrage base'!$K:$K,MATCH($A21,'Parametrage base'!$M:$M,0)),"") | F21: =IFERROR(INDEX('Parametrage base'!$N:$N,MATCH($A21,'Parametrage base'!$P:$P,0)),"") | G21: =IFERROR(INDEX('Parametrage base'!$Q:$Q,MATCH($A21,'Parametrage base'!$S:$S,0)),"") | H21: =IFERROR(INDEX('Parametrage base'!$T:$T,MATCH($A21,'Parametrage base'!$V:$V,0)),"") | I21: =IFERROR(INDEX('Parametrage base'!$W:$W,MATCH($A21,'Parametrage base'!$Y:$Y,0)),"") | J21: =IFERROR(INDEX('Parametrage base'!$Z:$Z,MATCH($A21,'Parametrage base'!$AB:$AB,0)),"") -> PFMP Tpro1 | K21: =IFERROR(INDEX('Parametrage base'!$AC:$AC,MATCH($A21,'Parametrage base'!$AE:$AE,0)),"") -> PFMP Tpro2 | L21: =IFERROR(INDEX('Parametrage base'!$AF:$AF,MATCH($A21,'Parametrage base'!$AH:$AH,0)),"") | M21: =IFERROR(INDEX(Parametrage!D:D,MATCH(B21,Parametrage!F:F,0)),"") | N21: =IFERROR(INDEX(Parametrage!I:I,MATCH(B21,Parametrage!J:J,0)),"") | O21: =IFERROR(INDEX(Parametrage!G:G,MATCH(B21,Parametrage!H:H,0)),"") | P21: =IFERROR(INDEX(Parametrage!K:K,MATCH(B21,Parametrage!L:L,0)),"") | U21: =IFERROR(_xlfn.ISOWEEKNUM(V21),"") -> 42 | V21: =IF(V20<>"", IF(MONTH(V20+1)=MONTH($V$3), V20+1, ""),"") -> 45218 | W21: =+IFERROR(INDEX('Parametrage base'!B:B,MATCH(V21,'Parametrage base'!C:C,0)),"") | X21: =IFERROR(INDEX('Parametrage base'!$H:$H,MATCH(U21,'Parametrage base'!$J:$J,0)),"") | Y21: =IFERROR(INDEX('Parametrage base'!$K:$K,MATCH($U21,'Parametrage base'!$M:$M,0)),"") | Z21: =IFERROR(INDEX('Parametrage base'!$N:$N,MATCH($U21,'Parametrage base'!$P:$P,0)),"") | AA21: =IFERROR(INDEX('Parametrage base'!$Q:$Q,MATCH($U21,'Parametrage base'!$S:$S,0)),"") | AB21: =IFERROR(INDEX('Parametrage base'!$T:$T,MATCH($U21,'Parametrage base'!$V:$V,0)),"") | AC21: =IFERROR(INDEX('Parametrage base'!$W:$W,MATCH($U21,'Parametrage base'!$Y:$Y,0)),"") | AD21: =IFERROR(INDEX('Parametrage base'!$Z:$Z,MATCH($U21,'Parametrage base'!$AB:$AB,0)),"") | AE21: =IFERROR(INDEX('Parametrage base'!$AC:$AC,MATCH($U21,'Parametrage base'!$AE:$AE,0)),"") | AF21: =IFERROR(INDEX('Parametrage base'!$AF:$AF,MATCH($U21,'Parametrage base'!$AH:$AH,0)),"") -> PFMP MCCDR | AG21: =IFERROR(INDEX(Parametrage!D:D,MATCH(V21,Parametrage!F:F,0)),"") | AH21: =IFERROR(INDEX(Parametrage!I:I,MATCH(V21,Parametrage!J:J,0)),"") | AI21: =IFERROR(INDEX(Parametrage!G:G,MATCH(V21,Parametrage!H:H,0)),"") | AJ21: =IFERROR(INDEX(Parametrage!K:K,MATCH(V21,Parametrage!L:L,0)),"") | AN21: =+'Parametrage base'!E6 -> 1
A22: =IFERROR(_xlfn.ISOWEEKNUM(B22),"") -> 38 | B22: =IF(B21<>"", IF(MONTH(B21+1)=MONTH($B$3), B21+1, ""),"") -> 45189 | C22: =+IFERROR(INDEX('Parametrage base'!B:B,MATCH(B22,'Parametrage base'!C:C,0)),"") | D22: =IFERROR(INDEX('Parametrage base'!H:H,MATCH(A22,'Parametrage base'!J:J,0)),"") | E22: =IFERROR(INDEX('Parametrage base'!$K:$K,MATCH($A22,'Parametrage base'!$M:$M,0)),"") | F22: =IFERROR(INDEX('Parametrage base'!$N:$N,MATCH($A22,'Parametrage base'!$P:$P,0)),"") | G22: =IFERROR(INDEX('Parametrage base'!$Q:$Q,MATCH($A22,'Parametrage base'!$S:$S,0)),"") | H22: =IFERROR(INDEX('Parametrage base'!$T:$T,MATCH($A22,'Parametrage base'!$V:$V,0)),"") | I22: =IFERROR(INDEX('Parametrage base'!$W:$W,MATCH($A22,'Parametrage base'!$Y:$Y,0)),"") | J22: =IFERROR(INDEX('Parametrage base'!$Z:$Z,MATCH($A22,'Parametrage base'!$AB:$AB,0)),"") -> PFMP Tpro1 | K22: =IFERROR(INDEX('Parametrage base'!$AC:$AC,MATCH($A22,'Parametrage base'!$AE:$AE,0)),"") -> PFMP Tpro2 | L22: =IFERROR(INDEX('Parametrage base'!$AF:$AF,MATCH($A22,'Parametrage base'!$AH:$AH,0)),"") | M22: =IFERROR(INDEX(Parametrage!D:D,MATCH(B22,Parametrage!F:F,0)),"") | N22: =IFERROR(INDEX(Parametrage!I:I,MATCH(B22,Parametrage!J:J,0)),"") | O22: =IFERROR(INDEX(Parametrage!G:G,MATCH(B22,Parametrage!H:H,0)),"") | P22: =IFERROR(INDEX(Parametrage!K:K,MATCH(B22,Parametrage!L:L,0)),"") | U22: =IFERROR(_xlfn.ISOWEEKNUM(V22),"") -> 42 | V22: =IF(V21<>"", IF(MONTH(V21+1)=MONTH($V$3), V21+1, ""),"") -> 45219 | W22: =+IFERROR(INDEX('Parametrage base'!B:B,MATCH(V22,'Parametrage base'!C:C,0)),"") | X22: =IFERROR(INDEX('Parametrage base'!$H:$H,MATCH(U22,'Parametrage base'!$J:$J,0)),"") | Y22: =IFERROR(INDEX('Parametrage base'!$K:$K,MATCH($U22,'Parametrage base'!$M:$M,0)),"") | Z22: =IFERROR(INDEX('Parametrage base'!$N:$N,MATCH($U22,'Parametrage base'!$P:$P,0)),"") | AA22: =IFERROR(INDEX('Parametrage base'!$Q:$Q,MATCH($U22,'Parametrage base'!$S:$S,0)),"") | AB22: =IFERROR(INDEX('Parametrage base'!$T:$T,MATCH($U22,'Parametrage base'!$V:$V,0)),"") | AC22: =IFERROR(INDEX('Parametrage base'!$W:$W,MATCH($U22,'Parametrage base'!$Y:$Y,0)),"") | AD22: =IFERROR(INDEX('Parametrage base'!$Z:$Z,MATCH($U22,'Parametrage base'!$AB:$AB,0)),"") | AE22: =IFERROR(INDEX('Parametrage base'!$AC:$AC,MATCH($U22,'Parametrage base'!$AE:$AE,0)),"") | AF22: =IFERROR(INDEX('Parametrage base'!$AF:$AF,MATCH($U22,'Parametrage base'!$AH:$AH,0)),"") -> PFMP MCCDR | AG22: =IFERROR(INDEX(Parametrage!D:D,MATCH(V22,Parametrage!F:F,0)),"") | AH22: =IFERROR(INDEX(Parametrage!I:I,MATCH(V22,Parametrage!J:J,0)),"") | AI22: =IFERROR(INDEX(Parametrage!G:G,MATCH(V22,Parametrage!H:H,0)),"") | AJ22: =IFERROR(INDEX(Parametrage!K:K,MATCH(V22,Parametrage!L:L,0)),"") | AM22: =+'Parametrage base'!D7 -> Vacances Hiver | AN22: =+'Parametrage base'!E7 -> 8
A23: =IFERROR(_xlfn.ISOWEEKNUM(B23),"") -> 38 | B23: =IF(B22<>"", IF(MONTH(B22+1)=MONTH($B$3), B22+1, ""),"") -> 45190 | C23: =+IFERROR(INDEX('Parametrage base'!B:B,MATCH(B23,'Parametrage base'!C:C,0)),"") | D23: =IFERROR(INDEX('Parametrage base'!H:H,MATCH(A23,'Parametrage base'!J:J,0)),"") | E23: =IFERROR(INDEX('Parametrage base'!$K:$K,MATCH($A23,'Parametrage base'!$M:$M,0)),"") | F23: =IFERROR(INDEX('Parametrage base'!$N:$N,MATCH($A23,'Parametrage base'!$P:$P,0)),"") | G23: =IFERROR(INDEX('Parametrage base'!$Q:$Q,MATCH($A23,'Parametrage base'!$S:$S,0)),"") | H23: =IFERROR(INDEX('Parametrage base'!$T:$T,MATCH($A23,'Parametrage base'!$V:$V,0)),"") | I23: =IFERROR(INDEX('Parametrage base'!$W:$W,MATCH($A23,'Parametrage base'!$Y:$Y,0)),"") | J23: =IFERROR(INDEX('Parametrage base'!$Z:$Z,MATCH($A23,'Parametrage base'!$AB:$AB,0)),"") -> PFMP Tpro1 | K23: =IFERROR(INDEX('Parametrage base'!$AC:$AC,MATCH($A23,'Parametrage base'!$AE:$AE,0)),"") -> PFMP Tpro2 | L23: =IFERROR(INDEX('Parametrage base'!$AF:$AF,MATCH($A23,'Parametrage base'!$AH:$AH,0)),"") | M23: =IFERROR(INDEX(Parametrage!D:D,MATCH(B23,Parametrage!F:F,0)),"") | N23: =IFERROR(INDEX(Parametrage!I:I,MATCH(B23,Parametrage!J:J,0)),"") | O23: =IFERROR(INDEX(Parametrage!G:G,MATCH(B23,Parametrage!H:H,0)),"") | P23: =IFERROR(INDEX(Parametrage!K:K,MATCH(B23,Parametrage!L:L,0)),"") | U23: =IFERROR(_xlfn.ISOWEEKNUM(V23),"") -> 42 | V23: =IF(V22<>"", IF(MONTH(V22+1)=MONTH($V$3), V22+1, ""),"") -> 45220 | W23: =+IFERROR(INDEX('Parametrage base'!B:B,MATCH(V23,'Parametrage base'!C:C,0)),"") | X23: =IFERROR(INDEX('Parametrage base'!$H:$H,MATCH(U23,'Parametrage base'!$J:$J,0)),"") | Y23: =IFERROR(INDEX('Parametrage base'!$K:$K,MATCH($U23,'Parametrage base'!$M:$M,0)),"") | Z23: =IFERROR(INDEX('Parametrage base'!$N:$N,MATCH($U23,'Parametrage base'!$P:$P,0)),"") | AA23: =IFERROR(INDEX('Parametrage base'!$Q:$Q,MATCH($U23,'Parametrage base'!$S:$S,0)),"") | AB23: =IFERROR(INDEX('Parametrage base'!$T:$T,MATCH($U23,'Parametrage base'!$V:$V,0)),"") | AC23: =IFERROR(INDEX('Parametrage base'!$W:$W,MATCH($U23,'Parametrage base'!$Y:$Y,0)),"") | AD23: =IFERROR(INDEX('Parametrage base'!$Z:$Z,MATCH($U23,'Parametrage base'!$AB:$AB,0)),"") | AE23: =IFERROR(INDEX('Parametrage base'!$AC:$AC,MATCH($U23,'Parametrage base'!$AE:$AE,0)),"") | AF23: =IFERROR(INDEX('Parametrage base'!$AF:$AF,MATCH($U23,'Parametrage base'!$AH:$AH,0)),"") -> PFMP MCCDR | AG23: =IFERROR(INDEX(Parametrage!D:D,MATCH(V23,Parametrage!F:F,0)),"") | AH23: =IFERROR(INDEX(Parametrage!I:I,MATCH(V23,Parametrage!J:J,0)),"") | AI23: =IFERROR(INDEX(Parametrage!G:G,MATCH(V23,Parametrage!H:H,0)),"") | AJ23: =IFERROR(INDEX(Parametrage!K:K,MATCH(V23,Parametrage!L:L,0)),"") | AN23: =+'Parametrage base'!E8 -> 9
A24: =IFERROR(_xlfn.ISOWEEKNUM(B24),"") -> 38 | B24: =IF(B23<>"", IF(MONTH(B23+1)=MONTH($B$3), B23+1, ""),"") -> 45191 | C24: =+IFERROR(INDEX('Parametrage base'!B:B,MATCH(B24,'Parametrage base'!C:C,0)),"") | D24: =IFERROR(INDEX('Parametrage base'!H:H,MATCH(A24,'Parametrage base'!J:J,0)),"") | E24: =IFERROR(INDEX('Parametrage base'!$K:$K,MATCH($A24,'Parametrage base'!$M:$M,0)),"") | F24: =IFERROR(INDEX('Parametrage base'!$N:$N,MATCH($A24,'Parametrage base'!$P:$P,0)),"") | G24: =IFERROR(INDEX('Parametrage base'!$Q:$Q,MATCH($A24,'Parametrage base'!$S:$S,0)),"") | H24: =IFERROR(INDEX('Parametrage base'!$T:$T,MATCH($A24,'Parametrage base'!$V:$V,0)),"") | I24: =IFERROR(INDEX('Parametrage base'!$W:$W,MATCH($A24,'Parametrage base'!$Y:$Y,0)),"") | J24: =IFERROR(INDEX('Parametrage base'!$Z:$Z,MATCH($A24,'Parametrage base'!$AB:$AB,0)),"") -> PFMP Tpro1 | K24: =IFERROR(INDEX('Parametrage base'!$AC:$AC,MATCH($A24,'Parametrage base'!$AE:$AE,0)),"") -> PFMP Tpro2 | L24: =IFERROR(INDEX('Parametrage base'!$AF:$AF,MATCH($A24,'Parametrage base'!$AH:$AH,0)),"") | M24: =IFERROR(INDEX(Parametrage!D:D,MATCH(B24,Parametrage!F:F,0)),"") | N24: =IFERROR(INDEX(Parametrage!I:I,MATCH(B24,Parametrage!J:J,0)),"") | O24: =IFERROR(INDEX(Parametrage!G:G,MATCH(B24,Parametrage!H:H,0)),"") | P24: =IFERROR(INDEX(Parametrage!K:K,MATCH(B24,Parametrage!L:L,0)),"") | U24: =IFERROR(_xlfn.ISOWEEKNUM(V24),"") -> 42 | V24: =IF(V23<>"", IF(MONTH(V23+1)=MONTH($V$3), V23+1, ""),"") -> 45221 | W24: =+IFERROR(INDEX('Parametrage base'!B:B,MATCH(V24,'Parametrage base'!C:C,0)),"") | X24: =IFERROR(INDEX('Parametrage base'!$H:$H,MATCH(U24,'Parametrage base'!$J:$J,0)),"") | Y24: =IFERROR(INDEX('Parametrage base'!$K:$K,MATCH($U24,'Parametrage base'!$M:$M,0)),"") | Z24: =IFERROR(INDEX('Parametrage base'!$N:$N,MATCH($U24,'Parametrage base'!$P:$P,0)),"") | AA24: =IFERROR(INDEX('Parametrage base'!$Q:$Q,MATCH($U24,'Parametrage base'!$S:$S,0)),"") | AB24: =IFERROR(INDEX('Parametrage base'!$T:$T,MATCH($U24,'Parametrage base'!$V:$V,0)),"") | AC24: =IFERROR(INDEX('Parametrage base'!$W:$W,MATCH($U24,'Parametrage base'!$Y:$Y,0)),"") | AD24: =IFERROR(INDEX('Parametrage base'!$Z:$Z,MATCH($U24,'Parametrage base'!$AB:$AB,0)),"") | AE24: =IFERROR(INDEX('Parametrage base'!$AC:$AC,MATCH($U24,'Parametrage base'!$AE:$AE,0)),"") | AF24: =IFERROR(INDEX('Parametrage base'!$AF:$AF,MATCH($U24,'Parametrage base'!$AH:$AH,0)),"") -> PFMP MCCDR | AG24: =IFERROR(INDEX(Parametrage!D:D,MATCH(V24,Parametrage!F:F,0)),"") | AH24: =IFERROR(INDEX(Parametrage!I:I,MATCH(V24,Parametrage!J:J,0)),"") | AI24: =IFERROR(INDEX(Parametrage!G:G,MATCH(V24,Parametrage!H:H,0)),"") | AJ24: =IFERROR(INDEX(Parametrage!K:K,MATCH(V24,Parametrage!L:L,0)),"") | AM24: =+'Parametrage base'!D9 -> Vacances printemps | AN24: =+'Parametrage base'!E9 -> 16
A25: =IFERROR(_xlfn.ISOWEEKNUM(B25),"") -> 38 | B25: =IF(B24<>"", IF(MONTH(B24+1)=MONTH($B$3), B24+1, ""),"") -> 45192 | C25: =+IFERROR(INDEX('Parametrage base'!B:B,MATCH(B25,'Parametrage base'!C:C,0)),"") | D25: =IFERROR(INDEX('Parametrage base'!H:H,MATCH(A25,'Parametrage base'!J:J,0)),"") | E25: =IFERROR(INDEX('Parametrage base'!$K:$K,MATCH($A25,'Parametrage base'!$M:$M,0)),"") | F25: =IFERROR(INDEX('Parametrage base'!$N:$N,MATCH($A25,'Parametrage base'!$P:$P,0)),"") | G25: =IFERROR(INDEX('Parametrage base'!$Q:$Q,MATCH($A25,'Parametrage base'!$S:$S,0)),"") | H25: =IFERROR(INDEX('Parametrage base'!$T:$T,MATCH($A25,'Parametrage base'!$V:$V,0)),"") | I25: =IFERROR(INDEX('Parametrage base'!$W:$W,MATCH($A25,'Parametrage base'!$Y:$Y,0)),"") | J25: =IFERROR(INDEX('Parametrage base'!$Z:$Z,MATCH($A25,'Parametrage base'!$AB:$AB,0)),"") -> PFMP Tpro1 | K25: =IFERROR(INDEX('Parametrage base'!$AC:$AC,MATCH($A25,'Parametrage base'!$AE:$AE,0)),"") -> PFMP Tpro2 | L25: =IFERROR(INDEX('Parametrage base'!$AF:$AF,MATCH($A25,'Parametrage base'!$AH:$AH,0)),"") | M25: =IFERROR(INDEX(Parametrage!D:D,MATCH(B25,Parametrage!F:F,0)),"") | N25: =IFERROR(INDEX(Parametrage!I:I,MATCH(B25,Parametrage!J:J,0)),"") | O25: =IFERROR(INDEX(Parametrage!G:G,MATCH(B25,Parametrage!H:H,0)),"") | P25: =IFERROR(INDEX(Parametrage!K:K,MATCH(B25,Parametrage!L:L,0)),"") | U25: =IFERROR(_xlfn.ISOWEEKNUM(V25),"") -> 43 | V25: =IF(V24<>"", IF(MONTH(V24+1)=MONTH($V$3), V24+1, ""),"") -> 45222 | W25: =+IFERROR(INDEX('Parametrage base'!B:B,MATCH(V25,'Parametrage base'!C:C,0)),"") -> Vacances | X25: =IFERROR(INDEX('Parametrage base'!$H:$H,MATCH(U25,'Parametrage base'!$J:$J,0)),"") | Y25: =IFERROR(INDEX('Parametrage base'!$K:$K,MATCH($U25,'Parametrage base'!$M:$M,0)),"") | Z25: =IFERROR(INDEX('Parametrage base'!$N:$N,MATCH($U25,'Parametrage base'!$P:$P,0)),"") | AA25: =IFERROR(INDEX('Parametrage base'!$Q:$Q,MATCH($U25,'Parametrage base'!$S:$S,0)),"") | AB25: =IFERROR(INDEX('Parametrage base'!$T:$T,MATCH($U25,'Parametrage base'!$V:$V,0)),"") | AC25: =IFERROR(INDEX('Parametrage base'!$W:$W,MATCH($U25,'Parametrage base'!$Y:$Y,0)),"") | AD25: =IFERROR(INDEX('Parametrage base'!$Z:$Z,MATCH($U25,'Parametrage base'!$AB:$AB,0)),"") | AE25: =IFERROR(INDEX('Parametrage base'!$AC:$AC,MATCH($U25,'Parametrage base'!$AE:$AE,0)),"") | AF25: =IFERROR(INDEX('Parametrage base'!$AF:$AF,MATCH($U25,'Parametrage base'!$AH:$AH,0)),"") | AG25: =IFERROR(INDEX(Parametrage!D:D,MATCH(V25,Parametrage!F:F,0)),"") | AH25: =IFERROR(INDEX(Parametrage!I:I,MATCH(V25,Parametrage!J:J,0)),"") | AI25: =IFERROR(INDEX(Parametrage!G:G,MATCH(V25,Parametrage!H:H,0)),"") | AJ25: =IFERROR(INDEX(Parametrage!K:K,MATCH(V25,Parametrage!L:L,0)),"") | AN25: =+'Parametrage base'!E10 -> 17
A26: =IFERROR(_xlfn.ISOWEEKNUM(B26),"") -> 38 | B26: =IF(B25<>"", IF(MONTH(B25+1)=MONTH($B$3), B25+1, ""),"") -> 45193 | C26: =+IFERROR(INDEX('Parametrage base'!B:B,MATCH(B26,'Parametrage base'!C:C,0)),"") | D26: =IFERROR(INDEX('Parametrage base'!H:H,MATCH(A26,'Parametrage base'!J:J,0)),"") | E26: =IFERROR(INDEX('Parametrage base'!$K:$K,MATCH($A26,'Parametrage base'!$M:$M,0)),"") | F26: =IFERROR(INDEX('Parametrage base'!$N:$N,MATCH($A26,'Parametrage base'!$P:$P,0)),"") | G26: =IFERROR(INDEX('Parametrage base'!$Q:$Q,MATCH($A26,'Parametrage base'!$S:$S,0)),"") | H26: =IFERROR(INDEX('Parametrage base'!$T:$T,MATCH($A26,'Parametrage base'!$V:$V,0)),"") | I26: =IFERROR(INDEX('Parametrage base'!$W:$W,MATCH($A26,'Parametrage base'!$Y:$Y,0)),"") | J26: =IFERROR(INDEX('Parametrage base'!$Z:$Z,MATCH($A26,'Parametrage base'!$AB:$AB,0)),"") -> PFMP Tpro1 | K26: =IFERROR(INDEX('Parametrage base'!$AC:$AC,MATCH($A26,'Parametrage base'!$AE:$AE,0)),"") -> PFMP Tpro2 | L26: =IFERROR(INDEX('Parametrage base'!$AF:$AF,MATCH($A26,'Parametrage base'!$AH:$AH,0)),"") | M26: =IFERROR(INDEX(Parametrage!D:D,MATCH(B26,Parametrage!F:F,0)),"") | N26: =IFERROR(INDEX(Parametrage!I:I,MATCH(B26,Parametrage!J:J,0)),"") | O26: =IFERROR(INDEX(Parametrage!G:G,MATCH(B26,Parametrage!H:H,0)),"") | P26: =IFERROR(INDEX(Parametrage!K:K,MATCH(B26,Parametrage!L:L,0)),"") | U26: =IFERROR(_xlfn.ISOWEEKNUM(V26),"") -> 43 | V26: =IF(V25<>"", IF(MONTH(V25+1)=MONTH($V$3), V25+1, ""),"") -> 45223 | W26: =+IFERROR(INDEX('Parametrage base'!B:B,MATCH(V26,'Parametrage base'!C:C,0)),"") -> Vacances | X26: =IFERROR(INDEX('Parametrage base'!$H:$H,MATCH(U26,'Parametrage base'!$J:$J,0)),"") | Y26: =IFERROR(INDEX('Parametrage base'!$K:$K,MATCH($U26,'Parametrage base'!$M:$M,0)),"") | Z26: =IFERROR(INDEX('Parametrage base'!$N:$N,MATCH($U26,'Parametrage base'!$P:$P,0)),"") | AA26: =IFERROR(INDEX('Parametrage base'!$Q:$Q,MATCH($U26,'Parametrage base'!$S:$S,0)),"") | AB26: =IFERROR(INDEX('Parametrage base'!$T:$T,MATCH($U26,'Parametrage base'!$V:$V,0)),"") | AC26: =IFERROR(INDEX('Parametrage base'!$W:$W,MATCH($U26,'Parametrage base'!$Y:$Y,0)),"") | AD26: =IFERROR(INDEX('Parametrage base'!$Z:$Z,MATCH($U26,'Parametrage base'!$AB:$AB,0)),"") | AE26: =IFERROR(INDEX('Parametrage base'!$AC:$AC,MATCH($U26,'Parametrage base'!$AE:$AE,0)),"") | AF26: =IFERROR(INDEX('Parametrage base'!$AF:$AF,MATCH($U26,'Parametrage base'!$AH:$AH,0)),"") | AG26: =IFERROR(INDEX(Parametrage!D:D,MATCH(V26,Parametrage!F:F,0)),"") | AH26: =IFERROR(INDEX(Parametrage!I:I,MATCH(V26,Parametrage!J:J,0)),"") | AI26: =IFERROR(INDEX(Parametrage!G:G,MATCH(V26,Parametrage!H:H,0)),"") | AJ26: =IFERROR(INDEX(Parametrage!K:K,MATCH(V26,Parametrage!L:L,0)),"")
A27: =IFERROR(_xlfn.ISOWEEKNUM(B27),"") -> 39 | B27: =IF(B26<>"", IF(MONTH(B26+1)=MONTH($B$3), B26+1, ""),"") -> 45194 | C27: =+IFERROR(INDEX('Parametrage base'!B:B,MATCH(B27,'Parametrage base'!C:C,0)),"") | D27: =IFERROR(INDEX('Parametrage base'!H:H,MATCH(A27,'Parametrage base'!J:J,0)),"") | E27: =IFERROR(INDEX('Parametrage base'!$K:$K,MATCH($A27,'Parametrage base'!$M:$M,0)),"") | F27: =IFERROR(INDEX('Parametrage base'!$N:$N,MATCH($A27,'Parametrage base'!$P:$P,0)),"") | G27: =IFERROR(INDEX('Parametrage base'!$Q:$Q,MATCH($A27,'Parametrage base'!$S:$S,0)),"") | H27: =IFERROR(INDEX('Parametrage base'!$T:$T,MATCH($A27,'Parametrage base'!$V:$V,0)),"") | I27: =IFERROR(INDEX('Parametrage base'!$W:$W,MATCH($A27,'Parametrage base'!$Y:$Y,0)),"") | J27: =IFERROR(INDEX('Parametrage base'!$Z:$Z,MATCH($A27,'Parametrage base'!$AB:$AB,0)),"") -> PFMP Tpro1 | K27: =IFERROR(INDEX('Parametrage base'!$AC:$AC,MATCH($A27,'Parametrage base'!$AE:$AE,0)),"") -> PFMP Tpro2 | L27: =IFERROR(INDEX('Parametrage base'!$AF:$AF,MATCH($A27,'Parametrage base'!$AH:$AH,0)),"") | M27: =IFERROR(INDEX(Parametrage!D:D,MATCH(B27,Parametrage!F:F,0)),"") | N27: =IFERROR(INDEX(Parametrage!I:I,MATCH(B27,Parametrage!J:J,0)),"") | O27: =IFERROR(INDEX(Parametrage!G:G,MATCH(B27,Parametrage!H:H,0)),"") | P27: =IFERROR(INDEX(Parametrage!K:K,MATCH(B27,Parametrage!L:L,0)),"") | U27: =IFERROR(_xlfn.ISOWEEKNUM(V27),"") -> 43 | V27: =IF(V26<>"", IF(MONTH(V26+1)=MONTH($V$3), V26+1, ""),"") -> 45224 | W27: =+IFERROR(INDEX('Parametrage base'!B:B,MATCH(V27,'Parametrage base'!C:C,0)),"") -> Vacances | X27: =IFERROR(INDEX('Parametrage base'!$H:$H,MATCH(U27,'Parametrage base'!$J:$J,0)),"") | Y27: =IFERROR(INDEX('Parametrage base'!$K:$K,MATCH($U27,'Parametrage base'!$M:$M,0)),"") | Z27: =IFERROR(INDEX('Parametrage base'!$N:$N,MATCH($U27,'Parametrage base'!$P:$P,0)),"") | AA27: =IFERROR(INDEX('Parametrage base'!$Q:$Q,MATCH($U27,'Parametrage base'!$S:$S,0)),"") | AB27: =IFERROR(INDEX('Parametrage base'!$T:$T,MATCH($U27,'Parametrage base'!$V:$V,0)),"") | AC27: =IFERROR(INDEX('Parametrage base'!$W:$W,MATCH($U27,'Parametrage base'!$Y:$Y,0)),"") | AD27: =IFERROR(INDEX('Parametrage base'!$Z:$Z,MATCH($U27,'Parametrage base'!$AB:$AB,0)),"") | AE27: =IFERROR(INDEX('Parametrage base'!$AC:$AC,MATCH($U27,'Parametrage base'!$AE:$AE,0)),"") | AF27: =IFERROR(INDEX('Parametrage base'!$AF:$AF,MATCH($U27,'Parametrage base'!$AH:$AH,0)),"") | AG27: =IFERROR(INDEX(Parametrage!D:D,MATCH(V27,Parametrage!F:F,0)),"") | AH27: =IFERROR(INDEX(Parametrage!I:I,MATCH(V27,Parametrage!J:J,0)),"") | AI27: =IFERROR(INDEX(Parametrage!G:G,MATCH(V27,Parametrage!H:H,0)),"") | AJ27: =IFERROR(INDEX(Parametrage!K:K,MATCH(V27,Parametrage!L:L,0)),"")
A28: =IFERROR(_xlfn.ISOWEEKNUM(B28),"") -> 39 | B28: =IF(B27<>"", IF(MONTH(B27+1)=MONTH($B$3), B27+1, ""),"") -> 45195 | C28: =+IFERROR(INDEX('Parametrage base'!B:B,MATCH(B28,'Parametrage base'!C:C,0)),"") | D28: =IFERROR(INDEX('Parametrage base'!H:H,MATCH(A28,'Parametrage base'!J:J,0)),"") | E28: =IFERROR(INDEX('Parametrage base'!$K:$K,MATCH($A28,'Parametrage base'!$M:$M,0)),"") | F28: =IFERROR(INDEX('Parametrage base'!$N:$N,MATCH($A28,'Parametrage base'!$P:$P,0)),"") | G28: =IFERROR(INDEX('Parametrage base'!$Q:$Q,MATCH($A28,'Parametrage base'!$S:$S,0)),"") | H28: =IFERROR(INDEX('Parametrage base'!$T:$T,MATCH($A28,'Parametrage base'!$V:$V,0)),"") | I28: =IFERROR(INDEX('Parametrage base'!$W:$W,MATCH($A28,'Parametrage base'!$Y:$Y,0)),"") | J28: =IFERROR(INDEX('Parametrage base'!$Z:$Z,MATCH($A28,'Parametrage base'!$AB:$AB,0)),"") -> PFMP Tpro1 | K28: =IFERROR(INDEX('Parametrage base'!$AC:$AC,MATCH($A28,'Parametrage base'!$AE:$AE,0)),"") -> PFMP Tpro2 | L28: =IFERROR(INDEX('Parametrage base'!$AF:$AF,MATCH($A28,'Parametrage base'!$AH:$AH,0)),"") | M28: =IFERROR(INDEX(Parametrage!D:D,MATCH(B28,Parametrage!F:F,0)),"") | N28: =IFERROR(INDEX(Parametrage!I:I,MATCH(B28,Parametrage!J:J,0)),"") | O28: =IFERROR(INDEX(Parametrage!G:G,MATCH(B28,Parametrage!H:H,0)),"") | P28: =IFERROR(INDEX(Parametrage!K:K,MATCH(B28,Parametrage!L:L,0)),"") | U28: =IFERROR(_xlfn.ISOWEEKNUM(V28),"") -> 43 | V28: =IF(V27<>"", IF(MONTH(V27+1)=MONTH($V$3), V27+1, ""),"") -> 45225 | W28: =+IFERROR(INDEX('Parametrage base'!B:B,MATCH(V28,'Parametrage base'!C:C,0)),"") -> Vacances | X28: =IFERROR(INDEX('Parametrage base'!$H:$H,MATCH(U28,'Parametrage base'!$J:$J,0)),"") | Y28: =IFERROR(INDEX('Parametrage base'!$K:$K,MATCH($U28,'Parametrage base'!$M:$M,0)),"") | Z28: =IFERROR(INDEX('Parametrage base'!$N:$N,MATCH($U28,'Parametrage base'!$P:$P,0)),"") | AA28: =IFERROR(INDEX('Parametrage base'!$Q:$Q,MATCH($U28,'Parametrage base'!$S:$S,0)),"") | AB28: =IFERROR(INDEX('Parametrage base'!$T:$T,MATCH($U28,'Parametrage base'!$V:$V,0)),"") | AC28: =IFERROR(INDEX('Parametrage base'!$W:$W,MATCH($U28,'Parametrage base'!$Y:$Y,0)),"") | AD28: =IFERROR(INDEX('Parametrage base'!$Z:$Z,MATCH($U28,'Parametrage base'!$AB:$AB,0)),"") | AE28: =IFERROR(INDEX('Parametrage base'!$AC:$AC,MATCH($U28,'Parametrage base'!$AE:$AE,0)),"") | AF28: =IFERROR(INDEX('Parametrage base'!$AF:$AF,MATCH($U28,'Parametrage base'!$AH:$AH,0)),"") | AG28: =IFERROR(INDEX(Parametrage!D:D,MATCH(V28,Parametrage!F:F,0)),"") | AH28: =IFERROR(INDEX(Parametrage!I:I,MATCH(V28,Parametrage!J:J,0)),"") | AI28: =IFERROR(INDEX(Parametrage!G:G,MATCH(V28,Parametrage!H:H,0)),"") | AJ28: =IFERROR(INDEX(Parametrage!K:K,MATCH(V28,Parametrage!L:L,0)),"")
A29: =IFERROR(_xlfn.ISOWEEKNUM(B29),"") -> 39 | B29: =IF(B28<>"", IF(MONTH(B28+1)=MONTH($B$3), B28+1, ""),"") -> 45196 | C29: =+IFERROR(INDEX('Parametrage base'!B:B,MATCH(B29,'Parametrage base'!C:C,0)),"") | D29: =IFERROR(INDEX('Parametrage base'!H:H,MATCH(A29,'Parametrage base'!J:J,0)),"") | E29: =IFERROR(INDEX('Parametrage base'!$K:$K,MATCH($A29,'Parametrage base'!$M:$M,0)),"") | F29: =IFERROR(INDEX('Parametrage base'!$N:$N,MATCH($A29,'Parametrage base'!$P:$P,0)),"") | G29: =IFERROR(INDEX('Parametrage base'!$Q:$Q,MATCH($A29,'Parametrage base'!$S:$S,0)),"") | H29: =IFERROR(INDEX('Parametrage base'!$T:$T,MATCH($A29,'Parametrage base'!$V:$V,0)),"") | I29: =IFERROR(INDEX('Parametrage base'!$W:$W,MATCH($A29,'Parametrage base'!$Y:$Y,0)),"") | J29: =IFERROR(INDEX('Parametrage base'!$Z:$Z,MATCH($A29,'Parametrage base'!$AB:$AB,0)),"") -> PFMP Tpro1 | K29: =IFERROR(INDEX('Parametrage base'!$AC:$AC,MATCH($A29,'Parametrage base'!$AE:$AE,0)),"") -> PFMP Tpro2 | L29: =IFERROR(INDEX('Parametrage base'!$AF:$AF,MATCH($A29,'Parametrage base'!$AH:$AH,0)),"") | M29: =IFERROR(INDEX(Parametrage!D:D,MATCH(B29,Parametrage!F:F,0)),"") | N29: =IFERROR(INDEX(Parametrage!I:I,MATCH(B29,Parametrage!J:J,0)),"") | O29: =IFERROR(INDEX(Parametrage!G:G,MATCH(B29,Parametrage!H:H,0)),"") | P29: =IFERROR(INDEX(Parametrage!K:K,MATCH(B29,Parametrage!L:L,0)),"") | U29: =IFERROR(_xlfn.ISOWEEKNUM(V29),"") -> 43 | V29: =IF(V28<>"", IF(MONTH(V28+1)=MONTH($V$3), V28+1, ""),"") -> 45226 | W29: =+IFERROR(INDEX('Parametrage base'!B:B,MATCH(V29,'Parametrage base'!C:C,0)),"") -> Vacances | X29: =IFERROR(INDEX('Parametrage base'!$H:$H,MATCH(U29,'Parametrage base'!$J:$J,0)),"") | Y29: =IFERROR(INDEX('Parametrage base'!$K:$K,MATCH($U29,'Parametrage base'!$M:$M,0)),"") | Z29: =IFERROR(INDEX('Parametrage base'!$N:$N,MATCH($U29,'Parametrage base'!$P:$P,0)),"") | AA29: =IFERROR(INDEX('Parametrage base'!$Q:$Q,MATCH($U29,'Parametrage base'!$S:$S,0)),"") | AB29: =IFERROR(INDEX('Parametrage base'!$T:$T,MATCH($U29,'Parametrage base'!$V:$V,0)),"") | AC29: =IFERROR(INDEX('Parametrage base'!$W:$W,MATCH($U29,'Parametrage base'!$Y:$Y,0)),"") | AD29: =IFERROR(INDEX('Parametrage base'!$Z:$Z,MATCH($U29,'Parametrage base'!$AB:$AB,0)),"") | AE29: =IFERROR(INDEX('Parametrage base'!$AC:$AC,MATCH($U29,'Parametrage base'!$AE:$AE,0)),"") | AF29: =IFERROR(INDEX('Parametrage base'!$AF:$AF,MATCH($U29,'Parametrage base'!$AH:$AH,0)),"") | AG29: =IFERROR(INDEX(Parametrage!D:D,MATCH(V29,Parametrage!F:F,0)),"") | AH29: =IFERROR(INDEX(Parametrage!I:I,MATCH(V29,Parametrage!J:J,0)),"") | AI29: =IFERROR(INDEX(Parametrage!G:G,MATCH(V29,Parametrage!H:H,0)),"") | AJ29: =IFERROR(INDEX(Parametrage!K:K,MATCH(V29,Parametrage!L:L,0)),"")
A30: =IFERROR(_xlfn.ISOWEEKNUM(B30),"") -> 39 | B30: =IF(B29<>"", IF(MONTH(B29+1)=MONTH($B$3), B29+1, ""),"") -> 45197 | C30: =+IFERROR(INDEX('Parametrage base'!B:B,MATCH(B30,'Parametrage base'!C:C,0)),"") | D30: =IFERROR(INDEX('Parametrage base'!H:H,MATCH(A30,'Parametrage base'!J:J,0)),"") | E30: =IFERROR(INDEX('Parametrage base'!$K:$K,MATCH($A30,'Parametrage base'!$M:$M,0)),"") | F30: =IFERROR(INDEX('Parametrage base'!$N:$N,MATCH($A30,'Parametrage base'!$P:$P,0)),"") | G30: =IFERROR(INDEX('Parametrage base'!$Q:$Q,MATCH($A30,'Parametrage base'!$S:$S,0)),"") | H30: =IFERROR(INDEX('Parametrage base'!$T:$T,MATCH($A30,'Parametrage base'!$V:$V,0)),"") | I30: =IFERROR(INDEX('Parametrage base'!$W:$W,MATCH($A30,'Parametrage base'!$Y:$Y,0)),"") | J30: =IFERROR(INDEX('Parametrage base'!$Z:$Z,MATCH($A30,'Parametrage base'!$AB:$AB,0)),"") -> PFMP Tpro1 | K30: =IFERROR(INDEX('Parametrage base'!$AC:$AC,MATCH($A30,'Parametrage base'!$AE:$AE,0)),"") -> PFMP Tpro2 | L30: =IFERROR(INDEX('Parametrage base'!$AF:$AF,MATCH($A30,'Parametrage base'!$AH:$AH,0)),"") | M30: =IFERROR(INDEX(Parametrage!D:D,MATCH(B30,Parametrage!F:F,0)),"") | N30: =IFERROR(INDEX(Parametrage!I:I,MATCH(B30,Parametrage!J:J,0)),"") | O30: =IFERROR(INDEX(Parametrage!G:G,MATCH(B30,Parametrage!H:H,0)),"") | P30: =IFERROR(INDEX(Parametrage!K:K,MATCH(B30,Parametrage!L:L,0)),"") | U30: =IFERROR(_xlfn.ISOWEEKNUM(V30),"") -> 43 | V30: =IF(V29<>"", IF(MONTH(V29+1)=MONTH($V$3), V29+1, ""),"") -> 45227 | W30: =+IFERROR(INDEX('Parametrage base'!B:B,MATCH(V30,'Parametrage base'!C:C,0)),"") -> Vacances | X30: =IFERROR(INDEX('Parametrage base'!$H:$H,MATCH(U30,'Parametrage base'!$J:$J,0)),"") | Y30: =IFERROR(INDEX('Parametrage base'!$K:$K,MATCH($U30,'Parametrage base'!$M:$M,0)),"") | Z30: =IFERROR(INDEX('Parametrage base'!$N:$N,MATCH($U30,'Parametrage base'!$P:$P,0)),"") | AA30: =IFERROR(INDEX('Parametrage base'!$Q:$Q,MATCH($U30,'Parametrage base'!$S:$S,0)),"") | AB30: =IFERROR(INDEX('Parametrage base'!$T:$T,MATCH($U30,'Parametrage base'!$V:$V,0)),"") | AC30: =IFERROR(INDEX('Parametrage base'!$W:$W,MATCH($U30,'Parametrage base'!$Y:$Y,0)),"") | AD30: =IFERROR(INDEX('Parametrage base'!$Z:$Z,MATCH($U30,'Parametrage base'!$AB:$AB,0)),"") | AE30: =IFERROR(INDEX('Parametrage base'!$AC:$AC,MATCH($U30,'Parametrage base'!$AE:$AE,0)),"") | AF30: =IFERROR(INDEX('Parametrage base'!$AF:$AF,MATCH($U30,'Parametrage base'!$AH:$AH,0)),"") | AG30: =IFERROR(INDEX(Parametrage!D:D,MATCH(V30,Parametrage!F:F,0)),"") | AH30: =IFERROR(INDEX(Parametrage!I:I,MATCH(V30,Parametrage!J:J,0)),"") | AI30: =IFERROR(INDEX(Parametrage!G:G,MATCH(V30,Parametrage!H:H,0)),"") | AJ30: =IFERROR(INDEX(Parametrage!K:K,MATCH(V30,Parametrage!L:L,0)),"")
A31: =IFERROR(_xlfn.ISOWEEKNUM(B31),"") -> 39 | B31: =IF(B30<>"", IF(MONTH(B30+1)=MONTH($B$3), B30+1, ""),"") -> 45198 | C31: =+IFERROR(INDEX('Parametrage base'!B:B,MATCH(B31,'Parametrage base'!C:C,0)),"") | D31: =IFERROR(INDEX('Parametrage base'!H:H,MATCH(A31,'Parametrage base'!J:J,0)),"") | E31: =IFERROR(INDEX('Parametrage base'!$K:$K,MATCH($A31,'Parametrage base'!$M:$M,0)),"") | F31: =IFERROR(INDEX('Parametrage base'!$N:$N,MATCH($A31,'Parametrage base'!$P:$P,0)),"") | G31: =IFERROR(INDEX('Parametrage base'!$Q:$Q,MATCH($A31,'Parametrage base'!$S:$S,0)),"") | H31: =IFERROR(INDEX('Parametrage base'!$T:$T,MATCH($A31,'Parametrage base'!$V:$V,0)),"") | I31: =IFERROR(INDEX('Parametrage base'!$W:$W,MATCH($A31,'Parametrage base'!$Y:$Y,0)),"") | J31: =IFERROR(INDEX('Parametrage base'!$Z:$Z,MATCH($A31,'Parametrage base'!$AB:$AB,0)),"") -> PFMP Tpro1 | K31: =IFERROR(INDEX('Parametrage base'!$AC:$AC,MATCH($A31,'Parametrage base'!$AE:$AE,0)),"") -> PFMP Tpro2 | L31: =IFERROR(INDEX('Parametrage base'!$AF:$AF,MATCH($A31,'Parametrage base'!$AH:$AH,0)),"") | M31: =IFERROR(INDEX(Parametrage!D:D,MATCH(B31,Parametrage!F:F,0)),"") | N31: =IFERROR(INDEX(Parametrage!I:I,MATCH(B31,Parametrage!J:J,0)),"") | O31: =IFERROR(INDEX(Parametrage!G:G,MATCH(B31,Parametrage!H:H,0)),"") | P31: =IFERROR(INDEX(Parametrage!K:K,MATCH(B31,Parametrage!L:L,0)),"") | U31: =IFERROR(_xlfn.ISOWEEKNUM(V31),"") -> 43 | V31: =IF(V30<>"", IF(MONTH(V30+1)=MONTH($V$3), V30+1, ""),"") -> 45228 | W31: =+IFERROR(INDEX('Parametrage base'!B:B,MATCH(V31,'Parametrage base'!C:C,0)),"") -> Vacances | X31: =IFERROR(INDEX('Parametrage base'!$H:$H,MATCH(U31,'Parametrage base'!$J:$J,0)),"") | Y31: =IFERROR(INDEX('Parametrage base'!$K:$K,MATCH($U31,'Parametrage base'!$M:$M,0)),"") | Z31: =IFERROR(INDEX('Parametrage base'!$N:$N,MATCH($U31,'Parametrage base'!$P:$P,0)),"") | AA31: =IFERROR(INDEX('Parametrage base'!$Q:$Q,MATCH($U31,'Parametrage base'!$S:$S,0)),"") | AB31: =IFERROR(INDEX('Parametrage base'!$T:$T,MATCH($U31,'Parametrage base'!$V:$V,0)),"") | AC31: =IFERROR(INDEX('Parametrage base'!$W:$W,MATCH($U31,'Parametrage base'!$Y:$Y,0)),"") | AD31: =IFERROR(INDEX('Parametrage base'!$Z:$Z,MATCH($U31,'Parametrage base'!$AB:$AB,0)),"") | AE31: =IFERROR(INDEX('Parametrage base'!$AC:$AC,MATCH($U31,'Parametrage base'!$AE:$AE,0)),"") | AF31: =IFERROR(INDEX('Parametrage base'!$AF:$AF,MATCH($U31,'Parametrage base'!$AH:$AH,0)),"") | AG31: =IFERROR(INDEX(Parametrage!D:D,MATCH(V31,Parametrage!F:F,0)),"") | AH31: =IFERROR(INDEX(Parametrage!I:I,MATCH(V31,Parametrage!J:J,0)),"") | AI31: =IFERROR(INDEX(Parametrage!G:G,MATCH(V31,Parametrage!H:H,0)),"") | AJ31: =IFERROR(INDEX(Parametrage!K:K,MATCH(V31,Parametrage!L:L,0)),"")
A32: =IFERROR(_xlfn.ISOWEEKNUM(B32),"") -> 39 | B32: =IF(B31<>"", IF(MONTH(B31+1)=MONTH($B$3), B31+1, ""),"") -> 45199 | C32: =+IFERROR(INDEX('Parametrage base'!B:B,MATCH(B32,'Parametrage base'!C:C,0)),"") | D32: =IFERROR(INDEX('Parametrage base'!H:H,MATCH(A32,'Parametrage base'!J:J,0)),"") | E32: =IFERROR(INDEX('Parametrage base'!$K:$K,MATCH($A32,'Parametrage base'!$M:$M,0)),"") | F32: =IFERROR(INDEX('Parametrage base'!$N:$N,MATCH($A32,'Parametrage base'!$P:$P,0)),"") | G32: =IFERROR(INDEX('Parametrage base'!$Q:$Q,MATCH($A32,'Parametrage base'!$S:$S,0)),"") | H32: =IFERROR(INDEX('Parametrage base'!$T:$T,MATCH($A32,'Parametrage base'!$V:$V,0)),"") | I32: =IFERROR(INDEX('Parametrage base'!$W:$W,MATCH($A32,'Parametrage base'!$Y:$Y,0)),"") | J32: =IFERROR(INDEX('Parametrage base'!$Z:$Z,MATCH($A32,'Parametrage base'!$AB:$AB,0)),"") -> PFMP Tpro1 | K32: =IFERROR(INDEX('Parametrage base'!$AC:$AC,MATCH($A32,'Parametrage base'!$AE:$AE,0)),"") -> PFMP Tpro2 | L32: =IFERROR(INDEX('Parametrage base'!$AF:$AF,MATCH($A32,'Parametrage base'!$AH:$AH,0)),"") | M32: =IFERROR(INDEX(Parametrage!D:D,MATCH(B32,Parametrage!F:F,0)),"") | N32: =IFERROR(INDEX(Parametrage!I:I,MATCH(B32,Parametrage!J:J,0)),"") | O32: =IFERROR(INDEX(Parametrage!G:G,MATCH(B32,Parametrage!H:H,0)),"") | P32: =IFERROR(INDEX(Parametrage!K:K,MATCH(B32,Parametrage!L:L,0)),"") | U32: =IFERROR(_xlfn.ISOWEEKNUM(V32),"") -> 44 | V32: =IF(V31<>"", IF(MONTH(V31+1)=MONTH($V$3), V31+1, ""),"") -> 45229 | W32: =+IFERROR(INDEX('Parametrage base'!B:B,MATCH(V32,'Parametrage base'!C:C,0)),"") -> Vacances | X32: =IFERROR(INDEX('Parametrage base'!$H:$H,MATCH(U32,'Parametrage base'!$J:$J,0)),"") | Y32: =IFERROR(INDEX('Parametrage base'!$K:$K,MATCH($U32,'Parametrage base'!$M:$M,0)),"") | Z32: =IFERROR(INDEX('Parametrage base'!$N:$N,MATCH($U32,'Parametrage base'!$P:$P,0)),"") | AA32: =IFERROR(INDEX('Parametrage base'!$Q:$Q,MATCH($U32,'Parametrage base'!$S:$S,0)),"") | AB32: =IFERROR(INDEX('Parametrage base'!$T:$T,MATCH($U32,'Parametrage base'!$V:$V,0)),"") | AC32: =IFERROR(INDEX('Parametrage base'!$W:$W,MATCH($U32,'Parametrage base'!$Y:$Y,0)),"") | AD32: =IFERROR(INDEX('Parametrage base'!$Z:$Z,MATCH($U32,'Parametrage base'!$AB:$AB,0)),"") | AE32: =IFERROR(INDEX('Parametrage base'!$AC:$AC,MATCH($U32,'Parametrage base'!$AE:$AE,0)),"") | AF32: =IFERROR(INDEX('Parametrage base'!$AF:$AF,MATCH($U32,'Parametrage base'!$AH:$AH,0)),"") | AG32: =IFERROR(INDEX(Parametrage!D:D,MATCH(V32,Parametrage!F:F,0)),"") | AH32: =IFERROR(INDEX(Parametrage!I:I,MATCH(V32,Parametrage!J:J,0)),"") | AI32: =IFERROR(INDEX(Parametrage!G:G,MATCH(V32,Parametrage!H:H,0)),"") | AJ32: =IFERROR(INDEX(Parametrage!K:K,MATCH(V32,Parametrage!L:L,0)),"")
A33: =IFERROR(_xlfn.ISOWEEKNUM(B33),"") | B33: =IF(B32<>"", IF(MONTH(B32+1)=MONTH($B$3), B32+1, ""),"") | C33: =+IFERROR(INDEX('Parametrage base'!B:B,MATCH(B33,'Parametrage base'!C:C,0)),"") | D33: =IFERROR(INDEX('Parametrage base'!H:H,MATCH(A33,'Parametrage base'!J:J,0)),"") | E33: =IFERROR(INDEX('Parametrage base'!$K:$K,MATCH($A33,'Parametrage base'!$M:$M,0)),"") | F33: =IFERROR(INDEX('Parametrage base'!$N:$N,MATCH($A33,'Parametrage base'!$P:$P,0)),"") | G33: =IFERROR(INDEX('Parametrage base'!$Q:$Q,MATCH($A33,'Parametrage base'!$S:$S,0)),"") | H33: =IFERROR(INDEX('Parametrage base'!$T:$T,MATCH($A33,'Parametrage base'!$V:$V,0)),"") | I33: =IFERROR(INDEX('Parametrage base'!$W:$W,MATCH($A33,'Parametrage base'!$Y:$Y,0)),"") | J33: =IFERROR(INDEX('Parametrage base'!$Z:$Z,MATCH($A33,'Parametrage base'!$AB:$AB,0)),"") | K33: =IFERROR(INDEX('Parametrage base'!$AC:$AC,MATCH($A33,'Parametrage base'!$AE:$AE,0)),"") | L33: =IFERROR(INDEX('Parametrage base'!$AF:$AF,MATCH($A33,'Parametrage base'!$AH:$AH,0)),"") | M33: =IFERROR(INDEX(Parametrage!D:D,MATCH(B33,Parametrage!F:F,0)),"") | N33: =IFERROR(INDEX(Parametrage!I:I,MATCH(B33,Parametrage!J:J,0)),"") | O33: =IFERROR(INDEX(Parametrage!G:G,MATCH(B33,Parametrage!H:H,0)),"") | P33: =IFERROR(INDEX(Parametrage!K:K,MATCH(B33,Parametrage!L:L,0)),"") | U33: =IFERROR(_xlfn.ISOWEEKNUM(V33),"") -> 44 | V33: =IF(V32<>"", IF(MONTH(V32+1)=MONTH($V$3), V32+1, ""),"") -> 45230 | W33: =+IFERROR(INDEX('Parametrage base'!B:B,MATCH(V33,'Parametrage base'!C:C,0)),"") -> Vacances | X33: =IFERROR(INDEX('Parametrage base'!$H:$H,MATCH(U33,'Parametrage base'!$J:$J,0)),"") | Y33: =IFERROR(INDEX('Parametrage base'!$K:$K,MATCH($U33,'Parametrage base'!$M:$M,0)),"") | Z33: =IFERROR(INDEX('Parametrage base'!$N:$N,MATCH($U33,'Parametrage base'!$P:$P,0)),"") | AA33: =IFERROR(INDEX('Parametrage base'!$Q:$Q,MATCH($U33,'Parametrage base'!$S:$S,0)),"") | AB33: =IFERROR(INDEX('Parametrage base'!$T:$T,MATCH($U33,'Parametrage base'!$V:$V,0)),"") | AC33: =IFERROR(INDEX('Parametrage base'!$W:$W,MATCH($U33,'Parametrage base'!$Y:$Y,0)),"") | AD33: =IFERROR(INDEX('Parametrage base'!$Z:$Z,MATCH($U33,'Parametrage base'!$AB:$AB,0)),"") | AE33: =IFERROR(INDEX('Parametrage base'!$AC:$AC,MATCH($U33,'Parametrage base'!$AE:$AE,0)),"") | AF33: =IFERROR(INDEX('Parametrage base'!$AF:$AF,MATCH($U33,'Parametrage base'!$AH:$AH,0)),"") | AG33: =IFERROR(INDEX(Parametrage!D:D,MATCH(V33,Parametrage!F:F,0)),"") | AH33: =IFERROR(INDEX(Parametrage!I:I,MATCH(V33,Parametrage!J:J,0)),"") | AI33: =IFERROR(INDEX(Parametrage!G:G,MATCH(V33,Parametrage!H:H,0)),"") | AJ33: =IFERROR(INDEX(Parametrage!K:K,MATCH(V33,Parametrage!L:L,0)),"")
A35: Sem | B35: =DATE(YEAR(O1),MONTH(N1)+2,DAY(A1)) -> 2132 | C35: Infos | D35: PFMP 1cuis | E35: PFMP Tcuis | F35: PFMP 2pro1 | G35: PFMP 2pro2 | H35: PFMP 1pro1 | I35: PFMP 1pro2 | J35: PFMP Tpro1 | K35: PFMP Tpro2 | L35: MCCDR | M35: Vie de classe | N35: Vigilance | O35: CCF | P35: Autres | U35: Sem | V35: =DATE(YEAR(O1),MONTH(N1)+3,DAY(A1)) -> 2162 | W35: Infos | X35: PFMP 1cuis | Y35: PFMP Tcuis | Z35: PFMP 2pro1 | AA35: PFMP 2pro2 | AB35: PFMP 1pro1 | AC35: PFMP 1pro2 | AD35: PFMP Tpro1 | AE35: PFMP Tpro2 | AF35: MCCDR | AG35: Vie de classe | AH35: Vigilance | AI35: CCF | AJ35: Autres
A36: =IFERROR(_xlfn.ISOWEEKNUM(B36),"") -> 44 | B36: =DATE(O1,MONTH(B35),1) -> 45231 | C36: =+IFERROR(INDEX('Parametrage base'!$B:$B,MATCH(B36,'Parametrage base'!$C:$C,0)),"") -> Férié | D36: =+IFERROR(INDEX('Parametrage base'!C:C,MATCH(C36,'Parametrage base'!F:F,0)),"") | E36: =IFERROR(INDEX('Parametrage base'!$H:$H,MATCH(B36,'Parametrage base'!$J:$J,0)),"") | F36: =IFERROR(INDEX('Parametrage base'!$K:$K,MATCH($A36,'Parametrage base'!$M:$M,0)),"") | G36: =IFERROR(INDEX('Parametrage base'!$Q:$Q,MATCH($A36,'Parametrage base'!$S:$S,0)),"") | H36: =IFERROR(INDEX('Parametrage base'!$N:$N,MATCH($A36,'Parametrage base'!$P:$P,0)),"") | I36: =IFERROR(INDEX('Parametrage base'!$W:$W,MATCH($A36,'Parametrage base'!$Y:$Y,0)),"") | J36: =IFERROR(INDEX('Parametrage base'!$T:$T,MATCH($A36,'Parametrage base'!$V:$V,0)),"") | K36: =IFERROR(INDEX('Parametrage base'!$Z:$Z,MATCH($A36,'Parametrage base'!$AB:$AB,0)),"") | L36: =IFERROR(INDEX('Parametrage base'!$AC:$AC,MATCH($A36,'Parametrage base'!$AE:$AE,0)),"") | M36: =IFERROR(INDEX('Parametrage base'!$AF:$AF,MATCH($A36,'Parametrage base'!$AH:$AH,0)),"") | N36: =IFERROR(INDEX(Parametrage!E:E,MATCH(C36,Parametrage!G:G,0)),"") | O36: =IFERROR(INDEX(Parametrage!J:J,MATCH(C36,Parametrage!K:K,0)),"") | P36: =IFERROR(INDEX(Parametrage!H:H,MATCH(C36,Parametrage!I:I,0)),"") | T36: =IFERROR(INDEX(Parametrage!L:L,MATCH(C36,Parametrage!M:M,0)),"") | U36: =IFERROR(_xlfn.ISOWEEKNUM(V36),"") -> 48 | V36: =DATE(O1,MONTH(V35),1) -> 45261 | W36: =+IFERROR(INDEX('Parametrage base'!$B:$B,MATCH(V36,'Parametrage base'!$C:$C,0)),"") | X36: =IFERROR(INDEX('Parametrage base'!$H:$H,MATCH(U36,'Parametrage base'!$J:$J,0)),"") | Y36: =IFERROR(INDEX('Parametrage base'!$K:$K,MATCH($U36,'Parametrage base'!$M:$M,0)),"") | Z36: =IFERROR(INDEX('Parametrage base'!$N:$N,MATCH($U36,'Parametrage base'!$P:$P,0)),"") -> PFMP 2pro1 | AA36: =IFERROR(INDEX('Parametrage base'!$Q:$Q,MATCH($U36,'Parametrage base'!$S:$S,0)),"") -> PFMP 2pro2 | AB36: =IFERROR(INDEX('Parametrage base'!$T:$T,MATCH($U36,'Parametrage base'!$V:$V,0)),"") | AC36: =IFERROR(INDEX('Parametrage base'!$W:$W,MATCH($U36,'Parametrage base'!$Y:$Y,0)),"") | AD36: =IFERROR(INDEX('Parametrage base'!$Z:$Z,MATCH($U36,'Parametrage base'!$AB:$AB,0)),"") | AE36: =IFERROR(INDEX('Parametrage base'!$AC:$AC,MATCH($U36,'Parametrage base'!$AE:$AE,0)),"") -> PFMP Tpro2 | AF36: =IFERROR(INDEX('Parametrage base'!$AF:$AF,MATCH($U36,'Parametrage base'!$AH:$AH,0)),"") | AG36: =IFERROR(INDEX(Parametrage!$D:$D,MATCH(V36,Parametrage!$F:$F,0)),"") | AH36: =IFERROR(INDEX(Parametrage!$I:$I,MATCH(V36,Parametrage!$J:$J,0)),"") | AI36: =IFERROR(INDEX(Parametrage!$G:$G,MATCH(V36,Parametrage!$H:$H,0)),"") | AJ36: =IFERROR(INDEX(Parametrage!$K:$K,MATCH(V36,Parametrage!$L:$L,0)),"")
A37: =IFERROR(_xlfn.ISOWEEKNUM(B37),"") -> 44 | B37: =IF(B36<>"", IF(MONTH(B36+1)=MONTH($B$36), B36+1, ""),"") -> 45232 | C37: =+IFERROR(INDEX('Parametrage base'!$B:$B,MATCH(B37,'Parametrage base'!$C:$C,0)),"") -> Vacances | D37: =IFERROR(INDEX('Parametrage base'!H:H,MATCH(A37,'Parametrage base'!J:J,0)),"") | E37: =IFERROR(INDEX('Parametrage base'!$K:$K,MATCH($A37,'Parametrage base'!$M:$M,0)),"") | F37: =IFERROR(INDEX('Parametrage base'!$N:$N,MATCH($A37,'Parametrage base'!$P:$P,0)),"") | G37: =IFERROR(INDEX('Parametrage base'!$Q:$Q,MATCH($A37,'Parametrage base'!$S:$S,0)),"") | H37: =IFERROR(INDEX('Parametrage base'!$T:$T,MATCH($A37,'Parametrage base'!$V:$V,0)),"") | I37: =IFERROR(INDEX('Parametrage base'!$W:$W,MATCH($A37,'Parametrage base'!$Y:$Y,0)),"") | J37: =IFERROR(INDEX('Parametrage base'!$Z:$Z,MATCH($A37,'Parametrage base'!$AB:$AB,0)),"") | K37: =IFERROR(INDEX('Parametrage base'!$AC:$AC,MATCH($A37,'Parametrage base'!$AE:$AE,0)),"") | L37: =IFERROR(INDEX('Parametrage base'!$AF:$AF,MATCH($A37,'Parametrage base'!$AH:$AH,0)),"") | M37: =IFERROR(INDEX(Parametrage!$D:$D,MATCH(B37,Parametrage!$F:$F,0)),"") | N37: =IFERROR(INDEX(Parametrage!$I:$I,MATCH(B37,Parametrage!$J:$J,0)),"") | O37: =IFERROR(INDEX(Parametrage!$G:$G,MATCH(B37,Parametrage!$H:$H,0)),"") | P37: =IFERROR(INDEX(Parametrage!$K:$K,MATCH(B37,Parametrage!$L:$L,0)),"") | U37: =IFERROR(_xlfn.ISOWEEKNUM(V37),"") -> 48 | V37: =IF(V36<>"", IF(MONTH(V36+1)=MONTH($V$36), V36+1, ""),"") -> 45262 | W37: =+IFERROR(INDEX('Parametrage base'!$B:$B,MATCH(V37,'Parametrage base'!$C:$C,0)),"") | X37: =IFERROR(INDEX('Parametrage base'!$H:$H,MATCH(U37,'Parametrage base'!$J:$J,0)),"") | Y37: =IFERROR(INDEX('Parametrage base'!$K:$K,MATCH($U37,'Parametrage base'!$M:$M,0)),"") | Z37: =IFERROR(INDEX('Parametrage base'!$N:$N,MATCH($U37,'Parametrage base'!$P:$P,0)),"") -> PFMP 2pro1 | AA37: =IFERROR(INDEX('Parametrage base'!$Q:$Q,MATCH($U37,'Parametrage base'!$S:$S,0)),"") -> PFMP 2pro2 | AB37: =IFERROR(INDEX('Parametrage base'!$T:$T,MATCH($U37,'Parametrage base'!$V:$V,0)),"") | AC37: =IFERROR(INDEX('Parametrage base'!$W:$W,MATCH($U37,'Parametrage base'!$Y:$Y,0)),"") | AD37: =IFERROR(INDEX('Parametrage base'!$Z:$Z,MATCH($U37,'Parametrage base'!$AB:$AB,0)),"") | AE37: =IFERROR(INDEX('Parametrage base'!$AC:$AC,MATCH($U37,'Parametrage base'!$AE:$AE,0)),"") -> PFMP Tpro2 | AF37: =IFERROR(INDEX('Parametrage base'!$AF:$AF,MATCH($U37,'Parametrage base'!$AH:$AH,0)),"") | AG37: =IFERROR(INDEX(Parametrage!$D:$D,MATCH(V37,Parametrage!$F:$F,0)),"") | AH37: =IFERROR(INDEX(Parametrage!$I:$I,MATCH(V37,Parametrage!$J:$J,0)),"") | AI37: =IFERROR(INDEX(Parametrage!$G:$G,MATCH(V37,Parametrage!$H:$H,0)),"") | AJ37: =IFERROR(INDEX(Parametrage!$K:$K,MATCH(V37,Parametrage!$L:$L,0)),"")
A38: =IFERROR(_xlfn.ISOWEEKNUM(B38),"") -> 44 | B38: =IF(B37<>"", IF(MONTH(B37+1)=MONTH($B$36), B37+1, ""),"") -> 45233 | C38: =+IFERROR(INDEX('Parametrage base'!$B:$B,MATCH(B38,'Parametrage base'!$C:$C,0)),"") -> Vacances | D38: =IFERROR(INDEX('Parametrage base'!H:H,MATCH(A38,'Parametrage base'!J:J,0)),"") | E38: =IFERROR(INDEX('Parametrage base'!$K:$K,MATCH($A38,'Parametrage base'!$M:$M,0)),"") | F38: =IFERROR(INDEX('Parametrage base'!$N:$N,MATCH($A38,'Parametrage base'!$P:$P,0)),"") | G38: =IFERROR(INDEX('Parametrage base'!$Q:$Q,MATCH($A38,'Parametrage base'!$S:$S,0)),"") | H38: =IFERROR(INDEX('Parametrage base'!$T:$T,MATCH($A38,'Parametrage base'!$V:$V,0)),"") | I38: =IFERROR(INDEX('Parametrage base'!$W:$W,MATCH($A38,'Parametrage base'!$Y:$Y,0)),"") | J38: =IFERROR(INDEX('Parametrage base'!$Z:$Z,MATCH($A38,'Parametrage base'!$AB:$AB,0)),"") | K38: =IFERROR(INDEX('Parametrage base'!$AC:$AC,MATCH($A38,'Parametrage base'!$AE:$AE,0)),"") | L38: =IFERROR(INDEX('Parametrage base'!$AF:$AF,MATCH($A38,'Parametrage base'!$AH:$AH,0)),"") | M38: =IFERROR(INDEX(Parametrage!$D:$D,MATCH(B38,Parametrage!$F:$F,0)),"") | N38: =IFERROR(INDEX(Parametrage!$I:$I,MATCH(B38,Parametrage!$J:$J,0)),"") | O38: =IFERROR(INDEX(Parametrage!$G:$G,MATCH(B38,Parametrage!$H:$H,0)),"") | P38: =IFERROR(INDEX(Parametrage!$K:$K,MATCH(B38,Parametrage!$L:$L,0)),"") | U38: =IFERROR(_xlfn.ISOWEEKNUM(V38),"") -> 48 | V38: =IF(V37<>"", IF(MONTH(V37+1)=MONTH($V$36), V37+1, ""),"") -> 45263 | W38: =+IFERROR(INDEX('Parametrage base'!$B:$B,MATCH(V38,'Parametrage base'!$C:$C,0)),"") | X38: =IFERROR(INDEX('Parametrage base'!$H:$H,MATCH(U38,'Parametrage base'!$J:$J,0)),"") | Y38: =IFERROR(INDEX('Parametrage base'!$K:$K,MATCH($U38,'Parametrage base'!$M:$M,0)),"") | Z38: =IFERROR(INDEX('Parametrage base'!$N:$N,MATCH($U38,'Parametrage base'!$P:$P,0)),"") -> PFMP 2pro1 | AA38: =IFERROR(INDEX('Parametrage base'!$Q:$Q,MATCH($U38,'Parametrage base'!$S:$S,0)),"") -> PFMP 2pro2 | AB38: =IFERROR(INDEX('Parametrage base'!$T:$T,MATCH($U38,'Parametrage base'!$V:$V,0)),"") | AC38: =IFERROR(INDEX('Parametrage base'!$W:$W,MATCH($U38,'Parametrage base'!$Y:$Y,0)),"") | AD38: =IFERROR(INDEX('Parametrage base'!$Z:$Z,MATCH($U38,'Parametrage base'!$AB:$AB,0)),"") | AE38: =IFERROR(INDEX('Parametrage base'!$AC:$AC,MATCH($U38,'Parametrage base'!$AE:$AE,0)),"") -> PFMP Tpro2 | AF38: =IFERROR(INDEX('Parametrage base'!$AF:$AF,MATCH($U38,'Parametrage base'!$AH:$AH,0)),"") | AG38: =IFERROR(INDEX(Parametrage!$D:$D,MATCH(V38,Parametrage!$F:$F,0)),"") | AH38: =IFERROR(INDEX(Parametrage!$I:$I,MATCH(V38,Parametrage!$J:$J,0)),"") | AI38: =IFERROR(INDEX(Parametrage!$G:$G,MATCH(V38,Parametrage!$H:$H,0)),"") | AJ38: =IFERROR(INDEX(Parametrage!$K:$K,MATCH(V38,Parametrage!$L:$L,0)),"")
A39: =IFERROR(_xlfn.ISOWEEKNUM(B39),"") -> 44 | B39: =IF(B38<>"", IF(MONTH(B38+1)=MONTH($B$36), B38+1, ""),"") -> 45234 | C39: =+IFERROR(INDEX('Parametrage base'!$B:$B,MATCH(B39,'Parametrage base'!$C:$C,0)),"") -> Vacances | D39: =IFERROR(INDEX('Parametrage base'!H:H,MATCH(A39,'Parametrage base'!J:J,0)),"") | E39: =IFERROR(INDEX('Parametrage base'!$K:$K,MATCH($A39,'Parametrage base'!$M:$M,0)),"") | F39: =IFERROR(INDEX('Parametrage base'!$N:$N,MATCH($A39,'Parametrage base'!$P:$P,0)),"") | G39: =IFERROR(INDEX('Parametrage base'!$Q:$Q,MATCH($A39,'Parametrage base'!$S:$S,0)),"") | H39: =IFERROR(INDEX('Parametrage base'!$T:$T,MATCH($A39,'Parametrage base'!$V:$V,0)),"") | I39: =IFERROR(INDEX('Parametrage base'!$W:$W,MATCH($A39,'Parametrage base'!$Y:$Y,0)),"") | J39: =IFERROR(INDEX('Parametrage base'!$Z:$Z,MATCH($A39,'Parametrage base'!$AB:$AB,0)),"") | K39: =IFERROR(INDEX('Parametrage base'!$AC:$AC,MATCH($A39,'Parametrage base'!$AE:$AE,0)),"") | L39: =IFERROR(INDEX('Parametrage base'!$AF:$AF,MATCH($A39,'Parametrage base'!$AH:$AH,0)),"") | M39: =IFERROR(INDEX(Parametrage!$D:$D,MATCH(B39,Parametrage!$F:$F,0)),"") | N39: =IFERROR(INDEX(Parametrage!$I:$I,MATCH(B39,Parametrage!$J:$J,0)),"") | O39: =IFERROR(INDEX(Parametrage!$G:$G,MATCH(B39,Parametrage!$H:$H,0)),"") | P39: =IFERROR(INDEX(Parametrage!$K:$K,MATCH(B39,Parametrage!$L:$L,0)),"") | U39: =IFERROR(_xlfn.ISOWEEKNUM(V39),"") -> 49 | V39: =IF(V38<>"", IF(MONTH(V38+1)=MONTH($V$36), V38+1, ""),"") -> 45264 | W39: =+IFERROR(INDEX('Parametrage base'!$B:$B,MATCH(V39,'Parametrage base'!$C:$C,0)),"") | X39: =IFERROR(INDEX('Parametrage base'!$H:$H,MATCH(U39,'Parametrage base'!$J:$J,0)),"") -> PFMP 1cuis | Y39: =IFERROR(INDEX('Parametrage base'!$K:$K,MATCH($U39,'Parametrage base'!$M:$M,0)),"") | Z39: =IFERROR(INDEX('Parametrage base'!$N:$N,MATCH($U39,'Parametrage base'!$P:$P,0)),"") -> PFMP 2pro1 | AA39: =IFERROR(INDEX('Parametrage base'!$Q:$Q,MATCH($U39,'Parametrage base'!$S:$S,0)),"") -> PFMP 2pro2 | AB39: =IFERROR(INDEX('Parametrage base'!$T:$T,MATCH($U39,'Parametrage base'!$V:$V,0)),"") | AC39: =IFERROR(INDEX('Parametrage base'!$W:$W,MATCH($U39,'Parametrage base'!$Y:$Y,0)),"") | AD39: =IFERROR(INDEX('Parametrage base'!$Z:$Z,MATCH($U39,'Parametrage base'!$AB:$AB,0)),"") | AE39: =IFERROR(INDEX('Parametrage base'!$AC:$AC,MATCH($U39,'Parametrage base'!$AE:$AE,0)),"") | AF39: =IFERROR(INDEX('Parametrage base'!$AF:$AF,MATCH($U39,'Parametrage base'!$AH:$AH,0)),"") | AG39: =IFERROR(INDEX(Parametrage!$D:$D,MATCH(V39,Parametrage!$F:$F,0)),"") | AH39: =IFERROR(INDEX(Parametrage!$I:$I,MATCH(V39,Parametrage!$J:$J,0)),"") | AI39: =IFERROR(INDEX(Parametrage!$G:$G,MATCH(V39,Parametrage!$H:$H,0)),"") | AJ39: =IFERROR(INDEX(Parametrage!$K:$K,MATCH(V39,Parametrage!$L:$L,0)),"")
A40: =IFERROR(_xlfn.ISOWEEKNUM(B40),"") -> 44 | B40: =IF(B39<>"", IF(MONTH(B39+1)=MONTH($B$36), B39+1, ""),"") -> 45235 | C40: =+IFERROR(INDEX('Parametrage base'!$B:$B,MATCH(B40,'Parametrage base'!$C:$C,0)),"") -> Vacances | D40: =IFERROR(INDEX('Parametrage base'!H:H,MATCH(A40,'Parametrage base'!J:J,0)),"") | E40: =IFERROR(INDEX('Parametrage base'!$K:$K,MATCH($A40,'Parametrage base'!$M:$M,0)),"") | F40: =IFERROR(INDEX('Parametrage base'!$N:$N,MATCH($A40,'Parametrage base'!$P:$P,0)),"") | G40: =IFERROR(INDEX('Parametrage base'!$Q:$Q,MATCH($A40,'Parametrage base'!$S:$S,0)),"") | H40: =IFERROR(INDEX('Parametrage base'!$T:$T,MATCH($A40,'Parametrage base'!$V:$V,0)),"") | I40: =IFERROR(INDEX('Parametrage base'!$W:$W,MATCH($A40,'Parametrage base'!$Y:$Y,0)),"") | J40: =IFERROR(INDEX('Parametrage base'!$Z:$Z,MATCH($A40,'Parametrage base'!$AB:$AB,0)),"") | K40: =IFERROR(INDEX('Parametrage base'!$AC:$AC,MATCH($A40,'Parametrage base'!$AE:$AE,0)),"") | L40: =IFERROR(INDEX('Parametrage base'!$AF:$AF,MATCH($A40,'Parametrage base'!$AH:$AH,0)),"") | M40: =IFERROR(INDEX(Parametrage!$D:$D,MATCH(B40,Parametrage!$F:$F,0)),"") | N40: =IFERROR(INDEX(Parametrage!$I:$I,MATCH(B40,Parametrage!$J:$J,0)),"") | O40: =IFERROR(INDEX(Parametrage!$G:$G,MATCH(B40,Parametrage!$H:$H,0)),"") | P40: =IFERROR(INDEX(Parametrage!$K:$K,MATCH(B40,Parametrage!$L:$L,0)),"") | U40: =IFERROR(_xlfn.ISOWEEKNUM(V40),"") -> 49 | V40: =IF(V39<>"", IF(MONTH(V39+1)=MONTH($V$36), V39+1, ""),"") -> 45265 | W40: =+IFERROR(INDEX('Parametrage base'!$B:$B,MATCH(V40,'Parametrage base'!$C:$C,0)),"") | X40: =IFERROR(INDEX('Parametrage base'!$H:$H,MATCH(U40,'Parametrage base'!$J:$J,0)),"") -> PFMP 1cuis | Y40: =IFERROR(INDEX('Parametrage base'!$K:$K,MATCH($U40,'Parametrage base'!$M:$M,0)),"") | Z40: =IFERROR(INDEX('Parametrage base'!$N:$N,MATCH($U40,'Parametrage base'!$P:$P,0)),"") -> PFMP 2pro1 | AA40: =IFERROR(INDEX('Parametrage base'!$Q:$Q,MATCH($U40,'Parametrage base'!$S:$S,0)),"") -> PFMP 2pro2 | AB40: =IFERROR(INDEX('Parametrage base'!$T:$T,MATCH($U40,'Parametrage base'!$V:$V,0)),"") | AC40: =IFERROR(INDEX('Parametrage base'!$W:$W,MATCH($U40,'Parametrage base'!$Y:$Y,0)),"") | AD40: =IFERROR(INDEX('Parametrage base'!$Z:$Z,MATCH($U40,'Parametrage base'!$AB:$AB,0)),"") | AE40: =IFERROR(INDEX('Parametrage base'!$AC:$AC,MATCH($U40,'Parametrage base'!$AE:$AE,0)),"") | AF40: =IFERROR(INDEX('Parametrage base'!$AF:$AF,MATCH($U40,'Parametrage base'!$AH:$AH,0)),"") | AG40: =IFERROR(INDEX(Parametrage!$D:$D,MATCH(V40,Parametrage!$F:$F,0)),"") | AH40: =IFERROR(INDEX(Parametrage!$I:$I,MATCH(V40,Parametrage!$J:$J,0)),"") | AI40: =IFERROR(INDEX(Parametrage!$G:$G,MATCH(V40,Parametrage!$H:$H,0)),"") | AJ40: =IFERROR(INDEX(Parametrage!$K:$K,MATCH(V40,Parametrage!$L:$L,0)),"")
A41: =IFERROR(_xlfn.ISOWEEKNUM(B41),"") -> 45 | B41: =IF(B40<>"", IF(MONTH(B40+1)=MONTH($B$36), B40+1, ""),"") -> 45236 | C41: =+IFERROR(INDEX('Parametrage base'!$B:$B,MATCH(B41,'Parametrage base'!$C:$C,0)),"") -> Ouverture pédago | D41: =IFERROR(INDEX('Parametrage base'!H:H,MATCH(A41,'Parametrage base'!J:J,0)),"") | E41: =IFERROR(INDEX('Parametrage base'!$K:$K,MATCH($A41,'Parametrage base'!$M:$M,0)),"") | F41: =IFERROR(INDEX('Parametrage base'!$N:$N,MATCH($A41,'Parametrage base'!$P:$P,0)),"") | G41: =IFERROR(INDEX('Parametrage base'!$Q:$Q,MATCH($A41,'Parametrage base'!$S:$S,0)),"") | H41: =IFERROR(INDEX('Parametrage base'!$T:$T,MATCH($A41,'Parametrage base'!$V:$V,0)),"") | I41: =IFERROR(INDEX('Parametrage base'!$W:$W,MATCH($A41,'Parametrage base'!$Y:$Y,0)),"") | J41: =IFERROR(INDEX('Parametrage base'!$Z:$Z,MATCH($A41,'Parametrage base'!$AB:$AB,0)),"") | K41: =IFERROR(INDEX('Parametrage base'!$AC:$AC,MATCH($A41,'Parametrage base'!$AE:$AE,0)),"") -> PFMP Tpro2 | L41: =IFERROR(INDEX('Parametrage base'!$AF:$AF,MATCH($A41,'Parametrage base'!$AH:$AH,0)),"") -> PFMP MCCDR | M41: =IFERROR(INDEX(Parametrage!$D:$D,MATCH(B41,Parametrage!$F:$F,0)),"") | N41: =IFERROR(INDEX(Parametrage!$I:$I,MATCH(B41,Parametrage!$J:$J,0)),"") | O41: =IFERROR(INDEX(Parametrage!$G:$G,MATCH(B41,Parametrage!$H:$H,0)),"") | P41: =IFERROR(INDEX(Parametrage!$K:$K,MATCH(B41,Parametrage!$L:$L,0)),"") | U41: =IFERROR(_xlfn.ISOWEEKNUM(V41),"") -> 49 | V41: =IF(V40<>"", IF(MONTH(V40+1)=MONTH($V$36), V40+1, ""),"") -> 45266 | W41: =+IFERROR(INDEX('Parametrage base'!$B:$B,MATCH(V41,'Parametrage base'!$C:$C,0)),"") | X41: =IFERROR(INDEX('Parametrage base'!$H:$H,MATCH(U41,'Parametrage base'!$J:$J,0)),"") -> PFMP 1cuis | Y41: =IFERROR(INDEX('Parametrage base'!$K:$K,MATCH($U41,'Parametrage base'!$M:$M,0)),"") | Z41: =IFERROR(INDEX('Parametrage base'!$N:$N,MATCH($U41,'Parametrage base'!$P:$P,0)),"") -> PFMP 2pro1 | AA41: =IFERROR(INDEX('Parametrage base'!$Q:$Q,MATCH($U41,'Parametrage base'!$S:$S,0)),"") -> PFMP 2pro2 | AB41: =IFERROR(INDEX('Parametrage base'!$T:$T,MATCH($U41,'Parametrage base'!$V:$V,0)),"") | AC41: =IFERROR(INDEX('Parametrage base'!$W:$W,MATCH($U41,'Parametrage base'!$Y:$Y,0)),"") | AD41: =IFERROR(INDEX('Parametrage base'!$Z:$Z,MATCH($U41,'Parametrage base'!$AB:$AB,0)),"") | AE41: =IFERROR(INDEX('Parametrage base'!$AC:$AC,MATCH($U41,'Parametrage base'!$AE:$AE,0)),"") | AF41: =IFERROR(INDEX('Parametrage base'!$AF:$AF,MATCH($U41,'Parametrage base'!$AH:$AH,0)),"") | AG41: =IFERROR(INDEX(Parametrage!$D:$D,MATCH(V41,Parametrage!$F:$F,0)),"") | AH41: =IFERROR(INDEX(Parametrage!$I:$I,MATCH(V41,Parametrage!$J:$J,0)),"") | AI41: =IFERROR(INDEX(Parametrage!$G:$G,MATCH(V41,Parametrage!$H:$H,0)),"") | AJ41: =IFERROR(INDEX(Parametrage!$K:$K,MATCH(V41,Parametrage!$L:$L,0)),"")
A42: =IFERROR(_xlfn.ISOWEEKNUM(B42),"") -> 45 | B42: =IF(B41<>"", IF(MONTH(B41+1)=MONTH($B$36), B41+1, ""),"") -> 45237 | C42: =+IFERROR(INDEX('Parametrage base'!$B:$B,MATCH(B42,'Parametrage base'!$C:$C,0)),"") | D42: =IFERROR(INDEX('Parametrage base'!H:H,MATCH(A42,'Parametrage base'!J:J,0)),"") | E42: =IFERROR(INDEX('Parametrage base'!$K:$K,MATCH($A42,'Parametrage base'!$M:$M,0)),"") | F42: =IFERROR(INDEX('Parametrage base'!$N:$N,MATCH($A42,'Parametrage base'!$P:$P,0)),"") | G42: =IFERROR(INDEX('Parametrage base'!$Q:$Q,MATCH($A42,'Parametrage base'!$S:$S,0)),"") | H42: =IFERROR(INDEX('Parametrage base'!$T:$T,MATCH($A42,'Parametrage base'!$V:$V,0)),"") | I42: =IFERROR(INDEX('Parametrage base'!$W:$W,MATCH($A42,'Parametrage base'!$Y:$Y,0)),"") | J42: =IFERROR(INDEX('Parametrage base'!$Z:$Z,MATCH($A42,'Parametrage base'!$AB:$AB,0)),"") | K42: =IFERROR(INDEX('Parametrage base'!$AC:$AC,MATCH($A42,'Parametrage base'!$AE:$AE,0)),"") -> PFMP Tpro2 | L42: =IFERROR(INDEX('Parametrage base'!$AF:$AF,MATCH($A42,'Parametrage base'!$AH:$AH,0)),"") -> PFMP MCCDR | M42: =IFERROR(INDEX(Parametrage!$D:$D,MATCH(B42,Parametrage!$F:$F,0)),"") | N42: =IFERROR(INDEX(Parametrage!$I:$I,MATCH(B42,Parametrage!$J:$J,0)),"") | O42: =IFERROR(INDEX(Parametrage!$G:$G,MATCH(B42,Parametrage!$H:$H,0)),"") | P42: =IFERROR(INDEX(Parametrage!$K:$K,MATCH(B42,Parametrage!$L:$L,0)),"") | U42: =IFERROR(_xlfn.ISOWEEKNUM(V42),"") -> 49 | V42: =IF(V41<>"", IF(MONTH(V41+1)=MONTH($V$36), V41+1, ""),"") -> 45267 | W42: =+IFERROR(INDEX('Parametrage base'!$B:$B,MATCH(V42,'Parametrage base'!$C:$C,0)),"") | X42: =IFERROR(INDEX('Parametrage base'!$H:$H,MATCH(U42,'Parametrage base'!$J:$J,0)),"") -> PFMP 1cuis | Y42: =IFERROR(INDEX('Parametrage base'!$K:$K,MATCH($U42,'Parametrage base'!$M:$M,0)),"") | Z42: =IFERROR(INDEX('Parametrage base'!$N:$N,MATCH($U42,'Parametrage base'!$P:$P,0)),"") -> PFMP 2pro1 | AA42: =IFERROR(INDEX('Parametrage base'!$Q:$Q,MATCH($U42,'Parametrage base'!$S:$S,0)),"") -> PFMP 2pro2 | AB42: =IFERROR(INDEX('Parametrage base'!$T:$T,MATCH($U42,'Parametrage base'!$V:$V,0)),"") | AC42: =IFERROR(INDEX('Parametrage base'!$W:$W,MATCH($U42,'Parametrage base'!$Y:$Y,0)),"") | AD42: =IFERROR(INDEX('Parametrage base'!$Z:$Z,MATCH($U42,'Parametrage base'!$AB:$AB,0)),"") | AE42: =IFERROR(INDEX('Parametrage base'!$AC:$AC,MATCH($U42,'Parametrage base'!$AE:$AE,0)),"") | AF42: =IFERROR(INDEX('Parametrage base'!$AF:$AF,MATCH($U42,'Parametrage base'!$AH:$AH,0)),"") | AG42: =IFERROR(INDEX(Parametrage!$D:$D,MATCH(V42,Parametrage!$F:$F,0)),"") | AH42: =IFERROR(INDEX(Parametrage!$I:$I,MATCH(V42,Parametrage!$J:$J,0)),"") | AI42: =IFERROR(INDEX(Parametrage!$G:$G,MATCH(V42,Parametrage!$H:$H,0)),"") | AJ42: =IFERROR(INDEX(Parametrage!$K:$K,MATCH(V42,Parametrage!$L:$L,0)),"")
A43: =IFERROR(_xlfn.ISOWEEKNUM(B43),"") -> 45 | B43: =IF(B42<>"", IF(MONTH(B42+1)=MONTH($B$36), B42+1, ""),"") -> 45238 | C43: =+IFERROR(INDEX('Parametrage base'!$B:$B,MATCH(B43,'Parametrage base'!$C:$C,0)),"") | D43: =IFERROR(INDEX('Parametrage base'!H:H,MATCH(A43,'Parametrage base'!J:J,0)),"") | E43: =IFERROR(INDEX('Parametrage base'!$K:$K,MATCH($A43,'Parametrage base'!$M:$M,0)),"") | F43: =IFERROR(INDEX('Parametrage base'!$N:$N,MATCH($A43,'Parametrage base'!$P:$P,0)),"") | G43: =IFERROR(INDEX('Parametrage base'!$Q:$Q,MATCH($A43,'Parametrage base'!$S:$S,0)),"") | H43: =IFERROR(INDEX('Parametrage base'!$T:$T,MATCH($A43,'Parametrage base'!$V:$V,0)),"") | I43: =IFERROR(INDEX('Parametrage base'!$W:$W,MATCH($A43,'Parametrage base'!$Y:$Y,0)),"") | J43: =IFERROR(INDEX('Parametrage base'!$Z:$Z,MATCH($A43,'Parametrage base'!$AB:$AB,0)),"") | K43: =IFERROR(INDEX('Parametrage base'!$AC:$AC,MATCH($A43,'Parametrage base'!$AE:$AE,0)),"") -> PFMP Tpro2 | L43: =IFERROR(INDEX('Parametrage base'!$AF:$AF,MATCH($A43,'Parametrage base'!$AH:$AH,0)),"") -> PFMP MCCDR | M43: =IFERROR(INDEX(Parametrage!$D:$D,MATCH(B43,Parametrage!$F:$F,0)),"") | N43: =IFERROR(INDEX(Parametrage!$I:$I,MATCH(B43,Parametrage!$J:$J,0)),"") | O43: =IFERROR(INDEX(Parametrage!$G:$G,MATCH(B43,Parametrage!$H:$H,0)),"") | P43: =IFERROR(INDEX(Parametrage!$K:$K,MATCH(B43,Parametrage!$L:$L,0)),"") | U43: =IFERROR(_xlfn.ISOWEEKNUM(V43),"") -> 49 | V43: =IF(V42<>"", IF(MONTH(V42+1)=MONTH($V$36), V42+1, ""),"") -> 45268 | W43: =+IFERROR(INDEX('Parametrage base'!$B:$B,MATCH(V43,'Parametrage base'!$C:$C,0)),"") | X43: =IFERROR(INDEX('Parametrage base'!$H:$H,MATCH(U43,'Parametrage base'!$J:$J,0)),"") -> PFMP 1cuis | Y43: =IFERROR(INDEX('Parametrage base'!$K:$K,MATCH($U43,'Parametrage base'!$M:$M,0)),"") | Z43: =IFERROR(INDEX('Parametrage base'!$N:$N,MATCH($U43,'Parametrage base'!$P:$P,0)),"") -> PFMP 2pro1 | AA43: =IFERROR(INDEX('Parametrage base'!$Q:$Q,MATCH($U43,'Parametrage base'!$S:$S,0)),"") -> PFMP 2pro2 | AB43: =IFERROR(INDEX('Parametrage base'!$T:$T,MATCH($U43,'Parametrage base'!$V:$V,0)),"") | AC43: =IFERROR(INDEX('Parametrage base'!$W:$W,MATCH($U43,'Parametrage base'!$Y:$Y,0)),"") | AD43: =IFERROR(INDEX('Parametrage base'!$Z:$Z,MATCH($U43,'Parametrage base'!$AB:$AB,0)),"") | AE43: =IFERROR(INDEX('Parametrage base'!$AC:$AC,MATCH($U43,'Parametrage base'!$AE:$AE,0)),"") | AF43: =IFERROR(INDEX('Parametrage base'!$AF:$AF,MATCH($U43,'Parametrage base'!$AH:$AH,0)),"") | AG43: =IFERROR(INDEX(Parametrage!$D:$D,MATCH(V43,Parametrage!$F:$F,0)),"") | AH43: =IFERROR(INDEX(Parametrage!$I:$I,MATCH(V43,Parametrage!$J:$J,0)),"") | AI43: =IFERROR(INDEX(Parametrage!$G:$G,MATCH(V43,Parametrage!$H:$H,0)),"") | AJ43: =IFERROR(INDEX(Parametrage!$K:$K,MATCH(V43,Parametrage!$L:$L,0)),"")
A44: =IFERROR(_xlfn.ISOWEEKNUM(B44),"") -> 45 | B44: =IF(B43<>"", IF(MONTH(B43+1)=MONTH($B$36), B43+1, ""),"") -> 45239 | C44: =+IFERROR(INDEX('Parametrage base'!$B:$B,MATCH(B44,'Parametrage base'!$C:$C,0)),"") | D44: =IFERROR(INDEX('Parametrage base'!H:H,MATCH(A44,'Parametrage base'!J:J,0)),"") | E44: =IFERROR(INDEX('Parametrage base'!$K:$K,MATCH($A44,'Parametrage base'!$M:$M,0)),"") | F44: =IFERROR(INDEX('Parametrage base'!$N:$N,MATCH($A44,'Parametrage base'!$P:$P,0)),"") | G44: =IFERROR(INDEX('Parametrage base'!$Q:$Q,MATCH($A44,'Parametrage base'!$S:$S,0)),"") | H44: =IFERROR(INDEX('Parametrage base'!$T:$T,MATCH($A44,'Parametrage base'!$V:$V,0)),"") | I44: =IFERROR(INDEX('Parametrage base'!$W:$W,MATCH($A44,'Parametrage base'!$Y:$Y,0)),"") | J44: =IFERROR(INDEX('Parametrage base'!$Z:$Z,MATCH($A44,'Parametrage base'!$AB:$AB,0)),"") | K44: =IFERROR(INDEX('Parametrage base'!$AC:$AC,MATCH($A44,'Parametrage base'!$AE:$AE,0)),"") -> PFMP Tpro2 | L44: =IFERROR(INDEX('Parametrage base'!$AF:$AF,MATCH($A44,'Parametrage base'!$AH:$AH,0)),"") -> PFMP MCCDR | M44: =IFERROR(INDEX(Parametrage!$D:$D,MATCH(B44,Parametrage!$F:$F,0)),"") | N44: =IFERROR(INDEX(Parametrage!$I:$I,MATCH(B44,Parametrage!$J:$J,0)),"") | O44: =IFERROR(INDEX(Parametrage!$G:$G,MATCH(B44,Parametrage!$H:$H,0)),"") | P44: =IFERROR(INDEX(Parametrage!$K:$K,MATCH(B44,Parametrage!$L:$L,0)),"") | U44: =IFERROR(_xlfn.ISOWEEKNUM(V44),"") -> 49 | V44: =IF(V43<>"", IF(MONTH(V43+1)=MONTH($V$36), V43+1, ""),"") -> 45269 | W44: =+IFERROR(INDEX('Parametrage base'!$B:$B,MATCH(V44,'Parametrage base'!$C:$C,0)),"") | X44: =IFERROR(INDEX('Parametrage base'!$H:$H,MATCH(U44,'Parametrage base'!$J:$J,0)),"") -> PFMP 1cuis | Y44: =IFERROR(INDEX('Parametrage base'!$K:$K,MATCH($U44,'Parametrage base'!$M:$M,0)),"") | Z44: =IFERROR(INDEX('Parametrage base'!$N:$N,MATCH($U44,'Parametrage base'!$P:$P,0)),"") -> PFMP 2pro1 | AA44: =IFERROR(INDEX('Parametrage base'!$Q:$Q,MATCH($U44,'Parametrage base'!$S:$S,0)),"") -> PFMP 2pro2 | AB44: =IFERROR(INDEX('Parametrage base'!$T:$T,MATCH($U44,'Parametrage base'!$V:$V,0)),"") | AC44: =IFERROR(INDEX('Parametrage base'!$W:$W,MATCH($U44,'Parametrage base'!$Y:$Y,0)),"") | AD44: =IFERROR(INDEX('Parametrage base'!$Z:$Z,MATCH($U44,'Parametrage base'!$AB:$AB,0)),"") | AE44: =IFERROR(INDEX('Parametrage base'!$AC:$AC,MATCH($U44,'Parametrage base'!$AE:$AE,0)),"") | AF44: =IFERROR(INDEX('Parametrage base'!$AF:$AF,MATCH($U44,'Parametrage base'!$AH:$AH,0)),"") | AG44: =IFERROR(INDEX(Parametrage!$D:$D,MATCH(V44,Parametrage!$F:$F,0)),"") | AH44: =IFERROR(INDEX(Parametrage!$I:$I,MATCH(V44,Parametrage!$J:$J,0)),"") | AI44: =IFERROR(INDEX(Parametrage!$G:$G,MATCH(V44,Parametrage!$H:$H,0)),"") | AJ44: =IFERROR(INDEX(Parametrage!$K:$K,MATCH(V44,Parametrage!$L:$L,0)),"")
A45: =IFERROR(_xlfn.ISOWEEKNUM(B45),"") -> 45 | B45: =IF(B44<>"", IF(MONTH(B44+1)=MONTH($B$36), B44+1, ""),"") -> 45240 | C45: =+IFERROR(INDEX('Parametrage base'!$B:$B,MATCH(B45,'Parametrage base'!$C:$C,0)),"") | D45: =IFERROR(INDEX('Parametrage base'!H:H,MATCH(A45,'Parametrage base'!J:J,0)),"") | E45: =IFERROR(INDEX('Parametrage base'!$K:$K,MATCH($A45,'Parametrage base'!$M:$M,0)),"") | F45: =IFERROR(INDEX('Parametrage base'!$N:$N,MATCH($A45,'Parametrage base'!$P:$P,0)),"") | G45: =IFERROR(INDEX('Parametrage base'!$Q:$Q,MATCH($A45,'Parametrage base'!$S:$S,0)),"") | H45: =IFERROR(INDEX('Parametrage base'!$T:$T,MATCH($A45,'Parametrage base'!$V:$V,0)),"") | I45: =IFERROR(INDEX('Parametrage base'!$W:$W,MATCH($A45,'Parametrage base'!$Y:$Y,0)),"") | J45: =IFERROR(INDEX('Parametrage base'!$Z:$Z,MATCH($A45,'Parametrage base'!$AB:$AB,0)),"") | K45: =IFERROR(INDEX('Parametrage base'!$AC:$AC,MATCH($A45,'Parametrage base'!$AE:$AE,0)),"") -> PFMP Tpro2 | L45: =IFERROR(INDEX('Parametrage base'!$AF:$AF,MATCH($A45,'Parametrage base'!$AH:$AH,0)),"") -> PFMP MCCDR | M45: =IFERROR(INDEX(Parametrage!$D:$D,MATCH(B45,Parametrage!$F:$F,0)),"") | N45: =IFERROR(INDEX(Parametrage!$I:$I,MATCH(B45,Parametrage!$J:$J,0)),"") | O45: =IFERROR(INDEX(Parametrage!$G:$G,MATCH(B45,Parametrage!$H:$H,0)),"") | P45: =IFERROR(INDEX(Parametrage!$K:$K,MATCH(B45,Parametrage!$L:$L,0)),"") | U45: =IFERROR(_xlfn.ISOWEEKNUM(V45),"") -> 49 | V45: =IF(V44<>"", IF(MONTH(V44+1)=MONTH($V$36), V44+1, ""),"") -> 45270 | W45: =+IFERROR(INDEX('Parametrage base'!$B:$B,MATCH(V45,'Parametrage base'!$C:$C,0)),"") | X45: =IFERROR(INDEX('Parametrage base'!$H:$H,MATCH(U45,'Parametrage base'!$J:$J,0)),"") -> PFMP 1cuis | Y45: =IFERROR(INDEX('Parametrage base'!$K:$K,MATCH($U45,'Parametrage base'!$M:$M,0)),"") | Z45: =IFERROR(INDEX('Parametrage base'!$N:$N,MATCH($U45,'Parametrage base'!$P:$P,0)),"") -> PFMP 2pro1 | AA45: =IFERROR(INDEX('Parametrage base'!$Q:$Q,MATCH($U45,'Parametrage base'!$S:$S,0)),"") -> PFMP 2pro2 | AB45: =IFERROR(INDEX('Parametrage base'!$T:$T,MATCH($U45,'Parametrage base'!$V:$V,0)),"") | AC45: =IFERROR(INDEX('Parametrage base'!$W:$W,MATCH($U45,'Parametrage base'!$Y:$Y,0)),"") | AD45: =IFERROR(INDEX('Parametrage base'!$Z:$Z,MATCH($U45,'Parametrage base'!$AB:$AB,0)),"") | AE45: =IFERROR(INDEX('Parametrage base'!$AC:$AC,MATCH($U45,'Parametrage base'!$AE:$AE,0)),"") | AF45: =IFERROR(INDEX('Parametrage base'!$AF:$AF,MATCH($U45,'Parametrage base'!$AH:$AH,0)),"") | AG45: =IFERROR(INDEX(Parametrage!$D:$D,MATCH(V45,Parametrage!$F:$F,0)),"") | AH45: =IFERROR(INDEX(Parametrage!$I:$I,MATCH(V45,Parametrage!$J:$J,0)),"") | AI45: =IFERROR(INDEX(Parametrage!$G:$G,MATCH(V45,Parametrage!$H:$H,0)),"") | AJ45: =IFERROR(INDEX(Parametrage!$K:$K,MATCH(V45,Parametrage!$L:$L,0)),"")
A46: =IFERROR(_xlfn.ISOWEEKNUM(B46),"") -> 45 | B46: =IF(B45<>"", IF(MONTH(B45+1)=MONTH($B$36), B45+1, ""),"") -> 45241 | C46: =+IFERROR(INDEX('Parametrage base'!$B:$B,MATCH(B46,'Parametrage base'!$C:$C,0)),"") -> Férié | D46: =IFERROR(INDEX('Parametrage base'!H:H,MATCH(A46,'Parametrage base'!J:J,0)),"") | E46: =IFERROR(INDEX('Parametrage base'!$K:$K,MATCH($A46,'Parametrage base'!$M:$M,0)),"") | F46: =IFERROR(INDEX('Parametrage base'!$N:$N,MATCH($A46,'Parametrage base'!$P:$P,0)),"") | G46: =IFERROR(INDEX('Parametrage base'!$Q:$Q,MATCH($A46,'Parametrage base'!$S:$S,0)),"") | H46: =IFERROR(INDEX('Parametrage base'!$T:$T,MATCH($A46,'Parametrage base'!$V:$V,0)),"") | I46: =IFERROR(INDEX('Parametrage base'!$W:$W,MATCH($A46,'Parametrage base'!$Y:$Y,0)),"") | J46: =IFERROR(INDEX('Parametrage base'!$Z:$Z,MATCH($A46,'Parametrage base'!$AB:$AB,0)),"") | K46: =IFERROR(INDEX('Parametrage base'!$AC:$AC,MATCH($A46,'Parametrage base'!$AE:$AE,0)),"") -> PFMP Tpro2 | L46: =IFERROR(INDEX('Parametrage base'!$AF:$AF,MATCH($A46,'Parametrage base'!$AH:$AH,0)),"") -> PFMP MCCDR | M46: =IFERROR(INDEX(Parametrage!$D:$D,MATCH(B46,Parametrage!$F:$F,0)),"") | N46: =IFERROR(INDEX(Parametrage!$I:$I,MATCH(B46,Parametrage!$J:$J,0)),"") | O46: =IFERROR(INDEX(Parametrage!$G:$G,MATCH(B46,Parametrage!$H:$H,0)),"") | P46: =IFERROR(INDEX(Parametrage!$K:$K,MATCH(B46,Parametrage!$L:$L,0)),"") | U46: =IFERROR(_xlfn.ISOWEEKNUM(V46),"") -> 50 | V46: =IF(V45<>"", IF(MONTH(V45+1)=MONTH($V$36), V45+1, ""),"") -> 45271 | W46: =+IFERROR(INDEX('Parametrage base'!$B:$B,MATCH(V46,'Parametrage base'!$C:$C,0)),"") | X46: =IFERROR(INDEX('Parametrage base'!$H:$H,MATCH(U46,'Parametrage base'!$J:$J,0)),"") -> PFMP 1cuis | Y46: =IFERROR(INDEX('Parametrage base'!$K:$K,MATCH($U46,'Parametrage base'!$M:$M,0)),"") | Z46: =IFERROR(INDEX('Parametrage base'!$N:$N,MATCH($U46,'Parametrage base'!$P:$P,0)),"") | AA46: =IFERROR(INDEX('Parametrage base'!$Q:$Q,MATCH($U46,'Parametrage base'!$S:$S,0)),"") | AB46: =IFERROR(INDEX('Parametrage base'!$T:$T,MATCH($U46,'Parametrage base'!$V:$V,0)),"") | AC46: =IFERROR(INDEX('Parametrage base'!$W:$W,MATCH($U46,'Parametrage base'!$Y:$Y,0)),"") | AD46: =IFERROR(INDEX('Parametrage base'!$Z:$Z,MATCH($U46,'Parametrage base'!$AB:$AB,0)),"") | AE46: =IFERROR(INDEX('Parametrage base'!$AC:$AC,MATCH($U46,'Parametrage base'!$AE:$AE,0)),"") | AF46: =IFERROR(INDEX('Parametrage base'!$AF:$AF,MATCH($U46,'Parametrage base'!$AH:$AH,0)),"") | AG46: =IFERROR(INDEX(Parametrage!$D:$D,MATCH(V46,Parametrage!$F:$F,0)),"") | AH46: =IFERROR(INDEX(Parametrage!$I:$I,MATCH(V46,Parametrage!$J:$J,0)),"") | AI46: =IFERROR(INDEX(Parametrage!$G:$G,MATCH(V46,Parametrage!$H:$H,0)),"") | AJ46: =IFERROR(INDEX(Parametrage!$K:$K,MATCH(V46,Parametrage!$L:$L,0)),"")
A47: =IFERROR(_xlfn.ISOWEEKNUM(B47),"") -> 45 | B47: =IF(B46<>"", IF(MONTH(B46+1)=MONTH($B$36), B46+1, ""),"") -> 45242 | C47: =+IFERROR(INDEX('Parametrage base'!$B:$B,MATCH(B47,'Parametrage base'!$C:$C,0)),"") | D47: =IFERROR(INDEX('Parametrage base'!H:H,MATCH(A47,'Parametrage base'!J:J,0)),"") | E47: =IFERROR(INDEX('Parametrage base'!$K:$K,MATCH($A47,'Parametrage base'!$M:$M,0)),"") | F47: =IFERROR(INDEX('Parametrage base'!$N:$N,MATCH($A47,'Parametrage base'!$P:$P,0)),"") | G47: =IFERROR(INDEX('Parametrage base'!$Q:$Q,MATCH($A47,'Parametrage base'!$S:$S,0)),"") | H47: =IFERROR(INDEX('Parametrage base'!$T:$T,MATCH($A47,'Parametrage base'!$V:$V,0)),"") | I47: =IFERROR(INDEX('Parametrage base'!$W:$W,MATCH($A47,'Parametrage base'!$Y:$Y,0)),"") | J47: =IFERROR(INDEX('Parametrage base'!$Z:$Z,MATCH($A47,'Parametrage base'!$AB:$AB,0)),"") | K47: =IFERROR(INDEX('Parametrage base'!$AC:$AC,MATCH($A47,'Parametrage base'!$AE:$AE,0)),"") -> PFMP Tpro2 | L47: =IFERROR(INDEX('Parametrage base'!$AF:$AF,MATCH($A47,'Parametrage base'!$AH:$AH,0)),"") -> PFMP MCCDR | M47: =IFERROR(INDEX(Parametrage!$D:$D,MATCH(B47,Parametrage!$F:$F,0)),"") | N47: =IFERROR(INDEX(Parametrage!$I:$I,MATCH(B47,Parametrage!$J:$J,0)),"") | O47: =IFERROR(INDEX(Parametrage!$G:$G,MATCH(B47,Parametrage!$H:$H,0)),"") | P47: =IFERROR(INDEX(Parametrage!$K:$K,MATCH(B47,Parametrage!$L:$L,0)),"") | U47: =IFERROR(_xlfn.ISOWEEKNUM(V47),"") -> 50 | V47: =IF(V46<>"", IF(MONTH(V46+1)=MONTH($V$36), V46+1, ""),"") -> 45272 | W47: =+IFERROR(INDEX('Parametrage base'!$B:$B,MATCH(V47,'Parametrage base'!$C:$C,0)),"") | X47: =IFERROR(INDEX('Parametrage base'!$H:$H,MATCH(U47,'Parametrage base'!$J:$J,0)),"") -> PFMP 1cuis | Y47: =IFERROR(INDEX('Parametrage base'!$K:$K,MATCH($U47,'Parametrage base'!$M:$M,0)),"") | Z47: =IFERROR(INDEX('Parametrage base'!$N:$N,MATCH($U47,'Parametrage base'!$P:$P,0)),"") | AA47: =IFERROR(INDEX('Parametrage base'!$Q:$Q,MATCH($U47,'Parametrage base'!$S:$S,0)),"") | AB47: =IFERROR(INDEX('Parametrage base'!$T:$T,MATCH($U47,'Parametrage base'!$V:$V,0)),"") | AC47: =IFERROR(INDEX('Parametrage base'!$W:$W,MATCH($U47,'Parametrage base'!$Y:$Y,0)),"") | AD47: =IFERROR(INDEX('Parametrage base'!$Z:$Z,MATCH($U47,'Parametrage base'!$AB:$AB,0)),"") | AE47: =IFERROR(INDEX('Parametrage base'!$AC:$AC,MATCH($U47,'Parametrage base'!$AE:$AE,0)),"") | AF47: =IFERROR(INDEX('Parametrage base'!$AF:$AF,MATCH($U47,'Parametrage base'!$AH:$AH,0)),"") | AG47: =IFERROR(INDEX(Parametrage!$D:$D,MATCH(V47,Parametrage!$F:$F,0)),"") | AH47: =IFERROR(INDEX(Parametrage!$I:$I,MATCH(V47,Parametrage!$J:$J,0)),"") | AI47: =IFERROR(INDEX(Parametrage!$G:$G,MATCH(V47,Parametrage!$H:$H,0)),"") | AJ47: =IFERROR(INDEX(Parametrage!$K:$K,MATCH(V47,Parametrage!$L:$L,0)),"")
A48: =IFERROR(_xlfn.ISOWEEKNUM(B48),"") -> 46 | B48: =IF(B47<>"", IF(MONTH(B47+1)=MONTH($B$36), B47+1, ""),"") -> 45243 | C48: =+IFERROR(INDEX('Parametrage base'!$B:$B,MATCH(B48,'Parametrage base'!$C:$C,0)),"") | D48: =IFERROR(INDEX('Parametrage base'!H:H,MATCH(A48,'Parametrage base'!J:J,0)),"") | E48: =IFERROR(INDEX('Parametrage base'!$K:$K,MATCH($A48,'Parametrage base'!$M:$M,0)),"") | F48: =IFERROR(INDEX('Parametrage base'!$N:$N,MATCH($A48,'Parametrage base'!$P:$P,0)),"") | G48: =IFERROR(INDEX('Parametrage base'!$Q:$Q,MATCH($A48,'Parametrage base'!$S:$S,0)),"") | H48: =IFERROR(INDEX('Parametrage base'!$T:$T,MATCH($A48,'Parametrage base'!$V:$V,0)),"") | I48: =IFERROR(INDEX('Parametrage base'!$W:$W,MATCH($A48,'Parametrage base'!$Y:$Y,0)),"") | J48: =IFERROR(INDEX('Parametrage base'!$Z:$Z,MATCH($A48,'Parametrage base'!$AB:$AB,0)),"") | K48: =IFERROR(INDEX('Parametrage base'!$AC:$AC,MATCH($A48,'Parametrage base'!$AE:$AE,0)),"") -> PFMP Tpro2 | L48: =IFERROR(INDEX('Parametrage base'!$AF:$AF,MATCH($A48,'Parametrage base'!$AH:$AH,0)),"") -> PFMP MCCDR | M48: =IFERROR(INDEX(Parametrage!$D:$D,MATCH(B48,Parametrage!$F:$F,0)),"") | N48: =IFERROR(INDEX(Parametrage!$I:$I,MATCH(B48,Parametrage!$J:$J,0)),"") -> Retour convention 2pro2 | O48: =IFERROR(INDEX(Parametrage!$G:$G,MATCH(B48,Parametrage!$H:$H,0)),"") | P48: =IFERROR(INDEX(Parametrage!$K:$K,MATCH(B48,Parametrage!$L:$L,0)),"") | U48: =IFERROR(_xlfn.ISOWEEKNUM(V48),"") -> 50 | V48: =IF(V47<>"", IF(MONTH(V47+1)=MONTH($V$36), V47+1, ""),"") -> 45273 | W48: =+IFERROR(INDEX('Parametrage base'!$B:$B,MATCH(V48,'Parametrage base'!$C:$C,0)),"") | X48: =IFERROR(INDEX('Parametrage base'!$H:$H,MATCH(U48,'Parametrage base'!$J:$J,0)),"") -> PFMP 1cuis | Y48: =IFERROR(INDEX('Parametrage base'!$K:$K,MATCH($U48,'Parametrage base'!$M:$M,0)),"") | Z48: =IFERROR(INDEX('Parametrage base'!$N:$N,MATCH($U48,'Parametrage base'!$P:$P,0)),"") | AA48: =IFERROR(INDEX('Parametrage base'!$Q:$Q,MATCH($U48,'Parametrage base'!$S:$S,0)),"") | AB48: =IFERROR(INDEX('Parametrage base'!$T:$T,MATCH($U48,'Parametrage base'!$V:$V,0)),"") | AC48: =IFERROR(INDEX('Parametrage base'!$W:$W,MATCH($U48,'Parametrage base'!$Y:$Y,0)),"") | AD48: =IFERROR(INDEX('Parametrage base'!$Z:$Z,MATCH($U48,'Parametrage base'!$AB:$AB,0)),"") | AE48: =IFERROR(INDEX('Parametrage base'!$AC:$AC,MATCH($U48,'Parametrage base'!$AE:$AE,0)),"") | AF48: =IFERROR(INDEX('Parametrage base'!$AF:$AF,MATCH($U48,'Parametrage base'!$AH:$AH,0)),"") | AG48: =IFERROR(INDEX(Parametrage!$D:$D,MATCH(V48,Parametrage!$F:$F,0)),"") | AH48: =IFERROR(INDEX(Parametrage!$I:$I,MATCH(V48,Parametrage!$J:$J,0)),"") | AI48: =IFERROR(INDEX(Parametrage!$G:$G,MATCH(V48,Parametrage!$H:$H,0)),"") | AJ48: =IFERROR(INDEX(Parametrage!$K:$K,MATCH(V48,Parametrage!$L:$L,0)),"")
... A66: =IFERROR(_xlfn.ISOWEEKNUM(B66),"") | B66: =IF(B65<>"", IF(MONTH(B65+1)=MONTH($B$36), B65+1, ""),"") | C66: =+IFERROR(INDEX('Parametrage base'!$B:$B,MATCH(B66,'Parametrage base'!$C:$C,0)),"") | D66: =IFERROR(INDEX('Parametrage base'!H:H,MATCH(A66,'Parametrage base'!J:J,0)),"") | E66: =IFERROR(INDEX('Parametrage base'!$K:$K,MATCH($A66,'Parametrage base'!$M:$M,0)),"") | F66: =IFERROR(INDEX('Parametrage base'!$N:$N,MATCH($A66,'Parametrage base'!$P:$P,0)),"") | G66: =IFERROR(INDEX('Parametrage base'!$Q:$Q,MATCH($A66,'Parametrage base'!$S:$S,0)),"") | H66: =IFERROR(INDEX('Parametrage base'!$T:$T,MATCH($A66,'Parametrage base'!$V:$V,0)),"") | I66: =IFERROR(INDEX('Parametrage base'!$W:$W,MATCH($A66,'Parametrage base'!$Y:$Y,0)),"") | J66: =IFERROR(INDEX('Parametrage base'!$Z:$Z,MATCH($A66,'Parametrage base'!$AB:$AB,0)),"") | K66: =IFERROR(INDEX('Parametrage base'!$AC:$AC,MATCH($A66,'Parametrage base'!$AE:$AE,0)),"") | L66: =IFERROR(INDEX('Parametrage base'!$AF:$AF,MATCH($A66,'Parametrage base'!$AH:$AH,0)),"") | M66: =IFERROR(INDEX(Parametrage!$D:$D,MATCH(B66,Parametrage!$F:$F,0)),"") | N66: =IFERROR(INDEX(Parametrage!$I:$I,MATCH(B66,Parametrage!$J:$J,0)),"") | O66: =IFERROR(INDEX(Parametrage!$G:$G,MATCH(B66,Parametrage!$H:$H,0)),"") | P66: =IFERROR(INDEX(Parametrage!$K:$K,MATCH(B66,Parametrage!$L:$L,0)),"") | U66: =IFERROR(_xlfn.ISOWEEKNUM(V66),"") -> 52 | V66: =IF(V65<>"", IF(MONTH(V65+1)=MONTH($V$36), V65+1, ""),"") -> 45291 | W66: =+IFERROR(INDEX('Parametrage base'!$B:$B,MATCH(V66,'Parametrage base'!$C:$C,0)),"") -> Vacances | X66: =IFERROR(INDEX('Parametrage base'!$H:$H,MATCH(U66,'Parametrage base'!$J:$J,0)),"") | Y66: =IFERROR(INDEX('Parametrage base'!$K:$K,MATCH($U66,'Parametrage base'!$M:$M,0)),"") | Z66: =IFERROR(INDEX('Parametrage base'!$N:$N,MATCH($U66,'Parametrage base'!$P:$P,0)),"") | AA66: =IFERROR(INDEX('Parametrage base'!$Q:$Q,MATCH($U66,'Parametrage base'!$S:$S,0)),"") | AB66: =IFERROR(INDEX('Parametrage base'!$T:$T,MATCH($U66,'Parametrage base'!$V:$V,0)),"") | AC66: =IFERROR(INDEX('Parametrage base'!$W:$W,MATCH($U66,'Parametrage base'!$Y:$Y,0)),"") | AD66: =IFERROR(INDEX('Parametrage base'!$Z:$Z,MATCH($U66,'Parametrage base'!$AB:$AB,0)),"") | AE66: =IFERROR(INDEX('Parametrage base'!$AC:$AC,MATCH($U66,'Parametrage base'!$AE:$AE,0)),"") | AF66: =IFERROR(INDEX('Parametrage base'!$AF:$AF,MATCH($U66,'Parametrage base'!$AH:$AH,0)),"") | AG66: =IFERROR(INDEX(Parametrage!$D:$D,MATCH(V66,Parametrage!$F:$F,0)),"") | AH66: =IFERROR(INDEX(Parametrage!$I:$I,MATCH(V66,Parametrage!$J:$J,0)),"") | AI66: =IFERROR(INDEX(Parametrage!$G:$G,MATCH(V66,Parametrage!$H:$H,0)),"") | AJ66: =IFERROR(INDEX(Parametrage!$K:$K,MATCH(V66,Parametrage!$L:$L,0)),"")
A68: Sem | B68: =DATE(YEAR(O1),MONTH(N1)+4,DAY(A1)) -> 2193 | C68: Infos | D68: PFMP 1cuis | E68: PFMP Tcuis | F68: PFMP 2pro1 | G68: PFMP 2pro2 | H68: PFMP 1pro1 | I68: PFMP 1pro2 | J68: PFMP Tpro1 | K68: PFMP Tpro2 | L68: MCCDR | M68: Vie de classe | N68: Vigilance | O68: CCF | P68: Autres | U68: Sem | V68: =DATE(YEAR(O1),MONTH(N1)+5,DAY(A1)) -> 2224 | W68: Infos | X68: PFMP 1cuis | Y68: PFMP Tcuis | Z68: PFMP 2pro1 | AA68: PFMP 2pro2 | AB68: PFMP 1pro1 | AC68: PFMP 1pro2 | AD68: PFMP Tpro1 | AE68: PFMP Tpro2 | AF68: MCCDR | AG68: Vie de classe | AH68: Vigilance | AI68: CCF | AJ68: Autres
A69: =IFERROR(_xlfn.ISOWEEKNUM(B69),"") -> 1 | B69: =DATE(O1+1,MONTH(B68),1) -> 45292 | C69: =+IFERROR(INDEX('Parametrage base'!$B:$B,MATCH(B69,'Parametrage base'!$C:$C,0)),"") -> Férié | D69: =IFERROR(INDEX('Parametrage base'!H:H,MATCH(A69,'Parametrage base'!J:J,0)),"") | E69: =IFERROR(INDEX('Parametrage base'!$K:$K,MATCH($A69,'Parametrage base'!$M:$M,0)),"") | F69: =IFERROR(INDEX('Parametrage base'!$N:$N,MATCH($A69,'Parametrage base'!$P:$P,0)),"") | G69: =IFERROR(INDEX('Parametrage base'!$Q:$Q,MATCH($A69,'Parametrage base'!$S:$S,0)),"") | H69: =IFERROR(INDEX('Parametrage base'!$T:$T,MATCH($A69,'Parametrage base'!$V:$V,0)),"") | I69: =IFERROR(INDEX('Parametrage base'!$W:$W,MATCH($A69,'Parametrage base'!$Y:$Y,0)),"") | J69: =IFERROR(INDEX('Parametrage base'!$Z:$Z,MATCH($A69,'Parametrage base'!$AB:$AB,0)),"") | K69: =IFERROR(INDEX('Parametrage base'!$AC:$AC,MATCH($A69,'Parametrage base'!$AE:$AE,0)),"") | L69: =IFERROR(INDEX('Parametrage base'!$AF:$AF,MATCH($A69,'Parametrage base'!$AH:$AH,0)),"") | M69: =IFERROR(INDEX(Parametrage!$D:$D,MATCH(B69,Parametrage!$F:$F,0)),"") | N69: =IFERROR(INDEX(Parametrage!$I:$I,MATCH(B69,Parametrage!$J:$J,0)),"") | O69: =IFERROR(INDEX(Parametrage!$G:$G,MATCH(B69,Parametrage!$H:$H,0)),"") | P69: =IFERROR(INDEX(Parametrage!$K:$K,MATCH(B69,Parametrage!$L:$L,0)),"") | U69: =IFERROR(_xlfn.ISOWEEKNUM(V69),"") -> 5 | V69: =DATE(O1+1,MONTH(V68),1) -> 45323 | W69: =+IFERROR(INDEX('Parametrage base'!$B:$B,MATCH(V69,'Parametrage base'!$C:$C,0)),"") | X69: =IFERROR(INDEX('Parametrage base'!$H:$H,MATCH(U69,'Parametrage base'!$J:$J,0)),"") | Y69: =IFERROR(INDEX('Parametrage base'!$K:$K,MATCH($U69,'Parametrage base'!$M:$M,0)),"") -> PFMP Tcuis | Z69: =IFERROR(INDEX('Parametrage base'!$N:$N,MATCH($U69,'Parametrage base'!$P:$P,0)),"") | AA69: =IFERROR(INDEX('Parametrage base'!$Q:$Q,MATCH($U69,'Parametrage base'!$S:$S,0)),"") | AB69: =IFERROR(INDEX('Parametrage base'!$T:$T,MATCH($U69,'Parametrage base'!$V:$V,0)),"") | AC69: =IFERROR(INDEX('Parametrage base'!$W:$W,MATCH($U69,'Parametrage base'!$Y:$Y,0)),"") | AD69: =IFERROR(INDEX('Parametrage base'!$Z:$Z,MATCH($U69,'Parametrage base'!$AB:$AB,0)),"") -> PFMP Tpro1 | AE69: =IFERROR(INDEX('Parametrage base'!$AC:$AC,MATCH($U69,'Parametrage base'!$AE:$AE,0)),"") | AF69: =IFERROR(INDEX('Parametrage base'!$AF:$AF,MATCH($U69,'Parametrage base'!$AH:$AH,0)),"") | AG69: =IFERROR(INDEX(Parametrage!$D:$D,MATCH(V69,Parametrage!$F:$F,0)),"") | AH69: =IFERROR(INDEX(Parametrage!$I:$I,MATCH(V69,Parametrage!$J:$J,0)),"") | AI69: =IFERROR(INDEX(Parametrage!$G:$G,MATCH(V69,Parametrage!$H:$H,0)),"") | AJ69: =IFERROR(INDEX(Parametrage!$K:$K,MATCH(V69,Parametrage!$L:$L,0)),"")
A70: =IFERROR(_xlfn.ISOWEEKNUM(B70),"") -> 1 | B70: =IF(B69<>"", IF(MONTH(B69+1)=MONTH($B$68), B69+1, ""),"") -> 45293 | C70: =+IFERROR(INDEX('Parametrage base'!$B:$B,MATCH(B70,'Parametrage base'!$C:$C,0)),"") -> Vacances | D70: =IFERROR(INDEX('Parametrage base'!H:H,MATCH(A70,'Parametrage base'!J:J,0)),"") | E70: =IFERROR(INDEX('Parametrage base'!$K:$K,MATCH($A70,'Parametrage base'!$M:$M,0)),"") | F70: =IFERROR(INDEX('Parametrage base'!$N:$N,MATCH($A70,'Parametrage base'!$P:$P,0)),"") | G70: =IFERROR(INDEX('Parametrage base'!$Q:$Q,MATCH($A70,'Parametrage base'!$S:$S,0)),"") | H70: =IFERROR(INDEX('Parametrage base'!$T:$T,MATCH($A70,'Parametrage base'!$V:$V,0)),"") | I70: =IFERROR(INDEX('Parametrage base'!$W:$W,MATCH($A70,'Parametrage base'!$Y:$Y,0)),"") | J70: =IFERROR(INDEX('Parametrage base'!$Z:$Z,MATCH($A70,'Parametrage base'!$AB:$AB,0)),"") | K70: =IFERROR(INDEX('Parametrage base'!$AC:$AC,MATCH($A70,'Parametrage base'!$AE:$AE,0)),"") | L70: =IFERROR(INDEX('Parametrage base'!$AF:$AF,MATCH($A70,'Parametrage base'!$AH:$AH,0)),"") | M70: =IFERROR(INDEX(Parametrage!$D:$D,MATCH(B70,Parametrage!$F:$F,0)),"") | N70: =IFERROR(INDEX(Parametrage!$I:$I,MATCH(B70,Parametrage!$J:$J,0)),"") | O70: =IFERROR(INDEX(Parametrage!$G:$G,MATCH(B70,Parametrage!$H:$H,0)),"") | P70: =IFERROR(INDEX(Parametrage!$K:$K,MATCH(B70,Parametrage!$L:$L,0)),"") | U70: =IFERROR(_xlfn.ISOWEEKNUM(V70),"") -> 5 | V70: =IF(V69<>"", IF(MONTH(V69+1)=MONTH($V$68), V69+1, ""),"") -> 45324 | W70: =+IFERROR(INDEX('Parametrage base'!$B:$B,MATCH(V70,'Parametrage base'!$C:$C,0)),"") | X70: =IFERROR(INDEX('Parametrage base'!$H:$H,MATCH(U70,'Parametrage base'!$J:$J,0)),"") | Y70: =IFERROR(INDEX('Parametrage base'!$K:$K,MATCH($U70,'Parametrage base'!$M:$M,0)),"") -> PFMP Tcuis | Z70: =IFERROR(INDEX('Parametrage base'!$N:$N,MATCH($U70,'Parametrage base'!$P:$P,0)),"") | AA70: =IFERROR(INDEX('Parametrage base'!$Q:$Q,MATCH($U70,'Parametrage base'!$S:$S,0)),"") | AB70: =IFERROR(INDEX('Parametrage base'!$T:$T,MATCH($U70,'Parametrage base'!$V:$V,0)),"") | AC70: =IFERROR(INDEX('Parametrage base'!$W:$W,MATCH($U70,'Parametrage base'!$Y:$Y,0)),"") | AD70: =IFERROR(INDEX('Parametrage base'!$Z:$Z,MATCH($U70,'Parametrage base'!$AB:$AB,0)),"") -> PFMP Tpro1 | AE70: =IFERROR(INDEX('Parametrage base'!$AC:$AC,MATCH($U70,'Parametrage base'!$AE:$AE,0)),"") | AF70: =IFERROR(INDEX('Parametrage base'!$AF:$AF,MATCH($U70,'Parametrage base'!$AH:$AH,0)),"") | AG70: =IFERROR(INDEX(Parametrage!$D:$D,MATCH(V70,Parametrage!$F:$F,0)),"") | AH70: =IFERROR(INDEX(Parametrage!$I:$I,MATCH(V70,Parametrage!$J:$J,0)),"") | AI70: =IFERROR(INDEX(Parametrage!$G:$G,MATCH(V70,Parametrage!$H:$H,0)),"") | AJ70: =IFERROR(INDEX(Parametrage!$K:$K,MATCH(V70,Parametrage!$L:$L,0)),"")
A71: =IFERROR(_xlfn.ISOWEEKNUM(B71),"") -> 1 | B71: =IF(B70<>"", IF(MONTH(B70+1)=MONTH($B$68), B70+1, ""),"") -> 45294 | C71: =+IFERROR(INDEX('Parametrage base'!$B:$B,MATCH(B71,'Parametrage base'!$C:$C,0)),"") -> Vacances | D71: =IFERROR(INDEX('Parametrage base'!H:H,MATCH(A71,'Parametrage base'!J:J,0)),"") | E71: =IFERROR(INDEX('Parametrage base'!$K:$K,MATCH($A71,'Parametrage base'!$M:$M,0)),"") | F71: =IFERROR(INDEX('Parametrage base'!$N:$N,MATCH($A71,'Parametrage base'!$P:$P,0)),"") | G71: =IFERROR(INDEX('Parametrage base'!$Q:$Q,MATCH($A71,'Parametrage base'!$S:$S,0)),"") | H71: =IFERROR(INDEX('Parametrage base'!$T:$T,MATCH($A71,'Parametrage base'!$V:$V,0)),"") | I71: =IFERROR(INDEX('Parametrage base'!$W:$W,MATCH($A71,'Parametrage base'!$Y:$Y,0)),"") | J71: =IFERROR(INDEX('Parametrage base'!$Z:$Z,MATCH($A71,'Parametrage base'!$AB:$AB,0)),"") | K71: =IFERROR(INDEX('Parametrage base'!$AC:$AC,MATCH($A71,'Parametrage base'!$AE:$AE,0)),"") | L71: =IFERROR(INDEX('Parametrage base'!$AF:$AF,MATCH($A71,'Parametrage base'!$AH:$AH,0)),"") | M71: =IFERROR(INDEX(Parametrage!$D:$D,MATCH(B71,Parametrage!$F:$F,0)),"") | N71: =IFERROR(INDEX(Parametrage!$I:$I,MATCH(B71,Parametrage!$J:$J,0)),"") | O71: =IFERROR(INDEX(Parametrage!$G:$G,MATCH(B71,Parametrage!$H:$H,0)),"") | P71: =IFERROR(INDEX(Parametrage!$K:$K,MATCH(B71,Parametrage!$L:$L,0)),"") | U71: =IFERROR(_xlfn.ISOWEEKNUM(V71),"") -> 5 | V71: =IF(V70<>"", IF(MONTH(V70+1)=MONTH($V$68), V70+1, ""),"") -> 45325 | W71: =+IFERROR(INDEX('Parametrage base'!$B:$B,MATCH(V71,'Parametrage base'!$C:$C,0)),"") | X71: =IFERROR(INDEX('Parametrage base'!$H:$H,MATCH(U71,'Parametrage base'!$J:$J,0)),"") | Y71: =IFERROR(INDEX('Parametrage base'!$K:$K,MATCH($U71,'Parametrage base'!$M:$M,0)),"") -> PFMP Tcuis | Z71: =IFERROR(INDEX('Parametrage base'!$N:$N,MATCH($U71,'Parametrage base'!$P:$P,0)),"") | AA71: =IFERROR(INDEX('Parametrage base'!$Q:$Q,MATCH($U71,'Parametrage base'!$S:$S,0)),"") | AB71: =IFERROR(INDEX('Parametrage base'!$T:$T,MATCH($U71,'Parametrage base'!$V:$V,0)),"") | AC71: =IFERROR(INDEX('Parametrage base'!$W:$W,MATCH($U71,'Parametrage base'!$Y:$Y,0)),"") | AD71: =IFERROR(INDEX('Parametrage base'!$Z:$Z,MATCH($U71,'Parametrage base'!$AB:$AB,0)),"") -> PFMP Tpro1 | AE71: =IFERROR(INDEX('Parametrage base'!$AC:$AC,MATCH($U71,'Parametrage base'!$AE:$AE,0)),"") | AF71: =IFERROR(INDEX('Parametrage base'!$AF:$AF,MATCH($U71,'Parametrage base'!$AH:$AH,0)),"") | AG71: =IFERROR(INDEX(Parametrage!$D:$D,MATCH(V71,Parametrage!$F:$F,0)),"") | AH71: =IFERROR(INDEX(Parametrage!$I:$I,MATCH(V71,Parametrage!$J:$J,0)),"") | AI71: =IFERROR(INDEX(Parametrage!$G:$G,MATCH(V71,Parametrage!$H:$H,0)),"") | AJ71: =IFERROR(INDEX(Parametrage!$K:$K,MATCH(V71,Parametrage!$L:$L,0)),"")
