Workbook
Name Accompagnements: '[1]Liste FT'!$C$3:$C$402
Name Classes: 'Parametrage base'!$D$15:$D$30
Name COL_SEM_1: 'Parametrage base'!$AJ$5
Name COL_SEM_2: 'Parametrage base'!$AK$5
Name Désserts: '[2]Liste FT'!$E$3:$E$402
Name Entrée: '[2]Liste FT'!$A$3:$A$402
Name Entrées: '[1]Liste FT'!$A$3:$A$402
Name extract: OFFSET([3]Parametrage!$AH$3,,,COUNT([3]Parametrage!$AH$3:$AH$337))
Name extract: OFFSET([3]Parametrage!$AH$3,,,COUNT([3]Parametrage!$AH$3:$AH$337))
Name extract: OFFSET(Parametrage!$AH$3,,,COUNT(Parametrage!$AH$3:$AH$337))
Name feries: Calendrier!$AN$3:$AO$15
Name feries: [3]Calendrier!$AN$3:$AO$15
Name Fromages: '[2]Liste FT'!$D$3:$D$402
Name Garnitures: '[2]Liste FT'!$C$3:$C$402
Name Jours: [2]Ingrédients!$A$505:$A$513
Name Modalités: [2]Devis!$T$2:$T$10
Name Modulation: [2]Ingrédients!$B$505:$B$517
Name Plats: '[2]Liste FT'!$B$3:$B$402
Name Plats_protidiques: '[1]Liste FT'!$B$3:$B$402
Name Profs: 'Parametrage base'!$E$15:$E$24
Name Recettes: '[2]Fiches techniques'!$A$407:$A$2406
Name semaine: Parametrage!$AJ$3:$AJ$24
Name semaines: '[3]Parametrage base'!$F$3:$F$48
Name Stockage: '[2]Stock sécurité'!$T$7:$T$23
Name tranche1: [4]Calendrier!$A$3:$A$198
Name tranche2: [4]Calendrier!$U$3:$U$198
Name TVA: [2]Devis!$S$2:$S$10
Name unité: '[2]Stock sécurité'!$U$7:$U$14
Name vacances: [3]Calendrier!$AN$18:$AN$27

Sheet Parametrage base
B2: Infos | C2: dates | D2: Vacances | F2: Numéro de semaine
B3: =+Parametrage!H2 -> Ouverture pédago | C3: =IFERROR(Parametrage!I2,"-") -> 45236 | D3: =+Parametrage!J2 -> Vacances toussaint | E3: =+Parametrage!K2 -> 43 | F3: 35 | H3: PFMP1 | J3: N°sem | K3: PFMP1 | M3: N°sem | N3: PFMP1 | P3: N°sem | Q3: PFMP1 | S3: N°sem | T3: PFMP1 | V3: N°sem | W3: PFMP1 | Y3: N°sem | Z3: PFMP1 | AB3: N°sem | AC3: PFMP1 | AE3: N°sem | AF3: PFMP1 | AH3: N°sem | AJ3: Colonnes semaines du calendrier
B4: =+Parametrage!H3 -> Ouverture Application | C4: =+Parametrage!I3 -> 45187 | D4: =+Parametrage!J3 -> Vacances toussaint | E4: =+Parametrage!K3 -> 44 | F4: 36 | H4: PFMP 1cuis | I4: S1 | J4: =+Parametrage!C121 -> 49 | K4: PFMP Tcuis | L4: S1 | M4: =+Parametrage!C138 -> 2 | N4: PFMP 2pro1 | O4: S1 | P4: =+Parametrage!C19 -> 48 | Q4: PFMP 2pro2 | R4: S1 | S4: =+Parametrage!C36 -> 48 | T4: PFMP 1pro1 | U4: S1 | V4: =+Parametrage!C53 -> 10 | W4: PFMP 1pro2 | X4: S1 | Y4: =+Parametrage!C70 -> 10 | Z4: PFMP Tpro1 | AA4: S1 | AB4: =+Parametrage!C87 -> 36 | AC4: PFMP Tpro2 | AD4: S1 | AE4: =+Parametrage!C104 -> 36 | AF4: PFMP MCCDR | AG4: S1 | AH4: =+Parametrage!C155 -> 40 | AJ4: 1ère colonne des mois | AK4: 2ème colonne des mois
B5: =+Parametrage!H4 -> Remontée des notes | C5: =+Parametrage!I4 -> 45443 | D5: =+Parametrage!J4 -> Vacances Noël | E5: =+Parametrage!K4 -> 52 | F5: 37 | H5: PFMP 1cuis | I5: S2 | J5: =+Parametrage!C122 -> 50 | K5: PFMP Tcuis | L5: S2 | M5: =+Parametrage!C139 -> 3 | N5: PFMP 2pro1 | O5: S2 | P5: =+Parametrage!C20 -> 49 | Q5: PFMP 2pro2 | R5: S2 | S5: =+Parametrage!C37 -> 49 | T5: PFMP 1pro1 | U5: S2 | V5: =+Parametrage!C54 -> 11 | W5: PFMP 1pro2 | X5: S2 | Y5: =+Parametrage!C71 -> 11 | Z5: PFMP Tpro1 | AA5: S2 | AB5: =+Parametrage!C88 -> 37 | AC5: PFMP Tpro2 | AD5: S2 | AE5: =+Parametrage!C105 -> 37 | AF5: PFMP MCCDR | AG5: S2 | AH5: =+Parametrage!C156 -> 41 | AJ5: 1 | AK5: 21
B6: =+Parametrage!H5 -> 0 | C6: =+Parametrage!I5 -> 0 | D6: =+Parametrage!J5 -> Vacances Noël | E6: =+Parametrage!K5 -> 1 | F6: 38 | H6: PFMP 1cuis | I6: S3 | J6: =+Parametrage!C123 -> 51 | K6: PFMP Tcuis | L6: S3 | M6: =+Parametrage!C140 -> 4 | N6: PFMP 2pro1 | O6: S3 | P6: =+Parametrage!C21 -> 0 | Q6: PFMP 2pro2 | R6: S3 | S6: =+Parametrage!C38 -> 0 | T6: PFMP 1pro1 | U6: S3 | V6: =+Parametrage!C55 -> 12 | W6: PFMP 1pro2 | X6: S3 | Y6: =+Parametrage!C72 -> 12 | Z6: PFMP Tpro1 | AA6: S3 | AB6: =+Parametrage!C89 -> 38 | AC6: PFMP Tpro2 | AD6: S3 | AE6: =+Parametrage!C106 -> 38 | AF6: PFMP MCCDR | AG6: S3 | AH6: =+Parametrage!C157 -> 42
B7: =+Parametrage!H6 -> 0 | C7: =+Parametrage!I6 -> 0 | D7: =+Parametrage!J6 -> Vacances Hiver | E7: =+Parametrage!K6 -> 8 | F7: 39 | H7: PFMP 1cuis | I7: S4 | J7: =+Parametrage!C124 -> 0 | K7: PFMP Tcuis | L7: S4 | M7: =+Parametrage!C141 -> 5 | N7: PFMP 2pro1 | O7: S4 | P7: =+Parametrage!C22 -> 0 | Q7: PFMP 2pro2 | R7: S4 | S7: =+Parametrage!C39 -> 0 | T7: PFMP 1pro1 | U7: S4 | V7: =+Parametrage!C56 -> 13 | W7: PFMP 1pro2 | X7: S4 | Y7: =+Parametrage!C73 -> 13 | Z7: PFMP Tpro1 | AA7: S4 | AB7: =+Parametrage!C90 -> 39 | AC7: PFMP Tpro2 | AD7: S4 | AE7: =+Parametrage!C107 -> 39 | AF7: PFMP MCCDR | AG7: S4 | AH7: =+Parametrage!C158 -> 45
B8: =+Parametrage!H7 -> 0 | C8: =+Parametrage!I7 -> 0 | D8: =+Parametrage!J7 -> Vacances Hiver | E8: =+Parametrage!K7 -> 9 | F8: 40 | H8: PFMP 1cuis | I8: S5 | J8: =+Parametrage!C125 -> 0 | K8: PFMP Tcuis | L8: S5 | M8: =+Parametrage!C142 -> 6 | N8: PFMP 2pro1 | O8: S5 | P8: =+Parametrage!C23 -> 0 | Q8: PFMP 2pro2 | R8: S5 | S8: =+Parametrage!C40 -> 0 | T8: PFMP 1pro1 | U8: S5 | V8: =+Parametrage!C57 -> 0 | W8: PFMP 1pro2 | X8: S5 | Y8: =+Parametrage!C74 -> 0 | Z8: PFMP Tpro1 | AA8: S5 | AB8: =+Parametrage!C91 -> 0 | AC8: PFMP Tpro2 | AD8: S5 | AE8: =+Parametrage!C108 -> 0 | AF8: PFMP MCCDR | AG8: S5 | AH8: =+Parametrage!C159 -> 46
B9: =+Parametrage!H8 -> 0 | C9: =+Parametrage!I8 -> 0 | D9: =+Parametrage!J8 -> Vacances printemps | E9: =+Parametrage!K8 -> 16 | F9: 41 | H9: PFMP 1cuis | I9: S6 | J9: =+Parametrage!C126 -> 0 | K9: PFMP Tcuis | L9: S6 | M9: =+Parametrage!C143 -> 7 | N9: PFMP 2pro1 | O9: S6 | P9: =+Parametrage!C24 -> 0 | Q9: PFMP 2pro2 | R9: S6 | S9: =+Parametrage!C41 -> 0 | T9: PFMP 1pro1 | U9: S6 | V9: =+Parametrage!C58 -> 0 | W9: PFMP 1pro2 | X9: S6 | Y9: =+Parametrage!C75 -> 0 | Z9: PFMP Tpro1 | AA9: S6 | AB9: =+Parametrage!C92 -> 0 | AC9: PFMP Tpro2 | AD9: S6 | AE9: =+Parametrage!C109 -> 0 | AF9: PFMP MCCDR | AG9: S6 | AH9: =+Parametrage!C160 -> 47
B10: =+Parametrage!H9 -> 0 | C10: =+Parametrage!I9 -> 0 | D10: =+Parametrage!J9 -> Vacances printemps | E10: =+Parametrage!K9 -> 17 | F10: 42 | H10: PFMP2 | J10: N°sem | K10: PFMP2 | M10: N°sem | N10: PFMP2 | P10: N°sem | Q10: PFMP2 | S10: N°sem | T10: PFMP2 | V10: N°sem | W10: PFMP2 | Y10: N°sem | Z10: PFMP2 | AB10: N°sem | AC10: PFMP2 | AE10: N°sem | AF10: PFMP MCCDR | AG10: S7 | AH10: =+Parametrage!C161 -> 10
B11: =+Parametrage!H10 -> 0 | C11: =+Parametrage!I10 -> 0 | F11: 43 | H11: PFMP 1cuis | I11: S1 | J11: =+Parametrage!C128 -> 24 | K11: PFMP Tcuis | L11: S1 | M11: =+Parametrage!C145 -> 8 | N11: PFMP 2pro1 | O11: S1 | P11: =+Parametrage!C26 -> 24 | Q11: PFMP 2pro2 | R11: S1 | S11: =+Parametrage!C43 -> 24 | T11: PFMP 1pro1 | U11: S1 | V11: =+Parametrage!C60 -> 24 | W11: PFMP 1pro2 | X11: S1 | Y11: =+Parametrage!C77 -> 24 | Z11: PFMP Tpro1 | AA11: S1 | AB11: =+Parametrage!C94 -> 2 | AC11: PFMP Tpro2 | AD11: S1 | AE11: =+Parametrage!C111 -> 45 | AF11: PFMP MCCDR | AG11: S8 | AH11: =+Parametrage!C162 -> 11
B12: =+Parametrage!H11 -> 0 | C12: =+Parametrage!I11 -> 0 | F12: 44 | H12: PFMP 1cuis | I12: S2 | J12: =+Parametrage!C129 -> 25 | K12: PFMP Tcuis | L12: S2 | M12: =+Parametrage!C146 -> 0 | N12: PFMP 2pro1 | O12: S2 | P12: =+Parametrage!C27 -> 25 | Q12: PFMP 2pro2 | R12: S2 | S12: =+Parametrage!C44 -> 25 | T12: PFMP 1pro1 | U12: S2 | V12: =+Parametrage!C61 -> 25 | W12: PFMP 1pro2 | X12: S2 | Y12: =+Parametrage!C78 -> 25 | Z12: PFMP Tpro1 | AA12: S2 | AB12: =+Parametrage!C95 -> 3 | AC12: PFMP Tpro2 | AD12: S2 | AE12: =+Parametrage!C112 -> 46 | AF12: PFMP MCCDR | AG12: S9 | AH12: =+Parametrage!C163 -> 12
B13: =+Parametrage!H12 -> 0 | C13: =+Parametrage!I12 -> 0 | F13: 45 | H13: PFMP 1cuis | I13: S3 | J13: =+Parametrage!C130 -> 26 | K13: PFMP Tcuis | L13: S3 | M13: =+Parametrage!C147 -> 0 | N13: PFMP 2pro1 | O13: S3 | P13: =+Parametrage!C28 -> 26 | Q13: PFMP 2pro2 | R13: S3 | S13: =+Parametrage!C45 -> 26 | T13: PFMP 1pro1 | U13: S3 | V13: =+Parametrage!C62 -> 26 | W13: PFMP 1pro2 | X13: S3 | Y13: =+Parametrage!C79 -> 26 | Z13: PFMP Tpro1 | AA13: S3 | AB13: =+Parametrage!C96 -> 4 | AC13: PFMP Tpro2 | AD13: S3 | AE13: =+Parametrage!C113 -> 47 | AF13: PFMP MCCDR | AG13: S10 | AH13: =+Parametrage!C164 -> 13
B14: =+Parametrage!H13 -> 0 | C14: =+Parametrage!I13 -> 0 | D14: Classes | E14: Profs | F14: 46 | H14: PFMP 1cuis | I14: S4 | J14: =+Parametrage!C131 -> 27 | K14: PFMP Tcuis | L14: S4 | M14: =+Parametrage!C148 -> 0 | N14: PFMP 2pro1 | O14: S4 | P14: =+Parametrage!C29 -> 27 | Q14: PFMP 2pro2 | R14: S4 | S14: =+Parametrage!C46 -> 27 | T14: PFMP 1pro1 | U14: S4 | V14: =+Parametrage!C63 -> 27 | W14: PFMP 1pro2 | X14: S4 | Y14: =+Parametrage!C80 -> 27 | Z14: PFMP Tpro1 | AA14: S4 | AB14: =+Parametrage!C97 -> 5 | AC14: PFMP Tpro2 | AD14: S4 | AE14: =+Parametrage!C114 -> 48 | AF14: PFMP MCCDR | AG14: S11 | AH14: =+Parametrage!C165 -> 20
B15: =+Parametrage!H14 -> 0 | C15: =+Parametrage!I14 -> 0 | D15: 2 STHR | E15: Voisin | F15: 47 | H15: PFMP 1cuis | I15: S5 | J15: =+Parametrage!C132 -> 0 | K15: PFMP Tcuis | L15: S5 | M15: =+Parametrage!C149 -> 0 | N15: PFMP 2pro1 | O15: S5 | P15: =+Parametrage!C30 -> 0 | Q15: PFMP 2pro2 | R15: S5 | S15: =+Parametrage!C47 -> 0 | T15: PFMP 1pro1 | U15: S5 | V15: =+Parametrage!C64 -> 0 | W15: PFMP 1pro2 | X15: S5 | Y15: =+Parametrage!C81 -> 0 | Z15: PFMP Tpro1 | AA15: S5 | AB15: =+Parametrage!C98 -> 0 | AC15: PFMP Tpro2 | AD15: S5 | AE15: =+Parametrage!C115 -> 0 | AF15: PFMP MCCDR | AG15: S12 | AH15: =+Parametrage!C166 -> 21
D16: 1 STHR | E16: Kalinovski | F16: 48 | H16: PFMP 1cuis | I16: S6 | J16: =+Parametrage!C133 -> 0 | K16: PFMP Tcuis | L16: S6 | M16: =+Parametrage!C150 -> 0 | N16: PFMP 2pro1 | O16: S6 | P16: =+Parametrage!C31 -> 0 | Q16: PFMP 2pro2 | R16: S6 | S16: =+Parametrage!C48 -> 0 | T16: PFMP 1pro1 | U16: S6 | V16: =+Parametrage!C65 -> 0 | W16: PFMP 1pro2 | X16: S6 | Y16: =+Parametrage!C82 -> 0 | Z16: PFMP Tpro1 | AA16: S6 | AB16: =+Parametrage!C99 -> 0 | AC16: PFMP Tpro2 | AD16: S6 | AE16: =+Parametrage!C116 -> 0 | AF16: PFMP MCCDR | AG16: S13 | AH16: =+Parametrage!C167 -> 0
A17: Année | B17: =+Parametrage!C1 -> 2023 | D17: T STHR | E17: Catherine | F17: 49
D18: 1 BTS | E18: Ganon | F18: 50
A19: Jour férié | C19: Dates | D19: 2 BTS | E19: Portoles | F19: 51
A20: Jour de l'an | B20: Férié | C20: =+DATE($B$17,1,1) -> 44927 | D20: 2 PRO 1 | E20: Hennard | F20: 52
A21: Pâques | B21: Férié | C21: =FLOOR(DAY(MINUTE($B$17/38)/2+56)&"/5/"&$B$17,7)-34 -> 45025 | D21: 2 PRO 2 | E21: Soilly | F21: 53
A22: Lundi de pâques | B22: Férié | C22: =+C21+1 -> 45026 | D22: 1 PRO 1 | F22: 1
A23: Fête deu travail | B23: Férié | C23: =DATE($B$17,5,1) -> 45047 | D23: 1 PRO2 | F23: 2
A24: Armistice 39/45 | B24: Férié | C24: =DATE($B$17,5,8) -> 45054 | D24: T PRO 1 | F24: 3
A25: Ascension | B25: Férié | C25: =C21 + 39 -> 45064 | D25: T PRO 2 | F25: 4
A26: Pentecôte | B26: Férié | C26: =C21 + 49 -> 45074 | D26: 1 CAP | F26: 5
A27: Lundi de Pentecôte | B27: Férié | C27: =C21 + 50 -> 45075 | D27: T CAP | F27: 6
A28: Fête nationale | B28: Férié | C28: =DATE($B$17,7,14) -> 45121 | F28: 7
A29: Asomption | B29: Férié | C29: =+DATE($B$17,8,15) -> 45153 | F29: 8
A30: Toussaint | B30: Férié | C30: =DATE($B$17,11,1) -> 45231 | F30: 9
A31: Armistice 14/18 | B31: Férié | C31: =DATE($B$17,11,11) -> 45241 | F31: 10
A32: Noël | B32: Férié | C32: =DATE($B$17,12,25) -> 45285 | F32: 11
F33: 12
A34: Année | B34: =+B17+1 -> 2024 | F34: 13
F35: 14
A36: Jour férié | C36: Dates | F36: 15
A37: Jour de l'an | B37: Férié | C37: =+DATE($B$34,1,1) -> 45292 | F37: 16
A38: Pâques | B38: Férié | C38: =FLOOR(DAY(MINUTE($B$34/38)/2+56)&"/5/"&$B$34,7)-34 -> 45382 | F38: 17
A39: Lundi de pâques | B39: Férié | C39: =+C38+1 -> 45383 | F39: 18
A40: Fête deu travail | B40: Férié | C40: =DATE($B$34,5,1) -> 45413 | F40: 19
A41: Armistice 39/45 | B41: Férié | C41: =DATE($B$34,5,8) -> 45420 | F41: 20
...

Sheet Parametrage
A1: Rentrée | C1: 2023 | H1: Infos | I1: dates | J1: Vacances | L1: Application Midi | M1: Prof | N1: Classe | O1: Midi | P1: Nbre couverts | Q1: Pedagogique Midi | R1: Prof | S1: Classe | T1: Midi | U1: Nbre couverts
H2: Ouverture pédago | I2: 45236 | J2: Vacances toussaint | K2: 43 | L2: lundi midi | M2: Hennard | N2: 2 STHR | O2: =+_xlfn.CONCAT(M2," ",N2) -> #NAME? | P2: 10 | Q2: lundi midi | R2: Ganon | S2: 2 STHR | T2: =+_xlfn.CONCAT(R2," ",S2) -> #NAME? | U2: 10 | AH2: extract des semaine du calendrier | AI2: extract des semaine du calendrier | AJ2: sans doubles formule pour XL2007 | AK2: sans doubles formule pour XL2008 | AL2: pour utiliser en liste de choix
H3: Ouverture Application | I3: 45187 | J3: Vacances toussaint | K3: 44 | L3: mardi midi | M3: Ganon | N3: T CAP | O3: =+_xlfn.CONCAT(M3," ",N3) -> #NAME? | P3: 20 | Q3: mardi midi | R3: Ganon | S3: T CAP | T3: =+_xlfn.CONCAT(R3," ",S3) -> #NAME? | U3: 20 | AH3: =IFERROR(SMALL(IF((CHOOSE({1,2},tranche1,tranche2)>=Y$5)*(CHOOSE({1,2},tranche1,tranche2)<=Z$5)=1,CHOOSE({1,2},tranche1,tranche2),""),ROW(X1)),"") | AI3: {=IFERROR(SMALL(IF((CHOOSE({1,2},tranche1,tranche2)>=Y$6)*(CHOOSE({1,2},tranche1,tranche2)<=Z$6)=1,CHOOSE({1,2},tranche1,tranche2),""),ROW(Y1)),"")} -> 4 | AJ3: =IFERROR(OFFSET(AH$2,MATCH(0,COUNTIF(AJ$2:AJ2,extract),0),),"") | AK3: =IFERROR(OFFSET(AI$2,MATCH(0,COUNTIF(AK$2:AK2,extract),0),),"") | AL3: 1 | AM3: =MIN(53,Y$5+ROW(X1)) -> 13
H4: Remontée des notes | I4: 45443 | J4: Vacances Noël | K4: 52 | L4: mercredi midi | M4: Soilly | N4: 1 STHR | O4: =+_xlfn.CONCAT(M4," ",N4) -> #NAME? | P4: 30 | Q4: mercredi midi | R4: Ganon | S4: 1 STHR | T4: =+_xlfn.CONCAT(R4," ",S4) -> #NAME? | U4: 30 | Y4: de | Z4: a | AH4: {=IFERROR(SMALL(IF((CHOOSE({1,2},tranche1,tranche2)>=Y$5)*(CHOOSE({1,2},tranche1,tranche2)<=Z$5)=1,CHOOSE({1,2},tranche1,tranche2),""),ROW(X2)),"")} -> 12 | AI4: {=IFERROR(SMALL(IF((CHOOSE({1,2},tranche1,tranche2)>=Y$6)*(CHOOSE({1,2},tranche1,tranche2)<=Z$6)=1,CHOOSE({1,2},tranche1,tranche2),""),ROW(Y2)),"")} -> 4 | AJ4: {=IFERROR(OFFSET(AH$2,MATCH(0,COUNTIF(AJ$2:AJ3,extract),0),),"")} -> 12 | AK4: {=IFERROR(OFFSET(AI$2,MATCH(0,COUNTIF(AK$2:AK3,extract),0),),"")} -> 4 | AL4: =AL3+1 -> 2 | AM4: =MIN(53,Y$5+ROW(X2)) -> 14
J5: Vacances Noël | K5: 1 | L5: jeudi midi | M5: Ganon | N5: 1 PRO2 | O5: =+_xlfn.CONCAT(M5," ",N5) -> #NAME? | P5: 40 | Q5: jeudi midi | R5: Ganon | S5: 1 PRO2 | T5: =+_xlfn.CONCAT(R5," ",S5) -> #NAME? | U5: 40 | X5: Semaine période 1 | Y5: 12 | Z5: 20 | AH5: {=IFERROR(SMALL(IF((CHOOSE({1,2},tranche1,tranche2)>=Y$5)*(CHOOSE({1,2},tranche1,tranche2)<=Z$5)=1,CHOOSE({1,2},tranche1,tranche2),""),ROW(X3)),"")} -> 12 | AI5: {=IFERROR(SMALL(IF((CHOOSE({1,2},tranche1,tranche2)>=Y$6)*(CHOOSE({1,2},tranche1,tranche2)<=Z$6)=1,CHOOSE({1,2},tranche1,tranche2),""),ROW(Y3)),"")} -> 4 | AJ5: {=IFERROR(OFFSET(AH$2,MATCH(0,COUNTIF(AJ$2:AJ4,extract),0),),"")} -> 13 | AK5: {=IFERROR(OFFSET(AI$2,MATCH(0,COUNTIF(AK$2:AK4,extract),0),),"")} -> 4 | AL5: =AL4+1 -> 3 | AM5: =MIN(53,Y$5+ROW(X3)) -> 15
J6: Vacances Hiver | K6: 8 | L6: vendredi midi | M6: Voisin | N6: 1 PRO 1 | O6: =+_xlfn.CONCAT(M6," ",N6) -> #NAME? | P6: 50 | Q6: vendredi midi | R6: Ganon | S6: 1 PRO 1 | T6: =+_xlfn.CONCAT(R6," ",S6) -> #NAME? | U6: 50 | X6: Semaine période 2 | Y6: 4 | Z6: 6 | AH6: {=IFERROR(SMALL(IF((CHOOSE({1,2},tranche1,tranche2)>=Y$5)*(CHOOSE({1,2},tranche1,tranche2)<=Z$5)=1,CHOOSE({1,2},tranche1,tranche2),""),ROW(X4)),"")} -> 12 | AI6: {=IFERROR(SMALL(IF((CHOOSE({1,2},tranche1,tranche2)>=Y$6)*(CHOOSE({1,2},tranche1,tranche2)<=Z$6)=1,CHOOSE({1,2},tranche1,tranche2),""),ROW(Y4)),"")} -> 4 | AJ6: {=IFERROR(OFFSET(AH$2,MATCH(0,COUNTIF(AJ$2:AJ5,extract),0),),"")} -> 18 | AK6: {=IFERROR(OFFSET(AI$2,MATCH(0,COUNTIF(AK$2:AK5,extract),0),),"")} -> 4 | AL6: =AL5+1 -> 4 | AM6: =MIN(53,Y$5+ROW(X4)) -> 16
J7: Vacances Hiver | K7: 9 | L7: Application soir | M7: Prof | N7: Classe | O7: Soir | P7: Nbre couverts | AH7: {=IFERROR(SMALL(IF((CHOOSE({1,2},tranche1,tranche2)>=Y$5)*(CHOOSE({1,2},tranche1,tranche2)<=Z$5)=1,CHOOSE({1,2},tranche1,tranche2),""),ROW(X5)),"")} -> 12 | AI7: {=IFERROR(SMALL(IF((CHOOSE({1,2},tranche1,tranche2)>=Y$6)*(CHOOSE({1,2},tranche1,tranche2)<=Z$6)=1,CHOOSE({1,2},tranche1,tranche2),""),ROW(Y5)),"")} -> 4 | AJ7: {=IFERROR(OFFSET(AH$2,MATCH(0,COUNTIF(AJ$2:AJ6,extract),0),),"")} -> 19 | AK7: {=IFERROR(OFFSET(AI$2,MATCH(0,COUNTIF(AK$2:AK6,extract),0),),"")} -> 4 | AL7: =AL6+1 -> 5 | AM7: =MIN(53,Y$5+ROW(X5)) -> 17
J8: Vacances printemps | K8: 16 | L8: lundi soir | M8: Hennard | N8: T CAP | O8: =+_xlfn.CONCAT(M8," ",N8) -> #NAME? | P8: 2 | AH8: {=IFERROR(SMALL(IF((CHOOSE({1,2},tranche1,tranche2)>=Y$5)*(CHOOSE({1,2},tranche1,tranche2)<=Z$5)=1,CHOOSE({1,2},tranche1,tranche2),""),ROW(X6)),"")} -> 12 | AI8: {=IFERROR(SMALL(IF((CHOOSE({1,2},tranche1,tranche2)>=Y$6)*(CHOOSE({1,2},tranche1,tranche2)<=Z$6)=1,CHOOSE({1,2},tranche1,tranche2),""),ROW(Y6)),"")} -> 4 | AJ8: {=IFERROR(OFFSET(AH$2,MATCH(0,COUNTIF(AJ$2:AJ7,extract),0),),"")} -> 20 | AK8: {=IFERROR(OFFSET(AI$2,MATCH(0,COUNTIF(AK$2:AK7,extract),0),),"")} -> 4 | AL8: =AL7+1 -> 6 | AM8: =MIN(53,Y$5+ROW(X6)) -> 18
J9: Vacances printemps | K9: 17 | L9: mardi soir | M9: Catherine | N9: T PRO 1 | O9: =+_xlfn.CONCAT(M9," ",N9) -> #NAME? | P9: 200 | AH9: {=IFERROR(SMALL(IF((CHOOSE({1,2},tranche1,tranche2)>=Y$5)*(CHOOSE({1,2},tranche1,tranche2)<=Z$5)=1,CHOOSE({1,2},tranche1,tranche2),""),ROW(X7)),"")} -> 12 | AI9: {=IFERROR(SMALL(IF((CHOOSE({1,2},tranche1,tranche2)>=Y$6)*(CHOOSE({1,2},tranche1,tranche2)<=Z$6)=1,CHOOSE({1,2},tranche1,tranche2),""),ROW(Y7)),"")} -> 4 | AJ9: {=IFERROR(OFFSET(AH$2,MATCH(0,COUNTIF(AJ$2:AJ8,extract),0),),"")} | AK9: {=IFERROR(OFFSET(AI$2,MATCH(0,COUNTIF(AK$2:AK8,extract),0),),"")} -> 4 | AL9: =AL8+1 -> 7 | AM9: =MIN(53,Y$5+ROW(X7)) -> 19
L10: mercredi soir | O10: =+_xlfn.CONCAT(M10," ",N10) -> #NAME? | AH10: {=IFERROR(SMALL(IF((CHOOSE({1,2},tranche1,tranche2)>=Y$5)*(CHOOSE({1,2},tranche1,tranche2)<=Z$5)=1,CHOOSE({1,2},tranche1,tranche2),""),ROW(X8)),"")} -> 13 | AI10: {=IFERROR(SMALL(IF((CHOOSE({1,2},tranche1,tranche2)>=Y$6)*(CHOOSE({1,2},tranche1,tranche2)<=Z$6)=1,CHOOSE({1,2},tranche1,tranche2),""),ROW(Y8)),"")} -> 5 | AJ10: {=IFERROR(OFFSET(AH$2,MATCH(0,COUNTIF(AJ$2:AJ9,extract),0),),"")} | AK10: {=IFERROR(OFFSET(AI$2,MATCH(0,COUNTIF(AK$2:AK9,extract),0),),"")} -> 4 | AL10: =AL9+1 -> 8 | AM10: =MIN(53,Y$5+ROW(X8)) -> 20
L11: jeudi soir | O11: =+_xlfn.CONCAT(M11," ",N11) -> #NAME? | AH11: {=IFERROR(SMALL(IF((CHOOSE({1,2},tranche1,tranche2)>=Y$5)*(CHOOSE({1,2},tranche1,tranche2)<=Z$5)=1,CHOOSE({1,2},tranche1,tranche2),""),ROW(X9)),"")} -> 13 | AI11: {=IFERROR(SMALL(IF((CHOOSE({1,2},tranche1,tranche2)>=Y$6)*(CHOOSE({1,2},tranche1,tranche2)<=Z$6)=1,CHOOSE({1,2},tranche1,tranche2),""),ROW(Y9)),"")} -> 5 | AJ11: {=IFERROR(OFFSET(AH$2,MATCH(0,COUNTIF(AJ$2:AJ10,extract),0),),"")} | AK11: {=IFERROR(OFFSET(AI$2,MATCH(0,COUNTIF(AK$2:AK10,extract),0),),"")} -> 4 | AL11: =AL10+1 -> 9 | AM11: =MIN(53,Y$5+ROW(X9)) -> 21
L12: vendredi soir | M12: Portoles | N12: 1 PRO2 | O12: =+_xlfn.CONCAT(M12," ",N12) -> #NAME? | AH12: {=IFERROR(SMALL(IF((CHOOSE({1,2},tranche1,tranche2)>=Y$5)*(CHOOSE({1,2},tranche1,tranche2)<=Z$5)=1,CHOOSE({1,2},tranche1,tranche2),""),ROW(X10)),"")} -> 13 | AI12: {=IFERROR(SMALL(IF((CHOOSE({1,2},tranche1,tranche2)>=Y$6)*(CHOOSE({1,2},tranche1,tranche2)<=Z$6)=1,CHOOSE({1,2},tranche1,tranche2),""),ROW(Y10)),"")} -> 5 | AJ12: {=IFERROR(OFFSET(AH$2,MATCH(0,COUNTIF(AJ$2:AJ11,extract),0),),"")} | AK12: {=IFERROR(OFFSET(AI$2,MATCH(0,COUNTIF(AK$2:AK11,extract),0),),"")} -> 4 | AL12: =AL11+1 -> 10 | AM12: =MIN(53,Y$5+ROW(X10)) -> 22
AH13: {=IFERROR(SMALL(IF((CHOOSE({1,2},tranche1,tranche2)>=Y$5)*(CHOOSE({1,2},tranche1,tranche2)<=Z$5)=1,CHOOSE({1,2},tranche1,tranche2),""),ROW(X11)),"")} -> 13 | AI13: {=IFERROR(SMALL(IF((CHOOSE({1,2},tranche1,tranche2)>=Y$6)*(CHOOSE({1,2},tranche1,tranche2)<=Z$6)=1,CHOOSE({1,2},tranche1,tranche2),""),ROW(Y11)),"")} | AJ13: {=IFERROR(OFFSET(AH$2,MATCH(0,COUNTIF(AJ$2:AJ12,extract),0),),"")} | AK13: {=IFERROR(OFFSET(AI$2,MATCH(0,COUNTIF(AK$2:AK12,extract),0),),"")} -> 4 | AL13: =AL12+1 -> 11 | AM13: =MIN(53,Y$5+ROW(X11)) -> 23
AH14: {=IFERROR(SMALL(IF((CHOOSE({1,2},tranche1,tranche2)>=Y$5)*(CHOOSE({1,2},tranche1,tranche2)<=Z$5)=1,CHOOSE({1,2},tranche1,tranche2),""),ROW(X12)),"")} -> 13 | AI14: {=IFERROR(SMALL(IF((CHOOSE({1,2},tranche1,tranche2)>=Y$6)*(CHOOSE({1,2},tranche1,tranche2)<=Z$6)=1,CHOOSE({1,2},tranche1,tranche2),""),ROW(Y12)),"")} | AJ14: {=IFERROR(OFFSET(AH$2,MATCH(0,COUNTIF(AJ$2:AJ13,extract),0),),"")} | AK14: {=IFERROR(OFFSET(AI$2,MATCH(0,COUNTIF(AK$2:AK13,extract),0),),"")} -> 4 | AL14: =AL13+1 -> 12 | AM14: =MIN(53,Y$5+ROW(X12)) -> 24
AH15: {=IFERROR(SMALL(IF((CHOOSE({1,2},tranche1,tranche2)>=Y$5)*(CHOOSE({1,2},tranche1,tranche2)<=Z$5)=1,CHOOSE({1,2},tranche1,tranche2),""),ROW(X13)),"")} -> 13 | AI15: {=IFERROR(SMALL(IF((CHOOSE({1,2},tranche1,tranche2)>=Y$6)*(CHOOSE({1,2},tranche1,tranche2)<=Z$6)=1,CHOOSE({1,2},tranche1,tranche2),""),ROW(Y13)),"")} | AJ15: {=IFERROR(OFFSET(AH$2,MATCH(0,COUNTIF(AJ$2:AJ14,extract),0),),"")} | AK15: {=IFERROR(OFFSET(AI$2,MATCH(0,COUNTIF(AK$2:AK14,extract),0),),"")} -> 4 | AL15: =AL14+1 -> 13 | AM15: =MIN(53,Y$5+ROW(X13)) -> 25
A16: 2pro1 | AH16: {=IFERROR(SMALL(IF((CHOOSE({1,2},tranche1,tranche2)>=Y$5)*(CHOOSE({1,2},tranche1,tranche2)<=Z$5)=1,CHOOSE({1,2},tranche1,tranche2),""),ROW(X14)),"")} -> 13 | AI16: {=IFERROR(SMALL(IF((CHOOSE({1,2},tranche1,tranche2)>=Y$6)*(CHOOSE({1,2},tranche1,tranche2)<=Z$6)=1,CHOOSE({1,2},tranche1,tranche2),""),ROW(Y14)),"")} | AJ16: {=IFERROR(OFFSET(AH$2,MATCH(0,COUNTIF(AJ$2:AJ15,extract),0),),"")} | AK16: {=IFERROR(OFFSET(AI$2,MATCH(0,COUNTIF(AK$2:AK15,extract),0),),"")} -> 4 | AL16: =AL15+1 -> 14 | AM16: =MIN(53,Y$5+ROW(X14)) -> 26
H17: Modalités CCF | AH17: {=IFERROR(SMALL(IF((CHOOSE({1,2},tranche1,tranche2)>=Y$5)*(CHOOSE({1,2},tranche1,tranche2)<=Z$5)=1,CHOOSE({1,2},tranche1,tranche2),""),ROW(X15)),"")} -> 18 | AI17: {=IFERROR(SMALL(IF((CHOOSE({1,2},tranche1,tranche2)>=Y$6)*(CHOOSE({1,2},tranche1,tranche2)<=Z$6)=1,CHOOSE({1,2},tranche1,tranche2),""),ROW(Y15)),"")} | AJ17: {=IFERROR(OFFSET(AH$2,MATCH(0,COUNTIF(AJ$2:AJ16,extract),0),),"")} | AK17: {=IFERROR(OFFSET(AI$2,MATCH(0,COUNTIF(AK$2:AK16,extract),0),),"")} -> 4 | AL17: =AL16+1 -> 15 | AM17: =MIN(53,Y$5+ROW(X15)) -> 27
A18: PFMP1 | C18: N°sem | D18: Vie de classe | F18: Date | G18: CCF | H18: Date | I18: Points de vigilances | J18: Date | K18: Autre | L18: Date | AH18: {=IFERROR(SMALL(IF((CHOOSE({1,2},tranche1,tranche2)>=Y$5)*(CHOOSE({1,2},tranche1,tranche2)<=Z$5)=1,CHOOSE({1,2},tranche1,tranche2),""),ROW(X16)),"")} -> 18 | AI18: {=IFERROR(SMALL(IF((CHOOSE({1,2},tranche1,tranche2)>=Y$6)*(CHOOSE({1,2},tranche1,tranche2)<=Z$6)=1,CHOOSE({1,2},tranche1,tranche2),""),ROW(Y16)),"")} | AJ18: {=IFERROR(OFFSET(AH$2,MATCH(0,COUNTIF(AJ$2:AJ17,extract),0),),"")} | AK18: {=IFERROR(OFFSET(AI$2,MATCH(0,COUNTIF(AK$2:AK17,extract),0),),"")} -> 4 | AL18: =AL17+1 -> 16 | AM18: =MIN(53,Y$5+ROW(X16)) -> 28
A19: PFMP 2pro1 | B19: S1 | C19: 48 | D19: CC 2pro1 | E19: 1 | I19: Retour convention 2pro1 | AH19: {=IFERROR(SMALL(IF((CHOOSE({1,2},tranche1,tranche2)>=Y$5)*(CHOOSE({1,2},tranche1,tranche2)<=Z$5)=1,CHOOSE({1,2},tranche1,tranche2),""),ROW(X17)),"")} -> 18 | AI19: {=IFERROR(SMALL(IF((CHOOSE({1,2},tranche1,tranche2)>=Y$6)*(CHOOSE({1,2},tranche1,tranche2)<=Z$6)=1,CHOOSE({1,2},tranche1,tranche2),""),ROW(Y17)),"")} | AJ19: {=IFERROR(OFFSET(AH$2,MATCH(0,COUNTIF(AJ$2:AJ18,extract),0),),"")} | AK19: {=IFERROR(OFFSET(AI$2,MATCH(0,COUNTIF(AK$2:AK18,extract),0),),"")} -> 4 | AL19: =AL18+1 -> 17 | AM19: =MIN(53,Y$5+ROW(X17)) -> 29
A20: PFMP 2pro1 | B20: S2 | C20: 49 | D20: CC 2pro1 | E20: 2 | I20: Retour convention 2pro1 | AH20: {=IFERROR(SMALL(IF((CHOOSE({1,2},tranche1,tranche2)>=Y$5)*(CHOOSE({1,2},tranche1,tranche2)<=Z$5)=1,CHOOSE({1,2},tranche1,tranche2),""),ROW(X18)),"")} -> 18 | AI20: {=IFERROR(SMALL(IF((CHOOSE({1,2},tranche1,tranche2)>=Y$6)*(CHOOSE({1,2},tranche1,tranche2)<=Z$6)=1,CHOOSE({1,2},tranche1,tranche2),""),ROW(Y18)),"")} | AJ20: {=IFERROR(OFFSET(AH$2,MATCH(0,COUNTIF(AJ$2:AJ19,extract),0),),"")} | AK20: {=IFERROR(OFFSET(AI$2,MATCH(0,COUNTIF(AK$2:AK19,extract),0),),"")} -> 4 | AL20: =AL19+1 -> 18 | AM20: =MIN(53,Y$5+ROW(X18)) -> 30
A21: PFMP 2pro1 | B21: S3 | D21: CC 2pro1 | E21: 3 | I21: Préparation conseil 2pro1 | AH21: {=IFERROR(SMALL(IF((CHOOSE({1,2},tranche1,tranche2)>=Y$5)*(CHOOSE({1,2},tranche1,tranche2)<=Z$5)=1,CHOOSE({1,2},tranche1,tranche2),""),ROW(X19)),"")} -> 18 | AI21: {=IFERROR(SMALL(IF((CHOOSE({1,2},tranche1,tranche2)>=Y$6)*(CHOOSE({1,2},tranche1,tranche2)<=Z$6)=1,CHOOSE({1,2},tranche1,tranche2),""),ROW(Y19)),"")} | AJ21: {=IFERROR(OFFSET(AH$2,MATCH(0,COUNTIF(AJ$2:AJ20,extract),0),),"")} | AK21: {=IFERROR(OFFSET(AI$2,MATCH(0,COUNTIF(AK$2:AK20,extract),0),),"")} -> 4 | AL21: =AL20+1 -> 19 | AM21: =MIN(53,Y$5+ROW(X19)) -> 31
A22: PFMP 2pro1 | B22: S4 | D22: Réunion prt profs 2pro1 | I22: Préparation conseil 2pro1 | AH22: {=IFERROR(SMALL(IF((CHOOSE({1,2},tranche1,tranche2)>=Y$5)*(CHOOSE({1,2},tranche1,tranche2)<=Z$5)=1,CHOOSE({1,2},tranche1,tranche2),""),ROW(X20)),"")} -> 19 | AI22: {=IFERROR(SMALL(IF((CHOOSE({1,2},tranche1,tranche2)>=Y$6)*(CHOOSE({1,2},tranche1,tranche2)<=Z$6)=1,CHOOSE({1,2},tranche1,tranche2),""),ROW(Y20)),"")} | AJ22: {=IFERROR(OFFSET(AH$2,MATCH(0,COUNTIF(AJ$2:AJ21,extract),0),),"")} | AK22: {=IFERROR(OFFSET(AI$2,MATCH(0,COUNTIF(AK$2:AK21,extract),0),),"")} -> 4 | AL22: =AL21+1 -> 20 | AM22: =MIN(53,Y$5+ROW(X20)) -> 32
A23: PFMP 2pro1 | B23: S5 | D23: Photos classe 2pro1 | I23: Préparation conseil 2pro1 | AH23: {=IFERROR(SMALL(IF((CHOOSE({1,2},tranche1,tranche2)>=Y$5)*(CHOOSE({1,2},tranche1,tranche2)<=Z$5)=1,CHOOSE({1,2},tranche1,tranche2),""),ROW(X21)),"")} -> 19 | AI23: {=IFERROR(SMALL(IF((CHOOSE({1,2},tranche1,tranche2)>=Y$6)*(CHOOSE({1,2},tranche1,tranche2)<=Z$6)=1,CHOOSE({1,2},tranche1,tranche2),""),ROW(Y21)),"")} | AJ23: {=IFERROR(OFFSET(AH$2,MATCH(0,COUNTIF(AJ$2:AJ22,extract),0),),"")} | AK23: {=IFERROR(OFFSET(AI$2,MATCH(0,COUNTIF(AK$2:AK22,extract),0),),"")} -> 4 | AL23: =AL22+1 -> 21 | AM23: =MIN(53,Y$5+ROW(X21)) -> 33
A24: PFMP 2pro1 | B24: S6 | AH24: {=IFERROR(SMALL(IF((CHOOSE({1,2},tranche1,tranche2)>=Y$5)*(CHOOSE({1,2},tranche1,tranche2)<=Z$5)=1,CHOOSE({1,2},tranche1,tranche2),""),ROW(X22)),"")} -> 19 | AI24: {=IFERROR(SMALL(IF((CHOOSE({1,2},tranche1,tranche2)>=Y$6)*(CHOOSE({1,2},tranche1,tranche2)<=Z$6)=1,CHOOSE({1,2},tranche1,tranche2),""),ROW(Y22)),"")} | AJ24: {=IFERROR(OFFSET(AH$2,MATCH(0,COUNTIF(AJ$2:AJ23,extract),0),),"")} | AK24: {=IFERROR(OFFSET(AI$2,MATCH(0,COUNTIF(AK$2:AK23,extract),0),),"")} -> 4 | AL24: =AL23+1 -> 22 | AM24: =MIN(53,Y$5+ROW(X22)) -> 34
A25: PFMP2 | C25: N°sem | AH25: {=IFERROR(SMALL(IF((CHOOSE({1,2},tranche1,tranche2)>=Y$5)*(CHOOSE({1,2},tranche1,tranche2)<=Z$5)=1,CHOOSE({1,2},tranche1,tranche2),""),ROW(X23)),"")} -> 19 | AI25: {=IFERROR(SMALL(IF((CHOOSE({1,2},tranche1,tranche2)>=Y$6)*(CHOOSE({1,2},tranche1,tranche2)<=Z$6)=1,CHOOSE({1,2},tranche1,tranche2),""),ROW(Y23)),"")} | AJ25: {=IFERROR(OFFSET(AH$2,MATCH(0,COUNTIF(AJ$2:AJ24,extract),0),),"")} | AK25: {=IFERROR(OFFSET(AI$2,MATCH(0,COUNTIF(AK$2:AK24,extract),0),),"")} -> 4 | AL25: =AL24+1 -> 23 | AM25: =MIN(53,Y$5+ROW(X23)) -> 35
A26: PFMP 2pro1 | B26: S1 | C26: 24 | AH26: {=IFERROR(SMALL(IF((CHOOSE({1,2},tranche1,tranche2)>=Y$5)*(CHOOSE({1,2},tranche1,tranche2)<=Z$5)=1,CHOOSE({1,2},tranche1,tranche2),""),ROW(X24)),"")} -> 19 | AI26: {=IFERROR(SMALL(IF((CHOOSE({1,2},tranche1,tranche2)>=Y$6)*(CHOOSE({1,2},tranche1,tranche2)<=Z$6)=1,CHOOSE({1,2},tranche1,tranche2),""),ROW(Y24)),"")} | AJ26: {=IFERROR(OFFSET(AH$2,MATCH(0,COUNTIF(AJ$2:AJ25,extract),0),),"")} | AK26: {=IFERROR(OFFSET(AI$2,MATCH(0,COUNTIF(AK$2:AK25,extract),0),),"")} -> 4 | AL26: =AL25+1 -> 24 | AM26: =MIN(53,Y$5+ROW(X24)) -> 36
A27: PFMP 2pro1 | B27: S2 | C27: 25 | AH27: {=IFERROR(SMALL(IF((CHOOSE({1,2},tranche1,tranche2)>=Y$5)*(CHOOSE({1,2},tranche1,tranche2)<=Z$5)=1,CHOOSE({1,2},tranche1,tranche2),""),ROW(X25)),"")} -> 19 | AI27: {=IFERROR(SMALL(IF((CHOOSE({1,2},tranche1,tranche2)>=Y$6)*(CHOOSE({1,2},tranche1,tranche2)<=Z$6)=1,CHOOSE({1,2},tranche1,tranche2),""),ROW(Y25)),"")} | AJ27: {=IFERROR(OFFSET(AH$2,MATCH(0,COUNTIF(AJ$2:AJ26,extract),0),),"")} | AK27: {=IFERROR(OFFSET(AI$2,MATCH(0,COUNTIF(AK$2:AK26,extract),0),),"")} -> 4 | AL27: =AL26+1 -> 25 | AM27: =MIN(53,Y$5+ROW(X25)) -> 37
A28: PFMP 2pro1 | B28: S3 | C28: 26 | AH28: {=IFERROR(SMALL(IF((CHOOSE({1,2},tranche1,tranche2)>=Y$5)*(CHOOSE({1,2},tranche1,tranche2)<=Z$5)=1,CHOOSE({1,2},tranche1,tranche2),""),ROW(X26)),"")} -> 19 | AI28: {=IFERROR(SMALL(IF((CHOOSE({1,2},tranche1,tranche2)>=Y$6)*(CHOOSE({1,2},tranche1,tranche2)<=Z$6)=1,CHOOSE({1,2},tranche1,tranche2),""),ROW(Y26)),"")} | AJ28: {=IFERROR(OFFSET(AH$2,MATCH(0,COUNTIF(AJ$2:AJ27,extract),0),),"")} | AK28: {=IFERROR(OFFSET(AI$2,MATCH(0,COUNTIF(AK$2:AK27,extract),0),),"")} -> 4 | AL28: =AL27+1 -> 26 | AM28: =MIN(53,Y$5+ROW(X26)) -> 38
A29: PFMP 2pro1 | B29: S4 | C29: 27 | AH29: {=IFERROR(SMALL(IF((CHOOSE({1,2},tranche1,tranche2)>=Y$5)*(CHOOSE({1,2},tranche1,tranche2)<=Z$5)=1,CHOOSE({1,2},tranche1,tranche2),""),ROW(X27)),"")} -> 20 | AI29: {=IFERROR(SMALL(IF((CHOOSE({1,2},tranche1,tranche2)>=Y$6)*(CHOOSE({1,2},tranche1,tranche2)<=Z$6)=1,CHOOSE({1,2},tranche1,tranche2),""),ROW(Y27)),"")} | AJ29: {=IFERROR(OFFSET(AH$2,MATCH(0,COUNTIF(AJ$2:AJ28,extract),0),),"")} | AK29: {=IFERROR(OFFSET(AI$2,MATCH(0,COUNTIF(AK$2:AK28,extract),0),),"")} -> 4 | AL29: =AL28+1 -> 27 | AM29: =MIN(53,Y$5+ROW(X27)) -> 39
A30: PFMP 2pro1 | B30: S5 | D30: Planifier visite PFMP 1 | AH30: {=IFERROR(SMALL(IF((CHOOSE({1,2},tranche1,tranche2)>=Y$5)*(CHOOSE({1,2},tranche1,tranche2)<=Z$5)=1,CHOOSE({1,2},tranche1,tranche2),""),ROW(X28)),"")} -> 20 | AI30: {=IFERROR(SMALL(IF((CHOOSE({1,2},tranche1,tranche2)>=Y$6)*(CHOOSE({1,2},tranche1,tranche2)<=Z$6)=1,CHOOSE({1,2},tranche1,tranche2),""),ROW(Y28)),"")} | AJ30: {=IFERROR(OFFSET(AH$2,MATCH(0,COUNTIF(AJ$2:AJ29,extract),0),),"")} | AK30: {=IFERROR(OFFSET(AI$2,MATCH(0,COUNTIF(AK$2:AK29,extract),0),),"")} -> 4 | AL30: =AL29+1 -> 28 | AM30: =MIN(53,Y$5+ROW(X28)) -> 40
A31: PFMP 2pro1 | B31: S6 | D31: Planifier visite PFMP 2 | AH31: {=IFERROR(SMALL(IF((CHOOSE({1,2},tranche1,tranche2)>=Y$5)*(CHOOSE({1,2},tranche1,tranche2)<=Z$5)=1,CHOOSE({1,2},tranche1,tranche2),""),ROW(X29)),"")} -> 20 | AI31: {=IFERROR(SMALL(IF((CHOOSE({1,2},tranche1,tranche2)>=Y$6)*(CHOOSE({1,2},tranche1,tranche2)<=Z$6)=1,CHOOSE({1,2},tranche1,tranche2),""),ROW(Y29)),"")} | AJ31: {=IFERROR(OFFSET(AH$2,MATCH(0,COUNTIF(AJ$2:AJ30,extract),0),),"")} | AK31: {=IFERROR(OFFSET(AI$2,MATCH(0,COUNTIF(AK$2:AK30,extract),0),),"")} -> 4 | AL31: =AL30+1 -> 29 | AM31: =MIN(53,Y$5+ROW(X29)) -> 41
AH32: {=IFERROR(SMALL(IF((CHOOSE({1,2},tranche1,tranche2)>=Y$5)*(CHOOSE({1,2},tranche1,tranche2)<=Z$5)=1,CHOOSE({1,2},tranche1,tranche2),""),ROW(X30)),"")} -> 20 | AI32: {=IFERROR(SMALL(IF((CHOOSE({1,2},tranche1,tranche2)>=Y$6)*(CHOOSE({1,2},tranche1,tranche2)<=Z$6)=1,CHOOSE({1,2},tranche1,tranche2),""),ROW(Y30)),"")} | AJ32: {=IFERROR(OFFSET(AH$2,MATCH(0,COUNTIF(AJ$2:AJ31,extract),0),),"")} | AK32: {=IFERROR(OFFSET(AI$2,MATCH(0,COUNTIF(AK$2:AK31,extract),0),),"")} -> 4 | AL32: =AL31+1 -> 30 | AM32: =MIN(53,Y$5+ROW(X30)) -> 42
A33: 2pro2 | AH33: {=IFERROR(SMALL(IF((CHOOSE({1,2},tranche1,tranche2)>=Y$5)*(CHOOSE({1,2},tranche1,tranche2)<=Z$5)=1,CHOOSE({1,2},tranche1,tranche2),""),ROW(X31)),"")} -> 20 | AI33: {=IFERROR(SMALL(IF((CHOOSE({1,2},tranche1,tranche2)>=Y$6)*(CHOOSE({1,2},tranche1,tranche2)<=Z$6)=1,CHOOSE({1,2},tranche1,tranche2),""),ROW(Y31)),"")} | AJ33: {=IFERROR(OFFSET(AH$2,MATCH(0,COUNTIF(AJ$2:AJ32,extract),0),),"")} | AK33: {=IFERROR(OFFSET(AI$2,MATCH(0,COUNTIF(AK$2:AK32,extract),0),),"")} -> 4 | AL33: =AL32+1 -> 31 | AM33: =MIN(53,Y$5+ROW(X31)) -> 43
H34: Modalités CCF | AH34: {=IFERROR(SMALL(IF((CHOOSE({1,2},tranche1,tranche2)>=Y$5)*(CHOOSE({1,2},tranche1,tranche2)<=Z$5)=1,CHOOSE({1,2},tranche1,tranche2),""),ROW(X32)),"")} -> 20 | AI34: {=IFERROR(SMALL(IF((CHOOSE({1,2},tranche1,tranche2)>=Y$6)*(CHOOSE({1,2},tranche1,tranche2)<=Z$6)=1,CHOOSE({1,2},tranche1,tranche2),""),ROW(Y32)),"")} | AJ34: {=IFERROR(OFFSET(AH$2,MATCH(0,COUNTIF(AJ$2:AJ33,extract),0),),"")} | AK34: {=IFERROR(OFFSET(AI$2,MATCH(0,COUNTIF(AK$2:AK33,extract),0),),"")} -> 4 | AL34: =AL33+1 -> 32 | AM34: =MIN(53,Y$5+ROW(X32)) -> 44
A35: PFMP1 | C35: N°sem | D35: Vie de classe | F35: Date | G35: CCF | H35: Date | I35: Points de vigilances | J35: Date | K35: Autre | L35: Date | AH35: {=IFERROR(SMALL(IF((CHOOSE({1,2},tranche1,tranche2)>=Y$5)*(CHOOSE({1,2},tranche1,tranche2)<=Z$5)=1,CHOOSE({1,2},tranche1,tranche2),""),ROW(X33)),"")} -> 20 | AI35: {=IFERROR(SMALL(IF((CHOOSE({1,2},tranche1,tranche2)>=Y$6)*(CHOOSE({1,2},tranche1,tranche2)<=Z$6)=1,CHOOSE({1,2},tranche1,tranche2),""),ROW(Y33)),"")} | AJ35: {=IFERROR(OFFSET(AH$2,MATCH(0,COUNTIF(AJ$2:AJ34,extract),0),),"")} | AK35: {=IFERROR(OFFSET(AI$2,MATCH(0,COUNTIF(AK$2:AK34,extract),0),),"")} -> 4 | AL35: =AL34+1 -> 33 | AM35: =MIN(53,Y$5+ROW(X33)) -> 45
A36: PFMP 2pro2 | B36: S1 | C36: 48 | D36: CC 2pro2 | E36: 1 | I36: Retour convention 2pro2 | J36: 45243 | AH36: {=IFERROR(SMALL(IF((CHOOSE({1,2},tranche1,tranche2)>=Y$5)*(CHOOSE({1,2},tranche1,tranche2)<=Z$5)=1,CHOOSE({1,2},tranche1,tranche2),""),ROW(X34)),"")} | AI36: {=IFERROR(SMALL(IF((CHOOSE({1,2},tranche1,tranche2)>=Y$6)*(CHOOSE({1,2},tranche1,tranche2)<=Z$6)=1,CHOOSE({1,2},tranche1,tranche2),""),ROW(Y34)),"")} | AJ36: {=IFERROR(OFFSET(AH$2,MATCH(0,COUNTIF(AJ$2:AJ35,extract),0),),"")} | AK36: {=IFERROR(OFFSET(AI$2,MATCH(0,COUNTIF(AK$2:AK35,extract),0),),"")} -> 4 | AL36: =AL35+1 -> 34 | AM36: =MIN(53,Y$5+ROW(X34)) -> 46
A37: PFMP 2pro2 | B37: S2 | C37: 49 | D37: CC 2pro2 | E37: 2 | I37: Retour convention 2pro2 | J37: 45439 | AH37: {=IFERROR(SMALL(IF((CHOOSE({1,2},tranche1,tranche2)>=Y$5)*(CHOOSE({1,2},tranche1,tranche2)<=Z$5)=1,CHOOSE({1,2},tranche1,tranche2),""),ROW(X35)),"")} | AI37: {=IFERROR(SMALL(IF((CHOOSE({1,2},tranche1,tranche2)>=Y$6)*(CHOOSE({1,2},tranche1,tranche2)<=Z$6)=1,CHOOSE({1,2},tranche1,tranche2),""),ROW(Y35)),"")} | AJ37: {=IFERROR(OFFSET(AH$2,MATCH(0,COUNTIF(AJ$2:AJ36,extract),0),),"")} | AK37: {=IFERROR(OFFSET(AI$2,MATCH(0,COUNTIF(AK$2:AK36,extract),0),),"")} -> 4 | AL37: =AL36+1 -> 35 | AM37: =MIN(53,Y$5+ROW(X35)) -> 47
A38: PFMP 2pro2 | B38: S3 | D38: CC 2pro2 | E38: 3 | I38: Préparation conseil 2pro2 | AH38: {=IFERROR(SMALL(IF((CHOOSE({1,2},tranche1,tranche2)>=Y$5)*(CHOOSE({1,2},tranche1,tranche2)<=Z$5)=1,CHOOSE({1,2},tranche1,tranche2),""),ROW(X36)),"")} | AI38: {=IFERROR(SMALL(IF((CHOOSE({1,2},tranche1,tranche2)>=Y$6)*(CHOOSE({1,2},tranche1,tranche2)<=Z$6)=1,CHOOSE({1,2},tranche1,tranche2),""),ROW(Y36)),"")} | AJ38: {=IFERROR(OFFSET(AH$2,MATCH(0,COUNTIF(AJ$2:AJ37,extract),0),),"")} | AK38: {=IFERROR(OFFSET(AI$2,MATCH(0,COUNTIF(AK$2:AK37,extract),0),),"")} -> 4 | AL38: =AL37+1 -> 36 | AM38: =MIN(53,Y$5+ROW(X36)) -> 48
A39: PFMP 2pro2 | B39: S4 | D39: Réunion prt profs 2pro2 | I39: Préparation conseil 2pro2 | AH39: {=IFERROR(SMALL(IF((CHOOSE({1,2},tranche1,tranche2)>=Y$5)*(CHOOSE({1,2},tranche1,tranche2)<=Z$5)=1,CHOOSE({1,2},tranche1,tranche2),""),ROW(X37)),"")} | AI39: {=IFERROR(SMALL(IF((CHOOSE({1,2},tranche1,tranche2)>=Y$6)*(CHOOSE({1,2},tranche1,tranche2)<=Z$6)=1,CHOOSE({1,2},tranche1,tranche2),""),ROW(Y37)),"")} | AJ39: {=IFERROR(OFFSET(AH$2,MATCH(0,COUNTIF(AJ$2:AJ38,extract),0),),"")} | AK39: {=IFERROR(OFFSET(AI$2,MATCH(0,COUNTIF(AK$2:AK38,extract),0),),"")} -> 4 | AL39: =AL38+1 -> 37 | AM39: =MIN(53,Y$5+ROW(X37)) -> 49
A40: PFMP 2pro2 | B40: S5 | D40: Photos classe 2pro2 | I40: Préparation conseil 2pro2 | AH40: {=IFERROR(SMALL(IF((CHOOSE({1,2},tranche1,tranche2)>=Y$5)*(CHOOSE({1,2},tranche1,tranche2)<=Z$5)=1,CHOOSE({1,2},tranche1,tranche2),""),ROW(X38)),"")} | AI40: {=IFERROR(SMALL(IF((CHOOSE({1,2},tranche1,tranche2)>=Y$6)*(CHOOSE({1,2},tranche1,tranche2)<=Z$6)=1,CHOOSE({1,2},tranche1,tranche2),""),ROW(Y38)),"")} | AJ40: {=IFERROR(OFFSET(AH$2,MATCH(0,COUNTIF(AJ$2:AJ39,extract),0),),"")} | AK40: {=IFERROR(OFFSET(AI$2,MATCH(0,COUNTIF(AK$2:AK39,extract),0),),"")} -> 4 | AL40: =AL39+1 -> 38 | AM40: =MIN(53,Y$5+ROW(X38)) -> 50
...

Sheet Calendrier
A1: 1 | M1: Début de cycle : | N1: 36770 | O1: =+Parametrage!C1 -> 2023 | P1: Année scolaire : | V1: =+O1 -> 2023 | W1: =+O1+1 -> 2024
A2: Sem | B2: =DATE(YEAR(O1),MONTH(N1),DAY(A1)) -> 2071 | C2: Infos | D2: PFMP 1cuis | E2: PFMP Tcuis | F2: PFMP 2pro1 | G2: PFMP 2pro2 | H2: PFMP 1pro1 | I2: PFMP 1pro2 | J2: PFMP Tpro1 | K2: PFMP Tpro2 | L2: MCCDR | M2: Vie de classe | N2: Vigilance | O2: CCF | P2: Autres | Q2: Au cas ou | R2: Au cas ou | S2: Au cas ou | U2: Sem | V2: =+DATE(YEAR(O1),MONTH(N1)+1,DAY(A1)) -> 2101 | W2: Infos | X2: PFMP 1cuis | Y2: PFMP Tcuis | Z2: PFMP 2pro1 | AA2: PFMP 2pro2 | AB2: PFMP 1pro1 | AC2: PFMP 1pro2 | AD2: PFMP Tpro1 | AE2: PFMP Tpro | AF2: MCCDR | AG2: Vie de classe | AH2: Vigilance | AI2: CCF | AJ2: Autres
A3: =IFERROR(_xlfn.ISOWEEKNUM(B3),"") -> 35 | B3: =DATE(O1,MONTH(B2),1) -> 45170 | C3: =+IFERROR(INDEX('[5]Parametrage base'!B:B,MATCH(B3,'[5]Parametrage base'!C:C,0)),"") | D3: =IFERROR(INDEX('Parametrage base'!$H:$H,MATCH(A3,'Parametrage base'!$J:$J,0)),"") | E3: =IFERROR(INDEX('Parametrage base'!$K:$K,MATCH($A3,'Parametrage base'!$M:$M,0)),"") | F3: =IFERROR(INDEX('Parametrage base'!$N:$N,MATCH($A3,'Parametrage base'!$P:$P,0)),"") | G3: =IFERROR(INDEX('Parametrage base'!$Q:$Q,MATCH($A3,'Parametrage base'!$S:$S,0)),"") | H3: =IFERROR(INDEX('Parametrage base'!$T:$T,MATCH($A3,'Parametrage base'!$V:$V,0)),"") | I3: =IFERROR(INDEX('Parametrage base'!$W:$W,MATCH($A3,'Parametrage base'!$Y:$Y,0)),"") | J3: =IFERROR(INDEX('Parametrage base'!$Z:$Z,MATCH($A3,'Parametrage base'!$AB:$AB,0)),"") | K3: =IFERROR(INDEX('Parametrage base'!$AC:$AC,MATCH($A3,'Parametrage base'!$AE:$AE,0)),"") | L3: =IFERROR(INDEX('Parametrage base'!$AF:$AF,MATCH($A3,'Parametrage base'!$AH:$AH,0)),"") | M3: =IFERROR(INDEX(Parametrage!D:D,MATCH(B3,Parametrage!F:F,0)),"") | N3: =IFERROR(INDEX(Parametrage!I:I,MATCH(B3,Parametrage!J:J,0)),"") | O3: =IFERROR(INDEX(Parametrage!G:G,MATCH(B3,Parametrage!H:H,0)),"") | P3: =IFERROR(INDEX(Parametrage!K:K,MATCH(B3,Parametrage!L:L,0)),"") | U3: =IFERROR(_xlfn.ISOWEEKNUM(V3),"") -> 39 | V3: =DATE(O1,MONTH(V2),1) -> 45200 | W3: =+IFERROR(INDEX('Parametrage base'!$B:$B,MATCH(V3,'Parametrage base'!$C:$C,0)),"") | X3: =IFERROR(INDEX('Parametrage base'!$H:$H,MATCH(U3,'Parametrage base'!$J:$J,0)),"") | Y3: =IFERROR(INDEX('Parametrage base'!$K:$K,MATCH($U3,'Parametrage base'!$M:$M,0)),"") | Z3: =IFERROR(INDEX('Parametrage base'!$N:$N,MATCH($U3,'Parametrage base'!$P:$P,0)),"") | AA3: =IFERROR(INDEX('Parametrage base'!$Q:$Q,MATCH($U3,'Parametrage base'!$S:$S,0)),"") | AB3: =IFERROR(INDEX('Parametrage base'!$T:$T,MATCH($U3,'Parametrage base'!$V:$V,0)),"") | AC3: =IFERROR(INDEX('Parametrage base'!$W:$W,MATCH($U3,'Parametrage base'!$Y:$Y,0)),"") | AD3: =IFERROR(INDEX('Parametrage base'!$Z:$Z,MATCH($U3,'Parametrage base'!$AB:$AB,0)),"") -> PFMP Tpro1 | AE3: =IFERROR(INDEX('Parametrage base'!$AC:$AC,MATCH($U3,'Parametrage base'!$AE:$AE,0)),"") -> PFMP Tpro2 | AF3: =IFERROR(INDEX('Parametrage base'!$AF:$AF,MATCH($U3,'Parametrage base'!$AH:$AH,0)),"") | AG3: =IFERROR(INDEX(Parametrage!$D:$D,MATCH(V3,Parametrage!$F:$F,0)),"") | AH3: =IFERROR(INDEX(Parametrage!$I:$I,MATCH(V3,Parametrage!$J:$J,0)),"") | AI3: =IFERROR(INDEX(Parametrage!$G:$G,MATCH(V3,Parametrage!$H:$H,0)),"") | AJ3: =IFERROR(INDEX(Parametrage!$K:$K,MATCH(V3,Parametrage!$L:$L,0)),"") | AM3: Jour de l'an | AN3: =+'Parametrage base'!C20 -> 44927 | AO3: =+'Parametrage base'!C37 -> 45292
A4: =IFERROR(_xlfn.ISOWEEKNUM(B4),"") -> 35 | B4: =IF(B3<>"", IF(MONTH(B3+1)=MONTH($B$3), B3+1, ""),"") -> 45171 | C4: =+IFERROR(INDEX('Parametrage base'!B:B,MATCH(B4,'Parametrage base'!C:C,0)),"") | D4: =IFERROR(INDEX('Parametrage base'!H:H,MATCH(A4,'Parametrage base'!J:J,0)),"") | E4: =IFERROR(INDEX('Parametrage base'!$K:$K,MATCH($A4,'Parametrage base'!$M:$M,0)),"") | F4: =IFERROR(INDEX('Parametrage base'!$N:$N,MATCH($A4,'Parametrage base'!$P:$P,0)),"") | G4: =IFERROR(INDEX('Parametrage base'!$Q:$Q,MATCH($A4,'Parametrage base'!$S:$S,0)),"") | H4: =IFERROR(INDEX('Parametrage base'!$T:$T,MATCH($A4,'Parametrage base'!$V:$V,0)),"") | I4: =IFERROR(INDEX('Parametrage base'!$W:$W,MATCH($A4,'Parametrage base'!$Y:$Y,0)),"") | J4: =IFERROR(INDEX('Parametrage base'!$Z:$Z,MATCH($A4,'Parametrage base'!$AB:$AB,0)),"") | K4: =IFERROR(INDEX('Parametrage base'!$AC:$AC,MATCH($A4,'Parametrage base'!$AE:$AE,0)),"") | L4: =IFERROR(INDEX('Parametrage base'!$AF:$AF,MATCH($A4,'Parametrage base'!$AH:$AH,0)),"") | M4: =IFERROR(INDEX(Parametrage!D:D,MATCH(B4,Parametrage!F:F,0)),"") | N4: =IFERROR(INDEX(Parametrage!I:I,MATCH(B4,Parametrage!J:J,0)),"") | O4: =IFERROR(INDEX(Parametrage!G:G,MATCH(B4,Parametrage!H:H,0)),"") | P4: =IFERROR(INDEX(Parametrage!K:K,MATCH(B4,Parametrage!L:L,0)),"") | U4: =IFERROR(_xlfn.ISOWEEKNUM(V4),"") -> 40 | V4: =IF(V3<>"", IF(MONTH(V3+1)=MONTH($V$3), V3+1, ""),"") -> 45201 | W4: =+IFERROR(INDEX('Parametrage base'!B:B,MATCH(V4,'Parametrage base'!C:C,0)),"") | X4: =IFERROR(INDEX('Parametrage base'!$H:$H,MATCH(U4,'Parametrage base'!$J:$J,0)),"") | Y4: =IFERROR(INDEX('Parametrage base'!$K:$K,MATCH($U4,'Parametrage base'!$M:$M,0)),"") | Z4: =IFERROR(INDEX('Parametrage base'!$N:$N,MATCH($U4,'Parametrage base'!$P:$P,0)),"") | AA4: =IFERROR(INDEX('Parametrage base'!$Q:$Q,MATCH($U4,'Parametrage base'!$S:$S,0)),"") | AB4: =IFERROR(INDEX('Parametrage base'!$T:$T,MATCH($U4,'Parametrage base'!$V:$V,0)),"") | AC4: =IFERROR(INDEX('Parametrage base'!$W:$W,MATCH($U4,'Parametrage base'!$Y:$Y,0)),"") | AD4: =IFERROR(INDEX('Parametrage base'!$Z:$Z,MATCH($U4,'Parametrage base'!$AB:$AB,0)),"") | AE4: =IFERROR(INDEX('Parametrage base'!$AC:$AC,MATCH($U4,'Parametrage base'!$AE:$AE,0)),"") | AF4: =IFERROR(INDEX('Parametrage base'!$AF:$AF,MATCH($U4,'Parametrage base'!$AH:$AH,0)),"") -> PFMP MCCDR | AG4: =IFERROR(INDEX(Parametrage!D:D,MATCH(V4,Parametrage!F:F,0)),"") | AH4: =IFERROR(INDEX(Parametrage!I:I,MATCH(V4,Parametrage!J:J,0)),"") | AI4: =IFERROR(INDEX(Parametrage!G:G,MATCH(V4,Parametrage!H:H,0)),"") | AJ4: =IFERROR(INDEX(Parametrage!K:K,MATCH(V4,Parametrage!L:L,0)),"") | AM4: Pâques | AN4: =+'Parametrage base'!C21 -> 45025 | AO4: =+'Parametrage base'!C38 -> 45382
A5: =IFERROR(_xlfn.ISOWEEKNUM(B5),"") -> 35 | B5: =IF(B4<>"", IF(MONTH(B4+1)=MONTH($B$3), B4+1, ""),"") -> 45172 | C5: =+IFERROR(INDEX('Parametrage base'!B:B,MATCH(B5,'Parametrage base'!C:C,0)),"") | D5: =IFERROR(INDEX('Parametrage base'!H:H,MATCH(A5,'Parametrage base'!J:J,0)),"") | E5: =IFERROR(INDEX('Parametrage base'!$K:$K,MATCH($A5,'Parametrage base'!$M:$M,0)),"") | F5: =IFERROR(INDEX('Parametrage base'!$N:$N,MATCH($A5,'Parametrage base'!$P:$P,0)),"") | G5: =IFERROR(INDEX('Parametrage base'!$Q:$Q,MATCH($A5,'Parametrage base'!$S:$S,0)),"") | H5: =IFERROR(INDEX('Parametrage base'!$T:$T,MATCH($A5,'Parametrage base'!$V:$V,0)),"") | I5: =IFERROR(INDEX('Parametrage base'!$W:$W,MATCH($A5,'Parametrage base'!$Y:$Y,0)),"") | J5: =IFERROR(INDEX('Parametrage base'!$Z:$Z,MATCH($A5,'Parametrage base'!$AB:$AB,0)),"") | K5: =IFERROR(INDEX('Parametrage base'!$AC:$AC,MATCH($A5,'Parametrage base'!$AE:$AE,0)),"") | L5: =IFERROR(INDEX('Parametrage base'!$AF:$AF,MATCH($A5,'Parametrage base'!$AH:$AH,0)),"") | M5: =IFERROR(INDEX(Parametrage!D:D,MATCH(B5,Parametrage!F:F,0)),"") | N5: =IFERROR(INDEX(Parametrage!I:I,MATCH(B5,Parametrage!J:J,0)),"") | O5: =IFERROR(INDEX(Parametrage!G:G,MATCH(B5,Parametrage!H:H,0)),"") | P5: =IFERROR(INDEX(Parametrage!K:K,MATCH(B5,Parametrage!L:L,0)),"") | U5: =IFERROR(_xlfn.ISOWEEKNUM(V5),"") -> 40 | V5: =IF(V4<>"", IF(MONTH(V4+1)=MONTH($V$3), V4+1, ""),"") -> 45202 | W5: =+IFERROR(INDEX('Parametrage base'!B:B,MATCH(V5,'Parametrage base'!C:C,0)),"") | X5: =IFERROR(INDEX('Parametrage base'!$H:$H,MATCH(U5,'Parametrage base'!$J:$J,0)),"") | Y5: =IFERROR(INDEX('Parametrage base'!$K:$K,MATCH($U5,'Parametrage base'!$M:$M,0)),"") | Z5: =IFERROR(INDEX('Parametrage base'!$N:$N,MATCH($U5,'Parametrage base'!$P:$P,0)),"") | AA5: =IFERROR(INDEX('Parametrage base'!$Q:$Q,MATCH($U5,'Parametrage base'!$S:$S,0)),"") | AB5: =IFERROR(INDEX('Parametrage base'!$T:$T,MATCH($U5,'Parametrage base'!$V:$V,0)),"") | AC5: =IFERROR(INDEX('Parametrage base'!$W:$W,MATCH($U5,'Parametrage base'!$Y:$Y,0)),"") | AD5: =IFERROR(INDEX('Parametrage base'!$Z:$Z,MATCH($U5,'Parametrage base'!$AB:$AB,0)),"") | AE5: =IFERROR(INDEX('Parametrage base'!$AC:$AC,MATCH($U5,'Parametrage base'!$AE:$AE,0)),"") | AF5: =IFERROR(INDEX('Parametrage base'!$AF:$AF,MATCH($U5,'Parametrage base'!$AH:$AH,0)),"") -> PFMP MCCDR | AG5: =IFERROR(INDEX(Parametrage!D:D,MATCH(V5,Parametrage!F:F,0)),"") | AH5: =IFERROR(INDEX(Parametrage!I:I,MATCH(V5,Parametrage!J:J,0)),"") | AI5: =IFERROR(INDEX(Parametrage!G:G,MATCH(V5,Parametrage!H:H,0)),"") | AJ5: =IFERROR(INDEX(Parametrage!K:K,MATCH(V5,Parametrage!L:L,0)),"") | AM5: Lundi de pâques | AN5: =+'Parametrage base'!C22 -> 45026 | AO5: =+'Parametrage base'!C39 -> 45383
A6: =IFERROR(_xlfn.ISOWEEKNUM(B6),"") -> 36 | B6: =IF(B5<>"", IF(MONTH(B5+1)=MONTH($B$3), B5+1, ""),"") -> 45173 | C6: =+IFERROR(INDEX('Parametrage base'!B:B,MATCH(B6,'Parametrage base'!C:C,0)),"") | D6: =IFERROR(INDEX('Parametrage base'!H:H,MATCH(A6,'Parametrage base'!J:J,0)),"") | E6: =IFERROR(INDEX('Parametrage base'!$K:$K,MATCH($A6,'Parametrage base'!$M:$M,0)),"") | F6: =IFERROR(INDEX('Parametrage base'!$N:$N,MATCH($A6,'Parametrage base'!$P:$P,0)),"") | G6: =IFERROR(INDEX('Parametrage base'!$Q:$Q,MATCH($A6,'Parametrage base'!$S:$S,0)),"") | H6: =IFERROR(INDEX('Parametrage base'!$T:$T,MATCH($A6,'Parametrage base'!$V:$V,0)),"") | I6: =IFERROR(INDEX('Parametrage base'!$W:$W,MATCH($A6,'Parametrage base'!$Y:$Y,0)),"") | J6: =IFERROR(INDEX('Parametrage base'!$Z:$Z,MATCH($A6,'Parametrage base'!$AB:$AB,0)),"") -> PFMP Tpro1 | K6: =IFERROR(INDEX('Parametrage base'!$AC:$AC,MATCH($A6,'Parametrage base'!$AE:$AE,0)),"") -> PFMP Tpro2 | L6: =IFERROR(INDEX('Parametrage base'!$AF:$AF,MATCH($A6,'Parametrage base'!$AH:$AH,0)),"") | M6: =IFERROR(INDEX(Parametrage!D:D,MATCH(B6,Parametrage!F:F,0)),"") | N6: =IFERROR(INDEX(Parametrage!I:I,MATCH(B6,Parametrage!J:J,0)),"") | O6: =IFERROR(INDEX(Parametrage!G:G,MATCH(B6,Parametrage!H:H,0)),"") | P6: =IFERROR(INDEX(Parametrage!K:K,MATCH(B6,Parametrage!L:L,0)),"") | U6: =IFERROR(_xlfn.ISOWEEKNUM(V6),"") -> 40 | V6: =IF(V5<>"", IF(MONTH(V5+1)=MONTH($V$3), V5+1, ""),"") -> 45203 | W6: =+IFERROR(INDEX('Parametrage base'!B:B,MATCH(V6,'Parametrage base'!C:C,0)),"") | X6: =IFERROR(INDEX('Parametrage base'!$H:$H,MATCH(U6,'Parametrage base'!$J:$J,0)),"") | Y6: =IFERROR(INDEX('Parametrage base'!$K:$K,MATCH($U6,'Parametrage base'!$M:$M,0)),"") | Z6: =IFERROR(INDEX('Parametrage base'!$N:$N,MATCH($U6,'Parametrage base'!$P:$P,0)),"") | AA6: =IFERROR(INDEX('Parametrage base'!$Q:$Q,MATCH($U6,'Parametrage base'!$S:$S,0)),"") | AB6: =IFERROR(INDEX('Parametrage base'!$T:$T,MATCH($U6,'Parametrage base'!$V:$V,0)),"") | AC6: =IFERROR(INDEX('Parametrage base'!$W:$W,MATCH($U6,'Parametrage base'!$Y:$Y,0)),"") | AD6: =IFERROR(INDEX('Parametrage base'!$Z:$Z,MATCH($U6,'Parametrage base'!$AB:$AB,0)),"") | AE6: =IFERROR(INDEX('Parametrage base'!$AC:$AC,MATCH($U6,'Parametrage base'!$AE:$AE,0)),"") | AF6: =IFERROR(INDEX('Parametrage base'!$AF:$AF,MATCH($U6,'Parametrage base'!$AH:$AH,0)),"") -> PFMP MCCDR | AG6: =IFERROR(INDEX(Parametrage!D:D,MATCH(V6,Parametrage!F:F,0)),"") | AH6: =IFERROR(INDEX(Parametrage!I:I,MATCH(V6,Parametrage!J:J,0)),"") | AI6: =IFERROR(INDEX(Parametrage!G:G,MATCH(V6,Parametrage!H:H,0)),"") | AJ6: =IFERROR(INDEX(Parametrage!K:K,MATCH(V6,Parametrage!L:L,0)),"") | AM6: Fête deu travail | AN6: =+'Parametrage base'!C23 -> 45047 | AO6: =+'Parametrage base'!C40 -> 45413
A7: =IFERROR(_xlfn.ISOWEEKNUM(B7),"") -> 36 | B7: =IF(B6<>"", IF(MONTH(B6+1)=MONTH($B$3), B6+1, ""),"") -> 45174 | C7: =+IFERROR(INDEX('Parametrage base'!B:B,MATCH(B7,'Parametrage base'!C:C,0)),"") | D7: =IFERROR(INDEX('Parametrage base'!H:H,MATCH(A7,'Parametrage base'!J:J,0)),"") | E7: =IFERROR(INDEX('Parametrage base'!$K:$K,MATCH($A7,'Parametrage base'!$M:$M,0)),"") | F7: =IFERROR(INDEX('Parametrage base'!$N:$N,MATCH($A7,'Parametrage base'!$P:$P,0)),"") | G7: =IFERROR(INDEX('Parametrage base'!$Q:$Q,MATCH($A7,'Parametrage base'!$S:$S,0)),"") | H7: =IFERROR(INDEX('Parametrage base'!$T:$T,MATCH($A7,'Parametrage base'!$V:$V,0)),"") | I7: =IFERROR(INDEX('Parametrage base'!$W:$W,MATCH($A7,'Parametrage base'!$Y:$Y,0)),"") | J7: =IFERROR(INDEX('Parametrage base'!$Z:$Z,MATCH($A7,'Parametrage base'!$AB:$AB,0)),"") -> PFMP Tpro1 | K7: =IFERROR(INDEX('Parametrage base'!$AC:$AC,MATCH($A7,'Parametrage base'!$AE:$AE,0)),"") -> PFMP Tpro2 | L7: =IFERROR(INDEX('Parametrage base'!$AF:$AF,MATCH($A7,'Parametrage base'!$AH:$AH,0)),"") | M7: =IFERROR(INDEX(Parametrage!D:D,MATCH(B7,Parametrage!F:F,0)),"") | N7: =IFERROR(INDEX(Parametrage!I:I,MATCH(B7,Parametrage!J:J,0)),"") | O7: =IFERROR(INDEX(Parametrage!G:G,MATCH(B7,Parametrage!H:H,0)),"") | P7: =IFERROR(INDEX(Parametrage!K:K,MATCH(B7,Parametrage!L:L,0)),"") | U7: =IFERROR(_xlfn.ISOWEEKNUM(V7),"") -> 40 | V7: =IF(V6<>"", IF(MONTH(V6+1)=MONTH($V$3), V6+1, ""),"") -> 45204 | W7: =+IFERROR(INDEX('Parametrage base'!B:B,MATCH(V7,'Parametrage base'!C:C,0)),"") | X7: =IFERROR(INDEX('Parametrage base'!$H:$H,MATCH(U7,'Parametrage base'!$J:$J,0)),"") | Y7: =IFERROR(INDEX('Parametrage base'!$K:$K,MATCH($U7,'Parametrage base'!$M:$M,0)),"") | Z7: =IFERROR(INDEX('Parametrage base'!$N:$N,MATCH($U7,'Parametrage base'!$P:$P,0)),"") | AA7: =IFERROR(INDEX('Parametrage base'!$Q:$Q,MATCH($U7,'Parametrage base'!$S:$S,0)),"") | AB7: =IFERROR(INDEX('Parametrage base'!$T:$T,MATCH($U7,'Parametrage base'!$V:$V,0)),"") | AC7: =IFERROR(INDEX('Parametrage base'!$W:$W,MATCH($U7,'Parametrage base'!$Y:$Y,0)),"") | AD7: =IFERROR(INDEX('Parametrage base'!$Z:$Z,MATCH($U7,'Parametrage base'!$AB:$AB,0)),"") | AE7: =IFERROR(INDEX('Parametrage base'!$AC:$AC,MATCH($U7,'Parametrage base'!$AE:$AE,0)),"") | AF7: =IFERROR(INDEX('Parametrage base'!$AF:$AF,MATCH($U7,'Parametrage base'!$AH:$AH,0)),"") -> PFMP MCCDR | AG7: =IFERROR(INDEX(Parametrage!D:D,MATCH(V7,Parametrage!F:F,0)),"") | AH7: =IFERROR(INDEX(Parametrage!I:I,MATCH(V7,Parametrage!J:J,0)),"") | AI7: =IFERROR(INDEX(Parametrage!G:G,MATCH(V7,Parametrage!H:H,0)),"") | AJ7: =IFERROR(INDEX(Parametrage!K:K,MATCH(V7,Parametrage!L:L,0)),"") | AM7: Armistice 39/45 | AN7: =+'Parametrage base'!C24 -> 45054 | AO7: =+'Parametrage base'!C41 -> 45420
A8: =IFERROR(_xlfn.ISOWEEKNUM(B8),"") -> 36 | B8: =IF(B7<>"", IF(MONTH(B7+1)=MONTH($B$3), B7+1, ""),"") -> 45175 | C8: =+IFERROR(INDEX('Parametrage base'!B:B,MATCH(B8,'Parametrage base'!C:C,0)),"") | D8: =IFERROR(INDEX('Parametrage base'!H:H,MATCH(A8,'Parametrage base'!J:J,0)),"") | E8: =IFERROR(INDEX('Parametrage base'!$K:$K,MATCH($A8,'Parametrage base'!$M:$M,0)),"") | F8: =IFERROR(INDEX('Parametrage base'!$N:$N,MATCH($A8,'Parametrage base'!$P:$P,0)),"") | G8: =IFERROR(INDEX('Parametrage base'!$Q:$Q,MATCH($A8,'Parametrage base'!$S:$S,0)),"") | H8: =IFERROR(INDEX('Parametrage base'!$T:$T,MATCH($A8,'Parametrage base'!$V:$V,0)),"") | I8: =IFERROR(INDEX('Parametrage base'!$W:$W,MATCH($A8,'Parametrage base'!$Y:$Y,0)),"") | J8: =IFERROR(INDEX('Parametrage base'!$Z:$Z,MATCH($A8,'Parametrage base'!$AB:$AB,0)),"") -> PFMP Tpro1 | K8: =IFERROR(INDEX('Parametrage base'!$AC:$AC,MATCH($A8,'Parametrage base'!$AE:$AE,0)),"") -> PFMP Tpro2 | L8: =IFERROR(INDEX('Parametrage base'!$AF:$AF,MATCH($A8,'Parametrage base'!$AH:$AH,0)),"") | M8: =IFERROR(INDEX(Parametrage!D:D,MATCH(B8,Parametrage!F:F,0)),"") | N8: =IFERROR(INDEX(Parametrage!I:I,MATCH(B8,Parametrage!J:J,0)),"") | O8: =IFERROR(INDEX(Parametrage!G:G,MATCH(B8,Parametrage!H:H,0)),"") | P8: =IFERROR(INDEX(Parametrage!K:K,MATCH(B8,Parametrage!L:L,0)),"") | U8: =IFERROR(_xlfn.ISOWEEKNUM(V8),"") -> 40 | V8: =IF(V7<>"", IF(MONTH(V7+1)=MONTH($V$3), V7+1, ""),"") -> 45205 | W8: =+IFERROR(INDEX('Parametrage base'!B:B,MATCH(V8,'Parametrage base'!C:C,0)),"") | X8: =IFERROR(INDEX('Parametrage base'!$H:$H,MATCH(U8,'Parametrage base'!$J:$J,0)),"") | Y8: =IFERROR(INDEX('Parametrage base'!$K:$K,MATCH($U8,'Parametrage base'!$M:$M,0)),"") | Z8: =IFERROR(INDEX('Parametrage base'!$N:$N,MATCH($U8,'Parametrage base'!$P:$P,0)),"") | AA8: =IFERROR(INDEX('Parametrage base'!$Q:$Q,MATCH($U8,'Parametrage base'!$S:$S,0)),"") | AB8: =IFERROR(INDEX('Parametrage base'!$T:$T,MATCH($U8,'Parametrage base'!$V:$V,0)),"") | AC8: =IFERROR(INDEX('Parametrage base'!$W:$W,MATCH($U8,'Parametrage base'!$Y:$Y,0)),"") | AD8: =IFERROR(INDEX('Parametrage base'!$Z:$Z,MATCH($U8,'Parametrage base'!$AB:$AB,0)),"") | AE8: =IFERROR(INDEX('Parametrage base'!$AC:$AC,MATCH($U8,'Parametrage base'!$AE:$AE,0)),"") | AF8: =IFERROR(INDEX('Parametrage base'!$AF:$AF,MATCH($U8,'Parametrage base'!$AH:$AH,0)),"") -> PFMP MCCDR | AG8: =IFERROR(INDEX(Parametrage!D:D,MATCH(V8,Parametrage!F:F,0)),"") | AH8: =IFERROR(INDEX(Parametrage!I:I,MATCH(V8,Parametrage!J:J,0)),"") | AI8: =IFERROR(INDEX(Parametrage!G:G,MATCH(V8,Parametrage!H:H,0)),"") | AJ8: =IFERROR(INDEX(Parametrage!K:K,MATCH(V8,Parametrage!L:L,0)),"") | AM8: Ascension | AN8: =+'Parametrage base'!C25 -> 45064 | AO8: =+'Parametrage base'!C42 -> 45421
A9: =IFERROR(_xlfn.ISOWEEKNUM(B9),"") -> 36 | B9: =IF(B8<>"", IF(MONTH(B8+1)=MONTH($B$3), B8+1, ""),"") -> 45176 | C9: =+IFERROR(INDEX('Parametrage base'!B:B,MATCH(B9,'Parametrage base'!C:C,0)),"") | D9: =IFERROR(INDEX('Parametrage base'!H:H,MATCH(A9,'Parametrage base'!J:J,0)),"") | E9: =IFERROR(INDEX('Parametrage base'!$K:$K,MATCH($A9,'Parametrage base'!$M:$M,0)),"") | F9: =IFERROR(INDEX('Parametrage base'!$N:$N,MATCH($A9,'Parametrage base'!$P:$P,0)),"") | G9: =IFERROR(INDEX('Parametrage base'!$Q:$Q,MATCH($A9,'Parametrage base'!$S:$S,0)),"") | H9: =IFERROR(INDEX('Parametrage base'!$T:$T,MATCH($A9,'Parametrage base'!$V:$V,0)),"") | I9: =IFERROR(INDEX('Parametrage base'!$W:$W,MATCH($A9,'Parametrage base'!$Y:$Y,0)),"") | J9: =IFERROR(INDEX('Parametrage base'!$Z:$Z,MATCH($A9,'Parametrage base'!$AB:$AB,0)),"") -> PFMP Tpro1 | K9: =IFERROR(INDEX('Parametrage base'!$AC:$AC,MATCH($A9,'Parametrage base'!$AE:$AE,0)),"") -> PFMP Tpro2 | L9: =IFERROR(INDEX('Parametrage base'!$AF:$AF,MATCH($A9,'Parametrage base'!$AH:$AH,0)),"") | M9: =IFERROR(INDEX(Parametrage!D:D,MATCH(B9,Parametrage!F:F,0)),"") | N9: =IFERROR(INDEX(Parametrage!I:I,MATCH(B9,Parametrage!J:J,0)),"") | O9: =IFERROR(INDEX(Parametrage!G:G,MATCH(B9,Parametrage!H:H,0)),"") | P9: =IFERROR(INDEX(Parametrage!K:K,MATCH(B9,Parametrage!L:L,0)),"") | U9: =IFERROR(_xlfn.ISOWEEKNUM(V9),"") -> 40 | V9: =IF(V8<>"", IF(MONTH(V8+1)=MONTH($V$3), V8+1, ""),"") -> 45206 | W9: =+IFERROR(INDEX('Parametrage base'!B:B,MATCH(V9,'Parametrage base'!C:C,0)),"") | X9: =IFERROR(INDEX('Parametrage base'!$H:$H,MATCH(U9,'Parametrage base'!$J:$J,0)),"") | Y9: =IFERROR(INDEX('Parametrage base'!$K:$K,MATCH($U9,'Parametrage base'!$M:$M,0)),"") | Z9: =IFERROR(INDEX('Parametrage base'!$N:$N,MATCH($U9,'Parametrage base'!$P:$P,0)),"") | AA9: =IFERROR(INDEX('Parametrage base'!$Q:$Q,MATCH($U9,'Parametrage base'!$S:$S,0)),"") | AB9: =IFERROR(INDEX('Parametrage base'!$T:$T,MATCH($U9,'Parametrage base'!$V:$V,0)),"") | AC9: =IFERROR(INDEX('Parametrage base'!$W:$W,MATCH($U9,'Parametrage base'!$Y:$Y,0)),"") | AD9: =IFERROR(INDEX('Parametrage base'!$Z:$Z,MATCH($U9,'Parametrage base'!$AB:$AB,0)),"") | AE9: =IFERROR(INDEX('Parametrage base'!$AC:$AC,MATCH($U9,'Parametrage base'!$AE:$AE,0)),"") | AF9: =IFERROR(INDEX('Parametrage base'!$AF:$AF,MATCH($U9,'Parametrage base'!$AH:$AH,0)),"") -> PFMP MCCDR | AG9: =IFERROR(INDEX(Parametrage!D:D,MATCH(V9,Parametrage!F:F,0)),"") | AH9: =IFERROR(INDEX(Parametrage!I:I,MATCH(V9,Parametrage!J:J,0)),"") | AI9: =IFERROR(INDEX(Parametrage!G:G,MATCH(V9,Parametrage!H:H,0)),"") | AJ9: =IFERROR(INDEX(Parametrage!K:K,MATCH(V9,Parametrage!L:L,0)),"") | AM9: Pentecôte | AN9: =+'Parametrage base'!C26 -> 45074 | AO9: =+'Parametrage base'!C43 -> 45431
A10: =IFERROR(_xlfn.ISOWEEKNUM(B10),"") -> 36 | B10: =IF(B9<>"", IF(MONTH(B9+1)=MONTH($B$3), B9+1, ""),"") -> 45177 | C10: =+IFERROR(INDEX('Parametrage base'!B:B,MATCH(B10,'Parametrage base'!C:C,0)),"") | D10: =IFERROR(INDEX('Parametrage base'!H:H,MATCH(A10,'Parametrage base'!J:J,0)),"") | E10: =IFERROR(INDEX('Parametrage base'!$K:$K,MATCH($A10,'Parametrage base'!$M:$M,0)),"") | F10: =IFERROR(INDEX('Parametrage base'!$N:$N,MATCH($A10,'Parametrage base'!$P:$P,0)),"") | G10: =IFERROR(INDEX('Parametrage base'!$Q:$Q,MATCH($A10,'Parametrage base'!$S:$S,0)),"") | H10: =IFERROR(INDEX('Parametrage base'!$T:$T,MATCH($A10,'Parametrage base'!$V:$V,0)),"") | I10: =IFERROR(INDEX('Parametrage base'!$W:$W,MATCH($A10,'Parametrage base'!$Y:$Y,0)),"") | J10: =IFERROR(INDEX('Parametrage base'!$Z:$Z,MATCH($A10,'Parametrage base'!$AB:$AB,0)),"") -> PFMP Tpro1 | K10: =IFERROR(INDEX('Parametrage base'!$AC:$AC,MATCH($A10,'Parametrage base'!$AE:$AE,0)),"") -> PFMP Tpro2 | L10: =IFERROR(INDEX('Parametrage base'!$AF:$AF,MATCH($A10,'Parametrage base'!$AH:$AH,0)),"") | M10: =IFERROR(INDEX(Parametrage!D:D,MATCH(B10,Parametrage!F:F,0)),"") | N10: =IFERROR(INDEX(Parametrage!I:I,MATCH(B10,Parametrage!J:J,0)),"") | O10: =IFERROR(INDEX(Parametrage!G:G,MATCH(B10,Parametrage!H:H,0)),"") | P10: =IFERROR(INDEX(Parametrage!K:K,MATCH(B10,Parametrage!L:L,0)),"") | U10: =IFERROR(_xlfn.ISOWEEKNUM(V10),"") -> 40 | V10: =IF(V9<>"", IF(MONTH(V9+1)=MONTH($V$3), V9+1, ""),"") -> 45207 | W10: =+IFERROR(INDEX('Parametrage base'!B:B,MATCH(V10,'Parametrage base'!C:C,0)),"") | X10: =IFERROR(INDEX('Parametrage base'!$H:$H,MATCH(U10,'Parametrage base'!$J:$J,0)),"") | Y10: =IFERROR(INDEX('Parametrage base'!$K:$K,MATCH($U10,'Parametrage base'!$M:$M,0)),"") | Z10: =IFERROR(INDEX('Parametrage base'!$N:$N,MATCH($U10,'Parametrage base'!$P:$P,0)),"") | AA10: =IFERROR(INDEX('Parametrage base'!$Q:$Q,MATCH($U10,'Parametrage base'!$S:$S,0)),"") | AB10: =IFERROR(INDEX('Parametrage base'!$T:$T,MATCH($U10,'Parametrage base'!$V:$V,0)),"") | AC10: =IFERROR(INDEX('Parametrage base'!$W:$W,MATCH($U10,'Parametrage base'!$Y:$Y,0)),"") | AD10: =IFERROR(INDEX('Parametrage base'!$Z:$Z,MATCH($U10,'Parametrage base'!$AB:$AB,0)),"") | AE10: =IFERROR(INDEX('Parametrage base'!$AC:$AC,MATCH($U10,'Parametrage base'!$AE:$AE,0)),"") | AF10: =IFERROR(INDEX('Parametrage base'!$AF:$AF,MATCH($U10,'Parametrage base'!$AH:$AH,0)),"") -> PFMP MCCDR | AG10: =IFERROR(INDEX(Parametrage!D:D,MATCH(V10,Parametrage!F:F,0)),"") | AH10: =IFERROR(INDEX(Parametrage!I:I,MATCH(V10,Parametrage!J:J,0)),"") | AI10: =IFERROR(INDEX(Parametrage!G:G,MATCH(V10,Parametrage!H:H,0)),"") | AJ10: =IFERROR(INDEX(Parametrage!K:K,MATCH(V10,Parametrage!L:L,0)),"") | AM10: Lundi de Pentecôte | AN10: =+'Parametrage base'!C27 -> 45075 | AO10: =+'Parametrage base'!C44 -> 45432
