Workbook

Sheet Résultats
H3: O B S T A C L E Jeux simples
A8: Date | D8: Condition de jeu : partants > 12 | O8: Cote du favori : > 3/1 | U8: Choix des chevaux à jouer : 10 premiers du prono GENY + compléter éventuellement avec le prono ZETURF
A10: JANVIER | D10: Nb | G10: Rapports GENY | I10: Rapports ZETURF | K10: Rapports PMU | M10: Rapports LETURF | P10: Bilan GENY | U10: Bilan ZETURF | Z10: Bilan PMU | AE10: Bilan LETURF | AJ10: Bilan Total GENY + ZETURF +PMU + LETURF | AQ10: Bilan Total Gagnant / Placé
A11: 2012 | C11: Hip | D11: Part | E11: Mise | G11: Gagn | H11: Plac | I11: Gagn | J11: Plac | K11: Gagn | L11: Plac | M11: Gagn | N11: Plac | P11: Gagn | Q11: Ga cumul | R11: Plac | S11: Pla cumul | U11: Gagn | V11: Ga cumul | W11: Plac | X11: Pla cumul | Z11: Gagn | AA11: Ga cumul | AB11: Plac | AC11: Pla cumul | AE11: Gagn | AF11: Ga cumul | AG11: Plac | AH11: Pla cumul | AJ11: Gagn / crs | AK11: Ga G+Z+P+L | AL11: Plac / crs | AM11: Pla G+Z+P+L | AN11: Ga-Pl / crs | AO11: G / P G+Z+P+L | AQ11: GENY | AR11: GEN total | AS11: ZETURF | AT11: ZET total | AU11: PMU | AV11: PMU total | AW11: LETURF | AX11: LETURF tot | AY11: G+Z+P+L | AZ11: G+Z+P+L tot
A13: Dim | B13: 40909 | C13: Pau | D13: 16 | E13: =IF(D13>0,10,0) -> 10 | G13: 10.5 | H13: 10.1 | I13: 8.5 | J13: 10.7 | K13: 10.9 | L13: 10.1 | M13: 8.2 | N13: 15 | P13: =IF($D13>0,G13-$E13,0) -> 0.5 | Q13: =IF($D13>0,P13+Q12,P13) -> 0.5 | R13: =IF($D13>0,H13-$E13,0) -> 0.1 | S13: =IF($D13>0,R13+S12,R13) -> 0.1 | U13: =IF($D13>0,I13-$E13,0) -> -1.5 | V13: =IF($D13>0,U13+V12,U13) -> -1.5 | W13: =IF($D13>0,J13-$E13,0) -> 0.7 | X13: =IF($D13>0,W13+X12,W13) -> 0.7 | Z13: =IF($D13>0,K13-$E13,0) -> 0.9 | AA13: =IF($D13>0,Z13+AA12,Z13) -> 0.9 | AB13: =IF($D13>0,L13-$E13,0) -> 0.1 | AC13: =IF($D13>0,AB13+AC12,AB13) -> 0.1 | AE13: =IF($D13>0,M13-$E13,0) -> -1.8 | AF13: =IF($D13>0,AE13+AF12,AE13) -> -1.8 | AG13: =IF($D13>0,N13-$E13,0) -> 5 | AH13: =IF($D13>0,AG13+AH12,AG13) -> 5 | AJ13: =P13+U13+Z13+AE13 -> -1.9 | AK13: =IF($D13>0,AJ13+AK12,AJ13) -> -1.9 | AL13: =R13+W13+AB13+AG13 -> 5.9 | AM13: =IF($D13>0,AL13+AM12,AL13) -> 5.9 | AN13: =AJ13+AL13 -> 4 | AO13: =IF($D13>0,AN13+AO12,AN13) -> 4 | AQ13: =P13+R13 -> 0.6 | AR13: =IF($D13>0,AQ13+AR12,AQ13) -> 0.6 | AS13: =U13+W13 -> -0.8 | AT13: =IF($D13>0,AS13+AT12,AS13) -> -0.8 | AU13: =Z13+AB13 -> 1 | AV13: =IF($D13>0,AU13+AV12,AU13) -> 1 | AW13: =AE13+AG13 -> 3.2 | AX13: =IF($D13>0,AW13+AX12,AW13) -> 3.2 | AY13: =AQ13+AS13 -> -0.2 | AZ13: =IF($D13>0,AY13+AZ12,AY13) -> -0.2
D14: 18 | E14: =IF(D14>0,10,0) -> 10 | G14: 21.5 | H14: 14.2 | I14: 19 | J14: 13.3 | K14: 18.9 | L14: 17.9 | M14: 18.2 | N14: 23.2 | P14: =IF($D14>0,G14-$E14,0) -> 11.5 | Q14: =IF($D14>0,P14+Q13,P14) -> 12 | R14: =IF($D14>0,H14-$E14,0) -> 4.2 | S14: =IF($D14>0,R14+S13,R14) -> 4.3 | U14: =IF($D14>0,I14-$E14,0) -> 9 | V14: =IF($D14>0,U14+V13,U14) -> 7.5 | W14: =IF($D14>0,J14-$E14,0) -> 3.3 | X14: =IF($D14>0,W14+X13,W14) -> 4 | Z14: =IF($D14>0,K14-$E14,0) -> 8.9 | AA14: =IF($D14>0,Z14+AA13,Z14) -> 9.8 | AB14: =IF($D14>0,L14-$E14,0) -> 7.9 | AC14: =IF($D14>0,AB14+AC13,AB14) -> 8 | AE14: =IF($D14>0,M14-$E14,0) -> 8.2 | AF14: =IF($D14>0,AE14+AF13,AE14) -> 6.4 | AG14: =IF($D14>0,N14-$E14,0) -> 13.2 | AH14: =IF($D14>0,AG14+AH13,AG14) -> 18.2 | AJ14: =P14+U14+Z14+AE14 -> 37.6 | AK14: =IF($D14>0,AJ14+AK13,AJ14) -> 35.7 | AL14: =R14+W14+AB14+AG14 -> 28.6 | AM14: =IF($D14>0,AL14+AM13,AL14) -> 34.5 | AN14: =AJ14+AL14 -> 66.2 | AO14: =IF($D14>0,AN14+AO13,AN14) -> 70.2 | AQ14: =P14+R14 -> 15.7 | AR14: =IF($D14>0,AQ14+AR13,AQ14) -> 16.3 | AS14: =U14+W14 -> 12.3 | AT14: =IF($D14>0,AS14+AT13,AS14) -> 11.5 | AU14: =Z14+AB14 -> 16.8 | AV14: =IF($D14>0,AU14+AV13,AU14) -> 17.8 | AW14: =AE14+AG14 -> 21.4 | AX14: =IF($D14>0,AW14+AX13,AW14) -> 24.6 | AY14: =AQ14+AS14 -> 28 | AZ14: =IF($D14>0,AY14+AZ13,AY14) -> 27.8
E15: =IF(D15>0,10,0) -> 0 | P15: =IF($D15>0,G15-$E15,0) -> 0 | Q15: =IF($D15>0,P15+Q14,P15) -> 0 | R15: =IF($D15>0,H15-$E15,0) -> 0 | S15: =IF($D15>0,R15+S14,R15) -> 0 | U15: =IF($D15>0,I15-$E15,0) -> 0 | V15: =IF($D15>0,U15+V14,U15) -> 0 | W15: =IF($D15>0,J15-$E15,0) -> 0 | X15: =IF($D15>0,W15+X14,W15) -> 0 | Z15: =IF($D15>0,K15-$E15,0) -> 0 | AA15: =IF($D15>0,Z15+AA14,Z15) -> 0 | AB15: =IF($D15>0,L15-$E15,0) -> 0 | AC15: =IF($D15>0,AB15+AC14,AB15) -> 0 | AE15: =IF($D15>0,M15-$E15,0) -> 0 | AF15: =IF($D15>0,AE15+AF14,AE15) -> 0 | AG15: =IF($D15>0,N15-$E15,0) -> 0 | AH15: =IF($D15>0,AG15+AH14,AG15) -> 0 | AJ15: =P15+U15+Z15+AE15 -> 0 | AK15: =IF($D15>0,AJ15+AK14,AJ15) -> 0 | AL15: =R15+W15+AB15+AG15 -> 0 | AM15: =IF($D15>0,AL15+AM14,AL15) -> 0 | AN15: =AJ15+AL15 -> 0 | AO15: =IF($D15>0,AN15+AO14,AN15) -> 0 | AQ15: =P15+R15 -> 0 | AR15: =IF($D15>0,AQ15+AR14,AQ15) -> 0 | AS15: =U15+W15 -> 0 | AT15: =IF($D15>0,AS15+AT14,AS15) -> 0 | AU15: =Z15+AB15 -> 0 | AV15: =IF($D15>0,AU15+AV14,AU15) -> 0 | AW15: =AE15+AG15 -> 0 | AX15: =IF($D15>0,AW15+AX14,AW15) -> 0 | AY15: =AQ15+AS15 -> 0 | AZ15: =IF($D15>0,AY15+AZ14,AY15) -> 0
A16: Mar | B16: 40911 | C16: Pau | D16: 16 | E16: =IF(D16>0,10,0) -> 10 | G16: 3 | H16: 8 | I16: 3 | J16: 9.8 | K16: 3 | L16: 11.6 | M16: 2.8 | N16: 6.8 | P16: =IF($D16>0,G16-$E16,0) -> -7 | Q16: =IF($D16>0,P16+Q15,P16) -> -7 | R16: =IF($D16>0,H16-$E16,0) -> -2 | S16: =IF($D16>0,R16+S15,R16) -> -2 | U16: =IF($D16>0,I16-$E16,0) -> -7 | V16: =IF($D16>0,U16+V15,U16) -> -7 | W16: =IF($D16>0,J16-$E16,0) -> -0.2 | X16: =IF($D16>0,W16+X15,W16) -> -0.2 | Z16: =IF($D16>0,K16-$E16,0) -> -7 | AA16: =IF($D16>0,Z16+AA15,Z16) -> -7 | AB16: =IF($D16>0,L16-$E16,0) -> 1.6 | AC16: =IF($D16>0,AB16+AC15,AB16) -> 1.6 | AE16: =IF($D16>0,M16-$E16,0) -> -7.2 | AF16: =IF($D16>0,AE16+AF15,AE16) -> -7.2 | AG16: =IF($D16>0,N16-$E16,0) -> -3.2 | AH16: =IF($D16>0,AG16+AH15,AG16) -> -3.2 | AJ16: =P16+U16+Z16+AE16 -> -28.2 | AK16: =IF($D16>0,AJ16+AK15,AJ16) -> -28.2 | AL16: =R16+W16+AB16+AG16 -> -3.8 | AM16: =IF($D16>0,AL16+AM15,AL16) -> -3.8 | AN16: =AJ16+AL16 -> -32 | AO16: =IF($D16>0,AN16+AO15,AN16) -> -32 | AQ16: =P16+R16 -> -9 | AR16: =IF($D16>0,AQ16+AR15,AQ16) -> -9 | AS16: =U16+W16 -> -7.2 | AT16: =IF($D16>0,AS16+AT15,AS16) -> -7.2 | AU16: =Z16+AB16 -> -5.4 | AV16: =IF($D16>0,AU16+AV15,AU16) -> -5.4 | AW16: =AE16+AG16 -> -10.4 | AX16: =IF($D16>0,AW16+AX15,AW16) -> -10.4 | AY16: =AQ16+AS16 -> -16.2 | AZ16: =IF($D16>0,AY16+AZ15,AY16) -> -16.2
D17: 18 | E17: =IF(D17>0,10,0) -> 10 | H17: 10.2 | J17: 15.7 | L17: 12.1 | N17: 14.6 | P17: =IF($D17>0,G17-$E17,0) -> -10 | Q17: =IF($D17>0,P17+Q16,P17) -> -17 | R17: =IF($D17>0,H17-$E17,0) -> 0.2 | S17: =IF($D17>0,R17+S16,R17) -> -1.8 | U17: =IF($D17>0,I17-$E17,0) -> -10 | V17: =IF($D17>0,U17+V16,U17) -> -17 | W17: =IF($D17>0,J17-$E17,0) -> 5.7 | X17: =IF($D17>0,W17+X16,W17) -> 5.5 | Z17: =IF($D17>0,K17-$E17,0) -> -10 | AA17: =IF($D17>0,Z17+AA16,Z17) -> -17 | AB17: =IF($D17>0,L17-$E17,0) -> 2.1 | AC17: =IF($D17>0,AB17+AC16,AB17) -> 3.7 | AE17: =IF($D17>0,M17-$E17,0) -> -10 | AF17: =IF($D17>0,AE17+AF16,AE17) -> -17.2 | AG17: =IF($D17>0,N17-$E17,0) -> 4.6 | AH17: =IF($D17>0,AG17+AH16,AG17) -> 1.4 | AJ17: =P17+U17+Z17+AE17 -> -40 | AK17: =IF($D17>0,AJ17+AK16,AJ17) -> -68.2 | AL17: =R17+W17+AB17+AG17 -> 12.6 | AM17: =IF($D17>0,AL17+AM16,AL17) -> 8.8 | AN17: =AJ17+AL17 -> -27.4 | AO17: =IF($D17>0,AN17+AO16,AN17) -> -59.4 | AQ17: =P17+R17 -> -9.8 | AR17: =IF($D17>0,AQ17+AR16,AQ17) -> -18.8 | AS17: =U17+W17 -> -4.3 | AT17: =IF($D17>0,AS17+AT16,AS17) -> -11.5 | AU17: =Z17+AB17 -> -7.9 | AV17: =IF($D17>0,AU17+AV16,AU17) -> -13.3 | AW17: =AE17+AG17 -> -5.4 | AX17: =IF($D17>0,AW17+AX16,AW17) -> -15.8 | AY17: =AQ17+AS17 -> -14.1 | AZ17: =IF($D17>0,AY17+AZ16,AY17) -> -30.3
E18: =IF(D18>0,10,0) -> 0 | P18: =IF($D18>0,G18-$E18,0) -> 0 | Q18: =IF($D18>0,P18+Q17,P18) -> 0 | R18: =IF($D18>0,H18-$E18,0) -> 0 | S18: =IF($D18>0,R18+S17,R18) -> 0 | U18: =IF($D18>0,I18-$E18,0) -> 0 | V18: =IF($D18>0,U18+V17,U18) -> 0 | W18: =IF($D18>0,J18-$E18,0) -> 0 | X18: =IF($D18>0,W18+X17,W18) -> 0 | Z18: =IF($D18>0,K18-$E18,0) -> 0 | AA18: =IF($D18>0,Z18+AA17,Z18) -> 0 | AB18: =IF($D18>0,L18-$E18,0) -> 0 | AC18: =IF($D18>0,AB18+AC17,AB18) -> 0 | AE18: =IF($D18>0,M18-$E18,0) -> 0 | AF18: =IF($D18>0,AE18+AF17,AE18) -> 0 | AG18: =IF($D18>0,N18-$E18,0) -> 0 | AH18: =IF($D18>0,AG18+AH17,AG18) -> 0 | AJ18: =P18+U18+Z18+AE18 -> 0 | AK18: =IF($D18>0,AJ18+AK17,AJ18) -> 0 | AL18: =R18+W18+AB18+AG18 -> 0 | AM18: =IF($D18>0,AL18+AM17,AL18) -> 0 | AN18: =AJ18+AL18 -> 0 | AO18: =IF($D18>0,AN18+AO17,AN18) -> 0 | AQ18: =P18+R18 -> 0 | AR18: =IF($D18>0,AQ18+AR17,AQ18) -> 0 | AS18: =U18+W18 -> 0 | AT18: =IF($D18>0,AS18+AT17,AS18) -> 0 | AU18: =Z18+AB18 -> 0 | AV18: =IF($D18>0,AU18+AV17,AU18) -> 0 | AW18: =AE18+AG18 -> 0 | AX18: =IF($D18>0,AW18+AX17,AW18) -> 0 | AY18: =AQ18+AS18 -> 0 | AZ18: =IF($D18>0,AY18+AZ17,AY18) -> 0
A19: Mer | B19: 40912 | C19: C / M | D19: 14 | E19: =IF(D19>0,10,0) -> 10 | G19: 6.5 | H19: 11.6 | I19: 8.6 | J19: 15.1 | K19: 6 | L19: 18.4 | M19: 8.4 | N19: 15.5 | P19: =IF($D19>0,G19-$E19,0) -> -3.5 | Q19: =IF($D19>0,P19+Q18,P19) -> -3.5 | R19: =IF($D19>0,H19-$E19,0) -> 1.6 | S19: =IF($D19>0,R19+S18,R19) -> 1.6 | U19: =IF($D19>0,I19-$E19,0) -> -1.4 | V19: =IF($D19>0,U19+V18,U19) -> -1.4 | W19: =IF($D19>0,J19-$E19,0) -> 5.1 | X19: =IF($D19>0,W19+X18,W19) -> 5.1 | Z19: =IF($D19>0,K19-$E19,0) -> -4 | AA19: =IF($D19>0,Z19+AA18,Z19) -> -4 | AB19: =IF($D19>0,L19-$E19,0) -> 8.4 | AC19: =IF($D19>0,AB19+AC18,AB19) -> 8.4 | AE19: =IF($D19>0,M19-$E19,0) -> -1.6 | AF19: =IF($D19>0,AE19+AF18,AE19) -> -1.6 | AG19: =IF($D19>0,N19-$E19,0) -> 5.5 | AH19: =IF($D19>0,AG19+AH18,AG19) -> 5.5 | AJ19: =P19+U19+Z19+AE19 -> -10.5 | AK19: =IF($D19>0,AJ19+AK18,AJ19) -> -10.5 | AL19: =R19+W19+AB19+AG19 -> 20.6 | AM19: =IF($D19>0,AL19+AM18,AL19) -> 20.6 | AN19: =AJ19+AL19 -> 10.1 | AO19: =IF($D19>0,AN19+AO18,AN19) -> 10.1 | AQ19: =P19+R19 -> -1.9 | AR19: =IF($D19>0,AQ19+AR18,AQ19) -> -1.9 | AS19: =U19+W19 -> 3.7 | AT19: =IF($D19>0,AS19+AT18,AS19) -> 3.7 | AU19: =Z19+AB19 -> 4.4 | AV19: =IF($D19>0,AU19+AV18,AU19) -> 4.4 | AW19: =AE19+AG19 -> 3.9 | AX19: =IF($D19>0,AW19+AX18,AW19) -> 3.9 | AY19: =AQ19+AS19 -> 1.8 | AZ19: =IF($D19>0,AY19+AZ18,AY19) -> 1.8
D20: 14 | E20: =IF(D20>0,10,0) -> 10 | G20: 8.5 | H20: 9.7 | I20: 8.4 | J20: 11.4 | K20: 6.4 | L20: 9.9 | M20: 8.1 | N20: 11.1 | P20: =IF($D20>0,G20-$E20,0) -> -1.5 | Q20: =IF($D20>0,P20+Q19,P20) -> -5 | R20: =IF($D20>0,H20-$E20,0) -> -0.3 | S20: =IF($D20>0,R20+S19,R20) -> 1.3 | U20: =IF($D20>0,I20-$E20,0) -> -1.6 | V20: =IF($D20>0,U20+V19,U20) -> -3 | W20: =IF($D20>0,J20-$E20,0) -> 1.4 | X20: =IF($D20>0,W20+X19,W20) -> 6.5 | Z20: =IF($D20>0,K20-$E20,0) -> -3.6 | AA20: =IF($D20>0,Z20+AA19,Z20) -> -7.6 | AB20: =IF($D20>0,L20-$E20,0) -> -0.1 | AC20: =IF($D20>0,AB20+AC19,AB20) -> 8.3 | AE20: =IF($D20>0,M20-$E20,0) -> -1.9 | AF20: =IF($D20>0,AE20+AF19,AE20) -> -3.5 | AG20: =IF($D20>0,N20-$E20,0) -> 1.1 | AH20: =IF($D20>0,AG20+AH19,AG20) -> 6.6 | AJ20: =P20+U20+Z20+AE20 -> -8.6 | AK20: =IF($D20>0,AJ20+AK19,AJ20) -> -19.1 | AL20: =R20+W20+AB20+AG20 -> 2.1 | AM20: =IF($D20>0,AL20+AM19,AL20) -> 22.7 | AN20: =AJ20+AL20 -> -6.5 | AO20: =IF($D20>0,AN20+AO19,AN20) -> 3.6 | AQ20: =P20+R20 -> -1.8 | AR20: =IF($D20>0,AQ20+AR19,AQ20) -> -3.7 | AS20: =U20+W20 -> -0.2 | AT20: =IF($D20>0,AS20+AT19,AS20) -> 3.5 | AU20: =Z20+AB20 -> -3.7 | AV20: =IF($D20>0,AU20+AV19,AU20) -> 0.7 | AW20: =AE20+AG20 -> -0.8 | AX20: =IF($D20>0,AW20+AX19,AW20) -> 3.1 | AY20: =AQ20+AS20 -> -2 | AZ20: =IF($D20>0,AY20+AZ19,AY20) -> -0.2
D21: 14 | E21: =IF(D21>0,10,0) -> 10 | G21: 4.7 | H21: 8.7 | I21: 4.2 | J21: 11.2 | K21: 3.8 | L21: 11 | M21: 4 | N21: 11 | P21: =IF($D21>0,G21-$E21,0) -> -5.3 | Q21: =IF($D21>0,P21+Q20,P21) -> -10.3 | R21: =IF($D21>0,H21-$E21,0) -> -1.3 | S21: =IF($D21>0,R21+S20,R21) -> -1.7763568e-15 | U21: =IF($D21>0,I21-$E21,0) -> -5.8 | V21: =IF($D21>0,U21+V20,U21) -> -8.8 | W21: =IF($D21>0,J21-$E21,0) -> 1.2 | X21: =IF($D21>0,W21+X20,W21) -> 7.7 | Z21: =IF($D21>0,K21-$E21,0) -> -6.2 | AA21: =IF($D21>0,Z21+AA20,Z21) -> -13.8 | AB21: =IF($D21>0,L21-$E21,0) -> 1 | AC21: =IF($D21>0,AB21+AC20,AB21) -> 9.3 | AE21: =IF($D21>0,M21-$E21,0) -> -6 | AF21: =IF($D21>0,AE21+AF20,AE21) -> -9.5 | AG21: =IF($D21>0,N21-$E21,0) -> 1 | AH21: =IF($D21>0,AG21+AH20,AG21) -> 7.6 | AJ21: =P21+U21+Z21+AE21 -> -23.3 | AK21: =IF($D21>0,AJ21+AK20,AJ21) -> -42.4 | AL21: =R21+W21+AB21+AG21 -> 1.9 | AM21: =IF($D21>0,AL21+AM20,AL21) -> 24.6 | AN21: =AJ21+AL21 -> -21.4 | AO21: =IF($D21>0,AN21+AO20,AN21) -> -17.8 | AQ21: =P21+R21 -> -6.6 | AR21: =IF($D21>0,AQ21+AR20,AQ21) -> -10.3 | AS21: =U21+W21 -> -4.6 | AT21: =IF($D21>0,AS21+AT20,AS21) -> -1.1 | AU21: =Z21+AB21 -> -5.2 | AV21: =IF($D21>0,AU21+AV20,AU21) -> -4.5 | AW21: =AE21+AG21 -> -5 | AX21: =IF($D21>0,AW21+AX20,AW21) -> -1.9 | AY21: =AQ21+AS21 -> -11.2 | AZ21: =IF($D21>0,AY21+AZ20,AY21) -> -11.4
E22: =IF(D22>0,10,0) -> 0 | P22: =IF($D22>0,G22-$E22,0) -> 0 | Q22: =IF($D22>0,P22+Q21,P22) -> 0 | R22: =IF($D22>0,H22-$E22,0) -> 0 | S22: =IF($D22>0,R22+S21,R22) -> 0 | U22: =IF($D22>0,I22-$E22,0) -> 0 | V22: =IF($D22>0,U22+V21,U22) -> 0 | W22: =IF($D22>0,J22-$E22,0) -> 0 | X22: =IF($D22>0,W22+X21,W22) -> 0 | Z22: =IF($D22>0,K22-$E22,0) -> 0 | AA22: =IF($D22>0,Z22+AA21,Z22) -> 0 | AB22: =IF($D22>0,L22-$E22,0) -> 0 | AC22: =IF($D22>0,AB22+AC21,AB22) -> 0 | AE22: =IF($D22>0,M22-$E22,0) -> 0 | AF22: =IF($D22>0,AE22+AF21,AE22) -> 0 | AG22: =IF($D22>0,N22-$E22,0) -> 0 | AH22: =IF($D22>0,AG22+AH21,AG22) -> 0 | AJ22: =P22+U22+Z22+AE22 -> 0 | AK22: =IF($D22>0,AJ22+AK21,AJ22) -> 0 | AL22: =R22+W22+AB22+AG22 -> 0 | AM22: =IF($D22>0,AL22+AM21,AL22) -> 0 | AN22: =AJ22+AL22 -> 0 | AO22: =IF($D22>0,AN22+AO21,AN22) -> 0 | AQ22: =P22+R22 -> 0 | AR22: =IF($D22>0,AQ22+AR21,AQ22) -> 0 | AS22: =U22+W22 -> 0 | AT22: =IF($D22>0,AS22+AT21,AS22) -> 0 | AU22: =Z22+AB22 -> 0 | AV22: =IF($D22>0,AU22+AV21,AU22) -> 0 | AW22: =AE22+AG22 -> 0 | AX22: =IF($D22>0,AW22+AX21,AW22) -> 0 | AY22: =AQ22+AS22 -> 0 | AZ22: =IF($D22>0,AY22+AZ21,AY22) -> 0
A23: Jeu | B23: 40913 | C23: Pau | D23: 18 | E23: =IF(D23>0,10,0) -> 10 | G23: 10 | H23: 20.8 | I23: 11.2 | J23: 23 | K23: 9.8 | L23: 26.1 | M23: 10.7 | N23: 17.7 | P23: =IF($D23>0,G23-$E23,0) -> 0 | Q23: =IF($D23>0,P23+Q22,P23) -> 0 | R23: =IF($D23>0,H23-$E23,0) -> 10.8 | S23: =IF($D23>0,R23+S22,R23) -> 10.8 | U23: =IF($D23>0,I23-$E23,0) -> 1.2 | V23: =IF($D23>0,U23+V22,U23) -> 1.2 | W23: =IF($D23>0,J23-$E23,0) -> 13 | X23: =IF($D23>0,W23+X22,W23) -> 13 | Z23: =IF($D23>0,K23-$E23,0) -> -0.2 | AA23: =IF($D23>0,Z23+AA22,Z23) -> -0.2 | AB23: =IF($D23>0,L23-$E23,0) -> 16.1 | AC23: =IF($D23>0,AB23+AC22,AB23) -> 16.1 | AE23: =IF($D23>0,M23-$E23,0) -> 0.7 | AF23: =IF($D23>0,AE23+AF22,AE23) -> 0.7 | AG23: =IF($D23>0,N23-$E23,0) -> 7.7 | AH23: =IF($D23>0,AG23+AH22,AG23) -> 7.7 | AJ23: =P23+U23+Z23+AE23 -> 1.7 | AK23: =IF($D23>0,AJ23+AK22,AJ23) -> 1.7 | AL23: =R23+W23+AB23+AG23 -> 47.6 | AM23: =IF($D23>0,AL23+AM22,AL23) -> 47.6 | AN23: =AJ23+AL23 -> 49.3 | AO23: =IF($D23>0,AN23+AO22,AN23) -> 49.3 | AQ23: =P23+R23 -> 10.8 | AR23: =IF($D23>0,AQ23+AR22,AQ23) -> 10.8 | AS23: =U23+W23 -> 14.2 | AT23: =IF($D23>0,AS23+AT22,AS23) -> 14.2 | AU23: =Z23+AB23 -> 15.9 | AV23: =IF($D23>0,AU23+AV22,AU23) -> 15.9 | AW23: =AE23+AG23 -> 8.4 | AX23: =IF($D23>0,AW23+AX22,AW23) -> 8.4 | AY23: =AQ23+AS23 -> 25 | AZ23: =IF($D23>0,AY23+AZ22,AY23) -> 25
E24: =IF(D24>0,10,0) -> 0 | P24: =IF($D24>0,G24-$E24,0) -> 0 | Q24: =IF($D24>0,P24+Q23,P24) -> 0 | R24: =IF($D24>0,H24-$E24,0) -> 0 | S24: =IF($D24>0,R24+S23,R24) -> 0 | U24: =IF($D24>0,I24-$E24,0) -> 0 | V24: =IF($D24>0,U24+V23,U24) -> 0 | W24: =IF($D24>0,J24-$E24,0) -> 0 | X24: =IF($D24>0,W24+X23,W24) -> 0 | Z24: =IF($D24>0,K24-$E24,0) -> 0 | AA24: =IF($D24>0,Z24+AA23,Z24) -> 0 | AB24: =IF($D24>0,L24-$E24,0) -> 0 | AC24: =IF($D24>0,AB24+AC23,AB24) -> 0 | AE24: =IF($D24>0,M24-$E24,0) -> 0 | AF24: =IF($D24>0,AE24+AF23,AE24) -> 0 | AG24: =IF($D24>0,N24-$E24,0) -> 0 | AH24: =IF($D24>0,AG24+AH23,AG24) -> 0 | AJ24: =P24+U24+Z24+AE24 -> 0 | AK24: =IF($D24>0,AJ24+AK23,AJ24) -> 0 | AL24: =R24+W24+AB24+AG24 -> 0 | AM24: =IF($D24>0,AL24+AM23,AL24) -> 0 | AN24: =AJ24+AL24 -> 0 | AO24: =IF($D24>0,AN24+AO23,AN24) -> 0 | AQ24: =P24+R24 -> 0 | AR24: =IF($D24>0,AQ24+AR23,AQ24) -> 0 | AS24: =U24+W24 -> 0 | AT24: =IF($D24>0,AS24+AT23,AS24) -> 0 | AU24: =Z24+AB24 -> 0 | AV24: =IF($D24>0,AU24+AV23,AU24) -> 0 | AW24: =AE24+AG24 -> 0 | AX24: =IF($D24>0,AW24+AX23,AW24) -> 0 | AY24: =AQ24+AS24 -> 0 | AZ24: =IF($D24>0,AY24+AZ23,AY24) -> 0
A25: Dim | B25: 40916 | C25: C / M | D25: 13 | E25: =IF(D25>0,10,0) -> 10 | G25: 6.4 | H25: 5.7 | I25: 6.3 | J25: 5.7 | K25: 6.7 | L25: 6 | M25: 6 | N25: 5.1 | P25: =IF($D25>0,G25-$E25,0) -> -3.6 | Q25: =IF($D25>0,P25+Q24,P25) -> -3.6 | R25: =IF($D25>0,H25-$E25,0) -> -4.3 | S25: =IF($D25>0,R25+S24,R25) -> -4.3 | U25: =IF($D25>0,I25-$E25,0) -> -3.7 | V25: =IF($D25>0,U25+V24,U25) -> -3.7 | W25: =IF($D25>0,J25-$E25,0) -> -4.3 | X25: =IF($D25>0,W25+X24,W25) -> -4.3 | Z25: =IF($D25>0,K25-$E25,0) -> -3.3 | AA25: =IF($D25>0,Z25+AA24,Z25) -> -3.3 | AB25: =IF($D25>0,L25-$E25,0) -> -4 | AC25: =IF($D25>0,AB25+AC24,AB25) -> -4 | AE25: =IF($D25>0,M25-$E25,0) -> -4 | AF25: =IF($D25>0,AE25+AF24,AE25) -> -4 | AG25: =IF($D25>0,N25-$E25,0) -> -4.9 | AH25: =IF($D25>0,AG25+AH24,AG25) -> -4.9 | AJ25: =P25+U25+Z25+AE25 -> -14.6 | AK25: =IF($D25>0,AJ25+AK24,AJ25) -> -14.6 | AL25: =R25+W25+AB25+AG25 -> -17.5 | AM25: =IF($D25>0,AL25+AM24,AL25) -> -17.5 | AN25: =AJ25+AL25 -> -32.1 | AO25: =IF($D25>0,AN25+AO24,AN25) -> -32.1 | AQ25: =P25+R25 -> -7.9 | AR25: =IF($D25>0,AQ25+AR24,AQ25) -> -7.9 | AS25: =U25+W25 -> -8 | AT25: =IF($D25>0,AS25+AT24,AS25) -> -8 | AU25: =Z25+AB25 -> -7.3 | AV25: =IF($D25>0,AU25+AV24,AU25) -> -7.3 | AW25: =AE25+AG25 -> -8.9 | AX25: =IF($D25>0,AW25+AX24,AW25) -> -8.9 | AY25: =AQ25+AS25 -> -15.9 | AZ25: =IF($D25>0,AY25+AZ24,AY25) -> -15.9
D26: 16 | E26: =IF(D26>0,10,0) -> 10 | G26: 14 | H26: 8.2 | I26: 11.9 | J26: 10.5 | K26: 13.6 | L26: 10.8 | M26: 11.5 | N26: 10.4 | P26: =IF($D26>0,G26-$E26,0) -> 4 | Q26: =IF($D26>0,P26+Q25,P26) -> 0.4 | R26: =IF($D26>0,H26-$E26,0) -> -1.8 | S26: =IF($D26>0,R26+S25,R26) -> -6.1 | U26: =IF($D26>0,I26-$E26,0) -> 1.9 | V26: =IF($D26>0,U26+V25,U26) -> -1.8 | W26: =IF($D26>0,J26-$E26,0) -> 0.5 | X26: =IF($D26>0,W26+X25,W26) -> -3.8 | Z26: =IF($D26>0,K26-$E26,0) -> 3.6 | AA26: =IF($D26>0,Z26+AA25,Z26) -> 0.3 | AB26: =IF($D26>0,L26-$E26,0) -> 0.8 | AC26: =IF($D26>0,AB26+AC25,AB26) -> -3.2 | AE26: =IF($D26>0,M26-$E26,0) -> 1.5 | AF26: =IF($D26>0,AE26+AF25,AE26) -> -2.5 | AG26: =IF($D26>0,N26-$E26,0) -> 0.4 | AH26: =IF($D26>0,AG26+AH25,AG26) -> -4.5 | AJ26: =P26+U26+Z26+AE26 -> 11 | AK26: =IF($D26>0,AJ26+AK25,AJ26) -> -3.6 | AL26: =R26+W26+AB26+AG26 -> -0.1 | AM26: =IF($D26>0,AL26+AM25,AL26) -> -17.6 | AN26: =AJ26+AL26 -> 10.9 | AO26: =IF($D26>0,AN26+AO25,AN26) -> -21.2 | AQ26: =P26+R26 -> 2.2 | AR26: =IF($D26>0,AQ26+AR25,AQ26) -> -5.7 | AS26: =U26+W26 -> 2.4 | AT26: =IF($D26>0,AS26+AT25,AS26) -> -5.6 | AU26: =Z26+AB26 -> 4.4 | AV26: =IF($D26>0,AU26+AV25,AU26) -> -2.9 | AW26: =AE26+AG26 -> 1.9 | AX26: =IF($D26>0,AW26+AX25,AW26) -> -7 | AY26: =AQ26+AS26 -> 4.6 | AZ26: =IF($D26>0,AY26+AZ25,AY26) -> -11.3
E27: =IF(D27>0,10,0) -> 0 | P27: =IF($D27>0,G27-$E27,0) -> 0 | Q27: =IF($D27>0,P27+Q26,P27) -> 0 | R27: =IF($D27>0,H27-$E27,0) -> 0 | S27: =IF($D27>0,R27+S26,R27) -> 0 | U27: =IF($D27>0,I27-$E27,0) -> 0 | V27: =IF($D27>0,U27+V26,U27) -> 0 | W27: =IF($D27>0,J27-$E27,0) -> 0 | X27: =IF($D27>0,W27+X26,W27) -> 0 | Z27: =IF($D27>0,K27-$E27,0) -> 0 | AA27: =IF($D27>0,Z27+AA26,Z27) -> 0 | AB27: =IF($D27>0,L27-$E27,0) -> 0 | AC27: =IF($D27>0,AB27+AC26,AB27) -> 0 | AE27: =IF($D27>0,M27-$E27,0) -> 0 | AF27: =IF($D27>0,AE27+AF26,AE27) -> 0 | AG27: =IF($D27>0,N27-$E27,0) -> 0 | AH27: =IF($D27>0,AG27+AH26,AG27) -> 0 | AJ27: =P27+U27+Z27+AE27 -> 0 | AK27: =IF($D27>0,AJ27+AK26,AJ27) -> 0 | AL27: =R27+W27+AB27+AG27 -> 0 | AM27: =IF($D27>0,AL27+AM26,AL27) -> 0 | AN27: =AJ27+AL27 -> 0 | AO27: =IF($D27>0,AN27+AO26,AN27) -> 0 | AQ27: =P27+R27 -> 0 | AR27: =IF($D27>0,AQ27+AR26,AQ27) -> 0 | AS27: =U27+W27 -> 0 | AT27: =IF($D27>0,AS27+AT26,AS27) -> 0 | AU27: =Z27+AB27 -> 0 | AV27: =IF($D27>0,AU27+AV26,AU27) -> 0 | AW27: =AE27+AG27 -> 0 | AX27: =IF($D27>0,AW27+AX26,AW27) -> 0 | AY27: =AQ27+AS27 -> 0 | AZ27: =IF($D27>0,AY27+AZ26,AY27) -> 0
A28: Lun | B28: 40917 | C28: Pau | D28: 15 | E28: =IF(D28>0,10,0) -> 10 | G28: 31.5 | H28: 16 | I28: 30.5 | J28: 14 | K28: 17.4 | L28: 11 | M28: 29.4 | N28: 13.6 | P28: =IF($D28>0,G28-$E28,0) -> 21.5 | Q28: =IF($D28>0,P28+Q27,P28) -> 21.5 | R28: =IF($D28>0,H28-$E28,0) -> 6 | S28: =IF($D28>0,R28+S27,R28) -> 6 | U28: =IF($D28>0,I28-$E28,0) -> 20.5 | V28: =IF($D28>0,U28+V27,U28) -> 20.5 | W28: =IF($D28>0,J28-$E28,0) -> 4 | X28: =IF($D28>0,W28+X27,W28) -> 4 | Z28: =IF($D28>0,K28-$E28,0) -> 7.4 | AA28: =IF($D28>0,Z28+AA27,Z28) -> 7.4 | AB28: =IF($D28>0,L28-$E28,0) -> 1 | AC28: =IF($D28>0,AB28+AC27,AB28) -> 1 | AE28: =IF($D28>0,M28-$E28,0) -> 19.4 | AF28: =IF($D28>0,AE28+AF27,AE28) -> 19.4 | AG28: =IF($D28>0,N28-$E28,0) -> 3.6 | AH28: =IF($D28>0,AG28+AH27,AG28) -> 3.6 | AJ28: =P28+U28+Z28+AE28 -> 68.8 | AK28: =IF($D28>0,AJ28+AK27,AJ28) -> 68.8 | AL28: =R28+W28+AB28+AG28 -> 14.6 | AM28: =IF($D28>0,AL28+AM27,AL28) -> 14.6 | AN28: =AJ28+AL28 -> 83.4 | AO28: =IF($D28>0,AN28+AO27,AN28) -> 83.4 | AQ28: =P28+R28 -> 27.5 | AR28: =IF($D28>0,AQ28+AR27,AQ28) -> 27.5 | AS28: =U28+W28 -> 24.5 | AT28: =IF($D28>0,AS28+AT27,AS28) -> 24.5 | AU28: =Z28+AB28 -> 8.4 | AV28: =IF($D28>0,AU28+AV27,AU28) -> 8.4 | AW28: =AE28+AG28 -> 23 | AX28: =IF($D28>0,AW28+AX27,AW28) -> 23 | AY28: =AQ28+AS28 -> 52 | AZ28: =IF($D28>0,AY28+AZ27,AY28) -> 52
E29: =IF(D29>0,10,0) -> 0 | P29: =IF($D29>0,G29-$E29,0) -> 0 | Q29: =IF($D29>0,P29+Q28,P29) -> 0 | R29: =IF($D29>0,H29-$E29,0) -> 0 | S29: =IF($D29>0,R29+S28,R29) -> 0 | U29: =IF($D29>0,I29-$E29,0) -> 0 | V29: =IF($D29>0,U29+V28,U29) -> 0 | W29: =IF($D29>0,J29-$E29,0) -> 0 | X29: =IF($D29>0,W29+X28,W29) -> 0 | Z29: =IF($D29>0,K29-$E29,0) -> 0 | AA29: =IF($D29>0,Z29+AA28,Z29) -> 0 | AB29: =IF($D29>0,L29-$E29,0) -> 0 | AC29: =IF($D29>0,AB29+AC28,AB29) -> 0 | AE29: =IF($D29>0,M29-$E29,0) -> 0 | AF29: =IF($D29>0,AE29+AF28,AE29) -> 0 | AG29: =IF($D29>0,N29-$E29,0) -> 0 | AH29: =IF($D29>0,AG29+AH28,AG29) -> 0 | AJ29: =P29+U29+Z29+AE29 -> 0 | AK29: =IF($D29>0,AJ29+AK28,AJ29) -> 0 | AL29: =R29+W29+AB29+AG29 -> 0 | AM29: =IF($D29>0,AL29+AM28,AL29) -> 0 | AN29: =AJ29+AL29 -> 0 | AO29: =IF($D29>0,AN29+AO28,AN29) -> 0 | AQ29: =P29+R29 -> 0 | AR29: =IF($D29>0,AQ29+AR28,AQ29) -> 0 | AS29: =U29+W29 -> 0 | AT29: =IF($D29>0,AS29+AT28,AS29) -> 0 | AU29: =Z29+AB29 -> 0 | AV29: =IF($D29>0,AU29+AV28,AU29) -> 0 | AW29: =AE29+AG29 -> 0 | AX29: =IF($D29>0,AW29+AX28,AW29) -> 0 | AY29: =AQ29+AS29 -> 0 | AZ29: =IF($D29>0,AY29+AZ28,AY29) -> 0
A30: Jeu | B30: 40920 | C30: C / M | D30: 14 | E30: =IF(D30>0,10,0) -> 10 | G30: 11.4 | H30: 18.8 | I30: 8.9 | J30: 13.9 | K30: 9.9 | L30: 13.6 | M30: 8.6 | N30: 13.2 | P30: =IF($D30>0,G30-$E30,0) -> 1.4 | Q30: =IF($D30>0,P30+Q29,P30) -> 1.4 | R30: =IF($D30>0,H30-$E30,0) -> 8.8 | S30: =IF($D30>0,R30+S29,R30) -> 8.8 | U30: =IF($D30>0,I30-$E30,0) -> -1.1 | V30: =IF($D30>0,U30+V29,U30) -> -1.1 | W30: =IF($D30>0,J30-$E30,0) -> 3.9 | X30: =IF($D30>0,W30+X29,W30) -> 3.9 | Z30: =IF($D30>0,K30-$E30,0) -> -0.1 | AA30: =IF($D30>0,Z30+AA29,Z30) -> -0.1 | AB30: =IF($D30>0,L30-$E30,0) -> 3.6 | AC30: =IF($D30>0,AB30+AC29,AB30) -> 3.6 | AE30: =IF($D30>0,M30-$E30,0) -> -1.4 | AF30: =IF($D30>0,AE30+AF29,AE30) -> -1.4 | AG30: =IF($D30>0,N30-$E30,0) -> 3.2 | AH30: =IF($D30>0,AG30+AH29,AG30) -> 3.2 | AJ30: =P30+U30+Z30+AE30 -> -1.2 | AK30: =IF($D30>0,AJ30+AK29,AJ30) -> -1.2 | AL30: =R30+W30+AB30+AG30 -> 19.5 | AM30: =IF($D30>0,AL30+AM29,AL30) -> 19.5 | AN30: =AJ30+AL30 -> 18.3 | AO30: =IF($D30>0,AN30+AO29,AN30) -> 18.3 | AQ30: =P30+R30 -> 10.2 | AR30: =IF($D30>0,AQ30+AR29,AQ30) -> 10.2 | AS30: =U30+W30 -> 2.8 | AT30: =IF($D30>0,AS30+AT29,AS30) -> 2.8 | AU30: =Z30+AB30 -> 3.5 | AV30: =IF($D30>0,AU30+AV29,AU30) -> 3.5 | AW30: =AE30+AG30 -> 1.8 | AX30: =IF($D30>0,AW30+AX29,AW30) -> 1.8 | AY30: =AQ30+AS30 -> 13 | AZ30: =IF($D30>0,AY30+AZ29,AY30) -> 13
D31: 14 | E31: =IF(D31>0,10,0) -> 10 | G31: 7.4 | H31: 9.8 | I31: 5.8 | J31: 10 | K31: 7.8 | L31: 9.9 | M31: 5.6 | N31: 9.7 | P31: =IF($D31>0,G31-$E31,0) -> -2.6 | Q31: =IF($D31>0,P31+Q30,P31) -> -1.2 | R31: =IF($D31>0,H31-$E31,0) -> -0.2 | S31: =IF($D31>0,R31+S30,R31) -> 8.6 | U31: =IF($D31>0,I31-$E31,0) -> -4.2 | V31: =IF($D31>0,U31+V30,U31) -> -5.3 | W31: =IF($D31>0,J31-$E31,0) -> 0 | X31: =IF($D31>0,W31+X30,W31) -> 3.9 | Z31: =IF($D31>0,K31-$E31,0) -> -2.2 | AA31: =IF($D31>0,Z31+AA30,Z31) -> -2.3 | AB31: =IF($D31>0,L31-$E31,0) -> -0.1 | AC31: =IF($D31>0,AB31+AC30,AB31) -> 3.5 | AE31: =IF($D31>0,M31-$E31,0) -> -4.4 | AF31: =IF($D31>0,AE31+AF30,AE31) -> -5.8 | AG31: =IF($D31>0,N31-$E31,0) -> -0.3 | AH31: =IF($D31>0,AG31+AH30,AG31) -> 2.9 | AJ31: =P31+U31+Z31+AE31 -> -13.4 | AK31: =IF($D31>0,AJ31+AK30,AJ31) -> -14.6 | AL31: =R31+W31+AB31+AG31 -> -0.6 | AM31: =IF($D31>0,AL31+AM30,AL31) -> 18.9 | AN31: =AJ31+AL31 -> -14 | AO31: =IF($D31>0,AN31+AO30,AN31) -> 4.3 | AQ31: =P31+R31 -> -2.8 | AR31: =IF($D31>0,AQ31+AR30,AQ31) -> 7.4 | AS31: =U31+W31 -> -4.2 | AT31: =IF($D31>0,AS31+AT30,AS31) -> -1.4 | AU31: =Z31+AB31 -> -2.3 | AV31: =IF($D31>0,AU31+AV30,AU31) -> 1.2 | AW31: =AE31+AG31 -> -4.7 | AX31: =IF($D31>0,AW31+AX30,AW31) -> -2.9 | AY31: =AQ31+AS31 -> -7 | AZ31: =IF($D31>0,AY31+AZ30,AY31) -> 6
D32: 16 | E32: =IF(D32>0,10,0) -> 10 | G32: 7.5 | H32: 12.3 | I32: 8.4 | J32: 17.2 | K32: 9.8 | L32: 17.4 | M32: 8.1 | N32: 16.7 | P32: =IF($D32>0,G32-$E32,0) -> -2.5 | Q32: =IF($D32>0,P32+Q31,P32) -> -3.7 | R32: =IF($D32>0,H32-$E32,0) -> 2.3 | S32: =IF($D32>0,R32+S31,R32) -> 10.9 | U32: =IF($D32>0,I32-$E32,0) -> -1.6 | V32: =IF($D32>0,U32+V31,U32) -> -6.9 | W32: =IF($D32>0,J32-$E32,0) -> 7.2 | X32: =IF($D32>0,W32+X31,W32) -> 11.1 | Z32: =IF($D32>0,K32-$E32,0) -> -0.2 | AA32: =IF($D32>0,Z32+AA31,Z32) -> -2.5 | AB32: =IF($D32>0,L32-$E32,0) -> 7.4 | AC32: =IF($D32>0,AB32+AC31,AB32) -> 10.9 | AE32: =IF($D32>0,M32-$E32,0) -> -1.9 | AF32: =IF($D32>0,AE32+AF31,AE32) -> -7.7 | AG32: =IF($D32>0,N32-$E32,0) -> 6.7 | AH32: =IF($D32>0,AG32+AH31,AG32) -> 9.6 | AJ32: =P32+U32+Z32+AE32 -> -6.2 | AK32: =IF($D32>0,AJ32+AK31,AJ32) -> -20.8 | AL32: =R32+W32+AB32+AG32 -> 23.6 | AM32: =IF($D32>0,AL32+AM31,AL32) -> 42.5 | AN32: =AJ32+AL32 -> 17.4 | AO32: =IF($D32>0,AN32+AO31,AN32) -> 21.7 | AQ32: =P32+R32 -> -0.2 | AR32: =IF($D32>0,AQ32+AR31,AQ32) -> 7.2 | AS32: =U32+W32 -> 5.6 | AT32: =IF($D32>0,AS32+AT31,AS32) -> 4.2 | AU32: =Z32+AB32 -> 7.2 | AV32: =IF($D32>0,AU32+AV31,AU32) -> 8.4 | AW32: =AE32+AG32 -> 4.8 | AX32: =IF($D32>0,AW32+AX31,AW32) -> 1.9 | AY32: =AQ32+AS32 -> 5.4 | AZ32: =IF($D32>0,AY32+AZ31,AY32) -> 11.4
D33: 15 | E33: =IF(D33>0,10,0) -> 10 | G33: 3 | H33: 8.7 | I33: 3 | J33: 7.7 | K33: 3.5 | L33: 6.7 | M33: 2.9 | N33: 7.9 | P33: =IF($D33>0,G33-$E33,0) -> -7 | Q33: =IF($D33>0,P33+Q32,P33) -> -10.7 | R33: =IF($D33>0,H33-$E33,0) -> -1.3 | S33: =IF($D33>0,R33+S32,R33) -> 9.6 | U33: =IF($D33>0,I33-$E33,0) -> -7 | V33: =IF($D33>0,U33+V32,U33) -> -13.9 | W33: =IF($D33>0,J33-$E33,0) -> -2.3 | X33: =IF($D33>0,W33+X32,W33) -> 8.8 | Z33: =IF($D33>0,K33-$E33,0) -> -6.5 | AA33: =IF($D33>0,Z33+AA32,Z33) -> -9 | AB33: =IF($D33>0,L33-$E33,0) -> -3.3 | AC33: =IF($D33>0,AB33+AC32,AB33) -> 7.6 | AE33: =IF($D33>0,M33-$E33,0) -> -7.1 | AF33: =IF($D33>0,AE33+AF32,AE33) -> -14.8 | AG33: =IF($D33>0,N33-$E33,0) -> -2.1 | AH33: =IF($D33>0,AG33+AH32,AG33) -> 7.5 | AJ33: =P33+U33+Z33+AE33 -> -27.6 | AK33: =IF($D33>0,AJ33+AK32,AJ33) -> -48.4 | AL33: =R33+W33+AB33+AG33 -> -9 | AM33: =IF($D33>0,AL33+AM32,AL33) -> 33.5 | AN33: =AJ33+AL33 -> -36.6 | AO33: =IF($D33>0,AN33+AO32,AN33) -> -14.9 | AQ33: =P33+R33 -> -8.3 | AR33: =IF($D33>0,AQ33+AR32,AQ33) -> -1.1 | AS33: =U33+W33 -> -9.3 | AT33: =IF($D33>0,AS33+AT32,AS33) -> -5.1 | AU33: =Z33+AB33 -> -9.8 | AV33: =IF($D33>0,AU33+AV32,AU33) -> -1.4 | AW33: =AE33+AG33 -> -9.2 | AX33: =IF($D33>0,AW33+AX32,AW33) -> -7.3 | AY33: =AQ33+AS33 -> -17.6 | AZ33: =IF($D33>0,AY33+AZ32,AY33) -> -6.2
E34: =IF(D34>0,10,0) -> 0 | P34: =IF($D34>0,G34-$E34,0) -> 0 | Q34: =IF($D34>0,P34+Q33,P34) -> 0 | R34: =IF($D34>0,H34-$E34,0) -> 0 | S34: =IF($D34>0,R34+S33,R34) -> 0 | U34: =IF($D34>0,I34-$E34,0) -> 0 | V34: =IF($D34>0,U34+V33,U34) -> 0 | W34: =IF($D34>0,J34-$E34,0) -> 0 | X34: =IF($D34>0,W34+X33,W34) -> 0 | Z34: =IF($D34>0,K34-$E34,0) -> 0 | AA34: =IF($D34>0,Z34+AA33,Z34) -> 0 | AB34: =IF($D34>0,L34-$E34,0) -> 0 | AC34: =IF($D34>0,AB34+AC33,AB34) -> 0 | AE34: =IF($D34>0,M34-$E34,0) -> 0 | AF34: =IF($D34>0,AE34+AF33,AE34) -> 0 | AG34: =IF($D34>0,N34-$E34,0) -> 0 | AH34: =IF($D34>0,AG34+AH33,AG34) -> 0 | AJ34: =P34+U34+Z34+AE34 -> 0 | AK34: =IF($D34>0,AJ34+AK33,AJ34) -> 0 | AL34: =R34+W34+AB34+AG34 -> 0 | AM34: =IF($D34>0,AL34+AM33,AL34) -> 0 | AN34: =AJ34+AL34 -> 0 | AO34: =IF($D34>0,AN34+AO33,AN34) -> 0 | AQ34: =P34+R34 -> 0 | AR34: =IF($D34>0,AQ34+AR33,AQ34) -> 0 | AS34: =U34+W34 -> 0 | AT34: =IF($D34>0,AS34+AT33,AS34) -> 0 | AU34: =Z34+AB34 -> 0 | AV34: =IF($D34>0,AU34+AV33,AU34) -> 0 | AW34: =AE34+AG34 -> 0 | AX34: =IF($D34>0,AW34+AX33,AW34) -> 0 | AY34: =AQ34+AS34 -> 0 | AZ34: =IF($D34>0,AY34+AZ33,AY34) -> 0
A35: Ven | B35: 40921 | C35: Pau | D35: 12 | E35: =IF(D35>0,10,0) -> 10 | G35: 4.7 | H35: 6.4 | I35: 3.7 | J35: 6.9 | K35: 4.2 | L35: 6.3 | M35: 3.5 | N35: 7 | P35: =IF($D35>0,G35-$E35,0) -> -5.3 | Q35: =IF($D35>0,P35+Q34,P35) -> -5.3 | R35: =IF($D35>0,H35-$E35,0) -> -3.6 | S35: =IF($D35>0,R35+S34,R35) -> -3.6 | U35: =IF($D35>0,I35-$E35,0) -> -6.3 | V35: =IF($D35>0,U35+V34,U35) -> -6.3 | W35: =IF($D35>0,J35-$E35,0) -> -3.1 | X35: =IF($D35>0,W35+X34,W35) -> -3.1 | Z35: =IF($D35>0,K35-$E35,0) -> -5.8 | AA35: =IF($D35>0,Z35+AA34,Z35) -> -5.8 | AB35: =IF($D35>0,L35-$E35,0) -> -3.7 | AC35: =IF($D35>0,AB35+AC34,AB35) -> -3.7 | AE35: =IF($D35>0,M35-$E35,0) -> -6.5 | AF35: =IF($D35>0,AE35+AF34,AE35) -> -6.5 | AG35: =IF($D35>0,N35-$E35,0) -> -3 | AH35: =IF($D35>0,AG35+AH34,AG35) -> -3 | AJ35: =P35+U35+Z35+AE35 -> -23.9 | AK35: =IF($D35>0,AJ35+AK34,AJ35) -> -23.9 | AL35: =R35+W35+AB35+AG35 -> -13.4 | AM35: =IF($D35>0,AL35+AM34,AL35) -> -13.4 | AN35: =AJ35+AL35 -> -37.3 | AO35: =IF($D35>0,AN35+AO34,AN35) -> -37.3 | AQ35: =P35+R35 -> -8.9 | AR35: =IF($D35>0,AQ35+AR34,AQ35) -> -8.9 | AS35: =U35+W35 -> -9.4 | AT35: =IF($D35>0,AS35+AT34,AS35) -> -9.4 | AU35: =Z35+AB35 -> -9.5 | AV35: =IF($D35>0,AU35+AV34,AU35) -> -9.5 | AW35: =AE35+AG35 -> -9.5 | AX35: =IF($D35>0,AW35+AX34,AW35) -> -9.5 | AY35: =AQ35+AS35 -> -18.3 | AZ35: =IF($D35>0,AY35+AZ34,AY35) -> -18.3
E36: =IF(D36>0,10,0) -> 0 | P36: =IF($D36>0,G36-$E36,0) -> 0 | Q36: =IF($D36>0,P36+Q35,P36) -> 0 | R36: =IF($D36>0,H36-$E36,0) -> 0 | S36: =IF($D36>0,R36+S35,R36) -> 0 | U36: =IF($D36>0,I36-$E36,0) -> 0 | V36: =IF($D36>0,U36+V35,U36) -> 0 | W36: =IF($D36>0,J36-$E36,0) -> 0 | X36: =IF($D36>0,W36+X35,W36) -> 0 | Z36: =IF($D36>0,K36-$E36,0) -> 0 | AA36: =IF($D36>0,Z36+AA35,Z36) -> 0 | AB36: =IF($D36>0,L36-$E36,0) -> 0 | AC36: =IF($D36>0,AB36+AC35,AB36) -> 0 | AE36: =IF($D36>0,M36-$E36,0) -> 0 | AF36: =IF($D36>0,AE36+AF35,AE36) -> 0 | AG36: =IF($D36>0,N36-$E36,0) -> 0 | AH36: =IF($D36>0,AG36+AH35,AG36) -> 0 | AJ36: =P36+U36+Z36+AE36 -> 0 | AK36: =IF($D36>0,AJ36+AK35,AJ36) -> 0 | AL36: =R36+W36+AB36+AG36 -> 0 | AM36: =IF($D36>0,AL36+AM35,AL36) -> 0 | AN36: =AJ36+AL36 -> 0 | AO36: =IF($D36>0,AN36+AO35,AN36) -> 0 | AQ36: =P36+R36 -> 0 | AR36: =IF($D36>0,AQ36+AR35,AQ36) -> 0 | AS36: =U36+W36 -> 0 | AT36: =IF($D36>0,AS36+AT35,AS36) -> 0 | AU36: =Z36+AB36 -> 0 | AV36: =IF($D36>0,AU36+AV35,AU36) -> 0 | AW36: =AE36+AG36 -> 0 | AX36: =IF($D36>0,AW36+AX35,AW36) -> 0 | AY36: =AQ36+AS36 -> 0 | AZ36: =IF($D36>0,AY36+AZ35,AY36) -> 0
A37: Mar | B37: 40926 | C37: Pau | D37: 18 | E37: =IF(D37>0,10,0) -> 10 | G37: 6.9 | H37: 22.6 | I37: 5.3 | J37: 13.7 | K37: 5.3 | L37: 18.1 | M37: 5.3 | N37: 10.5 | P37: =IF($D37>0,G37-$E37,0) -> -3.1 | Q37: =IF($D37>0,P37+Q36,P37) -> -3.1 | R37: =IF($D37>0,H37-$E37,0) -> 12.6 | S37: =IF($D37>0,R37+S36,R37) -> 12.6 | U37: =IF($D37>0,I37-$E37,0) -> -4.7 | V37: =IF($D37>0,U37+V36,U37) -> -4.7 | W37: =IF($D37>0,J37-$E37,0) -> 3.7 | X37: =IF($D37>0,W37+X36,W37) -> 3.7 | Z37: =IF($D37>0,K37-$E37,0) -> -4.7 | AA37: =IF($D37>0,Z37+AA36,Z37) -> -4.7 | AB37: =IF($D37>0,L37-$E37,0) -> 8.1 | AC37: =IF($D37>0,AB37+AC36,AB37) -> 8.1 | AE37: =IF($D37>0,M37-$E37,0) -> -4.7 | AF37: =IF($D37>0,AE37+AF36,AE37) -> -4.7 | AG37: =IF($D37>0,N37-$E37,0) -> 0.5 | AH37: =IF($D37>0,AG37+AH36,AG37) -> 0.5 | AJ37: =P37+U37+Z37+AE37 -> -17.2 | AK37: =IF($D37>0,AJ37+AK36,AJ37) -> -17.2 | AL37: =R37+W37+AB37+AG37 -> 24.9 | AM37: =IF($D37>0,AL37+AM36,AL37) -> 24.9 | AN37: =AJ37+AL37 -> 7.7 | AO37: =IF($D37>0,AN37+AO36,AN37) -> 7.7 | AQ37: =P37+R37 -> 9.5 | AR37: =IF($D37>0,AQ37+AR36,AQ37) -> 9.5 | AS37: =U37+W37 -> -1 | AT37: =IF($D37>0,AS37+AT36,AS37) -> -1 | AU37: =Z37+AB37 -> 3.4 | AV37: =IF($D37>0,AU37+AV36,AU37) -> 3.4 | AW37: =AE37+AG37 -> -4.2 | AX37: =IF($D37>0,AW37+AX36,AW37) -> -4.2 | AY37: =AQ37+AS37 -> 8.5 | AZ37: =IF($D37>0,AY37+AZ36,AY37) -> 8.5
E38: =IF(D38>0,10,0) -> 0 | P38: =IF($D38>0,G38-$E38,0) -> 0 | Q38: =IF($D38>0,P38+Q37,P38) -> 0 | R38: =IF($D38>0,H38-$E38,0) -> 0 | S38: =IF($D38>0,R38+S37,R38) -> 0 | U38: =IF($D38>0,I38-$E38,0) -> 0 | V38: =IF($D38>0,U38+V37,U38) -> 0 | W38: =IF($D38>0,J38-$E38,0) -> 0 | X38: =IF($D38>0,W38+X37,W38) -> 0 | Z38: =IF($D38>0,K38-$E38,0) -> 0 | AA38: =IF($D38>0,Z38+AA37,Z38) -> 0 | AB38: =IF($D38>0,L38-$E38,0) -> 0 | AC38: =IF($D38>0,AB38+AC37,AB38) -> 0 | AE38: =IF($D38>0,M38-$E38,0) -> 0 | AF38: =IF($D38>0,AE38+AF37,AE38) -> 0 | AG38: =IF($D38>0,N38-$E38,0) -> 0 | AH38: =IF($D38>0,AG38+AH37,AG38) -> 0 | AJ38: =P38+U38+Z38+AE38 -> 0 | AK38: =IF($D38>0,AJ38+AK37,AJ38) -> 0 | AL38: =R38+W38+AB38+AG38 -> 0 | AM38: =IF($D38>0,AL38+AM37,AL38) -> 0 | AN38: =AJ38+AL38 -> 0 | AO38: =IF($D38>0,AN38+AO37,AN38) -> 0 | AQ38: =P38+R38 -> 0 | AR38: =IF($D38>0,AQ38+AR37,AQ38) -> 0 | AS38: =U38+W38 -> 0 | AT38: =IF($D38>0,AS38+AT37,AS38) -> 0 | AU38: =Z38+AB38 -> 0 | AV38: =IF($D38>0,AU38+AV37,AU38) -> 0 | AW38: =AE38+AG38 -> 0 | AX38: =IF($D38>0,AW38+AX37,AW38) -> 0 | AY38: =AQ38+AS38 -> 0 | AZ38: =IF($D38>0,AY38+AZ37,AY38) -> 0
A39: Jeu | B39: 40927 | C39: Pau | D39: 17 | E39: =IF(D39>0,10,0) -> 10 | G39: 21.6 | H39: 11.5 | I39: 23.6 | J39: 10.6 | K39: 21.6 | L39: 11.5 | M39: 22.8 | N39: 5.5 | P39: =IF($D39>0,G39-$E39,0) -> 11.6 | Q39: =IF($D39>0,P39+Q38,P39) -> 11.6 | R39: =IF($D39>0,H39-$E39,0) -> 1.5 | S39: =IF($D39>0,R39+S38,R39) -> 1.5 | U39: =IF($D39>0,I39-$E39,0) -> 13.6 | V39: =IF($D39>0,U39+V38,U39) -> 13.6 | W39: =IF($D39>0,J39-$E39,0) -> 0.6 | X39: =IF($D39>0,W39+X38,W39) -> 0.6 | Z39: =IF($D39>0,K39-$E39,0) -> 11.6 | AA39: =IF($D39>0,Z39+AA38,Z39) -> 11.6 | AB39: =IF($D39>0,L39-$E39,0) -> 1.5 | AC39: =IF($D39>0,AB39+AC38,AB39) -> 1.5 | AE39: =IF($D39>0,M39-$E39,0) -> 12.8 | AF39: =IF($D39>0,AE39+AF38,AE39) -> 12.8 | AG39: =IF($D39>0,N39-$E39,0) -> -4.5 | AH39: =IF($D39>0,AG39+AH38,AG39) -> -4.5 | AJ39: =P39+U39+Z39+AE39 -> 49.6 | AK39: =IF($D39>0,AJ39+AK38,AJ39) -> 49.6 | AL39: =R39+W39+AB39+AG39 -> -0.9 | AM39: =IF($D39>0,AL39+AM38,AL39) -> -0.9 | AN39: =AJ39+AL39 -> 48.7 | AO39: =IF($D39>0,AN39+AO38,AN39) -> 48.7 | AQ39: =P39+R39 -> 13.1 | AR39: =IF($D39>0,AQ39+AR38,AQ39) -> 13.1 | AS39: =U39+W39 -> 14.2 | AT39: =IF($D39>0,AS39+AT38,AS39) -> 14.2 | AU39: =Z39+AB39 -> 13.1 | AV39: =IF($D39>0,AU39+AV38,AU39) -> 13.1 | AW39: =AE39+AG39 -> 8.3 | AX39: =IF($D39>0,AW39+AX38,AW39) -> 8.3 | AY39: =AQ39+AS39 -> 27.3 | AZ39: =IF($D39>0,AY39+AZ38,AY39) -> 27.3
E40: =IF(D40>0,10,0) -> 0 | P40: =IF($D40>0,G40-$E40,0) -> 0 | Q40: =IF($D40>0,P40+Q39,P40) -> 0 | R40: =IF($D40>0,H40-$E40,0) -> 0 | S40: =IF($D40>0,R40+S39,R40) -> 0 | U40: =IF($D40>0,I40-$E40,0) -> 0 | V40: =IF($D40>0,U40+V39,U40) -> 0 | W40: =IF($D40>0,J40-$E40,0) -> 0 | X40: =IF($D40>0,W40+X39,W40) -> 0 | Z40: =IF($D40>0,K40-$E40,0) -> 0 | AA40: =IF($D40>0,Z40+AA39,Z40) -> 0 | AB40: =IF($D40>0,L40-$E40,0) -> 0 | AC40: =IF($D40>0,AB40+AC39,AB40) -> 0 | AE40: =IF($D40>0,M40-$E40,0) -> 0 | AF40: =IF($D40>0,AE40+AF39,AE40) -> 0 | AG40: =IF($D40>0,N40-$E40,0) -> 0 | AH40: =IF($D40>0,AG40+AH39,AG40) -> 0 | AJ40: =P40+U40+Z40+AE40 -> 0 | AK40: =IF($D40>0,AJ40+AK39,AJ40) -> 0 | AL40: =R40+W40+AB40+AG40 -> 0 | AM40: =IF($D40>0,AL40+AM39,AL40) -> 0 | AN40: =AJ40+AL40 -> 0 | AO40: =IF($D40>0,AN40+AO39,AN40) -> 0 | AQ40: =P40+R40 -> 0 | AR40: =IF($D40>0,AQ40+AR39,AQ40) -> 0 | AS40: =U40+W40 -> 0 | AT40: =IF($D40>0,AS40+AT39,AS40) -> 0 | AU40: =Z40+AB40 -> 0 | AV40: =IF($D40>0,AU40+AV39,AU40) -> 0 | AW40: =AE40+AG40 -> 0 | AX40: =IF($D40>0,AW40+AX39,AW40) -> 0 | AY40: =AQ40+AS40 -> 0 | AZ40: =IF($D40>0,AY40+AZ39,AY40) -> 0
A41: Dim | B41: 40930 | C41: Pau | D41: 16 | E41: =IF(D41>0,10,0) -> 10 | G41: 22.9 | H41: 13 | I41: 14.2 | J41: 11.2 | K41: 20.3 | L41: 9.6 | M41: 13.5 | N41: 8 | P41: =IF($D41>0,G41-$E41,0) -> 12.9 | Q41: =IF($D41>0,P41+Q40,P41) -> 12.9 | R41: =IF($D41>0,H41-$E41,0) -> 3 | S41: =IF($D41>0,R41+S40,R41) -> 3 | U41: =IF($D41>0,I41-$E41,0) -> 4.2 | V41: =IF($D41>0,U41+V40,U41) -> 4.2 | W41: =IF($D41>0,J41-$E41,0) -> 1.2 | X41: =IF($D41>0,W41+X40,W41) -> 1.2 | Z41: =IF($D41>0,K41-$E41,0) -> 10.3 | AA41: =IF($D41>0,Z41+AA40,Z41) -> 10.3 | AB41: =IF($D41>0,L41-$E41,0) -> -0.4 | AC41: =IF($D41>0,AB41+AC40,AB41) -> -0.4 | AE41: =IF($D41>0,M41-$E41,0) -> 3.5 | AF41: =IF($D41>0,AE41+AF40,AE41) -> 3.5 | AG41: =IF($D41>0,N41-$E41,0) -> -2 | AH41: =IF($D41>0,AG41+AH40,AG41) -> -2 | AJ41: =P41+U41+Z41+AE41 -> 30.9 | AK41: =IF($D41>0,AJ41+AK40,AJ41) -> 30.9 | AL41: =R41+W41+AB41+AG41 -> 1.8 | AM41: =IF($D41>0,AL41+AM40,AL41) -> 1.8 | AN41: =AJ41+AL41 -> 32.7 | AO41: =IF($D41>0,AN41+AO40,AN41) -> 32.7 | AQ41: =P41+R41 -> 15.9 | AR41: =IF($D41>0,AQ41+AR40,AQ41) -> 15.9 | AS41: =U41+W41 -> 5.4 | AT41: =IF($D41>0,AS41+AT40,AS41) -> 5.4 | AU41: =Z41+AB41 -> 9.9 | AV41: =IF($D41>0,AU41+AV40,AU41) -> 9.9 | AW41: =AE41+AG41 -> 1.5 | AX41: =IF($D41>0,AW41+AX40,AW41) -> 1.5 | AY41: =AQ41+AS41 -> 21.3 | AZ41: =IF($D41>0,AY41+AZ40,AY41) -> 21.3
D42: 15 | E42: =IF(D42>0,10,0) -> 10 | G42: 2.7 | H42: 12.1 | I42: 4 | J42: 9.9 | K42: 3.5 | L42: 9.6 | M42: 3.8 | N42: 9.6 | P42: =IF($D42>0,G42-$E42,0) -> -7.3 | Q42: =IF($D42>0,P42+Q41,P42) -> 5.6 | R42: =IF($D42>0,H42-$E42,0) -> 2.1 | S42: =IF($D42>0,R42+S41,R42) -> 5.1 | U42: =IF($D42>0,I42-$E42,0) -> -6 | V42: =IF($D42>0,U42+V41,U42) -> -1.8 | W42: =IF($D42>0,J42-$E42,0) -> -0.1 | X42: =IF($D42>0,W42+X41,W42) -> 1.1 | Z42: =IF($D42>0,K42-$E42,0) -> -6.5 | AA42: =IF($D42>0,Z42+AA41,Z42) -> 3.8 | AB42: =IF($D42>0,L42-$E42,0) -> -0.4 | AC42: =IF($D42>0,AB42+AC41,AB42) -> -0.8 | AE42: =IF($D42>0,M42-$E42,0) -> -6.2 | AF42: =IF($D42>0,AE42+AF41,AE42) -> -2.7 | AG42: =IF($D42>0,N42-$E42,0) -> -0.4 | AH42: =IF($D42>0,AG42+AH41,AG42) -> -2.4 | AJ42: =P42+U42+Z42+AE42 -> -26 | AK42: =IF($D42>0,AJ42+AK41,AJ42) -> 4.9 | AL42: =R42+W42+AB42+AG42 -> 1.2 | AM42: =IF($D42>0,AL42+AM41,AL42) -> 3 | AN42: =AJ42+AL42 -> -24.8 | AO42: =IF($D42>0,AN42+AO41,AN42) -> 7.9 | AQ42: =P42+R42 -> -5.2 | AR42: =IF($D42>0,AQ42+AR41,AQ42) -> 10.7 | AS42: =U42+W42 -> -6.1 | AT42: =IF($D42>0,AS42+AT41,AS42) -> -0.7 | AU42: =Z42+AB42 -> -6.9 | AV42: =IF($D42>0,AU42+AV41,AU42) -> 3 | AW42: =AE42+AG42 -> -6.6 | AX42: =IF($D42>0,AW42+AX41,AW42) -> -5.1 | AY42: =AQ42+AS42 -> -11.3 | AZ42: =IF($D42>0,AY42+AZ41,AY42) -> 10
D43: 18 | E43: =IF(D43>0,10,0) -> 10 | G43: 11.4 | H43: 15.8 | I43: 9.5 | J43: 12.2 | K43: 7.5 | L43: 11.1 | M43: 9 | N43: 9.4 | P43: =IF($D43>0,G43-$E43,0) -> 1.4 | Q43: =IF($D43>0,P43+Q42,P43) -> 7 | R43: =IF($D43>0,H43-$E43,0) -> 5.8 | S43: =IF($D43>0,R43+S42,R43) -> 10.9 | U43: =IF($D43>0,I43-$E43,0) -> -0.5 | V43: =IF($D43>0,U43+V42,U43) -> -2.3 | W43: =IF($D43>0,J43-$E43,0) -> 2.2 | X43: =IF($D43>0,W43+X42,W43) -> 3.3 | Z43: =IF($D43>0,K43-$E43,0) -> -2.5 | AA43: =IF($D43>0,Z43+AA42,Z43) -> 1.3 | AB43: =IF($D43>0,L43-$E43,0) -> 1.1 | AC43: =IF($D43>0,AB43+AC42,AB43) -> 0.3 | AE43: =IF($D43>0,M43-$E43,0) -> -1 | AF43: =IF($D43>0,AE43+AF42,AE43) -> -3.7 | AG43: =IF($D43>0,N43-$E43,0) -> -0.6 | AH43: =IF($D43>0,AG43+AH42,AG43) -> -3 | AJ43: =P43+U43+Z43+AE43 -> -2.6 | AK43: =IF($D43>0,AJ43+AK42,AJ43) -> 2.3 | AL43: =R43+W43+AB43+AG43 -> 8.5 | AM43: =IF($D43>0,AL43+AM42,AL43) -> 11.5 | AN43: =AJ43+AL43 -> 5.9 | AO43: =IF($D43>0,AN43+AO42,AN43) -> 13.8 | AQ43: =P43+R43 -> 7.2 | AR43: =IF($D43>0,AQ43+AR42,AQ43) -> 17.9 | AS43: =U43+W43 -> 1.7 | AT43: =IF($D43>0,AS43+AT42,AS43) -> 1 | AU43: =Z43+AB43 -> -1.4 | AV43: =IF($D43>0,AU43+AV42,AU43) -> 1.6 | AW43: =AE43+AG43 -> -1.6 | AX43: =IF($D43>0,AW43+AX42,AW43) -> -6.7 | AY43: =AQ43+AS43 -> 8.9 | AZ43: =IF($D43>0,AY43+AZ42,AY43) -> 18.9
D44: 15 | E44: =IF(D44>0,10,0) -> 10 | H44: 6.3 | J44: 6.2 | L44: 5.6 | N44: 6.1 | P44: =IF($D44>0,G44-$E44,0) -> -10 | Q44: =IF($D44>0,P44+Q43,P44) -> -3 | R44: =IF($D44>0,H44-$E44,0) -> -3.7 | S44: =IF($D44>0,R44+S43,R44) -> 7.2 | U44: =IF($D44>0,I44-$E44,0) -> -10 | V44: =IF($D44>0,U44+V43,U44) -> -12.3 | W44: =IF($D44>0,J44-$E44,0) -> -3.8 | X44: =IF($D44>0,W44+X43,W44) -> -0.5 | Z44: =IF($D44>0,K44-$E44,0) -> -10 | AA44: =IF($D44>0,Z44+AA43,Z44) -> -8.7 | AB44: =IF($D44>0,L44-$E44,0) -> -4.4 | AC44: =IF($D44>0,AB44+AC43,AB44) -> -4.1 | AE44: =IF($D44>0,M44-$E44,0) -> -10 | AF44: =IF($D44>0,AE44+AF43,AE44) -> -13.7 | AG44: =IF($D44>0,N44-$E44,0) -> -3.9 | AH44: =IF($D44>0,AG44+AH43,AG44) -> -6.9 | AJ44: =P44+U44+Z44+AE44 -> -40 | AK44: =IF($D44>0,AJ44+AK43,AJ44) -> -37.7 | AL44: =R44+W44+AB44+AG44 -> -15.8 | AM44: =IF($D44>0,AL44+AM43,AL44) -> -4.3 | AN44: =AJ44+AL44 -> -55.8 | AO44: =IF($D44>0,AN44+AO43,AN44) -> -42 | AQ44: =P44+R44 -> -13.7 | AR44: =IF($D44>0,AQ44+AR43,AQ44) -> 4.2 | AS44: =U44+W44 -> -13.8 | AT44: =IF($D44>0,AS44+AT43,AS44) -> -12.8 | AU44: =Z44+AB44 -> -14.4 | AV44: =IF($D44>0,AU44+AV43,AU44) -> -12.8 | AW44: =AE44+AG44 -> -13.9 | AX44: =IF($D44>0,AW44+AX43,AW44) -> -20.6 | AY44: =AQ44+AS44 -> -27.5 | AZ44: =IF($D44>0,AY44+AZ43,AY44) -> -8.6
E45: =IF(D45>0,10,0) -> 0 | P45: =IF($D45>0,G45-$E45,0) -> 0 | Q45: =IF($D45>0,P45+Q44,P45) -> 0 | R45: =IF($D45>0,H45-$E45,0) -> 0 | S45: =IF($D45>0,R45+S44,R45) -> 0 | U45: =IF($D45>0,I45-$E45,0) -> 0 | V45: =IF($D45>0,U45+V44,U45) -> 0 | W45: =IF($D45>0,J45-$E45,0) -> 0 | X45: =IF($D45>0,W45+X44,W45) -> 0 | Z45: =IF($D45>0,K45-$E45,0) -> 0 | AA45: =IF($D45>0,Z45+AA44,Z45) -> 0 | AB45: =IF($D45>0,L45-$E45,0) -> 0 | AC45: =IF($D45>0,AB45+AC44,AB45) -> 0 | AE45: =IF($D45>0,M45-$E45,0) -> 0 | AF45: =IF($D45>0,AE45+AF44,AE45) -> 0 | AG45: =IF($D45>0,N45-$E45,0) -> 0 | AH45: =IF($D45>0,AG45+AH44,AG45) -> 0 | AJ45: =P45+U45+Z45+AE45 -> 0 | AK45: =IF($D45>0,AJ45+AK44,AJ45) -> 0 | AL45: =R45+W45+AB45+AG45 -> 0 | AM45: =IF($D45>0,AL45+AM44,AL45) -> 0 | AN45: =AJ45+AL45 -> 0 | AO45: =IF($D45>0,AN45+AO44,AN45) -> 0 | AQ45: =P45+R45 -> 0 | AR45: =IF($D45>0,AQ45+AR44,AQ45) -> 0 | AS45: =U45+W45 -> 0 | AT45: =IF($D45>0,AS45+AT44,AS45) -> 0 | AU45: =Z45+AB45 -> 0 | AV45: =IF($D45>0,AU45+AV44,AU45) -> 0 | AW45: =AE45+AG45 -> 0 | AX45: =IF($D45>0,AW45+AX44,AW45) -> 0 | AY45: =AQ45+AS45 -> 0 | AZ45: =IF($D45>0,AY45+AZ44,AY45) -> 0
A46: Mer | B46: 40933 | C46: Pau | D46: 16 | E46: =IF(D46>0,10,0) -> 10 | G46: 9.3 | H46: 7.2 | I46: 5.9 | J46: 5.7 | K46: 7 | L46: 5.7 | M46: 5.6 | N46: 5.3 | P46: =IF($D46>0,G46-$E46,0) -> -0.7 | Q46: =IF($D46>0,P46+Q45,P46) -> -0.7 | R46: =IF($D46>0,H46-$E46,0) -> -2.8 | S46: =IF($D46>0,R46+S45,R46) -> -2.8 | U46: =IF($D46>0,I46-$E46,0) -> -4.1 | V46: =IF($D46>0,U46+V45,U46) -> -4.1 | W46: =IF($D46>0,J46-$E46,0) -> -4.3 | X46: =IF($D46>0,W46+X45,W46) -> -4.3 | Z46: =IF($D46>0,K46-$E46,0) -> -3 | AA46: =IF($D46>0,Z46+AA45,Z46) -> -3 | AB46: =IF($D46>0,L46-$E46,0) -> -4.3 | AC46: =IF($D46>0,AB46+AC45,AB46) -> -4.3 | AE46: =IF($D46>0,M46-$E46,0) -> -4.4 | AF46: =IF($D46>0,AE46+AF45,AE46) -> -4.4 | AG46: =IF($D46>0,N46-$E46,0) -> -4.7 | AH46: =IF($D46>0,AG46+AH45,AG46) -> -4.7 | AJ46: =P46+U46+Z46+AE46 -> -12.2 | AK46: =IF($D46>0,AJ46+AK45,AJ46) -> -12.2 | AL46: =R46+W46+AB46+AG46 -> -16.1 | AM46: =IF($D46>0,AL46+AM45,AL46) -> -16.1 | AN46: =AJ46+AL46 -> -28.3 | AO46: =IF($D46>0,AN46+AO45,AN46) -> -28.3 | AQ46: =P46+R46 -> -3.5 | AR46: =IF($D46>0,AQ46+AR45,AQ46) -> -3.5 | AS46: =U46+W46 -> -8.4 | AT46: =IF($D46>0,AS46+AT45,AS46) -> -8.4 | AU46: =Z46+AB46 -> -7.3 | AV46: =IF($D46>0,AU46+AV45,AU46) -> -7.3 | AW46: =AE46+AG46 -> -9.1 | AX46: =IF($D46>0,AW46+AX45,AW46) -> -9.1 | AY46: =AQ46+AS46 -> -11.9 | AZ46: =IF($D46>0,AY46+AZ45,AY46) -> -11.9
D47: 16 | E47: =IF(D47>0,10,0) -> 10 | G47: 14.6 | H47: 13.2 | I47: 17.5 | J47: 18.5 | K47: 21.3 | L47: 13.5 | M47: 16.7 | N47: 18.4 | P47: =IF($D47>0,G47-$E47,0) -> 4.6 | Q47: =IF($D47>0,P47+Q46,P47) -> 3.9 | R47: =IF($D47>0,H47-$E47,0) -> 3.2 | S47: =IF($D47>0,R47+S46,R47) -> 0.4 | U47: =IF($D47>0,I47-$E47,0) -> 7.5 | V47: =IF($D47>0,U47+V46,U47) -> 3.4 | W47: =IF($D47>0,J47-$E47,0) -> 8.5 | X47: =IF($D47>0,W47+X46,W47) -> 4.2 | Z47: =IF($D47>0,K47-$E47,0) -> 11.3 | AA47: =IF($D47>0,Z47+AA46,Z47) -> 8.3 | AB47: =IF($D47>0,L47-$E47,0) -> 3.5 | AC47: =IF($D47>0,AB47+AC46,AB47) -> -0.8 | AE47: =IF($D47>0,M47-$E47,0) -> 6.7 | AF47: =IF($D47>0,AE47+AF46,AE47) -> 2.3 | AG47: =IF($D47>0,N47-$E47,0) -> 8.4 | AH47: =IF($D47>0,AG47+AH46,AG47) -> 3.7 | AJ47: =P47+U47+Z47+AE47 -> 30.1 | AK47: =IF($D47>0,AJ47+AK46,AJ47) -> 17.9 | AL47: =R47+W47+AB47+AG47 -> 23.6 | AM47: =IF($D47>0,AL47+AM46,AL47) -> 7.5 | AN47: =AJ47+AL47 -> 53.7 | AO47: =IF($D47>0,AN47+AO46,AN47) -> 25.4 | AQ47: =P47+R47 -> 7.8 | AR47: =IF($D47>0,AQ47+AR46,AQ47) -> 4.3 | AS47: =U47+W47 -> 16 | AT47: =IF($D47>0,AS47+AT46,AS47) -> 7.6 | AU47: =Z47+AB47 -> 14.8 | AV47: =IF($D47>0,AU47+AV46,AU47) -> 7.5 | AW47: =AE47+AG47 -> 15.1 | AX47: =IF($D47>0,AW47+AX46,AW47) -> 6 | AY47: =AQ47+AS47 -> 23.8 | AZ47: =IF($D47>0,AY47+AZ46,AY47) -> 11.9
D48: 18 | E48: =IF(D48>0,10,0) -> 10 | G48: 15.2 | H48: 15.2 | I48: 13.6 | J48: 12.1 | K48: 9.3 | L48: 10.3 | M48: 14.9 | N48: 11.8 | P48: =IF($D48>0,G48-$E48,0) -> 5.2 | Q48: =IF($D48>0,P48+Q47,P48) -> 9.1 | R48: =IF($D48>0,H48-$E48,0) -> 5.2 | S48: =IF($D48>0,R48+S47,R48) -> 5.6 | U48: =IF($D48>0,I48-$E48,0) -> 3.6 | V48: =IF($D48>0,U48+V47,U48) -> 7 | W48: =IF($D48>0,J48-$E48,0) -> 2.1 | X48: =IF($D48>0,W48+X47,W48) -> 6.3 | Z48: =IF($D48>0,K48-$E48,0) -> -0.7 | AA48: =IF($D48>0,Z48+AA47,Z48) -> 7.6 | AB48: =IF($D48>0,L48-$E48,0) -> 0.3 | AC48: =IF($D48>0,AB48+AC47,AB48) -> -0.5 | AE48: =IF($D48>0,M48-$E48,0) -> 4.9 | AF48: =IF($D48>0,AE48+AF47,AE48) -> 7.2 | AG48: =IF($D48>0,N48-$E48,0) -> 1.8 | AH48: =IF($D48>0,AG48+AH47,AG48) -> 5.5 | AJ48: =P48+U48+Z48+AE48 -> 13 | AK48: =IF($D48>0,AJ48+AK47,AJ48) -> 30.9 | AL48: =R48+W48+AB48+AG48 -> 9.4 | AM48: =IF($D48>0,AL48+AM47,AL48) -> 16.9 | AN48: =AJ48+AL48 -> 22.4 | AO48: =IF($D48>0,AN48+AO47,AN48) -> 47.8 | AQ48: =P48+R48 -> 10.4 | AR48: =IF($D48>0,AQ48+AR47,AQ48) -> 14.7 | AS48: =U48+W48 -> 5.7 | AT48: =IF($D48>0,AS48+AT47,AS48) -> 13.3 | AU48: =Z48+AB48 -> -0.4 | AV48: =IF($D48>0,AU48+AV47,AU48) -> 7.1 | AW48: =AE48+AG48 -> 6.7 | AX48: =IF($D48>0,AW48+AX47,AW48) -> 12.7 | AY48: =AQ48+AS48 -> 16.1 | AZ48: =IF($D48>0,AY48+AZ47,AY48) -> 28
E49: =IF(D49>0,10,0) -> 0 | P49: =IF($D49>0,G49-$E49,0) -> 0 | Q49: =IF($D49>0,P49+Q48,P49) -> 0 | R49: =IF($D49>0,H49-$E49,0) -> 0 | S49: =IF($D49>0,R49+S48,R49) -> 0 | U49: =IF($D49>0,I49-$E49,0) -> 0 | V49: =IF($D49>0,U49+V48,U49) -> 0 | W49: =IF($D49>0,J49-$E49,0) -> 0 | X49: =IF($D49>0,W49+X48,W49) -> 0 | Z49: =IF($D49>0,K49-$E49,0) -> 0 | AA49: =IF($D49>0,Z49+AA48,Z49) -> 0 | AB49: =IF($D49>0,L49-$E49,0) -> 0 | AC49: =IF($D49>0,AB49+AC48,AB49) -> 0 | AE49: =IF($D49>0,M49-$E49,0) -> 0 | AF49: =IF($D49>0,AE49+AF48,AE49) -> 0 | AG49: =IF($D49>0,N49-$E49,0) -> 0 | AH49: =IF($D49>0,AG49+AH48,AG49) -> 0 | AJ49: =P49+U49+Z49+AE49 -> 0 | AK49: =IF($D49>0,AJ49+AK48,AJ49) -> 0 | AL49: =R49+W49+AB49+AG49 -> 0 | AM49: =IF($D49>0,AL49+AM48,AL49) -> 0 | AN49: =AJ49+AL49 -> 0 | AO49: =IF($D49>0,AN49+AO48,AN49) -> 0 | AQ49: =P49+R49 -> 0 | AR49: =IF($D49>0,AQ49+AR48,AQ49) -> 0 | AS49: =U49+W49 -> 0 | AT49: =IF($D49>0,AS49+AT48,AS49) -> 0 | AU49: =Z49+AB49 -> 0 | AV49: =IF($D49>0,AU49+AV48,AU49) -> 0 | AW49: =AE49+AG49 -> 0 | AX49: =IF($D49>0,AW49+AX48,AW49) -> 0 | AY49: =AQ49+AS49 -> 0 | AZ49: =IF($D49>0,AY49+AZ48,AY49) -> 0
A50: Ven | B50: 40935 | C50: Pau | D50: 18 | E50: =IF(D50>0,10,0) -> 10 | G50: 17.3 | H50: 11.1 | I50: 12 | J50: 8.5 | K50: 12.8 | L50: 9.7 | M50: 9 | N50: 16.9 | P50: =IF($D50>0,G50-$E50,0) -> 7.3 | Q50: =IF($D50>0,P50+Q49,P50) -> 7.3 | R50: =IF($D50>0,H50-$E50,0) -> 1.1 | S50: =IF($D50>0,R50+S49,R50) -> 1.1 | U50: =IF($D50>0,I50-$E50,0) -> 2 | V50: =IF($D50>0,U50+V49,U50) -> 2 | W50: =IF($D50>0,J50-$E50,0) -> -1.5 | X50: =IF($D50>0,W50+X49,W50) -> -1.5 | Z50: =IF($D50>0,K50-$E50,0) -> 2.8 | AA50: =IF($D50>0,Z50+AA49,Z50) -> 2.8 | AB50: =IF($D50>0,L50-$E50,0) -> -0.3 | AC50: =IF($D50>0,AB50+AC49,AB50) -> -0.3 | AE50: =IF($D50>0,M50-$E50,0) -> -1 | AF50: =IF($D50>0,AE50+AF49,AE50) -> -1 | AG50: =IF($D50>0,N50-$E50,0) -> 6.9 | AH50: =IF($D50>0,AG50+AH49,AG50) -> 6.9 | AJ50: =P50+U50+Z50+AE50 -> 11.1 | AK50: =IF($D50>0,AJ50+AK49,AJ50) -> 11.1 | AL50: =R50+W50+AB50+AG50 -> 6.2 | AM50: =IF($D50>0,AL50+AM49,AL50) -> 6.2 | AN50: =AJ50+AL50 -> 17.3 | AO50: =IF($D50>0,AN50+AO49,AN50) -> 17.3 | AQ50: =P50+R50 -> 8.4 | AR50: =IF($D50>0,AQ50+AR49,AQ50) -> 8.4 | AS50: =U50+W50 -> 0.5 | AT50: =IF($D50>0,AS50+AT49,AS50) -> 0.5 | AU50: =Z50+AB50 -> 2.5 | AV50: =IF($D50>0,AU50+AV49,AU50) -> 2.5 | AW50: =AE50+AG50 -> 5.9 | AX50: =IF($D50>0,AW50+AX49,AW50) -> 5.9 | AY50: =AQ50+AS50 -> 8.9 | AZ50: =IF($D50>0,AY50+AZ49,AY50) -> 8.9
E51: =IF(D51>0,10,0) -> 0 | P51: =IF($D51>0,G51-$E51,0) -> 0 | Q51: =IF($D51>0,P51+Q50,P51) -> 0 | R51: =IF($D51>0,H51-$E51,0) -> 0 | S51: =IF($D51>0,R51+S50,R51) -> 0 | U51: =IF($D51>0,I51-$E51,0) -> 0 | V51: =IF($D51>0,U51+V50,U51) -> 0 | W51: =IF($D51>0,J51-$E51,0) -> 0 | X51: =IF($D51>0,W51+X50,W51) -> 0 | Z51: =IF($D51>0,K51-$E51,0) -> 0 | AA51: =IF($D51>0,Z51+AA50,Z51) -> 0 | AB51: =IF($D51>0,L51-$E51,0) -> 0 | AC51: =IF($D51>0,AB51+AC50,AB51) -> 0 | AE51: =IF($D51>0,M51-$E51,0) -> 0 | AF51: =IF($D51>0,AE51+AF50,AE51) -> 0 | AG51: =IF($D51>0,N51-$E51,0) -> 0 | AH51: =IF($D51>0,AG51+AH50,AG51) -> 0 | AJ51: =P51+U51+Z51+AE51 -> 0 | AK51: =IF($D51>0,AJ51+AK50,AJ51) -> 0 | AL51: =R51+W51+AB51+AG51 -> 0 | AM51: =IF($D51>0,AL51+AM50,AL51) -> 0 | AN51: =AJ51+AL51 -> 0 | AO51: =IF($D51>0,AN51+AO50,AN51) -> 0 | AQ51: =P51+R51 -> 0 | AR51: =IF($D51>0,AQ51+AR50,AQ51) -> 0 | AS51: =U51+W51 -> 0 | AT51: =IF($D51>0,AS51+AT50,AS51) -> 0 | AU51: =Z51+AB51 -> 0 | AV51: =IF($D51>0,AU51+AV50,AU51) -> 0 | AW51: =AE51+AG51 -> 0 | AX51: =IF($D51>0,AW51+AX50,AW51) -> 0 | AY51: =AQ51+AS51 -> 0 | AZ51: =IF($D51>0,AY51+AZ50,AY51) -> 0
A52: Sam | B52: 40936 | C52: Pau | D52: 13 | E52: =IF(D52>0,10,0) -> 10 | G52: 18.9 | H52: 14.9 | I52: 16.9 | J52: 15.2 | K52: 18.2 | L52: 12.6 | M52: 16 | N52: 15.3 | P52: =IF($D52>0,G52-$E52,0) -> 8.9 | Q52: =IF($D52>0,P52+Q51,P52) -> 8.9 | R52: =IF($D52>0,H52-$E52,0) -> 4.9 | S52: =IF($D52>0,R52+S51,R52) -> 4.9 | U52: =IF($D52>0,I52-$E52,0) -> 6.9 | V52: =IF($D52>0,U52+V51,U52) -> 6.9 | W52: =IF($D52>0,J52-$E52,0) -> 5.2 | X52: =IF($D52>0,W52+X51,W52) -> 5.2 | Z52: =IF($D52>0,K52-$E52,0) -> 8.2 | AA52: =IF($D52>0,Z52+AA51,Z52) -> 8.2 | AB52: =IF($D52>0,L52-$E52,0) -> 2.6 | AC52: =IF($D52>0,AB52+AC51,AB52) -> 2.6 | AE52: =IF($D52>0,M52-$E52,0) -> 6 | AF52: =IF($D52>0,AE52+AF51,AE52) -> 6 | AG52: =IF($D52>0,N52-$E52,0) -> 5.3 | AH52: =IF($D52>0,AG52+AH51,AG52) -> 5.3 | AJ52: =P52+U52+Z52+AE52 -> 30 | AK52: =IF($D52>0,AJ52+AK51,AJ52) -> 30 | AL52: =R52+W52+AB52+AG52 -> 18 | AM52: =IF($D52>0,AL52+AM51,AL52) -> 18 | AN52: =AJ52+AL52 -> 48 | AO52: =IF($D52>0,AN52+AO51,AN52) -> 48 | AQ52: =P52+R52 -> 13.8 | AR52: =IF($D52>0,AQ52+AR51,AQ52) -> 13.8 | AS52: =U52+W52 -> 12.1 | AT52: =IF($D52>0,AS52+AT51,AS52) -> 12.1 | AU52: =Z52+AB52 -> 10.8 | AV52: =IF($D52>0,AU52+AV51,AU52) -> 10.8 | AW52: =AE52+AG52 -> 11.3 | AX52: =IF($D52>0,AW52+AX51,AW52) -> 11.3 | AY52: =AQ52+AS52 -> 25.9 | AZ52: =IF($D52>0,AY52+AZ51,AY52) -> 25.9
E53: =IF(D53>0,10,0) -> 0 | P53: =IF($D53>0,G53-$E53,0) -> 0 | Q53: =IF($D53>0,P53+Q52,P53) -> 0 | R53: =IF($D53>0,H53-$E53,0) -> 0 | S53: =IF($D53>0,R53+S52,R53) -> 0 | U53: =IF($D53>0,I53-$E53,0) -> 0 | V53: =IF($D53>0,U53+V52,U53) -> 0 | W53: =IF($D53>0,J53-$E53,0) -> 0 | X53: =IF($D53>0,W53+X52,W53) -> 0 | Z53: =IF($D53>0,K53-$E53,0) -> 0 | AA53: =IF($D53>0,Z53+AA52,Z53) -> 0 | AB53: =IF($D53>0,L53-$E53,0) -> 0 | AC53: =IF($D53>0,AB53+AC52,AB53) -> 0 | AE53: =IF($D53>0,M53-$E53,0) -> 0 | AF53: =IF($D53>0,AE53+AF52,AE53) -> 0 | AG53: =IF($D53>0,N53-$E53,0) -> 0 | AH53: =IF($D53>0,AG53+AH52,AG53) -> 0 | AJ53: =P53+U53+Z53+AE53 -> 0 | AK53: =IF($D53>0,AJ53+AK52,AJ53) -> 0 | AL53: =R53+W53+AB53+AG53 -> 0 | AM53: =IF($D53>0,AL53+AM52,AL53) -> 0 | AN53: =AJ53+AL53 -> 0 | AO53: =IF($D53>0,AN53+AO52,AN53) -> 0 | AQ53: =P53+R53 -> 0 | AR53: =IF($D53>0,AQ53+AR52,AQ53) -> 0 | AS53: =U53+W53 -> 0 | AT53: =IF($D53>0,AS53+AT52,AS53) -> 0 | AU53: =Z53+AB53 -> 0 | AV53: =IF($D53>0,AU53+AV52,AU53) -> 0 | AW53: =AE53+AG53 -> 0 | AX53: =IF($D53>0,AW53+AX52,AW53) -> 0 | AY53: =AQ53+AS53 -> 0 | AZ53: =IF($D53>0,AY53+AZ52,AY53) -> 0
P54: =IF($D54>0,G54-$E54,0) -> 0 | Q54: =IF($D54>0,P54+Q53,P54) -> 0 | R54: =IF($D54>0,H54-$E54,0) -> 0 | S54: =IF($D54>0,R54+S53,R54) -> 0 | U54: =IF($D54>0,I54-$E54,0) -> 0 | V54: =IF($D54>0,U54+V53,U54) -> 0 | W54: =IF($D54>0,J54-$E54,0) -> 0 | X54: =IF($D54>0,W54+X53,W54) -> 0 | Z54: =IF($D54>0,K54-$E54,0) -> 0 | AA54: =IF($D54>0,Z54+AA53,Z54) -> 0 | AB54: =IF($D54>0,L54-$E54,0) -> 0 | AC54: =IF($D54>0,AB54+AC53,AB54) -> 0 | AE54: =IF($D54>0,M54-$E54,0) -> 0 | AF54: =IF($D54>0,AE54+AF53,AE54) -> 0 | AG54: =IF($D54>0,N54-$E54,0) -> 0 | AH54: =IF($D54>0,AG54+AH53,AG54) -> 0 | AJ54: =P54+U54+Z54+AE54 -> 0 | AK54: =IF($D54>0,AJ54+AK53,AJ54) -> 0 | AL54: =R54+W54+AB54+AG54 -> 0 | AM54: =IF($D54>0,AL54+AM53,AL54) -> 0 | AN54: =AJ54+AL54 -> 0 | AO54: =IF($D54>0,AN54+AO53,AN54) -> 0 | AQ54: =P54+R54 -> 0 | AR54: =IF($D54>0,AQ54+AR53,AQ54) -> 0 | AS54: =U54+W54 -> 0 | AT54: =IF($D54>0,AS54+AT53,AS54) -> 0 | AU54: =Z54+AB54 -> 0 | AV54: =IF($D54>0,AU54+AV53,AU54) -> 0 | AW54: =AE54+AG54 -> 0 | AX54: =IF($D54>0,AW54+AX53,AW54) -> 0 | AY54: =AQ54+AS54 -> 0 | AZ54: =IF($D54>0,AY54+AZ53,AY54) -> 0
G55: Rapports GENY | I55: Rapports ZETURF | K55: Rapports PMU | M55: Rapports LETURF | P55: Bilan GENY | U55: Bilan ZETURF | Z55: Bilan PMU | AE55: Bilan LETURF | AJ55: Bilan Total GENY + ZETURF +PMU + LETURF | AQ55: Bilan Total Gagnant / Placé
G56: Gagn | H56: Plac | I56: Gagn | J56: Plac | K56: Gagn | L56: Plac | M56: Gagn | N56: Plac | P56: Gagn | Q56: Ga cumul | R56: Plac | S56: Pla cumul | U56: Gagn | V56: Ga cumul | W56: Plac | X56: Pla cumul | Z56: Gagn | AA56: Ga cumul | AB56: Plac | AC56: Pla cumul | AE56: Gagn | AF56: Ga cumul | AG56: Plac | AH56: Pla cumul | AJ56: Gagn / crs | AK56: Ga G+Z+P+L | AL56: Plac / crs | AM56: Pla G+Z+P+L | AN56: Ga-Pl / crs | AO56: G / P G+Z+P+L | AQ56: GENY | AR56: GEN total | AS56: ZETURF | AT56: ZET total | AU56: PMU | AV56: PMU total | AW56: LETURF | AX56: LETURF tot | AY56: G+Z+P+L | AZ56: G+Z+P+L tot
P58: =IF($D58>0,G58-$E58,0) -> 0 | Q58: =IF($D58>0,P58+Q57,P58) -> 0 | R58: =IF($D58>0,H58-$E58,0) -> 0 | S58: =IF($D58>0,R58+S57,R58) -> 0 | U58: =IF($D58>0,I58-$E58,0) -> 0 | V58: =IF($D58>0,U58+V57,U58) -> 0 | W58: =IF($D58>0,J58-$E58,0) -> 0 | X58: =IF($D58>0,W58+X57,W58) -> 0 | Z58: =IF($D58>0,K58-$E58,0) -> 0 | AA58: =IF($D58>0,Z58+AA57,Z58) -> 0 | AB58: =IF($D58>0,L58-$E58,0) -> 0 | AC58: =IF($D58>0,AB58+AC57,AB58) -> 0 | AE58: =IF($D58>0,M58-$E58,0) -> 0 | AF58: =IF($D58>0,AE58+AF57,AE58) -> 0 | AG58: =IF($D58>0,N58-$E58,0) -> 0 | AH58: =IF($D58>0,AG58+AH57,AG58) -> 0 | AJ58: =P58+U58+Z58+AE58 -> 0 | AK58: =IF($D58>0,AJ58+AK57,AJ58) -> 0 | AL58: =R58+W58+AB58+AG58 -> 0 | AM58: =IF($D58>0,AL58+AM57,AL58) -> 0 | AN58: =AJ58+AL58 -> 0 | AO58: =IF($D58>0,AN58+AO57,AN58) -> 0 | AQ58: =P58+R58 -> 0 | AR58: =IF($D58>0,AQ58+AR57,AQ58) -> 0 | AS58: =U58+W58 -> 0 | AT58: =IF($D58>0,AS58+AT57,AS58) -> 0 | AU58: =Z58+AB58 -> 0 | AV58: =IF($D58>0,AU58+AV57,AU58) -> 0 | AW58: =AE58+AG58 -> 0 | AX58: =IF($D58>0,AW58+AX57,AW58) -> 0 | AY58: =AQ58+AS58 -> 0 | AZ58: =IF($D58>0,AY58+AZ57,AY58) -> 0
P59: =IF($D59>0,G59-$E59,0) -> 0 | Q59: =IF($D59>0,P59+Q58,P59) -> 0 | R59: =IF($D59>0,H59-$E59,0) -> 0 | S59: =IF($D59>0,R59+S58,R59) -> 0 | U59: =IF($D59>0,I59-$E59,0) -> 0 | V59: =IF($D59>0,U59+V58,U59) -> 0 | W59: =IF($D59>0,J59-$E59,0) -> 0 | X59: =IF($D59>0,W59+X58,W59) -> 0 | Z59: =IF($D59>0,K59-$E59,0) -> 0 | AA59: =IF($D59>0,Z59+AA58,Z59) -> 0 | AB59: =IF($D59>0,L59-$E59,0) -> 0 | AC59: =IF($D59>0,AB59+AC58,AB59) -> 0 | AE59: =IF($D59>0,M59-$E59,0) -> 0 | AF59: =IF($D59>0,AE59+AF58,AE59) -> 0 | AG59: =IF($D59>0,N59-$E59,0) -> 0 | AH59: =IF($D59>0,AG59+AH58,AG59) -> 0 | AJ59: =P59+U59+Z59+AE59 -> 0 | AK59: =IF($D59>0,AJ59+AK58,AJ59) -> 0 | AL59: =R59+W59+AB59+AG59 -> 0 | AM59: =IF($D59>0,AL59+AM58,AL59) -> 0 | AN59: =AJ59+AL59 -> 0 | AO59: =IF($D59>0,AN59+AO58,AN59) -> 0 | AQ59: =P59+R59 -> 0 | AR59: =IF($D59>0,AQ59+AR58,AQ59) -> 0 | AS59: =U59+W59 -> 0 | AT59: =IF($D59>0,AS59+AT58,AS59) -> 0 | AU59: =Z59+AB59 -> 0 | AV59: =IF($D59>0,AU59+AV58,AU59) -> 0 | AW59: =AE59+AG59 -> 0 | AX59: =IF($D59>0,AW59+AX58,AW59) -> 0 | AY59: =AQ59+AS59 -> 0 | AZ59: =IF($D59>0,AY59+AZ58,AY59) -> 0
P60: =IF($D60>0,G60-$E60,0) -> 0 | Q60: =IF($D60>0,P60+Q59,P60) -> 0 | R60: =IF($D60>0,H60-$E60,0) -> 0 | S60: =IF($D60>0,R60+S59,R60) -> 0 | U60: =IF($D60>0,I60-$E60,0) -> 0 | V60: =IF($D60>0,U60+V59,U60) -> 0 | W60: =IF($D60>0,J60-$E60,0) -> 0 | X60: =IF($D60>0,W60+X59,W60) -> 0 | Z60: =IF($D60>0,K60-$E60,0) -> 0 | AA60: =IF($D60>0,Z60+AA59,Z60) -> 0 | AB60: =IF($D60>0,L60-$E60,0) -> 0 | AC60: =IF($D60>0,AB60+AC59,AB60) -> 0 | AE60: =IF($D60>0,M60-$E60,0) -> 0 | AF60: =IF($D60>0,AE60+AF59,AE60) -> 0 | AG60: =IF($D60>0,N60-$E60,0) -> 0 | AH60: =IF($D60>0,AG60+AH59,AG60) -> 0 | AJ60: =P60+U60+Z60+AE60 -> 0 | AK60: =IF($D60>0,AJ60+AK59,AJ60) -> 0 | AL60: =R60+W60+AB60+AG60 -> 0 | AM60: =IF($D60>0,AL60+AM59,AL60) -> 0 | AN60: =AJ60+AL60 -> 0 | AO60: =IF($D60>0,AN60+AO59,AN60) -> 0 | AQ60: =P60+R60 -> 0 | AR60: =IF($D60>0,AQ60+AR59,AQ60) -> 0 | AS60: =U60+W60 -> 0 | AT60: =IF($D60>0,AS60+AT59,AS60) -> 0 | AU60: =Z60+AB60 -> 0 | AV60: =IF($D60>0,AU60+AV59,AU60) -> 0 | AW60: =AE60+AG60 -> 0 | AX60: =IF($D60>0,AW60+AX59,AW60) -> 0 | AY60: =AQ60+AS60 -> 0 | AZ60: =IF($D60>0,AY60+AZ59,AY60) -> 0
P61: =IF($D61>0,G61-$E61,0) -> 0 | Q61: =IF($D61>0,P61+Q60,P61) -> 0 | R61: =IF($D61>0,H61-$E61,0) -> 0 | S61: =IF($D61>0,R61+S60,R61) -> 0 | U61: =IF($D61>0,I61-$E61,0) -> 0 | V61: =IF($D61>0,U61+V60,U61) -> 0 | W61: =IF($D61>0,J61-$E61,0) -> 0 | X61: =IF($D61>0,W61+X60,W61) -> 0 | Z61: =IF($D61>0,K61-$E61,0) -> 0 | AA61: =IF($D61>0,Z61+AA60,Z61) -> 0 | AB61: =IF($D61>0,L61-$E61,0) -> 0 | AC61: =IF($D61>0,AB61+AC60,AB61) -> 0 | AE61: =IF($D61>0,M61-$E61,0) -> 0 | AF61: =IF($D61>0,AE61+AF60,AE61) -> 0 | AG61: =IF($D61>0,N61-$E61,0) -> 0 | AH61: =IF($D61>0,AG61+AH60,AG61) -> 0 | AJ61: =P61+U61+Z61+AE61 -> 0 | AK61: =IF($D61>0,AJ61+AK60,AJ61) -> 0 | AL61: =R61+W61+AB61+AG61 -> 0 | AM61: =IF($D61>0,AL61+AM60,AL61) -> 0 | AN61: =AJ61+AL61 -> 0 | AO61: =IF($D61>0,AN61+AO60,AN61) -> 0 | AQ61: =P61+R61 -> 0 | AR61: =IF($D61>0,AQ61+AR60,AQ61) -> 0 | AS61: =U61+W61 -> 0 | AT61: =IF($D61>0,AS61+AT60,AS61) -> 0 | AU61: =Z61+AB61 -> 0 | AV61: =IF($D61>0,AU61+AV60,AU61) -> 0 | AW61: =AE61+AG61 -> 0 | AX61: =IF($D61>0,AW61+AX60,AW61) -> 0 | AY61: =AQ61+AS61 -> 0 | AZ61: =IF($D61>0,AY61+AZ60,AY61) -> 0
E62: =IF(D62>0,10,0) -> 0 | P62: =IF($D62>0,G62-$E62,0) -> 0 | Q62: =IF($D62>0,P62+Q61,P62) -> 0 | R62: =IF($D62>0,H62-$E62,0) -> 0 | S62: =IF($D62>0,R62+S61,R62) -> 0 | U62: =IF($D62>0,I62-$E62,0) -> 0 | V62: =IF($D62>0,U62+V61,U62) -> 0 | W62: =IF($D62>0,J62-$E62,0) -> 0 | X62: =IF($D62>0,W62+X61,W62) -> 0 | Z62: =IF($D62>0,K62-$E62,0) -> 0 | AA62: =IF($D62>0,Z62+AA61,Z62) -> 0 | AB62: =IF($D62>0,L62-$E62,0) -> 0 | AC62: =IF($D62>0,AB62+AC61,AB62) -> 0 | AE62: =IF($D62>0,M62-$E62,0) -> 0 | AF62: =IF($D62>0,AE62+AF61,AE62) -> 0 | AG62: =IF($D62>0,N62-$E62,0) -> 0 | AH62: =IF($D62>0,AG62+AH61,AG62) -> 0 | AJ62: =P62+U62+Z62+AE62 -> 0 | AK62: =IF($D62>0,AJ62+AK61,AJ62) -> 0 | AL62: =R62+W62+AB62+AG62 -> 0 | AM62: =IF($D62>0,AL62+AM61,AL62) -> 0 | AN62: =AJ62+AL62 -> 0 | AO62: =IF($D62>0,AN62+AO61,AN62) -> 0 | AQ62: =P62+R62 -> 0 | AR62: =IF($D62>0,AQ62+AR61,AQ62) -> 0 | AS62: =U62+W62 -> 0 | AT62: =IF($D62>0,AS62+AT61,AS62) -> 0 | AU62: =Z62+AB62 -> 0 | AV62: =IF($D62>0,AU62+AV61,AU62) -> 0 | AW62: =AE62+AG62 -> 0 | AX62: =IF($D62>0,AW62+AX61,AW62) -> 0 | AY62: =AQ62+AS62 -> 0 | AZ62: =IF($D62>0,AY62+AZ61,AY62) -> 0
E63: =IF(D63>0,10,0) -> 0 | P63: =IF($D63>0,G63-$E63,0) -> 0 | Q63: =IF($D63>0,P63+Q62,P63) -> 0 | R63: =IF($D63>0,H63-$E63,0) -> 0 | S63: =IF($D63>0,R63+S62,R63) -> 0 | U63: =IF($D63>0,I63-$E63,0) -> 0 | V63: =IF($D63>0,U63+V62,U63) -> 0 | W63: =IF($D63>0,J63-$E63,0) -> 0 | X63: =IF($D63>0,W63+X62,W63) -> 0 | Z63: =IF($D63>0,K63-$E63,0) -> 0 | AA63: =IF($D63>0,Z63+AA62,Z63) -> 0 | AB63: =IF($D63>0,L63-$E63,0) -> 0 | AC63: =IF($D63>0,AB63+AC62,AB63) -> 0 | AE63: =IF($D63>0,M63-$E63,0) -> 0 | AF63: =IF($D63>0,AE63+AF62,AE63) -> 0 | AG63: =IF($D63>0,N63-$E63,0) -> 0 | AH63: =IF($D63>0,AG63+AH62,AG63) -> 0 | AJ63: =P63+U63+Z63+AE63 -> 0 | AK63: =IF($D63>0,AJ63+AK62,AJ63) -> 0 | AL63: =R63+W63+AB63+AG63 -> 0 | AM63: =IF($D63>0,AL63+AM62,AL63) -> 0 | AN63: =AJ63+AL63 -> 0 | AO63: =IF($D63>0,AN63+AO62,AN63) -> 0 | AQ63: =P63+R63 -> 0 | AR63: =IF($D63>0,AQ63+AR62,AQ63) -> 0 | AS63: =U63+W63 -> 0 | AT63: =IF($D63>0,AS63+AT62,AS63) -> 0 | AU63: =Z63+AB63 -> 0 | AV63: =IF($D63>0,AU63+AV62,AU63) -> 0 | AW63: =AE63+AG63 -> 0 | AX63: =IF($D63>0,AW63+AX62,AW63) -> 0 | AY63: =AQ63+AS63 -> 0 | AZ63: =IF($D63>0,AY63+AZ62,AY63) -> 0
E64: =IF(D64>0,10,0) -> 0 | P64: =IF($D64>0,G64-$E64,0) -> 0 | Q64: =IF($D64>0,P64+Q63,P64) -> 0 | R64: =IF($D64>0,H64-$E64,0) -> 0 | S64: =IF($D64>0,R64+S63,R64) -> 0 | U64: =IF($D64>0,I64-$E64,0) -> 0 | V64: =IF($D64>0,U64+V63,U64) -> 0 | W64: =IF($D64>0,J64-$E64,0) -> 0 | X64: =IF($D64>0,W64+X63,W64) -> 0 | Z64: =IF($D64>0,K64-$E64,0) -> 0 | AA64: =IF($D64>0,Z64+AA63,Z64) -> 0 | AB64: =IF($D64>0,L64-$E64,0) -> 0 | AC64: =IF($D64>0,AB64+AC63,AB64) -> 0 | AE64: =IF($D64>0,M64-$E64,0) -> 0 | AF64: =IF($D64>0,AE64+AF63,AE64) -> 0 | AG64: =IF($D64>0,N64-$E64,0) -> 0 | AH64: =IF($D64>0,AG64+AH63,AG64) -> 0 | AJ64: =P64+U64+Z64+AE64 -> 0 | AK64: =IF($D64>0,AJ64+AK63,AJ64) -> 0 | AL64: =R64+W64+AB64+AG64 -> 0 | AM64: =IF($D64>0,AL64+AM63,AL64) -> 0 | AN64: =AJ64+AL64 -> 0 | AO64: =IF($D64>0,AN64+AO63,AN64) -> 0 | AQ64: =P64+R64 -> 0 | AR64: =IF($D64>0,AQ64+AR63,AQ64) -> 0 | AS64: =U64+W64 -> 0 | AT64: =IF($D64>0,AS64+AT63,AS64) -> 0 | AU64: =Z64+AB64 -> 0 | AV64: =IF($D64>0,AU64+AV63,AU64) -> 0 | AW64: =AE64+AG64 -> 0 | AX64: =IF($D64>0,AW64+AX63,AW64) -> 0 | AY64: =AQ64+AS64 -> 0 | AZ64: =IF($D64>0,AY64+AZ63,AY64) -> 0
E65: =IF(D65>0,10,0) -> 0 | P65: =IF($D65>0,G65-$E65,0) -> 0 | Q65: =IF($D65>0,P65+Q64,P65) -> 0 | R65: =IF($D65>0,H65-$E65,0) -> 0 | S65: =IF($D65>0,R65+S64,R65) -> 0 | U65: =IF($D65>0,I65-$E65,0) -> 0 | V65: =IF($D65>0,U65+V64,U65) -> 0 | W65: =IF($D65>0,J65-$E65,0) -> 0 | X65: =IF($D65>0,W65+X64,W65) -> 0 | Z65: =IF($D65>0,K65-$E65,0) -> 0 | AA65: =IF($D65>0,Z65+AA64,Z65) -> 0 | AB65: =IF($D65>0,L65-$E65,0) -> 0 | AC65: =IF($D65>0,AB65+AC64,AB65) -> 0 | AE65: =IF($D65>0,M65-$E65,0) -> 0 | AF65: =IF($D65>0,AE65+AF64,AE65) -> 0 | AG65: =IF($D65>0,N65-$E65,0) -> 0 | AH65: =IF($D65>0,AG65+AH64,AG65) -> 0 | AJ65: =P65+U65+Z65+AE65 -> 0 | AK65: =IF($D65>0,AJ65+AK64,AJ65) -> 0 | AL65: =R65+W65+AB65+AG65 -> 0 | AM65: =IF($D65>0,AL65+AM64,AL65) -> 0 | AN65: =AJ65+AL65 -> 0 | AO65: =IF($D65>0,AN65+AO64,AN65) -> 0 | AQ65: =P65+R65 -> 0 | AR65: =IF($D65>0,AQ65+AR64,AQ65) -> 0 | AS65: =U65+W65 -> 0 | AT65: =IF($D65>0,AS65+AT64,AS65) -> 0 | AU65: =Z65+AB65 -> 0 | AV65: =IF($D65>0,AU65+AV64,AU65) -> 0 | AW65: =AE65+AG65 -> 0 | AX65: =IF($D65>0,AW65+AX64,AW65) -> 0 | AY65: =AQ65+AS65 -> 0 | AZ65: =IF($D65>0,AY65+AZ64,AY65) -> 0
E66: =IF(D66>0,10,0) -> 0 | P66: =IF($D66>0,G66-$E66,0) -> 0 | Q66: =IF($D66>0,P66+Q65,P66) -> 0 | R66: =IF($D66>0,H66-$E66,0) -> 0 | S66: =IF($D66>0,R66+S65,R66) -> 0 | U66: =IF($D66>0,I66-$E66,0) -> 0 | V66: =IF($D66>0,U66+V65,U66) -> 0 | W66: =IF($D66>0,J66-$E66,0) -> 0 | X66: =IF($D66>0,W66+X65,W66) -> 0 | Z66: =IF($D66>0,K66-$E66,0) -> 0 | AA66: =IF($D66>0,Z66+AA65,Z66) -> 0 | AB66: =IF($D66>0,L66-$E66,0) -> 0 | AC66: =IF($D66>0,AB66+AC65,AB66) -> 0 | AE66: =IF($D66>0,M66-$E66,0) -> 0 | AF66: =IF($D66>0,AE66+AF65,AE66) -> 0 | AG66: =IF($D66>0,N66-$E66,0) -> 0 | AH66: =IF($D66>0,AG66+AH65,AG66) -> 0 | AJ66: =P66+U66+Z66+AE66 -> 0 | AK66: =IF($D66>0,AJ66+AK65,AJ66) -> 0 | AL66: =R66+W66+AB66+AG66 -> 0 | AM66: =IF($D66>0,AL66+AM65,AL66) -> 0 | AN66: =AJ66+AL66 -> 0 | AO66: =IF($D66>0,AN66+AO65,AN66) -> 0 | AQ66: =P66+R66 -> 0 | AR66: =IF($D66>0,AQ66+AR65,AQ66) -> 0 | AS66: =U66+W66 -> 0 | AT66: =IF($D66>0,AS66+AT65,AS66) -> 0 | AU66: =Z66+AB66 -> 0 | AV66: =IF($D66>0,AU66+AV65,AU66) -> 0 | AW66: =AE66+AG66 -> 0 | AX66: =IF($D66>0,AW66+AX65,AW66) -> 0 | AY66: =AQ66+AS66 -> 0 | AZ66: =IF($D66>0,AY66+AZ65,AY66) -> 0
E67: =IF(D67>0,10,0) -> 0 | P67: =IF($D67>0,G67-$E67,0) -> 0 | Q67: =IF($D67>0,P67+Q66,P67) -> 0 | R67: =IF($D67>0,H67-$E67,0) -> 0 | S67: =IF($D67>0,R67+S66,R67) -> 0 | U67: =IF($D67>0,I67-$E67,0) -> 0 | V67: =IF($D67>0,U67+V66,U67) -> 0 | W67: =IF($D67>0,J67-$E67,0) -> 0 | X67: =IF($D67>0,W67+X66,W67) -> 0 | Z67: =IF($D67>0,K67-$E67,0) -> 0 | AA67: =IF($D67>0,Z67+AA66,Z67) -> 0 | AB67: =IF($D67>0,L67-$E67,0) -> 0 | AC67: =IF($D67>0,AB67+AC66,AB67) -> 0 | AE67: =IF($D67>0,M67-$E67,0) -> 0 | AF67: =IF($D67>0,AE67+AF66,AE67) -> 0 | AG67: =IF($D67>0,N67-$E67,0) -> 0 | AH67: =IF($D67>0,AG67+AH66,AG67) -> 0 | AJ67: =P67+U67+Z67+AE67 -> 0 | AK67: =IF($D67>0,AJ67+AK66,AJ67) -> 0 | AL67: =R67+W67+AB67+AG67 -> 0 | AM67: =IF($D67>0,AL67+AM66,AL67) -> 0 | AN67: =AJ67+AL67 -> 0 | AO67: =IF($D67>0,AN67+AO66,AN67) -> 0 | AQ67: =P67+R67 -> 0 | AR67: =IF($D67>0,AQ67+AR66,AQ67) -> 0 | AS67: =U67+W67 -> 0 | AT67: =IF($D67>0,AS67+AT66,AS67) -> 0 | AU67: =Z67+AB67 -> 0 | AV67: =IF($D67>0,AU67+AV66,AU67) -> 0 | AW67: =AE67+AG67 -> 0 | AX67: =IF($D67>0,AW67+AX66,AW67) -> 0 | AY67: =AQ67+AS67 -> 0 | AZ67: =IF($D67>0,AY67+AZ66,AY67) -> 0
E68: =IF(D68>0,10,0) -> 0 | P68: =IF($D68>0,G68-$E68,0) -> 0 | Q68: =IF($D68>0,P68+Q67,P68) -> 0 | R68: =IF($D68>0,H68-$E68,0) -> 0 | S68: =IF($D68>0,R68+S67,R68) -> 0 | U68: =IF($D68>0,I68-$E68,0) -> 0 | V68: =IF($D68>0,U68+V67,U68) -> 0 | W68: =IF($D68>0,J68-$E68,0) -> 0 | X68: =IF($D68>0,W68+X67,W68) -> 0 | Z68: =IF($D68>0,K68-$E68,0) -> 0 | AA68: =IF($D68>0,Z68+AA67,Z68) -> 0 | AB68: =IF($D68>0,L68-$E68,0) -> 0 | AC68: =IF($D68>0,AB68+AC67,AB68) -> 0 | AE68: =IF($D68>0,M68-$E68,0) -> 0 | AF68: =IF($D68>0,AE68+AF67,AE68) -> 0 | AG68: =IF($D68>0,N68-$E68,0) -> 0 | AH68: =IF($D68>0,AG68+AH67,AG68) -> 0 | AJ68: =P68+U68+Z68+AE68 -> 0 | AK68: =IF($D68>0,AJ68+AK67,AJ68) -> 0 | AL68: =R68+W68+AB68+AG68 -> 0 | AM68: =IF($D68>0,AL68+AM67,AL68) -> 0 | AN68: =AJ68+AL68 -> 0 | AO68: =IF($D68>0,AN68+AO67,AN68) -> 0 | AQ68: =P68+R68 -> 0 | AR68: =IF($D68>0,AQ68+AR67,AQ68) -> 0 | AS68: =U68+W68 -> 0 | AT68: =IF($D68>0,AS68+AT67,AS68) -> 0 | AU68: =Z68+AB68 -> 0 | AV68: =IF($D68>0,AU68+AV67,AU68) -> 0 | AW68: =AE68+AG68 -> 0 | AX68: =IF($D68>0,AW68+AX67,AW68) -> 0 | AY68: =AQ68+AS68 -> 0 | AZ68: =IF($D68>0,AY68+AZ67,AY68) -> 0
E69: =IF(D69>0,10,0) -> 0 | P69: =IF($D69>0,G69-$E69,0) -> 0 | Q69: =IF($D69>0,P69+Q68,P69) -> 0 | R69: =IF($D69>0,H69-$E69,0) -> 0 | S69: =IF($D69>0,R69+S68,R69) -> 0 | U69: =IF($D69>0,I69-$E69,0) -> 0 | V69: =IF($D69>0,U69+V68,U69) -> 0 | W69: =IF($D69>0,J69-$E69,0) -> 0 | X69: =IF($D69>0,W69+X68,W69) -> 0 | Z69: =IF($D69>0,K69-$E69,0) -> 0 | AA69: =IF($D69>0,Z69+AA68,Z69) -> 0 | AB69: =IF($D69>0,L69-$E69,0) -> 0 | AC69: =IF($D69>0,AB69+AC68,AB69) -> 0 | AE69: =IF($D69>0,M69-$E69,0) -> 0 | AF69: =IF($D69>0,AE69+AF68,AE69) -> 0 | AG69: =IF($D69>0,N69-$E69,0) -> 0 | AH69: =IF($D69>0,AG69+AH68,AG69) -> 0 | AJ69: =P69+U69+Z69+AE69 -> 0 | AK69: =IF($D69>0,AJ69+AK68,AJ69) -> 0 | AL69: =R69+W69+AB69+AG69 -> 0 | AM69: =IF($D69>0,AL69+AM68,AL69) -> 0 | AN69: =AJ69+AL69 -> 0 | AO69: =IF($D69>0,AN69+AO68,AN69) -> 0 | AQ69: =P69+R69 -> 0 | AR69: =IF($D69>0,AQ69+AR68,AQ69) -> 0 | AS69: =U69+W69 -> 0 | AT69: =IF($D69>0,AS69+AT68,AS69) -> 0 | AU69: =Z69+AB69 -> 0 | AV69: =IF($D69>0,AU69+AV68,AU69) -> 0 | AW69: =AE69+AG69 -> 0 | AX69: =IF($D69>0,AW69+AX68,AW69) -> 0 | AY69: =AQ69+AS69 -> 0 | AZ69: =IF($D69>0,AY69+AZ68,AY69) -> 0
E70: =IF(D70>0,10,0) -> 0 | P70: =IF($D70>0,G70-$E70,0) -> 0 | Q70: =IF($D70>0,P70+Q69,P70) -> 0 | R70: =IF($D70>0,H70-$E70,0) -> 0 | S70: =IF($D70>0,R70+S69,R70) -> 0 | U70: =IF($D70>0,I70-$E70,0) -> 0 | V70: =IF($D70>0,U70+V69,U70) -> 0 | W70: =IF($D70>0,J70-$E70,0) -> 0 | X70: =IF($D70>0,W70+X69,W70) -> 0 | Z70: =IF($D70>0,K70-$E70,0) -> 0 | AA70: =IF($D70>0,Z70+AA69,Z70) -> 0 | AB70: =IF($D70>0,L70-$E70,0) -> 0 | AC70: =IF($D70>0,AB70+AC69,AB70) -> 0 | AE70: =IF($D70>0,M70-$E70,0) -> 0 | AF70: =IF($D70>0,AE70+AF69,AE70) -> 0 | AG70: =IF($D70>0,N70-$E70,0) -> 0 | AH70: =IF($D70>0,AG70+AH69,AG70) -> 0 | AJ70: =P70+U70+Z70+AE70 -> 0 | AK70: =IF($D70>0,AJ70+AK69,AJ70) -> 0 | AL70: =R70+W70+AB70+AG70 -> 0 | AM70: =IF($D70>0,AL70+AM69,AL70) -> 0 | AN70: =AJ70+AL70 -> 0 | AO70: =IF($D70>0,AN70+AO69,AN70) -> 0 | AQ70: =P70+R70 -> 0 | AR70: =IF($D70>0,AQ70+AR69,AQ70) -> 0 | AS70: =U70+W70 -> 0 | AT70: =IF($D70>0,AS70+AT69,AS70) -> 0 | AU70: =Z70+AB70 -> 0 | AV70: =IF($D70>0,AU70+AV69,AU70) -> 0 | AW70: =AE70+AG70 -> 0 | AX70: =IF($D70>0,AW70+AX69,AW70) -> 0 | AY70: =AQ70+AS70 -> 0 | AZ70: =IF($D70>0,AY70+AZ69,AY70) -> 0
E71: =IF(D71>0,10,0) -> 0 | P71: =IF($D71>0,G71-$E71,0) -> 0 | Q71: =IF($D71>0,P71+Q70,P71) -> 0 | R71: =IF($D71>0,H71-$E71,0) -> 0 | S71: =IF($D71>0,R71+S70,R71) -> 0 | U71: =IF($D71>0,I71-$E71,0) -> 0 | V71: =IF($D71>0,U71+V70,U71) -> 0 | W71: =IF($D71>0,J71-$E71,0) -> 0 | X71: =IF($D71>0,W71+X70,W71) -> 0 | Z71: =IF($D71>0,K71-$E71,0) -> 0 | AA71: =IF($D71>0,Z71+AA70,Z71) -> 0 | AB71: =IF($D71>0,L71-$E71,0) -> 0 | AC71: =IF($D71>0,AB71+AC70,AB71) -> 0 | AE71: =IF($D71>0,M71-$E71,0) -> 0 | AF71: =IF($D71>0,AE71+AF70,AE71) -> 0 | AG71: =IF($D71>0,N71-$E71,0) -> 0 | AH71: =IF($D71>0,AG71+AH70,AG71) -> 0 | AJ71: =P71+U71+Z71+AE71 -> 0 | AK71: =IF($D71>0,AJ71+AK70,AJ71) -> 0 | AL71: =R71+W71+AB71+AG71 -> 0 | AM71: =IF($D71>0,AL71+AM70,AL71) -> 0 | AN71: =AJ71+AL71 -> 0 | AO71: =IF($D71>0,AN71+AO70,AN71) -> 0 | AQ71: =P71+R71 -> 0 | AR71: =IF($D71>0,AQ71+AR70,AQ71) -> 0 | AS71: =U71+W71 -> 0 | AT71: =IF($D71>0,AS71+AT70,AS71) -> 0 | AU71: =Z71+AB71 -> 0 | AV71: =IF($D71>0,AU71+AV70,AU71) -> 0 | AW71: =AE71+AG71 -> 0 | AX71: =IF($D71>0,AW71+AX70,AW71) -> 0 | AY71: =AQ71+AS71 -> 0 | AZ71: =IF($D71>0,AY71+AZ70,AY71) -> 0
E72: =IF(D72>0,10,0) -> 0 | P72: =IF($D72>0,G72-$E72,0) -> 0 | Q72: =IF($D72>0,P72+Q71,P72) -> 0 | R72: =IF($D72>0,H72-$E72,0) -> 0 | S72: =IF($D72>0,R72+S71,R72) -> 0 | U72: =IF($D72>0,I72-$E72,0) -> 0 | V72: =IF($D72>0,U72+V71,U72) -> 0 | W72: =IF($D72>0,J72-$E72,0) -> 0 | X72: =IF($D72>0,W72+X71,W72) -> 0 | Z72: =IF($D72>0,K72-$E72,0) -> 0 | AA72: =IF($D72>0,Z72+AA71,Z72) -> 0 | AB72: =IF($D72>0,L72-$E72,0) -> 0 | AC72: =IF($D72>0,AB72+AC71,AB72) -> 0 | AE72: =IF($D72>0,M72-$E72,0) -> 0 | AF72: =IF($D72>0,AE72+AF71,AE72) -> 0 | AG72: =IF($D72>0,N72-$E72,0) -> 0 | AH72: =IF($D72>0,AG72+AH71,AG72) -> 0 | AJ72: =P72+U72+Z72+AE72 -> 0 | AK72: =IF($D72>0,AJ72+AK71,AJ72) -> 0 | AL72: =R72+W72+AB72+AG72 -> 0 | AM72: =IF($D72>0,AL72+AM71,AL72) -> 0 | AN72: =AJ72+AL72 -> 0 | AO72: =IF($D72>0,AN72+AO71,AN72) -> 0 | AQ72: =P72+R72 -> 0 | AR72: =IF($D72>0,AQ72+AR71,AQ72) -> 0 | AS72: =U72+W72 -> 0 | AT72: =IF($D72>0,AS72+AT71,AS72) -> 0 | AU72: =Z72+AB72 -> 0 | AV72: =IF($D72>0,AU72+AV71,AU72) -> 0 | AW72: =AE72+AG72 -> 0 | AX72: =IF($D72>0,AW72+AX71,AW72) -> 0 | AY72: =AQ72+AS72 -> 0 | AZ72: =IF($D72>0,AY72+AZ71,AY72) -> 0
E73: =IF(D73>0,10,0) -> 0 | P73: =IF($D73>0,G73-$E73,0) -> 0 | Q73: =IF($D73>0,P73+Q72,P73) -> 0 | R73: =IF($D73>0,H73-$E73,0) -> 0 | S73: =IF($D73>0,R73+S72,R73) -> 0 | U73: =IF($D73>0,I73-$E73,0) -> 0 | V73: =IF($D73>0,U73+V72,U73) -> 0 | W73: =IF($D73>0,J73-$E73,0) -> 0 | X73: =IF($D73>0,W73+X72,W73) -> 0 | Z73: =IF($D73>0,K73-$E73,0) -> 0 | AA73: =IF($D73>0,Z73+AA72,Z73) -> 0 | AB73: =IF($D73>0,L73-$E73,0) -> 0 | AC73: =IF($D73>0,AB73+AC72,AB73) -> 0 | AE73: =IF($D73>0,M73-$E73,0) -> 0 | AF73: =IF($D73>0,AE73+AF72,AE73) -> 0 | AG73: =IF($D73>0,N73-$E73,0) -> 0 | AH73: =IF($D73>0,AG73+AH72,AG73) -> 0 | AJ73: =P73+U73+Z73+AE73 -> 0 | AK73: =IF($D73>0,AJ73+AK72,AJ73) -> 0 | AL73: =R73+W73+AB73+AG73 -> 0 | AM73: =IF($D73>0,AL73+AM72,AL73) -> 0 | AN73: =AJ73+AL73 -> 0 | AO73: =IF($D73>0,AN73+AO72,AN73) -> 0 | AQ73: =P73+R73 -> 0 | AR73: =IF($D73>0,AQ73+AR72,AQ73) -> 0 | AS73: =U73+W73 -> 0 | AT73: =IF($D73>0,AS73+AT72,AS73) -> 0 | AU73: =Z73+AB73 -> 0 | AV73: =IF($D73>0,AU73+AV72,AU73) -> 0 | AW73: =AE73+AG73 -> 0 | AX73: =IF($D73>0,AW73+AX72,AW73) -> 0 | AY73: =AQ73+AS73 -> 0 | AZ73: =IF($D73>0,AY73+AZ72,AY73) -> 0
... E147: =IF(D147>0,10,0) -> 0 | P147: =IF($D147>0,G147-$E147,0) -> 0 | Q147: =IF($D147>0,P147+Q146,P147) -> 0 | R147: =IF($D147>0,H147-$E147,0) -> 0 | S147: =IF($D147>0,R147+S146,R147) -> 0 | U147: =IF($D147>0,I147-$E147,0) -> 0 | V147: =IF($D147>0,U147+V146,U147) -> 0 | W147: =IF($D147>0,J147-$E147,0) -> 0 | X147: =IF($D147>0,W147+X146,W147) -> 0 | Z147: =IF($D147>0,K147-$E147,0) -> 0 | AA147: =IF($D147>0,Z147+AA146,Z147) -> 0 | AB147: =IF($D147>0,L147-$E147,0) -> 0 | AC147: =IF($D147>0,AB147+AC146,AB147) -> 0 | AE147: =IF($D147>0,M147-$E147,0) -> 0 | AF147: =IF($D147>0,AE147+AF146,AE147) -> 0 | AG147: =IF($D147>0,N147-$E147,0) -> 0 | AH147: =IF($D147>0,AG147+AH146,AG147) -> 0 | AJ147: =P147+U147+Z147+AE147 -> 0 | AK147: =IF($D147>0,AJ147+AK146,AJ147) -> 0 | AL147: =R147+W147+AB147+AG147 -> 0 | AM147: =IF($D147>0,AL147+AM146,AL147) -> 0 | AN147: =AJ147+AL147 -> 0 | AO147: =IF($D147>0,AN147+AO146,AN147) -> 0 | AQ147: =P147+R147 -> 0 | AR147: =IF($D147>0,AQ147+AR146,AQ147) -> 0 | AS147: =U147+W147 -> 0 | AT147: =IF($D147>0,AS147+AT146,AS147) -> 0 | AU147: =Z147+AB147 -> 0 | AV147: =IF($D147>0,AU147+AV146,AU147) -> 0 | AW147: =AE147+AG147 -> 0 | AX147: =IF($D147>0,AW147+AX146,AW147) -> 0 | AY147: =AQ147+AS147 -> 0 | AZ147: =IF($D147>0,AY147+AZ146,AY147) -> 0

Sheet Bilan Jour JS
H3: O B S T A C L E Jeux simples
B6: Condition de jeu : partants > 12 | I6: Cote du favori : > 3/1 | N6: Choix des chevaux à jouer : 10 premiers du prono GENY + compléter éventuellement avec le prono ZETURF
A8: Date | F8: Bilan GENY | K8: Bilan ZETURF | P8: Bilan PMU | U8: Bilan LETURF | Z8: Bilan Total | AE8: Bilan Total Gagnant / Placé
F9: Gagn | H9: Plac | K9: Gagn | M9: Plac | P9: Gagn | R9: Plac | U9: Gagn | W9: Plac | Z9: Gagn GE+ZE+PMU+LET | AB9: Plac GE+ZE+PMU+LET | AE9: GENY Gagn / Plac | AG9: ZETURF Gagn / Plac | AI9: PMU Gagn / Plac | AK9: LETURF Gagn / Plac | AM9: TOTAL Gagn / Plac
A10: JANVIER | C10: Hip | D10: Crs
A11: 2012 | F11: Jour | G11: Bilan | H11: Jour | I11: Bilan | K11: Jour | L11: Bilan | M11: rap | N11: Bilan | P11: Jour | Q11: Bilan | R11: rap | S11: Bilan | U11: Jour | V11: Bilan | W11: rap | X11: Bilan | Z11: Jour | AA11: Bilan | AB11: rap | AC11: Bilan | AE11: Jour | AF11: Bilan | AG11: rap | AH11: Bilan | AI11: rap | AJ11: Bilan | AK11: rap | AL11: Bilan | AM11: rap | AN11: Bilan
A13: Dim | B13: 40544 | C13: 1 | D13: 2 | F13: 12 | G13: =IF($B13>0,F13+G12,0) -> 12 | H13: 4.3 | I13: =IF($B13>0,H13+I12,0) -> 4.3 | K13: 7.5 | L13: =IF($B13>0,K13+L12,0) -> 7.5 | M13: 4 | N13: =IF($B13>0,M13+N12,0) -> 4 | P13: 9.8 | Q13: =IF($B13>0,P13+Q12,0) -> 9.8 | R13: 8 | S13: =IF($B13>0,R13+S12,0) -> 8 | U13: 6.4 | V13: =IF($B13>0,U13+V12,0) -> 6.4 | W13: 18.2 | X13: =IF($B13>0,W13+X12,0) -> 18.2 | Z13: =F13+K13+P13+U13 -> 35.7 | AA13: =IF($B13>0,Z13+AA12,0) -> 35.7 | AB13: =H13+M13+R13+W13 -> 34.5 | AC13: =IF($B13>0,AB13+AC12,0) -> 34.5 | AE13: =F13+H13 -> 16.3 | AF13: =IF($B13>0,AE13+AF12,0) -> 16.3 | AG13: =M13+K13 -> 11.5 | AH13: =IF($B13>0,AG13+AH12,0) -> 11.5 | AI13: =P13+R13 -> 17.8 | AJ13: =IF($B13>0,AI13+AJ12,0) -> 17.8 | AK13: =U13+W13 -> 24.6 | AL13: =IF($B13>0,AK13+AL12,0) -> 24.6 | AM13: =AE13+AG13+AI13+AK13 -> 70.2 | AN13: =IF($B13>0,AM13+AN12,0) -> 70.2
A14: Lun | B14: 40545 | G14: =IF($B14>0,F14+G13,0) -> 12 | I14: =IF($B14>0,H14+I13,0) -> 4.3 | L14: =IF($B14>0,K14+L13,0) -> 7.5 | N14: =IF($B14>0,M14+N13,0) -> 4 | Q14: =IF($B14>0,P14+Q13,0) -> 9.8 | S14: =IF($B14>0,R14+S13,0) -> 8 | V14: =IF($B14>0,U14+V13,0) -> 6.4 | X14: =IF($B14>0,W14+X13,0) -> 18.2 | Z14: =F14+K14+P14+U14 -> 0 | AA14: =IF($B14>0,Z14+AA13,0) -> 35.7 | AB14: =H14+M14+R14+W14 -> 0 | AC14: =IF($B14>0,AB14+AC13,0) -> 34.5 | AE14: =F14+H14 -> 0 | AF14: =IF($B14>0,AE14+AF13,0) -> 16.3 | AG14: =M14+K14 -> 0 | AH14: =IF($B14>0,AG14+AH13,0) -> 11.5 | AI14: =P14+R14 -> 0 | AJ14: =IF($B14>0,AI14+AJ13,0) -> 17.8 | AK14: =U14+W14 -> 0 | AL14: =IF($B14>0,AK14+AL13,0) -> 24.6 | AM14: =AE14+AG14+AI14+AK14 -> 0 | AN14: =IF($B14>0,AM14+AN13,0) -> 70.2
A15: Mar | B15: 40546 | C15: 1 | D15: 2 | F15: -17 | G15: =IF($B15>0,F15+G14,0) -> -5 | H15: -1.8 | I15: =IF($B15>0,H15+I14,0) -> 2.5 | K15: -17 | L15: =IF($B15>0,K15+L14,0) -> -9.5 | M15: 5.5 | N15: =IF($B15>0,M15+N14,0) -> 9.5 | P15: -17 | Q15: =IF($B15>0,P15+Q14,0) -> -7.2 | R15: 3.7 | S15: =IF($B15>0,R15+S14,0) -> 11.7 | U15: -17.2 | V15: =IF($B15>0,U15+V14,0) -> -10.8 | W15: 1.4 | X15: =IF($B15>0,W15+X14,0) -> 19.6 | Z15: =F15+K15+P15+U15 -> -68.2 | AA15: =IF($B15>0,Z15+AA14,0) -> -32.5 | AB15: =H15+M15+R15+W15 -> 8.8 | AC15: =IF($B15>0,AB15+AC14,0) -> 43.3 | AE15: =F15+H15 -> -18.8 | AF15: =IF($B15>0,AE15+AF14,0) -> -2.5 | AG15: =M15+K15 -> -11.5 | AH15: =IF($B15>0,AG15+AH14,0) -> 0 | AI15: =P15+R15 -> -13.3 | AJ15: =IF($B15>0,AI15+AJ14,0) -> 4.5 | AK15: =U15+W15 -> -15.8 | AL15: =IF($B15>0,AK15+AL14,0) -> 8.8 | AM15: =AE15+AG15+AI15+AK15 -> -59.4 | AN15: =IF($B15>0,AM15+AN14,0) -> 10.8
A16: Mer | B16: 40547 | C16: 1 | D16: 3 | F16: -10.3 | G16: =IF($B16>0,F16+G15,0) -> -15.3 | H16: 0 | I16: =IF($B16>0,H16+I15,0) -> 2.5 | K16: -8.8 | L16: =IF($B16>0,K16+L15,0) -> -18.3 | M16: 7.7 | N16: =IF($B16>0,M16+N15,0) -> 17.2 | P16: -13.8 | Q16: =IF($B16>0,P16+Q15,0) -> -21 | R16: 9.3 | S16: =IF($B16>0,R16+S15,0) -> 21 | U16: -9.5 | V16: =IF($B16>0,U16+V15,0) -> -20.3 | W16: 7.6 | X16: =IF($B16>0,W16+X15,0) -> 27.2 | Z16: =F16+K16+P16+U16 -> -42.4 | AA16: =IF($B16>0,Z16+AA15,0) -> -74.9 | AB16: =H16+M16+R16+W16 -> 24.6 | AC16: =IF($B16>0,AB16+AC15,0) -> 67.9 | AE16: =F16+H16 -> -10.3 | AF16: =IF($B16>0,AE16+AF15,0) -> -12.8 | AG16: =M16+K16 -> -1.1 | AH16: =IF($B16>0,AG16+AH15,0) -> -1.1 | AI16: =P16+R16 -> -4.5 | AJ16: =IF($B16>0,AI16+AJ15,0) -> 0 | AK16: =U16+W16 -> -1.9 | AL16: =IF($B16>0,AK16+AL15,0) -> 6.9 | AM16: =AE16+AG16+AI16+AK16 -> -17.8 | AN16: =IF($B16>0,AM16+AN15,0) -> -7
A17: Jeu | B17: 40548 | C17: 1 | D17: 1 | F17: 0 | G17: =IF($B17>0,F17+G16,0) -> -15.3 | H17: 10.8 | I17: =IF($B17>0,H17+I16,0) -> 13.3 | K17: 1.2 | L17: =IF($B17>0,K17+L16,0) -> -17.1 | M17: 13 | N17: =IF($B17>0,M17+N16,0) -> 30.2 | P17: -0.2 | Q17: =IF($B17>0,P17+Q16,0) -> -21.2 | R17: 16.1 | S17: =IF($B17>0,R17+S16,0) -> 37.1 | U17: 0.7 | V17: =IF($B17>0,U17+V16,0) -> -19.6 | W17: 7.7 | X17: =IF($B17>0,W17+X16,0) -> 34.9 | Z17: =F17+K17+P17+U17 -> 1.7 | AA17: =IF($B17>0,Z17+AA16,0) -> -73.2 | AB17: =H17+M17+R17+W17 -> 47.6 | AC17: =IF($B17>0,AB17+AC16,0) -> 115.5 | AE17: =F17+H17 -> 10.8 | AF17: =IF($B17>0,AE17+AF16,0) -> -2 | AG17: =M17+K17 -> 14.2 | AH17: =IF($B17>0,AG17+AH16,0) -> 13.1 | AI17: =P17+R17 -> 15.9 | AJ17: =IF($B17>0,AI17+AJ16,0) -> 15.9 | AK17: =U17+W17 -> 8.4 | AL17: =IF($B17>0,AK17+AL16,0) -> 15.3 | AM17: =AE17+AG17+AI17+AK17 -> 49.3 | AN17: =IF($B17>0,AM17+AN16,0) -> 42.3
A18: Ven | B18: 40549 | G18: =IF($B18>0,F18+G17,0) -> -15.3 | I18: =IF($B18>0,H18+I17,0) -> 13.3 | L18: =IF($B18>0,K18+L17,0) -> -17.1 | N18: =IF($B18>0,M18+N17,0) -> 30.2 | Q18: =IF($B18>0,P18+Q17,0) -> -21.2 | S18: =IF($B18>0,R18+S17,0) -> 37.1 | V18: =IF($B18>0,U18+V17,0) -> -19.6 | X18: =IF($B18>0,W18+X17,0) -> 34.9 | Z18: =F18+K18+P18+U18 -> 0 | AA18: =IF($B18>0,Z18+AA17,0) -> -73.2 | AB18: =H18+M18+R18+W18 -> 0 | AC18: =IF($B18>0,AB18+AC17,0) -> 115.5 | AE18: =F18+H18 -> 0 | AF18: =IF($B18>0,AE18+AF17,0) -> -2 | AG18: =M18+K18 -> 0 | AH18: =IF($B18>0,AG18+AH17,0) -> 13.1 | AI18: =P18+R18 -> 0 | AJ18: =IF($B18>0,AI18+AJ17,0) -> 15.9 | AK18: =U18+W18 -> 0 | AL18: =IF($B18>0,AK18+AL17,0) -> 15.3 | AM18: =AE18+AG18+AI18+AK18 -> 0 | AN18: =IF($B18>0,AM18+AN17,0) -> 42.3
A19: Sam | B19: 40550 | G19: =IF($B19>0,F19+G18,0) -> -15.3 | I19: =IF($B19>0,H19+I18,0) -> 13.3 | L19: =IF($B19>0,K19+L18,0) -> -17.1 | N19: =IF($B19>0,M19+N18,0) -> 30.2 | Q19: =IF($B19>0,P19+Q18,0) -> -21.2 | S19: =IF($B19>0,R19+S18,0) -> 37.1 | V19: =IF($B19>0,U19+V18,0) -> -19.6 | X19: =IF($B19>0,W19+X18,0) -> 34.9 | Z19: =F19+K19+P19+U19 -> 0 | AA19: =IF($B19>0,Z19+AA18,0) -> -73.2 | AB19: =H19+M19+R19+W19 -> 0 | AC19: =IF($B19>0,AB19+AC18,0) -> 115.5 | AE19: =F19+H19 -> 0 | AF19: =IF($B19>0,AE19+AF18,0) -> -2 | AG19: =M19+K19 -> 0 | AH19: =IF($B19>0,AG19+AH18,0) -> 13.1 | AI19: =P19+R19 -> 0 | AJ19: =IF($B19>0,AI19+AJ18,0) -> 15.9 | AK19: =U19+W19 -> 0 | AL19: =IF($B19>0,AK19+AL18,0) -> 15.3 | AM19: =AE19+AG19+AI19+AK19 -> 0 | AN19: =IF($B19>0,AM19+AN18,0) -> 42.3
A20: Dim | B20: 40551 | C20: 1 | D20: 2 | F20: 0.4 | G20: =IF($B20>0,F20+G19,0) -> -14.9 | H20: -6.1 | I20: =IF($B20>0,H20+I19,0) -> 7.2 | K20: -1.8 | L20: =IF($B20>0,K20+L19,0) -> -18.9 | M20: -3.8 | N20: =IF($B20>0,M20+N19,0) -> 26.4 | P20: 0.3 | Q20: =IF($B20>0,P20+Q19,0) -> -20.9 | R20: -3.2 | S20: =IF($B20>0,R20+S19,0) -> 33.9 | U20: -2.5 | V20: =IF($B20>0,U20+V19,0) -> -22.1 | W20: -4.5 | X20: =IF($B20>0,W20+X19,0) -> 30.4 | Z20: =F20+K20+P20+U20 -> -3.6 | AA20: =IF($B20>0,Z20+AA19,0) -> -76.8 | AB20: =H20+M20+R20+W20 -> -17.6 | AC20: =IF($B20>0,AB20+AC19,0) -> 97.9 | AE20: =F20+H20 -> -5.7 | AF20: =IF($B20>0,AE20+AF19,0) -> -7.7 | AG20: =M20+K20 -> -5.6 | AH20: =IF($B20>0,AG20+AH19,0) -> 7.5 | AI20: =P20+R20 -> -2.9 | AJ20: =IF($B20>0,AI20+AJ19,0) -> 13 | AK20: =U20+W20 -> -7 | AL20: =IF($B20>0,AK20+AL19,0) -> 8.3 | AM20: =AE20+AG20+AI20+AK20 -> -21.2 | AN20: =IF($B20>0,AM20+AN19,0) -> 21.1
A21: Lun | B21: 40552 | C21: 1 | D21: 1 | F21: 21.5 | G21: =IF($B21>0,F21+G20,0) -> 6.6 | H21: 6 | I21: =IF($B21>0,H21+I20,0) -> 13.2 | K21: 20.5 | L21: =IF($B21>0,K21+L20,0) -> 1.6 | M21: 4 | N21: =IF($B21>0,M21+N20,0) -> 30.4 | P21: 7.4 | Q21: =IF($B21>0,P21+Q20,0) -> -13.5 | R21: 1 | S21: =IF($B21>0,R21+S20,0) -> 34.9 | U21: 19.4 | V21: =IF($B21>0,U21+V20,0) -> -2.7 | W21: 3.6 | X21: =IF($B21>0,W21+X20,0) -> 34 | Z21: =F21+K21+P21+U21 -> 68.8 | AA21: =IF($B21>0,Z21+AA20,0) -> -8 | AB21: =H21+M21+R21+W21 -> 14.6 | AC21: =IF($B21>0,AB21+AC20,0) -> 112.5 | AE21: =F21+H21 -> 27.5 | AF21: =IF($B21>0,AE21+AF20,0) -> 19.8 | AG21: =M21+K21 -> 24.5 | AH21: =IF($B21>0,AG21+AH20,0) -> 32 | AI21: =P21+R21 -> 8.4 | AJ21: =IF($B21>0,AI21+AJ20,0) -> 21.4 | AK21: =U21+W21 -> 23 | AL21: =IF($B21>0,AK21+AL20,0) -> 31.3 | AM21: =AE21+AG21+AI21+AK21 -> 83.4 | AN21: =IF($B21>0,AM21+AN20,0) -> 104.5
A22: Mar | B22: 40553 | G22: =IF($B22>0,F22+G21,0) -> 6.6 | I22: =IF($B22>0,H22+I21,0) -> 13.2 | L22: =IF($B22>0,K22+L21,0) -> 1.6 | N22: =IF($B22>0,M22+N21,0) -> 30.4 | Q22: =IF($B22>0,P22+Q21,0) -> -13.5 | S22: =IF($B22>0,R22+S21,0) -> 34.9 | V22: =IF($B22>0,U22+V21,0) -> -2.7 | X22: =IF($B22>0,W22+X21,0) -> 34 | Z22: =F22+K22+P22+U22 -> 0 | AA22: =IF($B22>0,Z22+AA21,0) -> -8 | AB22: =H22+M22+R22+W22 -> 0 | AC22: =IF($B22>0,AB22+AC21,0) -> 112.5 | AE22: =F22+H22 -> 0 | AF22: =IF($B22>0,AE22+AF21,0) -> 19.8 | AG22: =M22+K22 -> 0 | AH22: =IF($B22>0,AG22+AH21,0) -> 32 | AI22: =P22+R22 -> 0 | AJ22: =IF($B22>0,AI22+AJ21,0) -> 21.4 | AK22: =U22+W22 -> 0 | AL22: =IF($B22>0,AK22+AL21,0) -> 31.3 | AM22: =AE22+AG22+AI22+AK22 -> 0 | AN22: =IF($B22>0,AM22+AN21,0) -> 104.5
A23: Mer | B23: 40554 | G23: =IF($B23>0,F23+G22,0) -> 6.6 | I23: =IF($B23>0,H23+I22,0) -> 13.2 | L23: =IF($B23>0,K23+L22,0) -> 1.6 | N23: =IF($B23>0,M23+N22,0) -> 30.4 | Q23: =IF($B23>0,P23+Q22,0) -> -13.5 | S23: =IF($B23>0,R23+S22,0) -> 34.9 | V23: =IF($B23>0,U23+V22,0) -> -2.7 | X23: =IF($B23>0,W23+X22,0) -> 34 | Z23: =F23+K23+P23+U23 -> 0 | AA23: =IF($B23>0,Z23+AA22,0) -> -8 | AB23: =H23+M23+R23+W23 -> 0 | AC23: =IF($B23>0,AB23+AC22,0) -> 112.5 | AE23: =F23+H23 -> 0 | AF23: =IF($B23>0,AE23+AF22,0) -> 19.8 | AG23: =M23+K23 -> 0 | AH23: =IF($B23>0,AG23+AH22,0) -> 32 | AI23: =P23+R23 -> 0 | AJ23: =IF($B23>0,AI23+AJ22,0) -> 21.4 | AK23: =U23+W23 -> 0 | AL23: =IF($B23>0,AK23+AL22,0) -> 31.3 | AM23: =AE23+AG23+AI23+AK23 -> 0 | AN23: =IF($B23>0,AM23+AN22,0) -> 104.5
A24: Jeu | B24: 40555 | C24: 1 | D24: 4 | F24: -10.7 | G24: =IF($B24>0,F24+G23,0) -> -4.1 | H24: 9.6 | I24: =IF($B24>0,H24+I23,0) -> 22.8 | K24: -13.9 | L24: =IF($B24>0,K24+L23,0) -> -12.3 | M24: 8.8 | N24: =IF($B24>0,M24+N23,0) -> 39.2 | P24: -9 | Q24: =IF($B24>0,P24+Q23,0) -> -22.5 | R24: 7.6 | S24: =IF($B24>0,R24+S23,0) -> 42.5 | U24: -14.8 | V24: =IF($B24>0,U24+V23,0) -> -17.5 | W24: 7.5 | X24: =IF($B24>0,W24+X23,0) -> 41.5 | Z24: =F24+K24+P24+U24 -> -48.4 | AA24: =IF($B24>0,Z24+AA23,0) -> -56.4 | AB24: =H24+M24+R24+W24 -> 33.5 | AC24: =IF($B24>0,AB24+AC23,0) -> 146 | AE24: =F24+H24 -> -1.1 | AF24: =IF($B24>0,AE24+AF23,0) -> 18.7 | AG24: =M24+K24 -> -5.1 | AH24: =IF($B24>0,AG24+AH23,0) -> 26.9 | AI24: =P24+R24 -> -1.4 | AJ24: =IF($B24>0,AI24+AJ23,0) -> 20 | AK24: =U24+W24 -> -7.3 | AL24: =IF($B24>0,AK24+AL23,0) -> 24 | AM24: =AE24+AG24+AI24+AK24 -> -14.9 | AN24: =IF($B24>0,AM24+AN23,0) -> 89.6
A25: Ven | B25: 40556 | C25: 1 | D25: 1 | F25: -5.3 | G25: =IF($B25>0,F25+G24,0) -> -9.4 | H25: -3.6 | I25: =IF($B25>0,H25+I24,0) -> 19.2 | K25: -6.3 | L25: =IF($B25>0,K25+L24,0) -> -18.6 | M25: -3.1 | N25: =IF($B25>0,M25+N24,0) -> 36.1 | P25: -5.8 | Q25: =IF($B25>0,P25+Q24,0) -> -28.3 | R25: -3.7 | S25: =IF($B25>0,R25+S24,0) -> 38.8 | U25: -6.5 | V25: =IF($B25>0,U25+V24,0) -> -24 | W25: -3 | X25: =IF($B25>0,W25+X24,0) -> 38.5 | Z25: =F25+K25+P25+U25 -> -23.9 | AA25: =IF($B25>0,Z25+AA24,0) -> -80.3 | AB25: =H25+M25+R25+W25 -> -13.4 | AC25: =IF($B25>0,AB25+AC24,0) -> 132.6 | AE25: =F25+H25 -> -8.9 | AF25: =IF($B25>0,AE25+AF24,0) -> 9.8 | AG25: =M25+K25 -> -9.4 | AH25: =IF($B25>0,AG25+AH24,0) -> 17.5 | AI25: =P25+R25 -> -9.5 | AJ25: =IF($B25>0,AI25+AJ24,0) -> 10.5 | AK25: =U25+W25 -> -9.5 | AL25: =IF($B25>0,AK25+AL24,0) -> 14.5 | AM25: =AE25+AG25+AI25+AK25 -> -37.3 | AN25: =IF($B25>0,AM25+AN24,0) -> 52.3
A26: Sam | B26: 40557 | G26: =IF($B26>0,F26+G25,0) -> -9.4 | I26: =IF($B26>0,H26+I25,0) -> 19.2 | L26: =IF($B26>0,K26+L25,0) -> -18.6 | N26: =IF($B26>0,M26+N25,0) -> 36.1 | Q26: =IF($B26>0,P26+Q25,0) -> -28.3 | S26: =IF($B26>0,R26+S25,0) -> 38.8 | V26: =IF($B26>0,U26+V25,0) -> -24 | X26: =IF($B26>0,W26+X25,0) -> 38.5 | Z26: =F26+K26+P26+U26 -> 0 | AA26: =IF($B26>0,Z26+AA25,0) -> -80.3 | AB26: =H26+M26+R26+W26 -> 0 | AC26: =IF($B26>0,AB26+AC25,0) -> 132.6 | AE26: =F26+H26 -> 0 | AF26: =IF($B26>0,AE26+AF25,0) -> 9.8 | AG26: =M26+K26 -> 0 | AH26: =IF($B26>0,AG26+AH25,0) -> 17.5 | AI26: =P26+R26 -> 0 | AJ26: =IF($B26>0,AI26+AJ25,0) -> 10.5 | AK26: =U26+W26 -> 0 | AL26: =IF($B26>0,AK26+AL25,0) -> 14.5 | AM26: =AE26+AG26+AI26+AK26 -> 0 | AN26: =IF($B26>0,AM26+AN25,0) -> 52.3
A27: Dim | B27: 40558 | G27: =IF($B27>0,F27+G26,0) -> -9.4 | I27: =IF($B27>0,H27+I26,0) -> 19.2 | L27: =IF($B27>0,K27+L26,0) -> -18.6 | N27: =IF($B27>0,M27+N26,0) -> 36.1 | Q27: =IF($B27>0,P27+Q26,0) -> -28.3 | S27: =IF($B27>0,R27+S26,0) -> 38.8 | V27: =IF($B27>0,U27+V26,0) -> -24 | X27: =IF($B27>0,W27+X26,0) -> 38.5 | Z27: =F27+K27+P27+U27 -> 0 | AA27: =IF($B27>0,Z27+AA26,0) -> -80.3 | AB27: =H27+M27+R27+W27 -> 0 | AC27: =IF($B27>0,AB27+AC26,0) -> 132.6 | AE27: =F27+H27 -> 0 | AF27: =IF($B27>0,AE27+AF26,0) -> 9.8 | AG27: =M27+K27 -> 0 | AH27: =IF($B27>0,AG27+AH26,0) -> 17.5 | AI27: =P27+R27 -> 0 | AJ27: =IF($B27>0,AI27+AJ26,0) -> 10.5 | AK27: =U27+W27 -> 0 | AL27: =IF($B27>0,AK27+AL26,0) -> 14.5 | AM27: =AE27+AG27+AI27+AK27 -> 0 | AN27: =IF($B27>0,AM27+AN26,0) -> 52.3
A28: Lun | B28: 40559 | G28: =IF($B28>0,F28+G27,0) -> -9.4 | I28: =IF($B28>0,H28+I27,0) -> 19.2 | L28: =IF($B28>0,K28+L27,0) -> -18.6 | N28: =IF($B28>0,M28+N27,0) -> 36.1 | Q28: =IF($B28>0,P28+Q27,0) -> -28.3 | S28: =IF($B28>0,R28+S27,0) -> 38.8 | V28: =IF($B28>0,U28+V27,0) -> -24 | X28: =IF($B28>0,W28+X27,0) -> 38.5 | Z28: =F28+K28+P28+U28 -> 0 | AA28: =IF($B28>0,Z28+AA27,0) -> -80.3 | AB28: =H28+M28+R28+W28 -> 0 | AC28: =IF($B28>0,AB28+AC27,0) -> 132.6 | AE28: =F28+H28 -> 0 | AF28: =IF($B28>0,AE28+AF27,0) -> 9.8 | AG28: =M28+K28 -> 0 | AH28: =IF($B28>0,AG28+AH27,0) -> 17.5 | AI28: =P28+R28 -> 0 | AJ28: =IF($B28>0,AI28+AJ27,0) -> 10.5 | AK28: =U28+W28 -> 0 | AL28: =IF($B28>0,AK28+AL27,0) -> 14.5 | AM28: =AE28+AG28+AI28+AK28 -> 0 | AN28: =IF($B28>0,AM28+AN27,0) -> 52.3
A29: Mar | B29: 40560 | C29: 1 | D29: 1 | F29: -3.1 | G29: =IF($B29>0,F29+G28,0) -> -12.5 | H29: 12.6 | I29: =IF($B29>0,H29+I28,0) -> 31.8 | K29: -4.7 | L29: =IF($B29>0,K29+L28,0) -> -23.3 | M29: 3.7 | N29: =IF($B29>0,M29+N28,0) -> 39.8 | P29: -4.7 | Q29: =IF($B29>0,P29+Q28,0) -> -33 | R29: 8.1 | S29: =IF($B29>0,R29+S28,0) -> 46.9 | U29: -4.7 | V29: =IF($B29>0,U29+V28,0) -> -28.7 | W29: 0.5 | X29: =IF($B29>0,W29+X28,0) -> 39 | Z29: =F29+K29+P29+U29 -> -17.2 | AA29: =IF($B29>0,Z29+AA28,0) -> -97.5 | AB29: =H29+M29+R29+W29 -> 24.9 | AC29: =IF($B29>0,AB29+AC28,0) -> 157.5 | AE29: =F29+H29 -> 9.5 | AF29: =IF($B29>0,AE29+AF28,0) -> 19.3 | AG29: =M29+K29 -> -1 | AH29: =IF($B29>0,AG29+AH28,0) -> 16.5 | AI29: =P29+R29 -> 3.4 | AJ29: =IF($B29>0,AI29+AJ28,0) -> 13.9 | AK29: =U29+W29 -> -4.2 | AL29: =IF($B29>0,AK29+AL28,0) -> 10.3 | AM29: =AE29+AG29+AI29+AK29 -> 7.7 | AN29: =IF($B29>0,AM29+AN28,0) -> 60
A30: Mer | B30: 40561 | G30: =IF($B30>0,F30+G29,0) -> -12.5 | I30: =IF($B30>0,H30+I29,0) -> 31.8 | L30: =IF($B30>0,K30+L29,0) -> -23.3 | N30: =IF($B30>0,M30+N29,0) -> 39.8 | Q30: =IF($B30>0,P30+Q29,0) -> -33 | S30: =IF($B30>0,R30+S29,0) -> 46.9 | V30: =IF($B30>0,U30+V29,0) -> -28.7 | X30: =IF($B30>0,W30+X29,0) -> 39 | Z30: =F30+K30+P30+U30 -> 0 | AA30: =IF($B30>0,Z30+AA29,0) -> -97.5 | AB30: =H30+M30+R30+W30 -> 0 | AC30: =IF($B30>0,AB30+AC29,0) -> 157.5 | AE30: =F30+H30 -> 0 | AF30: =IF($B30>0,AE30+AF29,0) -> 19.3 | AG30: =M30+K30 -> 0 | AH30: =IF($B30>0,AG30+AH29,0) -> 16.5 | AI30: =P30+R30 -> 0 | AJ30: =IF($B30>0,AI30+AJ29,0) -> 13.9 | AK30: =U30+W30 -> 0 | AL30: =IF($B30>0,AK30+AL29,0) -> 10.3 | AM30: =AE30+AG30+AI30+AK30 -> 0 | AN30: =IF($B30>0,AM30+AN29,0) -> 60
A31: Jeu | B31: 40562 | C31: 1 | D31: 1 | F31: 11.6 | G31: =IF($B31>0,F31+G30,0) -> -0.9 | H31: 1.5 | I31: =IF($B31>0,H31+I30,0) -> 33.3 | K31: 13.6 | L31: =IF($B31>0,K31+L30,0) -> -9.7 | M31: 0.6 | N31: =IF($B31>0,M31+N30,0) -> 40.4 | P31: 11.6 | Q31: =IF($B31>0,P31+Q30,0) -> -21.4 | R31: 1.5 | S31: =IF($B31>0,R31+S30,0) -> 48.4 | U31: 12.8 | V31: =IF($B31>0,U31+V30,0) -> -15.9 | W31: -4.5 | X31: =IF($B31>0,W31+X30,0) -> 34.5 | Z31: =F31+K31+P31+U31 -> 49.6 | AA31: =IF($B31>0,Z31+AA30,0) -> -47.9 | AB31: =H31+M31+R31+W31 -> -0.9 | AC31: =IF($B31>0,AB31+AC30,0) -> 156.6 | AE31: =F31+H31 -> 13.1 | AF31: =IF($B31>0,AE31+AF30,0) -> 32.4 | AG31: =M31+K31 -> 14.2 | AH31: =IF($B31>0,AG31+AH30,0) -> 30.7 | AI31: =P31+R31 -> 13.1 | AJ31: =IF($B31>0,AI31+AJ30,0) -> 27 | AK31: =U31+W31 -> 8.3 | AL31: =IF($B31>0,AK31+AL30,0) -> 18.6 | AM31: =AE31+AG31+AI31+AK31 -> 48.7 | AN31: =IF($B31>0,AM31+AN30,0) -> 108.7
A32: Ven | B32: 40563 | G32: =IF($B32>0,F32+G31,0) -> -0.9 | I32: =IF($B32>0,H32+I31,0) -> 33.3 | L32: =IF($B32>0,K32+L31,0) -> -9.7 | N32: =IF($B32>0,M32+N31,0) -> 40.4 | Q32: =IF($B32>0,P32+Q31,0) -> -21.4 | S32: =IF($B32>0,R32+S31,0) -> 48.4 | V32: =IF($B32>0,U32+V31,0) -> -15.9 | X32: =IF($B32>0,W32+X31,0) -> 34.5 | Z32: =F32+K32+P32+U32 -> 0 | AA32: =IF($B32>0,Z32+AA31,0) -> -47.9 | AB32: =H32+M32+R32+W32 -> 0 | AC32: =IF($B32>0,AB32+AC31,0) -> 156.6 | AE32: =F32+H32 -> 0 | AF32: =IF($B32>0,AE32+AF31,0) -> 32.4 | AG32: =M32+K32 -> 0 | AH32: =IF($B32>0,AG32+AH31,0) -> 30.7 | AI32: =P32+R32 -> 0 | AJ32: =IF($B32>0,AI32+AJ31,0) -> 27 | AK32: =U32+W32 -> 0 | AL32: =IF($B32>0,AK32+AL31,0) -> 18.6 | AM32: =AE32+AG32+AI32+AK32 -> 0 | AN32: =IF($B32>0,AM32+AN31,0) -> 108.7
A33: Sam | B33: 40564 | G33: =IF($B33>0,F33+G32,0) -> -0.9 | I33: =IF($B33>0,H33+I32,0) -> 33.3 | L33: =IF($B33>0,K33+L32,0) -> -9.7 | N33: =IF($B33>0,M33+N32,0) -> 40.4 | Q33: =IF($B33>0,P33+Q32,0) -> -21.4 | S33: =IF($B33>0,R33+S32,0) -> 48.4 | V33: =IF($B33>0,U33+V32,0) -> -15.9 | X33: =IF($B33>0,W33+X32,0) -> 34.5 | Z33: =F33+K33+P33+U33 -> 0 | AA33: =IF($B33>0,Z33+AA32,0) -> -47.9 | AB33: =H33+M33+R33+W33 -> 0 | AC33: =IF($B33>0,AB33+AC32,0) -> 156.6 | AE33: =F33+H33 -> 0 | AF33: =IF($B33>0,AE33+AF32,0) -> 32.4 | AG33: =M33+K33 -> 0 | AH33: =IF($B33>0,AG33+AH32,0) -> 30.7 | AI33: =P33+R33 -> 0 | AJ33: =IF($B33>0,AI33+AJ32,0) -> 27 | AK33: =U33+W33 -> 0 | AL33: =IF($B33>0,AK33+AL32,0) -> 18.6 | AM33: =AE33+AG33+AI33+AK33 -> 0 | AN33: =IF($B33>0,AM33+AN32,0) -> 108.7
A34: Dim | B34: 40565 | C34: 1 | D34: 4 | F34: -3 | G34: =IF($B34>0,F34+G33,0) -> -3.9 | H34: 7.2 | I34: =IF($B34>0,H34+I33,0) -> 40.5 | K34: -12.3 | L34: =IF($B34>0,K34+L33,0) -> -22 | M34: -0.5 | N34: =IF($B34>0,M34+N33,0) -> 39.9 | P34: -8.7 | Q34: =IF($B34>0,P34+Q33,0) -> -30.1 | R34: -4.1 | S34: =IF($B34>0,R34+S33,0) -> 44.3 | U34: -13.7 | V34: =IF($B34>0,U34+V33,0) -> -29.6 | W34: -6.9 | X34: =IF($B34>0,W34+X33,0) -> 27.6 | Z34: =F34+K34+P34+U34 -> -37.7 | AA34: =IF($B34>0,Z34+AA33,0) -> -85.6 | AB34: =H34+M34+R34+W34 -> -4.3 | AC34: =IF($B34>0,AB34+AC33,0) -> 152.3 | AE34: =F34+H34 -> 4.2 | AF34: =IF($B34>0,AE34+AF33,0) -> 36.6 | AG34: =M34+K34 -> -12.8 | AH34: =IF($B34>0,AG34+AH33,0) -> 17.9 | AI34: =P34+R34 -> -12.8 | AJ34: =IF($B34>0,AI34+AJ33,0) -> 14.2 | AK34: =U34+W34 -> -20.6 | AL34: =IF($B34>0,AK34+AL33,0) -> -2 | AM34: =AE34+AG34+AI34+AK34 -> -42 | AN34: =IF($B34>0,AM34+AN33,0) -> 66.7
A35: Lun | B35: 40566 | G35: =IF($B35>0,F35+G34,0) -> -3.9 | I35: =IF($B35>0,H35+I34,0) -> 40.5 | L35: =IF($B35>0,K35+L34,0) -> -22 | N35: =IF($B35>0,M35+N34,0) -> 39.9 | Q35: =IF($B35>0,P35+Q34,0) -> -30.1 | S35: =IF($B35>0,R35+S34,0) -> 44.3 | V35: =IF($B35>0,U35+V34,0) -> -29.6 | X35: =IF($B35>0,W35+X34,0) -> 27.6 | Z35: =F35+K35+P35+U35 -> 0 | AA35: =IF($B35>0,Z35+AA34,0) -> -85.6 | AB35: =H35+M35+R35+W35 -> 0 | AC35: =IF($B35>0,AB35+AC34,0) -> 152.3 | AE35: =F35+H35 -> 0 | AF35: =IF($B35>0,AE35+AF34,0) -> 36.6 | AG35: =M35+K35 -> 0 | AH35: =IF($B35>0,AG35+AH34,0) -> 17.9 | AI35: =P35+R35 -> 0 | AJ35: =IF($B35>0,AI35+AJ34,0) -> 14.2 | AK35: =U35+W35 -> 0 | AL35: =IF($B35>0,AK35+AL34,0) -> -2 | AM35: =AE35+AG35+AI35+AK35 -> 0 | AN35: =IF($B35>0,AM35+AN34,0) -> 66.7
A36: Mar | B36: 40567 | G36: =IF($B36>0,F36+G35,0) -> -3.9 | I36: =IF($B36>0,H36+I35,0) -> 40.5 | L36: =IF($B36>0,K36+L35,0) -> -22 | N36: =IF($B36>0,M36+N35,0) -> 39.9 | Q36: =IF($B36>0,P36+Q35,0) -> -30.1 | S36: =IF($B36>0,R36+S35,0) -> 44.3 | V36: =IF($B36>0,U36+V35,0) -> -29.6 | X36: =IF($B36>0,W36+X35,0) -> 27.6 | Z36: =F36+K36+P36+U36 -> 0 | AA36: =IF($B36>0,Z36+AA35,0) -> -85.6 | AB36: =H36+M36+R36+W36 -> 0 | AC36: =IF($B36>0,AB36+AC35,0) -> 152.3 | AE36: =F36+H36 -> 0 | AF36: =IF($B36>0,AE36+AF35,0) -> 36.6 | AG36: =M36+K36 -> 0 | AH36: =IF($B36>0,AG36+AH35,0) -> 17.9 | AI36: =P36+R36 -> 0 | AJ36: =IF($B36>0,AI36+AJ35,0) -> 14.2 | AK36: =U36+W36 -> 0 | AL36: =IF($B36>0,AK36+AL35,0) -> -2 | AM36: =AE36+AG36+AI36+AK36 -> 0 | AN36: =IF($B36>0,AM36+AN35,0) -> 66.7
A37: Mer | B37: 40568 | C37: 1 | D37: 3 | F37: 9.1 | G37: =IF($B37>0,F37+G36,0) -> 5.2 | H37: 5.6 | I37: =IF($B37>0,H37+I36,0) -> 46.1 | K37: 7 | L37: =IF($B37>0,K37+L36,0) -> -15 | M37: 6.3 | N37: =IF($B37>0,M37+N36,0) -> 46.2 | P37: 7.6 | Q37: =IF($B37>0,P37+Q36,0) -> -22.5 | R37: -0.5 | S37: =IF($B37>0,R37+S36,0) -> 43.8 | U37: 7.2 | V37: =IF($B37>0,U37+V36,0) -> -22.4 | W37: 5.5 | X37: =IF($B37>0,W37+X36,0) -> 33.1 | Z37: =F37+K37+P37+U37 -> 30.9 | AA37: =IF($B37>0,Z37+AA36,0) -> -54.7 | AB37: =H37+M37+R37+W37 -> 16.9 | AC37: =IF($B37>0,AB37+AC36,0) -> 169.2 | AE37: =F37+H37 -> 14.7 | AF37: =IF($B37>0,AE37+AF36,0) -> 51.3 | AG37: =M37+K37 -> 13.3 | AH37: =IF($B37>0,AG37+AH36,0) -> 31.2 | AI37: =P37+R37 -> 7.1 | AJ37: =IF($B37>0,AI37+AJ36,0) -> 21.3 | AK37: =U37+W37 -> 12.7 | AL37: =IF($B37>0,AK37+AL36,0) -> 10.7 | AM37: =AE37+AG37+AI37+AK37 -> 47.8 | AN37: =IF($B37>0,AM37+AN36,0) -> 114.5
A38: Jeu | B38: 40569 | G38: =IF($B38>0,F38+G37,0) -> 5.2 | I38: =IF($B38>0,H38+I37,0) -> 46.1 | L38: =IF($B38>0,K38+L37,0) -> -15 | N38: =IF($B38>0,M38+N37,0) -> 46.2 | Q38: =IF($B38>0,P38+Q37,0) -> -22.5 | S38: =IF($B38>0,R38+S37,0) -> 43.8 | V38: =IF($B38>0,U38+V37,0) -> -22.4 | X38: =IF($B38>0,W38+X37,0) -> 33.1 | Z38: =F38+K38+P38+U38 -> 0 | AA38: =IF($B38>0,Z38+AA37,0) -> -54.7 | AB38: =H38+M38+R38+W38 -> 0 | AC38: =IF($B38>0,AB38+AC37,0) -> 169.2 | AE38: =F38+H38 -> 0 | AF38: =IF($B38>0,AE38+AF37,0) -> 51.3 | AG38: =M38+K38 -> 0 | AH38: =IF($B38>0,AG38+AH37,0) -> 31.2 | AI38: =P38+R38 -> 0 | AJ38: =IF($B38>0,AI38+AJ37,0) -> 21.3 | AK38: =U38+W38 -> 0 | AL38: =IF($B38>0,AK38+AL37,0) -> 10.7 | AM38: =AE38+AG38+AI38+AK38 -> 0 | AN38: =IF($B38>0,AM38+AN37,0) -> 114.5
A39: Ven | B39: 40570 | C39: 1 | D39: 1 | F39: 7.3 | G39: =IF($B39>0,F39+G38,0) -> 12.5 | H39: 1.1 | I39: =IF($B39>0,H39+I38,0) -> 47.2 | K39: 2 | L39: =IF($B39>0,K39+L38,0) -> -13 | M39: -1.5 | N39: =IF($B39>0,M39+N38,0) -> 44.7 | P39: 2.8 | Q39: =IF($B39>0,P39+Q38,0) -> -19.7 | R39: -0.3 | S39: =IF($B39>0,R39+S38,0) -> 43.5 | U39: -1 | V39: =IF($B39>0,U39+V38,0) -> -23.4 | W39: 6.9 | X39: =IF($B39>0,W39+X38,0) -> 40 | Z39: =F39+K39+P39+U39 -> 11.1 | AA39: =IF($B39>0,Z39+AA38,0) -> -43.6 | AB39: =H39+M39+R39+W39 -> 6.2 | AC39: =IF($B39>0,AB39+AC38,0) -> 175.4 | AE39: =F39+H39 -> 8.4 | AF39: =IF($B39>0,AE39+AF38,0) -> 59.7 | AG39: =M39+K39 -> 0.5 | AH39: =IF($B39>0,AG39+AH38,0) -> 31.7 | AI39: =P39+R39 -> 2.5 | AJ39: =IF($B39>0,AI39+AJ38,0) -> 23.8 | AK39: =U39+W39 -> 5.9 | AL39: =IF($B39>0,AK39+AL38,0) -> 16.6 | AM39: =AE39+AG39+AI39+AK39 -> 17.3 | AN39: =IF($B39>0,AM39+AN38,0) -> 131.8
A40: Sam | B40: 40571 | C40: 1 | D40: 1 | F40: 8.9 | G40: =IF($B40>0,F40+G39,0) -> 21.4 | H40: 4.9 | I40: =IF($B40>0,H40+I39,0) -> 52.1 | K40: 6.9 | L40: =IF($B40>0,K40+L39,0) -> -6.1 | M40: 5.2 | N40: =IF($B40>0,M40+N39,0) -> 49.9 | P40: 8.2 | Q40: =IF($B40>0,P40+Q39,0) -> -11.5 | R40: 2.6 | S40: =IF($B40>0,R40+S39,0) -> 46.1 | U40: 6 | V40: =IF($B40>0,U40+V39,0) -> -17.4 | W40: 5.3 | X40: =IF($B40>0,W40+X39,0) -> 45.3 | Z40: =F40+K40+P40+U40 -> 30 | AA40: =IF($B40>0,Z40+AA39,0) -> -13.6 | AB40: =H40+M40+R40+W40 -> 18 | AC40: =IF($B40>0,AB40+AC39,0) -> 193.4 | AE40: =F40+H40 -> 13.8 | AF40: =IF($B40>0,AE40+AF39,0) -> 73.5 | AG40: =M40+K40 -> 12.1 | AH40: =IF($B40>0,AG40+AH39,0) -> 43.8 | AI40: =P40+R40 -> 10.8 | AJ40: =IF($B40>0,AI40+AJ39,0) -> 34.6 | AK40: =U40+W40 -> 11.3 | AL40: =IF($B40>0,AK40+AL39,0) -> 27.9 | AM40: =AE40+AG40+AI40+AK40 -> 48 | AN40: =IF($B40>0,AM40+AN39,0) -> 179.8
A41: Dim | B41: 40572 | G41: =IF($B41>0,F41+G40,0) -> 21.4 | I41: =IF($B41>0,H41+I40,0) -> 52.1 | L41: =IF($B41>0,K41+L40,0) -> -6.1 | N41: =IF($B41>0,M41+N40,0) -> 49.9 | Q41: =IF($B41>0,P41+Q40,0) -> -11.5 | S41: =IF($B41>0,R41+S40,0) -> 46.1 | V41: =IF($B41>0,U41+V40,0) -> -17.4 | X41: =IF($B41>0,W41+X40,0) -> 45.3 | Z41: =F41+K41+P41+U41 -> 0 | AA41: =IF($B41>0,Z41+AA40,0) -> -13.6 | AB41: =H41+M41+R41+W41 -> 0 | AC41: =IF($B41>0,AB41+AC40,0) -> 193.4 | AE41: =F41+H41 -> 0 | AF41: =IF($B41>0,AE41+AF40,0) -> 73.5 | AG41: =M41+K41 -> 0 | AH41: =IF($B41>0,AG41+AH40,0) -> 43.8 | AI41: =P41+R41 -> 0 | AJ41: =IF($B41>0,AI41+AJ40,0) -> 34.6 | AK41: =U41+W41 -> 0 | AL41: =IF($B41>0,AK41+AL40,0) -> 27.9 | AM41: =AE41+AG41+AI41+AK41 -> 0 | AN41: =IF($B41>0,AM41+AN40,0) -> 179.8
A42: Lun | B42: 40573 | G42: =IF($B42>0,F42+G41,0) -> 21.4 | I42: =IF($B42>0,H42+I41,0) -> 52.1 | L42: =IF($B42>0,K42+L41,0) -> -6.1 | N42: =IF($B42>0,M42+N41,0) -> 49.9 | Q42: =IF($B42>0,P42+Q41,0) -> -11.5 | S42: =IF($B42>0,R42+S41,0) -> 46.1 | V42: =IF($B42>0,U42+V41,0) -> -17.4 | X42: =IF($B42>0,W42+X41,0) -> 45.3 | Z42: =F42+K42+P42+U42 -> 0 | AA42: =IF($B42>0,Z42+AA41,0) -> -13.6 | AB42: =H42+M42+R42+W42 -> 0 | AC42: =IF($B42>0,AB42+AC41,0) -> 193.4 | AE42: =F42+H42 -> 0 | AF42: =IF($B42>0,AE42+AF41,0) -> 73.5 | AG42: =M42+K42 -> 0 | AH42: =IF($B42>0,AG42+AH41,0) -> 43.8 | AI42: =P42+R42 -> 0 | AJ42: =IF($B42>0,AI42+AJ41,0) -> 34.6 | AK42: =U42+W42 -> 0 | AL42: =IF($B42>0,AK42+AL41,0) -> 27.9 | AM42: =AE42+AG42+AI42+AK42 -> 0 | AN42: =IF($B42>0,AM42+AN41,0) -> 179.8
A43: Mar | G43: =IF($B43>0,F43+G42,0) -> 0 | I43: =IF($B43>0,H43+I42,0) -> 0 | L43: =IF($B43>0,K43+L42,0) -> 0 | N43: =IF($B43>0,M43+N42,0) -> 0 | Q43: =IF($B43>0,P43+Q42,0) -> 0 | S43: =IF($B43>0,R43+S42,0) -> 0 | V43: =IF($B43>0,U43+V42,0) -> 0 | X43: =IF($B43>0,W43+X42,0) -> 0 | Z43: =F43+K43+P43+U43 -> 0 | AA43: =IF($B43>0,Z43+AA42,0) -> 0 | AB43: =H43+M43+R43+W43 -> 0 | AC43: =IF($B43>0,AB43+AC42,0) -> 0 | AE43: =F43+H43 -> 0 | AF43: =IF($B43>0,AE43+AF42,0) -> 0 | AG43: =M43+K43 -> 0 | AH43: =IF($B43>0,AG43+AH42,0) -> 0 | AI43: =P43+R43 -> 0 | AJ43: =IF($B43>0,AI43+AJ42,0) -> 0 | AK43: =U43+W43 -> 0 | AL43: =IF($B43>0,AK43+AL42,0) -> 0 | AM43: =AE43+AG43+AI43+AK43 -> 0 | AN43: =IF($B43>0,AM43+AN42,0) -> 0
G44: =IF($D44>0,F44-$D44+G43,0) -> 0 | I44: =IF($D44>0,H44-$D44+I43,0) -> 0
A45: Date
F46: Jeux Simples Gagnants
A47: FEVRIER | C47: Hip | D47: Crs | F47: 1 | H47: 2
A48: 2011 | F48: rap | G48: Bilan | H48: rap | I48: Bilan
A50: Mar | B50: 40575 | G50: =IF($B50>0,F50-$D50,0) -> 0 | I50: =IF($B50>0,H50-$D50,0) -> 0
A51: Mer | B51: 40576 | G51: =IF($B51>0,F51-$D51+G50,0) -> 0 | I51: =IF($B51>0,H51-$D51+I50,0) -> 0
A52: Jeu | B52: 40577 | G52: =IF($B52>0,F52-$D52+G51,0) -> 0 | I52: =IF($B52>0,H52-$D52+I51,0) -> 0
A53: Ven | B53: 40578 | G53: =IF($B53>0,F53-$D53+G52,0) -> 0 | I53: =IF($B53>0,H53-$D53+I52,0) -> 0
A54: Sam | B54: 40579 | G54: =IF($B54>0,F54-$D54+G53,0) -> 0 | I54: =IF($B54>0,H54-$D54+I53,0) -> 0
A55: Dim | B55: 40580 | G55: =IF($B55>0,F55-$D55+G54,0) -> 0 | I55: =IF($B55>0,H55-$D55+I54,0) -> 0
A56: Lun | B56: 40581 | G56: =IF($B56>0,F56-$D56+G55,0) -> 0 | I56: =IF($B56>0,H56-$D56+I55,0) -> 0
A57: Mar | B57: 40582 | G57: =IF($B57>0,F57-$D57+G56,0) -> 0 | I57: =IF($B57>0,H57-$D57+I56,0) -> 0
A58: Mer | B58: 40583 | G58: =IF($B58>0,F58-$D58+G57,0) -> 0 | I58: =IF($B58>0,H58-$D58+I57,0) -> 0
A59: Jeu | B59: 40584 | G59: =IF($B59>0,F59-$D59+G58,0) -> 0 | I59: =IF($B59>0,H59-$D59+I58,0) -> 0
A60: Ven | B60: 40585 | G60: =IF($B60>0,F60-$D60+G59,0) -> 0 | I60: =IF($B60>0,H60-$D60+I59,0) -> 0
A61: Sam | B61: 40586 | G61: =IF($B61>0,F61-$D61+G60,0) -> 0 | I61: =IF($B61>0,H61-$D61+I60,0) -> 0
A62: Dim | B62: 40587 | G62: =IF($B62>0,F62-$D62+G61,0) -> 0 | I62: =IF($B62>0,H62-$D62+I61,0) -> 0
... A77: Lun | B77: 40602 | G77: =IF($B77>0,F77-$D77+G76,0) -> 0 | I77: =IF($B77>0,H77-$D77+I76,0) -> 0
A79: Date
F80: Jeux Simples Gagnants
A81: MARS | C81: Hip | D81: Crs | F81: 1 | H81: 2
A82: 2011 | F82: rap | G82: Bilan | H82: rap | I82: Bilan
A84: Mar | B84: 40603 | G84: =IF($B84>0,F84-$D84,0) -> 0 | I84: =IF($B84>0,H84-$D84,0) -> 0
A85: Mer | B85: 40604 | G85: =IF($B85>0,F85-$D85+G84,0) -> 0 | I85: =IF($B85>0,H85-$D85+I84,0) -> 0
A86: Jeu | B86: 40605 | G86: =IF($B86>0,F86-$D86+G85,0) -> 0 | I86: =IF($B86>0,H86-$D86+I85,0) -> 0
A87: Ven | B87: 40606 | G87: =IF($B87>0,F87-$D87+G86,0) -> 0 | I87: =IF($B87>0,H87-$D87+I86,0) -> 0
A88: Sam | B88: 40607 | G88: =IF($B88>0,F88-$D88+G87,0) -> 0 | I88: =IF($B88>0,H88-$D88+I87,0) -> 0
A89: Dim | B89: 40608 | G89: =IF($B89>0,F89-$D89+G88,0) -> 0 | I89: =IF($B89>0,H89-$D89+I88,0) -> 0
A90: Lun | B90: 40609 | G90: =IF($B90>0,F90-$D90+G89,0) -> 0 | I90: =IF($B90>0,H90-$D90+I89,0) -> 0
A91: Mar | B91: 40610 | G91: =IF($B91>0,F91-$D91+G90,0) -> 0 | I91: =IF($B91>0,H91-$D91+I90,0) -> 0
A92: Mer | B92: 40611 | G92: =IF($B92>0,F92-$D92+G91,0) -> 0 | I92: =IF($B92>0,H92-$D92+I91,0) -> 0
A93: Jeu | B93: 40612 | G93: =IF($B93>0,F93-$D93+G92,0) -> 0 | I93: =IF($B93>0,H93-$D93+I92,0) -> 0
A94: Ven | B94: 40613 | G94: =IF($B94>0,F94-$D94+G93,0) -> 0 | I94: =IF($B94>0,H94-$D94+I93,0) -> 0
A95: Sam | B95: 40614 | G95: =IF($B95>0,F95-$D95+G94,0) -> 0 | I95: =IF($B95>0,H95-$D95+I94,0) -> 0
A96: Dim | B96: 40615 | G96: =IF($B96>0,F96-$D96+G95,0) -> 0 | I96: =IF($B96>0,H96-$D96+I95,0) -> 0
... A114: Jeu | B114: 40633 | G114: =IF($B114>0,F114-$D114+G113,0) -> 0 | I114: =IF($B114>0,H114-$D114+I113,0) -> 0
A116: Date
F117: Jeux Simples Gagnants
A118: AVRIL | C118: Hip | D118: Crs | F118: 1 | H118: 2
A119: 2011 | F119: rap | G119: Bilan | H119: rap | I119: Bilan
A121: Ven | B121: 40634 | G121: =IF($B121>0,F121-$D121,0) -> 0 | I121: =IF($B121>0,H121-$D121,0) -> 0
A122: Sam | B122: 40635 | G122: =IF($B122>0,F122-$D122+G121,0) -> 0 | I122: =IF($B122>0,H122-$D122+I121,0) -> 0
A123: Dim | B123: 40636 | G123: =IF($B123>0,F123-$D123+G122,0) -> 0 | I123: =IF($B123>0,H123-$D123+I122,0) -> 0
A124: Lun | B124: 40637 | G124: =IF($B124>0,F124-$D124+G123,0) -> 0 | I124: =IF($B124>0,H124-$D124+I123,0) -> 0
A125: Mar | B125: 40638 | G125: =IF($B125>0,F125-$D125+G124,0) -> 0 | I125: =IF($B125>0,H125-$D125+I124,0) -> 0
A126: Mer | B126: 40639 | G126: =IF($B126>0,F126-$D126+G125,0) -> 0 | I126: =IF($B126>0,H126-$D126+I125,0) -> 0
A127: Jeu | B127: 40640 | G127: =IF($B127>0,F127-$D127+G126,0) -> 0 | I127: =IF($B127>0,H127-$D127+I126,0) -> 0
A128: Ven | B128: 40641 | G128: =IF($B128>0,F128-$D128+G127,0) -> 0 | I128: =IF($B128>0,H128-$D128+I127,0) -> 0
A129: Sam | B129: 40642 | G129: =IF($B129>0,F129-$D129+G128,0) -> 0 | I129: =IF($B129>0,H129-$D129+I128,0) -> 0
A130: Dim | B130: 40643 | G130: =IF($B130>0,F130-$D130+G129,0) -> 0 | I130: =IF($B130>0,H130-$D130+I129,0) -> 0
A131: Lun | B131: 40644 | G131: =IF($B131>0,F131-$D131+G130,0) -> 0 | I131: =IF($B131>0,H131-$D131+I130,0) -> 0
A132: Mar | B132: 40645 | G132: =IF($B132>0,F132-$D132+G131,0) -> 0 | I132: =IF($B132>0,H132-$D132+I131,0) -> 0
A133: Mer | B133: 40646 | G133: =IF($B133>0,F133-$D133+G132,0) -> 0 | I133: =IF($B133>0,H133-$D133+I132,0) -> 0
... A150: Sam | B150: 40663 | G150: =IF($B150>0,F150-$D150+G149,0) -> 0 | I150: =IF($B150>0,H150-$D150+I149,0) -> 0
A152: Date
F153: Jeux Simples Gagnants
A154: MAI | C154: Hip | D154: Crs | F154: 1 | H154: 2
A155: 2011 | F155: rap | G155: Bilan | H155: rap | I155: Bilan
A157: Dim | B157: 40664 | G157: =IF($B157>0,F157-$D157,0) -> 0 | I157: =IF($B157>0,H157-$D157,0) -> 0
A158: Lun | B158: 40665 | G158: =IF($B158>0,F158-$D158+G157,0) -> 0 | I158: =IF($B158>0,H158-$D158+I157,0) -> 0
A159: Mar | B159: 40666 | G159: =IF($B159>0,F159-$D159+G158,0) -> 0 | I159: =IF($B159>0,H159-$D159+I158,0) -> 0
A160: Mer | B160: 40667 | G160: =IF($B160>0,F160-$D160+G159,0) -> 0 | I160: =IF($B160>0,H160-$D160+I159,0) -> 0
...

Sheet Méthode 2 x Placé
H3: O B S T A C L E Jeux simples
B6: Condition de jeu : partants > 12 | I6: Cote du favori : > 3/1 | P6: Choix des chevaux à jouer : 10 premiers du prono GENY + compléter éventuellement avec le prono ZETURF
A8: ='Bilan Jour JS'!A8:B8 -> Date | F8: Bilan GENY | M8: Bilan ZETURF | R8: Bilan PMU | W8: Bilan LETURF | AB8: Bilan Total | AG8: Bilan Total Gagnant / Placé
F9: Gagn | H9: Plac | J9: 2 x Pla si positif | M9: Gagn | O9: Plac | R9: Gagn | T9: Plac | W9: Gagn | Y9: Plac | AB9: Gagn GE+ZE+PMU+LET | AD9: Plac GE+ZE+PMU+LET | AG9: GENY Gagn / Plac | AI9: ZETURF Gagn / Plac | AK9: PMU Gagn / Plac | AM9: LETURF Gagn / Plac | AO9: TOTAL Gagn / Plac
A10: ='Bilan Jour JS'!A10:B10 -> JANVIER | C10: ='Bilan Jour JS'!C10 -> Hip | D10: ='Bilan Jour JS'!D10 -> Crs
A11: ='Bilan Jour JS'!A11:B11 -> 2012 | F11: Jour | G11: Bilan | H11: Jour | I11: Bilan | J11: Jour | K11: Bilan | M11: Jour | N11: Bilan | O11: rap | P11: Bilan | R11: Jour | S11: Bilan | T11: rap | U11: Bilan | W11: Jour | X11: Bilan | Y11: rap | Z11: Bilan | AB11: Jour | AC11: Bilan | AD11: rap | AE11: Bilan | AG11: Jour | AH11: Bilan | AI11: rap | AJ11: Bilan | AK11: rap | AL11: Bilan | AM11: rap | AN11: Bilan | AO11: rap | AP11: Bilan
A13: ='Bilan Jour JS'!A13 -> Dim | B13: ='Bilan Jour JS'!B13 -> 40544 | C13: ='Bilan Jour JS'!C13 -> 1 | D13: ='Bilan Jour JS'!D13 -> 2 | F13: ='Bilan Jour JS'!F13 -> 12 | G13: =IF($B13>0,F13+G12,0) -> 12 | H13: ='Bilan Jour JS'!H13 -> 4.3 | I13: =IF($B13>0,H13+I12,0) -> 4.3 | J13: =H13 -> 4.3 | K13: =IF($B13>0,J13+K12,0) -> 4.3 | M13: ='Bilan Jour JS'!K13 -> 7.5 | N13: =IF($B13>0,M13+N12,0) -> 7.5 | O13: ='Bilan Jour JS'!M13 -> 4 | P13: =IF($B13>0,O13+P12,0) -> 4 | R13: ='Bilan Jour JS'!P13 -> 9.8 | S13: =IF($B13>0,R13+S12,0) -> 9.8 | T13: ='Bilan Jour JS'!R13 -> 8 | U13: =IF($B13>0,T13+U12,0) -> 8 | W13: ='Bilan Jour JS'!U13 -> 6.4 | X13: =IF($B13>0,W13+X12,0) -> 6.4 | Y13: ='Bilan Jour JS'!W13 -> 18.2 | Z13: =IF($B13>0,Y13+Z12,0) -> 18.2 | AB13: =F13+M13+R13+W13 -> 35.7 | AC13: =IF($B13>0,AB13+AC12,0) -> 35.7 | AD13: =H13+O13+T13+Y13 -> 34.5 | AE13: =IF($B13>0,AD13+AE12,0) -> 34.5 | AG13: =F13+H13 -> 16.3 | AH13: =IF($B13>0,AG13+AH12,0) -> 16.3 | AI13: =O13+M13 -> 11.5 | AJ13: =IF($B13>0,AI13+AJ12,0) -> 11.5 | AK13: =R13+T13 -> 17.8 | AL13: =IF($B13>0,AK13+AL12,0) -> 17.8 | AM13: =W13+Y13 -> 24.6 | AN13: =IF($B13>0,AM13+AN12,0) -> 24.6 | AO13: =AG13+AI13+AK13+AM13 -> 70.2 | AP13: =IF($B13>0,AO13+AP12,0) -> 70.2
A14: ='Bilan Jour JS'!A14 -> Lun | B14: ='Bilan Jour JS'!B14 -> 40545 | C14: ='Bilan Jour JS'!C14 -> 0 | D14: ='Bilan Jour JS'!D14 -> 0 | F14: ='Bilan Jour JS'!F14 -> 0 | G14: =IF($B14>0,F14+G13,0) -> 12 | H14: ='Bilan Jour JS'!H14 -> 0 | I14: =IF($B14>0,H14+I13,0) -> 4.3 | J14: =IF(H13>0,H14*2,H14) -> 0 | K14: =IF($B14>0,J14+K13,0) -> 4.3 | M14: ='Bilan Jour JS'!K14 -> 0 | N14: =IF($B14>0,M14+N13,0) -> 7.5 | O14: ='Bilan Jour JS'!M14 -> 0 | P14: =IF($B14>0,O14+P13,0) -> 4 | R14: ='Bilan Jour JS'!P14 -> 0 | S14: =IF($B14>0,R14+S13,0) -> 9.8 | T14: ='Bilan Jour JS'!R14 -> 0 | U14: =IF($B14>0,T14+U13,0) -> 8 | W14: ='Bilan Jour JS'!U14 -> 0 | X14: =IF($B14>0,W14+X13,0) -> 6.4 | Y14: ='Bilan Jour JS'!W14 -> 0 | Z14: =IF($B14>0,Y14+Z13,0) -> 18.2 | AB14: =F14+M14+R14+W14 -> 0 | AC14: =IF($B14>0,AB14+AC13,0) -> 35.7 | AD14: =H14+O14+T14+Y14 -> 0 | AE14: =IF($B14>0,AD14+AE13,0) -> 34.5 | AG14: =F14+H14 -> 0 | AH14: =IF($B14>0,AG14+AH13,0) -> 16.3 | AI14: =O14+M14 -> 0 | AJ14: =IF($B14>0,AI14+AJ13,0) -> 11.5 | AK14: =R14+T14 -> 0 | AL14: =IF($B14>0,AK14+AL13,0) -> 17.8 | AM14: =W14+Y14 -> 0 | AN14: =IF($B14>0,AM14+AN13,0) -> 24.6 | AO14: =AG14+AI14+AK14+AM14 -> 0 | AP14: =IF($B14>0,AO14+AP13,0) -> 70.2
A15: ='Bilan Jour JS'!A15 -> Mar | B15: ='Bilan Jour JS'!B15 -> 40546 | C15: ='Bilan Jour JS'!C15 -> 1 | D15: ='Bilan Jour JS'!D15 -> 2 | F15: ='Bilan Jour JS'!F15 -> -17 | G15: =IF($B15>0,F15+G14,0) -> -5 | H15: ='Bilan Jour JS'!H15 -> -1.8 | I15: =IF($B15>0,H15+I14,0) -> 2.5 | J15: =IF(H14>0,H15*2,H15) -> -1.8 | K15: =IF($B15>0,J15+K14,0) -> 2.5 | M15: ='Bilan Jour JS'!K15 -> -17 | N15: =IF($B15>0,M15+N14,0) -> -9.5 | O15: ='Bilan Jour JS'!M15 -> 5.5 | P15: =IF($B15>0,O15+P14,0) -> 9.5 | R15: ='Bilan Jour JS'!P15 -> -17 | S15: =IF($B15>0,R15+S14,0) -> -7.2 | T15: ='Bilan Jour JS'!R15 -> 3.7 | U15: =IF($B15>0,T15+U14,0) -> 11.7 | W15: ='Bilan Jour JS'!U15 -> -17.2 | X15: =IF($B15>0,W15+X14,0) -> -10.8 | Y15: ='Bilan Jour JS'!W15 -> 1.4 | Z15: =IF($B15>0,Y15+Z14,0) -> 19.6 | AB15: =F15+M15+R15+W15 -> -68.2 | AC15: =IF($B15>0,AB15+AC14,0) -> -32.5 | AD15: =H15+O15+T15+Y15 -> 8.8 | AE15: =IF($B15>0,AD15+AE14,0) -> 43.3 | AG15: =F15+H15 -> -18.8 | AH15: =IF($B15>0,AG15+AH14,0) -> -2.5 | AI15: =O15+M15 -> -11.5 | AJ15: =IF($B15>0,AI15+AJ14,0) -> 0 | AK15: =R15+T15 -> -13.3 | AL15: =IF($B15>0,AK15+AL14,0) -> 4.5 | AM15: =W15+Y15 -> -15.8 | AN15: =IF($B15>0,AM15+AN14,0) -> 8.8 | AO15: =AG15+AI15+AK15+AM15 -> -59.4 | AP15: =IF($B15>0,AO15+AP14,0) -> 10.8
A16: ='Bilan Jour JS'!A16 -> Mer | B16: ='Bilan Jour JS'!B16 -> 40547 | C16: ='Bilan Jour JS'!C16 -> 1 | D16: ='Bilan Jour JS'!D16 -> 3 | F16: ='Bilan Jour JS'!F16 -> -10.3 | G16: =IF($B16>0,F16+G15,0) -> -15.3 | H16: ='Bilan Jour JS'!H16 -> 0 | I16: =IF($B16>0,H16+I15,0) -> 2.5 | J16: =IF(H15>0,H16*2,H16) -> 0 | K16: =IF($B16>0,J16+K15,0) -> 2.5 | M16: ='Bilan Jour JS'!K16 -> -8.8 | N16: =IF($B16>0,M16+N15,0) -> -18.3 | O16: ='Bilan Jour JS'!M16 -> 7.7 | P16: =IF($B16>0,O16+P15,0) -> 17.2 | R16: ='Bilan Jour JS'!P16 -> -13.8 | S16: =IF($B16>0,R16+S15,0) -> -21 | T16: ='Bilan Jour JS'!R16 -> 9.3 | U16: =IF($B16>0,T16+U15,0) -> 21 | W16: ='Bilan Jour JS'!U16 -> -9.5 | X16: =IF($B16>0,W16+X15,0) -> -20.3 | Y16: ='Bilan Jour JS'!W16 -> 7.6 | Z16: =IF($B16>0,Y16+Z15,0) -> 27.2 | AB16: =F16+M16+R16+W16 -> -42.4 | AC16: =IF($B16>0,AB16+AC15,0) -> -74.9 | AD16: =H16+O16+T16+Y16 -> 24.6 | AE16: =IF($B16>0,AD16+AE15,0) -> 67.9 | AG16: =F16+H16 -> -10.3 | AH16: =IF($B16>0,AG16+AH15,0) -> -12.8 | AI16: =O16+M16 -> -1.1 | AJ16: =IF($B16>0,AI16+AJ15,0) -> -1.1 | AK16: =R16+T16 -> -4.5 | AL16: =IF($B16>0,AK16+AL15,0) -> 0 | AM16: =W16+Y16 -> -1.9 | AN16: =IF($B16>0,AM16+AN15,0) -> 6.9 | AO16: =AG16+AI16+AK16+AM16 -> -17.8 | AP16: =IF($B16>0,AO16+AP15,0) -> -7
A17: ='Bilan Jour JS'!A17 -> Jeu | B17: ='Bilan Jour JS'!B17 -> 40548 | C17: ='Bilan Jour JS'!C17 -> 1 | D17: ='Bilan Jour JS'!D17 -> 1 | F17: ='Bilan Jour JS'!F17 -> 0 | G17: =IF($B17>0,F17+G16,0) -> -15.3 | H17: ='Bilan Jour JS'!H17 -> 10.8 | I17: =IF($B17>0,H17+I16,0) -> 13.3 | J17: =IF(H16>0,H17*2,H17) -> 10.8 | K17: =IF($B17>0,J17+K16,0) -> 13.3 | M17: ='Bilan Jour JS'!K17 -> 1.2 | N17: =IF($B17>0,M17+N16,0) -> -17.1 | O17: ='Bilan Jour JS'!M17 -> 13 | P17: =IF($B17>0,O17+P16,0) -> 30.2 | R17: ='Bilan Jour JS'!P17 -> -0.2 | S17: =IF($B17>0,R17+S16,0) -> -21.2 | T17: ='Bilan Jour JS'!R17 -> 16.1 | U17: =IF($B17>0,T17+U16,0) -> 37.1 | W17: ='Bilan Jour JS'!U17 -> 0.7 | X17: =IF($B17>0,W17+X16,0) -> -19.6 | Y17: ='Bilan Jour JS'!W17 -> 7.7 | Z17: =IF($B17>0,Y17+Z16,0) -> 34.9 | AB17: =F17+M17+R17+W17 -> 1.7 | AC17: =IF($B17>0,AB17+AC16,0) -> -73.2 | AD17: =H17+O17+T17+Y17 -> 47.6 | AE17: =IF($B17>0,AD17+AE16,0) -> 115.5 | AG17: =F17+H17 -> 10.8 | AH17: =IF($B17>0,AG17+AH16,0) -> -2 | AI17: =O17+M17 -> 14.2 | AJ17: =IF($B17>0,AI17+AJ16,0) -> 13.1 | AK17: =R17+T17 -> 15.9 | AL17: =IF($B17>0,AK17+AL16,0) -> 15.9 | AM17: =W17+Y17 -> 8.4 | AN17: =IF($B17>0,AM17+AN16,0) -> 15.3 | AO17: =AG17+AI17+AK17+AM17 -> 49.3 | AP17: =IF($B17>0,AO17+AP16,0) -> 42.3
A18: ='Bilan Jour JS'!A18 -> Ven | B18: ='Bilan Jour JS'!B18 -> 40549 | C18: ='Bilan Jour JS'!C18 -> 0 | D18: ='Bilan Jour JS'!D18 -> 0 | F18: ='Bilan Jour JS'!F18 -> 0 | G18: =IF($B18>0,F18+G17,0) -> -15.3 | H18: ='Bilan Jour JS'!H18 -> 0 | I18: =IF($B18>0,H18+I17,0) -> 13.3 | J18: =IF(H17>0,H18*2,H18) -> 0 | K18: =IF($B18>0,J18+K17,0) -> 13.3 | M18: ='Bilan Jour JS'!K18 -> 0 | N18: =IF($B18>0,M18+N17,0) -> -17.1 | O18: ='Bilan Jour JS'!M18 -> 0 | P18: =IF($B18>0,O18+P17,0) -> 30.2 | R18: ='Bilan Jour JS'!P18 -> 0 | S18: =IF($B18>0,R18+S17,0) -> -21.2 | T18: ='Bilan Jour JS'!R18 -> 0 | U18: =IF($B18>0,T18+U17,0) -> 37.1 | W18: ='Bilan Jour JS'!U18 -> 0 | X18: =IF($B18>0,W18+X17,0) -> -19.6 | Y18: ='Bilan Jour JS'!W18 -> 0 | Z18: =IF($B18>0,Y18+Z17,0) -> 34.9 | AB18: =F18+M18+R18+W18 -> 0 | AC18: =IF($B18>0,AB18+AC17,0) -> -73.2 | AD18: =H18+O18+T18+Y18 -> 0 | AE18: =IF($B18>0,AD18+AE17,0) -> 115.5 | AG18: =F18+H18 -> 0 | AH18: =IF($B18>0,AG18+AH17,0) -> -2 | AI18: =O18+M18 -> 0 | AJ18: =IF($B18>0,AI18+AJ17,0) -> 13.1 | AK18: =R18+T18 -> 0 | AL18: =IF($B18>0,AK18+AL17,0) -> 15.9 | AM18: =W18+Y18 -> 0 | AN18: =IF($B18>0,AM18+AN17,0) -> 15.3 | AO18: =AG18+AI18+AK18+AM18 -> 0 | AP18: =IF($B18>0,AO18+AP17,0) -> 42.3
A19: ='Bilan Jour JS'!A19 -> Sam | B19: ='Bilan Jour JS'!B19 -> 40550 | C19: ='Bilan Jour JS'!C19 -> 0 | D19: ='Bilan Jour JS'!D19 -> 0 | F19: ='Bilan Jour JS'!F19 -> 0 | G19: =IF($B19>0,F19+G18,0) -> -15.3 | H19: ='Bilan Jour JS'!H19 -> 0 | I19: =IF($B19>0,H19+I18,0) -> 13.3 | J19: =IF(H18>0,H19*2,H19) -> 0 | K19: =IF($B19>0,J19+K18,0) -> 13.3 | M19: ='Bilan Jour JS'!K19 -> 0 | N19: =IF($B19>0,M19+N18,0) -> -17.1 | O19: ='Bilan Jour JS'!M19 -> 0 | P19: =IF($B19>0,O19+P18,0) -> 30.2 | R19: ='Bilan Jour JS'!P19 -> 0 | S19: =IF($B19>0,R19+S18,0) -> -21.2 | T19: ='Bilan Jour JS'!R19 -> 0 | U19: =IF($B19>0,T19+U18,0) -> 37.1 | W19: ='Bilan Jour JS'!U19 -> 0 | X19: =IF($B19>0,W19+X18,0) -> -19.6 | Y19: ='Bilan Jour JS'!W19 -> 0 | Z19: =IF($B19>0,Y19+Z18,0) -> 34.9 | AB19: =F19+M19+R19+W19 -> 0 | AC19: =IF($B19>0,AB19+AC18,0) -> -73.2 | AD19: =H19+O19+T19+Y19 -> 0 | AE19: =IF($B19>0,AD19+AE18,0) -> 115.5 | AG19: =F19+H19 -> 0 | AH19: =IF($B19>0,AG19+AH18,0) -> -2 | AI19: =O19+M19 -> 0 | AJ19: =IF($B19>0,AI19+AJ18,0) -> 13.1 | AK19: =R19+T19 -> 0 | AL19: =IF($B19>0,AK19+AL18,0) -> 15.9 | AM19: =W19+Y19 -> 0 | AN19: =IF($B19>0,AM19+AN18,0) -> 15.3 | AO19: =AG19+AI19+AK19+AM19 -> 0 | AP19: =IF($B19>0,AO19+AP18,0) -> 42.3
A20: ='Bilan Jour JS'!A20 -> Dim | B20: ='Bilan Jour JS'!B20 -> 40551 | C20: ='Bilan Jour JS'!C20 -> 1 | D20: ='Bilan Jour JS'!D20 -> 2 | F20: ='Bilan Jour JS'!F20 -> 0.4 | G20: =IF($B20>0,F20+G19,0) -> -14.9 | H20: ='Bilan Jour JS'!H20 -> -6.1 | I20: =IF($B20>0,H20+I19,0) -> 7.2 | J20: =IF(H19>0,H20*2,H20) -> -6.1 | K20: =IF($B20>0,J20+K19,0) -> 7.2 | M20: ='Bilan Jour JS'!K20 -> -1.8 | N20: =IF($B20>0,M20+N19,0) -> -18.9 | O20: ='Bilan Jour JS'!M20 -> -3.8 | P20: =IF($B20>0,O20+P19,0) -> 26.4 | R20: ='Bilan Jour JS'!P20 -> 0.3 | S20: =IF($B20>0,R20+S19,0) -> -20.9 | T20: ='Bilan Jour JS'!R20 -> -3.2 | U20: =IF($B20>0,T20+U19,0) -> 33.9 | W20: ='Bilan Jour JS'!U20 -> -2.5 | X20: =IF($B20>0,W20+X19,0) -> -22.1 | Y20: ='Bilan Jour JS'!W20 -> -4.5 | Z20: =IF($B20>0,Y20+Z19,0) -> 30.4 | AB20: =F20+M20+R20+W20 -> -3.6 | AC20: =IF($B20>0,AB20+AC19,0) -> -76.8 | AD20: =H20+O20+T20+Y20 -> -17.6 | AE20: =IF($B20>0,AD20+AE19,0) -> 97.9 | AG20: =F20+H20 -> -5.7 | AH20: =IF($B20>0,AG20+AH19,0) -> -7.7 | AI20: =O20+M20 -> -5.6 | AJ20: =IF($B20>0,AI20+AJ19,0) -> 7.5 | AK20: =R20+T20 -> -2.9 | AL20: =IF($B20>0,AK20+AL19,0) -> 13 | AM20: =W20+Y20 -> -7 | AN20: =IF($B20>0,AM20+AN19,0) -> 8.3 | AO20: =AG20+AI20+AK20+AM20 -> -21.2 | AP20: =IF($B20>0,AO20+AP19,0) -> 21.1
A21: ='Bilan Jour JS'!A21 -> Lun | B21: ='Bilan Jour JS'!B21 -> 40552 | C21: ='Bilan Jour JS'!C21 -> 1 | D21: ='Bilan Jour JS'!D21 -> 1 | F21: ='Bilan Jour JS'!F21 -> 21.5 | G21: =IF($B21>0,F21+G20,0) -> 6.6 | H21: ='Bilan Jour JS'!H21 -> 6 | I21: =IF($B21>0,H21+I20,0) -> 13.2 | J21: =IF(H20>0,H21*2,H21) -> 6 | K21: =IF($B21>0,J21+K20,0) -> 13.2 | M21: ='Bilan Jour JS'!K21 -> 20.5 | N21: =IF($B21>0,M21+N20,0) -> 1.6 | O21: ='Bilan Jour JS'!M21 -> 4 | P21: =IF($B21>0,O21+P20,0) -> 30.4 | R21: ='Bilan Jour JS'!P21 -> 7.4 | S21: =IF($B21>0,R21+S20,0) -> -13.5 | T21: ='Bilan Jour JS'!R21 -> 1 | U21: =IF($B21>0,T21+U20,0) -> 34.9 | W21: ='Bilan Jour JS'!U21 -> 19.4 | X21: =IF($B21>0,W21+X20,0) -> -2.7 | Y21: ='Bilan Jour JS'!W21 -> 3.6 | Z21: =IF($B21>0,Y21+Z20,0) -> 34 | AB21: =F21+M21+R21+W21 -> 68.8 | AC21: =IF($B21>0,AB21+AC20,0) -> -8 | AD21: =H21+O21+T21+Y21 -> 14.6 | AE21: =IF($B21>0,AD21+AE20,0) -> 112.5 | AG21: =F21+H21 -> 27.5 | AH21: =IF($B21>0,AG21+AH20,0) -> 19.8 | AI21: =O21+M21 -> 24.5 | AJ21: =IF($B21>0,AI21+AJ20,0) -> 32 | AK21: =R21+T21 -> 8.4 | AL21: =IF($B21>0,AK21+AL20,0) -> 21.4 | AM21: =W21+Y21 -> 23 | AN21: =IF($B21>0,AM21+AN20,0) -> 31.3 | AO21: =AG21+AI21+AK21+AM21 -> 83.4 | AP21: =IF($B21>0,AO21+AP20,0) -> 104.5
A22: ='Bilan Jour JS'!A22 -> Mar | B22: ='Bilan Jour JS'!B22 -> 40553 | C22: ='Bilan Jour JS'!C22 -> 0 | D22: ='Bilan Jour JS'!D22 -> 0 | F22: ='Bilan Jour JS'!F22 -> 0 | G22: =IF($B22>0,F22+G21,0) -> 6.6 | H22: ='Bilan Jour JS'!H22 -> 0 | I22: =IF($B22>0,H22+I21,0) -> 13.2 | J22: =IF(H21>0,H22*2,H22) -> 0 | K22: =IF($B22>0,J22+K21,0) -> 13.2 | M22: ='Bilan Jour JS'!K22 -> 0 | N22: =IF($B22>0,M22+N21,0) -> 1.6 | O22: ='Bilan Jour JS'!M22 -> 0 | P22: =IF($B22>0,O22+P21,0) -> 30.4 | R22: ='Bilan Jour JS'!P22 -> 0 | S22: =IF($B22>0,R22+S21,0) -> -13.5 | T22: ='Bilan Jour JS'!R22 -> 0 | U22: =IF($B22>0,T22+U21,0) -> 34.9 | W22: ='Bilan Jour JS'!U22 -> 0 | X22: =IF($B22>0,W22+X21,0) -> -2.7 | Y22: ='Bilan Jour JS'!W22 -> 0 | Z22: =IF($B22>0,Y22+Z21,0) -> 34 | AB22: =F22+M22+R22+W22 -> 0 | AC22: =IF($B22>0,AB22+AC21,0) -> -8 | AD22: =H22+O22+T22+Y22 -> 0 | AE22: =IF($B22>0,AD22+AE21,0) -> 112.5 | AG22: =F22+H22 -> 0 | AH22: =IF($B22>0,AG22+AH21,0) -> 19.8 | AI22: =O22+M22 -> 0 | AJ22: =IF($B22>0,AI22+AJ21,0) -> 32 | AK22: =R22+T22 -> 0 | AL22: =IF($B22>0,AK22+AL21,0) -> 21.4 | AM22: =W22+Y22 -> 0 | AN22: =IF($B22>0,AM22+AN21,0) -> 31.3 | AO22: =AG22+AI22+AK22+AM22 -> 0 | AP22: =IF($B22>0,AO22+AP21,0) -> 104.5
A23: ='Bilan Jour JS'!A23 -> Mer | B23: ='Bilan Jour JS'!B23 -> 40554 | C23: ='Bilan Jour JS'!C23 -> 0 | D23: ='Bilan Jour JS'!D23 -> 0 | F23: ='Bilan Jour JS'!F23 -> 0 | G23: =IF($B23>0,F23+G22,0) -> 6.6 | H23: ='Bilan Jour JS'!H23 -> 0 | I23: =IF($B23>0,H23+I22,0) -> 13.2 | K23: =IF($B23>0,J23+K22,0) -> 13.2 | M23: ='Bilan Jour JS'!K23 -> 0 | N23: =IF($B23>0,M23+N22,0) -> 1.6 | O23: ='Bilan Jour JS'!M23 -> 0 | P23: =IF($B23>0,O23+P22,0) -> 30.4 | R23: ='Bilan Jour JS'!P23 -> 0 | S23: =IF($B23>0,R23+S22,0) -> -13.5 | T23: ='Bilan Jour JS'!R23 -> 0 | U23: =IF($B23>0,T23+U22,0) -> 34.9 | W23: ='Bilan Jour JS'!U23 -> 0 | X23: =IF($B23>0,W23+X22,0) -> -2.7 | Y23: ='Bilan Jour JS'!W23 -> 0 | Z23: =IF($B23>0,Y23+Z22,0) -> 34 | AB23: =F23+M23+R23+W23 -> 0 | AC23: =IF($B23>0,AB23+AC22,0) -> -8 | AD23: =H23+O23+T23+Y23 -> 0 | AE23: =IF($B23>0,AD23+AE22,0) -> 112.5 | AG23: =F23+H23 -> 0 | AH23: =IF($B23>0,AG23+AH22,0) -> 19.8 | AI23: =O23+M23 -> 0 | AJ23: =IF($B23>0,AI23+AJ22,0) -> 32 | AK23: =R23+T23 -> 0 | AL23: =IF($B23>0,AK23+AL22,0) -> 21.4 | AM23: =W23+Y23 -> 0 | AN23: =IF($B23>0,AM23+AN22,0) -> 31.3 | AO23: =AG23+AI23+AK23+AM23 -> 0 | AP23: =IF($B23>0,AO23+AP22,0) -> 104.5
A24: ='Bilan Jour JS'!A24 -> Jeu | B24: ='Bilan Jour JS'!B24 -> 40555 | C24: ='Bilan Jour JS'!C24 -> 1 | D24: ='Bilan Jour JS'!D24 -> 4 | F24: ='Bilan Jour JS'!F24 -> -10.7 | G24: =IF($B24>0,F24+G23,0) -> -4.1 | H24: ='Bilan Jour JS'!H24 -> 9.6 | I24: =IF($B24>0,H24+I23,0) -> 22.8 | J24: {=IF(H23>0,H24*2,INDIRECT("H"&MAX(ROW($H$13:$H23)*($H$13:$H23<>0))))} -> 6 | K24: =IF($B24>0,J24+K23,0) -> 19.2 | M24: ='Bilan Jour JS'!K24 -> -13.9 | N24: =IF($B24>0,M24+N23,0) -> -12.3 | O24: ='Bilan Jour JS'!M24 -> 8.8 | P24: =IF($B24>0,O24+P23,0) -> 39.2 | R24: ='Bilan Jour JS'!P24 -> -9 | S24: =IF($B24>0,R24+S23,0) -> -22.5 | T24: ='Bilan Jour JS'!R24 -> 7.6 | U24: =IF($B24>0,T24+U23,0) -> 42.5 | W24: ='Bilan Jour JS'!U24 -> -14.8 | X24: =IF($B24>0,W24+X23,0) -> -17.5 | Y24: ='Bilan Jour JS'!W24 -> 7.5 | Z24: =IF($B24>0,Y24+Z23,0) -> 41.5 | AB24: =F24+M24+R24+W24 -> -48.4 | AC24: =IF($B24>0,AB24+AC23,0) -> -56.4 | AD24: =H24+O24+T24+Y24 -> 33.5 | AE24: =IF($B24>0,AD24+AE23,0) -> 146 | AG24: =F24+H24 -> -1.1 | AH24: =IF($B24>0,AG24+AH23,0) -> 18.7 | AI24: =O24+M24 -> -5.1 | AJ24: =IF($B24>0,AI24+AJ23,0) -> 26.9 | AK24: =R24+T24 -> -1.4 | AL24: =IF($B24>0,AK24+AL23,0) -> 20 | AM24: =W24+Y24 -> -7.3 | AN24: =IF($B24>0,AM24+AN23,0) -> 24 | AO24: =AG24+AI24+AK24+AM24 -> -14.9 | AP24: =IF($B24>0,AO24+AP23,0) -> 89.6
A25: ='Bilan Jour JS'!A25 -> Ven | B25: ='Bilan Jour JS'!B25 -> 40556 | C25: ='Bilan Jour JS'!C25 -> 1 | D25: ='Bilan Jour JS'!D25 -> 1 | F25: ='Bilan Jour JS'!F25 -> -5.3 | G25: =IF($B25>0,F25+G24,0) -> -9.4 | H25: ='Bilan Jour JS'!H25 -> -3.6 | I25: =IF($B25>0,H25+I24,0) -> 19.2 | J25: =IF(H24>0,H25*2,H25) -> -7.2 | K25: =IF($B25>0,J25+K24,0) -> 12 | M25: ='Bilan Jour JS'!K25 -> -6.3 | N25: =IF($B25>0,M25+N24,0) -> -18.6 | O25: ='Bilan Jour JS'!M25 -> -3.1 | P25: =IF($B25>0,O25+P24,0) -> 36.1 | R25: ='Bilan Jour JS'!P25 -> -5.8 | S25: =IF($B25>0,R25+S24,0) -> -28.3 | T25: ='Bilan Jour JS'!R25 -> -3.7 | U25: =IF($B25>0,T25+U24,0) -> 38.8 | W25: ='Bilan Jour JS'!U25 -> -6.5 | X25: =IF($B25>0,W25+X24,0) -> -24 | Y25: ='Bilan Jour JS'!W25 -> -3 | Z25: =IF($B25>0,Y25+Z24,0) -> 38.5 | AB25: =F25+M25+R25+W25 -> -23.9 | AC25: =IF($B25>0,AB25+AC24,0) -> -80.3 | AD25: =H25+O25+T25+Y25 -> -13.4 | AE25: =IF($B25>0,AD25+AE24,0) -> 132.6 | AG25: =F25+H25 -> -8.9 | AH25: =IF($B25>0,AG25+AH24,0) -> 9.8 | AI25: =O25+M25 -> -9.4 | AJ25: =IF($B25>0,AI25+AJ24,0) -> 17.5 | AK25: =R25+T25 -> -9.5 | AL25: =IF($B25>0,AK25+AL24,0) -> 10.5 | AM25: =W25+Y25 -> -9.5 | AN25: =IF($B25>0,AM25+AN24,0) -> 14.5 | AO25: =AG25+AI25+AK25+AM25 -> -37.3 | AP25: =IF($B25>0,AO25+AP24,0) -> 52.3
A26: ='Bilan Jour JS'!A26 -> Sam | B26: ='Bilan Jour JS'!B26 -> 40557 | C26: ='Bilan Jour JS'!C26 -> 0 | D26: ='Bilan Jour JS'!D26 -> 0 | F26: ='Bilan Jour JS'!F26 -> 0 | G26: =IF($B26>0,F26+G25,0) -> -9.4 | H26: ='Bilan Jour JS'!H26 -> 0 | I26: =IF($B26>0,H26+I25,0) -> 19.2 | J26: =IF(H25>0,H26*2,H26) -> 0 | K26: =IF($B26>0,J26+K25,0) -> 12 | M26: ='Bilan Jour JS'!K26 -> 0 | N26: =IF($B26>0,M26+N25,0) -> -18.6 | O26: ='Bilan Jour JS'!M26 -> 0 | P26: =IF($B26>0,O26+P25,0) -> 36.1 | R26: ='Bilan Jour JS'!P26 -> 0 | S26: =IF($B26>0,R26+S25,0) -> -28.3 | T26: ='Bilan Jour JS'!R26 -> 0 | U26: =IF($B26>0,T26+U25,0) -> 38.8 | W26: ='Bilan Jour JS'!U26 -> 0 | X26: =IF($B26>0,W26+X25,0) -> -24 | Y26: ='Bilan Jour JS'!W26 -> 0 | Z26: =IF($B26>0,Y26+Z25,0) -> 38.5 | AB26: =F26+M26+R26+W26 -> 0 | AC26: =IF($B26>0,AB26+AC25,0) -> -80.3 | AD26: =H26+O26+T26+Y26 -> 0 | AE26: =IF($B26>0,AD26+AE25,0) -> 132.6 | AG26: =F26+H26 -> 0 | AH26: =IF($B26>0,AG26+AH25,0) -> 9.8 | AI26: =O26+M26 -> 0 | AJ26: =IF($B26>0,AI26+AJ25,0) -> 17.5 | AK26: =R26+T26 -> 0 | AL26: =IF($B26>0,AK26+AL25,0) -> 10.5 | AM26: =W26+Y26 -> 0 | AN26: =IF($B26>0,AM26+AN25,0) -> 14.5 | AO26: =AG26+AI26+AK26+AM26 -> 0 | AP26: =IF($B26>0,AO26+AP25,0) -> 52.3
A27: ='Bilan Jour JS'!A27 -> Dim | B27: ='Bilan Jour JS'!B27 -> 40558 | C27: ='Bilan Jour JS'!C27 -> 0 | D27: ='Bilan Jour JS'!D27 -> 0 | F27: ='Bilan Jour JS'!F27 -> 0 | G27: =IF($B27>0,F27+G26,0) -> -9.4 | H27: ='Bilan Jour JS'!H27 -> 0 | I27: =IF($B27>0,H27+I26,0) -> 19.2 | J27: =IF(H26>0,H27*2,H27) -> 0 | K27: =IF($B27>0,J27+K26,0) -> 12 | M27: ='Bilan Jour JS'!K27 -> 0 | N27: =IF($B27>0,M27+N26,0) -> -18.6 | O27: ='Bilan Jour JS'!M27 -> 0 | P27: =IF($B27>0,O27+P26,0) -> 36.1 | R27: ='Bilan Jour JS'!P27 -> 0 | S27: =IF($B27>0,R27+S26,0) -> -28.3 | T27: ='Bilan Jour JS'!R27 -> 0 | U27: =IF($B27>0,T27+U26,0) -> 38.8 | W27: ='Bilan Jour JS'!U27 -> 0 | X27: =IF($B27>0,W27+X26,0) -> -24 | Y27: ='Bilan Jour JS'!W27 -> 0 | Z27: =IF($B27>0,Y27+Z26,0) -> 38.5 | AB27: =F27+M27+R27+W27 -> 0 | AC27: =IF($B27>0,AB27+AC26,0) -> -80.3 | AD27: =H27+O27+T27+Y27 -> 0 | AE27: =IF($B27>0,AD27+AE26,0) -> 132.6 | AG27: =F27+H27 -> 0 | AH27: =IF($B27>0,AG27+AH26,0) -> 9.8 | AI27: =O27+M27 -> 0 | AJ27: =IF($B27>0,AI27+AJ26,0) -> 17.5 | AK27: =R27+T27 -> 0 | AL27: =IF($B27>0,AK27+AL26,0) -> 10.5 | AM27: =W27+Y27 -> 0 | AN27: =IF($B27>0,AM27+AN26,0) -> 14.5 | AO27: =AG27+AI27+AK27+AM27 -> 0 | AP27: =IF($B27>0,AO27+AP26,0) -> 52.3
A28: ='Bilan Jour JS'!A28 -> Lun | B28: ='Bilan Jour JS'!B28 -> 40559 | C28: ='Bilan Jour JS'!C28 -> 0 | D28: ='Bilan Jour JS'!D28 -> 0 | F28: ='Bilan Jour JS'!F28 -> 0 | G28: =IF($B28>0,F28+G27,0) -> -9.4 | H28: ='Bilan Jour JS'!H28 -> 0 | I28: =IF($B28>0,H28+I27,0) -> 19.2 | J28: =IF(H27>0,H28*2,H28) -> 0 | K28: =IF($B28>0,J28+K27,0) -> 12 | M28: ='Bilan Jour JS'!K28 -> 0 | N28: =IF($B28>0,M28+N27,0) -> -18.6 | O28: ='Bilan Jour JS'!M28 -> 0 | P28: =IF($B28>0,O28+P27,0) -> 36.1 | R28: ='Bilan Jour JS'!P28 -> 0 | S28: =IF($B28>0,R28+S27,0) -> -28.3 | T28: ='Bilan Jour JS'!R28 -> 0 | U28: =IF($B28>0,T28+U27,0) -> 38.8 | W28: ='Bilan Jour JS'!U28 -> 0 | X28: =IF($B28>0,W28+X27,0) -> -24 | Y28: ='Bilan Jour JS'!W28 -> 0 | Z28: =IF($B28>0,Y28+Z27,0) -> 38.5 | AB28: =F28+M28+R28+W28 -> 0 | AC28: =IF($B28>0,AB28+AC27,0) -> -80.3 | AD28: =H28+O28+T28+Y28 -> 0 | AE28: =IF($B28>0,AD28+AE27,0) -> 132.6 | AG28: =F28+H28 -> 0 | AH28: =IF($B28>0,AG28+AH27,0) -> 9.8 | AI28: =O28+M28 -> 0 | AJ28: =IF($B28>0,AI28+AJ27,0) -> 17.5 | AK28: =R28+T28 -> 0 | AL28: =IF($B28>0,AK28+AL27,0) -> 10.5 | AM28: =W28+Y28 -> 0 | AN28: =IF($B28>0,AM28+AN27,0) -> 14.5 | AO28: =AG28+AI28+AK28+AM28 -> 0 | AP28: =IF($B28>0,AO28+AP27,0) -> 52.3
A29: ='Bilan Jour JS'!A29 -> Mar | B29: ='Bilan Jour JS'!B29 -> 40560 | C29: ='Bilan Jour JS'!C29 -> 1 | D29: ='Bilan Jour JS'!D29 -> 1 | F29: ='Bilan Jour JS'!F29 -> -3.1 | G29: =IF($B29>0,F29+G28,0) -> -12.5 | H29: ='Bilan Jour JS'!H29 -> 12.6 | I29: =IF($B29>0,H29+I28,0) -> 31.8 | J29: =IF(H28>0,H29*2,H29) -> 12.6 | K29: =IF($B29>0,J29+K28,0) -> 24.6 | M29: ='Bilan Jour JS'!K29 -> -4.7 | N29: =IF($B29>0,M29+N28,0) -> -23.3 | O29: ='Bilan Jour JS'!M29 -> 3.7 | P29: =IF($B29>0,O29+P28,0) -> 39.8 | R29: ='Bilan Jour JS'!P29 -> -4.7 | S29: =IF($B29>0,R29+S28,0) -> -33 | T29: ='Bilan Jour JS'!R29 -> 8.1 | U29: =IF($B29>0,T29+U28,0) -> 46.9 | W29: ='Bilan Jour JS'!U29 -> -4.7 | X29: =IF($B29>0,W29+X28,0) -> -28.7 | Y29: ='Bilan Jour JS'!W29 -> 0.5 | Z29: =IF($B29>0,Y29+Z28,0) -> 39 | AB29: =F29+M29+R29+W29 -> -17.2 | AC29: =IF($B29>0,AB29+AC28,0) -> -97.5 | AD29: =H29+O29+T29+Y29 -> 24.9 | AE29: =IF($B29>0,AD29+AE28,0) -> 157.5 | AG29: =F29+H29 -> 9.5 | AH29: =IF($B29>0,AG29+AH28,0) -> 19.3 | AI29: =O29+M29 -> -1 | AJ29: =IF($B29>0,AI29+AJ28,0) -> 16.5 | AK29: =R29+T29 -> 3.4 | AL29: =IF($B29>0,AK29+AL28,0) -> 13.9 | AM29: =W29+Y29 -> -4.2 | AN29: =IF($B29>0,AM29+AN28,0) -> 10.3 | AO29: =AG29+AI29+AK29+AM29 -> 7.7 | AP29: =IF($B29>0,AO29+AP28,0) -> 60
A30: ='Bilan Jour JS'!A30 -> Mer | B30: ='Bilan Jour JS'!B30 -> 40561 | C30: ='Bilan Jour JS'!C30 -> 0 | D30: ='Bilan Jour JS'!D30 -> 0 | F30: ='Bilan Jour JS'!F30 -> 0 | G30: =IF($B30>0,F30+G29,0) -> -12.5 | H30: ='Bilan Jour JS'!H30 -> 0 | I30: =IF($B30>0,H30+I29,0) -> 31.8 | J30: =IF(H29>0,H30*2,H30) -> 0 | K30: =IF($B30>0,J30+K29,0) -> 24.6 | M30: ='Bilan Jour JS'!K30 -> 0 | N30: =IF($B30>0,M30+N29,0) -> -23.3 | O30: ='Bilan Jour JS'!M30 -> 0 | P30: =IF($B30>0,O30+P29,0) -> 39.8 | R30: ='Bilan Jour JS'!P30 -> 0 | S30: =IF($B30>0,R30+S29,0) -> -33 | T30: ='Bilan Jour JS'!R30 -> 0 | U30: =IF($B30>0,T30+U29,0) -> 46.9 | W30: ='Bilan Jour JS'!U30 -> 0 | X30: =IF($B30>0,W30+X29,0) -> -28.7 | Y30: ='Bilan Jour JS'!W30 -> 0 | Z30: =IF($B30>0,Y30+Z29,0) -> 39 | AB30: =F30+M30+R30+W30 -> 0 | AC30: =IF($B30>0,AB30+AC29,0) -> -97.5 | AD30: =H30+O30+T30+Y30 -> 0 | AE30: =IF($B30>0,AD30+AE29,0) -> 157.5 | AG30: =F30+H30 -> 0 | AH30: =IF($B30>0,AG30+AH29,0) -> 19.3 | AI30: =O30+M30 -> 0 | AJ30: =IF($B30>0,AI30+AJ29,0) -> 16.5 | AK30: =R30+T30 -> 0 | AL30: =IF($B30>0,AK30+AL29,0) -> 13.9 | AM30: =W30+Y30 -> 0 | AN30: =IF($B30>0,AM30+AN29,0) -> 10.3 | AO30: =AG30+AI30+AK30+AM30 -> 0 | AP30: =IF($B30>0,AO30+AP29,0) -> 60
A31: ='Bilan Jour JS'!A31 -> Jeu | B31: ='Bilan Jour JS'!B31 -> 40562 | C31: ='Bilan Jour JS'!C31 -> 1 | D31: ='Bilan Jour JS'!D31 -> 1 | F31: ='Bilan Jour JS'!F31 -> 11.6 | G31: =IF($B31>0,F31+G30,0) -> -0.9 | H31: ='Bilan Jour JS'!H31 -> 1.5 | I31: =IF($B31>0,H31+I30,0) -> 33.3 | J31: =IF(H30>0,H31*2,H31) -> 1.5 | K31: =IF($B31>0,J31+K30,0) -> 26.1 | M31: ='Bilan Jour JS'!K31 -> 13.6 | N31: =IF($B31>0,M31+N30,0) -> -9.7 | O31: ='Bilan Jour JS'!M31 -> 0.6 | P31: =IF($B31>0,O31+P30,0) -> 40.4 | R31: ='Bilan Jour JS'!P31 -> 11.6 | S31: =IF($B31>0,R31+S30,0) -> -21.4 | T31: ='Bilan Jour JS'!R31 -> 1.5 | U31: =IF($B31>0,T31+U30,0) -> 48.4 | W31: ='Bilan Jour JS'!U31 -> 12.8 | X31: =IF($B31>0,W31+X30,0) -> -15.9 | Y31: ='Bilan Jour JS'!W31 -> -4.5 | Z31: =IF($B31>0,Y31+Z30,0) -> 34.5 | AB31: =F31+M31+R31+W31 -> 49.6 | AC31: =IF($B31>0,AB31+AC30,0) -> -47.9 | AD31: =H31+O31+T31+Y31 -> -0.9 | AE31: =IF($B31>0,AD31+AE30,0) -> 156.6 | AG31: =F31+H31 -> 13.1 | AH31: =IF($B31>0,AG31+AH30,0) -> 32.4 | AI31: =O31+M31 -> 14.2 | AJ31: =IF($B31>0,AI31+AJ30,0) -> 30.7 | AK31: =R31+T31 -> 13.1 | AL31: =IF($B31>0,AK31+AL30,0) -> 27 | AM31: =W31+Y31 -> 8.3 | AN31: =IF($B31>0,AM31+AN30,0) -> 18.6 | AO31: =AG31+AI31+AK31+AM31 -> 48.7 | AP31: =IF($B31>0,AO31+AP30,0) -> 108.7
A32: ='Bilan Jour JS'!A32 -> Ven | B32: ='Bilan Jour JS'!B32 -> 40563 | C32: ='Bilan Jour JS'!C32 -> 0 | D32: ='Bilan Jour JS'!D32 -> 0 | F32: ='Bilan Jour JS'!F32 -> 0 | G32: =IF($B32>0,F32+G31,0) -> -0.9 | H32: ='Bilan Jour JS'!H32 -> 0 | I32: =IF($B32>0,H32+I31,0) -> 33.3 | J32: =IF(H31>0,H32*2,H32) -> 0 | K32: =IF($B32>0,J32+K31,0) -> 26.1 | M32: ='Bilan Jour JS'!K32 -> 0 | N32: =IF($B32>0,M32+N31,0) -> -9.7 | O32: ='Bilan Jour JS'!M32 -> 0 | P32: =IF($B32>0,O32+P31,0) -> 40.4 | R32: ='Bilan Jour JS'!P32 -> 0 | S32: =IF($B32>0,R32+S31,0) -> -21.4 | T32: ='Bilan Jour JS'!R32 -> 0 | U32: =IF($B32>0,T32+U31,0) -> 48.4 | W32: ='Bilan Jour JS'!U32 -> 0 | X32: =IF($B32>0,W32+X31,0) -> -15.9 | Y32: ='Bilan Jour JS'!W32 -> 0 | Z32: =IF($B32>0,Y32+Z31,0) -> 34.5 | AB32: =F32+M32+R32+W32 -> 0 | AC32: =IF($B32>0,AB32+AC31,0) -> -47.9 | AD32: =H32+O32+T32+Y32 -> 0 | AE32: =IF($B32>0,AD32+AE31,0) -> 156.6 | AG32: =F32+H32 -> 0 | AH32: =IF($B32>0,AG32+AH31,0) -> 32.4 | AI32: =O32+M32 -> 0 | AJ32: =IF($B32>0,AI32+AJ31,0) -> 30.7 | AK32: =R32+T32 -> 0 | AL32: =IF($B32>0,AK32+AL31,0) -> 27 | AM32: =W32+Y32 -> 0 | AN32: =IF($B32>0,AM32+AN31,0) -> 18.6 | AO32: =AG32+AI32+AK32+AM32 -> 0 | AP32: =IF($B32>0,AO32+AP31,0) -> 108.7
A33: ='Bilan Jour JS'!A33 -> Sam | B33: ='Bilan Jour JS'!B33 -> 40564 | C33: ='Bilan Jour JS'!C33 -> 0 | D33: ='Bilan Jour JS'!D33 -> 0 | F33: ='Bilan Jour JS'!F33 -> 0 | G33: =IF($B33>0,F33+G32,0) -> -0.9 | H33: ='Bilan Jour JS'!H33 -> 0 | I33: =IF($B33>0,H33+I32,0) -> 33.3 | J33: =IF(H32>0,H33*2,H33) -> 0 | K33: =IF($B33>0,J33+K32,0) -> 26.1 | M33: ='Bilan Jour JS'!K33 -> 0 | N33: =IF($B33>0,M33+N32,0) -> -9.7 | O33: ='Bilan Jour JS'!M33 -> 0 | P33: =IF($B33>0,O33+P32,0) -> 40.4 | R33: ='Bilan Jour JS'!P33 -> 0 | S33: =IF($B33>0,R33+S32,0) -> -21.4 | T33: ='Bilan Jour JS'!R33 -> 0 | U33: =IF($B33>0,T33+U32,0) -> 48.4 | W33: ='Bilan Jour JS'!U33 -> 0 | X33: =IF($B33>0,W33+X32,0) -> -15.9 | Y33: ='Bilan Jour JS'!W33 -> 0 | Z33: =IF($B33>0,Y33+Z32,0) -> 34.5 | AB33: =F33+M33+R33+W33 -> 0 | AC33: =IF($B33>0,AB33+AC32,0) -> -47.9 | AD33: =H33+O33+T33+Y33 -> 0 | AE33: =IF($B33>0,AD33+AE32,0) -> 156.6 | AG33: =F33+H33 -> 0 | AH33: =IF($B33>0,AG33+AH32,0) -> 32.4 | AI33: =O33+M33 -> 0 | AJ33: =IF($B33>0,AI33+AJ32,0) -> 30.7 | AK33: =R33+T33 -> 0 | AL33: =IF($B33>0,AK33+AL32,0) -> 27 | AM33: =W33+Y33 -> 0 | AN33: =IF($B33>0,AM33+AN32,0) -> 18.6 | AO33: =AG33+AI33+AK33+AM33 -> 0 | AP33: =IF($B33>0,AO33+AP32,0) -> 108.7
A34: ='Bilan Jour JS'!A34 -> Dim | B34: ='Bilan Jour JS'!B34 -> 40565 | C34: ='Bilan Jour JS'!C34 -> 1 | D34: ='Bilan Jour JS'!D34 -> 4 | F34: ='Bilan Jour JS'!F34 -> -3 | G34: =IF($B34>0,F34+G33,0) -> -3.9 | H34: ='Bilan Jour JS'!H34 -> 7.2 | I34: =IF($B34>0,H34+I33,0) -> 40.5 | J34: =IF(H33>0,H34*2,H34) -> 7.2 | K34: =IF($B34>0,J34+K33,0) -> 33.3 | M34: ='Bilan Jour JS'!K34 -> -12.3 | N34: =IF($B34>0,M34+N33,0) -> -22 | O34: ='Bilan Jour JS'!M34 -> -0.5 | P34: =IF($B34>0,O34+P33,0) -> 39.9 | R34: ='Bilan Jour JS'!P34 -> -8.7 | S34: =IF($B34>0,R34+S33,0) -> -30.1 | T34: ='Bilan Jour JS'!R34 -> -4.1 | U34: =IF($B34>0,T34+U33,0) -> 44.3 | W34: ='Bilan Jour JS'!U34 -> -13.7 | X34: =IF($B34>0,W34+X33,0) -> -29.6 | Y34: ='Bilan Jour JS'!W34 -> -6.9 | Z34: =IF($B34>0,Y34+Z33,0) -> 27.6 | AB34: =F34+M34+R34+W34 -> -37.7 | AC34: =IF($B34>0,AB34+AC33,0) -> -85.6 | AD34: =H34+O34+T34+Y34 -> -4.3 | AE34: =IF($B34>0,AD34+AE33,0) -> 152.3 | AG34: =F34+H34 -> 4.2 | AH34: =IF($B34>0,AG34+AH33,0) -> 36.6 | AI34: =O34+M34 -> -12.8 | AJ34: =IF($B34>0,AI34+AJ33,0) -> 17.9 | AK34: =R34+T34 -> -12.8 | AL34: =IF($B34>0,AK34+AL33,0) -> 14.2 | AM34: =W34+Y34 -> -20.6 | AN34: =IF($B34>0,AM34+AN33,0) -> -2 | AO34: =AG34+AI34+AK34+AM34 -> -42 | AP34: =IF($B34>0,AO34+AP33,0) -> 66.7
A35: ='Bilan Jour JS'!A35 -> Lun | B35: ='Bilan Jour JS'!B35 -> 40566 | C35: ='Bilan Jour JS'!C35 -> 0 | D35: ='Bilan Jour JS'!D35 -> 0 | F35: ='Bilan Jour JS'!F35 -> 0 | G35: =IF($B35>0,F35+G34,0) -> -3.9 | H35: ='Bilan Jour JS'!H35 -> 0 | I35: =IF($B35>0,H35+I34,0) -> 40.5 | J35: =IF(H34>0,H35*2,H35) -> 0 | K35: =IF($B35>0,J35+K34,0) -> 33.3 | M35: ='Bilan Jour JS'!K35 -> 0 | N35: =IF($B35>0,M35+N34,0) -> -22 | O35: ='Bilan Jour JS'!M35 -> 0 | P35: =IF($B35>0,O35+P34,0) -> 39.9 | R35: ='Bilan Jour JS'!P35 -> 0 | S35: =IF($B35>0,R35+S34,0) -> -30.1 | T35: ='Bilan Jour JS'!R35 -> 0 | U35: =IF($B35>0,T35+U34,0) -> 44.3 | W35: ='Bilan Jour JS'!U35 -> 0 | X35: =IF($B35>0,W35+X34,0) -> -29.6 | Y35: ='Bilan Jour JS'!W35 -> 0 | Z35: =IF($B35>0,Y35+Z34,0) -> 27.6 | AB35: =F35+M35+R35+W35 -> 0 | AC35: =IF($B35>0,AB35+AC34,0) -> -85.6 | AD35: =H35+O35+T35+Y35 -> 0 | AE35: =IF($B35>0,AD35+AE34,0) -> 152.3 | AG35: =F35+H35 -> 0 | AH35: =IF($B35>0,AG35+AH34,0) -> 36.6 | AI35: =O35+M35 -> 0 | AJ35: =IF($B35>0,AI35+AJ34,0) -> 17.9 | AK35: =R35+T35 -> 0 | AL35: =IF($B35>0,AK35+AL34,0) -> 14.2 | AM35: =W35+Y35 -> 0 | AN35: =IF($B35>0,AM35+AN34,0) -> -2 | AO35: =AG35+AI35+AK35+AM35 -> 0 | AP35: =IF($B35>0,AO35+AP34,0) -> 66.7
A36: ='Bilan Jour JS'!A36 -> Mar | B36: ='Bilan Jour JS'!B36 -> 40567 | C36: ='Bilan Jour JS'!C36 -> 0 | D36: ='Bilan Jour JS'!D36 -> 0 | F36: ='Bilan Jour JS'!F36 -> 0 | G36: =IF($B36>0,F36+G35,0) -> -3.9 | H36: ='Bilan Jour JS'!H36 -> 0 | I36: =IF($B36>0,H36+I35,0) -> 40.5 | J36: =IF(H35>0,H36*2,H36) -> 0 | K36: =IF($B36>0,J36+K35,0) -> 33.3 | M36: ='Bilan Jour JS'!K36 -> 0 | N36: =IF($B36>0,M36+N35,0) -> -22 | O36: ='Bilan Jour JS'!M36 -> 0 | P36: =IF($B36>0,O36+P35,0) -> 39.9 | R36: ='Bilan Jour JS'!P36 -> 0 | S36: =IF($B36>0,R36+S35,0) -> -30.1 | T36: ='Bilan Jour JS'!R36 -> 0 | U36: =IF($B36>0,T36+U35,0) -> 44.3 | W36: ='Bilan Jour JS'!U36 -> 0 | X36: =IF($B36>0,W36+X35,0) -> -29.6 | Y36: ='Bilan Jour JS'!W36 -> 0 | Z36: =IF($B36>0,Y36+Z35,0) -> 27.6 | AB36: =F36+M36+R36+W36 -> 0 | AC36: =IF($B36>0,AB36+AC35,0) -> -85.6 | AD36: =H36+O36+T36+Y36 -> 0 | AE36: =IF($B36>0,AD36+AE35,0) -> 152.3 | AG36: =F36+H36 -> 0 | AH36: =IF($B36>0,AG36+AH35,0) -> 36.6 | AI36: =O36+M36 -> 0 | AJ36: =IF($B36>0,AI36+AJ35,0) -> 17.9 | AK36: =R36+T36 -> 0 | AL36: =IF($B36>0,AK36+AL35,0) -> 14.2 | AM36: =W36+Y36 -> 0 | AN36: =IF($B36>0,AM36+AN35,0) -> -2 | AO36: =AG36+AI36+AK36+AM36 -> 0 | AP36: =IF($B36>0,AO36+AP35,0) -> 66.7
... A43: ='Bilan Jour JS'!A43 -> Mar | B43: ='Bilan Jour JS'!B43 -> 0 | C43: ='Bilan Jour JS'!C43 -> 0 | D43: ='Bilan Jour JS'!D43 -> 0 | F43: ='Bilan Jour JS'!F43 -> 0 | G43: =IF($B43>0,F43+G42,0) -> 0 | H43: ='Bilan Jour JS'!H43 -> 0 | I43: =IF($B43>0,H43+I42,0) -> 0 | J43: =IF(H42>0,H43*2,H43) -> 0 | K43: =IF($B43>0,J43+K42,0) -> 0 | M43: ='Bilan Jour JS'!K43 -> 0 | N43: =IF($B43>0,M43+N42,0) -> 0 | O43: ='Bilan Jour JS'!M43 -> 0 | P43: =IF($B43>0,O43+P42,0) -> 0 | R43: ='Bilan Jour JS'!P43 -> 0 | S43: =IF($B43>0,R43+S42,0) -> 0 | T43: ='Bilan Jour JS'!R43 -> 0 | U43: =IF($B43>0,T43+U42,0) -> 0 | W43: ='Bilan Jour JS'!U43 -> 0 | X43: =IF($B43>0,W43+X42,0) -> 0 | Y43: ='Bilan Jour JS'!W43 -> 0 | Z43: =IF($B43>0,Y43+Z42,0) -> 0 | AB43: =F43+M43+R43+W43 -> 0 | AC43: =IF($B43>0,AB43+AC42,0) -> 0 | AD43: =H43+O43+T43+Y43 -> 0 | AE43: =IF($B43>0,AD43+AE42,0) -> 0 | AG43: =F43+H43 -> 0 | AH43: =IF($B43>0,AG43+AH42,0) -> 0 | AI43: =O43+M43 -> 0 | AJ43: =IF($B43>0,AI43+AJ42,0) -> 0 | AK43: =R43+T43 -> 0 | AL43: =IF($B43>0,AK43+AL42,0) -> 0 | AM43: =W43+Y43 -> 0 | AN43: =IF($B43>0,AM43+AN42,0) -> 0 | AO43: =AG43+AI43+AK43+AM43 -> 0 | AP43: =IF($B43>0,AO43+AP42,0) -> 0
G44: =IF($D44>0,F44-$D44+G43,0) -> 0 | I44: =IF($D44>0,H44-$D44+I43,0) -> 0
A45: Date
F46: Jeux Simples Gagnants
A47: FEVRIER | C47: Hip | D47: Crs | F47: 1 | H47: 2
A48: 2011 | F48: rap | G48: Bilan | H48: rap | I48: Bilan
A50: Mar | B50: 40575 | G50: =IF($B50>0,F50-$D50,0) -> 0 | I50: =IF($B50>0,H50-$D50,0) -> 0
A51: Mer | B51: 40576 | G51: =IF($B51>0,F51-$D51+G50,0) -> 0 | I51: =IF($B51>0,H51-$D51+I50,0) -> 0
A52: Jeu | B52: 40577 | G52: =IF($B52>0,F52-$D52+G51,0) -> 0 | I52: =IF($B52>0,H52-$D52+I51,0) -> 0
A53: Ven | B53: 40578 | G53: =IF($B53>0,F53-$D53+G52,0) -> 0 | I53: =IF($B53>0,H53-$D53+I52,0) -> 0
A54: Sam | B54: 40579 | G54: =IF($B54>0,F54-$D54+G53,0) -> 0 | I54: =IF($B54>0,H54-$D54+I53,0) -> 0
A55: Dim | B55: 40580 | G55: =IF($B55>0,F55-$D55+G54,0) -> 0 | I55: =IF($B55>0,H55-$D55+I54,0) -> 0
A56: Lun | B56: 40581 | G56: =IF($B56>0,F56-$D56+G55,0) -> 0 | I56: =IF($B56>0,H56-$D56+I55,0) -> 0
A57: Mar | B57: 40582 | G57: =IF($B57>0,F57-$D57+G56,0) -> 0 | I57: =IF($B57>0,H57-$D57+I56,0) -> 0
A58: Mer | B58: 40583 | G58: =IF($B58>0,F58-$D58+G57,0) -> 0 | I58: =IF($B58>0,H58-$D58+I57,0) -> 0
A59: Jeu | B59: 40584 | G59: =IF($B59>0,F59-$D59+G58,0) -> 0 | I59: =IF($B59>0,H59-$D59+I58,0) -> 0
A60: Ven | B60: 40585 | G60: =IF($B60>0,F60-$D60+G59,0) -> 0 | I60: =IF($B60>0,H60-$D60+I59,0) -> 0
A61: Sam | B61: 40586 | G61: =IF($B61>0,F61-$D61+G60,0) -> 0 | I61: =IF($B61>0,H61-$D61+I60,0) -> 0
A62: Dim | B62: 40587 | G62: =IF($B62>0,F62-$D62+G61,0) -> 0 | I62: =IF($B62>0,H62-$D62+I61,0) -> 0
... A77: Lun | B77: 40602 | G77: =IF($B77>0,F77-$D77+G76,0) -> 0 | I77: =IF($B77>0,H77-$D77+I76,0) -> 0
A79: Date
F80: Jeux Simples Gagnants
A81: MARS | C81: Hip | D81: Crs | F81: 1 | H81: 2
A82: 2011 | F82: rap | G82: Bilan | H82: rap | I82: Bilan
A84: Mar | B84: 40603 | G84: =IF($B84>0,F84-$D84,0) -> 0 | I84: =IF($B84>0,H84-$D84,0) -> 0
A85: Mer | B85: 40604 | G85: =IF($B85>0,F85-$D85+G84,0) -> 0 | I85: =IF($B85>0,H85-$D85+I84,0) -> 0
A86: Jeu | B86: 40605 | G86: =IF($B86>0,F86-$D86+G85,0) -> 0 | I86: =IF($B86>0,H86-$D86+I85,0) -> 0
A87: Ven | B87: 40606 | G87: =IF($B87>0,F87-$D87+G86,0) -> 0 | I87: =IF($B87>0,H87-$D87+I86,0) -> 0
A88: Sam | B88: 40607 | G88: =IF($B88>0,F88-$D88+G87,0) -> 0 | I88: =IF($B88>0,H88-$D88+I87,0) -> 0
A89: Dim | B89: 40608 | G89: =IF($B89>0,F89-$D89+G88,0) -> 0 | I89: =IF($B89>0,H89-$D89+I88,0) -> 0
A90: Lun | B90: 40609 | G90: =IF($B90>0,F90-$D90+G89,0) -> 0 | I90: =IF($B90>0,H90-$D90+I89,0) -> 0
A91: Mar | B91: 40610 | G91: =IF($B91>0,F91-$D91+G90,0) -> 0 | I91: =IF($B91>0,H91-$D91+I90,0) -> 0
A92: Mer | B92: 40611 | G92: =IF($B92>0,F92-$D92+G91,0) -> 0 | I92: =IF($B92>0,H92-$D92+I91,0) -> 0
A93: Jeu | B93: 40612 | G93: =IF($B93>0,F93-$D93+G92,0) -> 0 | I93: =IF($B93>0,H93-$D93+I92,0) -> 0
A94: Ven | B94: 40613 | G94: =IF($B94>0,F94-$D94+G93,0) -> 0 | I94: =IF($B94>0,H94-$D94+I93,0) -> 0
A95: Sam | B95: 40614 | G95: =IF($B95>0,F95-$D95+G94,0) -> 0 | I95: =IF($B95>0,H95-$D95+I94,0) -> 0
A96: Dim | B96: 40615 | G96: =IF($B96>0,F96-$D96+G95,0) -> 0 | I96: =IF($B96>0,H96-$D96+I95,0) -> 0
... A114: Jeu | B114: 40633 | G114: =IF($B114>0,F114-$D114+G113,0) -> 0 | I114: =IF($B114>0,H114-$D114+I113,0) -> 0
A116: Date
F117: Jeux Simples Gagnants
A118: AVRIL | C118: Hip | D118: Crs | F118: 1 | H118: 2
A119: 2011 | F119: rap | G119: Bilan | H119: rap | I119: Bilan
A121: Ven | B121: 40634 | G121: =IF($B121>0,F121-$D121,0) -> 0 | I121: =IF($B121>0,H121-$D121,0) -> 0
A122: Sam | B122: 40635 | G122: =IF($B122>0,F122-$D122+G121,0) -> 0 | I122: =IF($B122>0,H122-$D122+I121,0) -> 0
A123: Dim | B123: 40636 | G123: =IF($B123>0,F123-$D123+G122,0) -> 0 | I123: =IF($B123>0,H123-$D123+I122,0) -> 0
A124: Lun | B124: 40637 | G124: =IF($B124>0,F124-$D124+G123,0) -> 0 | I124: =IF($B124>0,H124-$D124+I123,0) -> 0
A125: Mar | B125: 40638 | G125: =IF($B125>0,F125-$D125+G124,0) -> 0 | I125: =IF($B125>0,H125-$D125+I124,0) -> 0
A126: Mer | B126: 40639 | G126: =IF($B126>0,F126-$D126+G125,0) -> 0 | I126: =IF($B126>0,H126-$D126+I125,0) -> 0
A127: Jeu | B127: 40640 | G127: =IF($B127>0,F127-$D127+G126,0) -> 0 | I127: =IF($B127>0,H127-$D127+I126,0) -> 0
A128: Ven | B128: 40641 | G128: =IF($B128>0,F128-$D128+G127,0) -> 0 | I128: =IF($B128>0,H128-$D128+I127,0) -> 0
A129: Sam | B129: 40642 | G129: =IF($B129>0,F129-$D129+G128,0) -> 0 | I129: =IF($B129>0,H129-$D129+I128,0) -> 0
A130: Dim | B130: 40643 | G130: =IF($B130>0,F130-$D130+G129,0) -> 0 | I130: =IF($B130>0,H130-$D130+I129,0) -> 0
A131: Lun | B131: 40644 | G131: =IF($B131>0,F131-$D131+G130,0) -> 0 | I131: =IF($B131>0,H131-$D131+I130,0) -> 0
A132: Mar | B132: 40645 | G132: =IF($B132>0,F132-$D132+G131,0) -> 0 | I132: =IF($B132>0,H132-$D132+I131,0) -> 0
A133: Mer | B133: 40646 | G133: =IF($B133>0,F133-$D133+G132,0) -> 0 | I133: =IF($B133>0,H133-$D133+I132,0) -> 0
... A150: Sam | B150: 40663 | G150: =IF($B150>0,F150-$D150+G149,0) -> 0 | I150: =IF($B150>0,H150-$D150+I149,0) -> 0
A152: Date
F153: Jeux Simples Gagnants
A154: MAI | C154: Hip | D154: Crs | F154: 1 | H154: 2
A155: 2011 | F155: rap | G155: Bilan | H155: rap | I155: Bilan
A157: Dim | B157: 40664 | G157: =IF($B157>0,F157-$D157,0) -> 0 | I157: =IF($B157>0,H157-$D157,0) -> 0
A158: Lun | B158: 40665 | G158: =IF($B158>0,F158-$D158+G157,0) -> 0 | I158: =IF($B158>0,H158-$D158+I157,0) -> 0
A159: Mar | B159: 40666 | G159: =IF($B159>0,F159-$D159+G158,0) -> 0 | I159: =IF($B159>0,H159-$D159+I158,0) -> 0
A160: Mer | B160: 40667 | G160: =IF($B160>0,F160-$D160+G159,0) -> 0 | I160: =IF($B160>0,H160-$D160+I159,0) -> 0
A161: Jeu | B161: 40668 | G161: =IF($B161>0,F161-$D161+G160,0) -> 0 | I161: =IF($B161>0,H161-$D161+I160,0) -> 0
A162: Ven | B162: 40669 | G162: =IF($B162>0,F162-$D162+G161,0) -> 0 | I162: =IF($B162>0,H162-$D162+I161,0) -> 0
A163: Sam | B163: 40670 | G163: =IF($B163>0,F163-$D163+G162,0) -> 0 | I163: =IF($B163>0,H163-$D163+I162,0) -> 0
A164: Dim | B164: 40671 | G164: =IF($B164>0,F164-$D164+G163,0) -> 0 | I164: =IF($B164>0,H164-$D164+I163,0) -> 0
A165: Lun | B165: 40672 | G165: =IF($B165>0,F165-$D165+G164,0) -> 0 | I165: =IF($B165>0,H165-$D165+I164,0) -> 0
A166: Mar | B166: 40673 | G166: =IF($B166>0,F166-$D166+G165,0) -> 0 | I166: =IF($B166>0,H166-$D166+I165,0) -> 0
...
