Workbook

Sheet Résultats
H3: O B S T A C L E Jeux simples
A8: Date | D8: Condition de jeu : partants > 12 | O8: Cote du favori : > 3/1 | U8: Choix des chevaux à jouer : 10 premiers du prono GENY + compléter éventuellement avec le prono ZETURF
A10: JANVIER | D10: Nb | G10: Rapports GENY | I10: Rapports ZETURF | K10: Rapports PMU | M10: Rapports LETURF | P10: Bilan GENY | U10: Bilan ZETURF | Z10: Bilan PMU | AE10: Bilan LETURF | AJ10: Bilan Total GENY + ZETURF +PMU + LETURF | AQ10: Bilan Total Gagnant / Placé
A11: 2012 | C11: Hip | D11: Part | E11: Mise | G11: Gagn | H11: Plac | I11: Gagn | J11: Plac | K11: Gagn | L11: Plac | M11: Gagn | N11: Plac | P11: Gagn | Q11: Ga cumul | R11: Plac | S11: Pla cumul | U11: Gagn | V11: Ga cumul | W11: Plac | X11: Pla cumul | Z11: Gagn | AA11: Ga cumul | AB11: Plac | AC11: Pla cumul | AE11: Gagn | AF11: Ga cumul | AG11: Plac | AH11: Pla cumul | AJ11: Gagn / crs | AK11: Ga G+Z+P+L | AL11: Plac / crs | AM11: Pla G+Z+P+L | AN11: Ga-Pl / crs | AO11: G / P G+Z+P+L | AQ11: GENY | AR11: GEN total | AS11: ZETURF | AT11: ZET total | AU11: PMU | AV11: PMU total | AW11: LETURF | AX11: LETURF tot | AY11: G+Z+P+L | AZ11: G+Z+P+L tot
A13: Dim | B13: 40909 | C13: Pau | D13: 16 | E13: =IF(D13>0,10,0) -> 10 | G13: 10.5 | H13: 10.1 | I13: 8.5 | J13: 10.7 | K13: 10.9 | L13: 10.1 | M13: 8.2 | N13: 15 | P13: =IF($D13>0,G13-$E13,0) -> 0.5 | Q13: =IF($D13>0,P13+Q12,P13) -> 0.5 | R13: =IF($D13>0,H13-$E13,0) -> 0.1 | S13: =IF($D13>0,R13+S12,R13) -> 0.1 | U13: =IF($D13>0,I13-$E13,0) -> -1.5 | V13: =IF($D13>0,U13+V12,U13) -> -1.5 | W13: =IF($D13>0,J13-$E13,0) -> 0.7 | X13: =IF($D13>0,W13+X12,W13) -> 0.7 | Z13: =IF($D13>0,K13-$E13,0) -> 0.9 | AA13: =IF($D13>0,Z13+AA12,Z13) -> 0.9 | AB13: =IF($D13>0,L13-$E13,0) -> 0.1 | AC13: =IF($D13>0,AB13+AC12,AB13) -> 0.1 | AE13: =IF($D13>0,M13-$E13,0) -> -1.8 | AF13: =IF($D13>0,AE13+AF12,AE13) -> -1.8 | AG13: =IF($D13>0,N13-$E13,0) -> 5 | AH13: =IF($D13>0,AG13+AH12,AG13) -> 5 | AJ13: =P13+U13+Z13+AE13 -> -1.9 | AK13: =IF($D13>0,AJ13+AK12,AJ13) -> -1.9 | AL13: =R13+W13+AB13+AG13 -> 5.9 | AM13: =IF($D13>0,AL13+AM12,AL13) -> 5.9 | AN13: =AJ13+AL13 -> 4 | AO13: =IF($D13>0,AN13+AO12,AN13) -> 4 | AQ13: =P13+R13 -> 0.6 | AR13: =IF($D13>0,AQ13+AR12,AQ13) -> 0.6 | AS13: =U13+W13 -> -0.8 | AT13: =IF($D13>0,AS13+AT12,AS13) -> -0.8 | AU13: =Z13+AB13 -> 1 | AV13: =IF($D13>0,AU13+AV12,AU13) -> 1 | AW13: =AE13+AG13 -> 3.2 | AX13: =IF($D13>0,AW13+AX12,AW13) -> 3.2 | AY13: =AQ13+AS13 -> -0.2 | AZ13: =IF($D13>0,AY13+AZ12,AY13) -> -0.2
D14: 18 | E14: =IF(D14>0,10,0) -> 10 | G14: 21.5 | H14: 14.2 | I14: 19 | J14: 13.3 | K14: 18.9 | L14: 17.9 | M14: 18.2 | N14: 23.2 | P14: =IF($D14>0,G14-$E14,0) -> 11.5 | Q14: =IF($D14>0,P14+Q13,P14) -> 12 | R14: =IF($D14>0,H14-$E14,0) -> 4.2 | S14: =IF($D14>0,R14+S13,R14) -> 4.3 | U14: =IF($D14>0,I14-$E14,0) -> 9 | V14: =IF($D14>0,U14+V13,U14) -> 7.5 | W14: =IF($D14>0,J14-$E14,0) -> 3.3 | X14: =IF($D14>0,W14+X13,W14) -> 4 | Z14: =IF($D14>0,K14-$E14,0) -> 8.9 | AA14: =IF($D14>0,Z14+AA13,Z14) -> 9.8 | AB14: =IF($D14>0,L14-$E14,0) -> 7.9 | AC14: =IF($D14>0,AB14+AC13,AB14) -> 8 | AE14: =IF($D14>0,M14-$E14,0) -> 8.2 | AF14: =IF($D14>0,AE14+AF13,AE14) -> 6.4 | AG14: =IF($D14>0,N14-$E14,0) -> 13.2 | AH14: =IF($D14>0,AG14+AH13,AG14) -> 18.2 | AJ14: =P14+U14+Z14+AE14 -> 37.6 | AK14: =IF($D14>0,AJ14+AK13,AJ14) -> 35.7 | AL14: =R14+W14+AB14+AG14 -> 28.6 | AM14: =IF($D14>0,AL14+AM13,AL14) -> 34.5 | AN14: =AJ14+AL14 -> 66.2 | AO14: =IF($D14>0,AN14+AO13,AN14) -> 70.2 | AQ14: =P14+R14 -> 15.7 | AR14: =IF($D14>0,AQ14+AR13,AQ14) -> 16.3 | AS14: =U14+W14 -> 12.3 | AT14: =IF($D14>0,AS14+AT13,AS14) -> 11.5 | AU14: =Z14+AB14 -> 16.8 | AV14: =IF($D14>0,AU14+AV13,AU14) -> 17.8 | AW14: =AE14+AG14 -> 21.4 | AX14: =IF($D14>0,AW14+AX13,AW14) -> 24.6 | AY14: =AQ14+AS14 -> 28 | AZ14: =IF($D14>0,AY14+AZ13,AY14) -> 27.8
E15: =IF(D15>0,10,0) -> 0 | P15: =IF($D15>0,G15-$E15,0) -> 0 | Q15: =IF($D15>0,P15+Q14,P15) -> 0 | R15: =IF($D15>0,H15-$E15,0) -> 0 | S15: =IF($D15>0,R15+S14,R15) -> 0 | U15: =IF($D15>0,I15-$E15,0) -> 0 | V15: =IF($D15>0,U15+V14,U15) -> 0 | W15: =IF($D15>0,J15-$E15,0) -> 0 | X15: =IF($D15>0,W15+X14,W15) -> 0 | Z15: =IF($D15>0,K15-$E15,0) -> 0 | AA15: =IF($D15>0,Z15+AA14,Z15) -> 0 | AB15: =IF($D15>0,L15-$E15,0) -> 0 | AC15: =IF($D15>0,AB15+AC14,AB15) -> 0 | AE15: =IF($D15>0,M15-$E15,0) -> 0 | AF15: =IF($D15>0,AE15+AF14,AE15) -> 0 | AG15: =IF($D15>0,N15-$E15,0) -> 0 | AH15: =IF($D15>0,AG15+AH14,AG15) -> 0 | AJ15: =P15+U15+Z15+AE15 -> 0 | AK15: =IF($D15>0,AJ15+AK14,AJ15) -> 0 | AL15: =R15+W15+AB15+AG15 -> 0 | AM15: =IF($D15>0,AL15+AM14,AL15) -> 0 | AN15: =AJ15+AL15 -> 0 | AO15: =IF($D15>0,AN15+AO14,AN15) -> 0 | AQ15: =P15+R15 -> 0 | AR15: =IF($D15>0,AQ15+AR14,AQ15) -> 0 | AS15: =U15+W15 -> 0 | AT15: =IF($D15>0,AS15+AT14,AS15) -> 0 | AU15: =Z15+AB15 -> 0 | AV15: =IF($D15>0,AU15+AV14,AU15) -> 0 | AW15: =AE15+AG15 -> 0 | AX15: =IF($D15>0,AW15+AX14,AW15) -> 0 | AY15: =AQ15+AS15 -> 0 | AZ15: =IF($D15>0,AY15+AZ14,AY15) -> 0
A16: Mar | B16: 40911 | C16: Pau | D16: 16 | E16: =IF(D16>0,10,0) -> 10 | G16: 3 | H16: 8 | I16: 3 | J16: 9.8 | K16: 3 | L16: 11.6 | M16: 2.8 | N16: 6.8 | P16: =IF($D16>0,G16-$E16,0) -> -7 | Q16: =IF($D16>0,P16+Q15,P16) -> -7 | R16: =IF($D16>0,H16-$E16,0) -> -2 | S16: =IF($D16>0,R16+S15,R16) -> -2 | U16: =IF($D16>0,I16-$E16,0) -> -7 | V16: =IF($D16>0,U16+V15,U16) -> -7 | W16: =IF($D16>0,J16-$E16,0) -> -0.2 | X16: =IF($D16>0,W16+X15,W16) -> -0.2 | Z16: =IF($D16>0,K16-$E16,0) -> -7 | AA16: =IF($D16>0,Z16+AA15,Z16) -> -7 | AB16: =IF($D16>0,L16-$E16,0) -> 1.6 | AC16: =IF($D16>0,AB16+AC15,AB16) -> 1.6 | AE16: =IF($D16>0,M16-$E16,0) -> -7.2 | AF16: =IF($D16>0,AE16+AF15,AE16) -> -7.2 | AG16: =IF($D16>0,N16-$E16,0) -> -3.2 | AH16: =IF($D16>0,AG16+AH15,AG16) -> -3.2 | AJ16: =P16+U16+Z16+AE16 -> -28.2 | AK16: =IF($D16>0,AJ16+AK15,AJ16) -> -28.2 | AL16: =R16+W16+AB16+AG16 -> -3.8 | AM16: =IF($D16>0,AL16+AM15,AL16) -> -3.8 | AN16: =AJ16+AL16 -> -32 | AO16: =IF($D16>0,AN16+AO15,AN16) -> -32 | AQ16: =P16+R16 -> -9 | AR16: =IF($D16>0,AQ16+AR15,AQ16) -> -9 | AS16: =U16+W16 -> -7.2 | AT16: =IF($D16>0,AS16+AT15,AS16) -> -7.2 | AU16: =Z16+AB16 -> -5.4 | AV16: =IF($D16>0,AU16+AV15,AU16) -> -5.4 | AW16: =AE16+AG16 -> -10.4 | AX16: =IF($D16>0,AW16+AX15,AW16) -> -10.4 | AY16: =AQ16+AS16 -> -16.2 | AZ16: =IF($D16>0,AY16+AZ15,AY16) -> -16.2
D17: 18 | E17: =IF(D17>0,10,0) -> 10 | H17: 10.2 | J17: 15.7 | L17: 12.1 | N17: 14.6 | P17: =IF($D17>0,G17-$E17,0) -> -10 | Q17: =IF($D17>0,P17+Q16,P17) -> -17 | R17: =IF($D17>0,H17-$E17,0) -> 0.2 | S17: =IF($D17>0,R17+S16,R17) -> -1.8 | U17: =IF($D17>0,I17-$E17,0) -> -10 | V17: =IF($D17>0,U17+V16,U17) -> -17 | W17: =IF($D17>0,J17-$E17,0) -> 5.7 | X17: =IF($D17>0,W17+X16,W17) -> 5.5 | Z17: =IF($D17>0,K17-$E17,0) -> -10 | AA17: =IF($D17>0,Z17+AA16,Z17) -> -17 | AB17: =IF($D17>0,L17-$E17,0) -> 2.1 | AC17: =IF($D17>0,AB17+AC16,AB17) -> 3.7 | AE17: =IF($D17>0,M17-$E17,0) -> -10 | AF17: =IF($D17>0,AE17+AF16,AE17) -> -17.2 | AG17: =IF($D17>0,N17-$E17,0) -> 4.6 | AH17: =IF($D17>0,AG17+AH16,AG17) -> 1.4 | AJ17: =P17+U17+Z17+AE17 -> -40 | AK17: =IF($D17>0,AJ17+AK16,AJ17) -> -68.2 | AL17: =R17+W17+AB17+AG17 -> 12.6 | AM17: =IF($D17>0,AL17+AM16,AL17) -> 8.8 | AN17: =AJ17+AL17 -> -27.4 | AO17: =IF($D17>0,AN17+AO16,AN17) -> -59.4 | AQ17: =P17+R17 -> -9.8 | AR17: =IF($D17>0,AQ17+AR16,AQ17) -> -18.8 | AS17: =U17+W17 -> -4.3 | AT17: =IF($D17>0,AS17+AT16,AS17) -> -11.5 | AU17: =Z17+AB17 -> -7.9 | AV17: =IF($D17>0,AU17+AV16,AU17) -> -13.3 | AW17: =AE17+AG17 -> -5.4 | AX17: =IF($D17>0,AW17+AX16,AW17) -> -15.8 | AY17: =AQ17+AS17 -> -14.1 | AZ17: =IF($D17>0,AY17+AZ16,AY17) -> -30.3
E18: =IF(D18>0,10,0) -> 0 | P18: =IF($D18>0,G18-$E18,0) -> 0 | Q18: =IF($D18>0,P18+Q17,P18) -> 0 | R18: =IF($D18>0,H18-$E18,0) -> 0 | S18: =IF($D18>0,R18+S17,R18) -> 0 | U18: =IF($D18>0,I18-$E18,0) -> 0 | V18: =IF($D18>0,U18+V17,U18) -> 0 | W18: =IF($D18>0,J18-$E18,0) -> 0 | X18: =IF($D18>0,W18+X17,W18) -> 0 | Z18: =IF($D18>0,K18-$E18,0) -> 0 | AA18: =IF($D18>0,Z18+AA17,Z18) -> 0 | AB18: =IF($D18>0,L18-$E18,0) -> 0 | AC18: =IF($D18>0,AB18+AC17,AB18) -> 0 | AE18: =IF($D18>0,M18-$E18,0) -> 0 | AF18: =IF($D18>0,AE18+AF17,AE18) -> 0 | AG18: =IF($D18>0,N18-$E18,0) -> 0 | AH18: =IF($D18>0,AG18+AH17,AG18) -> 0 | AJ18: =P18+U18+Z18+AE18 -> 0 | AK18: =IF($D18>0,AJ18+AK17,AJ18) -> 0 | AL18: =R18+W18+AB18+AG18 -> 0 | AM18: =IF($D18>0,AL18+AM17,AL18) -> 0 | AN18: =AJ18+AL18 -> 0 | AO18: =IF($D18>0,AN18+AO17,AN18) -> 0 | AQ18: =P18+R18 -> 0 | AR18: =IF($D18>0,AQ18+AR17,AQ18) -> 0 | AS18: =U18+W18 -> 0 | AT18: =IF($D18>0,AS18+AT17,AS18) -> 0 | AU18: =Z18+AB18 -> 0 | AV18: =IF($D18>0,AU18+AV17,AU18) -> 0 | AW18: =AE18+AG18 -> 0 | AX18: =IF($D18>0,AW18+AX17,AW18) -> 0 | AY18: =AQ18+AS18 -> 0 | AZ18: =IF($D18>0,AY18+AZ17,AY18) -> 0
A19: Mer | B19: 40912 | C19: C / M | D19: 14 | E19: =IF(D19>0,10,0) -> 10 | G19: 6.5 | H19: 11.6 | I19: 8.6 | J19: 15.1 | K19: 6 | L19: 18.4 | M19: 8.4 | N19: 15.5 | P19: =IF($D19>0,G19-$E19,0) -> -3.5 | Q19: =IF($D19>0,P19+Q18,P19) -> -3.5 | R19: =IF($D19>0,H19-$E19,0) -> 1.6 | S19: =IF($D19>0,R19+S18,R19) -> 1.6 | U19: =IF($D19>0,I19-$E19,0) -> -1.4 | V19: =IF($D19>0,U19+V18,U19) -> -1.4 | W19: =IF($D19>0,J19-$E19,0) -> 5.1 | X19: =IF($D19>0,W19+X18,W19) -> 5.1 | Z19: =IF($D19>0,K19-$E19,0) -> -4 | AA19: =IF($D19>0,Z19+AA18,Z19) -> -4 | AB19: =IF($D19>0,L19-$E19,0) -> 8.4 | AC19: =IF($D19>0,AB19+AC18,AB19) -> 8.4 | AE19: =IF($D19>0,M19-$E19,0) -> -1.6 | AF19: =IF($D19>0,AE19+AF18,AE19) -> -1.6 | AG19: =IF($D19>0,N19-$E19,0) -> 5.5 | AH19: =IF($D19>0,AG19+AH18,AG19) -> 5.5 | AJ19: =P19+U19+Z19+AE19 -> -10.5 | AK19: =IF($D19>0,AJ19+AK18,AJ19) -> -10.5 | AL19: =R19+W19+AB19+AG19 -> 20.6 | AM19: =IF($D19>0,AL19+AM18,AL19) -> 20.6 | AN19: =AJ19+AL19 -> 10.1 | AO19: =IF($D19>0,AN19+AO18,AN19) -> 10.1 | AQ19: =P19+R19 -> -1.9 | AR19: =IF($D19>0,AQ19+AR18,AQ19) -> -1.9 | AS19: =U19+W19 -> 3.7 | AT19: =IF($D19>0,AS19+AT18,AS19) -> 3.7 | AU19: =Z19+AB19 -> 4.4 | AV19: =IF($D19>0,AU19+AV18,AU19) -> 4.4 | AW19: =AE19+AG19 -> 3.9 | AX19: =IF($D19>0,AW19+AX18,AW19) -> 3.9 | AY19: =AQ19+AS19 -> 1.8 | AZ19: =IF($D19>0,AY19+AZ18,AY19) -> 1.8
D20: 14 | E20: =IF(D20>0,10,0) -> 10 | G20: 8.5 | H20: 9.7 | I20: 8.4 | J20: 11.4 | K20: 6.4 | L20: 9.9 | M20: 8.1 | N20: 11.1 | P20: =IF($D20>0,G20-$E20,0) -> -1.5 | Q20: =IF($D20>0,P20+Q19,P20) -> -5 | R20: =IF($D20>0,H20-$E20,0) -> -0.3 | S20: =IF($D20>0,R20+S19,R20) -> 1.3 | U20: =IF($D20>0,I20-$E20,0) -> -1.6 | V20: =IF($D20>0,U20+V19,U20) -> -3 | W20: =IF($D20>0,J20-$E20,0) -> 1.4 | X20: =IF($D20>0,W20+X19,W20) -> 6.5 | Z20: =IF($D20>0,K20-$E20,0) -> -3.6 | AA20: =IF($D20>0,Z20+AA19,Z20) -> -7.6 | AB20: =IF($D20>0,L20-$E20,0) -> -0.1 | AC20: =IF($D20>0,AB20+AC19,AB20) -> 8.3 | AE20: =IF($D20>0,M20-$E20,0) -> -1.9 | AF20: =IF($D20>0,AE20+AF19,AE20) -> -3.5 | AG20: =IF($D20>0,N20-$E20,0) -> 1.1 | AH20: =IF($D20>0,AG20+AH19,AG20) -> 6.6 | AJ20: =P20+U20+Z20+AE20 -> -8.6 | AK20: =IF($D20>0,AJ20+AK19,AJ20) -> -19.1 | AL20: =R20+W20+AB20+AG20 -> 2.1 | AM20: =IF($D20>0,AL20+AM19,AL20) -> 22.7 | AN20: =AJ20+AL20 -> -6.5 | AO20: =IF($D20>0,AN20+AO19,AN20) -> 3.6 | AQ20: =P20+R20 -> -1.8 | AR20: =IF($D20>0,AQ20+AR19,AQ20) -> -3.7 | AS20: =U20+W20 -> -0.2 | AT20: =IF($D20>0,AS20+AT19,AS20) -> 3.5 | AU20: =Z20+AB20 -> -3.7 | AV20: =IF($D20>0,AU20+AV19,AU20) -> 0.7 | AW20: =AE20+AG20 -> -0.8 | AX20: =IF($D20>0,AW20+AX19,AW20) -> 3.1 | AY20: =AQ20+AS20 -> -2 | AZ20: =IF($D20>0,AY20+AZ19,AY20) -> -0.2
D21: 14 | E21: =IF(D21>0,10,0) -> 10 | G21: 4.7 | H21: 8.7 | I21: 4.2 | J21: 11.2 | K21: 3.8 | L21: 11 | M21: 4 | N21: 11 | P21: =IF($D21>0,G21-$E21,0) -> -5.3 | Q21: =IF($D21>0,P21+Q20,P21) -> -10.3 | R21: =IF($D21>0,H21-$E21,0) -> -1.3 | S21: =IF($D21>0,R21+S20,R21) -> -1.7763568e-15 | U21: =IF($D21>0,I21-$E21,0) -> -5.8 | V21: =IF($D21>0,U21+V20,U21) -> -8.8 | W21: =IF($D21>0,J21-$E21,0) -> 1.2 | X21: =IF($D21>0,W21+X20,W21) -> 7.7 | Z21: =IF($D21>0,K21-$E21,0) -> -6.2 | AA21: =IF($D21>0,Z21+AA20,Z21) -> -13.8 | AB21: =IF($D21>0,L21-$E21,0) -> 1 | AC21: =IF($D21>0,AB21+AC20,AB21) -> 9.3 | AE21: =IF($D21>0,M21-$E21,0) -> -6 | AF21: =IF($D21>0,AE21+AF20,AE21) -> -9.5 | AG21: =IF($D21>0,N21-$E21,0) -> 1 | AH21: =IF($D21>0,AG21+AH20,AG21) -> 7.6 | AJ21: =P21+U21+Z21+AE21 -> -23.3 | AK21: =IF($D21>0,AJ21+AK20,AJ21) -> -42.4 | AL21: =R21+W21+AB21+AG21 -> 1.9 | AM21: =IF($D21>0,AL21+AM20,AL21) -> 24.6 | AN21: =AJ21+AL21 -> -21.4 | AO21: =IF($D21>0,AN21+AO20,AN21) -> -17.8 | AQ21: =P21+R21 -> -6.6 | AR21: =IF($D21>0,AQ21+AR20,AQ21) -> -10.3 | AS21: =U21+W21 -> -4.6 | AT21: =IF($D21>0,AS21+AT20,AS21) -> -1.1 | AU21: =Z21+AB21 -> -5.2 | AV21: =IF($D21>0,AU21+AV20,AU21) -> -4.5 | AW21: =AE21+AG21 -> -5 | AX21: =IF($D21>0,AW21+AX20,AW21) -> -1.9 | AY21: =AQ21+AS21 -> -11.2 | AZ21: =IF($D21>0,AY21+AZ20,AY21) -> -11.4
E22: =IF(D22>0,10,0) -> 0 | P22: =IF($D22>0,G22-$E22,0) -> 0 | Q22: =IF($D22>0,P22+Q21,P22) -> 0 | R22: =IF($D22>0,H22-$E22,0) -> 0 | S22: =IF($D22>0,R22+S21,R22) -> 0 | U22: =IF($D22>0,I22-$E22,0) -> 0 | V22: =IF($D22>0,U22+V21,U22) -> 0 | W22: =IF($D22>0,J22-$E22,0) -> 0 | X22: =IF($D22>0,W22+X21,W22) -> 0 | Z22: =IF($D22>0,K22-$E22,0) -> 0 | AA22: =IF($D22>0,Z22+AA21,Z22) -> 0 | AB22: =IF($D22>0,L22-$E22,0) -> 0 | AC22: =IF($D22>0,AB22+AC21,AB22) -> 0 | AE22: =IF($D22>0,M22-$E22,0) -> 0 | AF22: =IF($D22>0,AE22+AF21,AE22) -> 0 | AG22: =IF($D22>0,N22-$E22,0) -> 0 | AH22: =IF($D22>0,AG22+AH21,AG22) -> 0 | AJ22: =P22+U22+Z22+AE22 -> 0 | AK22: =IF($D22>0,AJ22+AK21,AJ22) -> 0 | AL22: =R22+W22+AB22+AG22 -> 0 | AM22: =IF($D22>0,AL22+AM21,AL22) -> 0 | AN22: =AJ22+AL22 -> 0 | AO22: =IF($D22>0,AN22+AO21,AN22) -> 0 | AQ22: =P22+R22 -> 0 | AR22: =IF($D22>0,AQ22+AR21,AQ22) -> 0 | AS22: =U22+W22 -> 0 | AT22: =IF($D22>0,AS22+AT21,AS22) -> 0 | AU22: =Z22+AB22 -> 0 | AV22: =IF($D22>0,AU22+AV21,AU22) -> 0 | AW22: =AE22+AG22 -> 0 | AX22: =IF($D22>0,AW22+AX21,AW22) -> 0 | AY22: =AQ22+AS22 -> 0 | AZ22: =IF($D22>0,AY22+AZ21,AY22) -> 0
A23: Jeu | B23: 40913 | C23: Pau | D23: 18 | E23: =IF(D23>0,10,0) -> 10 | G23: 10 | H23: 20.8 | I23: 11.2 | J23: 23 | K23: 9.8 | L23: 26.1 | M23: 10.7 | N23: 17.7 | P23: =IF($D23>0,G23-$E23,0) -> 0 | Q23: =IF($D23>0,P23+Q22,P23) -> 0 | R23: =IF($D23>0,H23-$E23,0) -> 10.8 | S23: =IF($D23>0,R23+S22,R23) -> 10.8 | U23: =IF($D23>0,I23-$E23,0) -> 1.2 | V23: =IF($D23>0,U23+V22,U23) -> 1.2 | W23: =IF($D23>0,J23-$E23,0) -> 13 | X23: =IF($D23>0,W23+X22,W23) -> 13 | Z23: =IF($D23>0,K23-$E23,0) -> -0.2 | AA23: =IF($D23>0,Z23+AA22,Z23) -> -0.2 | AB23: =IF($D23>0,L23-$E23,0) -> 16.1 | AC23: =IF($D23>0,AB23+AC22,AB23) -> 16.1 | AE23: =IF($D23>0,M23-$E23,0) -> 0.7 | AF23: =IF($D23>0,AE23+AF22,AE23) -> 0.7 | AG23: =IF($D23>0,N23-$E23,0) -> 7.7 | AH23: =IF($D23>0,AG23+AH22,AG23) -> 7.7 | AJ23: =P23+U23+Z23+AE23 -> 1.7 | AK23: =IF($D23>0,AJ23+AK22,AJ23) -> 1.7 | AL23: =R23+W23+AB23+AG23 -> 47.6 | AM23: =IF($D23>0,AL23+AM22,AL23) -> 47.6 | AN23: =AJ23+AL23 -> 49.3 | AO23: =IF($D23>0,AN23+AO22,AN23) -> 49.3 | AQ23: =P23+R23 -> 10.8 | AR23: =IF($D23>0,AQ23+AR22,AQ23) -> 10.8 | AS23: =U23+W23 -> 14.2 | AT23: =IF($D23>0,AS23+AT22,AS23) -> 14.2 | AU23: =Z23+AB23 -> 15.9 | AV23: =IF($D23>0,AU23+AV22,AU23) -> 15.9 | AW23: =AE23+AG23 -> 8.4 | AX23: =IF($D23>0,AW23+AX22,AW23) -> 8.4 | AY23: =AQ23+AS23 -> 25 | AZ23: =IF($D23>0,AY23+AZ22,AY23) -> 25
E24: =IF(D24>0,10,0) -> 0 | P24: =IF($D24>0,G24-$E24,0) -> 0 | Q24: =IF($D24>0,P24+Q23,P24) -> 0 | R24: =IF($D24>0,H24-$E24,0) -> 0 | S24: =IF($D24>0,R24+S23,R24) -> 0 | U24: =IF($D24>0,I24-$E24,0) -> 0 | V24: =IF($D24>0,U24+V23,U24) -> 0 | W24: =IF($D24>0,J24-$E24,0) -> 0 | X24: =IF($D24>0,W24+X23,W24) -> 0 | Z24: =IF($D24>0,K24-$E24,0) -> 0 | AA24: =IF($D24>0,Z24+AA23,Z24) -> 0 | AB24: =IF($D24>0,L24-$E24,0) -> 0 | AC24: =IF($D24>0,AB24+AC23,AB24) -> 0 | AE24: =IF($D24>0,M24-$E24,0) -> 0 | AF24: =IF($D24>0,AE24+AF23,AE24) -> 0 | AG24: =IF($D24>0,N24-$E24,0) -> 0 | AH24: =IF($D24>0,AG24+AH23,AG24) -> 0 | AJ24: =P24+U24+Z24+AE24 -> 0 | AK24: =IF($D24>0,AJ24+AK23,AJ24) -> 0 | AL24: =R24+W24+AB24+AG24 -> 0 | AM24: =IF($D24>0,AL24+AM23,AL24) -> 0 | AN24: =AJ24+AL24 -> 0 | AO24: =IF($D24>0,AN24+AO23,AN24) -> 0 | AQ24: =P24+R24 -> 0 | AR24: =IF($D24>0,AQ24+AR23,AQ24) -> 0 | AS24: =U24+W24 -> 0 | AT24: =IF($D24>0,AS24+AT23,AS24) -> 0 | AU24: =Z24+AB24 -> 0 | AV24: =IF($D24>0,AU24+AV23,AU24) -> 0 | AW24: =AE24+AG24 -> 0 | AX24: =IF($D24>0,AW24+AX23,AW24) -> 0 | AY24: =AQ24+AS24 -> 0 | AZ24: =IF($D24>0,AY24+AZ23,AY24) -> 0
A25: Dim | B25: 40916 | C25: C / M | D25: 13 | E25: =IF(D25>0,10,0) -> 10 | G25: 6.4 | H25: 5.7 | I25: 6.3 | J25: 5.7 | K25: 6.7 | L25: 6 | M25: 6 | N25: 5.1 | P25: =IF($D25>0,G25-$E25,0) -> -3.6 | Q25: =IF($D25>0,P25+Q24,P25) -> -3.6 | R25: =IF($D25>0,H25-$E25,0) -> -4.3 | S25: =IF($D25>0,R25+S24,R25) -> -4.3 | U25: =IF($D25>0,I25-$E25,0) -> -3.7 | V25: =IF($D25>0,U25+V24,U25) -> -3.7 | W25: =IF($D25>0,J25-$E25,0) -> -4.3 | X25: =IF($D25>0,W25+X24,W25) -> -4.3 | Z25: =IF($D25>0,K25-$E25,0) -> -3.3 | AA25: =IF($D25>0,Z25+AA24,Z25) -> -3.3 | AB25: =IF($D25>0,L25-$E25,0) -> -4 | AC25: =IF($D25>0,AB25+AC24,AB25) -> -4 | AE25: =IF($D25>0,M25-$E25,0) -> -4 | AF25: =IF($D25>0,AE25+AF24,AE25) -> -4 | AG25: =IF($D25>0,N25-$E25,0) -> -4.9 | AH25: =IF($D25>0,AG25+AH24,AG25) -> -4.9 | AJ25: =P25+U25+Z25+AE25 -> -14.6 | AK25: =IF($D25>0,AJ25+AK24,AJ25) -> -14.6 | AL25: =R25+W25+AB25+AG25 -> -17.5 | AM25: =IF($D25>0,AL25+AM24,AL25) -> -17.5 | AN25: =AJ25+AL25 -> -32.1 | AO25: =IF($D25>0,AN25+AO24,AN25) -> -32.1 | AQ25: =P25+R25 -> -7.9 | AR25: =IF($D25>0,AQ25+AR24,AQ25) -> -7.9 | AS25: =U25+W25 -> -8 | AT25: =IF($D25>0,AS25+AT24,AS25) -> -8 | AU25: =Z25+AB25 -> -7.3 | AV25: =IF($D25>0,AU25+AV24,AU25) -> -7.3 | AW25: =AE25+AG25 -> -8.9 | AX25: =IF($D25>0,AW25+AX24,AW25) -> -8.9 | AY25: =AQ25+AS25 -> -15.9 | AZ25: =IF($D25>0,AY25+AZ24,AY25) -> -15.9
D26: 16 | E26: =IF(D26>0,10,0) -> 10 | G26: 14 | H26: 8.2 | I26: 11.9 | J26: 10.5 | K26: 13.6 | L26: 10.8 | M26: 11.5 | N26: 10.4 | P26: =IF($D26>0,G26-$E26,0) -> 4 | Q26: =IF($D26>0,P26+Q25,P26) -> 0.4 | R26: =IF($D26>0,H26-$E26,0) -> -1.8 | S26: =IF($D26>0,R26+S25,R26) -> -6.1 | U26: =IF($D26>0,I26-$E26,0) -> 1.9 | V26: =IF($D26>0,U26+V25,U26) -> -1.8 | W26: =IF($D26>0,J26-$E26,0) -> 0.5 | X26: =IF($D26>0,W26+X25,W26) -> -3.8 | Z26: =IF($D26>0,K26-$E26,0) -> 3.6 | AA26: =IF($D26>0,Z26+AA25,Z26) -> 0.3 | AB26: =IF($D26>0,L26-$E26,0) -> 0.8 | AC26: =IF($D26>0,AB26+AC25,AB26) -> -3.2 | AE26: =IF($D26>0,M26-$E26,0) -> 1.5 | AF26: =IF($D26>0,AE26+AF25,AE26) -> -2.5 | AG26: =IF($D26>0,N26-$E26,0) -> 0.4 | AH26: =IF($D26>0,AG26+AH25,AG26) -> -4.5 | AJ26: =P26+U26+Z26+AE26 -> 11 | AK26: =IF($D26>0,AJ26+AK25,AJ26) -> -3.6 | AL26: =R26+W26+AB26+AG26 -> -0.1 | AM26: =IF($D26>0,AL26+AM25,AL26) -> -17.6 | AN26: =AJ26+AL26 -> 10.9 | AO26: =IF($D26>0,AN26+AO25,AN26) -> -21.2 | AQ26: =P26+R26 -> 2.2 | AR26: =IF($D26>0,AQ26+AR25,AQ26) -> -5.7 | AS26: =U26+W26 -> 2.4 | AT26: =IF($D26>0,AS26+AT25,AS26) -> -5.6 | AU26: =Z26+AB26 -> 4.4 | AV26: =IF($D26>0,AU26+AV25,AU26) -> -2.9 | AW26: =AE26+AG26 -> 1.9 | AX26: =IF($D26>0,AW26+AX25,AW26) -> -7 | AY26: =AQ26+AS26 -> 4.6 | AZ26: =IF($D26>0,AY26+AZ25,AY26) -> -11.3
E27: =IF(D27>0,10,0) -> 0 | P27: =IF($D27>0,G27-$E27,0) -> 0 | Q27: =IF($D27>0,P27+Q26,P27) -> 0 | R27: =IF($D27>0,H27-$E27,0) -> 0 | S27: =IF($D27>0,R27+S26,R27) -> 0 | U27: =IF($D27>0,I27-$E27,0) -> 0 | V27: =IF($D27>0,U27+V26,U27) -> 0 | W27: =IF($D27>0,J27-$E27,0) -> 0 | X27: =IF($D27>0,W27+X26,W27) -> 0 | Z27: =IF($D27>0,K27-$E27,0) -> 0 | AA27: =IF($D27>0,Z27+AA26,Z27) -> 0 | AB27: =IF($D27>0,L27-$E27,0) -> 0 | AC27: =IF($D27>0,AB27+AC26,AB27) -> 0 | AE27: =IF($D27>0,M27-$E27,0) -> 0 | AF27: =IF($D27>0,AE27+AF26,AE27) -> 0 | AG27: =IF($D27>0,N27-$E27,0) -> 0 | AH27: =IF($D27>0,AG27+AH26,AG27) -> 0 | AJ27: =P27+U27+Z27+AE27 -> 0 | AK27: =IF($D27>0,AJ27+AK26,AJ27) -> 0 | AL27: =R27+W27+AB27+AG27 -> 0 | AM27: =IF($D27>0,AL27+AM26,AL27) -> 0 | AN27: =AJ27+AL27 -> 0 | AO27: =IF($D27>0,AN27+AO26,AN27) -> 0 | AQ27: =P27+R27 -> 0 | AR27: =IF($D27>0,AQ27+AR26,AQ27) -> 0 | AS27: =U27+W27 -> 0 | AT27: =IF($D27>0,AS27+AT26,AS27) -> 0 | AU27: =Z27+AB27 -> 0 | AV27: =IF($D27>0,AU27+AV26,AU27) -> 0 | AW27: =AE27+AG27 -> 0 | AX27: =IF($D27>0,AW27+AX26,AW27) -> 0 | AY27: =AQ27+AS27 -> 0 | AZ27: =IF($D27>0,AY27+AZ26,AY27) -> 0
A28: Lun | B28: 40917 | C28: Pau | D28: 15 | E28: =IF(D28>0,10,0) -> 10 | G28: 31.5 | H28: 16 | I28: 30.5 | J28: 14 | K28: 17.4 | L28: 11 | M28: 29.4 | N28: 13.6 | P28: =IF($D28>0,G28-$E28,0) -> 21.5 | Q28: =IF($D28>0,P28+Q27,P28) -> 21.5 | R28: =IF($D28>0,H28-$E28,0) -> 6 | S28: =IF($D28>0,R28+S27,R28) -> 6 | U28: =IF($D28>0,I28-$E28,0) -> 20.5 | V28: =IF($D28>0,U28+V27,U28) -> 20.5 | W28: =IF($D28>0,J28-$E28,0) -> 4 | X28: =IF($D28>0,W28+X27,W28) -> 4 | Z28: =IF($D28>0,K28-$E28,0) -> 7.4 | AA28: =IF($D28>0,Z28+AA27,Z28) -> 7.4 | AB28: =IF($D28>0,L28-$E28,0) -> 1 | AC28: =IF($D28>0,AB28+AC27,AB28) -> 1 | AE28: =IF($D28>0,M28-$E28,0) -> 19.4 | AF28: =IF($D28>0,AE28+AF27,AE28) -> 19.4 | AG28: =IF($D28>0,N28-$E28,0) -> 3.6 | AH28: =IF($D28>0,AG28+AH27,AG28) -> 3.6 | AJ28: =P28+U28+Z28+AE28 -> 68.8 | AK28: =IF($D28>0,AJ28+AK27,AJ28) -> 68.8 | AL28: =R28+W28+AB28+AG28 -> 14.6 | AM28: =IF($D28>0,AL28+AM27,AL28) -> 14.6 | AN28: =AJ28+AL28 -> 83.4 | AO28: =IF($D28>0,AN28+AO27,AN28) -> 83.4 | AQ28: =P28+R28 -> 27.5 | AR28: =IF($D28>0,AQ28+AR27,AQ28) -> 27.5 | AS28: =U28+W28 -> 24.5 | AT28: =IF($D28>0,AS28+AT27,AS28) -> 24.5 | AU28: =Z28+AB28 -> 8.4 | AV28: =IF($D28>0,AU28+AV27,AU28) -> 8.4 | AW28: =AE28+AG28 -> 23 | AX28: =IF($D28>0,AW28+AX27,AW28) -> 23 | AY28: =AQ28+AS28 -> 52 | AZ28: =IF($D28>0,AY28+AZ27,AY28) -> 52
E29: =IF(D29>0,10,0) -> 0 | P29: =IF($D29>0,G29-$E29,0) -> 0 | Q29: =IF($D29>0,P29+Q28,P29) -> 0 | R29: =IF($D29>0,H29-$E29,0) -> 0 | S29: =IF($D29>0,R29+S28,R29) -> 0 | U29: =IF($D29>0,I29-$E29,0) -> 0 | V29: =IF($D29>0,U29+V28,U29) -> 0 | W29: =IF($D29>0,J29-$E29,0) -> 0 | X29: =IF($D29>0,W29+X28,W29) -> 0 | Z29: =IF($D29>0,K29-$E29,0) -> 0 | AA29: =IF($D29>0,Z29+AA28,Z29) -> 0 | AB29: =IF($D29>0,L29-$E29,0) -> 0 | AC29: =IF($D29>0,AB29+AC28,AB29) -> 0 | AE29: =IF($D29>0,M29-$E29,0) -> 0 | AF29: =IF($D29>0,AE29+AF28,AE29) -> 0 | AG29: =IF($D29>0,N29-$E29,0) -> 0 | AH29: =IF($D29>0,AG29+AH28,AG29) -> 0 | AJ29: =P29+U29+Z29+AE29 -> 0 | AK29: =IF($D29>0,AJ29+AK28,AJ29) -> 0 | AL29: =R29+W29+AB29+AG29 -> 0 | AM29: =IF($D29>0,AL29+AM28,AL29) -> 0 | AN29: =AJ29+AL29 -> 0 | AO29: =IF($D29>0,AN29+AO28,AN29) -> 0 | AQ29: =P29+R29 -> 0 | AR29: =IF($D29>0,AQ29+AR28,AQ29) -> 0 | AS29: =U29+W29 -> 0 | AT29: =IF($D29>0,AS29+AT28,AS29) -> 0 | AU29: =Z29+AB29 -> 0 | AV29: =IF($D29>0,AU29+AV28,AU29) -> 0 | AW29: =AE29+AG29 -> 0 | AX29: =IF($D29>0,AW29+AX28,AW29) -> 0 | AY29: =AQ29+AS29 -> 0 | AZ29: =IF($D29>0,AY29+AZ28,AY29) -> 0
A30: Jeu | B30: 40920 | C30: C / M | D30: 14 | E30: =IF(D30>0,10,0) -> 10 | G30: 11.4 | H30: 18.8 | I30: 8.9 | J30: 13.9 | K30: 9.9 | L30: 13.6 | M30: 8.6 | N30: 13.2 | P30: =IF($D30>0,G30-$E30,0) -> 1.4 | Q30: =IF($D30>0,P30+Q29,P30) -> 1.4 | R30: =IF($D30>0,H30-$E30,0) -> 8.8 | S30: =IF($D30>0,R30+S29,R30) -> 8.8 | U30: =IF($D30>0,I30-$E30,0) -> -1.1 | V30: =IF($D30>0,U30+V29,U30) -> -1.1 | W30: =IF($D30>0,J30-$E30,0) -> 3.9 | X30: =IF($D30>0,W30+X29,W30) -> 3.9 | Z30: =IF($D30>0,K30-$E30,0) -> -0.1 | AA30: =IF($D30>0,Z30+AA29,Z30) -> -0.1 | AB30: =IF($D30>0,L30-$E30,0) -> 3.6 | AC30: =IF($D30>0,AB30+AC29,AB30) -> 3.6 | AE30: =IF($D30>0,M30-$E30,0) -> -1.4 | AF30: =IF($D30>0,AE30+AF29,AE30) -> -1.4 | AG30: =IF($D30>0,N30-$E30,0) -> 3.2 | AH30: =IF($D30>0,AG30+AH29,AG30) -> 3.2 | AJ30: =P30+U30+Z30+AE30 -> -1.2 | AK30: =IF($D30>0,AJ30+AK29,AJ30) -> -1.2 | AL30: =R30+W30+AB30+AG30 -> 19.5 | AM30: =IF($D30>0,AL30+AM29,AL30) -> 19.5 | AN30: =AJ30+AL30 -> 18.3 | AO30: =IF($D30>0,AN30+AO29,AN30) -> 18.3 | AQ30: =P30+R30 -> 10.2 | AR30: =IF($D30>0,AQ30+AR29,AQ30) -> 10.2 | AS30: =U30+W30 -> 2.8 | AT30: =IF($D30>0,AS30+AT29,AS30) -> 2.8 | AU30: =Z30+AB30 -> 3.5 | AV30: =IF($D30>0,AU30+AV29,AU30) -> 3.5 | AW30: =AE30+AG30 -> 1.8 | AX30: =IF($D30>0,AW30+AX29,AW30) -> 1.8 | AY30: =AQ30+AS30 -> 13 | AZ30: =IF($D30>0,AY30+AZ29,AY30) -> 13
D31: 14 | E31: =IF(D31>0,10,0) -> 10 | G31: 7.4 | H31: 9.8 | I31: 5.8 | J31: 10 | K31: 7.8 | L31: 9.9 | M31: 5.6 | N31: 9.7 | P31: =IF($D31>0,G31-$E31,0) -> -2.6 | Q31: =IF($D31>0,P31+Q30,P31) -> -1.2 | R31: =IF($D31>0,H31-$E31,0) -> -0.2 | S31: =IF($D31>0,R31+S30,R31) -> 8.6 | U31: =IF($D31>0,I31-$E31,0) -> -4.2 | V31: =IF($D31>0,U31+V30,U31) -> -5.3 | W31: =IF($D31>0,J31-$E31,0) -> 0 | X31: =IF($D31>0,W31+X30,W31) -> 3.9 | Z31: =IF($D31>0,K31-$E31,0) -> -2.2 | AA31: =IF($D31>0,Z31+AA30,Z31) -> -2.3 | AB31: =IF($D31>0,L31-$E31,0) -> -0.1 | AC31: =IF($D31>0,AB31+AC30,AB31) -> 3.5 | AE31: =IF($D31>0,M31-$E31,0) -> -4.4 | AF31: =IF($D31>0,AE31+AF30,AE31) -> -5.8 | AG31: =IF($D31>0,N31-$E31,0) -> -0.3 | AH31: =IF($D31>0,AG31+AH30,AG31) -> 2.9 | AJ31: =P31+U31+Z31+AE31 -> -13.4 | AK31: =IF($D31>0,AJ31+AK30,AJ31) -> -14.6 | AL31: =R31+W31+AB31+AG31 -> -0.6 | AM31: =IF($D31>0,AL31+AM30,AL31) -> 18.9 | AN31: =AJ31+AL31 -> -14 | AO31: =IF($D31>0,AN31+AO30,AN31) -> 4.3 | AQ31: =P31+R31 -> -2.8 | AR31: =IF($D31>0,AQ31+AR30,AQ31) -> 7.4 | AS31: =U31+W31 -> -4.2 | AT31: =IF($D31>0,AS31+AT30,AS31) -> -1.4 | AU31: =Z31+AB31 -> -2.3 | AV31: =IF($D31>0,AU31+AV30,AU31) -> 1.2 | AW31: =AE31+AG31 -> -4.7 | AX31: =IF($D31>0,AW31+AX30,AW31) -> -2.9 | AY31: =AQ31+AS31 -> -7 | AZ31: =IF($D31>0,AY31+AZ30,AY31) -> 6
D32: 16 | E32: =IF(D32>0,10,0) -> 10 | G32: 7.5 | H32: 12.3 | I32: 8.4 | J32: 17.2 | K32: 9.8 | L32: 17.4 | M32: 8.1 | N32: 16.7 | P32: =IF($D32>0,G32-$E32,0) -> -2.5 | Q32: =IF($D32>0,P32+Q31,P32) -> -3.7 | R32: =IF($D32>0,H32-$E32,0) -> 2.3 | S32: =IF($D32>0,R32+S31,R32) -> 10.9 | U32: =IF($D32>0,I32-$E32,0) -> -1.6 | V32: =IF($D32>0,U32+V31,U32) -> -6.9 | W32: =IF($D32>0,J32-$E32,0) -> 7.2 | X32: =IF($D32>0,W32+X31,W32) -> 11.1 | Z32: =IF($D32>0,K32-$E32,0) -> -0.2 | AA32: =IF($D32>0,Z32+AA31,Z32) -> -2.5 | AB32: =IF($D32>0,L32-$E32,0) -> 7.4 | AC32: =IF($D32>0,AB32+AC31,AB32) -> 10.9 | AE32: =IF($D32>0,M32-$E32,0) -> -1.9 | AF32: =IF($D32>0,AE32+AF31,AE32) -> -7.7 | AG32: =IF($D32>0,N32-$E32,0) -> 6.7 | AH32: =IF($D32>0,AG32+AH31,AG32) -> 9.6 | AJ32: =P32+U32+Z32+AE32 -> -6.2 | AK32: =IF($D32>0,AJ32+AK31,AJ32) -> -20.8 | AL32: =R32+W32+AB32+AG32 -> 23.6 | AM32: =IF($D32>0,AL32+AM31,AL32) -> 42.5 | AN32: =AJ32+AL32 -> 17.4 | AO32: =IF($D32>0,AN32+AO31,AN32) -> 21.7 | AQ32: =P32+R32 -> -0.2 | AR32: =IF($D32>0,AQ32+AR31,AQ32) -> 7.2 | AS32: =U32+W32 -> 5.6 | AT32: =IF($D32>0,AS32+AT31,AS32) -> 4.2 | AU32: =Z32+AB32 -> 7.2 | AV32: =IF($D32>0,AU32+AV31,AU32) -> 8.4 | AW32: =AE32+AG32 -> 4.8 | AX32: =IF($D32>0,AW32+AX31,AW32) -> 1.9 | AY32: =AQ32+AS32 -> 5.4 | AZ32: =IF($D32>0,AY32+AZ31,AY32) -> 11.4
D33: 15 | E33: =IF(D33>0,10,0) -> 10 | G33: 3 | H33: 8.7 | I33: 3 | J33: 7.7 | K33: 3.5 | L33: 6.7 | M33: 2.9 | N33: 7.9 | P33: =IF($D33>0,G33-$E33,0) -> -7 | Q33: =IF($D33>0,P33+Q32,P33) -> -10.7 | R33: =IF($D33>0,H33-$E33,0) -> -1.3 | S33: =IF($D33>0,R33+S32,R33) -> 9.6 | U33: =IF($D33>0,I33-$E33,0) -> -7 | V33: =IF($D33>0,U33+V32,U33) -> -13.9 | W33: =IF($D33>0,J33-$E33,0) -> -2.3 | X33: =IF($D33>0,W33+X32,W33) -> 8.8 | Z33: =IF($D33>0,K33-$E33,0) -> -6.5 | AA33: =IF($D33>0,Z33+AA32,Z33) -> -9 | AB33: =IF($D33>0,L33-$E33,0) -> -3.3 | AC33: =IF($D33>0,AB33+AC32,AB33) -> 7.6 | AE33: =IF($D33>0,M33-$E33,0) -> -7.1 | AF33: =IF($D33>0,AE33+AF32,AE33) -> -14.8 | AG33: =IF($D33>0,N33-$E33,0) -> -2.1 | AH33: =IF($D33>0,AG33+AH32,AG33) -> 7.5 | AJ33: =P33+U33+Z33+AE33 -> -27.6 | AK33: =IF($D33>0,AJ33+AK32,AJ33) -> -48.4 | AL33: =R33+W33+AB33+AG33 -> -9 | AM33: =IF($D33>0,AL33+AM32,AL33) -> 33.5 | AN33: =AJ33+AL33 -> -36.6 | AO33: =IF($D33>0,AN33+AO32,AN33) -> -14.9 | AQ33: =P33+R33 -> -8.3 | AR33: =IF($D33>0,AQ33+AR32,AQ33) -> -1.1 | AS33: =U33+W33 -> -9.3 | AT33: =IF($D33>0,AS33+AT32,AS33) -> -5.1 | AU33: =Z33+AB33 -> -9.8 | AV33: =IF($D33>0,AU33+AV32,AU33) -> -1.4 | AW33: =AE33+AG33 -> -9.2 | AX33: =IF($D33>0,AW33+AX32,AW33) -> -7.3 | AY33: =AQ33+AS33 -> -17.6 | AZ33: =IF($D33>0,AY33+AZ32,AY33) -> -6.2
E34: =IF(D34>0,10,0) -> 0 | P34: =IF($D34>0,G34-$E34,0) -> 0 | Q34: =IF($D34>0,P34+Q33,P34) -> 0 | R34: =IF($D34>0,H34-$E34,0) -> 0 | S34: =IF($D34>0,R34+S33,R34) -> 0 | U34: =IF($D34>0,I34-$E34,0) -> 0 | V34: =IF($D34>0,U34+V33,U34) -> 0 | W34: =IF($D34>0,J34-$E34,0) -> 0 | X34: =IF($D34>0,W34+X33,W34) -> 0 | Z34: =IF($D34>0,K34-$E34,0) -> 0 | AA34: =IF($D34>0,Z34+AA33,Z34) -> 0 | AB34: =IF($D34>0,L34-$E34,0) -> 0 | AC34: =IF($D34>0,AB34+AC33,AB34) -> 0 | AE34: =IF($D34>0,M34-$E34,0) -> 0 | AF34: =IF($D34>0,AE34+AF33,AE34) -> 0 | AG34: =IF($D34>0,N34-$E34,0) -> 0 | AH34: =IF($D34>0,AG34+AH33,AG34) -> 0 | AJ34: =P34+U34+Z34+AE34 -> 0 | AK34: =IF($D34>0,AJ34+AK33,AJ34) -> 0 | AL34: =R34+W34+AB34+AG34 -> 0 | AM34: =IF($D34>0,AL34+AM33,AL34) -> 0 | AN34: =AJ34+AL34 -> 0 | AO34: =IF($D34>0,AN34+AO33,AN34) -> 0 | AQ34: =P34+R34 -> 0 | AR34: =IF($D34>0,AQ34+AR33,AQ34) -> 0 | AS34: =U34+W34 -> 0 | AT34: =IF($D34>0,AS34+AT33,AS34) -> 0 | AU34: =Z34+AB34 -> 0 | AV34: =IF($D34>0,AU34+AV33,AU34) -> 0 | AW34: =AE34+AG34 -> 0 | AX34: =IF($D34>0,AW34+AX33,AW34) -> 0 | AY34: =AQ34+AS34 -> 0 | AZ34: =IF($D34>0,AY34+AZ33,AY34) -> 0
A35: Ven | B35: 40921 | C35: Pau | D35: 12 | E35: =IF(D35>0,10,0) -> 10 | G35: 4.7 | H35: 6.4 | I35: 3.7 | J35: 6.9 | K35: 4.2 | L35: 6.3 | M35: 3.5 | N35: 7 | P35: =IF($D35>0,G35-$E35,0) -> -5.3 | Q35: =IF($D35>0,P35+Q34,P35) -> -5.3 | R35: =IF($D35>0,H35-$E35,0) -> -3.6 | S35: =IF($D35>0,R35+S34,R35) -> -3.6 | U35: =IF($D35>0,I35-$E35,0) -> -6.3 | V35: =IF($D35>0,U35+V34,U35) -> -6.3 | W35: =IF($D35>0,J35-$E35,0) -> -3.1 | X35: =IF($D35>0,W35+X34,W35) -> -3.1 | Z35: =IF($D35>0,K35-$E35,0) -> -5.8 | AA35: =IF($D35>0,Z35+AA34,Z35) -> -5.8 | AB35: =IF($D35>0,L35-$E35,0) -> -3.7 | AC35: =IF($D35>0,AB35+AC34,AB35) -> -3.7 | AE35: =IF($D35>0,M35-$E35,0) -> -6.5 | AF35: =IF($D35>0,AE35+AF34,AE35) -> -6.5 | AG35: =IF($D35>0,N35-$E35,0) -> -3 | AH35: =IF($D35>0,AG35+AH34,AG35) -> -3 | AJ35: =P35+U35+Z35+AE35 -> -23.9 | AK35: =IF($D35>0,AJ35+AK34,AJ35) -> -23.9 | AL35: =R35+W35+AB35+AG35 -> -13.4 | AM35: =IF($D35>0,AL35+AM34,AL35) -> -13.4 | AN35: =AJ35+AL35 -> -37.3 | AO35: =IF($D35>0,AN35+AO34,AN35) -> -37.3 | AQ35: =P35+R35 -> -8.9 | AR35: =IF($D35>0,AQ35+AR34,AQ35) -> -8.9 | AS35: =U35+W35 -> -9.4 | AT35: =IF($D35>0,AS35+AT34,AS35) -> -9.4 | AU35: =Z35+AB35 -> -9.5 | AV35: =IF($D35>0,AU35+AV34,AU35) -> -9.5 | AW35: =AE35+AG35 -> -9.5 | AX35: =IF($D35>0,AW35+AX34,AW35) -> -9.5 | AY35: =AQ35+AS35 -> -18.3 | AZ35: =IF($D35>0,AY35+AZ34,AY35) -> -18.3
E36: =IF(D36>0,10,0) -> 0 | P36: =IF($D36>0,G36-$E36,0) -> 0 | Q36: =IF($D36>0,P36+Q35,P36) -> 0 | R36: =IF($D36>0,H36-$E36,0) -> 0 | S36: =IF($D36>0,R36+S35,R36) -> 0 | U36: =IF($D36>0,I36-$E36,0) -> 0 | V36: =IF($D36>0,U36+V35,U36) -> 0 | W36: =IF($D36>0,J36-$E36,0) -> 0 | X36: =IF($D36>0,W36+X35,W36) -> 0 | Z36: =IF($D36>0,K36-$E36,0) -> 0 | AA36: =IF($D36>0,Z36+AA35,Z36) -> 0 | AB36: =IF($D36>0,L36-$E36,0) -> 0 | AC36: =IF($D36>0,AB36+AC35,AB36) -> 0 | AE36: =IF($D36>0,M36-$E36,0) -> 0 | AF36: =IF($D36>0,AE36+AF35,AE36) -> 0 | AG36: =IF($D36>0,N36-$E36,0) -> 0 | AH36: =IF($D36>0,AG36+AH35,AG36) -> 0 | AJ36: =P36+U36+Z36+AE36 -> 0 | AK36: =IF($D36>0,AJ36+AK35,AJ36) -> 0 | AL36: =R36+W36+AB36+AG36 -> 0 | AM36: =IF($D36>0,AL36+AM35,AL36) -> 0 | AN36: =AJ36+AL36 -> 0 | AO36: =IF($D36>0,AN36+AO35,AN36) -> 0 | AQ36: =P36+R36 -> 0 | AR36: =IF($D36>0,AQ36+AR35,AQ36) -> 0 | AS36: =U36+W36 -> 0 | AT36: =IF($D36>0,AS36+AT35,AS36) -> 0 | AU36: =Z36+AB36 -> 0 | AV36: =IF($D36>0,AU36+AV35,AU36) -> 0 | AW36: =AE36+AG36 -> 0 | AX36: =IF($D36>0,AW36+AX35,AW36) -> 0 | AY36: =AQ36+AS36 -> 0 | AZ36: =IF($D36>0,AY36+AZ35,AY36) -> 0
A37: Mar | B37: 40926 | C37: Pau | D37: 18 | E37: =IF(D37>0,10,0) -> 10 | G37: 6.9 | H37: 22.6 | I37: 5.3 | J37: 13.7 | K37: 5.3 | L37: 18.1 | M37: 5.3 | N37: 10.5 | P37: =IF($D37>0,G37-$E37,0) -> -3.1 | Q37: =IF($D37>0,P37+Q36,P37) -> -3.1 | R37: =IF($D37>0,H37-$E37,0) -> 12.6 | S37: =IF($D37>0,R37+S36,R37) -> 12.6 | U37: =IF($D37>0,I37-$E37,0) -> -4.7 | V37: =IF($D37>0,U37+V36,U37) -> -4.7 | W37: =IF($D37>0,J37-$E37,0) -> 3.7 | X37: =IF($D37>0,W37+X36,W37) -> 3.7 | Z37: =IF($D37>0,K37-$E37,0) -> -4.7 | AA37: =IF($D37>0,Z37+AA36,Z37) -> -4.7 | AB37: =IF($D37>0,L37-$E37,0) -> 8.1 | AC37: =IF($D37>0,AB37+AC36,AB37) -> 8.1 | AE37: =IF($D37>0,M37-$E37,0) -> -4.7 | AF37: =IF($D37>0,AE37+AF36,AE37) -> -4.7 | AG37: =IF($D37>0,N37-$E37,0) -> 0.5 | AH37: =IF($D37>0,AG37+AH36,AG37) -> 0.5 | AJ37: =P37+U37+Z37+AE37 -> -17.2 | AK37: =IF($D37>0,AJ37+AK36,AJ37) -> -17.2 | AL37: =R37+W37+AB37+AG37 -> 24.9 | AM37: =IF($D37>0,AL37+AM36,AL37) -> 24.9 | AN37: =AJ37+AL37 -> 7.7 | AO37: =IF($D37>0,AN37+AO36,AN37) -> 7.7 | AQ37: =P37+R37 -> 9.5 | AR37: =IF($D37>0,AQ37+AR36,AQ37) -> 9.5 | AS37: =U37+W37 -> -1 | AT37: =IF($D37>0,AS37+AT36,AS37) -> -1 | AU37: =Z37+AB37 -> 3.4 | AV37: =IF($D37>0,AU37+AV36,AU37) -> 3.4 | AW37: =AE37+AG37 -> -4.2 | AX37: =IF($D37>0,AW37+AX36,AW37) -> -4.2 | AY37: =AQ37+AS37 -> 8.5 | AZ37: =IF($D37>0,AY37+AZ36,AY37) -> 8.5
E38: =IF(D38>0,10,0) -> 0 | P38: =IF($D38>0,G38-$E38,0) -> 0 | Q38: =IF($D38>0,P38+Q37,P38) -> 0 | R38: =IF($D38>0,H38-$E38,0) -> 0 | S38: =IF($D38>0,R38+S37,R38) -> 0 | U38: =IF($D38>0,I38-$E38,0) -> 0 | V38: =IF($D38>0,U38+V37,U38) -> 0 | W38: =IF($D38>0,J38-$E38,0) -> 0 | X38: =IF($D38>0,W38+X37,W38) -> 0 | Z38: =IF($D38>0,K38-$E38,0) -> 0 | AA38: =IF($D38>0,Z38+AA37,Z38) -> 0 | AB38: =IF($D38>0,L38-$E38,0) -> 0 | AC38: =IF($D38>0,AB38+AC37,AB38) -> 0 | AE38: =IF($D38>0,M38-$E38,0) -> 0 | AF38: =IF($D38>0,AE38+AF37,AE38) -> 0 | AG38: =IF($D38>0,N38-$E38,0) -> 0 | AH38: =IF($D38>0,AG38+AH37,AG38) -> 0 | AJ38: =P38+U38+Z38+AE38 -> 0 | AK38: =IF($D38>0,AJ38+AK37,AJ38) -> 0 | AL38: =R38+W38+AB38+AG38 -> 0 | AM38: =IF($D38>0,AL38+AM37,AL38) -> 0 | AN38: =AJ38+AL38 -> 0 | AO38: =IF($D38>0,AN38+AO37,AN38) -> 0 | AQ38: =P38+R38 -> 0 | AR38: =IF($D38>0,AQ38+AR37,AQ38) -> 0 | AS38: =U38+W38 -> 0 | AT38: =IF($D38>0,AS38+AT37,AS38) -> 0 | AU38: =Z38+AB38 -> 0 | AV38: =IF($D38>0,AU38+AV37,AU38) -> 0 | AW38: =AE38+AG38 -> 0 | AX38: =IF($D38>0,AW38+AX37,AW38) -> 0 | AY38: =AQ38+AS38 -> 0 | AZ38: =IF($D38>0,AY38+AZ37,AY38) -> 0
A39: Jeu | B39: 40927 | C39: Pau | D39: 17 | E39: =IF(D39>0,10,0) -> 10 | G39: 21.6 | H39: 11.5 | I39: 23.6 | J39: 10.6 | K39: 21.6 | L39: 11.5 | M39: 22.8 | N39: 5.5 | P39: =IF($D39>0,G39-$E39,0) -> 11.6 | Q39: =IF($D39>0,P39+Q38,P39) -> 11.6 | R39: =IF($D39>0,H39-$E39,0) -> 1.5 | S39: =IF($D39>0,R39+S38,R39) -> 1.5 | U39: =IF($D39>0,I39-$E39,0) -> 13.6 | V39: =IF($D39>0,U39+V38,U39) -> 13.6 | W39: =IF($D39>0,J39-$E39,0) -> 0.6 | X39: =IF($D39>0,W39+X38,W39) -> 0.6 | Z39: =IF($D39>0,K39-$E39,0) -> 11.6 | AA39: =IF($D39>0,Z39+AA38,Z39) -> 11.6 | AB39: =IF($D39>0,L39-$E39,0) -> 1.5 | AC39: =IF($D39>0,AB39+AC38,AB39) -> 1.5 | AE39: =IF($D39>0,M39-$E39,0) -> 12.8 | AF39: =IF($D39>0,AE39+AF38,AE39) -> 12.8 | AG39: =IF($D39>0,N39-$E39,0) -> -4.5 | AH39: =IF($D39>0,AG39+AH38,AG39) -> -4.5 | AJ39: =P39+U39+Z39+AE39 -> 49.6 | AK39: =IF($D39>0,AJ39+AK38,AJ39) -> 49.6 | AL39: =R39+W39+AB39+AG39 -> -0.9 | AM39: =IF($D39>0,AL39+AM38,AL39) -> -0.9 | AN39: =AJ39+AL39 -> 48.7 | AO39: =IF($D39>0,AN39+AO38,AN39) -> 48.7 | AQ39: =P39+R39 -> 13.1 | AR39: =IF($D39>0,AQ39+AR38,AQ39) -> 13.1 | AS39: =U39+W39 -> 14.2 | AT39: =IF($D39>0,AS39+AT38,AS39) -> 14.2 | AU39: =Z39+AB39 -> 13.1 | AV39: =IF($D39>0,AU39+AV38,AU39) -> 13.1 | AW39: =AE39+AG39 -> 8.3 | AX39: =IF($D39>0,AW39+AX38,AW39) -> 8.3 | AY39: =AQ39+AS39 -> 27.3 | AZ39: =IF($D39>0,AY39+AZ38,AY39) -> 27.3
E40: =IF(D40>0,10,0) -> 0 | P40: =IF($D40>0,G40-$E40,0) -> 0 | Q40: =IF($D40>0,P40+Q39,P40) -> 0 | R40: =IF($D40>0,H40-$E40,0) -> 0 | S40: =IF($D40>0,R40+S39,R40) -> 0 | U40: =IF($D40>0,I40-$E40,0) -> 0 | V40: =IF($D40>0,U40+V39,U40) -> 0 | W40: =IF($D40>0,J40-$E40,0) -> 0 | X40: =IF($D40>0,W40+X39,W40) -> 0 | Z40: =IF($D40>0,K40-$E40,0) -> 0 | AA40: =IF($D40>0,Z40+AA39,Z40) -> 0 | AB40: =IF($D40>0,L40-$E40,0) -> 0 | AC40: =IF($D40>0,AB40+AC39,AB40) -> 0 | AE40: =IF($D40>0,M40-$E40,0) -> 0 | AF40: =IF($D40>0,AE40+AF39,AE40) -> 0 | AG40: =IF($D40>0,N40-$E40,0) -> 0 | AH40: =IF($D40>0,AG40+AH39,AG40) -> 0 | AJ40: =P40+U40+Z40+AE40 -> 0 | AK40: =IF($D40>0,AJ40+AK39,AJ40) -> 0 | AL40: =R40+W40+AB40+AG40 -> 0 | AM40: =IF($D40>0,AL40+AM39,AL40) -> 0 | AN40: =AJ40+AL40 -> 0 | AO40: =IF($D40>0,AN40+AO39,AN40) -> 0 | AQ40: =P40+R40 -> 0 | AR40: =IF($D40>0,AQ40+AR39,AQ40) -> 0 | AS40: =U40+W40 -> 0 | AT40: =IF($D40>0,AS40+AT39,AS40) -> 0 | AU40: =Z40+AB40 -> 0 | AV40: =IF($D40>0,AU40+AV39,AU40) -> 0 | AW40: =AE40+AG40 -> 0 | AX40: =IF($D40>0,AW40+AX39,AW40) -> 0 | AY40: =AQ40+AS40 -> 0 | AZ40: =IF($D40>0,AY40+AZ39,AY40) -> 0
A41: Dim | B41: 40930 | C41: Pau | D41: 16 | E41: =IF(D41>0,10,0) -> 10 | G41: 22.9 | H41: 13 | I41: 14.2 | J41: 11.2 | K41: 20.3 | L41: 9.6 | M41: 13.5 | N41: 8 | P41: =IF($D41>0,G41-$E41,0) -> 12.9 | Q41: =IF($D41>0,P41+Q40,P41) -> 12.9 | R41: =IF($D41>0,H41-$E41,0) -> 3 | S41: =IF($D41>0,R41+S40,R41) -> 3 | U41: =IF($D41>0,I41-$E41,0) -> 4.2 | V41: =IF($D41>0,U41+V40,U41) -> 4.2 | W41: =IF($D41>0,J41-$E41,0) -> 1.2 | X41: =IF($D41>0,W41+X40,W41) -> 1.2 | Z41: =IF($D41>0,K41-$E41,0) -> 10.3 | AA41: =IF($D41>0,Z41+AA40,Z41) -> 10.3 | AB41: =IF($D41>0,L41-$E41,0) -> -0.4 | AC41: =IF($D41>0,AB41+AC40,AB41) -> -0.4 | AE41: =IF($D41>0,M41-$E41,0) -> 3.5 | AF41: =IF($D41>0,AE41+AF40,AE41) -> 3.5 | AG41: =IF($D41>0,N41-$E41,0) -> -2 | AH41: =IF($D41>0,AG41+AH40,AG41) -> -2 | AJ41: =P41+U41+Z41+AE41 -> 30.9 | AK41: =IF($D41>0,AJ41+AK40,AJ41) -> 30.9 | AL41: =R41+W41+AB41+AG41 -> 1.8 | AM41: =IF($D41>0,AL41+AM40,AL41) -> 1.8 | AN41: =AJ41+AL41 -> 32.7 | AO41: =IF($D41>0,AN41+AO40,AN41) -> 32.7 | AQ41: =P41+R41 -> 15.9 | AR41: =IF($D41>0,AQ41+AR40,AQ41) -> 15.9 | AS41: =U41+W41 -> 5.4 | AT41: =IF($D41>0,AS41+AT40,AS41) -> 5.4 | AU41: =Z41+AB41 -> 9.9 | AV41: =IF($D41>0,AU41+AV40,AU41) -> 9.9 | AW41: =AE41+AG41 -> 1.5 | AX41: =IF($D41>0,AW41+AX40,AW41) -> 1.5 | AY41: =AQ41+AS41 -> 21.3 | AZ41: =IF($D41>0,AY41+AZ40,AY41) -> 21.3
D42: 15 | E42: =IF(D42>0,10,0) -> 10 | G42: 2.7 | H42: 12.1 | I42: 4 | J42: 9.9 | K42: 3.5 | L42: 9.6 | M42: 3.8 | N42: 9.6 | P42: =IF($D42>0,G42-$E42,0) -> -7.3 | Q42: =IF($D42>0,P42+Q41,P42) -> 5.6 | R42: =IF($D42>0,H42-$E42,0) -> 2.1 | S42: =IF($D42>0,R42+S41,R42) -> 5.1 | U42: =IF($D42>0,I42-$E42,0) -> -6 | V42: =IF($D42>0,U42+V41,U42) -> -1.8 | W42: =IF($D42>0,J42-$E42,0) -> -0.1 | X42: =IF($D42>0,W42+X41,W42) -> 1.1 | Z42: =IF($D42>0,K42-$E42,0) -> -6.5 | AA42: =IF($D42>0,Z42+AA41,Z42) -> 3.8 | AB42: =IF($D42>0,L42-$E42,0) -> -0.4 | AC42: =IF($D42>0,AB42+AC41,AB42) -> -0.8 | AE42: =IF($D42>0,M42-$E42,0) -> -6.2 | AF42: =IF($D42>0,AE42+AF41,AE42) -> -2.7 | AG42: =IF($D42>0,N42-$E42,0) -> -0.4 | AH42: =IF($D42>0,AG42+AH41,AG42) -> -2.4 | AJ42: =P42+U42+Z42+AE42 -> -26 | AK42: =IF($D42>0,AJ42+AK41,AJ42) -> 4.9 | AL42: =R42+W42+AB42+AG42 -> 1.2 | AM42: =IF($D42>0,AL42+AM41,AL42) -> 3 | AN42: =AJ42+AL42 -> -24.8 | AO42: =IF($D42>0,AN42+AO41,AN42) -> 7.9 | AQ42: =P42+R42 -> -5.2 | AR42: =IF($D42>0,AQ42+AR41,AQ42) -> 10.7 | AS42: =U42+W42 -> -6.1 | AT42: =IF($D42>0,AS42+AT41,AS42) -> -0.7 | AU42: =Z42+AB42 -> -6.9 | AV42: =IF($D42>0,AU42+AV41,AU42) -> 3 | AW42: =AE42+AG42 -> -6.6 | AX42: =IF($D42>0,AW42+AX41,AW42) -> -5.1 | AY42: =AQ42+AS42 -> -11.3 | AZ42: =IF($D42>0,AY42+AZ41,AY42) -> 10
D43: 18 | E43: =IF(D43>0,10,0) -> 10 | G43: 11.4 | H43: 15.8 | I43: 9.5 | J43: 12.2 | K43: 7.5 | L43: 11.1 | M43: 9 | N43: 9.4 | P43: =IF($D43>0,G43-$E43,0) -> 1.4 | Q43: =IF($D43>0,P43+Q42,P43) -> 7 | R43: =IF($D43>0,H43-$E43,0) -> 5.8 | S43: =IF($D43>0,R43+S42,R43) -> 10.9 | U43: =IF($D43>0,I43-$E43,0) -> -0.5 | V43: =IF($D43>0,U43+V42,U43) -> -2.3 | W43: =IF($D43>0,J43-$E43,0) -> 2.2 | X43: =IF($D43>0,W43+X42,W43) -> 3.3 | Z43: =IF($D43>0,K43-$E43,0) -> -2.5 | AA43: =IF($D43>0,Z43+AA42,Z43) -> 1.3 | AB43: =IF($D43>0,L43-$E43,0) -> 1.1 | AC43: =IF($D43>0,AB43+AC42,AB43) -> 0.3 | AE43: =IF($D43>0,M43-$E43,0) -> -1 | AF43: =IF($D43>0,AE43+AF42,AE43) -> -3.7 | AG43: =IF($D43>0,N43-$E43,0) -> -0.6 | AH43: =IF($D43>0,AG43+AH42,AG43) -> -3 | AJ43: =P43+U43+Z43+AE43 -> -2.6 | AK43: =IF($D43>0,AJ43+AK42,AJ43) -> 2.3 | AL43: =R43+W43+AB43+AG43 -> 8.5 | AM43: =IF($D43>0,AL43+AM42,AL43) -> 11.5 | AN43: =AJ43+AL43 -> 5.9 | AO43: =IF($D43>0,AN43+AO42,AN43) -> 13.8 | AQ43: =P43+R43 -> 7.2 | AR43: =IF($D43>0,AQ43+AR42,AQ43) -> 17.9 | AS43: =U43+W43 -> 1.7 | AT43: =IF($D43>0,AS43+AT42,AS43) -> 1 | AU43: =Z43+AB43 -> -1.4 | AV43: =IF($D43>0,AU43+AV42,AU43) -> 1.6 | AW43: =AE43+AG43 -> -1.6 | AX43: =IF($D43>0,AW43+AX42,AW43) -> -6.7 | AY43: =AQ43+AS43 -> 8.9 | AZ43: =IF($D43>0,AY43+AZ42,AY43) -> 18.9
D44: 15 | E44: =IF(D44>0,10,0) -> 10 | H44: 6.3 | J44: 6.2 | L44: 5.6 | N44: 6.1 | P44: =IF($D44>0,G44-$E44,0) -> -10 | Q44: =IF($D44>0,P44+Q43,P44) -> -3 | R44: =IF($D44>0,H44-$E44,0) -> -3.7 | S44: =IF($D44>0,R44+S43,R44) -> 7.2 | U44: =IF($D44>0,I44-$E44,0) -> -10 | V44: =IF($D44>0,U44+V43,U44) -> -12.3 | W44: =IF($D44>0,J44-$E44,0) -> -3.8 | X44: =IF($D44>0,W44+X43,W44) -> -0.5 | Z44: =IF($D44>0,K44-$E44,0) -> -10 | AA44: =IF($D44>0,Z44+AA43,Z44) -> -8.7 | AB44: =IF($D44>0,L44-$E44,0) -> -4.4 | AC44: =IF($D44>0,AB44+AC43,AB44) -> -4.1 | AE44: =IF($D44>0,M44-$E44,0) -> -10 | AF44: =IF($D44>0,AE44+AF43,AE44) -> -13.7 | AG44: =IF($D44>0,N44-$E44,0) -> -3.9 | AH44: =IF($D44>0,AG44+AH43,AG44) -> -6.9 | AJ44: =P44+U44+Z44+AE44 -> -40 | AK44: =IF($D44>0,AJ44+AK43,AJ44) -> -37.7 | AL44: =R44+W44+AB44+AG44 -> -15.8 | AM44: =IF($D44>0,AL44+AM43,AL44) -> -4.3 | AN44: =AJ44+AL44 -> -55.8 | AO44: =IF($D44>0,AN44+AO43,AN44) -> -42 | AQ44: =P44+R44 -> -13.7 | AR44: =IF($D44>0,AQ44+AR43,AQ44) -> 4.2 | AS44: =U44+W44 -> -13.8 | AT44: =IF($D44>0,AS44+AT43,AS44) -> -12.8 | AU44: =Z44+AB44 -> -14.4 | AV44: =IF($D44>0,AU44+AV43,AU44) -> -12.8 | AW44: =AE44+AG44 -> -13.9 | AX44: =IF($D44>0,AW44+AX43,AW44) -> -20.6 | AY44: =AQ44+AS44 -> -27.5 | AZ44: =IF($D44>0,AY44+AZ43,AY44) -> -8.6
E45: =IF(D45>0,10,0) -> 0 | P45: =IF($D45>0,G45-$E45,0) -> 0 | Q45: =IF($D45>0,P45+Q44,P45) -> 0 | R45: =IF($D45>0,H45-$E45,0) -> 0 | S45: =IF($D45>0,R45+S44,R45) -> 0 | U45: =IF($D45>0,I45-$E45,0) -> 0 | V45: =IF($D45>0,U45+V44,U45) -> 0 | W45: =IF($D45>0,J45-$E45,0) -> 0 | X45: =IF($D45>0,W45+X44,W45) -> 0 | Z45: =IF($D45>0,K45-$E45,0) -> 0 | AA45: =IF($D45>0,Z45+AA44,Z45) -> 0 | AB45: =IF($D45>0,L45-$E45,0) -> 0 | AC45: =IF($D45>0,AB45+AC44,AB45) -> 0 | AE45: =IF($D45>0,M45-$E45,0) -> 0 | AF45: =IF($D45>0,AE45+AF44,AE45) -> 0 | AG45: =IF($D45>0,N45-$E45,0) -> 0 | AH45: =IF($D45>0,AG45+AH44,AG45) -> 0 | AJ45: =P45+U45+Z45+AE45 -> 0 | AK45: =IF($D45>0,AJ45+AK44,AJ45) -> 0 | AL45: =R45+W45+AB45+AG45 -> 0 | AM45: =IF($D45>0,AL45+AM44,AL45) -> 0 | AN45: =AJ45+AL45 -> 0 | AO45: =IF($D45>0,AN45+AO44,AN45) -> 0 | AQ45: =P45+R45 -> 0 | AR45: =IF($D45>0,AQ45+AR44,AQ45) -> 0 | AS45: =U45+W45 -> 0 | AT45: =IF($D45>0,AS45+AT44,AS45) -> 0 | AU45: =Z45+AB45 -> 0 | AV45: =IF($D45>0,AU45+AV44,AU45) -> 0 | AW45: =AE45+AG45 -> 0 | AX45: =IF($D45>0,AW45+AX44,AW45) -> 0 | AY45: =AQ45+AS45 -> 0 | AZ45: =IF($D45>0,AY45+AZ44,AY45) -> 0
A46: Mer | B46: 40933 | C46: Pau | D46: 16 | E46: =IF(D46>0,10,0) -> 10 | G46: 9.3 | H46: 7.2 | I46: 5.9 | J46: 5.7 | K46: 7 | L46: 5.7 | M46: 5.6 | N46: 5.3 | P46: =IF($D46>0,G46-$E46,0) -> -0.7 | Q46: =IF($D46>0,P46+Q45,P46) -> -0.7 | R46: =IF($D46>0,H46-$E46,0) -> -2.8 | S46: =IF($D46>0,R46+S45,R46) -> -2.8 | U46: =IF($D46>0,I46-$E46,0) -> -4.1 | V46: =IF($D46>0,U46+V45,U46) -> -4.1 | W46: =IF($D46>0,J46-$E46,0) -> -4.3 | X46: =IF($D46>0,W46+X45,W46) -> -4.3 | Z46: =IF($D46>0,K46-$E46,0) -> -3 | AA46: =IF($D46>0,Z46+AA45,Z46) -> -3 | AB46: =IF($D46>0,L46-$E46,0) -> -4.3 | AC46: =IF($D46>0,AB46+AC45,AB46) -> -4.3 | AE46: =IF($D46>0,M46-$E46,0) -> -4.4 | AF46: =IF($D46>0,AE46+AF45,AE46) -> -4.4 | AG46: =IF($D46>0,N46-$E46,0) -> -4.7 | AH46: =IF($D46>0,AG46+AH45,AG46) -> -4.7 | AJ46: =P46+U46+Z46+AE46 -> -12.2 | AK46: =IF($D46>0,AJ46+AK45,AJ46) -> -12.2 | AL46: =R46+W46+AB46+AG46 -> -16.1 | AM46: =IF($D46>0,AL46+AM45,AL46) -> -16.1 | AN46: =AJ46+AL46 -> -28.3 | AO46: =IF($D46>0,AN46+AO45,AN46) -> -28.3 | AQ46: =P46+R46 -> -3.5 | AR46: =IF($D46>0,AQ46+AR45,AQ46) -> -3.5 | AS46: =U46+W46 -> -8.4 | AT46: =IF($D46>0,AS46+AT45,AS46) -> -8.4 | AU46: =Z46+AB46 -> -7.3 | AV46: =IF($D46>0,AU46+AV45,AU46) -> -7.3 | AW46: =AE46+AG46 -> -9.1 | AX46: =IF($D46>0,AW46+AX45,AW46) -> -9.1 | AY46: =AQ46+AS46 -> -11.9 | AZ46: =IF($D46>0,AY46+AZ45,AY46) -> -11.9
D47: 16 | E47: =IF(D47>0,10,0) -> 10 | G47: 14.6 | H47: 13.2 | I47: 17.5 | J47: 18.5 | K47: 21.3 | L47: 13.5 | M47: 16.7 | N47: 18.4 | P47: =IF($D47>0,G47-$E47,0) -> 4.6 | Q47: =IF($D47>0,P47+Q46,P47) -> 3.9 | R47: =IF($D47>0,H47-$E47,0) -> 3.2 | S47: =IF($D47>0,R47+S46,R47) -> 0.4 | U47: =IF($D47>0,I47-$E47,0) -> 7.5 | V47: =IF($D47>0,U47+V46,U47) -> 3.4 | W47: =IF($D47>0,J47-$E47,0) -> 8.5 | X47: =IF($D47>0,W47+X46,W47) -> 4.2 | Z47: =IF($D47>0,K47-$E47,0) -> 11.3 | AA47: =IF($D47>0,Z47+AA46,Z47) -> 8.3 | AB47: =IF($D47>0,L47-$E47,0) -> 3.5 | AC47: =IF($D47>0,AB47+AC46,AB47) -> -0.8 | AE47: =IF($D47>0,M47-$E47,0) -> 6.7 | AF47: =IF($D47>0,AE47+AF46,AE47) -> 2.3 | AG47: =IF($D47>0,N47-$E47,0) -> 8.4 | AH47: =IF($D47>0,AG47+AH46,AG47) -> 3.7 | AJ47: =P47+U47+Z47+AE47 -> 30.1 | AK47: =IF($D47>0,AJ47+AK46,AJ47) -> 17.9 | AL47: =R47+W47+AB47+AG47 -> 23.6 | AM47: =IF($D47>0,AL47+AM46,AL47) -> 7.5 | AN47: =AJ47+AL47 -> 53.7 | AO47: =IF($D47>0,AN47+AO46,AN47) -> 25.4 | AQ47: =P47+R47 -> 7.8 | AR47: =IF($D47>0,AQ47+AR46,AQ47) -> 4.3 | AS47: =U47+W47 -> 16 | AT47: =IF($D47>0,AS47+AT46,AS47) -> 7.6 | AU47: =Z47+AB47 -> 14.8 | AV47: =IF($D47>0,AU47+AV46,AU47) -> 7.5 | AW47: =AE47+AG47 -> 15.1 | AX47: =IF($D47>0,AW47+AX46,AW47) -> 6 | AY47: =AQ47+AS47 -> 23.8 | AZ47: =IF($D47>0,AY47+AZ46,AY47) -> 11.9
D48: 18 | E48: =IF(D48>0,10,0) -> 10 | G48: 15.2 | H48: 15.2 | I48: 13.6 | J48: 12.1 | K48: 9.3 | L48: 10.3 | M48: 14.9 | N48: 11.8 | P48: =IF($D48>0,G48-$E48,0) -> 5.2 | Q48: =IF($D48>0,P48+Q47,P48) -> 9.1 | R48: =IF($D48>0,H48-$E48,0) -> 5.2 | S48: =IF($D48>0,R48+S47,R48) -> 5.6 | U48: =IF($D48>0,I48-$E48,0) -> 3.6 | V48: =IF($D48>0,U48+V47,U48) -> 7 | W48: =IF($D48>0,J48-$E48,0) -> 2.1 | X48: =IF($D48>0,W48+X47,W48) -> 6.3 | Z48: =IF($D48>0,K48-$E48,0) -> -0.7 | AA48: =IF($D48>0,Z48+AA47,Z48) -> 7.6 | AB48: =IF($D48>0,L48-$E48,0) -> 0.3 | AC48: =IF($D48>0,AB48+AC47,AB48) -> -0.5 | AE48: =IF($D48>0,M48-$E48,0) -> 4.9 | AF48: =IF($D48>0,AE48+AF47,AE48) -> 7.2 | AG48: =IF($D48>0,N48-$E48,0) -> 1.8 | AH48: =IF($D48>0,AG48+AH47,AG48) -> 5.5 | AJ48: =P48+U48+Z48+AE48 -> 13 | AK48: =IF($D48>0,AJ48+AK47,AJ48) -> 30.9 | AL48: =R48+W48+AB48+AG48 -> 9.4 | AM48: =IF($D48>0,AL48+AM47,AL48) -> 16.9 | AN48: =AJ48+AL48 -> 22.4 | AO48: =IF($D48>0,AN48+AO47,AN48) -> 47.8 | AQ48: =P48+R48 -> 10.4 | AR48: =IF($D48>0,AQ48+AR47,AQ48) -> 14.7 | AS48: =U48+W48 -> 5.7 | AT48: =IF($D48>0,AS48+AT47,AS48) -> 13.3 | AU48: =Z48+AB48 -> -0.4 | AV48: =IF($D48>0,AU48+AV47,AU48) -> 7.1 | AW48: =AE48+AG48 -> 6.7 | AX48: =IF($D48>0,AW48+AX47,AW48) -> 12.7 | AY48: =AQ48+AS48 -> 16.1 | AZ48: =IF($D48>0,AY48+AZ47,AY48) -> 28
...

Sheet Bilan Jour JS
H3: O B S T A C L E Jeux simples
B6: Condition de jeu : partants > 12 | I6: Cote du favori : > 3/1 | N6: Choix des chevaux à jouer : 10 premiers du prono GENY + compléter éventuellement avec le prono ZETURF
A8: Date | F8: Bilan GENY | K8: Bilan ZETURF | P8: Bilan PMU | U8: Bilan LETURF | Z8: Bilan Total | AE8: Bilan Total Gagnant / Placé
F9: Gagn | H9: Plac | K9: Gagn | M9: Plac | P9: Gagn | R9: Plac | U9: Gagn | W9: Plac | Z9: Gagn GE+ZE+PMU+LET | AB9: Plac GE+ZE+PMU+LET | AE9: GENY Gagn / Plac | AG9: ZETURF Gagn / Plac | AI9: PMU Gagn / Plac | AK9: LETURF Gagn / Plac | AM9: TOTAL Gagn / Plac
A10: JANVIER | C10: Hip | D10: Crs
A11: 2012 | F11: Jour | G11: Bilan | H11: Jour | I11: Bilan | K11: Jour | L11: Bilan | M11: rap | N11: Bilan | P11: Jour | Q11: Bilan | R11: rap | S11: Bilan | U11: Jour | V11: Bilan | W11: rap | X11: Bilan | Z11: Jour | AA11: Bilan | AB11: rap | AC11: Bilan | AE11: Jour | AF11: Bilan | AG11: rap | AH11: Bilan | AI11: rap | AJ11: Bilan | AK11: rap | AL11: Bilan | AM11: rap | AN11: Bilan
A13: Dim | B13: 40544 | C13: 1 | D13: 2 | F13: 12 | G13: =IF($B13>0,F13+G12,0) -> 12 | H13: 4.3 | I13: =IF($B13>0,H13+I12,0) -> 4.3 | K13: 7.5 | L13: =IF($B13>0,K13+L12,0) -> 7.5 | M13: 4 | N13: =IF($B13>0,M13+N12,0) -> 4 | P13: 9.8 | Q13: =IF($B13>0,P13+Q12,0) -> 9.8 | R13: 8 | S13: =IF($B13>0,R13+S12,0) -> 8 | U13: 6.4 | V13: =IF($B13>0,U13+V12,0) -> 6.4 | W13: 18.2 | X13: =IF($B13>0,W13+X12,0) -> 18.2 | Z13: =F13+K13+P13+U13 -> 35.7 | AA13: =IF($B13>0,Z13+AA12,0) -> 35.7 | AB13: =H13+M13+R13+W13 -> 34.5 | AC13: =IF($B13>0,AB13+AC12,0) -> 34.5 | AE13: =F13+H13 -> 16.3 | AF13: =IF($B13>0,AE13+AF12,0) -> 16.3 | AG13: =M13+K13 -> 11.5 | AH13: =IF($B13>0,AG13+AH12,0) -> 11.5 | AI13: =P13+R13 -> 17.8 | AJ13: =IF($B13>0,AI13+AJ12,0) -> 17.8 | AK13: =U13+W13 -> 24.6 | AL13: =IF($B13>0,AK13+AL12,0) -> 24.6 | AM13: =AE13+AG13+AI13+AK13 -> 70.2 | AN13: =IF($B13>0,AM13+AN12,0) -> 70.2
A14: Lun | B14: 40545 | G14: =IF($B14>0,F14+G13,0) -> 12 | I14: =IF($B14>0,H14+I13,0) -> 4.3 | L14: =IF($B14>0,K14+L13,0) -> 7.5 | N14: =IF($B14>0,M14+N13,0) -> 4 | Q14: =IF($B14>0,P14+Q13,0) -> 9.8 | S14: =IF($B14>0,R14+S13,0) -> 8 | V14: =IF($B14>0,U14+V13,0) -> 6.4 | X14: =IF($B14>0,W14+X13,0) -> 18.2 | Z14: =F14+K14+P14+U14 -> 0 | AA14: =IF($B14>0,Z14+AA13,0) -> 35.7 | AB14: =H14+M14+R14+W14 -> 0 | AC14: =IF($B14>0,AB14+AC13,0) -> 34.5 | AE14: =F14+H14 -> 0 | AF14: =IF($B14>0,AE14+AF13,0) -> 16.3 | AG14: =M14+K14 -> 0 | AH14: =IF($B14>0,AG14+AH13,0) -> 11.5 | AI14: =P14+R14 -> 0 | AJ14: =IF($B14>0,AI14+AJ13,0) -> 17.8 | AK14: =U14+W14 -> 0 | AL14: =IF($B14>0,AK14+AL13,0) -> 24.6 | AM14: =AE14+AG14+AI14+AK14 -> 0 | AN14: =IF($B14>0,AM14+AN13,0) -> 70.2
A15: Mar | B15: 40546 | C15: 1 | D15: 2 | F15: -17 | G15: =IF($B15>0,F15+G14,0) -> -5 | H15: -1.8 | I15: =IF($B15>0,H15+I14,0) -> 2.5 | K15: -17 | L15: =IF($B15>0,K15+L14,0) -> -9.5 | M15: 5.5 | N15: =IF($B15>0,M15+N14,0) -> 9.5 | P15: -17 | Q15: =IF($B15>0,P15+Q14,0) -> -7.2 | R15: 3.7 | S15: =IF($B15>0,R15+S14,0) -> 11.7 | U15: -17.2 | V15: =IF($B15>0,U15+V14,0) -> -10.8 | W15: 1.4 | X15: =IF($B15>0,W15+X14,0) -> 19.6 | Z15: =F15+K15+P15+U15 -> -68.2 | AA15: =IF($B15>0,Z15+AA14,0) -> -32.5 | AB15: =H15+M15+R15+W15 -> 8.8 | AC15: =IF($B15>0,AB15+AC14,0) -> 43.3 | AE15: =F15+H15 -> -18.8 | AF15: =IF($B15>0,AE15+AF14,0) -> -2.5 | AG15: =M15+K15 -> -11.5 | AH15: =IF($B15>0,AG15+AH14,0) -> 0 | AI15: =P15+R15 -> -13.3 | AJ15: =IF($B15>0,AI15+AJ14,0) -> 4.5 | AK15: =U15+W15 -> -15.8 | AL15: =IF($B15>0,AK15+AL14,0) -> 8.8 | AM15: =AE15+AG15+AI15+AK15 -> -59.4 | AN15: =IF($B15>0,AM15+AN14,0) -> 10.8
A16: Mer | B16: 40547 | C16: 1 | D16: 3 | F16: -10.3 | G16: =IF($B16>0,F16+G15,0) -> -15.3 | H16: 0 | I16: =IF($B16>0,H16+I15,0) -> 2.5 | K16: -8.8 | L16: =IF($B16>0,K16+L15,0) -> -18.3 | M16: 7.7 | N16: =IF($B16>0,M16+N15,0) -> 17.2 | P16: -13.8 | Q16: =IF($B16>0,P16+Q15,0) -> -21 | R16: 9.3 | S16: =IF($B16>0,R16+S15,0) -> 21 | U16: -9.5 | V16: =IF($B16>0,U16+V15,0) -> -20.3 | W16: 7.6 | X16: =IF($B16>0,W16+X15,0) -> 27.2 | Z16: =F16+K16+P16+U16 -> -42.4 | AA16: =IF($B16>0,Z16+AA15,0) -> -74.9 | AB16: =H16+M16+R16+W16 -> 24.6 | AC16: =IF($B16>0,AB16+AC15,0) -> 67.9 | AE16: =F16+H16 -> -10.3 | AF16: =IF($B16>0,AE16+AF15,0) -> -12.8 | AG16: =M16+K16 -> -1.1 | AH16: =IF($B16>0,AG16+AH15,0) -> -1.1 | AI16: =P16+R16 -> -4.5 | AJ16: =IF($B16>0,AI16+AJ15,0) -> 0 | AK16: =U16+W16 -> -1.9 | AL16: =IF($B16>0,AK16+AL15,0) -> 6.9 | AM16: =AE16+AG16+AI16+AK16 -> -17.8 | AN16: =IF($B16>0,AM16+AN15,0) -> -7
A17: Jeu | B17: 40548 | C17: 1 | D17: 1 | F17: 0 | G17: =IF($B17>0,F17+G16,0) -> -15.3 | H17: 10.8 | I17: =IF($B17>0,H17+I16,0) -> 13.3 | K17: 1.2 | L17: =IF($B17>0,K17+L16,0) -> -17.1 | M17: 13 | N17: =IF($B17>0,M17+N16,0) -> 30.2 | P17: -0.2 | Q17: =IF($B17>0,P17+Q16,0) -> -21.2 | R17: 16.1 | S17: =IF($B17>0,R17+S16,0) -> 37.1 | U17: 0.7 | V17: =IF($B17>0,U17+V16,0) -> -19.6 | W17: 7.7 | X17: =IF($B17>0,W17+X16,0) -> 34.9 | Z17: =F17+K17+P17+U17 -> 1.7 | AA17: =IF($B17>0,Z17+AA16,0) -> -73.2 | AB17: =H17+M17+R17+W17 -> 47.6 | AC17: =IF($B17>0,AB17+AC16,0) -> 115.5 | AE17: =F17+H17 -> 10.8 | AF17: =IF($B17>0,AE17+AF16,0) -> -2 | AG17: =M17+K17 -> 14.2 | AH17: =IF($B17>0,AG17+AH16,0) -> 13.1 | AI17: =P17+R17 -> 15.9 | AJ17: =IF($B17>0,AI17+AJ16,0) -> 15.9 | AK17: =U17+W17 -> 8.4 | AL17: =IF($B17>0,AK17+AL16,0) -> 15.3 | AM17: =AE17+AG17+AI17+AK17 -> 49.3 | AN17: =IF($B17>0,AM17+AN16,0) -> 42.3
A18: Ven | B18: 40549 | G18: =IF($B18>0,F18+G17,0) -> -15.3 | I18: =IF($B18>0,H18+I17,0) -> 13.3 | L18: =IF($B18>0,K18+L17,0) -> -17.1 | N18: =IF($B18>0,M18+N17,0) -> 30.2 | Q18: =IF($B18>0,P18+Q17,0) -> -21.2 | S18: =IF($B18>0,R18+S17,0) -> 37.1 | V18: =IF($B18>0,U18+V17,0) -> -19.6 | X18: =IF($B18>0,W18+X17,0) -> 34.9 | Z18: =F18+K18+P18+U18 -> 0 | AA18: =IF($B18>0,Z18+AA17,0) -> -73.2 | AB18: =H18+M18+R18+W18 -> 0 | AC18: =IF($B18>0,AB18+AC17,0) -> 115.5 | AE18: =F18+H18 -> 0 | AF18: =IF($B18>0,AE18+AF17,0) -> -2 | AG18: =M18+K18 -> 0 | AH18: =IF($B18>0,AG18+AH17,0) -> 13.1 | AI18: =P18+R18 -> 0 | AJ18: =IF($B18>0,AI18+AJ17,0) -> 15.9 | AK18: =U18+W18 -> 0 | AL18: =IF($B18>0,AK18+AL17,0) -> 15.3 | AM18: =AE18+AG18+AI18+AK18 -> 0 | AN18: =IF($B18>0,AM18+AN17,0) -> 42.3
A19: Sam | B19: 40550 | G19: =IF($B19>0,F19+G18,0) -> -15.3 | I19: =IF($B19>0,H19+I18,0) -> 13.3 | L19: =IF($B19>0,K19+L18,0) -> -17.1 | N19: =IF($B19>0,M19+N18,0) -> 30.2 | Q19: =IF($B19>0,P19+Q18,0) -> -21.2 | S19: =IF($B19>0,R19+S18,0) -> 37.1 | V19: =IF($B19>0,U19+V18,0) -> -19.6 | X19: =IF($B19>0,W19+X18,0) -> 34.9 | Z19: =F19+K19+P19+U19 -> 0 | AA19: =IF($B19>0,Z19+AA18,0) -> -73.2 | AB19: =H19+M19+R19+W19 -> 0 | AC19: =IF($B19>0,AB19+AC18,0) -> 115.5 | AE19: =F19+H19 -> 0 | AF19: =IF($B19>0,AE19+AF18,0) -> -2 | AG19: =M19+K19 -> 0 | AH19: =IF($B19>0,AG19+AH18,0) -> 13.1 | AI19: =P19+R19 -> 0 | AJ19: =IF($B19>0,AI19+AJ18,0) -> 15.9 | AK19: =U19+W19 -> 0 | AL19: =IF($B19>0,AK19+AL18,0) -> 15.3 | AM19: =AE19+AG19+AI19+AK19 -> 0 | AN19: =IF($B19>0,AM19+AN18,0) -> 42.3
A20: Dim | B20: 40551 | C20: 1 | D20: 2 | F20: 0.4 | G20: =IF($B20>0,F20+G19,0) -> -14.9 | H20: -6.1 | I20: =IF($B20>0,H20+I19,0) -> 7.2 | K20: -1.8 | L20: =IF($B20>0,K20+L19,0) -> -18.9 | M20: -3.8 | N20: =IF($B20>0,M20+N19,0) -> 26.4 | P20: 0.3 | Q20: =IF($B20>0,P20+Q19,0) -> -20.9 | R20: -3.2 | S20: =IF($B20>0,R20+S19,0) -> 33.9 | U20: -2.5 | V20: =IF($B20>0,U20+V19,0) -> -22.1 | W20: -4.5 | X20: =IF($B20>0,W20+X19,0) -> 30.4 | Z20: =F20+K20+P20+U20 -> -3.6 | AA20: =IF($B20>0,Z20+AA19,0) -> -76.8 | AB20: =H20+M20+R20+W20 -> -17.6 | AC20: =IF($B20>0,AB20+AC19,0) -> 97.9 | AE20: =F20+H20 -> -5.7 | AF20: =IF($B20>0,AE20+AF19,0) -> -7.7 | AG20: =M20+K20 -> -5.6 | AH20: =IF($B20>0,AG20+AH19,0) -> 7.5 | AI20: =P20+R20 -> -2.9 | AJ20: =IF($B20>0,AI20+AJ19,0) -> 13 | AK20: =U20+W20 -> -7 | AL20: =IF($B20>0,AK20+AL19,0) -> 8.3 | AM20: =AE20+AG20+AI20+AK20 -> -21.2 | AN20: =IF($B20>0,AM20+AN19,0) -> 21.1
A21: Lun | B21: 40552 | C21: 1 | D21: 1 | F21: 21.5 | G21: =IF($B21>0,F21+G20,0) -> 6.6 | H21: 6 | I21: =IF($B21>0,H21+I20,0) -> 13.2 | K21: 20.5 | L21: =IF($B21>0,K21+L20,0) -> 1.6 | M21: 4 | N21: =IF($B21>0,M21+N20,0) -> 30.4 | P21: 7.4 | Q21: =IF($B21>0,P21+Q20,0) -> -13.5 | R21: 1 | S21: =IF($B21>0,R21+S20,0) -> 34.9 | U21: 19.4 | V21: =IF($B21>0,U21+V20,0) -> -2.7 | W21: 3.6 | X21: =IF($B21>0,W21+X20,0) -> 34 | Z21: =F21+K21+P21+U21 -> 68.8 | AA21: =IF($B21>0,Z21+AA20,0) -> -8 | AB21: =H21+M21+R21+W21 -> 14.6 | AC21: =IF($B21>0,AB21+AC20,0) -> 112.5 | AE21: =F21+H21 -> 27.5 | AF21: =IF($B21>0,AE21+AF20,0) -> 19.8 | AG21: =M21+K21 -> 24.5 | AH21: =IF($B21>0,AG21+AH20,0) -> 32 | AI21: =P21+R21 -> 8.4 | AJ21: =IF($B21>0,AI21+AJ20,0) -> 21.4 | AK21: =U21+W21 -> 23 | AL21: =IF($B21>0,AK21+AL20,0) -> 31.3 | AM21: =AE21+AG21+AI21+AK21 -> 83.4 | AN21: =IF($B21>0,AM21+AN20,0) -> 104.5
A22: Mar | B22: 40553 | G22: =IF($B22>0,F22+G21,0) -> 6.6 | I22: =IF($B22>0,H22+I21,0) -> 13.2 | L22: =IF($B22>0,K22+L21,0) -> 1.6 | N22: =IF($B22>0,M22+N21,0) -> 30.4 | Q22: =IF($B22>0,P22+Q21,0) -> -13.5 | S22: =IF($B22>0,R22+S21,0) -> 34.9 | V22: =IF($B22>0,U22+V21,0) -> -2.7 | X22: =IF($B22>0,W22+X21,0) -> 34 | Z22: =F22+K22+P22+U22 -> 0 | AA22: =IF($B22>0,Z22+AA21,0) -> -8 | AB22: =H22+M22+R22+W22 -> 0 | AC22: =IF($B22>0,AB22+AC21,0) -> 112.5 | AE22: =F22+H22 -> 0 | AF22: =IF($B22>0,AE22+AF21,0) -> 19.8 | AG22: =M22+K22 -> 0 | AH22: =IF($B22>0,AG22+AH21,0) -> 32 | AI22: =P22+R22 -> 0 | AJ22: =IF($B22>0,AI22+AJ21,0) -> 21.4 | AK22: =U22+W22 -> 0 | AL22: =IF($B22>0,AK22+AL21,0) -> 31.3 | AM22: =AE22+AG22+AI22+AK22 -> 0 | AN22: =IF($B22>0,AM22+AN21,0) -> 104.5
A23: Mer | B23: 40554 | G23: =IF($B23>0,F23+G22,0) -> 6.6 | I23: =IF($B23>0,H23+I22,0) -> 13.2 | L23: =IF($B23>0,K23+L22,0) -> 1.6 | N23: =IF($B23>0,M23+N22,0) -> 30.4 | Q23: =IF($B23>0,P23+Q22,0) -> -13.5 | S23: =IF($B23>0,R23+S22,0) -> 34.9 | V23: =IF($B23>0,U23+V22,0) -> -2.7 | X23: =IF($B23>0,W23+X22,0) -> 34 | Z23: =F23+K23+P23+U23 -> 0 | AA23: =IF($B23>0,Z23+AA22,0) -> -8 | AB23: =H23+M23+R23+W23 -> 0 | AC23: =IF($B23>0,AB23+AC22,0) -> 112.5 | AE23: =F23+H23 -> 0 | AF23: =IF($B23>0,AE23+AF22,0) -> 19.8 | AG23: =M23+K23 -> 0 | AH23: =IF($B23>0,AG23+AH22,0) -> 32 | AI23: =P23+R23 -> 0 | AJ23: =IF($B23>0,AI23+AJ22,0) -> 21.4 | AK23: =U23+W23 -> 0 | AL23: =IF($B23>0,AK23+AL22,0) -> 31.3 | AM23: =AE23+AG23+AI23+AK23 -> 0 | AN23: =IF($B23>0,AM23+AN22,0) -> 104.5
A24: Jeu | B24: 40555 | C24: 1 | D24: 4 | F24: -10.7 | G24: =IF($B24>0,F24+G23,0) -> -4.1 | H24: 9.6 | I24: =IF($B24>0,H24+I23,0) -> 22.8 | K24: -13.9 | L24: =IF($B24>0,K24+L23,0) -> -12.3 | M24: 8.8 | N24: =IF($B24>0,M24+N23,0) -> 39.2 | P24: -9 | Q24: =IF($B24>0,P24+Q23,0) -> -22.5 | R24: 7.6 | S24: =IF($B24>0,R24+S23,0) -> 42.5 | U24: -14.8 | V24: =IF($B24>0,U24+V23,0) -> -17.5 | W24: 7.5 | X24: =IF($B24>0,W24+X23,0) -> 41.5 | Z24: =F24+K24+P24+U24 -> -48.4 | AA24: =IF($B24>0,Z24+AA23,0) -> -56.4 | AB24: =H24+M24+R24+W24 -> 33.5 | AC24: =IF($B24>0,AB24+AC23,0) -> 146 | AE24: =F24+H24 -> -1.1 | AF24: =IF($B24>0,AE24+AF23,0) -> 18.7 | AG24: =M24+K24 -> -5.1 | AH24: =IF($B24>0,AG24+AH23,0) -> 26.9 | AI24: =P24+R24 -> -1.4 | AJ24: =IF($B24>0,AI24+AJ23,0) -> 20 | AK24: =U24+W24 -> -7.3 | AL24: =IF($B24>0,AK24+AL23,0) -> 24 | AM24: =AE24+AG24+AI24+AK24 -> -14.9 | AN24: =IF($B24>0,AM24+AN23,0) -> 89.6
A25: Ven | B25: 40556 | C25: 1 | D25: 1 | F25: -5.3 | G25: =IF($B25>0,F25+G24,0) -> -9.4 | H25: -3.6 | I25: =IF($B25>0,H25+I24,0) -> 19.2 | K25: -6.3 | L25: =IF($B25>0,K25+L24,0) -> -18.6 | M25: -3.1 | N25: =IF($B25>0,M25+N24,0) -> 36.1 | P25: -5.8 | Q25: =IF($B25>0,P25+Q24,0) -> -28.3 | R25: -3.7 | S25: =IF($B25>0,R25+S24,0) -> 38.8 | U25: -6.5 | V25: =IF($B25>0,U25+V24,0) -> -24 | W25: -3 | X25: =IF($B25>0,W25+X24,0) -> 38.5 | Z25: =F25+K25+P25+U25 -> -23.9 | AA25: =IF($B25>0,Z25+AA24,0) -> -80.3 | AB25: =H25+M25+R25+W25 -> -13.4 | AC25: =IF($B25>0,AB25+AC24,0) -> 132.6 | AE25: =F25+H25 -> -8.9 | AF25: =IF($B25>0,AE25+AF24,0) -> 9.8 | AG25: =M25+K25 -> -9.4 | AH25: =IF($B25>0,AG25+AH24,0) -> 17.5 | AI25: =P25+R25 -> -9.5 | AJ25: =IF($B25>0,AI25+AJ24,0) -> 10.5 | AK25: =U25+W25 -> -9.5 | AL25: =IF($B25>0,AK25+AL24,0) -> 14.5 | AM25: =AE25+AG25+AI25+AK25 -> -37.3 | AN25: =IF($B25>0,AM25+AN24,0) -> 52.3
A26: Sam | B26: 40557 | G26: =IF($B26>0,F26+G25,0) -> -9.4 | I26: =IF($B26>0,H26+I25,0) -> 19.2 | L26: =IF($B26>0,K26+L25,0) -> -18.6 | N26: =IF($B26>0,M26+N25,0) -> 36.1 | Q26: =IF($B26>0,P26+Q25,0) -> -28.3 | S26: =IF($B26>0,R26+S25,0) -> 38.8 | V26: =IF($B26>0,U26+V25,0) -> -24 | X26: =IF($B26>0,W26+X25,0) -> 38.5 | Z26: =F26+K26+P26+U26 -> 0 | AA26: =IF($B26>0,Z26+AA25,0) -> -80.3 | AB26: =H26+M26+R26+W26 -> 0 | AC26: =IF($B26>0,AB26+AC25,0) -> 132.6 | AE26: =F26+H26 -> 0 | AF26: =IF($B26>0,AE26+AF25,0) -> 9.8 | AG26: =M26+K26 -> 0 | AH26: =IF($B26>0,AG26+AH25,0) -> 17.5 | AI26: =P26+R26 -> 0 | AJ26: =IF($B26>0,AI26+AJ25,0) -> 10.5 | AK26: =U26+W26 -> 0 | AL26: =IF($B26>0,AK26+AL25,0) -> 14.5 | AM26: =AE26+AG26+AI26+AK26 -> 0 | AN26: =IF($B26>0,AM26+AN25,0) -> 52.3
