Workbook
Name JoursFériés: paramétres!$I$3:$I$15
Name ListeMois: [1]Paramétres!$K$3:$K$28

Sheet paramétres
I1: 2024
A2: TC | B2: 0.33333333 | C2: 0.67708333 | I2: Date | J2: Désignation | K2: Mois
A3: CU | B3: 0.33333333 | C3: 0.5625 | D3: 0.70833333 | E3: 0.79166667 | I3: =DATE($I$1,1,1) -> 45292 | J3: Jour de l'an | K3: janvier
A4: T | B4: 0.375 | C4: 0.5625 | D4: 0.70833333 | E4: 0.83333333 | I4: =FLOOR(DAY(MINUTE($I$1/38)/2+56)&"/5/"&$I$1,7)-34 -> 45382 | J4: Pâques (cellule D7) | K4: mars
A5: CD | B5: 0.33333333 | C5: 0.5625 | I5: 45383 | J5: Lundi de Pâques | K5: avril
A6: TD | B6: 0.33333333 | C6: 0.5625 | G6: 2024 | I6: =DATE($I$1,5,1) -> 45413 | J6: Fête du travail | K6: mai
A7: M | B7: 0.25 | C7: 0.5625 | I7: =DATE($I$1,5,8) -> 45420 | J7: Victoire 1945 | K7: mai
A8: for | D8: 0.58333333 | E8: 0.66666667 | I8: 45421 | J8: Ascension | K8: mai
A9: T+F | B9: 0.375 | C9: 0.5625 | D9: 0.5625 | E9: 0.83333333 | I9: =I6 + 49 -> 45462 | J9: Pentecôte | K9: juin
A10: TE | D10: 0.75 | E10: 0.83333333 | F10: TRAVAIL EXCEPTIONNEL | I10: 45463 | J10: Lundi de Pentecôte | K10: juin
A11: TE2 | B11: 0.41666667 | C11: 0.5625 | D11: 0.70833333 | E11: 0.83333333 | I11: 45487 | J11: Fête Nationale | K11: juillet
A12: RET | B12: 0.41666667 | C12: 0.5625 | D12: 0.70833333 | E12: 0.83333333 | F12: retard mairie | I12: 45519 | J12: Assomption | K12: août
A13: JCCU | B13: 0.33333333 | C13: 0.66666667 | I13: 45597 | J13: Toussaint | K13: novembre
A14: CU+ | B14: 0.33333333 | C14: 0.5625 | D14: 0.70833333 | E14: 0.83333333 | I14: 45607 | J14: Armistice 1918 | K14: novembre
A15: T19 | B15: 0.375 | C15: 0.5625 | D15: 0.70833333 | E15: 0.79166667 | I15: 45651 | J15: Noël | K15: décembre
A16: S | D16: 0.625 | E16: 0.83333333
A17: PJ | D17: 0.58333333 | E17: 0.70833333
A18: t.d | B18: 0.33333333 | C18: 0.5625
A19: TN | B19: 0.375 | C19: 0.5625
A20: RPT SYL | B20: 0.4375 | C20: 0.5625
A21: CU WE | B21: 0.33333333 | C21: 0.5625
A22: REU | D22: 0.58333333 | E22: 0.625
A23: R+ | B23: 0.25 | C23: 0.5625 | D23: 0.70833333 | E23: 0.79166667
A24: R | B24: 0.25 | C24: 0.5625
A25: T, | B25: 0.33333333 | C25: 0.5625 | D25: 0.70833333 | E25: 0.83333333

Sheet janvier
A1: MOIS | L1: A masquer | M1: A masquer | N1: temps en numerique décimal
A2: 45292 | C2: code | D2: matin | F2: après midi | H2: Total heures | I2: dont heures nuit | K2: Montant brut | L2: Est
D3: emb | E3: deb | F3: emb | G3: deb | L3: férié
A4: LUNDI | B4: =A2 -> 45292 | C4: M | D4: =IFERROR(VLOOKUP($C4,paramétres!$A$2:$E$25,COLUMN()-2,FALSE),"") -> 0.25 | E4: 0.58333333 | F4: =IFERROR(VLOOKUP($C4,paramétres!$A$2:$E$25,COLUMN()-2,FALSE),"") -> 0 | G4: =IFERROR(VLOOKUP($C4,paramétres!$A$2:$E$25,COLUMN()-2,FALSE),"") -> 0 | H4: =IFERROR((E4-D4)+(G4-F4),"") -> 0.33333333 | J4: =IF(H4=0,"repos","") | K4: =IF(H4="","",H4*11.72*24) -> 93.76 | L4: =IFERROR(MATCH(B4,JoursFériés,0),0) -> 1 | N4: =IFERROR(VALUE((E4-D4)+(G4-F4))*24,"") -> 8
A5: MARDI | B5: =B4+1 -> 45293 | C5: T | D5: =IFERROR(VLOOKUP($C5,paramétres!$A$2:$E$25,COLUMN()-2,FALSE),"") -> 0.375 | E5: =IFERROR(VLOOKUP($C5,paramétres!$A$2:$E$25,COLUMN()-2,FALSE),"") -> 0.5625 | F5: =IFERROR(VLOOKUP($C5,paramétres!$A$2:$E$25,COLUMN()-2,FALSE),"") -> 0.70833333 | G5: =IFERROR(VLOOKUP($C5,paramétres!$A$2:$E$25,COLUMN()-2,FALSE),"") -> 0.83333333 | H5: =IFERROR((E5-D5)+(G5-F5),"") -> 0.3125 | J5: =IF(H5=0,"repos","") | K5: =IF(H5="","",H5*11.72*24) -> 87.9 | L5: =IFERROR(MATCH(B5,JoursFériés,0),0) -> 0 | N5: =IFERROR(VALUE((E5-D5)+(G5-F5))*24,"") -> 7.5
A6: MERCREDI | B6: =B5+1 -> 45294 | D6: =IFERROR(VLOOKUP($C6,paramétres!$A$2:$E$25,COLUMN()-2,FALSE),"") | E6: =IFERROR(VLOOKUP($C6,paramétres!$A$2:$E$25,COLUMN()-2,FALSE),"") | F6: =IFERROR(VLOOKUP($C6,paramétres!$A$2:$E$25,COLUMN()-2,FALSE),"") | G6: =IFERROR(VLOOKUP($C6,paramétres!$A$2:$E$25,COLUMN()-2,FALSE),"") | H6: =IFERROR((E6-D6)+(G6-F6),"") | J6: =IF(H6=0,"repos","") | K6: =IF(H6="","",H6*11.72*24) | L6: =IFERROR(MATCH(B6,JoursFériés,0),0) -> 0 | N6: =IFERROR(VALUE((E6-D6)+(G6-F6))*24,"")
A7: JEUDI | B7: =B6+1 -> 45295 | D7: =IFERROR(VLOOKUP($C7,paramétres!$A$2:$E$25,COLUMN()-2,FALSE),"") | E7: =IFERROR(VLOOKUP($C7,paramétres!$A$2:$E$25,COLUMN()-2,FALSE),"") | F7: =IFERROR(VLOOKUP($C7,paramétres!$A$2:$E$25,COLUMN()-2,FALSE),"") | G7: =IFERROR(VLOOKUP($C7,paramétres!$A$2:$E$25,COLUMN()-2,FALSE),"") | H7: =IFERROR((E7-D7)+(G7-F7),"") | J7: =IF(H7=0,"repos","") | K7: =IF(H7="","",H7*11.72*24) | L7: =IFERROR(MATCH(B7,JoursFériés,0),0) -> 0 | N7: =IFERROR(VALUE((E7-D7)+(G7-F7))*24,"")
A8: VENDREDI | B8: =B7+1 -> 45296 | C8: CU | D8: =IFERROR(VLOOKUP($C8,paramétres!$A$2:$E$25,COLUMN()-2,FALSE),"") -> 0.33333333 | E8: =IFERROR(VLOOKUP($C8,paramétres!$A$2:$E$25,COLUMN()-2,FALSE),"") -> 0.5625 | F8: =IFERROR(VLOOKUP($C8,paramétres!$A$2:$E$25,COLUMN()-2,FALSE),"") -> 0.70833333 | G8: =IFERROR(VLOOKUP($C8,paramétres!$A$2:$E$25,COLUMN()-2,FALSE),"") -> 0.79166667 | H8: =IFERROR((E8-D8)+(G8-F8),"") -> 0.3125 | J8: =IF(H8=0,"repos","") | K8: =IF(H8="","",H8*11.72*24) -> 87.9 | L8: =IFERROR(MATCH(B8,JoursFériés,0),0) -> 0 | N8: =IFERROR(VALUE((E8-D8)+(G8-F8))*24,"") -> 7.5
A9: SAMEDI | B9: =B8+1 -> 45297 | C9: R | D9: =IFERROR(VLOOKUP($C9,paramétres!$A$2:$E$25,COLUMN()-2,FALSE),"") -> 0.25 | E9: =IFERROR(VLOOKUP($C9,paramétres!$A$2:$E$25,COLUMN()-2,FALSE),"") -> 0.5625 | F9: =IFERROR(VLOOKUP($C9,paramétres!$A$2:$E$25,COLUMN()-2,FALSE),"") -> 0 | G9: =IFERROR(VLOOKUP($C9,paramétres!$A$2:$E$25,COLUMN()-2,FALSE),"") -> 0 | H9: =IFERROR((E9-D9)+(G9-F9),"") -> 0.3125 | J9: =IF(H9=0,"repos","") | K9: =IF(H9="","",H9*11.72*24) -> 87.9 | L9: =IFERROR(MATCH(B9,JoursFériés,0),0) -> 0 | N9: =IFERROR(VALUE((E9-D9)+(G9-F9))*24,"") -> 7.5
A10: DIMANCHE | B10: =B9+1 -> 45298 | C10: R | D10: =IFERROR(VLOOKUP($C10,paramétres!$A$2:$E$25,COLUMN()-2,FALSE),"") -> 0.25 | E10: =IFERROR(VLOOKUP($C10,paramétres!$A$2:$E$25,COLUMN()-2,FALSE),"") -> 0.5625 | F10: =IFERROR(VLOOKUP($C10,paramétres!$A$2:$E$25,COLUMN()-2,FALSE),"") -> 0 | G10: =IFERROR(VLOOKUP($C10,paramétres!$A$2:$E$25,COLUMN()-2,FALSE),"") -> 0 | H10: =IFERROR((E10-D10)+(G10-F10),"") -> 0.3125 | J10: =IF(H10=0,"repos","") | K10: =IF(H10="","",H10*11.72*24) -> 87.9 | L10: =IFERROR(MATCH(B10,JoursFériés,0),0) -> 0 | N10: =IFERROR(VALUE((E10-D10)+(G10-F10))*24,"") -> 7.5
A11: LUNDI | B11: =B10+1 -> 45299 | C11: T | D11: =IFERROR(VLOOKUP($C11,paramétres!$A$2:$E$25,COLUMN()-2,FALSE),"") -> 0.375 | E11: =IFERROR(VLOOKUP($C11,paramétres!$A$2:$E$25,COLUMN()-2,FALSE),"") -> 0.5625 | F11: =IFERROR(VLOOKUP($C11,paramétres!$A$2:$E$25,COLUMN()-2,FALSE),"") -> 0.70833333 | G11: =IFERROR(VLOOKUP($C11,paramétres!$A$2:$E$25,COLUMN()-2,FALSE),"") -> 0.83333333 | H11: =IFERROR((E11-D11)+(G11-F11),"") -> 0.3125 | J11: =IF(H11=0,"repos","") | K11: =IF(H11="","",H11*11.72*24) -> 87.9 | L11: =IFERROR(MATCH(B11,JoursFériés,0),0) -> 0 | N11: =IFERROR(VALUE((E11-D11)+(G11-F11))*24,"") -> 7.5
A12: MARDI | B12: =B11+1 -> 45300 | C12: S | D12: =IFERROR(VLOOKUP($C12,paramétres!$A$2:$E$25,COLUMN()-2,FALSE),"") -> 0 | E12: =IFERROR(VLOOKUP($C12,paramétres!$A$2:$E$25,COLUMN()-2,FALSE),"") -> 0 | F12: =IFERROR(VLOOKUP($C12,paramétres!$A$2:$E$25,COLUMN()-2,FALSE),"") -> 0.625 | G12: =IFERROR(VLOOKUP($C12,paramétres!$A$2:$E$25,COLUMN()-2,FALSE),"") -> 0.83333333 | H12: =IFERROR((E12-D12)+(G12-F12),"") -> 0.20833333 | J12: =IF(H12=0,"repos","") | K12: =IF(H12="","",H12*11.72*24) -> 58.6 | L12: =IFERROR(MATCH(B12,JoursFériés,0),0) -> 0 | N12: =IFERROR(VALUE((E12-D12)+(G12-F12))*24,"") -> 5
A13: MERCREDI | B13: =B12+1 -> 45301 | D13: =IFERROR(VLOOKUP($C13,paramétres!$A$2:$E$25,COLUMN()-2,FALSE),"") | E13: =IFERROR(VLOOKUP($C13,paramétres!$A$2:$E$25,COLUMN()-2,FALSE),"") | F13: =IFERROR(VLOOKUP($C13,paramétres!$A$2:$E$25,COLUMN()-2,FALSE),"") | G13: =IFERROR(VLOOKUP($C13,paramétres!$A$2:$E$25,COLUMN()-2,FALSE),"") | H13: =IFERROR((E13-D13)+(G13-F13),"") | J13: =IF(H13=0,"repos","") | K13: =IF(H13="","",H13*11.72*24) | L13: =IFERROR(MATCH(B13,JoursFériés,0),0) -> 0 | N13: =IFERROR(VALUE((E13-D13)+(G13-F13))*24,"")
A14: JEUDI | B14: =B13+1 -> 45302 | C14: CU | D14: =IFERROR(VLOOKUP($C14,paramétres!$A$2:$E$25,COLUMN()-2,FALSE),"") -> 0.33333333 | E14: =IFERROR(VLOOKUP($C14,paramétres!$A$2:$E$25,COLUMN()-2,FALSE),"") -> 0.5625 | F14: =IFERROR(VLOOKUP($C14,paramétres!$A$2:$E$25,COLUMN()-2,FALSE),"") -> 0.70833333 | G14: =IFERROR(VLOOKUP($C14,paramétres!$A$2:$E$25,COLUMN()-2,FALSE),"") -> 0.79166667 | H14: =IFERROR((E14-D14)+(G14-F14),"") -> 0.3125 | J14: =IF(H14=0,"repos","") | K14: =IF(H14="","",H14*11.72*24) -> 87.9 | L14: =IFERROR(MATCH(B14,JoursFériés,0),0) -> 0 | N14: =IFERROR(VALUE((E14-D14)+(G14-F14))*24,"") -> 7.5
A15: VENDREDI | B15: =B14+1 -> 45303 | C15: T | D15: =IFERROR(VLOOKUP($C15,paramétres!$A$2:$E$25,COLUMN()-2,FALSE),"") -> 0.375 | E15: =IFERROR(VLOOKUP($C15,paramétres!$A$2:$E$25,COLUMN()-2,FALSE),"") -> 0.5625 | F15: =IFERROR(VLOOKUP($C15,paramétres!$A$2:$E$25,COLUMN()-2,FALSE),"") -> 0.70833333 | G15: =IFERROR(VLOOKUP($C15,paramétres!$A$2:$E$25,COLUMN()-2,FALSE),"") -> 0.83333333 | H15: =IFERROR((E15-D15)+(G15-F15),"") -> 0.3125 | J15: =IF(H15=0,"repos","") | K15: =IF(H15="","",H15*11.72*24) -> 87.9 | L15: =IFERROR(MATCH(B15,JoursFériés,0),0) -> 0 | N15: =IFERROR(VALUE((E15-D15)+(G15-F15))*24,"") -> 7.5
A16: SAMEDI | B16: =B15+1 -> 45304 | C16: R | D16: =IFERROR(VLOOKUP($C16,paramétres!$A$2:$E$25,COLUMN()-2,FALSE),"") -> 0.25 | E16: =IFERROR(VLOOKUP($C16,paramétres!$A$2:$E$25,COLUMN()-2,FALSE),"") -> 0.5625 | F16: =IFERROR(VLOOKUP($C16,paramétres!$A$2:$E$25,COLUMN()-2,FALSE),"") -> 0 | G16: =IFERROR(VLOOKUP($C16,paramétres!$A$2:$E$25,COLUMN()-2,FALSE),"") -> 0 | H16: =IFERROR((E16-D16)+(G16-F16),"") -> 0.3125 | J16: =IF(H16=0,"repos","") | K16: =IF(H16="","",H16*11.72*24) -> 87.9 | L16: =IFERROR(MATCH(B16,JoursFériés,0),0) -> 0 | N16: =IFERROR(VALUE((E16-D16)+(G16-F16))*24,"") -> 7.5
A17: DIMANCHE | B17: =B16+1 -> 45305 | C17: R | D17: =IFERROR(VLOOKUP($C17,paramétres!$A$2:$E$25,COLUMN()-2,FALSE),"") -> 0.25 | E17: =IFERROR(VLOOKUP($C17,paramétres!$A$2:$E$25,COLUMN()-2,FALSE),"") -> 0.5625 | F17: =IFERROR(VLOOKUP($C17,paramétres!$A$2:$E$25,COLUMN()-2,FALSE),"") -> 0 | G17: =IFERROR(VLOOKUP($C17,paramétres!$A$2:$E$25,COLUMN()-2,FALSE),"") -> 0 | H17: =IFERROR((E17-D17)+(G17-F17),"") -> 0.3125 | J17: =IF(H17=0,"repos","") | K17: =IF(H17="","",H17*11.72*24) -> 87.9 | L17: =IFERROR(MATCH(B17,JoursFériés,0),0) -> 0 | N17: =IFERROR(VALUE((E17-D17)+(G17-F17))*24,"") -> 7.5
A18: LUNDI | B18: =B17+1 -> 45306 | D18: =IFERROR(VLOOKUP($C18,paramétres!$A$2:$E$25,COLUMN()-2,FALSE),"") | E18: =IFERROR(VLOOKUP($C18,paramétres!$A$2:$E$25,COLUMN()-2,FALSE),"") | F18: =IFERROR(VLOOKUP($C18,paramétres!$A$2:$E$25,COLUMN()-2,FALSE),"") | G18: =IFERROR(VLOOKUP($C18,paramétres!$A$2:$E$25,COLUMN()-2,FALSE),"") | H18: =IFERROR((E18-D18)+(G18-F18),"") | J18: =IF(H18=0,"repos","") | K18: =IF(H18="","",H18*11.72*24) | L18: =IFERROR(MATCH(B18,JoursFériés,0),0) -> 0 | N18: =IFERROR(VALUE((E18-D18)+(G18-F18))*24,"")
A19: MARDI | B19: =B18+1 -> 45307 | C19: S | D19: =IFERROR(VLOOKUP($C19,paramétres!$A$2:$E$25,COLUMN()-2,FALSE),"") -> 0 | E19: =IFERROR(VLOOKUP($C19,paramétres!$A$2:$E$25,COLUMN()-2,FALSE),"") -> 0 | F19: =IFERROR(VLOOKUP($C19,paramétres!$A$2:$E$25,COLUMN()-2,FALSE),"") -> 0.625 | G19: =IFERROR(VLOOKUP($C19,paramétres!$A$2:$E$25,COLUMN()-2,FALSE),"") -> 0.83333333 | H19: =IFERROR((E19-D19)+(G19-F19),"") -> 0.20833333 | J19: =IF(H19=0,"repos","") | K19: =IF(H19="","",H19*11.72*24) -> 58.6 | L19: =IFERROR(MATCH(B19,JoursFériés,0),0) -> 0 | N19: =IFERROR(VALUE((E19-D19)+(G19-F19))*24,"") -> 5
A20: MERCREDI | B20: =B19+1 -> 45308 | D20: =IFERROR(VLOOKUP($C20,paramétres!$A$2:$E$25,COLUMN()-2,FALSE),"") | E20: =IFERROR(VLOOKUP($C20,paramétres!$A$2:$E$25,COLUMN()-2,FALSE),"") | F20: =IFERROR(VLOOKUP($C20,paramétres!$A$2:$E$25,COLUMN()-2,FALSE),"") | G20: =IFERROR(VLOOKUP($C20,paramétres!$A$2:$E$25,COLUMN()-2,FALSE),"") | H20: =IFERROR((E20-D20)+(G20-F20),"") | J20: =IF(H20=0,"repos","") | K20: =IF(H20="","",H20*11.72*24) | L20: =IFERROR(MATCH(B20,JoursFériés,0),0) -> 0 | N20: =IFERROR(VALUE((E20-D20)+(G20-F20))*24,"")
A21: JEUDI | B21: =B20+1 -> 45309 | D21: =IFERROR(VLOOKUP($C21,paramétres!$A$2:$E$25,COLUMN()-2,FALSE),"") | E21: =IFERROR(VLOOKUP($C21,paramétres!$A$2:$E$25,COLUMN()-2,FALSE),"") | F21: =IFERROR(VLOOKUP($C21,paramétres!$A$2:$E$25,COLUMN()-2,FALSE),"") | G21: =IFERROR(VLOOKUP($C21,paramétres!$A$2:$E$25,COLUMN()-2,FALSE),"") | H21: =IFERROR((E21-D21)+(G21-F21),"") | J21: =IF(H21=0,"repos","") | K21: =IF(H21="","",H21*11.72*24) | L21: =IFERROR(MATCH(B21,JoursFériés,0),0) -> 0 | N21: =IFERROR(VALUE((E21-D21)+(G21-F21))*24,"")
A22: VENDREDI | B22: =B21+1 -> 45310 | C22: CU | D22: =IFERROR(VLOOKUP($C22,paramétres!$A$2:$E$25,COLUMN()-2,FALSE),"") -> 0.33333333 | E22: =IFERROR(VLOOKUP($C22,paramétres!$A$2:$E$25,COLUMN()-2,FALSE),"") -> 0.5625 | F22: =IFERROR(VLOOKUP($C22,paramétres!$A$2:$E$25,COLUMN()-2,FALSE),"") -> 0.70833333 | G22: =IFERROR(VLOOKUP($C22,paramétres!$A$2:$E$25,COLUMN()-2,FALSE),"") -> 0.79166667 | H22: =IFERROR((E22-D22)+(G22-F22),"") -> 0.3125 | J22: =IF(H22=0,"repos","") | K22: =IF(H22="","",H22*11.72*24) -> 87.9 | L22: =IFERROR(MATCH(B22,JoursFériés,0),0) -> 0 | N22: =IFERROR(VALUE((E22-D22)+(G22-F22))*24,"") -> 7.5
A23: SAMEDI | B23: =B22+1 -> 45311 | C23: R | D23: =IFERROR(VLOOKUP($C23,paramétres!$A$2:$E$25,COLUMN()-2,FALSE),"") -> 0.25 | E23: =IFERROR(VLOOKUP($C23,paramétres!$A$2:$E$25,COLUMN()-2,FALSE),"") -> 0.5625 | F23: =IFERROR(VLOOKUP($C23,paramétres!$A$2:$E$25,COLUMN()-2,FALSE),"") -> 0 | G23: =IFERROR(VLOOKUP($C23,paramétres!$A$2:$E$25,COLUMN()-2,FALSE),"") -> 0 | H23: =IFERROR((E23-D23)+(G23-F23),"") -> 0.3125 | J23: =IF(H23=0,"repos","") | K23: =IF(H23="","",H23*11.72*24) -> 87.9 | L23: =IFERROR(MATCH(B23,JoursFériés,0),0) -> 0 | N23: =IFERROR(VALUE((E23-D23)+(G23-F23))*24,"") -> 7.5
A24: DIMANCHE | B24: =B23+1 -> 45312 | C24: R | D24: =IFERROR(VLOOKUP($C24,paramétres!$A$2:$E$25,COLUMN()-2,FALSE),"") -> 0.25 | E24: =IFERROR(VLOOKUP($C24,paramétres!$A$2:$E$25,COLUMN()-2,FALSE),"") -> 0.5625 | F24: =IFERROR(VLOOKUP($C24,paramétres!$A$2:$E$25,COLUMN()-2,FALSE),"") -> 0 | G24: =IFERROR(VLOOKUP($C24,paramétres!$A$2:$E$25,COLUMN()-2,FALSE),"") -> 0 | H24: =IFERROR((E24-D24)+(G24-F24),"") -> 0.3125 | J24: =IF(H24=0,"repos","") | K24: =IF(H24="","",H24*11.72*24) -> 87.9 | L24: =IFERROR(MATCH(B24,JoursFériés,0),0) -> 0 | N24: =IFERROR(VALUE((E24-D24)+(G24-F24))*24,"") -> 7.5
A25: LUNDI | B25: =B24+1 -> 45313 | C25: S | D25: =IFERROR(VLOOKUP($C25,paramétres!$A$2:$E$25,COLUMN()-2,FALSE),"") -> 0 | E25: =IFERROR(VLOOKUP($C25,paramétres!$A$2:$E$25,COLUMN()-2,FALSE),"") -> 0 | F25: =IFERROR(VLOOKUP($C25,paramétres!$A$2:$E$25,COLUMN()-2,FALSE),"") -> 0.625 | G25: =IFERROR(VLOOKUP($C25,paramétres!$A$2:$E$25,COLUMN()-2,FALSE),"") -> 0.83333333 | H25: =IFERROR((E25-D25)+(G25-F25),"") -> 0.20833333 | J25: =IF(H25=0,"repos","") | K25: =IF(H25="","",H25*11.72*24) -> 58.6 | L25: =IFERROR(MATCH(B25,JoursFériés,0),0) -> 0 | N25: =IFERROR(VALUE((E25-D25)+(G25-F25))*24,"") -> 5
A26: MARDI | B26: =B25+1 -> 45314 | D26: =IFERROR(VLOOKUP($C26,paramétres!$A$2:$E$25,COLUMN()-2,FALSE),"") | E26: =IFERROR(VLOOKUP($C26,paramétres!$A$2:$E$25,COLUMN()-2,FALSE),"") | F26: =IFERROR(VLOOKUP($C26,paramétres!$A$2:$E$25,COLUMN()-2,FALSE),"") | G26: =IFERROR(VLOOKUP($C26,paramétres!$A$2:$E$25,COLUMN()-2,FALSE),"") | H26: =IFERROR((E26-D26)+(G26-F26),"") | J26: =IF(H26=0,"repos","") | K26: =IF(H26="","",H26*11.72*24) | L26: =IFERROR(MATCH(B26,JoursFériés,0),0) -> 0 | N26: =IFERROR(VALUE((E26-D26)+(G26-F26))*24,"")
A27: MERCREDI | B27: =B26+1 -> 45315 | D27: =IFERROR(VLOOKUP($C27,paramétres!$A$2:$E$25,COLUMN()-2,FALSE),"") | E27: =IFERROR(VLOOKUP($C27,paramétres!$A$2:$E$25,COLUMN()-2,FALSE),"") | F27: =IFERROR(VLOOKUP($C27,paramétres!$A$2:$E$25,COLUMN()-2,FALSE),"") | G27: =IFERROR(VLOOKUP($C27,paramétres!$A$2:$E$25,COLUMN()-2,FALSE),"") | H27: =IFERROR((E27-D27)+(G27-F27),"") | J27: =IF(H27=0,"repos","") | K27: =IF(H27="","",H27*11.72*24) | L27: =IFERROR(MATCH(B27,JoursFériés,0),0) -> 0 | N27: =IFERROR(VALUE((E27-D27)+(G27-F27))*24,"")
A28: JEUDI | B28: =B27+1 -> 45316 | C28: S | D28: =IFERROR(VLOOKUP($C28,paramétres!$A$2:$E$25,COLUMN()-2,FALSE),"") -> 0 | E28: =IFERROR(VLOOKUP($C28,paramétres!$A$2:$E$25,COLUMN()-2,FALSE),"") -> 0 | F28: =IFERROR(VLOOKUP($C28,paramétres!$A$2:$E$25,COLUMN()-2,FALSE),"") -> 0.625 | G28: =IFERROR(VLOOKUP($C28,paramétres!$A$2:$E$25,COLUMN()-2,FALSE),"") -> 0.83333333 | H28: =IFERROR((E28-D28)+(G28-F28),"") -> 0.20833333 | J28: =IF(H28=0,"repos","") | K28: =IF(H28="","",H28*11.72*24) -> 58.6 | L28: =IFERROR(MATCH(B28,JoursFériés,0),0) -> 0 | N28: =IFERROR(VALUE((E28-D28)+(G28-F28))*24,"") -> 5
A29: VENDREDI | B29: =B28+1 -> 45317 | C29: CU | D29: =IFERROR(VLOOKUP($C29,paramétres!$A$2:$E$25,COLUMN()-2,FALSE),"") -> 0.33333333 | E29: =IFERROR(VLOOKUP($C29,paramétres!$A$2:$E$25,COLUMN()-2,FALSE),"") -> 0.5625 | F29: =IFERROR(VLOOKUP($C29,paramétres!$A$2:$E$25,COLUMN()-2,FALSE),"") -> 0.70833333 | G29: =IFERROR(VLOOKUP($C29,paramétres!$A$2:$E$25,COLUMN()-2,FALSE),"") -> 0.79166667 | H29: =IFERROR((E29-D29)+(G29-F29),"") -> 0.3125 | J29: =IF(H29=0,"repos","") | K29: =IF(H29="","",H29*11.72*24) -> 87.9 | L29: =IFERROR(MATCH(B29,JoursFériés,0),0) -> 0 | N29: =IFERROR(VALUE((E29-D29)+(G29-F29))*24,"") -> 7.5
A30: SAMEDI | B30: =B29+1 -> 45318 | C30: R | D30: =IFERROR(VLOOKUP($C30,paramétres!$A$2:$E$25,COLUMN()-2,FALSE),"") -> 0.25 | E30: =IFERROR(VLOOKUP($C30,paramétres!$A$2:$E$25,COLUMN()-2,FALSE),"") -> 0.5625 | F30: =IFERROR(VLOOKUP($C30,paramétres!$A$2:$E$25,COLUMN()-2,FALSE),"") -> 0 | G30: =IFERROR(VLOOKUP($C30,paramétres!$A$2:$E$25,COLUMN()-2,FALSE),"") -> 0 | H30: =IFERROR((E30-D30)+(G30-F30),"") -> 0.3125 | J30: =IF(H30=0,"repos","") | K30: =IF(H30="","",H30*11.72*24) -> 87.9 | L30: =IFERROR(MATCH(B30,JoursFériés,0),0) -> 0 | N30: =IFERROR(VALUE((E30-D30)+(G30-F30))*24,"") -> 7.5
A31: DIMANCHE | B31: =B30+1 -> 45319 | C31: R | D31: =IFERROR(VLOOKUP($C31,paramétres!$A$2:$E$25,COLUMN()-2,FALSE),"") -> 0.25 | E31: =IFERROR(VLOOKUP($C31,paramétres!$A$2:$E$25,COLUMN()-2,FALSE),"") -> 0.5625 | F31: =IFERROR(VLOOKUP($C31,paramétres!$A$2:$E$25,COLUMN()-2,FALSE),"") -> 0 | G31: =IFERROR(VLOOKUP($C31,paramétres!$A$2:$E$25,COLUMN()-2,FALSE),"") -> 0 | H31: =IFERROR((E31-D31)+(G31-F31),"") -> 0.3125 | J31: =IF(H31=0,"repos","") | K31: =IF(H31="","",H31*11.72*24) -> 87.9 | L31: =IFERROR(MATCH(B31,JoursFériés,0),0) -> 0 | N31: =IFERROR(VALUE((E31-D31)+(G31-F31))*24,"") -> 7.5
A32: LUNDI | B32: =B31+1 -> 45320 | D32: =IFERROR(VLOOKUP($C32,paramétres!$A$2:$E$25,COLUMN()-2,FALSE),"") | E32: =IFERROR(VLOOKUP($C32,paramétres!$A$2:$E$25,COLUMN()-2,FALSE),"") | F32: =IFERROR(VLOOKUP($C32,paramétres!$A$2:$E$25,COLUMN()-2,FALSE),"") | G32: =IFERROR(VLOOKUP($C32,paramétres!$A$2:$E$25,COLUMN()-2,FALSE),"") | H32: =IFERROR((E32-D32)+(G32-F32),"") | J32: =IF(H32=0,"repos","") | K32: =IF(H32="","",H32*11.72*24) | L32: =IFERROR(MATCH(B32,JoursFériés,0),0) -> 0 | N32: =IFERROR(VALUE((E32-D32)+(G32-F32))*24,"")
A33: MARDI | B33: =B32+1 -> 45321 | D33: =IFERROR(VLOOKUP($C33,paramétres!$A$2:$E$25,COLUMN()-2,FALSE),"") | E33: =IFERROR(VLOOKUP($C33,paramétres!$A$2:$E$25,COLUMN()-2,FALSE),"") | F33: =IFERROR(VLOOKUP($C33,paramétres!$A$2:$E$25,COLUMN()-2,FALSE),"") | G33: =IFERROR(VLOOKUP($C33,paramétres!$A$2:$E$25,COLUMN()-2,FALSE),"") | H33: =IFERROR((E33-D33)+(G33-F33),"") | J33: =IF(H33=0,"repos","") | K33: =IF(H33="","",H33*11.72*24) | L33: =IFERROR(MATCH(B33,JoursFériés,0),0) -> 0 | N33: =IFERROR(VALUE((E33-D33)+(G33-F33))*24,"")
A34: MERCREDI | B34: =B33+1 -> 45322 | D34: =IFERROR(VLOOKUP($C34,paramétres!$A$2:$E$25,COLUMN()-2,FALSE),"") | E34: =IFERROR(VLOOKUP($C34,paramétres!$A$2:$E$25,COLUMN()-2,FALSE),"") | F34: =IFERROR(VLOOKUP($C34,paramétres!$A$2:$E$25,COLUMN()-2,FALSE),"") | G34: =IFERROR(VLOOKUP($C34,paramétres!$A$2:$E$25,COLUMN()-2,FALSE),"") | H34: =IFERROR((E34-D34)+(G34-F34),"") | J34: =IF(H34=0,"repos","") | K34: =IF(H34="","",H34*11.72*24) | L34: =IFERROR(MATCH(B34,JoursFériés,0),0) -> 0 | N34: =IFERROR(VALUE((E34-D34)+(G34-F34))*24,"")
A35: Total heures | H35: =SUM(H4:H34) -> 5.8541667 | N35: =IF(H35<>"",VALUE(H35)*24,0) -> 140.5
A36: dont heures dimanche | H36: =SUMIF(A4:A34,"DIMANCHE",H4:H34) -> 1.25 | N36: =SUMIF(A4:A34,"DIMANCHE",H4:H34)*24 -> 30
A37: dont heures jours fériés | H37: =SUMIF(L4:L34,1,H4:H34) -> 0.33333333 | N37: =SUMIF(L4:L34,">" &0,H4:H34)*24 -> 8
A38: dont heures de nuit | H38: =SUM(I4:I34) -> 0
A39: REPORT DÉCEMBRE HEURES SEMAINE NON PAYÉES
A40: REPORT DÉCEMBRE HEURES DIMANCHE NON PAYÉES
...

Sheet février
A1: MOIS | L1: A masquer | M1: A masquer | N1: temps en numerique décimal
A2: 45323 | C2: code | D2: matin | F2: après midi | H2: Total heures | I2: dont heures nuit | K2: Montant brut | L2: Est
D3: emb | E3: deb | F3: emb | G3: deb | L3: férié
A4: LUNDI | B4: =A2 -> 45323 | H4: =IFERROR((E4-D4)+(G4-F4),"") -> 0 | J4: =IF(H4=0,"repos","") -> repos | K4: =IF(H4="","",H4*11.72*24) -> 0 | L4: =IFERROR(MATCH(B4,JoursFériés,0),0) -> 0 | N4: =IFERROR(VALUE((E4-D4)+(G4-F4))*24,"") -> 0
A5: MARDI | B5: =B4+1 -> 45324 | H5: =IFERROR((E5-D5)+(G5-F5),"") -> 0 | J5: =IF(H5=0,"repos","") -> repos | K5: =IF(H5="","",H5*11.72*24) -> 0 | L5: =IFERROR(MATCH(B5,JoursFériés,0),0) -> 0 | N5: =IFERROR(VALUE((E5-D5)+(G5-F5))*24,"") -> 0
A6: MERCREDI | B6: =B5+1 -> 45325 | H6: =IFERROR((E6-D6)+(G6-F6),"") -> 0 | J6: =IF(H6=0,"repos","") -> repos | K6: =IF(H6="","",H6*11.72*24) -> 0 | L6: =IFERROR(MATCH(B6,JoursFériés,0),0) -> 0 | N6: =IFERROR(VALUE((E6-D6)+(G6-F6))*24,"") -> 0
A7: JEUDI | B7: =B6+1 -> 45326 | H7: =IFERROR((E7-D7)+(G7-F7),"") -> 0 | J7: =IF(H7=0,"repos","") -> repos | K7: =IF(H7="","",H7*11.72*24) -> 0 | L7: =IFERROR(MATCH(B7,JoursFériés,0),0) -> 0 | N7: =IFERROR(VALUE((E7-D7)+(G7-F7))*24,"") -> 0
A8: VENDREDI | B8: =B7+1 -> 45327 | H8: =IFERROR((E8-D8)+(G8-F8),"") -> 0 | J8: =IF(H8=0,"repos","") -> repos | K8: =IF(H8="","",H8*11.72*24) -> 0 | L8: =IFERROR(MATCH(B8,JoursFériés,0),0) -> 0 | N8: =IFERROR(VALUE((E8-D8)+(G8-F8))*24,"") -> 0
A9: SAMEDI | B9: =B8+1 -> 45328 | H9: =IFERROR((E9-D9)+(G9-F9),"") -> 0 | J9: =IF(H9=0,"repos","") -> repos | K9: =IF(H9="","",H9*11.72*24) -> 0 | L9: =IFERROR(MATCH(B9,JoursFériés,0),0) -> 0 | N9: =IFERROR(VALUE((E9-D9)+(G9-F9))*24,"") -> 0
A10: DIMANCHE | B10: =B9+1 -> 45329 | H10: =IFERROR((E10-D10)+(G10-F10),"") -> 0 | J10: =IF(H10=0,"repos","") -> repos | K10: =IF(H10="","",H10*11.72*24) -> 0 | L10: =IFERROR(MATCH(B10,JoursFériés,0),0) -> 0 | N10: =IFERROR(VALUE((E10-D10)+(G10-F10))*24,"") -> 0
A11: LUNDI | B11: =B10+1 -> 45330 | H11: =IFERROR((E11-D11)+(G11-F11),"") -> 0 | J11: =IF(H11=0,"repos","") -> repos | K11: =IF(H11="","",H11*11.72*24) -> 0 | L11: =IFERROR(MATCH(B11,JoursFériés,0),0) -> 0 | N11: =IFERROR(VALUE((E11-D11)+(G11-F11))*24,"") -> 0
A12: MARDI | B12: =B11+1 -> 45331 | H12: =IFERROR((E12-D12)+(G12-F12),"") -> 0 | J12: =IF(H12=0,"repos","") -> repos | K12: =IF(H12="","",H12*11.72*24) -> 0 | L12: =IFERROR(MATCH(B12,JoursFériés,0),0) -> 0 | N12: =IFERROR(VALUE((E12-D12)+(G12-F12))*24,"") -> 0
A13: MERCREDI | B13: =B12+1 -> 45332 | H13: =IFERROR((E13-D13)+(G13-F13),"") -> 0 | J13: =IF(H13=0,"repos","") -> repos | K13: =IF(H13="","",H13*11.72*24) -> 0 | L13: =IFERROR(MATCH(B13,JoursFériés,0),0) -> 0 | N13: =IFERROR(VALUE((E13-D13)+(G13-F13))*24,"") -> 0
A14: JEUDI | B14: =B13+1 -> 45333 | H14: =IFERROR((E14-D14)+(G14-F14),"") -> 0 | J14: =IF(H14=0,"repos","") -> repos | K14: =IF(H14="","",H14*11.72*24) -> 0 | L14: =IFERROR(MATCH(B14,JoursFériés,0),0) -> 0 | N14: =IFERROR(VALUE((E14-D14)+(G14-F14))*24,"") -> 0
A15: VENDREDI | B15: =B14+1 -> 45334 | H15: =IFERROR((E15-D15)+(G15-F15),"") -> 0 | J15: =IF(H15=0,"repos","") -> repos | K15: =IF(H15="","",H15*11.72*24) -> 0 | L15: =IFERROR(MATCH(B15,JoursFériés,0),0) -> 0 | N15: =IFERROR(VALUE((E15-D15)+(G15-F15))*24,"") -> 0
A16: SAMEDI | B16: =B15+1 -> 45335 | H16: =IFERROR((E16-D16)+(G16-F16),"") -> 0 | J16: =IF(H16=0,"repos","") -> repos | K16: =IF(H16="","",H16*11.72*24) -> 0 | L16: =IFERROR(MATCH(B16,JoursFériés,0),0) -> 0 | N16: =IFERROR(VALUE((E16-D16)+(G16-F16))*24,"") -> 0
... A34: MERCREDI | B34: =B33+1 -> 45353 | H34: =IFERROR((E34-D34)+(G34-F34),"") -> 0 | J34: =IF(H34=0,"repos","") -> repos | K34: =IF(H34="","",H34*11.72*24) -> 0 | L34: =IFERROR(MATCH(B34,JoursFériés,0),0) -> 0 | N34: =IFERROR(VALUE((E34-D34)+(G34-F34))*24,"") -> 0
A35: Total heures | H35: =SUM(H4:H34) -> 0 | N35: =IF(H35<>"",VALUE(H35)*24,0) -> 0
A36: dont heures dimanche | H36: =SUMIF(A4:A34,"DIMANCHE",H4:H34) -> 0 | N36: =SUMIF(A4:A34,"DIMANCHE",H4:H34)*24 -> 0
A37: dont heures jours fériés | H37: =SUMIF(L4:L34,1,H4:H34) -> 0 | N37: =SUMIF(L4:L34,">" &0,H4:H34)*24 -> 0
A38: dont heures de nuit | H38: =SUM(I4:I34) -> 0
A39: REPORT DÉCEMBRE HEURES SEMAINE NON PAYÉES
A40: REPORT DÉCEMBRE HEURES DIMANCHE NON PAYÉES
A41: TOTAL DES HEURES du MOIS M et M-1 | H41: =H35+H39 -> 0 | N41: =N35+N39/24 -> 0
A42: Solde des heures dues | H42: =H41-H35+H39 -> 0 | I42: =I41-I35+I39 -> 0 | J42: =J41-J35+J39 -> 0 | K42: =K41-K35+K39 -> 0 | L42: =L41-L35+L39 -> 0 | M42: =M41-M35+M39 -> 0 | N42: =N41-N35+N39 -> 0

Sheet mars
A1: MOIS | L1: A masquer | M1: A masquer | N1: temps en numerique décimal
A2: 45352 | C2: code | D2: matin | F2: après midi | H2: Total heures | I2: dont heures nuit | K2: Montant brut | L2: Est
D3: emb | E3: deb | F3: emb | G3: deb | L3: férié
A4: LUNDI | B4: =A2 -> 45352 | H4: =IFERROR((E4-D4)+(G4-F4),"") -> 0 | J4: =IF(H4=0,"repos","") -> repos | K4: =IF(H4="","",H4*11.72*24) -> 0 | L4: =IFERROR(MATCH(B4,JoursFériés,0),0) -> 0 | N4: =IFERROR(VALUE((E4-D4)+(G4-F4))*24,"") -> 0
A5: MARDI | B5: =B4+1 -> 45353 | H5: =IFERROR((E5-D5)+(G5-F5),"") -> 0 | J5: =IF(H5=0,"repos","") -> repos | K5: =IF(H5="","",H5*11.72*24) -> 0 | L5: =IFERROR(MATCH(B5,JoursFériés,0),0) -> 0 | N5: =IFERROR(VALUE((E5-D5)+(G5-F5))*24,"") -> 0
A6: MERCREDI | B6: =B5+1 -> 45354 | H6: =IFERROR((E6-D6)+(G6-F6),"") -> 0 | J6: =IF(H6=0,"repos","") -> repos | K6: =IF(H6="","",H6*11.72*24) -> 0 | L6: =IFERROR(MATCH(B6,JoursFériés,0),0) -> 0 | N6: =IFERROR(VALUE((E6-D6)+(G6-F6))*24,"") -> 0
A7: JEUDI | B7: =B6+1 -> 45355 | H7: =IFERROR((E7-D7)+(G7-F7),"") -> 0 | J7: =IF(H7=0,"repos","") -> repos | K7: =IF(H7="","",H7*11.72*24) -> 0 | L7: =IFERROR(MATCH(B7,JoursFériés,0),0) -> 0 | N7: =IFERROR(VALUE((E7-D7)+(G7-F7))*24,"") -> 0
A8: VENDREDI | B8: =B7+1 -> 45356 | H8: =IFERROR((E8-D8)+(G8-F8),"") -> 0 | J8: =IF(H8=0,"repos","") -> repos | K8: =IF(H8="","",H8*11.72*24) -> 0 | L8: =IFERROR(MATCH(B8,JoursFériés,0),0) -> 0 | N8: =IFERROR(VALUE((E8-D8)+(G8-F8))*24,"") -> 0
A9: SAMEDI | B9: =B8+1 -> 45357 | H9: =IFERROR((E9-D9)+(G9-F9),"") -> 0 | J9: =IF(H9=0,"repos","") -> repos | K9: =IF(H9="","",H9*11.72*24) -> 0 | L9: =IFERROR(MATCH(B9,JoursFériés,0),0) -> 0 | N9: =IFERROR(VALUE((E9-D9)+(G9-F9))*24,"") -> 0
A10: DIMANCHE | B10: =B9+1 -> 45358 | H10: =IFERROR((E10-D10)+(G10-F10),"") -> 0 | J10: =IF(H10=0,"repos","") -> repos | K10: =IF(H10="","",H10*11.72*24) -> 0 | L10: =IFERROR(MATCH(B10,JoursFériés,0),0) -> 0 | N10: =IFERROR(VALUE((E10-D10)+(G10-F10))*24,"") -> 0
A11: LUNDI | B11: =B10+1 -> 45359 | H11: =IFERROR((E11-D11)+(G11-F11),"") -> 0 | J11: =IF(H11=0,"repos","") -> repos | K11: =IF(H11="","",H11*11.72*24) -> 0 | L11: =IFERROR(MATCH(B11,JoursFériés,0),0) -> 0 | N11: =IFERROR(VALUE((E11-D11)+(G11-F11))*24,"") -> 0
A12: MARDI | B12: =B11+1 -> 45360 | H12: =IFERROR((E12-D12)+(G12-F12),"") -> 0 | J12: =IF(H12=0,"repos","") -> repos | K12: =IF(H12="","",H12*11.72*24) -> 0 | L12: =IFERROR(MATCH(B12,JoursFériés,0),0) -> 0 | N12: =IFERROR(VALUE((E12-D12)+(G12-F12))*24,"") -> 0
A13: MERCREDI | B13: =B12+1 -> 45361 | H13: =IFERROR((E13-D13)+(G13-F13),"") -> 0 | J13: =IF(H13=0,"repos","") -> repos | K13: =IF(H13="","",H13*11.72*24) -> 0 | L13: =IFERROR(MATCH(B13,JoursFériés,0),0) -> 0 | N13: =IFERROR(VALUE((E13-D13)+(G13-F13))*24,"") -> 0
A14: JEUDI | B14: =B13+1 -> 45362 | H14: =IFERROR((E14-D14)+(G14-F14),"") -> 0 | J14: =IF(H14=0,"repos","") -> repos | K14: =IF(H14="","",H14*11.72*24) -> 0 | L14: =IFERROR(MATCH(B14,JoursFériés,0),0) -> 0 | N14: =IFERROR(VALUE((E14-D14)+(G14-F14))*24,"") -> 0
A15: VENDREDI | B15: =B14+1 -> 45363 | H15: =IFERROR((E15-D15)+(G15-F15),"") -> 0 | J15: =IF(H15=0,"repos","") -> repos | K15: =IF(H15="","",H15*11.72*24) -> 0 | L15: =IFERROR(MATCH(B15,JoursFériés,0),0) -> 0 | N15: =IFERROR(VALUE((E15-D15)+(G15-F15))*24,"") -> 0
A16: SAMEDI | B16: =B15+1 -> 45364 | H16: =IFERROR((E16-D16)+(G16-F16),"") -> 0 | J16: =IF(H16=0,"repos","") -> repos | K16: =IF(H16="","",H16*11.72*24) -> 0 | L16: =IFERROR(MATCH(B16,JoursFériés,0),0) -> 0 | N16: =IFERROR(VALUE((E16-D16)+(G16-F16))*24,"") -> 0
... A34: MERCREDI | B34: =B33+1 -> 45382 | H34: =IFERROR((E34-D34)+(G34-F34),"") -> 0 | J34: =IF(H34=0,"repos","") -> repos | K34: =IF(H34="","",H34*11.72*24) -> 0 | L34: =IFERROR(MATCH(B34,JoursFériés,0),0) -> 2 | N34: =IFERROR(VALUE((E34-D34)+(G34-F34))*24,"") -> 0
A35: Total heures | H35: =SUM(H4:H34) -> 0 | N35: =IF(H35<>"",VALUE(H35)*24,0) -> 0
A36: dont heures dimanche | H36: =SUMIF(A4:A34,"DIMANCHE",H4:H34) -> 0 | N36: =SUMIF(A4:A34,"DIMANCHE",H4:H34)*24 -> 0
A37: dont heures jours fériés | H37: =SUMIF(L4:L34,1,H4:H34) -> 0 | N37: =SUMIF(L4:L34,">" &0,H4:H34)*24 -> 0
A38: dont heures de nuit | H38: =SUM(I4:I34) -> 0
A39: REPORT DÉCEMBRE HEURES SEMAINE NON PAYÉES
A40: REPORT DÉCEMBRE HEURES DIMANCHE NON PAYÉES
A41: TOTAL DES HEURES du MOIS M et M-1 | H41: =H35+H39 -> 0 | N41: =N35+N39/24 -> 0
A42: Solde des heures dues | H42: =H41-H35+H39 -> 0 | I42: =I41-I35+I39 -> 0 | J42: =J41-J35+J39 -> 0 | K42: =K41-K35+K39 -> 0 | L42: =L41-L35+L39 -> 0 | M42: =M41-M35+M39 -> 0 | N42: =N41-N35+N39 -> 0

Sheet avril
A1: MOIS | L1: A masquer | M1: A masquer | N1: temps en numerique décimal
A2: 45017 | C2: code | D2: matin | F2: après midi | H2: Total heures | I2: dont heures nuit | K2: Montant brut | L2: Est
D3: emb | E3: deb | F3: emb | G3: deb | L3: férié
A4: LUNDI | B4: =A2 -> 45017 | H4: =IFERROR((E4-D4)+(G4-F4),"") -> 0 | J4: =IF(H4=0,"repos","") -> repos | K4: =IF(H4="","",H4*11.72*24) -> 0 | L4: =IFERROR(MATCH(B4,JoursFériés,0),0) -> 0 | N4: =IFERROR(VALUE((E4-D4)+(G4-F4))*24,"") -> 0
A5: MARDI | B5: =B4+1 -> 45018 | H5: =IFERROR((E5-D5)+(G5-F5),"") -> 0 | J5: =IF(H5=0,"repos","") -> repos | K5: =IF(H5="","",H5*11.72*24) -> 0 | L5: =IFERROR(MATCH(B5,JoursFériés,0),0) -> 0 | N5: =IFERROR(VALUE((E5-D5)+(G5-F5))*24,"") -> 0
A6: MERCREDI | B6: =B5+1 -> 45019 | H6: =IFERROR((E6-D6)+(G6-F6),"") -> 0 | J6: =IF(H6=0,"repos","") -> repos | K6: =IF(H6="","",H6*11.72*24) -> 0 | L6: =IFERROR(MATCH(B6,JoursFériés,0),0) -> 0 | N6: =IFERROR(VALUE((E6-D6)+(G6-F6))*24,"") -> 0
A7: JEUDI | B7: =B6+1 -> 45020 | H7: =IFERROR((E7-D7)+(G7-F7),"") -> 0 | J7: =IF(H7=0,"repos","") -> repos | K7: =IF(H7="","",H7*11.72*24) -> 0 | L7: =IFERROR(MATCH(B7,JoursFériés,0),0) -> 0 | N7: =IFERROR(VALUE((E7-D7)+(G7-F7))*24,"") -> 0
A8: VENDREDI | B8: =B7+1 -> 45021 | H8: =IFERROR((E8-D8)+(G8-F8),"") -> 0 | J8: =IF(H8=0,"repos","") -> repos | K8: =IF(H8="","",H8*11.72*24) -> 0 | L8: =IFERROR(MATCH(B8,JoursFériés,0),0) -> 0 | N8: =IFERROR(VALUE((E8-D8)+(G8-F8))*24,"") -> 0
A9: SAMEDI | B9: =B8+1 -> 45022 | H9: =IFERROR((E9-D9)+(G9-F9),"") -> 0 | J9: =IF(H9=0,"repos","") -> repos | K9: =IF(H9="","",H9*11.72*24) -> 0 | L9: =IFERROR(MATCH(B9,JoursFériés,0),0) -> 0 | N9: =IFERROR(VALUE((E9-D9)+(G9-F9))*24,"") -> 0
A10: DIMANCHE | B10: =B9+1 -> 45023 | H10: =IFERROR((E10-D10)+(G10-F10),"") -> 0 | J10: =IF(H10=0,"repos","") -> repos | K10: =IF(H10="","",H10*11.72*24) -> 0 | L10: =IFERROR(MATCH(B10,JoursFériés,0),0) -> 0 | N10: =IFERROR(VALUE((E10-D10)+(G10-F10))*24,"") -> 0
A11: LUNDI | B11: =B10+1 -> 45024 | H11: =IFERROR((E11-D11)+(G11-F11),"") -> 0 | J11: =IF(H11=0,"repos","") -> repos | K11: =IF(H11="","",H11*11.72*24) -> 0 | L11: =IFERROR(MATCH(B11,JoursFériés,0),0) -> 0 | N11: =IFERROR(VALUE((E11-D11)+(G11-F11))*24,"") -> 0
A12: MARDI | B12: =B11+1 -> 45025 | H12: =IFERROR((E12-D12)+(G12-F12),"") -> 0 | J12: =IF(H12=0,"repos","") -> repos | K12: =IF(H12="","",H12*11.72*24) -> 0 | L12: =IFERROR(MATCH(B12,JoursFériés,0),0) -> 0 | N12: =IFERROR(VALUE((E12-D12)+(G12-F12))*24,"") -> 0
A13: MERCREDI | B13: =B12+1 -> 45026 | H13: =IFERROR((E13-D13)+(G13-F13),"") -> 0 | J13: =IF(H13=0,"repos","") -> repos | K13: =IF(H13="","",H13*11.72*24) -> 0 | L13: =IFERROR(MATCH(B13,JoursFériés,0),0) -> 0 | N13: =IFERROR(VALUE((E13-D13)+(G13-F13))*24,"") -> 0
A14: JEUDI | B14: =B13+1 -> 45027 | H14: =IFERROR((E14-D14)+(G14-F14),"") -> 0 | J14: =IF(H14=0,"repos","") -> repos | K14: =IF(H14="","",H14*11.72*24) -> 0 | L14: =IFERROR(MATCH(B14,JoursFériés,0),0) -> 0 | N14: =IFERROR(VALUE((E14-D14)+(G14-F14))*24,"") -> 0
A15: VENDREDI | B15: =B14+1 -> 45028 | H15: =IFERROR((E15-D15)+(G15-F15),"") -> 0 | J15: =IF(H15=0,"repos","") -> repos | K15: =IF(H15="","",H15*11.72*24) -> 0 | L15: =IFERROR(MATCH(B15,JoursFériés,0),0) -> 0 | N15: =IFERROR(VALUE((E15-D15)+(G15-F15))*24,"") -> 0
A16: SAMEDI | B16: =B15+1 -> 45029 | H16: =IFERROR((E16-D16)+(G16-F16),"") -> 0 | J16: =IF(H16=0,"repos","") -> repos | K16: =IF(H16="","",H16*11.72*24) -> 0 | L16: =IFERROR(MATCH(B16,JoursFériés,0),0) -> 0 | N16: =IFERROR(VALUE((E16-D16)+(G16-F16))*24,"") -> 0
... A34: MERCREDI | B34: =B33+1 -> 45047 | H34: =IFERROR((E34-D34)+(G34-F34),"") -> 0 | J34: =IF(H34=0,"repos","") -> repos | K34: =IF(H34="","",H34*11.72*24) -> 0 | L34: =IFERROR(MATCH(B34,JoursFériés,0),0) -> 0 | N34: =IFERROR(VALUE((E34-D34)+(G34-F34))*24,"") -> 0
A35: Total heures | H35: =SUM(H4:H34) -> 0 | N35: =IF(H35<>"",VALUE(H35)*24,0) -> 0
A36: dont heures dimanche | H36: =SUMIF(A4:A34,"DIMANCHE",H4:H34) -> 0 | N36: =SUMIF(A4:A34,"DIMANCHE",H4:H34)*24 -> 0
A37: dont heures jours fériés | H37: =SUMIF(L4:L34,1,H4:H34) -> 0 | N37: =SUMIF(L4:L34,">" &0,H4:H34)*24 -> 0
A38: dont heures de nuit | H38: =SUM(I4:I34) -> 0
A39: REPORT DÉCEMBRE HEURES SEMAINE NON PAYÉES
A40: REPORT DÉCEMBRE HEURES DIMANCHE NON PAYÉES
A41: TOTAL DES HEURES du MOIS M et M-1 | H41: =H35+H39 -> 0 | N41: =N35+N39/24 -> 0
A42: Solde des heures dues | H42: =H41-H35+H39 -> 0 | I42: =I41-I35+I39 -> 0 | J42: =J41-J35+J39 -> 0 | K42: =K41-K35+K39 -> 0 | L42: =L41-L35+L39 -> 0 | M42: =M41-M35+M39 -> 0 | N42: =N41-N35+N39 -> 0

Sheet mai
A1: MOIS | L1: A masquer | M1: A masquer | N1: temps en numerique décimal
A2: 45413 | C2: code | D2: matin | F2: après midi | H2: Total heures | I2: dont heures nuit | K2: Montant brut | L2: Est
D3: emb | E3: deb | F3: emb | G3: deb | L3: férié
A4: LUNDI | B4: =A2 -> 45413 | H4: =IFERROR((E4-D4)+(G4-F4),"") -> 0 | J4: =IF(H4=0,"repos","") -> repos | K4: =IF(H4="","",H4*11.72*24) -> 0 | L4: =IFERROR(MATCH(B4,JoursFériés,0),0) -> 4 | N4: =IFERROR(VALUE((E4-D4)+(G4-F4))*24,"") -> 0
A5: MARDI | B5: =B4+1 -> 45414 | H5: =IFERROR((E5-D5)+(G5-F5),"") -> 0 | J5: =IF(H5=0,"repos","") -> repos | K5: =IF(H5="","",H5*11.72*24) -> 0 | L5: =IFERROR(MATCH(B5,JoursFériés,0),0) -> 0 | N5: =IFERROR(VALUE((E5-D5)+(G5-F5))*24,"") -> 0
A6: MERCREDI | B6: =B5+1 -> 45415 | H6: =IFERROR((E6-D6)+(G6-F6),"") -> 0 | J6: =IF(H6=0,"repos","") -> repos | K6: =IF(H6="","",H6*11.72*24) -> 0 | L6: =IFERROR(MATCH(B6,JoursFériés,0),0) -> 0 | N6: =IFERROR(VALUE((E6-D6)+(G6-F6))*24,"") -> 0
A7: JEUDI | B7: =B6+1 -> 45416 | H7: =IFERROR((E7-D7)+(G7-F7),"") -> 0 | J7: =IF(H7=0,"repos","") -> repos | K7: =IF(H7="","",H7*11.72*24) -> 0 | L7: =IFERROR(MATCH(B7,JoursFériés,0),0) -> 0 | N7: =IFERROR(VALUE((E7-D7)+(G7-F7))*24,"") -> 0
A8: VENDREDI | B8: =B7+1 -> 45417 | H8: =IFERROR((E8-D8)+(G8-F8),"") -> 0 | J8: =IF(H8=0,"repos","") -> repos | K8: =IF(H8="","",H8*11.72*24) -> 0 | L8: =IFERROR(MATCH(B8,JoursFériés,0),0) -> 0 | N8: =IFERROR(VALUE((E8-D8)+(G8-F8))*24,"") -> 0
A9: SAMEDI | B9: =B8+1 -> 45418 | H9: =IFERROR((E9-D9)+(G9-F9),"") -> 0 | J9: =IF(H9=0,"repos","") -> repos | K9: =IF(H9="","",H9*11.72*24) -> 0 | L9: =IFERROR(MATCH(B9,JoursFériés,0),0) -> 0 | N9: =IFERROR(VALUE((E9-D9)+(G9-F9))*24,"") -> 0
A10: DIMANCHE | B10: =B9+1 -> 45419 | H10: =IFERROR((E10-D10)+(G10-F10),"") -> 0 | J10: =IF(H10=0,"repos","") -> repos | K10: =IF(H10="","",H10*11.72*24) -> 0 | L10: =IFERROR(MATCH(B10,JoursFériés,0),0) -> 0 | N10: =IFERROR(VALUE((E10-D10)+(G10-F10))*24,"") -> 0
A11: LUNDI | B11: =B10+1 -> 45420 | H11: =IFERROR((E11-D11)+(G11-F11),"") -> 0 | J11: =IF(H11=0,"repos","") -> repos | K11: =IF(H11="","",H11*11.72*24) -> 0 | L11: =IFERROR(MATCH(B11,JoursFériés,0),0) -> 5 | N11: =IFERROR(VALUE((E11-D11)+(G11-F11))*24,"") -> 0
A12: MARDI | B12: =B11+1 -> 45421 | H12: =IFERROR((E12-D12)+(G12-F12),"") -> 0 | J12: =IF(H12=0,"repos","") -> repos | K12: =IF(H12="","",H12*11.72*24) -> 0 | L12: =IFERROR(MATCH(B12,JoursFériés,0),0) -> 6 | N12: =IFERROR(VALUE((E12-D12)+(G12-F12))*24,"") -> 0
A13: MERCREDI | B13: =B12+1 -> 45422 | H13: =IFERROR((E13-D13)+(G13-F13),"") -> 0 | J13: =IF(H13=0,"repos","") -> repos | K13: =IF(H13="","",H13*11.72*24) -> 0 | L13: =IFERROR(MATCH(B13,JoursFériés,0),0) -> 0 | N13: =IFERROR(VALUE((E13-D13)+(G13-F13))*24,"") -> 0
A14: JEUDI | B14: =B13+1 -> 45423 | H14: =IFERROR((E14-D14)+(G14-F14),"") -> 0 | J14: =IF(H14=0,"repos","") -> repos | K14: =IF(H14="","",H14*11.72*24) -> 0 | L14: =IFERROR(MATCH(B14,JoursFériés,0),0) -> 0 | N14: =IFERROR(VALUE((E14-D14)+(G14-F14))*24,"") -> 0
A15: VENDREDI | B15: =B14+1 -> 45424 | H15: =IFERROR((E15-D15)+(G15-F15),"") -> 0 | J15: =IF(H15=0,"repos","") -> repos | K15: =IF(H15="","",H15*11.72*24) -> 0 | L15: =IFERROR(MATCH(B15,JoursFériés,0),0) -> 0 | N15: =IFERROR(VALUE((E15-D15)+(G15-F15))*24,"") -> 0
A16: SAMEDI | B16: =B15+1 -> 45425 | H16: =IFERROR((E16-D16)+(G16-F16),"") -> 0 | J16: =IF(H16=0,"repos","") -> repos | K16: =IF(H16="","",H16*11.72*24) -> 0 | L16: =IFERROR(MATCH(B16,JoursFériés,0),0) -> 0 | N16: =IFERROR(VALUE((E16-D16)+(G16-F16))*24,"") -> 0
... A34: MERCREDI | B34: =B33+1 -> 45443 | H34: =IFERROR((E34-D34)+(G34-F34),"") -> 0 | J34: =IF(H34=0,"repos","") -> repos | K34: =IF(H34="","",H34*11.72*24) -> 0 | L34: =IFERROR(MATCH(B34,JoursFériés,0),0) -> 0 | N34: =IFERROR(VALUE((E34-D34)+(G34-F34))*24,"") -> 0
A35: Total heures | H35: =SUM(H4:H34) -> 0 | N35: =IF(H35<>"",VALUE(H35)*24,0) -> 0
A36: dont heures dimanche | H36: =SUMIF(A4:A34,"DIMANCHE",H4:H34) -> 0 | N36: =SUMIF(A4:A34,"DIMANCHE",H4:H34)*24 -> 0
A37: dont heures jours fériés | H37: =SUMIF(L4:L34,1,H4:H34) -> 0 | N37: =SUMIF(L4:L34,">" &0,H4:H34)*24 -> 0
A38: dont heures de nuit | H38: =SUM(I4:I34) -> 0
A39: REPORT DÉCEMBRE HEURES SEMAINE NON PAYÉES
A40: REPORT DÉCEMBRE HEURES DIMANCHE NON PAYÉES
A41: TOTAL DES HEURES du MOIS M et M-1 | H41: =H35+H39 -> 0 | N41: =N35+N39/24 -> 0
A42: Solde des heures dues | H42: =H41-H35+H39 -> 0 | I42: =I41-I35+I39 -> 0 | J42: =J41-J35+J39 -> 0 | K42: =K41-K35+K39 -> 0 | L42: =L41-L35+L39 -> 0 | M42: =M41-M35+M39 -> 0 | N42: =N41-N35+N39 -> 0

Sheet juin
A1: MOIS | L1: A masquer | M1: A masquer | N1: temps en numerique décimal
A2: 45444 | C2: code | D2: matin | F2: après midi | H2: Total heures | I2: dont heures nuit | K2: Montant brut | L2: Est
D3: emb | E3: deb | F3: emb | G3: deb | L3: férié
A4: LUNDI | B4: =A2 -> 45444 | H4: =IFERROR((E4-D4)+(G4-F4),"") -> 0 | J4: =IF(H4=0,"repos","") -> repos | K4: =IF(H4="","",H4*11.72*24) -> 0 | L4: =IFERROR(MATCH(B4,JoursFériés,0),0) -> 0 | N4: =IFERROR(VALUE((E4-D4)+(G4-F4))*24,"") -> 0
A5: MARDI | B5: =B4+1 -> 45445 | H5: =IFERROR((E5-D5)+(G5-F5),"") -> 0 | J5: =IF(H5=0,"repos","") -> repos | K5: =IF(H5="","",H5*11.72*24) -> 0 | L5: =IFERROR(MATCH(B5,JoursFériés,0),0) -> 0 | N5: =IFERROR(VALUE((E5-D5)+(G5-F5))*24,"") -> 0
A6: MERCREDI | B6: =B5+1 -> 45446 | H6: =IFERROR((E6-D6)+(G6-F6),"") -> 0 | J6: =IF(H6=0,"repos","") -> repos | K6: =IF(H6="","",H6*11.72*24) -> 0 | L6: =IFERROR(MATCH(B6,JoursFériés,0),0) -> 0 | N6: =IFERROR(VALUE((E6-D6)+(G6-F6))*24,"") -> 0
A7: JEUDI | B7: =B6+1 -> 45447 | H7: =IFERROR((E7-D7)+(G7-F7),"") -> 0 | J7: =IF(H7=0,"repos","") -> repos | K7: =IF(H7="","",H7*11.72*24) -> 0 | L7: =IFERROR(MATCH(B7,JoursFériés,0),0) -> 0 | N7: =IFERROR(VALUE((E7-D7)+(G7-F7))*24,"") -> 0
A8: VENDREDI | B8: =B7+1 -> 45448 | H8: =IFERROR((E8-D8)+(G8-F8),"") -> 0 | J8: =IF(H8=0,"repos","") -> repos | K8: =IF(H8="","",H8*11.72*24) -> 0 | L8: =IFERROR(MATCH(B8,JoursFériés,0),0) -> 0 | N8: =IFERROR(VALUE((E8-D8)+(G8-F8))*24,"") -> 0
A9: SAMEDI | B9: =B8+1 -> 45449 | H9: =IFERROR((E9-D9)+(G9-F9),"") -> 0 | J9: =IF(H9=0,"repos","") -> repos | K9: =IF(H9="","",H9*11.72*24) -> 0 | L9: =IFERROR(MATCH(B9,JoursFériés,0),0) -> 0 | N9: =IFERROR(VALUE((E9-D9)+(G9-F9))*24,"") -> 0
A10: DIMANCHE | B10: =B9+1 -> 45450 | H10: =IFERROR((E10-D10)+(G10-F10),"") -> 0 | J10: =IF(H10=0,"repos","") -> repos | K10: =IF(H10="","",H10*11.72*24) -> 0 | L10: =IFERROR(MATCH(B10,JoursFériés,0),0) -> 0 | N10: =IFERROR(VALUE((E10-D10)+(G10-F10))*24,"") -> 0
A11: LUNDI | B11: =B10+1 -> 45451 | H11: =IFERROR((E11-D11)+(G11-F11),"") -> 0 | J11: =IF(H11=0,"repos","") -> repos | K11: =IF(H11="","",H11*11.72*24) -> 0 | L11: =IFERROR(MATCH(B11,JoursFériés,0),0) -> 0 | N11: =IFERROR(VALUE((E11-D11)+(G11-F11))*24,"") -> 0
A12: MARDI | B12: =B11+1 -> 45452 | H12: =IFERROR((E12-D12)+(G12-F12),"") -> 0 | J12: =IF(H12=0,"repos","") -> repos | K12: =IF(H12="","",H12*11.72*24) -> 0 | L12: =IFERROR(MATCH(B12,JoursFériés,0),0) -> 0 | N12: =IFERROR(VALUE((E12-D12)+(G12-F12))*24,"") -> 0
A13: MERCREDI | B13: =B12+1 -> 45453 | H13: =IFERROR((E13-D13)+(G13-F13),"") -> 0 | J13: =IF(H13=0,"repos","") -> repos | K13: =IF(H13="","",H13*11.72*24) -> 0 | L13: =IFERROR(MATCH(B13,JoursFériés,0),0) -> 0 | N13: =IFERROR(VALUE((E13-D13)+(G13-F13))*24,"") -> 0
A14: JEUDI | B14: =B13+1 -> 45454 | H14: =IFERROR((E14-D14)+(G14-F14),"") -> 0 | J14: =IF(H14=0,"repos","") -> repos | K14: =IF(H14="","",H14*11.72*24) -> 0 | L14: =IFERROR(MATCH(B14,JoursFériés,0),0) -> 0 | N14: =IFERROR(VALUE((E14-D14)+(G14-F14))*24,"") -> 0
A15: VENDREDI | B15: =B14+1 -> 45455 | H15: =IFERROR((E15-D15)+(G15-F15),"") -> 0 | J15: =IF(H15=0,"repos","") -> repos | K15: =IF(H15="","",H15*11.72*24) -> 0 | L15: =IFERROR(MATCH(B15,JoursFériés,0),0) -> 0 | N15: =IFERROR(VALUE((E15-D15)+(G15-F15))*24,"") -> 0
A16: SAMEDI | B16: =B15+1 -> 45456 | H16: =IFERROR((E16-D16)+(G16-F16),"") -> 0 | J16: =IF(H16=0,"repos","") -> repos | K16: =IF(H16="","",H16*11.72*24) -> 0 | L16: =IFERROR(MATCH(B16,JoursFériés,0),0) -> 0 | N16: =IFERROR(VALUE((E16-D16)+(G16-F16))*24,"") -> 0
... A34: MERCREDI | B34: =B33+1 -> 45474 | H34: =IFERROR((E34-D34)+(G34-F34),"") -> 0 | J34: =IF(H34=0,"repos","") -> repos | K34: =IF(H34="","",H34*11.72*24) -> 0 | L34: =IFERROR(MATCH(B34,JoursFériés,0),0) -> 0 | N34: =IFERROR(VALUE((E34-D34)+(G34-F34))*24,"") -> 0
A35: Total heures | H35: =SUM(H4:H34) -> 0 | N35: =IF(H35<>"",VALUE(H35)*24,0) -> 0
A36: dont heures dimanche | H36: =SUMIF(A4:A34,"DIMANCHE",H4:H34) -> 0 | N36: =SUMIF(A4:A34,"DIMANCHE",H4:H34)*24 -> 0
A37: dont heures jours fériés | H37: =SUMIF(L4:L34,1,H4:H34) -> 0 | N37: =SUMIF(L4:L34,">" &0,H4:H34)*24 -> 0
A38: dont heures de nuit | H38: =SUM(I4:I34) -> 0
A39: REPORT DÉCEMBRE HEURES SEMAINE NON PAYÉES
A40: REPORT DÉCEMBRE HEURES DIMANCHE NON PAYÉES
A41: TOTAL DES HEURES du MOIS M et M-1 | H41: =H35+H39 -> 0 | N41: =N35+N39/24 -> 0
A42: Solde des heures dues | H42: =H41-H35+H39 -> 0 | I42: =I41-I35+I39 -> 0 | J42: =J41-J35+J39 -> 0 | K42: =K41-K35+K39 -> 0 | L42: =L41-L35+L39 -> 0 | M42: =M41-M35+M39 -> 0 | N42: =N41-N35+N39 -> 0

Sheet juillet
A1: MOIS | L1: A masquer | M1: A masquer | N1: temps en numerique décimal
A2: 45474 | C2: code | D2: matin | F2: après midi | H2: Total heures | I2: dont heures nuit | K2: Montant brut | L2: Est
D3: emb | E3: deb | F3: emb | G3: deb | L3: férié
A4: LUNDI | B4: =A2 -> 45474 | H4: =IFERROR((E4-D4)+(G4-F4),"") -> 0 | J4: =IF(H4=0,"repos","") -> repos | K4: =IF(H4="","",H4*11.72*24) -> 0 | L4: =IFERROR(MATCH(B4,JoursFériés,0),0) -> 0 | N4: =IFERROR(VALUE((E4-D4)+(G4-F4))*24,"") -> 0
A5: MARDI | B5: =B4+1 -> 45475 | H5: =IFERROR((E5-D5)+(G5-F5),"") -> 0 | J5: =IF(H5=0,"repos","") -> repos | K5: =IF(H5="","",H5*11.72*24) -> 0 | L5: =IFERROR(MATCH(B5,JoursFériés,0),0) -> 0 | N5: =IFERROR(VALUE((E5-D5)+(G5-F5))*24,"") -> 0
A6: MERCREDI | B6: =B5+1 -> 45476 | H6: =IFERROR((E6-D6)+(G6-F6),"") -> 0 | J6: =IF(H6=0,"repos","") -> repos | K6: =IF(H6="","",H6*11.72*24) -> 0 | L6: =IFERROR(MATCH(B6,JoursFériés,0),0) -> 0 | N6: =IFERROR(VALUE((E6-D6)+(G6-F6))*24,"") -> 0
A7: JEUDI | B7: =B6+1 -> 45477 | H7: =IFERROR((E7-D7)+(G7-F7),"") -> 0 | J7: =IF(H7=0,"repos","") -> repos | K7: =IF(H7="","",H7*11.72*24) -> 0 | L7: =IFERROR(MATCH(B7,JoursFériés,0),0) -> 0 | N7: =IFERROR(VALUE((E7-D7)+(G7-F7))*24,"") -> 0
A8: VENDREDI | B8: =B7+1 -> 45478 | H8: =IFERROR((E8-D8)+(G8-F8),"") -> 0 | J8: =IF(H8=0,"repos","") -> repos | K8: =IF(H8="","",H8*11.72*24) -> 0 | L8: =IFERROR(MATCH(B8,JoursFériés,0),0) -> 0 | N8: =IFERROR(VALUE((E8-D8)+(G8-F8))*24,"") -> 0
A9: SAMEDI | B9: =B8+1 -> 45479 | H9: =IFERROR((E9-D9)+(G9-F9),"") -> 0 | J9: =IF(H9=0,"repos","") -> repos | K9: =IF(H9="","",H9*11.72*24) -> 0 | L9: =IFERROR(MATCH(B9,JoursFériés,0),0) -> 0 | N9: =IFERROR(VALUE((E9-D9)+(G9-F9))*24,"") -> 0
A10: DIMANCHE | B10: =B9+1 -> 45480 | H10: =IFERROR((E10-D10)+(G10-F10),"") -> 0 | J10: =IF(H10=0,"repos","") -> repos | K10: =IF(H10="","",H10*11.72*24) -> 0 | L10: =IFERROR(MATCH(B10,JoursFériés,0),0) -> 0 | N10: =IFERROR(VALUE((E10-D10)+(G10-F10))*24,"") -> 0
A11: LUNDI | B11: =B10+1 -> 45481 | H11: =IFERROR((E11-D11)+(G11-F11),"") -> 0 | J11: =IF(H11=0,"repos","") -> repos | K11: =IF(H11="","",H11*11.72*24) -> 0 | L11: =IFERROR(MATCH(B11,JoursFériés,0),0) -> 0 | N11: =IFERROR(VALUE((E11-D11)+(G11-F11))*24,"") -> 0
A12: MARDI | B12: =B11+1 -> 45482 | H12: =IFERROR((E12-D12)+(G12-F12),"") -> 0 | J12: =IF(H12=0,"repos","") -> repos | K12: =IF(H12="","",H12*11.72*24) -> 0 | L12: =IFERROR(MATCH(B12,JoursFériés,0),0) -> 0 | N12: =IFERROR(VALUE((E12-D12)+(G12-F12))*24,"") -> 0
A13: MERCREDI | B13: =B12+1 -> 45483 | H13: =IFERROR((E13-D13)+(G13-F13),"") -> 0 | J13: =IF(H13=0,"repos","") -> repos | K13: =IF(H13="","",H13*11.72*24) -> 0 | L13: =IFERROR(MATCH(B13,JoursFériés,0),0) -> 0 | N13: =IFERROR(VALUE((E13-D13)+(G13-F13))*24,"") -> 0
A14: JEUDI | B14: =B13+1 -> 45484 | H14: =IFERROR((E14-D14)+(G14-F14),"") -> 0 | J14: =IF(H14=0,"repos","") -> repos | K14: =IF(H14="","",H14*11.72*24) -> 0 | L14: =IFERROR(MATCH(B14,JoursFériés,0),0) -> 0 | N14: =IFERROR(VALUE((E14-D14)+(G14-F14))*24,"") -> 0
A15: VENDREDI | B15: =B14+1 -> 45485 | H15: =IFERROR((E15-D15)+(G15-F15),"") -> 0 | J15: =IF(H15=0,"repos","") -> repos | K15: =IF(H15="","",H15*11.72*24) -> 0 | L15: =IFERROR(MATCH(B15,JoursFériés,0),0) -> 0 | N15: =IFERROR(VALUE((E15-D15)+(G15-F15))*24,"") -> 0
A16: SAMEDI | B16: =B15+1 -> 45486 | H16: =IFERROR((E16-D16)+(G16-F16),"") -> 0 | J16: =IF(H16=0,"repos","") -> repos | K16: =IF(H16="","",H16*11.72*24) -> 0 | L16: =IFERROR(MATCH(B16,JoursFériés,0),0) -> 0 | N16: =IFERROR(VALUE((E16-D16)+(G16-F16))*24,"") -> 0
... A34: MERCREDI | B34: =B33+1 -> 45504 | H34: =IFERROR((E34-D34)+(G34-F34),"") -> 0 | J34: =IF(H34=0,"repos","") -> repos | K34: =IF(H34="","",H34*11.72*24) -> 0 | L34: =IFERROR(MATCH(B34,JoursFériés,0),0) -> 0 | N34: =IFERROR(VALUE((E34-D34)+(G34-F34))*24,"") -> 0
A35: Total heures | H35: =SUM(H4:H34) -> 0 | N35: =IF(H35<>"",VALUE(H35)*24,0) -> 0
A36: dont heures dimanche | H36: =SUMIF(A4:A34,"DIMANCHE",H4:H34) -> 0 | N36: =SUMIF(A4:A34,"DIMANCHE",H4:H34)*24 -> 0
A37: dont heures jours fériés | H37: =SUMIF(L4:L34,1,H4:H34) -> 0 | N37: =SUMIF(L4:L34,">" &0,H4:H34)*24 -> 0
A38: dont heures de nuit | H38: =SUM(I4:I34) -> 0
A39: REPORT DÉCEMBRE HEURES SEMAINE NON PAYÉES
A40: REPORT DÉCEMBRE HEURES DIMANCHE NON PAYÉES
A41: TOTAL DES HEURES du MOIS M et M-1 | H41: =H35+H39 -> 0 | N41: =N35+N39/24 -> 0
A42: Solde des heures dues | H42: =H41-H35+H39 -> 0 | I42: =I41-I35+I39 -> 0 | J42: =J41-J35+J39 -> 0 | K42: =K41-K35+K39 -> 0 | L42: =L41-L35+L39 -> 0 | M42: =M41-M35+M39 -> 0 | N42: =N41-N35+N39 -> 0

Sheet août
A1: MOIS | L1: A masquer | M1: A masquer | N1: temps en numerique décimal
A2: 45505 | C2: code | D2: matin | F2: après midi | H2: Total heures | I2: dont heures nuit | K2: Montant brut | L2: Est
D3: emb | E3: deb | F3: emb | G3: deb | L3: férié
A4: LUNDI | B4: =A2 -> 45505 | H4: =IFERROR((E4-D4)+(G4-F4),"") -> 0 | J4: =IF(H4=0,"repos","") -> repos | K4: =IF(H4="","",H4*11.72*24) -> 0 | L4: =IFERROR(MATCH(B4,JoursFériés,0),0) -> 0 | N4: =IFERROR(VALUE((E4-D4)+(G4-F4))*24,"") -> 0
A5: MARDI | B5: =B4+1 -> 45506 | H5: =IFERROR((E5-D5)+(G5-F5),"") -> 0 | J5: =IF(H5=0,"repos","") -> repos | K5: =IF(H5="","",H5*11.72*24) -> 0 | L5: =IFERROR(MATCH(B5,JoursFériés,0),0) -> 0 | N5: =IFERROR(VALUE((E5-D5)+(G5-F5))*24,"") -> 0
A6: MERCREDI | B6: =B5+1 -> 45507 | H6: =IFERROR((E6-D6)+(G6-F6),"") -> 0 | J6: =IF(H6=0,"repos","") -> repos | K6: =IF(H6="","",H6*11.72*24) -> 0 | L6: =IFERROR(MATCH(B6,JoursFériés,0),0) -> 0 | N6: =IFERROR(VALUE((E6-D6)+(G6-F6))*24,"") -> 0
A7: JEUDI | B7: =B6+1 -> 45508 | H7: =IFERROR((E7-D7)+(G7-F7),"") -> 0 | J7: =IF(H7=0,"repos","") -> repos | K7: =IF(H7="","",H7*11.72*24) -> 0 | L7: =IFERROR(MATCH(B7,JoursFériés,0),0) -> 0 | N7: =IFERROR(VALUE((E7-D7)+(G7-F7))*24,"") -> 0
A8: VENDREDI | B8: =B7+1 -> 45509 | H8: =IFERROR((E8-D8)+(G8-F8),"") -> 0 | J8: =IF(H8=0,"repos","") -> repos | K8: =IF(H8="","",H8*11.72*24) -> 0 | L8: =IFERROR(MATCH(B8,JoursFériés,0),0) -> 0 | N8: =IFERROR(VALUE((E8-D8)+(G8-F8))*24,"") -> 0
A9: SAMEDI | B9: =B8+1 -> 45510 | H9: =IFERROR((E9-D9)+(G9-F9),"") -> 0 | J9: =IF(H9=0,"repos","") -> repos | K9: =IF(H9="","",H9*11.72*24) -> 0 | L9: =IFERROR(MATCH(B9,JoursFériés,0),0) -> 0 | N9: =IFERROR(VALUE((E9-D9)+(G9-F9))*24,"") -> 0
A10: DIMANCHE | B10: =B9+1 -> 45511 | H10: =IFERROR((E10-D10)+(G10-F10),"") -> 0 | J10: =IF(H10=0,"repos","") -> repos | K10: =IF(H10="","",H10*11.72*24) -> 0 | L10: =IFERROR(MATCH(B10,JoursFériés,0),0) -> 0 | N10: =IFERROR(VALUE((E10-D10)+(G10-F10))*24,"") -> 0
A11: LUNDI | B11: =B10+1 -> 45512 | H11: =IFERROR((E11-D11)+(G11-F11),"") -> 0 | J11: =IF(H11=0,"repos","") -> repos | K11: =IF(H11="","",H11*11.72*24) -> 0 | L11: =IFERROR(MATCH(B11,JoursFériés,0),0) -> 0 | N11: =IFERROR(VALUE((E11-D11)+(G11-F11))*24,"") -> 0
A12: MARDI | B12: =B11+1 -> 45513 | H12: =IFERROR((E12-D12)+(G12-F12),"") -> 0 | J12: =IF(H12=0,"repos","") -> repos | K12: =IF(H12="","",H12*11.72*24) -> 0 | L12: =IFERROR(MATCH(B12,JoursFériés,0),0) -> 0 | N12: =IFERROR(VALUE((E12-D12)+(G12-F12))*24,"") -> 0
A13: MERCREDI | B13: =B12+1 -> 45514 | H13: =IFERROR((E13-D13)+(G13-F13),"") -> 0 | J13: =IF(H13=0,"repos","") -> repos | K13: =IF(H13="","",H13*11.72*24) -> 0 | L13: =IFERROR(MATCH(B13,JoursFériés,0),0) -> 0 | N13: =IFERROR(VALUE((E13-D13)+(G13-F13))*24,"") -> 0
A14: JEUDI | B14: =B13+1 -> 45515 | H14: =IFERROR((E14-D14)+(G14-F14),"") -> 0 | J14: =IF(H14=0,"repos","") -> repos | K14: =IF(H14="","",H14*11.72*24) -> 0 | L14: =IFERROR(MATCH(B14,JoursFériés,0),0) -> 0 | N14: =IFERROR(VALUE((E14-D14)+(G14-F14))*24,"") -> 0
A15: VENDREDI | B15: =B14+1 -> 45516 | H15: =IFERROR((E15-D15)+(G15-F15),"") -> 0 | J15: =IF(H15=0,"repos","") -> repos | K15: =IF(H15="","",H15*11.72*24) -> 0 | L15: =IFERROR(MATCH(B15,JoursFériés,0),0) -> 0 | N15: =IFERROR(VALUE((E15-D15)+(G15-F15))*24,"") -> 0
A16: SAMEDI | B16: =B15+1 -> 45517 | H16: =IFERROR((E16-D16)+(G16-F16),"") -> 0 | J16: =IF(H16=0,"repos","") -> repos | K16: =IF(H16="","",H16*11.72*24) -> 0 | L16: =IFERROR(MATCH(B16,JoursFériés,0),0) -> 0 | N16: =IFERROR(VALUE((E16-D16)+(G16-F16))*24,"") -> 0
... A34: MERCREDI | B34: =B33+1 -> 45535 | H34: =IFERROR((E34-D34)+(G34-F34),"") -> 0 | J34: =IF(H34=0,"repos","") -> repos | K34: =IF(H34="","",H34*11.72*24) -> 0 | L34: =IFERROR(MATCH(B34,JoursFériés,0),0) -> 0 | N34: =IFERROR(VALUE((E34-D34)+(G34-F34))*24,"") -> 0
A35: Total heures | H35: =SUM(H4:H34) -> 0 | N35: =IF(H35<>"",VALUE(H35)*24,0) -> 0
A36: dont heures dimanche | H36: =SUMIF(A4:A34,"DIMANCHE",H4:H34) -> 0 | N36: =SUMIF(A4:A34,"DIMANCHE",H4:H34)*24 -> 0
A37: dont heures jours fériés | H37: =SUMIF(L4:L34,1,H4:H34) -> 0 | N37: =SUMIF(L4:L34,">" &0,H4:H34)*24 -> 0
A38: dont heures de nuit | H38: =SUM(I4:I34) -> 0
A39: REPORT DÉCEMBRE HEURES SEMAINE NON PAYÉES
A40: REPORT DÉCEMBRE HEURES DIMANCHE NON PAYÉES
A41: TOTAL DES HEURES du MOIS M et M-1 | H41: =H35+H39 -> 0 | N41: =N35+N39/24 -> 0
A42: Solde des heures dues | H42: =H41-H35+H39 -> 0 | I42: =I41-I35+I39 -> 0 | J42: =J41-J35+J39 -> 0 | K42: =K41-K35+K39 -> 0 | L42: =L41-L35+L39 -> 0 | M42: =M41-M35+M39 -> 0 | N42: =N41-N35+N39 -> 0

Sheet septembre
A1: MOIS | L1: A masquer | M1: A masquer | N1: temps en numerique décimal
A2: 45536 | C2: code | D2: matin | F2: après midi | H2: Total heures | I2: dont heures nuit | K2: Montant brut | L2: Est
D3: emb | E3: deb | F3: emb | G3: deb | L3: férié
A4: LUNDI | B4: =A2 -> 45536 | H4: =IFERROR((E4-D4)+(G4-F4),"") -> 0 | J4: =IF(H4=0,"repos","") -> repos | K4: =IF(H4="","",H4*11.72*24) -> 0 | L4: =IFERROR(MATCH(B4,JoursFériés,0),0) -> 0 | N4: =IFERROR(VALUE((E4-D4)+(G4-F4))*24,"") -> 0
A5: MARDI | B5: =B4+1 -> 45537 | H5: =IFERROR((E5-D5)+(G5-F5),"") -> 0 | J5: =IF(H5=0,"repos","") -> repos | K5: =IF(H5="","",H5*11.72*24) -> 0 | L5: =IFERROR(MATCH(B5,JoursFériés,0),0) -> 0 | N5: =IFERROR(VALUE((E5-D5)+(G5-F5))*24,"") -> 0
A6: MERCREDI | B6: =B5+1 -> 45538 | H6: =IFERROR((E6-D6)+(G6-F6),"") -> 0 | J6: =IF(H6=0,"repos","") -> repos | K6: =IF(H6="","",H6*11.72*24) -> 0 | L6: =IFERROR(MATCH(B6,JoursFériés,0),0) -> 0 | N6: =IFERROR(VALUE((E6-D6)+(G6-F6))*24,"") -> 0
A7: JEUDI | B7: =B6+1 -> 45539 | H7: =IFERROR((E7-D7)+(G7-F7),"") -> 0 | J7: =IF(H7=0,"repos","") -> repos | K7: =IF(H7="","",H7*11.72*24) -> 0 | L7: =IFERROR(MATCH(B7,JoursFériés,0),0) -> 0 | N7: =IFERROR(VALUE((E7-D7)+(G7-F7))*24,"") -> 0
A8: VENDREDI | B8: =B7+1 -> 45540 | H8: =IFERROR((E8-D8)+(G8-F8),"") -> 0 | J8: =IF(H8=0,"repos","") -> repos | K8: =IF(H8="","",H8*11.72*24) -> 0 | L8: =IFERROR(MATCH(B8,JoursFériés,0),0) -> 0 | N8: =IFERROR(VALUE((E8-D8)+(G8-F8))*24,"") -> 0
A9: SAMEDI | B9: =B8+1 -> 45541 | H9: =IFERROR((E9-D9)+(G9-F9),"") -> 0 | J9: =IF(H9=0,"repos","") -> repos | K9: =IF(H9="","",H9*11.72*24) -> 0 | L9: =IFERROR(MATCH(B9,JoursFériés,0),0) -> 0 | N9: =IFERROR(VALUE((E9-D9)+(G9-F9))*24,"") -> 0
A10: DIMANCHE | B10: =B9+1 -> 45542 | H10: =IFERROR((E10-D10)+(G10-F10),"") -> 0 | J10: =IF(H10=0,"repos","") -> repos | K10: =IF(H10="","",H10*11.72*24) -> 0 | L10: =IFERROR(MATCH(B10,JoursFériés,0),0) -> 0 | N10: =IFERROR(VALUE((E10-D10)+(G10-F10))*24,"") -> 0
A11: LUNDI | B11: =B10+1 -> 45543 | H11: =IFERROR((E11-D11)+(G11-F11),"") -> 0 | J11: =IF(H11=0,"repos","") -> repos | K11: =IF(H11="","",H11*11.72*24) -> 0 | L11: =IFERROR(MATCH(B11,JoursFériés,0),0) -> 0 | N11: =IFERROR(VALUE((E11-D11)+(G11-F11))*24,"") -> 0
A12: MARDI | B12: =B11+1 -> 45544 | H12: =IFERROR((E12-D12)+(G12-F12),"") -> 0 | J12: =IF(H12=0,"repos","") -> repos | K12: =IF(H12="","",H12*11.72*24) -> 0 | L12: =IFERROR(MATCH(B12,JoursFériés,0),0) -> 0 | N12: =IFERROR(VALUE((E12-D12)+(G12-F12))*24,"") -> 0
A13: MERCREDI | B13: =B12+1 -> 45545 | H13: =IFERROR((E13-D13)+(G13-F13),"") -> 0 | J13: =IF(H13=0,"repos","") -> repos | K13: =IF(H13="","",H13*11.72*24) -> 0 | L13: =IFERROR(MATCH(B13,JoursFériés,0),0) -> 0 | N13: =IFERROR(VALUE((E13-D13)+(G13-F13))*24,"") -> 0
A14: JEUDI | B14: =B13+1 -> 45546 | H14: =IFERROR((E14-D14)+(G14-F14),"") -> 0 | J14: =IF(H14=0,"repos","") -> repos | K14: =IF(H14="","",H14*11.72*24) -> 0 | L14: =IFERROR(MATCH(B14,JoursFériés,0),0) -> 0 | N14: =IFERROR(VALUE((E14-D14)+(G14-F14))*24,"") -> 0
A15: VENDREDI | B15: =B14+1 -> 45547 | H15: =IFERROR((E15-D15)+(G15-F15),"") -> 0 | J15: =IF(H15=0,"repos","") -> repos | K15: =IF(H15="","",H15*11.72*24) -> 0 | L15: =IFERROR(MATCH(B15,JoursFériés,0),0) -> 0 | N15: =IFERROR(VALUE((E15-D15)+(G15-F15))*24,"") -> 0
A16: SAMEDI | B16: =B15+1 -> 45548 | H16: =IFERROR((E16-D16)+(G16-F16),"") -> 0 | J16: =IF(H16=0,"repos","") -> repos | K16: =IF(H16="","",H16*11.72*24) -> 0 | L16: =IFERROR(MATCH(B16,JoursFériés,0),0) -> 0 | N16: =IFERROR(VALUE((E16-D16)+(G16-F16))*24,"") -> 0
... A34: MERCREDI | B34: =B33+1 -> 45566 | H34: =IFERROR((E34-D34)+(G34-F34),"") -> 0 | J34: =IF(H34=0,"repos","") -> repos | K34: =IF(H34="","",H34*11.72*24) -> 0 | L34: =IFERROR(MATCH(B34,JoursFériés,0),0) -> 0 | N34: =IFERROR(VALUE((E34-D34)+(G34-F34))*24,"") -> 0
A35: Total heures | H35: =SUM(H4:H34) -> 0 | N35: =IF(H35<>"",VALUE(H35)*24,0) -> 0
A36: dont heures dimanche | H36: =SUMIF(A4:A34,"DIMANCHE",H4:H34) -> 0 | N36: =SUMIF(A4:A34,"DIMANCHE",H4:H34)*24 -> 0
A37: dont heures jours fériés | H37: =SUMIF(L4:L34,1,H4:H34) -> 0 | N37: =SUMIF(L4:L34,">" &0,H4:H34)*24 -> 0
A38: dont heures de nuit | H38: =SUM(I4:I34) -> 0
A39: REPORT DÉCEMBRE HEURES SEMAINE NON PAYÉES
A40: REPORT DÉCEMBRE HEURES DIMANCHE NON PAYÉES
A41: TOTAL DES HEURES du MOIS M et M-1 | H41: =H35+H39 -> 0 | N41: =N35+N39/24 -> 0
A42: Solde des heures dues | H42: =H41-H35+H39 -> 0 | I42: =I41-I35+I39 -> 0 | J42: =J41-J35+J39 -> 0 | K42: =K41-K35+K39 -> 0 | L42: =L41-L35+L39 -> 0 | M42: =M41-M35+M39 -> 0 | N42: =N41-N35+N39 -> 0

Sheet octobre
A1: MOIS | L1: A masquer | M1: A masquer | N1: temps en numerique décimal
A2: 45566 | C2: code | D2: matin | F2: après midi | H2: Total heures | I2: dont heures nuit | K2: Montant brut | L2: Est
D3: emb | E3: deb | F3: emb | G3: deb | L3: férié
A4: LUNDI | B4: =A2 -> 45566 | H4: =IFERROR((E4-D4)+(G4-F4),"") -> 0 | J4: =IF(H4=0,"repos","") -> repos | K4: =IF(H4="","",H4*11.72*24) -> 0 | L4: =IFERROR(MATCH(B4,JoursFériés,0),0) -> 0 | N4: =IFERROR(VALUE((E4-D4)+(G4-F4))*24,"") -> 0
A5: MARDI | B5: =B4+1 -> 45567 | H5: =IFERROR((E5-D5)+(G5-F5),"") -> 0 | J5: =IF(H5=0,"repos","") -> repos | K5: =IF(H5="","",H5*11.72*24) -> 0 | L5: =IFERROR(MATCH(B5,JoursFériés,0),0) -> 0 | N5: =IFERROR(VALUE((E5-D5)+(G5-F5))*24,"") -> 0
A6: MERCREDI | B6: =B5+1 -> 45568 | H6: =IFERROR((E6-D6)+(G6-F6),"") -> 0 | J6: =IF(H6=0,"repos","") -> repos | K6: =IF(H6="","",H6*11.72*24) -> 0 | L6: =IFERROR(MATCH(B6,JoursFériés,0),0) -> 0 | N6: =IFERROR(VALUE((E6-D6)+(G6-F6))*24,"") -> 0
A7: JEUDI | B7: =B6+1 -> 45569 | H7: =IFERROR((E7-D7)+(G7-F7),"") -> 0 | J7: =IF(H7=0,"repos","") -> repos | K7: =IF(H7="","",H7*11.72*24) -> 0 | L7: =IFERROR(MATCH(B7,JoursFériés,0),0) -> 0 | N7: =IFERROR(VALUE((E7-D7)+(G7-F7))*24,"") -> 0
A8: VENDREDI | B8: =B7+1 -> 45570 | H8: =IFERROR((E8-D8)+(G8-F8),"") -> 0 | J8: =IF(H8=0,"repos","") -> repos | K8: =IF(H8="","",H8*11.72*24) -> 0 | L8: =IFERROR(MATCH(B8,JoursFériés,0),0) -> 0 | N8: =IFERROR(VALUE((E8-D8)+(G8-F8))*24,"") -> 0
A9: SAMEDI | B9: =B8+1 -> 45571 | H9: =IFERROR((E9-D9)+(G9-F9),"") -> 0 | J9: =IF(H9=0,"repos","") -> repos | K9: =IF(H9="","",H9*11.72*24) -> 0 | L9: =IFERROR(MATCH(B9,JoursFériés,0),0) -> 0 | N9: =IFERROR(VALUE((E9-D9)+(G9-F9))*24,"") -> 0
A10: DIMANCHE | B10: =B9+1 -> 45572 | H10: =IFERROR((E10-D10)+(G10-F10),"") -> 0 | J10: =IF(H10=0,"repos","") -> repos | K10: =IF(H10="","",H10*11.72*24) -> 0 | L10: =IFERROR(MATCH(B10,JoursFériés,0),0) -> 0 | N10: =IFERROR(VALUE((E10-D10)+(G10-F10))*24,"") -> 0
A11: LUNDI | B11: =B10+1 -> 45573 | H11: =IFERROR((E11-D11)+(G11-F11),"") -> 0 | J11: =IF(H11=0,"repos","") -> repos | K11: =IF(H11="","",H11*11.72*24) -> 0 | L11: =IFERROR(MATCH(B11,JoursFériés,0),0) -> 0 | N11: =IFERROR(VALUE((E11-D11)+(G11-F11))*24,"") -> 0
A12: MARDI | B12: =B11+1 -> 45574 | H12: =IFERROR((E12-D12)+(G12-F12),"") -> 0 | J12: =IF(H12=0,"repos","") -> repos | K12: =IF(H12="","",H12*11.72*24) -> 0 | L12: =IFERROR(MATCH(B12,JoursFériés,0),0) -> 0 | N12: =IFERROR(VALUE((E12-D12)+(G12-F12))*24,"") -> 0
A13: MERCREDI | B13: =B12+1 -> 45575 | H13: =IFERROR((E13-D13)+(G13-F13),"") -> 0 | J13: =IF(H13=0,"repos","") -> repos | K13: =IF(H13="","",H13*11.72*24) -> 0 | L13: =IFERROR(MATCH(B13,JoursFériés,0),0) -> 0 | N13: =IFERROR(VALUE((E13-D13)+(G13-F13))*24,"") -> 0
