Workbook
Name __TAB2: '[1]cash flow'!$B$32
Name __TAB4: '[1]cash flow'!$B$73
Name __TAB6: '[1]cash flow'!#REF!
Name __TAB7: '[1]cash flow'!$B$81
Name __TAB8: '[1]cash flow'!$B$90
Name _LE2014: [2]LE2014!$A:$M
Name _TAB1: '[3]cash flow'!$B$5
Name _TAB2: '[3]cash flow'!$B$32
Name _TAB4: '[3]cash flow'!$B$73
Name _TAB6: '[3]cash flow'!#REF!
Name _TAB7: '[3]cash flow'!$B$81
Name _TAB8: '[3]cash flow'!$B$90
Name a: #REF!
Name ani: #REF!
Name Average_External_Cost_per_crane: #REF!
Name Average_Material_Cost_per_crane: #REF!
Name Avg__internal__Labour_Cost_per_crane: #REF!
Name Avg_freight_costs_per_crane: #REF!
Name Avg_ICO_Transfer_Price_MTC: #REF!
Name BData: #REF!
Name bgui: '[5]flux emprunts'!#REF!
Name Bilan: [6]Sermat!$J$77:$O$142
Name Budget2015: [2]Budget2015!$A:$M
Name Capital: #REF!
Name CC: [7]Sheet1!$C$9
Name celluleRef: #REF!
Name CM: [7]Sheet1!$C$7
Name Code_Company: '[8]1. Parameters'!$C$2
Name company: [9]settings!$F$19
Name Company_Currency: [2]A02!$G$15
Name Company_Id: [2]A02!$G$13
Name Company_Name: [2]A02!$G$11
Name CS: [9]settings!$C$15
Name CY: [7]Sheet1!$C$5
Name Data: #REF!
Name Détails: [6]Sermat!$J$146:$O$215
Name Flux: [6]Sermat!$J$219:$O$239
Name Global: [6]Sermat!$J$2:$O$71,[6]Sermat!$J$77:$O$142,[6]Sermat!$J$146:$O$215
Name i: #REF!
Name Infl_Ind_Benelux: [10]Parameters!$B$27
Name Infl_Sal_Benelux: [10]Parameters!$B$28
Name Local_Curr: '[8]1. Parameters'!$C$4
Name Margin_MTC: #REF!
Name n: #REF!
Name Name_Company: '[11]1. Parameters'!$C$3
Name Period: [2]A02!$J$15
Name Period_Name: [2]Parameter!$A$2:$B$16
Name PLN: #REF!
Name Pre_Postnumerando: #REF!
Name Purchase_Option: #REF!
Name Résultats: [6]Sermat!$J$2:$O$71
Name Searchterm: #REF!
Name SEK: #REF!
Name SIGMA_PERIOD2013: +[7]Parameters!$H$31
Name SIGMA_PERIOD2014: +[7]Parameters!$H$32
Name sni: #REF!
Name TABEMP3: '[3]flux emprunts'!$A$69
Name TABEMP4: '[3]flux emprunts'!$A$75
Name TABEMP5: '[5]flux emprunts'!#REF!
Name TABIMMO1: '[3]flux immobilisations'!$A$41

Sheet Fleet & CAPEX
B1: fleet at the end of 2022 | C1: moves on 2023 | F1: fleet at the end of 2023
B2: 2022 | C2: Purchase | D2: Sales | E2: =B2+1 -> 2023 | F2: Purchase | G2: Sales | H2: =E2+1 -> 2024 | I2: Purchase | J2: Sales | K2: =H2+1 -> 2025 | L2: Purchase | M2: Sales | N2: =K2+1 -> 2026
A3: Berline | B3: =SUM(B4:B6) -> 30 | C3: =SUM(C4:C6) -> 3 | D3: =SUM(D4:D6) -> 3 | E3: =SUM(E4:E6) -> 30 | F3: =SUM(F4:F6) -> 0 | G3: =SUM(G4:G6) -> 0 | H3: =SUM(H4:H6) -> 30 | I3: =SUM(I4:I6) -> 0 | ... N3: =SUM(N4:N6) -> 30
A4: BMW i7 | B4: 15 | C4: 2 | E4: =B4+C4-D4 -> 17 | H4: =E4+F4-G4 -> 17 | K4: =H4+I4-J4 -> 17 | N4: =K4+L4-M4 -> 17
A5: BMW Série 3 | B5: 10 | C5: 1 | E5: =B5+C5-D5 -> 11 | H5: =E5+F5-G5 -> 11 | K5: =H5+I5-J5 -> 11 | N5: =K5+L5-M5 -> 11
A6: BMW Série 7 | B6: 5 | D6: 3 | E6: =B6+C6-D6 -> 2 | H6: =E6+F6-G6 -> 2 | K6: =H6+I6-J6 -> 2 | N6: =K6+L6-M6 -> 2
A7: SUV | B7: =SUM(B8:B10) -> 22 | C7: =SUM(C8:C10) -> 3 | D7: =SUM(D8:D10) -> 1 | E7: =SUM(E8:E10) -> 24 | F7: =SUM(F8:F10) -> 0 | G7: =SUM(G8:G10) -> 0 | H7: =SUM(H8:H10) -> 24 | I7: =SUM(I8:I10) -> 0 | ... N7: =SUM(N8:N10) -> 24
A8: Dacia Duster | B8: 8 | C8: 2 | E8: =B8+C8-D8 -> 10 | H8: =E8+F8-G8 -> 10 | K8: =H8+I8-J8 -> 10 | N8: =K8+L8-M8 -> 10
A9: Renault Austral | B9: 5 | D9: 1 | E9: =B9+C9-D9 -> 4 | H9: =E9+F9-G9 -> 4 | K9: =H9+I9-J9 -> 4 | N9: =K9+L9-M9 -> 4
A10: Renault Arkana | B10: 9 | C10: 1 | D10: 0 | E10: =B10+C10-D10 -> 10 | F10: 0 | H10: =E10+F10-G10 -> 10 | I10: 0 | K10: =H10+I10-J10 -> 10 | L10: 0 | N10: =K10+L10-M10 -> 10
A11: Coupé | B11: =SUM(B12:B14) -> 12 | C11: =SUM(C12:C14) -> 1 | D11: =SUM(D12:D14) -> 2 | E11: =SUM(E12:E14) -> 11 | F11: =SUM(F12:F14) -> 0 | G11: =SUM(G12:G14) -> 0 | H11: =SUM(H12:H14) -> 11 | I11: =SUM(I12:I14) -> 0 | ... N11: =SUM(N12:N14) -> 11
A12: Audi TT | B12: 4 | E12: =B12+C12-D12 -> 4 | H12: =E12+F12-G12 -> 4 | K12: =H12+I12-J12 -> 4 | N12: =K12+L12-M12 -> 4
A13: Audi A5 | B13: 5 | C13: 1 | E13: =B13+C13-D13 -> 6 | H13: =E13+F13-G13 -> 6 | K13: =H13+I13-J13 -> 6 | N13: =K13+L13-M13 -> 6
A14: Audi RS5 | B14: 3 | D14: 2 | E14: =B14+C14-D14 -> 1 | H14: =E14+F14-G14 -> 1 | K14: =H14+I14-J14 -> 1 | N14: =K14+L14-M14 -> 1
A15: Total | B15: =B3+B7+B11 -> 64 | C15: =C3+C7+C11 -> 7 | D15: =D3+D7+D11 -> 6 | E15: =E3+E7+E11 -> 65 | F15: =F3+F7+F11 -> 0 | G15: =G3+G7+G11 -> 0 | H15: =H3+H7+H11 -> 65 | I15: =I3+I7+I11 -> 0 | ... N15: =N3+N7+N11 -> 65
H16: ,
B17: Purchase Price
A18: CAPEX | B18: 2023 | C18: =B18+1 -> 2024 | D18: =C18+1 -> 2025 | E18: =D18+1 -> 2026 | H18: 2023 | I18: =H18+1 -> 2024 | J18: =I18+1 -> 2025 | K18: =J18+1 -> 2026
A19: Berline | G19: CAPEX
A20: BMW i7 | G20: Disposal
A21: BMW Série 3 | G21: Net car CAPEX
A22: BMW Série 7 | G22: Units purchased
A23: SUV | G23: Units sold
A24: Dacia Duster | G24: Number of cars
A25: Renault Austral
A26: Renault Arkana
A27: Coupé
A28: Audi TT
A29: Audi A5
A30: Audi RS5
A31: Total

Sheet Rental revenue
B1: Country : | C1: US
B2: CAR RENTAL
B3: Number of cars
C4: 2023 | D4: =C4+1 -> 2024 | E4: =D4+1 -> 2025 | F4: =E4+1 -> 2026
B5: Berline | C5: =SUM(C6:C8) -> 30 | D5: =SUM(D6:D8) -> 30 | E5: =SUM(E6:E8) -> 30 | F5: =SUM(F6:F8) -> 30
B6: BMW i7 | C6: ='Fleet & CAPEX'!E4 -> 17 | D6: ='Fleet & CAPEX'!H4 -> 17 | E6: ='Fleet & CAPEX'!K4 -> 17 | F6: ='Fleet & CAPEX'!N4 -> 17
B7: BMW Série 3 | C7: ='Fleet & CAPEX'!E5 -> 11 | D7: ='Fleet & CAPEX'!H5 -> 11 | E7: ='Fleet & CAPEX'!K5 -> 11 | F7: ='Fleet & CAPEX'!N5 -> 11
B8: BMW Série 7 | C8: ='Fleet & CAPEX'!E6 -> 2 | D8: ='Fleet & CAPEX'!H6 -> 2 | E8: ='Fleet & CAPEX'!K6 -> 2 | F8: ='Fleet & CAPEX'!N6 -> 2
B9: SUV | C9: =SUM(C10:C12) -> 24 | D9: =SUM(D10:D12) -> 24 | E9: =SUM(E10:E12) -> 24 | F9: =SUM(F10:F12) -> 24
B10: Dacia Duster | C10: ='Fleet & CAPEX'!E8 -> 10 | D10: ='Fleet & CAPEX'!H8 -> 10 | E10: ='Fleet & CAPEX'!K8 -> 10 | F10: ='Fleet & CAPEX'!N8 -> 10
B11: Renault Austral | C11: ='Fleet & CAPEX'!E9 -> 4 | D11: ='Fleet & CAPEX'!H9 -> 4 | E11: ='Fleet & CAPEX'!K9 -> 4 | F11: ='Fleet & CAPEX'!N9 -> 4
B12: Renault Arkana | C12: ='Fleet & CAPEX'!E10 -> 10 | D12: ='Fleet & CAPEX'!H10 -> 10 | E12: ='Fleet & CAPEX'!K10 -> 10 | F12: ='Fleet & CAPEX'!N10 -> 10
B13: Coupé | C13: =SUM(C14:C16) -> 11 | D13: =SUM(D14:D16) -> 11 | E13: =SUM(E14:E16) -> 11 | F13: =SUM(F14:F16) -> 11
B14: Audi TT | C14: ='Fleet & CAPEX'!E12 -> 4 | D14: ='Fleet & CAPEX'!H12 -> 4 | E14: ='Fleet & CAPEX'!K12 -> 4 | F14: ='Fleet & CAPEX'!N12 -> 4
B15: Audi A5 | C15: ='Fleet & CAPEX'!E13 -> 6 | D15: ='Fleet & CAPEX'!H13 -> 6 | E15: ='Fleet & CAPEX'!K13 -> 6 | F15: ='Fleet & CAPEX'!N13 -> 6
B16: Audi RS5 | C16: ='Fleet & CAPEX'!E14 -> 1 | D16: ='Fleet & CAPEX'!H14 -> 1 | E16: ='Fleet & CAPEX'!K14 -> 1 | F16: ='Fleet & CAPEX'!N14 -> 1
B17: Total | C17: =C5+C9+C13 -> 65 | D17: =D5+D9+D13 -> 65 | E17: =E5+E9+E13 -> 65 | F17: =F5+F9+F13 -> 65
B20: Utilization rate
B21: in % | C21: 2023 | D21: =C21+1 -> 2024 | E21: =D21+1 -> 2025 | F21: =E21+1 -> 2026
B22: Berline | C22: =SUMPRODUCT(C23:C25,C6:C8)/C5 -> 0.525 | D22: =SUMPRODUCT(D23:D25,D6:D8)/D5 -> 0.525 | E22: =SUMPRODUCT(E23:E25,E6:E8)/E5 -> 0.525 | F22: =SUMPRODUCT(F23:F25,F6:F8)/F5 -> 0.525
B23: BMW i7 | C23: 0.6 | D23: 0.6 | E23: 0.6 | F23: 0.6
B24: BMW Série 3 | C24: 0.45 | D24: 0.45 | E24: 0.45 | F24: 0.45
B25: BMW Série 7 | C25: 0.3 | D25: 0.3 | E25: 0.3 | F25: 0.3
B26: SUV | C26: =SUMPRODUCT(C27:C29,C10:C12)/C9 -> 0.7 | D26: =SUMPRODUCT(D27:D29,D10:D12)/D9 -> 0.7 | E26: =SUMPRODUCT(E27:E29,E10:E12)/E9 -> 0.7 | F26: =SUMPRODUCT(F27:F29,F10:F12)/F9 -> 0.7
B27: Dacia Duster | C27: 0.75 | D27: 0.75 | E27: 0.75 | F27: 0.75
B28: Renault Austral | C28: 0.7 | D28: 0.7 | E28: 0.7 | F28: 0.7
B29: Renault Arkana | C29: 0.65 | D29: 0.65 | E29: 0.65 | F29: 0.65
B30: Coupé | C30: =SUMPRODUCT(C31:C33,C14:C16)/C13 -> 0.18181818 | D30: =SUMPRODUCT(D31:D33,D14:D16)/D13 -> 0.18181818 | E30: =SUMPRODUCT(E31:E33,E14:E16)/E13 -> 0.18181818 | F30: =SUMPRODUCT(F31:F33,F14:F16)/F13 -> 0.18181818
B31: Audi TT | C31: 0.2 | D31: 0.2 | E31: 0.2 | F31: 0.2
B32: Audi A5 | C32: 0.15 | D32: 0.15 | E32: 0.15 | F32: 0.15
B33: Audi RS5 | C33: 0.3 | D33: 0.3 | E33: 0.3 | F33: 0.3
B34: Total
B36: Average monthly rental revenue
B37: in $ | C37: 2023 | D37: =C37+1 -> 2024 | E37: =D37+1 -> 2025 | F37: =E37+1 -> 2026
B38: Berline | C38: =SUMPRODUCT(C39:C41,C6:C8)/C5 -> 225 | D38: =SUMPRODUCT(D39:D41,D6:D8)/D5 -> 225 | E38: =SUMPRODUCT(E39:E41,E6:E8)/E5 -> 225 | F38: =SUMPRODUCT(F39:F41,F6:F8)/F5 -> 225
B39: BMW i7 | C39: 200 | D39: 200 | E39: 200 | F39: 200
B40: BMW Série 3 | C40: 250 | D40: 250 | E40: 250 | F40: 250
B41: BMW Série 7 | C41: 300 | D41: 300 | E41: 300 | F41: 300
B42: SUV | C42: =SUMPRODUCT(C43:C45,C10:C12)/C9 -> 450 | D42: =SUMPRODUCT(D43:D45,D10:D12)/D9 -> 450 | E42: =SUMPRODUCT(E43:E45,E10:E12)/E9 -> 450 | F42: =SUMPRODUCT(F43:F45,F10:F12)/F9 -> 450
B43: Dacia Duster | C43: 400 | D43: 400 | E43: 400 | F43: 400
...
