Workbook

Sheet commande jour
A1: date du jour | B1: =TODAY() -> 45046
A3: NOM | B3: quantité | C3: date envoi
A4: JEANNE | B4: 122000 | C4: 45083
A5: JEAN | B5: 86400 | C5: 45048
A6: PATRICK | B6: 358560 | C6: 45049
A7: MATHILDE | B7: 122000 | C7: 45083
A8: ZACK | B8: 34567 | C8: 45030
A9: KARINE | B9: 12547 | C9: 45139
A10: CORINNE | B10: 51840 | C10: 45018
A11: GERARD | B11: 17280 | C11: 45110
A12: PATRICE | B12: 34567 | C12: 44928
A13: RENALD | B13: 47520 | C13: 45030
A14: JEROME | B14: 12357 | C14: 45099
A15: ISABELLE | B15: 125874 | C15: 45165
... A24: KELLY | B24: 51840 | C24: 45018

Sheet A1
A2: numero | B2: QUANTITE | C2: DATE ENVOI
A3: =IF('EQ A'!A2="","",'EQ A'!A2) -> JEAN | B3: =IF(A3="","",VLOOKUP(A3,'commande jour'!$A$5:$C$40,2,FALSE)) -> 86400 | C3: =IF(A3="","",VLOOKUP(A3,'commande jour'!$A$5:$C$40,3,FALSE)) -> 45048
A4: =IF('EQ A'!A3="","",'EQ A'!A3) -> PATRICK | B4: =IF(A4="","",VLOOKUP(A4,'commande jour'!$A$5:$C$40,2,FALSE)) -> 358560 | C4: =IF(A4="","",VLOOKUP(A4,'commande jour'!$A$5:$C$40,3,FALSE)) -> 45049
A5: =IF('EQ A'!A4="","",'EQ A'!A4) -> MATHILDE | B5: =IF(A5="","",VLOOKUP(A5,'commande jour'!$A$5:$C$40,2,FALSE)) -> 122000 | C5: =IF(A5="","",VLOOKUP(A5,'commande jour'!$A$5:$C$40,3,FALSE)) -> 45083
A6: =IF('EQ A'!A5="","",'EQ A'!A5) | B6: =IF(A6="","",VLOOKUP(A6,'commande jour'!$A$5:$C$40,2,FALSE)) | C6: =IF(A6="","",VLOOKUP(A6,'commande jour'!$A$5:$C$40,3,FALSE))
A7: =IF('EQ A'!A6="","",'EQ A'!A6) -> CORINNE | B7: =IF(A7="","",VLOOKUP(A7,'commande jour'!$A$5:$C$40,2,FALSE)) -> 51840 | C7: =IF(A7="","",VLOOKUP(A7,'commande jour'!$A$5:$C$40,3,FALSE)) -> 45018
A8: =IF('EQ A'!A7="","",'EQ A'!A7) | B8: =IF(A8="","",VLOOKUP(A8,'commande jour'!$A$5:$C$40,2,FALSE)) | C8: =IF(A8="","",VLOOKUP(A8,'commande jour'!$A$5:$C$40,3,FALSE))
A9: =IF('EQ A'!A8="","",'EQ A'!A8) -> GERARD | B9: =IF(A9="","",VLOOKUP(A9,'commande jour'!$A$5:$C$40,2,FALSE)) -> 17280 | C9: =IF(A9="","",VLOOKUP(A9,'commande jour'!$A$5:$C$40,3,FALSE)) -> 45110
A10: =IF('EQ A'!A9="","",'EQ A'!A9) -> FABIENNE | B10: =IF(A10="","",VLOOKUP(A10,'commande jour'!$A$5:$C$40,2,FALSE)) -> #N/A | C10: =IF(A10="","",VLOOKUP(A10,'commande jour'!$A$5:$C$40,3,FALSE)) -> #N/A
A11: =IF('EQ A'!A10="","",'EQ A'!A10) -> PATRICE | B11: =IF(A11="","",VLOOKUP(A11,'commande jour'!$A$5:$C$40,2,FALSE)) -> 34567 | C11: =IF(A11="","",VLOOKUP(A11,'commande jour'!$A$5:$C$40,3,FALSE)) -> 44928
A12: =IF('EQ A'!A11="","",'EQ A'!A11) -> RENALD | B12: =IF(A12="","",VLOOKUP(A12,'commande jour'!$A$5:$C$40,2,FALSE)) -> 47520 | C12: =IF(A12="","",VLOOKUP(A12,'commande jour'!$A$5:$C$40,3,FALSE)) -> 45030
A13: =IF('EQ A'!A12="","",'EQ A'!A12) | B13: =IF(A13="","",VLOOKUP(A13,'commande jour'!$A$5:$C$40,2,FALSE)) | C13: =IF(A13="","",VLOOKUP(A13,'commande jour'!$A$5:$C$40,3,FALSE))
A14: =IF('EQ A'!A13="","",'EQ A'!A13) | B14: =IF(A14="","",VLOOKUP(A14,'commande jour'!$A$5:$C$40,2,FALSE)) | C14: =IF(A14="","",VLOOKUP(A14,'commande jour'!$A$5:$C$40,3,FALSE))
... A20: =IF('EQ A'!A19="","",'EQ A'!A19) | B20: =IF(A20="","",VLOOKUP(A20,'commande jour'!$A$5:$C$40,2,FALSE)) | C20: =IF(A20="","",VLOOKUP(A20,'commande jour'!$A$5:$C$40,3,FALSE))

Sheet B1
A2: numero | B2: QUANTITE | C2: DATE ENVOI
A3: =IF('EQ B'!A2="","",'EQ B'!A2) -> ANTOINE | B3: =IF(A3="","",VLOOKUP(A3,'commande jour'!$A$5:$C$40,2,FALSE)) -> #N/A | C3: =IF(A3="","",VLOOKUP(A3,'commande jour'!$A$5:$C$40,3,FALSE)) -> #N/A
A4: =IF('EQ B'!A3="","",'EQ B'!A3) -> VICTOR | C4: =IF(A4="","",VLOOKUP(A4,'commande jour'!$A$5:$C$40,3,FALSE)) -> #N/A
A5: =IF('EQ B'!A4="","",'EQ B'!A4) -> JEANNE | B5: 122000 | C5: =IF(A5="","",VLOOKUP(A5,'commande jour'!$A$5:$C$40,3,FALSE)) -> #N/A
A6: =IF('EQ B'!A5="","",'EQ B'!A5) -> KELLY | B6: 51840 | C6: =IF(A6="","",VLOOKUP(A6,'commande jour'!$A$5:$C$40,3,FALSE)) -> 45018
A7: =IF('EQ B'!A6="","",'EQ B'!A6) -> SERGE | B7: 12345 | C7: =IF(A7="","",VLOOKUP(A7,'commande jour'!$A$5:$C$40,3,FALSE)) -> 45030
A8: =IF('EQ B'!A7="","",'EQ B'!A7) | C8: =IF(A8="","",VLOOKUP(A8,'commande jour'!$A$5:$C$40,3,FALSE))
A9: =IF('EQ B'!A8="","",'EQ B'!A8) -> MATTHIEU | B9: 34567 | C9: =IF(A9="","",VLOOKUP(A9,'commande jour'!$A$5:$C$40,3,FALSE)) -> 45110
A10: =IF('EQ B'!A9="","",'EQ B'!A9) | C10: =IF(A10="","",VLOOKUP(A10,'commande jour'!$A$5:$C$40,3,FALSE))
A11: =IF('EQ B'!A10="","",'EQ B'!A10) -> ISMAEL | B11: 34567 | C11: =IF(A11="","",VLOOKUP(A11,'commande jour'!$A$5:$C$40,3,FALSE)) -> #N/A
A12: =IF('EQ B'!A11="","",'EQ B'!A11) -> OLIVIER | B12: 95040 | C12: =IF(A12="","",VLOOKUP(A12,'commande jour'!$A$5:$C$40,3,FALSE)) -> 45030
A13: =IF('EQ B'!A12="","",'EQ B'!A12) | C13: =IF(A13="","",VLOOKUP(A13,'commande jour'!$A$5:$C$40,3,FALSE))
A14: =IF('EQ B'!A13="","",'EQ B'!A13) | C14: =IF(A14="","",VLOOKUP(A14,'commande jour'!$A$5:$C$40,3,FALSE))
A15: =IF('EQ B'!A14="","",'EQ B'!A14) | C15: =IF(A15="","",VLOOKUP(A15,'commande jour'!$A$5:$C$40,3,FALSE))
A16: =IF('EQ B'!A15="","",'EQ B'!A15) | C16: =IF(A16="","",VLOOKUP(A16,'commande jour'!$A$5:$C$40,3,FALSE))
A17: =IF('EQ B'!A16="","",'EQ B'!A16) | C17: =IF(A17="","",VLOOKUP(A17,'commande jour'!$A$5:$C$40,3,FALSE))
A18: =IF('EQ B'!A17="","",'EQ B'!A17) | C18: =IF(A18="","",VLOOKUP(A18,'commande jour'!$A$5:$C$40,3,FALSE))
A19: =IF('EQ B'!A18="","",'EQ B'!A18) | C19: =IF(A19="","",VLOOKUP(A19,'commande jour'!$A$5:$C$40,3,FALSE))
A20: =IF('EQ B'!A19="","",'EQ B'!A19) | C20: =IF(A20="","",VLOOKUP(A20,'commande jour'!$A$5:$C$40,3,FALSE))

Sheet C1
A2: numero | B2: QUANTITE | C2: DATE ENVOI
A3: =IF('EQ C'!A2="","",'EQ C'!A2) -> LEO | B3: =IF(A3="","",VLOOKUP(A3,'commande jour'!$A$5:$C$40,2,FALSE)) -> 86400 | C3: =IF(A3="","",VLOOKUP(A3,'commande jour'!$A$5:$C$40,3,FALSE)) -> 45083
A4: =IF('EQ C'!A3="","",'EQ C'!A3) -> MYA | B4: 358560 | C4: =IF(A4="","",VLOOKUP(A4,'commande jour'!$A$5:$C$40,3,FALSE)) -> 45082
A5: =IF('EQ C'!A4="","",'EQ C'!A4) | C5: =IF(A5="","",VLOOKUP(A5,'commande jour'!$A$5:$C$40,3,FALSE))
A6: =IF('EQ C'!A5="","",'EQ C'!A5) -> ZOE | C6: =IF(A6="","",VLOOKUP(A6,'commande jour'!$A$5:$C$40,3,FALSE)) -> #N/A
A7: =IF('EQ C'!A6="","",'EQ C'!A6) -> CLIO | B7: 51840 | C7: =IF(A7="","",VLOOKUP(A7,'commande jour'!$A$5:$C$40,3,FALSE)) -> 45110
A8: =IF('EQ C'!A7="","",'EQ C'!A7) -> KYLLIAN | B8: 17280 | C8: =IF(A8="","",VLOOKUP(A8,'commande jour'!$A$5:$C$40,3,FALSE)) -> 45030
A9: =IF('EQ C'!A8="","",'EQ C'!A8) | C9: =IF(A9="","",VLOOKUP(A9,'commande jour'!$A$5:$C$40,3,FALSE))
A10: =IF('EQ C'!A9="","",'EQ C'!A9) | C10: =IF(A10="","",VLOOKUP(A10,'commande jour'!$A$5:$C$40,3,FALSE))
A11: =IF('EQ C'!A10="","",'EQ C'!A10) -> CHRISTOPHE | B11: 12345 | C11: =IF(A11="","",VLOOKUP(A11,'commande jour'!$A$5:$C$40,3,FALSE)) -> 45079
A12: =IF('EQ C'!A11="","",'EQ C'!A11) -> ZACK | B12: 34567 | C12: =IF(A12="","",VLOOKUP(A12,'commande jour'!$A$5:$C$40,3,FALSE)) -> 45030
A13: =IF('EQ C'!A12="","",'EQ C'!A12) -> ELODIE | C13: =IF(A13="","",VLOOKUP(A13,'commande jour'!$A$5:$C$40,3,FALSE)) -> #N/A
A14: =IF('EQ C'!A13="","",'EQ C'!A13) -> KARINE | B14: 12547 | C14: =IF(A14="","",VLOOKUP(A14,'commande jour'!$A$5:$C$40,3,FALSE)) -> 45139
A15: =IF('EQ C'!A14="","",'EQ C'!A14) | C15: =IF(A15="","",VLOOKUP(A15,'commande jour'!$A$5:$C$40,3,FALSE))
A16: =IF('EQ C'!A15="","",'EQ C'!A15) | C16: =IF(A16="","",VLOOKUP(A16,'commande jour'!$A$5:$C$40,3,FALSE))
A17: =IF('EQ C'!A16="","",'EQ C'!A16) | C17: =IF(A17="","",VLOOKUP(A17,'commande jour'!$A$5:$C$40,3,FALSE))
A18: =IF('EQ C'!A17="","",'EQ C'!A17) | C18: =IF(A18="","",VLOOKUP(A18,'commande jour'!$A$5:$C$40,3,FALSE))
A19: =IF('EQ C'!A18="","",'EQ C'!A18) | C19: =IF(A19="","",VLOOKUP(A19,'commande jour'!$A$5:$C$40,3,FALSE))
A20: =IF('EQ C'!A19="","",'EQ C'!A19) | C20: =IF(A20="","",VLOOKUP(A20,'commande jour'!$A$5:$C$40,3,FALSE))

Sheet EQ A
A1: equipe A
A2: JEAN
A3: PATRICK
A4: MATHILDE
A5: =""
A6: CORINNE
A7: =""
A8: GERARD
A9: FABIENNE
A10: PATRICE
A11: RENALD
A12: =""
A13: =""
A14: YANNICK
A15: JEROME
A16: ISABELLE
A17: =""
A18: =""
A19: =""

Sheet EQ B
A1: equipe B
A2: ANTOINE
A3: VICTOR
A4: JEANNE
A5: KELLY
A6: SERGE
A7: =""
A8: MATTHIEU
A9: =""
A10: ISMAEL
A11: OLIVIER
A12: =""
A13: =""
A14: =""
A15: =""
A16: =""
A17: =""
A18: =""
A19: =""

Sheet EQ C
A1: equipe C
A2: LEO
A3: MYA
A4: =""
A5: ZOE
A6: CLIO
A7: KYLLIAN
A8: =""
A9: =""
A10: CHRISTOPHE
A11: ZACK
A12: ELODIE
A13: KARINE
A14: =""
A15: =""
A16: =""
A17: =""
A18: =""
A19: =""

Sheet feuille A
B1: B2 = liste de nom à contrôler | E1: B3 = Si quantité alors impression de A2 à H44, sinon rien
A2: NOM : | B2: JEAN | G2: date : | H2: =TODAY() -> 45046
A3: QUANTITE : | B3: =IF(B2="","",VLOOKUP(B2,'A1'!A2:B25,2,FALSE)) -> 86400 | G3: date envoi : | H3: =IF(B2="","",VLOOKUP(B2,'A1'!A3:C20,3,FALSE)) -> 45048
A5: 1 | B5: =IF(B3="","",+B3/40) -> 2160
A6: 2 | B6: =B5 -> 2160
A7: 3 | B7: =B6 -> 2160
A8: 4 | B8: =B7 -> 2160
A9: 5 | B9: =B8 -> 2160
A10: 6 | B10: =B9 -> 2160
A11: 7 | B11: =B10 -> 2160
A12: 8 | B12: =B11 -> 2160
A13: 9 | B13: =B12 -> 2160
A14: 10 | B14: =B13 -> 2160
A15: 11 | B15: =B14 -> 2160
A16: 12 | B16: =B15 -> 2160
A17: 13 | B17: =B16 -> 2160
... A44: 40 | B44: =B43 -> 2160

Sheet feuille B
B1: B2 = liste de nom à contrôler | E1: B3 = Si quantité alors impression de A2 à H44, sinon rien
A2: NOM : | G2: date du jour | H2: =TODAY() -> 45046
A3: QUANTITE : | B3: =IF(B2="","",VLOOKUP(B2,'B1'!A2:B25,2,FALSE)) | G3: date envoi : | H3: =IF(B2="","",VLOOKUP(B2,'B1'!A3:C20,3,FALSE))
H4: =IF(B3="","",VLOOKUP(B3,'A1'!A3:C20,3,FALSE))
A5: 1 | B5: =IF(B3="","",+B3/40)
A6: 2 | B6: =IF(B4="","",+B4/40)
A7: 3 | B7: =B6
A8: 4 | B8: =B7
A9: 5 | B9: =B8
A10: 6 | B10: =B9
A11: 7 | B11: =B10
A12: 8 | B12: =B11
A13: 9 | B13: =B12
A14: 10 | B14: =B13
A15: 11 | B15: =B14
A16: 12 | B16: =B15
A17: 13 | B17: =B16
A18: 14 | B18: =B17
... A44: 40 | B44: =B43

Sheet feuille C
B1: B2 = liste de nom à contrôler | E1: B3 = Si quantité alors impression de A2 à H44, sinon rien
A2: NOM : | B2: LEO | G2: date du jour | H2: =TODAY() -> 45046
A3: QUANTITE : | B3: =IF(B2="","",VLOOKUP(B2,'C1'!A2:B25,2,FALSE)) -> 86400 | G3: date envoi : | H3: =IF(B2="","",VLOOKUP(B2,'C1'!A3:C20,3,FALSE)) -> 45083
A4: 1 | B4: =IF(B3="","",B3/40) -> 2160
A5: 2 | B5: =B4 -> 2160
A6: 3 | B6: =B5 -> 2160
A7: 4 | B7: =B6 -> 2160
A8: 5 | B8: =B7 -> 2160
A9: 6 | B9: =B8 -> 2160
A10: 7 | B10: =B9 -> 2160
A11: 8 | B11: =B10 -> 2160
A12: 9 | B12: =B11 -> 2160
A13: 10 | B13: =B12 -> 2160
A14: 11 | B14: =B13 -> 2160
A15: 12 | B15: =B14 -> 2160
A16: 13 | B16: =B15 -> 2160
... A43: 40 | B43: =B42 -> 2160
