Workbook
Name AnnéeCalendrier: Janvier!$AG$4
Name CléAbsencenonjustifiée: Janvier!$Q$2
Name CléCongé: Janvier!$G$2
Name CléFormation: Janvier!$N$2
Name CléMaladie: Janvier!$J$2
Name CléReposhebdomadaire: Janvier!$B$2
Name ÉtiquetteCléCongé: Janvier!$C$2
Name ÉtiquetteCléMaladie: Janvier!$J$2
Name ÉtiquetteCléPersonnalisée1: Janvier!$M$2
Name ÉtiquetteCléPersonnalisée2: Janvier!$R$2
Name ÉtiquetteCléPersonnel: Janvier!$F$2
Name Nom_clé: Janvier!$A$2
Name NomMois: Août!$A$4
Name NomMois: Avril!$A$4
Name NomMois: Décembre!$A$4
Name NomMois: Février!$A$4
Name NomMois: Janvier!$A$4
Name NomMois: Juillet!$A$4
Name NomMois: Juin!$A$4
Name NomMois: Mai!$A$4
Name NomMois: Mars!$A$4
Name NomMois: Novembre!$A$4
Name NomMois: Octobre!$A$4
Name NomMois: Septembre!$A$4
Name Titre_Absence_Employé: Janvier!$A$1
Name Titre1: Janvier[[#Headers],[Nom de l’employé]]
Name Titre10: Octobre[[#Headers],[Nom de l’employé]]
Name Titre11: Novembre[[#Headers],[Nom de l’employé]]
Name Titre12: Décembre[[#Headers],[Nom de l’employé]]
Name Titre2: Février[[#Headers],[Nom de l’employé]]
Name Titre3: Mars[[#Headers],[Nom de l’employé]]
Name Titre4: Avril[[#Headers],[Nom de l’employé]]
Name Titre5: Mai[[#Headers],[Nom de l’employé]]
Name Titre6: Juin[[#Headers],[Nom de l’employé]]
Name Titre7: Juillet[[#Headers],[Nom de l’employé]]
Name Titre8: Août[[#Headers],[Nom de l’employé]]
Name Titre9: Septembre[[#Headers],[Nom de l’employé]]
Name TitreColonne13: NomEmployé[[#Headers],[Noms des employés]]

Sheet Paramétrage
B1: Noms des employés | G1: Code horaire
B2: Noms des employés | G2: CODE | H2: DETAIL DES HORAIRES | I2: HEURES EFFECTIVES
B3: Employé 1 | G3: ASH 1a | H3: 7h00 - 13h00 15h30 - 19h30 | I3: 10
B4: Employé 2 | G4: ASH 1b | H4: 7h30 - 12h30 13h00 - 15h30 17h30 - 20h00 | I4: 10
B5: Employé 3 | G5: ASH 2a | H5: 7h30 - 13h00 15h30 - 20h00 | I5: 10
B6: Employé 4 | G6: ASH 2b | H6: 7h30 - 12h30 13h00 - 15h30 17h30 - 20h00 | I6: 10
B7: Employé 5 | G7: ASH 3 | H7: 7h30 - 12h30 13h00 - 15h30 17h30 - 20h00 | I7: 10
B8: Employé 6 | G8: ASH 4 | H8: 9h00 - 12h00 13h00 - 17h00 | I8: 7
B9: Employé 7
B10: Employé 8
B11: Employé 9
B12: Employé 10
B13: Employé 11
B14: Employé 12
B15: Employé 13
B16: Employé 14
B17: Employé 15
B18: Employé 16
B19: Employé 17
B20: Employé 18
... B22: Employé 20

Sheet Cycle
B2: Clé de motif d’absence | C2: RH | D2: Repos hebdomadaire | H2: CP | I2: Congé | K2: ABS | L2: Absence non justifiée | P2: FO | Q2: Formation | S2: AM | T2: Arrêt Maladie
D4: SEMAINE 1 | K4: SEMAINE 2 | R4: SEMAINE 3 | Y4: SEMAINE 4
B5: Noms des employés | C5: Heures période | D5: LUN | E5: MAR. | F5: MER. | G5: JEU. | H5: VEN. | I5: SAM. | J5: DIM. | K5: LUN. | L5: MAR. | M5: MER. | N5: JEU. | O5: VEN. | P5: SAM. | Q5: DIM. | R5: LUN. | S5: MAR. | T5: MER. | U5: JEU. | V5: VEN. | W5: SAM. | X5: DIM. | Y5: LUN. | Z5: MAR. | AA5: MER. | AB5: JEU. | AC5: VEN. | AD5: SAM. | AE5: DIM.
A6: 1 | C6: =COUNTIF(D6:AE6,Paramétrage!$G$3)*Paramétrage!$I$3+COUNTIF(D6:AE6,Paramétrage!$G$4)*Paramétrage!$I$4+COUNTIF(D6:AE6,Paramétrage!$G$5)*Paramétrage!$I$5+COUNTIF(D6:AE6,Paramétrage!$G$6)*Paramétrage!$I$6+COUNTIF(D6:AE6,Paramétrage!$G$7)*Paramétrage!$I$7+COUNTIF(D6:AE6,Paramétrage!$G$8)*Paramétrage!$I$8+COUNTIF(D6:AE6,Paramétrage!$G$9)*Paramétrage!$I$9+COUNTIF(D6:AE6,Paramétrage!$G$10)*Paramétrage!$I$10+COUNTIF(D6:AE6,Paramétrage!$G$11)*Paramétrage!$I$11+COUNTIF(D6:AE6,Paramétrage!$G$12)*Paramétrage!$I$12+COUNTIF(D6:AE6,Paramétrage!$G$13)*Paramétrage!$I$13+COUNTIF(D6:AE6,Paramétrage!$G$14*Paramétrage!$I$14+COUNTIF(D6:AE6,Paramétrage!$G$15)*Paramétrage!$I$15+COUNTIF(D6:AE6,Paramétrage!$G$16)*Paramétrage!$I$16) -> 140 | D6: ASH 1a | E6: RH | F6: RH | G6: ASH 1a | H6: ASH 1a | I6: RH | J6: RH | K6: RH | L6: ASH 1a | M6: ASH 1a | N6: RH | O6: RH | P6: ASH 1a | Q6: ASH 1a | R6: ASH 1a | S6: RH | T6: RH | U6: ASH 1a | V6: ASH 1a | W6: RH | X6: RH | Y6: RH | Z6: ASH 1a | AA6: ASH 1a | AB6: RH | AC6: RH | AD6: ASH 1a | AE6: ASH 1a
A7: 2 | C7: =COUNTIF(D7:AE7,Paramétrage!$G$3)*Paramétrage!$I$3+COUNTIF(D7:AE7,Paramétrage!$G$4)*Paramétrage!$I$4+COUNTIF(D7:AE7,Paramétrage!$G$5)*Paramétrage!$I$5+COUNTIF(D7:AE7,Paramétrage!$G$6)*Paramétrage!$I$6+COUNTIF(D7:AE7,Paramétrage!$G$7)*Paramétrage!$I$7+COUNTIF(D7:AE7,Paramétrage!$G$8)*Paramétrage!$I$8+COUNTIF(D7:AE7,Paramétrage!$G$9)*Paramétrage!$I$9+COUNTIF(D7:AE7,Paramétrage!$G$10)*Paramétrage!$I$10+COUNTIF(D7:AE7,Paramétrage!$G$11)*Paramétrage!$I$11+COUNTIF(D7:AE7,Paramétrage!$G$12)*Paramétrage!$I$12+COUNTIF(D7:AE7,Paramétrage!$G$13)*Paramétrage!$I$13+COUNTIF(D7:AE7,Paramétrage!$G$14*Paramétrage!$I$14+COUNTIF(D7:AE7,Paramétrage!$G$15)*Paramétrage!$I$15+COUNTIF(D7:AE7,Paramétrage!$G$16)*Paramétrage!$I$16) -> 140 | D7: ASH 1b | E7: RH | F7: RH | G7: ASH 1b | H7: ASH 1b | I7: RH | J7: RH | K7: RH | L7: ASH 1b | M7: ASH 1b | N7: RH | O7: RH | P7: ASH 1b | Q7: ASH 1b | R7: ASH 1b | S7: RH | T7: RH | U7: ASH 1b | V7: ASH 1b | W7: RH | X7: RH | Y7: RH | Z7: ASH 1b | AA7: ASH 1b | AB7: RH | AC7: RH | AD7: ASH 1b | AE7: ASH 1b
A8: 3 | C8: =COUNTIF(D8:AE8,Paramétrage!$G$3)*Paramétrage!$I$3+COUNTIF(D8:AE8,Paramétrage!$G$4)*Paramétrage!$I$4+COUNTIF(D8:AE8,Paramétrage!$G$5)*Paramétrage!$I$5+COUNTIF(D8:AE8,Paramétrage!$G$6)*Paramétrage!$I$6+COUNTIF(D8:AE8,Paramétrage!$G$7)*Paramétrage!$I$7+COUNTIF(D8:AE8,Paramétrage!$G$8)*Paramétrage!$I$8+COUNTIF(D8:AE8,Paramétrage!$G$9)*Paramétrage!$I$9+COUNTIF(D8:AE8,Paramétrage!$G$10)*Paramétrage!$I$10+COUNTIF(D8:AE8,Paramétrage!$G$11)*Paramétrage!$I$11+COUNTIF(D8:AE8,Paramétrage!$G$12)*Paramétrage!$I$12+COUNTIF(D8:AE8,Paramétrage!$G$13)*Paramétrage!$I$13+COUNTIF(D8:AE8,Paramétrage!$G$14*Paramétrage!$I$14+COUNTIF(D8:AE8,Paramétrage!$G$15)*Paramétrage!$I$15+COUNTIF(D8:AE8,Paramétrage!$G$16)*Paramétrage!$I$16) -> 140 | D8: ASH 2a | E8: RH | F8: RH | G8: ASH 2a | H8: ASH 2a | I8: RH | J8: RH | K8: RH | L8: ASH 2a | M8: ASH 2a | N8: RH | O8: RH | P8: ASH 2a | Q8: ASH 2a | R8: ASH 2a | S8: RH | T8: RH | U8: ASH 2a | V8: ASH 2a | W8: RH | X8: RH | Y8: RH | Z8: ASH 2a | AA8: ASH 2a | AB8: RH | AC8: RH | AD8: ASH 2a | AE8: ASH 2a
A9: 4 | C9: =COUNTIF(D9:AE9,Paramétrage!$G$3)*Paramétrage!$I$3+COUNTIF(D9:AE9,Paramétrage!$G$4)*Paramétrage!$I$4+COUNTIF(D9:AE9,Paramétrage!$G$5)*Paramétrage!$I$5+COUNTIF(D9:AE9,Paramétrage!$G$6)*Paramétrage!$I$6+COUNTIF(D9:AE9,Paramétrage!$G$7)*Paramétrage!$I$7+COUNTIF(D9:AE9,Paramétrage!$G$8)*Paramétrage!$I$8+COUNTIF(D9:AE9,Paramétrage!$G$9)*Paramétrage!$I$9+COUNTIF(D9:AE9,Paramétrage!$G$10)*Paramétrage!$I$10+COUNTIF(D9:AE9,Paramétrage!$G$11)*Paramétrage!$I$11+COUNTIF(D9:AE9,Paramétrage!$G$12)*Paramétrage!$I$12+COUNTIF(D9:AE9,Paramétrage!$G$13)*Paramétrage!$I$13+COUNTIF(D9:AE9,Paramétrage!$G$14*Paramétrage!$I$14+COUNTIF(D9:AE9,Paramétrage!$G$15)*Paramétrage!$I$15+COUNTIF(D9:AE9,Paramétrage!$G$16)*Paramétrage!$I$16) -> 140 | D9: ASH 2b | E9: RH | F9: RH | G9: ASH 2b | H9: ASH 2b | I9: RH | J9: RH | K9: RH | L9: ASH 2b | M9: ASH 2b | N9: RH | O9: RH | P9: ASH 2b | Q9: ASH 2b | R9: ASH 2b | S9: RH | T9: RH | U9: ASH 2b | V9: ASH 2b | W9: RH | X9: RH | Y9: RH | Z9: ASH 2b | AA9: ASH 2b | AB9: RH | AC9: RH | AD9: ASH 2b | AE9: ASH 2b
A10: 5 | C10: =COUNTIF(D10:AE10,Paramétrage!$G$3)*Paramétrage!$I$3+COUNTIF(D10:AE10,Paramétrage!$G$4)*Paramétrage!$I$4+COUNTIF(D10:AE10,Paramétrage!$G$5)*Paramétrage!$I$5+COUNTIF(D10:AE10,Paramétrage!$G$6)*Paramétrage!$I$6+COUNTIF(D10:AE10,Paramétrage!$G$7)*Paramétrage!$I$7+COUNTIF(D10:AE10,Paramétrage!$G$8)*Paramétrage!$I$8+COUNTIF(D10:AE10,Paramétrage!$G$9)*Paramétrage!$I$9+COUNTIF(D10:AE10,Paramétrage!$G$10)*Paramétrage!$I$10+COUNTIF(D10:AE10,Paramétrage!$G$11)*Paramétrage!$I$11+COUNTIF(D10:AE10,Paramétrage!$G$12)*Paramétrage!$I$12+COUNTIF(D10:AE10,Paramétrage!$G$13)*Paramétrage!$I$13+COUNTIF(D10:AE10,Paramétrage!$G$14*Paramétrage!$I$14+COUNTIF(D10:AE10,Paramétrage!$G$15)*Paramétrage!$I$15+COUNTIF(D10:AE10,Paramétrage!$G$16)*Paramétrage!$I$16) -> 140 | D10: ASH 3 | E10: RH | F10: RH | G10: ASH 3 | H10: ASH 3 | I10: RH | J10: RH | K10: RH | L10: ASH 3 | M10: ASH 3 | N10: RH | O10: RH | P10: ASH 3 | Q10: ASH 3 | R10: ASH 3 | S10: RH | T10: RH | U10: ASH 3 | V10: ASH 3 | W10: RH | X10: RH | Y10: RH | Z10: ASH 3 | AA10: ASH 3 | AB10: RH | AC10: RH | AD10: ASH 3 | AE10: ASH 3
A11: 6 | C11: =COUNTIF(D11:AE11,Paramétrage!$G$3)*Paramétrage!$I$3+COUNTIF(D11:AE11,Paramétrage!$G$4)*Paramétrage!$I$4+COUNTIF(D11:AE11,Paramétrage!$G$5)*Paramétrage!$I$5+COUNTIF(D11:AE11,Paramétrage!$G$6)*Paramétrage!$I$6+COUNTIF(D11:AE11,Paramétrage!$G$7)*Paramétrage!$I$7+COUNTIF(D11:AE11,Paramétrage!$G$8)*Paramétrage!$I$8+COUNTIF(D11:AE11,Paramétrage!$G$9)*Paramétrage!$I$9+COUNTIF(D11:AE11,Paramétrage!$G$10)*Paramétrage!$I$10+COUNTIF(D11:AE11,Paramétrage!$G$11)*Paramétrage!$I$11+COUNTIF(D11:AE11,Paramétrage!$G$12)*Paramétrage!$I$12+COUNTIF(D11:AE11,Paramétrage!$G$13)*Paramétrage!$I$13+COUNTIF(D11:AE11,Paramétrage!$G$14*Paramétrage!$I$14+COUNTIF(D11:AE11,Paramétrage!$G$15)*Paramétrage!$I$15+COUNTIF(D11:AE11,Paramétrage!$G$16)*Paramétrage!$I$16) -> 140 | D11: ASH 4 | E11: ASH 4 | F11: ASH 4 | G11: ASH 4 | H11: ASH 4 | I11: RH | J11: RH | K11: ASH 4 | L11: ASH 4 | M11: ASH 4 | N11: ASH 4 | O11: ASH 4 | P11: RH | Q11: RH | R11: ASH 4 | S11: ASH 4 | T11: ASH 4 | U11: ASH 4 | V11: ASH 4 | W11: RH | X11: RH | Y11: ASH 4 | Z11: ASH 4 | AA11: ASH 4 | AB11: ASH 4 | AC11: ASH 4 | AD11: RH | AE11: RH
A12: 7 | C12: =COUNTIF(D12:AE12,Paramétrage!$G$3)*Paramétrage!$I$3+COUNTIF(D12:AE12,Paramétrage!$G$4)*Paramétrage!$I$4+COUNTIF(D12:AE12,Paramétrage!$G$5)*Paramétrage!$I$5+COUNTIF(D12:AE12,Paramétrage!$G$6)*Paramétrage!$I$6+COUNTIF(D12:AE12,Paramétrage!$G$7)*Paramétrage!$I$7+COUNTIF(D12:AE12,Paramétrage!$G$8)*Paramétrage!$I$8+COUNTIF(D12:AE12,Paramétrage!$G$9)*Paramétrage!$I$9+COUNTIF(D12:AE12,Paramétrage!$G$10)*Paramétrage!$I$10+COUNTIF(D12:AE12,Paramétrage!$G$11)*Paramétrage!$I$11+COUNTIF(D12:AE12,Paramétrage!$G$12)*Paramétrage!$I$12+COUNTIF(D12:AE12,Paramétrage!$G$13)*Paramétrage!$I$13+COUNTIF(D12:AE12,Paramétrage!$G$14*Paramétrage!$I$14+COUNTIF(D12:AE12,Paramétrage!$G$15)*Paramétrage!$I$15+COUNTIF(D12:AE12,Paramétrage!$G$16)*Paramétrage!$I$16) -> 140 | D12: RH | E12: ASH 1a | F12: ASH 1a | G12: RH | H12: RH | I12: ASH 1a | J12: ASH 1a | K12: ASH 1a | L12: RH | M12: RH | N12: ASH 1a | O12: ASH 1a | P12: RH | Q12: RH | R12: RH | S12: ASH 1a | T12: ASH 1a | U12: RH | V12: RH | W12: ASH 1a | X12: ASH 1a | Y12: ASH 1a | Z12: RH | AA12: RH | AB12: ASH 1a | AC12: ASH 1a | AD12: RH | AE12: RH
A13: 8 | C13: =COUNTIF(D13:AE13,Paramétrage!$G$3)*Paramétrage!$I$3+COUNTIF(D13:AE13,Paramétrage!$G$4)*Paramétrage!$I$4+COUNTIF(D13:AE13,Paramétrage!$G$5)*Paramétrage!$I$5+COUNTIF(D13:AE13,Paramétrage!$G$6)*Paramétrage!$I$6+COUNTIF(D13:AE13,Paramétrage!$G$7)*Paramétrage!$I$7+COUNTIF(D13:AE13,Paramétrage!$G$8)*Paramétrage!$I$8+COUNTIF(D13:AE13,Paramétrage!$G$9)*Paramétrage!$I$9+COUNTIF(D13:AE13,Paramétrage!$G$10)*Paramétrage!$I$10+COUNTIF(D13:AE13,Paramétrage!$G$11)*Paramétrage!$I$11+COUNTIF(D13:AE13,Paramétrage!$G$12)*Paramétrage!$I$12+COUNTIF(D13:AE13,Paramétrage!$G$13)*Paramétrage!$I$13+COUNTIF(D13:AE13,Paramétrage!$G$14*Paramétrage!$I$14+COUNTIF(D13:AE13,Paramétrage!$G$15)*Paramétrage!$I$15+COUNTIF(D13:AE13,Paramétrage!$G$16)*Paramétrage!$I$16) -> 140 | D13: RH | E13: ASH 1b | F13: ASH 1b | G13: RH | H13: RH | I13: ASH 1b | J13: ASH 1b | K13: ASH 1b | L13: RH | M13: RH | N13: ASH 1b | O13: ASH 1b | P13: RH | Q13: RH | R13: RH | S13: ASH 1b | T13: ASH 1b | U13: RH | V13: RH | W13: ASH 1b | X13: ASH 1b | Y13: ASH 1b | Z13: RH | AA13: RH | AB13: ASH 1b | AC13: ASH 1b | AD13: RH | AE13: RH
A14: 9 | C14: =COUNTIF(D14:AE14,Paramétrage!$G$3)*Paramétrage!$I$3+COUNTIF(D14:AE14,Paramétrage!$G$4)*Paramétrage!$I$4+COUNTIF(D14:AE14,Paramétrage!$G$5)*Paramétrage!$I$5+COUNTIF(D14:AE14,Paramétrage!$G$6)*Paramétrage!$I$6+COUNTIF(D14:AE14,Paramétrage!$G$7)*Paramétrage!$I$7+COUNTIF(D14:AE14,Paramétrage!$G$8)*Paramétrage!$I$8+COUNTIF(D14:AE14,Paramétrage!$G$9)*Paramétrage!$I$9+COUNTIF(D14:AE14,Paramétrage!$G$10)*Paramétrage!$I$10+COUNTIF(D14:AE14,Paramétrage!$G$11)*Paramétrage!$I$11+COUNTIF(D14:AE14,Paramétrage!$G$12)*Paramétrage!$I$12+COUNTIF(D14:AE14,Paramétrage!$G$13)*Paramétrage!$I$13+COUNTIF(D14:AE14,Paramétrage!$G$14*Paramétrage!$I$14+COUNTIF(D14:AE14,Paramétrage!$G$15)*Paramétrage!$I$15+COUNTIF(D14:AE14,Paramétrage!$G$16)*Paramétrage!$I$16) -> 140 | D14: RH | E14: ASH 2a | F14: ASH 2a | G14: RH | H14: RH | I14: ASH 2a | J14: ASH 2a | K14: ASH 2a | L14: RH | M14: RH | N14: ASH 2a | O14: ASH 2a | P14: RH | Q14: RH | R14: RH | S14: ASH 2a | T14: ASH 2a | U14: RH | V14: RH | W14: ASH 2a | X14: ASH 2a | Y14: ASH 2a | Z14: RH | AA14: RH | AB14: ASH 2a | AC14: ASH 2a | AD14: RH | AE14: RH
A15: 10 | C15: =COUNTIF(D15:AE15,Paramétrage!$G$3)*Paramétrage!$I$3+COUNTIF(D15:AE15,Paramétrage!$G$4)*Paramétrage!$I$4+COUNTIF(D15:AE15,Paramétrage!$G$5)*Paramétrage!$I$5+COUNTIF(D15:AE15,Paramétrage!$G$6)*Paramétrage!$I$6+COUNTIF(D15:AE15,Paramétrage!$G$7)*Paramétrage!$I$7+COUNTIF(D15:AE15,Paramétrage!$G$8)*Paramétrage!$I$8+COUNTIF(D15:AE15,Paramétrage!$G$9)*Paramétrage!$I$9+COUNTIF(D15:AE15,Paramétrage!$G$10)*Paramétrage!$I$10+COUNTIF(D15:AE15,Paramétrage!$G$11)*Paramétrage!$I$11+COUNTIF(D15:AE15,Paramétrage!$G$12)*Paramétrage!$I$12+COUNTIF(D15:AE15,Paramétrage!$G$13)*Paramétrage!$I$13+COUNTIF(D15:AE15,Paramétrage!$G$14*Paramétrage!$I$14+COUNTIF(D15:AE15,Paramétrage!$G$15)*Paramétrage!$I$15+COUNTIF(D15:AE15,Paramétrage!$G$16)*Paramétrage!$I$16) -> 140 | D15: RH | E15: ASH 2b | F15: ASH 2b | G15: RH | H15: RH | I15: ASH 2b | J15: ASH 2b | K15: ASH 2b | L15: RH | M15: RH | N15: ASH 2b | O15: ASH 2b | P15: RH | Q15: RH | R15: RH | S15: ASH 2b | T15: ASH 2b | U15: RH | V15: RH | W15: ASH 2b | X15: ASH 2b | Y15: ASH 2b | Z15: RH | AA15: RH | AB15: ASH 2b | AC15: ASH 2b | AD15: RH | AE15: RH
A16: 11 | C16: =COUNTIF(D16:AE16,Paramétrage!$G$3)*Paramétrage!$I$3+COUNTIF(D16:AE16,Paramétrage!$G$4)*Paramétrage!$I$4+COUNTIF(D16:AE16,Paramétrage!$G$5)*Paramétrage!$I$5+COUNTIF(D16:AE16,Paramétrage!$G$6)*Paramétrage!$I$6+COUNTIF(D16:AE16,Paramétrage!$G$7)*Paramétrage!$I$7+COUNTIF(D16:AE16,Paramétrage!$G$8)*Paramétrage!$I$8+COUNTIF(D16:AE16,Paramétrage!$G$9)*Paramétrage!$I$9+COUNTIF(D16:AE16,Paramétrage!$G$10)*Paramétrage!$I$10+COUNTIF(D16:AE16,Paramétrage!$G$11)*Paramétrage!$I$11+COUNTIF(D16:AE16,Paramétrage!$G$12)*Paramétrage!$I$12+COUNTIF(D16:AE16,Paramétrage!$G$13)*Paramétrage!$I$13+COUNTIF(D16:AE16,Paramétrage!$G$14*Paramétrage!$I$14+COUNTIF(D16:AE16,Paramétrage!$G$15)*Paramétrage!$I$15+COUNTIF(D16:AE16,Paramétrage!$G$16)*Paramétrage!$I$16) -> 140 | D16: RH | E16: ASH 3 | F16: ASH 3 | G16: RH | H16: RH | I16: ASH 3 | J16: ASH 3 | K16: ASH 3 | L16: RH | M16: RH | N16: ASH 3 | O16: ASH 3 | P16: RH | Q16: RH | R16: RH | S16: ASH 3 | T16: ASH 3 | U16: RH | V16: RH | W16: ASH 3 | X16: ASH 3 | Y16: ASH 3 | Z16: RH | AA16: RH | AB16: ASH 3 | AC16: ASH 3 | AD16: RH | AE16: RH
A17: 12 | C17: =COUNTIF(D17:AE17,Paramétrage!$G$3)*Paramétrage!$I$3+COUNTIF(D17:AE17,Paramétrage!$G$4)*Paramétrage!$I$4+COUNTIF(D17:AE17,Paramétrage!$G$5)*Paramétrage!$I$5+COUNTIF(D17:AE17,Paramétrage!$G$6)*Paramétrage!$I$6+COUNTIF(D17:AE17,Paramétrage!$G$7)*Paramétrage!$I$7+COUNTIF(D17:AE17,Paramétrage!$G$8)*Paramétrage!$I$8+COUNTIF(D17:AE17,Paramétrage!$G$9)*Paramétrage!$I$9+COUNTIF(D17:AE17,Paramétrage!$G$10)*Paramétrage!$I$10+COUNTIF(D17:AE17,Paramétrage!$G$11)*Paramétrage!$I$11+COUNTIF(D17:AE17,Paramétrage!$G$12)*Paramétrage!$I$12+COUNTIF(D17:AE17,Paramétrage!$G$13)*Paramétrage!$I$13+COUNTIF(D17:AE17,Paramétrage!$G$14*Paramétrage!$I$14+COUNTIF(D17:AE17,Paramétrage!$G$15)*Paramétrage!$I$15+COUNTIF(D17:AE17,Paramétrage!$G$16)*Paramétrage!$I$16) -> 0
A18: 13 | C18: =COUNTIF(D18:AE18,Paramétrage!$G$3)*Paramétrage!$I$3+COUNTIF(D18:AE18,Paramétrage!$G$4)*Paramétrage!$I$4+COUNTIF(D18:AE18,Paramétrage!$G$5)*Paramétrage!$I$5+COUNTIF(D18:AE18,Paramétrage!$G$6)*Paramétrage!$I$6+COUNTIF(D18:AE18,Paramétrage!$G$7)*Paramétrage!$I$7+COUNTIF(D18:AE18,Paramétrage!$G$8)*Paramétrage!$I$8+COUNTIF(D18:AE18,Paramétrage!$G$9)*Paramétrage!$I$9+COUNTIF(D18:AE18,Paramétrage!$G$10)*Paramétrage!$I$10+COUNTIF(D18:AE18,Paramétrage!$G$11)*Paramétrage!$I$11+COUNTIF(D18:AE18,Paramétrage!$G$12)*Paramétrage!$I$12+COUNTIF(D18:AE18,Paramétrage!$G$13)*Paramétrage!$I$13+COUNTIF(D18:AE18,Paramétrage!$G$14*Paramétrage!$I$14+COUNTIF(D18:AE18,Paramétrage!$G$15)*Paramétrage!$I$15+COUNTIF(D18:AE18,Paramétrage!$G$16)*Paramétrage!$I$16) -> 0 | D18: AM | E18: AM | F18: AM | G18: AM | H18: AM | I18: AM | J18: AM | K18: AM | L18: AM | M18: AM | N18: AM | O18: AM | P18: AM | Q18: AM | R18: AM | S18: AM | T18: AM | U18: AM | V18: AM | W18: AM | X18: AM | Y18: AM | Z18: AM | AA18: AM | AB18: AM | AC18: AM | AD18: AM | AE18: AM
A19: 14 | C19: =COUNTIF(D19:AE19,Paramétrage!$G$3)*Paramétrage!$I$3+COUNTIF(D19:AE19,Paramétrage!$G$4)*Paramétrage!$I$4+COUNTIF(D19:AE19,Paramétrage!$G$5)*Paramétrage!$I$5+COUNTIF(D19:AE19,Paramétrage!$G$6)*Paramétrage!$I$6+COUNTIF(D19:AE19,Paramétrage!$G$7)*Paramétrage!$I$7+COUNTIF(D19:AE19,Paramétrage!$G$8)*Paramétrage!$I$8+COUNTIF(D19:AE19,Paramétrage!$G$9)*Paramétrage!$I$9+COUNTIF(D19:AE19,Paramétrage!$G$10)*Paramétrage!$I$10+COUNTIF(D19:AE19,Paramétrage!$G$11)*Paramétrage!$I$11+COUNTIF(D19:AE19,Paramétrage!$G$12)*Paramétrage!$I$12+COUNTIF(D19:AE19,Paramétrage!$G$13)*Paramétrage!$I$13+COUNTIF(D19:AE19,Paramétrage!$G$14*Paramétrage!$I$14+COUNTIF(D19:AE19,Paramétrage!$G$15)*Paramétrage!$I$15+COUNTIF(D19:AE19,Paramétrage!$G$16)*Paramétrage!$I$16) -> 0
A20: 15 | C20: =COUNTIF(D20:AE20,Paramétrage!$G$3)*Paramétrage!$I$3+COUNTIF(D20:AE20,Paramétrage!$G$4)*Paramétrage!$I$4+COUNTIF(D20:AE20,Paramétrage!$G$5)*Paramétrage!$I$5+COUNTIF(D20:AE20,Paramétrage!$G$6)*Paramétrage!$I$6+COUNTIF(D20:AE20,Paramétrage!$G$7)*Paramétrage!$I$7+COUNTIF(D20:AE20,Paramétrage!$G$8)*Paramétrage!$I$8+COUNTIF(D20:AE20,Paramétrage!$G$9)*Paramétrage!$I$9+COUNTIF(D20:AE20,Paramétrage!$G$10)*Paramétrage!$I$10+COUNTIF(D20:AE20,Paramétrage!$G$11)*Paramétrage!$I$11+COUNTIF(D20:AE20,Paramétrage!$G$12)*Paramétrage!$I$12+COUNTIF(D20:AE20,Paramétrage!$G$13)*Paramétrage!$I$13+COUNTIF(D20:AE20,Paramétrage!$G$14*Paramétrage!$I$14+COUNTIF(D20:AE20,Paramétrage!$G$15)*Paramétrage!$I$15+COUNTIF(D20:AE20,Paramétrage!$G$16)*Paramétrage!$I$16) -> 0
A21: 16 | C21: =COUNTIF(D21:AE21,Paramétrage!$G$3)*Paramétrage!$I$3+COUNTIF(D21:AE21,Paramétrage!$G$4)*Paramétrage!$I$4+COUNTIF(D21:AE21,Paramétrage!$G$5)*Paramétrage!$I$5+COUNTIF(D21:AE21,Paramétrage!$G$6)*Paramétrage!$I$6+COUNTIF(D21:AE21,Paramétrage!$G$7)*Paramétrage!$I$7+COUNTIF(D21:AE21,Paramétrage!$G$8)*Paramétrage!$I$8+COUNTIF(D21:AE21,Paramétrage!$G$9)*Paramétrage!$I$9+COUNTIF(D21:AE21,Paramétrage!$G$10)*Paramétrage!$I$10+COUNTIF(D21:AE21,Paramétrage!$G$11)*Paramétrage!$I$11+COUNTIF(D21:AE21,Paramétrage!$G$12)*Paramétrage!$I$12+COUNTIF(D21:AE21,Paramétrage!$G$13)*Paramétrage!$I$13+COUNTIF(D21:AE21,Paramétrage!$G$14*Paramétrage!$I$14+COUNTIF(D21:AE21,Paramétrage!$G$15)*Paramétrage!$I$15+COUNTIF(D21:AE21,Paramétrage!$G$16)*Paramétrage!$I$16) -> 0
A22: 17 | C22: =COUNTIF(D22:AE22,Paramétrage!$G$3)*Paramétrage!$I$3+COUNTIF(D22:AE22,Paramétrage!$G$4)*Paramétrage!$I$4+COUNTIF(D22:AE22,Paramétrage!$G$5)*Paramétrage!$I$5+COUNTIF(D22:AE22,Paramétrage!$G$6)*Paramétrage!$I$6+COUNTIF(D22:AE22,Paramétrage!$G$7)*Paramétrage!$I$7+COUNTIF(D22:AE22,Paramétrage!$G$8)*Paramétrage!$I$8+COUNTIF(D22:AE22,Paramétrage!$G$9)*Paramétrage!$I$9+COUNTIF(D22:AE22,Paramétrage!$G$10)*Paramétrage!$I$10+COUNTIF(D22:AE22,Paramétrage!$G$11)*Paramétrage!$I$11+COUNTIF(D22:AE22,Paramétrage!$G$12)*Paramétrage!$I$12+COUNTIF(D22:AE22,Paramétrage!$G$13)*Paramétrage!$I$13+COUNTIF(D22:AE22,Paramétrage!$G$14*Paramétrage!$I$14+COUNTIF(D22:AE22,Paramétrage!$G$15)*Paramétrage!$I$15+COUNTIF(D22:AE22,Paramétrage!$G$16)*Paramétrage!$I$16) -> 0
A23: 18 | C23: =COUNTIF(D23:AE23,Paramétrage!$G$3)*Paramétrage!$I$3+COUNTIF(D23:AE23,Paramétrage!$G$4)*Paramétrage!$I$4+COUNTIF(D23:AE23,Paramétrage!$G$5)*Paramétrage!$I$5+COUNTIF(D23:AE23,Paramétrage!$G$6)*Paramétrage!$I$6+COUNTIF(D23:AE23,Paramétrage!$G$7)*Paramétrage!$I$7+COUNTIF(D23:AE23,Paramétrage!$G$8)*Paramétrage!$I$8+COUNTIF(D23:AE23,Paramétrage!$G$9)*Paramétrage!$I$9+COUNTIF(D23:AE23,Paramétrage!$G$10)*Paramétrage!$I$10+COUNTIF(D23:AE23,Paramétrage!$G$11)*Paramétrage!$I$11+COUNTIF(D23:AE23,Paramétrage!$G$12)*Paramétrage!$I$12+COUNTIF(D23:AE23,Paramétrage!$G$13)*Paramétrage!$I$13+COUNTIF(D23:AE23,Paramétrage!$G$14*Paramétrage!$I$14+COUNTIF(D23:AE23,Paramétrage!$G$15)*Paramétrage!$I$15+COUNTIF(D23:AE23,Paramétrage!$G$16)*Paramétrage!$I$16) -> 0
A24: 19 | C24: =COUNTIF(D24:AE24,Paramétrage!$G$3)*Paramétrage!$I$3+COUNTIF(D24:AE24,Paramétrage!$G$4)*Paramétrage!$I$4+COUNTIF(D24:AE24,Paramétrage!$G$5)*Paramétrage!$I$5+COUNTIF(D24:AE24,Paramétrage!$G$6)*Paramétrage!$I$6+COUNTIF(D24:AE24,Paramétrage!$G$7)*Paramétrage!$I$7+COUNTIF(D24:AE24,Paramétrage!$G$8)*Paramétrage!$I$8+COUNTIF(D24:AE24,Paramétrage!$G$9)*Paramétrage!$I$9+COUNTIF(D24:AE24,Paramétrage!$G$10)*Paramétrage!$I$10+COUNTIF(D24:AE24,Paramétrage!$G$11)*Paramétrage!$I$11+COUNTIF(D24:AE24,Paramétrage!$G$12)*Paramétrage!$I$12+COUNTIF(D24:AE24,Paramétrage!$G$13)*Paramétrage!$I$13+COUNTIF(D24:AE24,Paramétrage!$G$14*Paramétrage!$I$14+COUNTIF(D24:AE24,Paramétrage!$G$15)*Paramétrage!$I$15+COUNTIF(D24:AE24,Paramétrage!$G$16)*Paramétrage!$I$16) -> 0
A25: 20 | C25: =COUNTIF(D25:AE25,Paramétrage!$G$3)*Paramétrage!$I$3+COUNTIF(D25:AE25,Paramétrage!$G$4)*Paramétrage!$I$4+COUNTIF(D25:AE25,Paramétrage!$G$5)*Paramétrage!$I$5+COUNTIF(D25:AE25,Paramétrage!$G$6)*Paramétrage!$I$6+COUNTIF(D25:AE25,Paramétrage!$G$7)*Paramétrage!$I$7+COUNTIF(D25:AE25,Paramétrage!$G$8)*Paramétrage!$I$8+COUNTIF(D25:AE25,Paramétrage!$G$9)*Paramétrage!$I$9+COUNTIF(D25:AE25,Paramétrage!$G$10)*Paramétrage!$I$10+COUNTIF(D25:AE25,Paramétrage!$G$11)*Paramétrage!$I$11+COUNTIF(D25:AE25,Paramétrage!$G$12)*Paramétrage!$I$12+COUNTIF(D25:AE25,Paramétrage!$G$13)*Paramétrage!$I$13+COUNTIF(D25:AE25,Paramétrage!$G$14*Paramétrage!$I$14+COUNTIF(D25:AE25,Paramétrage!$G$15)*Paramétrage!$I$15+COUNTIF(D25:AE25,Paramétrage!$G$16)*Paramétrage!$I$16) -> 0

Sheet Janvier
A1: PLANNING MENSUEL
A2: Clé de motif d’absence | B2: RH | C2: Repos hebdomadaire | G2: CP | H2: Congé | J2: AM | K2: Arrêt Maladie | N2: FO | O2: Formation | Q2: ABS | R2: Absence non justifiée
AG3: Entrez l’année :
A4: Janvier | B4: Poste | AG4: 2023
B5: =TEXT(WEEKDAY(DATE(AnnéeCalendrier,1,1),1),"jjj") -> dim | C5: =TEXT(WEEKDAY(DATE(AnnéeCalendrier,1,2),1),"jjj") -> lun | D5: =TEXT(WEEKDAY(DATE(AnnéeCalendrier,1,3),1),"jjj") -> mar | E5: =TEXT(WEEKDAY(DATE(AnnéeCalendrier,1,4),1),"jjj") -> mer | F5: =TEXT(WEEKDAY(DATE(AnnéeCalendrier,1,5),1),"jjj") -> jeu | G5: =TEXT(WEEKDAY(DATE(AnnéeCalendrier,1,6),1),"jjj") -> ven | H5: =TEXT(WEEKDAY(DATE(AnnéeCalendrier,1,7),1),"jjj") -> sam | I5: =TEXT(WEEKDAY(DATE(AnnéeCalendrier,1,8),1),"jjj") -> dim | J5: =TEXT(WEEKDAY(DATE(AnnéeCalendrier,1,9),1),"jjj") -> lun | K5: =TEXT(WEEKDAY(DATE(AnnéeCalendrier,1,10),1),"jjj") -> mar | L5: =TEXT(WEEKDAY(DATE(AnnéeCalendrier,1,11),1),"jjj") -> mer | M5: =TEXT(WEEKDAY(DATE(AnnéeCalendrier,1,12),1),"jjj") -> jeu | N5: =TEXT(WEEKDAY(DATE(AnnéeCalendrier,1,13),1),"jjj") -> ven | O5: =TEXT(WEEKDAY(DATE(AnnéeCalendrier,1,14),1),"jjj") -> sam | P5: =TEXT(WEEKDAY(DATE(AnnéeCalendrier,1,15),1),"jjj") -> dim | Q5: =TEXT(WEEKDAY(DATE(AnnéeCalendrier,1,16),1),"jjj") -> lun | R5: =TEXT(WEEKDAY(DATE(AnnéeCalendrier,1,17),1),"jjj") -> mar | S5: =TEXT(WEEKDAY(DATE(AnnéeCalendrier,1,18),1),"jjj") -> mer | T5: =TEXT(WEEKDAY(DATE(AnnéeCalendrier,1,19),1),"jjj") -> jeu | U5: =TEXT(WEEKDAY(DATE(AnnéeCalendrier,1,20),1),"jjj") -> ven | V5: =TEXT(WEEKDAY(DATE(AnnéeCalendrier,1,21),1),"jjj") -> sam | W5: =TEXT(WEEKDAY(DATE(AnnéeCalendrier,1,22),1),"jjj") -> dim | X5: =TEXT(WEEKDAY(DATE(AnnéeCalendrier,1,23),1),"jjj") -> lun | Y5: =TEXT(WEEKDAY(DATE(AnnéeCalendrier,1,24),1),"jjj") -> mar | Z5: =TEXT(WEEKDAY(DATE(AnnéeCalendrier,1,25),1),"jjj") -> mer | AA5: =TEXT(WEEKDAY(DATE(AnnéeCalendrier,1,26),1),"jjj") -> jeu | AB5: =TEXT(WEEKDAY(DATE(AnnéeCalendrier,1,27),1),"jjj") -> ven | AC5: =TEXT(WEEKDAY(DATE(AnnéeCalendrier,1,28),1),"jjj") -> sam | AD5: =TEXT(WEEKDAY(DATE(AnnéeCalendrier,1,29),1),"jjj") -> dim | AE5: =TEXT(WEEKDAY(DATE(AnnéeCalendrier,1,30),1),"jjj") -> lun | AF5: =TEXT(WEEKDAY(DATE(AnnéeCalendrier,1,31),1),"jjj") -> mar
A6: Nom de l’employé | B6: 1 | C6: 2 | D6: 3 | E6: 4 | F6: 5 | G6: 6 | H6: 7 | I6: 8 | J6: 9 | K6: 10 | L6: 11 | M6: 12 | N6: 13 | O6: 14 | P6: 15 | Q6: 16 | R6: 17 | S6: 18 | T6: 19 | U6: 20 | V6: 21 | W6: 22 | X6: 23 | Y6: 24 | Z6: 25 | AA6: 26 | AB6: 27 | AC6: 28 | AD6: 29 | AE6: 30 | AF6: 31 | AG6: Total des Heures effectuées
A7: Employé 1 | AG7: =COUNTIF(Janvier[[#This Row],[1]:[31]],Paramétrage!G3)*Paramétrage!I3+COUNTIF(Janvier[[#This Row],[1]:[31]],Paramétrage!G4)*Paramétrage!I4+COUNTIF(Janvier[[#This Row],[1]:[31]],Paramétrage!G5)*Paramétrage!I5+COUNTIF(Janvier[[#This Row],[1]:[31]],Paramétrage!G6)*Paramétrage!I6+COUNTIF(Janvier[[#This Row],[1]:[31]],Paramétrage!G7)*Paramétrage!I7+COUNTIF(Janvier[[#This Row],[1]:[31]],Paramétrage!G8)*Paramétrage!I8+COUNTIF(Janvier[[#This Row],[1]:[31]],Paramétrage!G9)*Paramétrage!I9+COUNTIF(Janvier[[#This Row],[1]:[31]],Paramétrage!G10)*Paramétrage!I10+COUNTIF(Janvier[[#This Row],[1]:[31]],Paramétrage!G11)*Paramétrage!I11+COUNTIF(Janvier[[#This Row],[1]:[31]],Paramétrage!G12)*Paramétrage!I12+COUNTIF(Janvier[[#This Row],[1]:[31]],Paramétrage!G13)*Paramétrage!I13+COUNTIF(Janvier[[#This Row],[1]:[31]],Paramétrage!G14*Paramétrage!I14+COUNTIF(Janvier[[#This Row],[1]:[31]],Paramétrage!G15)*Paramétrage!I15+COUNTIF(Janvier[[#This Row],[1]:[31]],Paramétrage!G16)*Paramétrage!I16) -> 0
A8: Employé 2 | AG8: =COUNTIF(Janvier[[#This Row],[1]:[31]],Paramétrage!G4)*Paramétrage!I4+COUNTIF(Janvier[[#This Row],[1]:[31]],Paramétrage!G5)*Paramétrage!I5+COUNTIF(Janvier[[#This Row],[1]:[31]],Paramétrage!G6)*Paramétrage!I6+COUNTIF(Janvier[[#This Row],[1]:[31]],Paramétrage!G7)*Paramétrage!I7+COUNTIF(Janvier[[#This Row],[1]:[31]],Paramétrage!G8)*Paramétrage!I8+COUNTIF(Janvier[[#This Row],[1]:[31]],Paramétrage!G9)*Paramétrage!I9+COUNTIF(Janvier[[#This Row],[1]:[31]],Paramétrage!G10)*Paramétrage!I10+COUNTIF(Janvier[[#This Row],[1]:[31]],Paramétrage!G11)*Paramétrage!I11+COUNTIF(Janvier[[#This Row],[1]:[31]],Paramétrage!G12)*Paramétrage!I12+COUNTIF(Janvier[[#This Row],[1]:[31]],Paramétrage!G13)*Paramétrage!I13+COUNTIF(Janvier[[#This Row],[1]:[31]],Paramétrage!G14)*Paramétrage!I14+COUNTIF(Janvier[[#This Row],[1]:[31]],Paramétrage!G15*Paramétrage!I15+COUNTIF(Janvier[[#This Row],[1]:[31]],Paramétrage!G16)*Paramétrage!I16+COUNTIF(Janvier[[#This Row],[1]:[31]],Paramétrage!G17)*Paramétrage!I17) -> 0
A9: Employé 3 | AG9: =COUNTIF(Janvier[[#This Row],[1]:[31]],Paramétrage!G5)*Paramétrage!I5+COUNTIF(Janvier[[#This Row],[1]:[31]],Paramétrage!G6)*Paramétrage!I6+COUNTIF(Janvier[[#This Row],[1]:[31]],Paramétrage!G7)*Paramétrage!I7+COUNTIF(Janvier[[#This Row],[1]:[31]],Paramétrage!G8)*Paramétrage!I8+COUNTIF(Janvier[[#This Row],[1]:[31]],Paramétrage!G9)*Paramétrage!I9+COUNTIF(Janvier[[#This Row],[1]:[31]],Paramétrage!G10)*Paramétrage!I10+COUNTIF(Janvier[[#This Row],[1]:[31]],Paramétrage!G11)*Paramétrage!I11+COUNTIF(Janvier[[#This Row],[1]:[31]],Paramétrage!G12)*Paramétrage!I12+COUNTIF(Janvier[[#This Row],[1]:[31]],Paramétrage!G13)*Paramétrage!I13+COUNTIF(Janvier[[#This Row],[1]:[31]],Paramétrage!G14)*Paramétrage!I14+COUNTIF(Janvier[[#This Row],[1]:[31]],Paramétrage!G15)*Paramétrage!I15+COUNTIF(Janvier[[#This Row],[1]:[31]],Paramétrage!G16*Paramétrage!I16+COUNTIF(Janvier[[#This Row],[1]:[31]],Paramétrage!G17)*Paramétrage!I17+COUNTIF(Janvier[[#This Row],[1]:[31]],Paramétrage!G18)*Paramétrage!I18) -> 0
A10: Employé 4 | AG10: =COUNTIF(Janvier[[#This Row],[1]:[31]],Paramétrage!G6)*Paramétrage!I6+COUNTIF(Janvier[[#This Row],[1]:[31]],Paramétrage!G7)*Paramétrage!I7+COUNTIF(Janvier[[#This Row],[1]:[31]],Paramétrage!G8)*Paramétrage!I8+COUNTIF(Janvier[[#This Row],[1]:[31]],Paramétrage!G9)*Paramétrage!I9+COUNTIF(Janvier[[#This Row],[1]:[31]],Paramétrage!G10)*Paramétrage!I10+COUNTIF(Janvier[[#This Row],[1]:[31]],Paramétrage!G11)*Paramétrage!I11+COUNTIF(Janvier[[#This Row],[1]:[31]],Paramétrage!G12)*Paramétrage!I12+COUNTIF(Janvier[[#This Row],[1]:[31]],Paramétrage!G13)*Paramétrage!I13+COUNTIF(Janvier[[#This Row],[1]:[31]],Paramétrage!G14)*Paramétrage!I14+COUNTIF(Janvier[[#This Row],[1]:[31]],Paramétrage!G15)*Paramétrage!I15+COUNTIF(Janvier[[#This Row],[1]:[31]],Paramétrage!G16)*Paramétrage!I16+COUNTIF(Janvier[[#This Row],[1]:[31]],Paramétrage!G17*Paramétrage!I17+COUNTIF(Janvier[[#This Row],[1]:[31]],Paramétrage!G18)*Paramétrage!I18+COUNTIF(Janvier[[#This Row],[1]:[31]],Paramétrage!G19)*Paramétrage!I19) -> 0
A11: Employé 5 | AG11: =COUNTIF(Janvier[[#This Row],[1]:[31]],Paramétrage!G7)*Paramétrage!I7+COUNTIF(Janvier[[#This Row],[1]:[31]],Paramétrage!G8)*Paramétrage!I8+COUNTIF(Janvier[[#This Row],[1]:[31]],Paramétrage!G9)*Paramétrage!I9+COUNTIF(Janvier[[#This Row],[1]:[31]],Paramétrage!G10)*Paramétrage!I10+COUNTIF(Janvier[[#This Row],[1]:[31]],Paramétrage!G11)*Paramétrage!I11+COUNTIF(Janvier[[#This Row],[1]:[31]],Paramétrage!G12)*Paramétrage!I12+COUNTIF(Janvier[[#This Row],[1]:[31]],Paramétrage!G13)*Paramétrage!I13+COUNTIF(Janvier[[#This Row],[1]:[31]],Paramétrage!G14)*Paramétrage!I14+COUNTIF(Janvier[[#This Row],[1]:[31]],Paramétrage!G15)*Paramétrage!I15+COUNTIF(Janvier[[#This Row],[1]:[31]],Paramétrage!G16)*Paramétrage!I16+COUNTIF(Janvier[[#This Row],[1]:[31]],Paramétrage!G17)*Paramétrage!I17+COUNTIF(Janvier[[#This Row],[1]:[31]],Paramétrage!G18*Paramétrage!I18+COUNTIF(Janvier[[#This Row],[1]:[31]],Paramétrage!G19)*Paramétrage!I19+COUNTIF(Janvier[[#This Row],[1]:[31]],Paramétrage!G20)*Paramétrage!I20) -> 0
A12: Employé 6 | AG12: =COUNTIF(Janvier[[#This Row],[1]:[31]],Paramétrage!G8)*Paramétrage!I8+COUNTIF(Janvier[[#This Row],[1]:[31]],Paramétrage!G9)*Paramétrage!I9+COUNTIF(Janvier[[#This Row],[1]:[31]],Paramétrage!G10)*Paramétrage!I10+COUNTIF(Janvier[[#This Row],[1]:[31]],Paramétrage!G11)*Paramétrage!I11+COUNTIF(Janvier[[#This Row],[1]:[31]],Paramétrage!G12)*Paramétrage!I12+COUNTIF(Janvier[[#This Row],[1]:[31]],Paramétrage!G13)*Paramétrage!I13+COUNTIF(Janvier[[#This Row],[1]:[31]],Paramétrage!G14)*Paramétrage!I14+COUNTIF(Janvier[[#This Row],[1]:[31]],Paramétrage!G15)*Paramétrage!I15+COUNTIF(Janvier[[#This Row],[1]:[31]],Paramétrage!G16)*Paramétrage!I16+COUNTIF(Janvier[[#This Row],[1]:[31]],Paramétrage!G17)*Paramétrage!I17+COUNTIF(Janvier[[#This Row],[1]:[31]],Paramétrage!G18)*Paramétrage!I18+COUNTIF(Janvier[[#This Row],[1]:[31]],Paramétrage!G19*Paramétrage!I19+COUNTIF(Janvier[[#This Row],[1]:[31]],Paramétrage!G20)*Paramétrage!I20+COUNTIF(Janvier[[#This Row],[1]:[31]],Paramétrage!G21)*Paramétrage!I21) -> 0
A13: Employé 7 | AG13: =COUNTIF(Janvier[[#This Row],[1]:[31]],Paramétrage!G9)*Paramétrage!I9+COUNTIF(Janvier[[#This Row],[1]:[31]],Paramétrage!G10)*Paramétrage!I10+COUNTIF(Janvier[[#This Row],[1]:[31]],Paramétrage!G11)*Paramétrage!I11+COUNTIF(Janvier[[#This Row],[1]:[31]],Paramétrage!G12)*Paramétrage!I12+COUNTIF(Janvier[[#This Row],[1]:[31]],Paramétrage!G13)*Paramétrage!I13+COUNTIF(Janvier[[#This Row],[1]:[31]],Paramétrage!G14)*Paramétrage!I14+COUNTIF(Janvier[[#This Row],[1]:[31]],Paramétrage!G15)*Paramétrage!I15+COUNTIF(Janvier[[#This Row],[1]:[31]],Paramétrage!G16)*Paramétrage!I16+COUNTIF(Janvier[[#This Row],[1]:[31]],Paramétrage!G17)*Paramétrage!I17+COUNTIF(Janvier[[#This Row],[1]:[31]],Paramétrage!G18)*Paramétrage!I18+COUNTIF(Janvier[[#This Row],[1]:[31]],Paramétrage!G19)*Paramétrage!I19+COUNTIF(Janvier[[#This Row],[1]:[31]],Paramétrage!G20*Paramétrage!I20+COUNTIF(Janvier[[#This Row],[1]:[31]],Paramétrage!G21)*Paramétrage!I21+COUNTIF(Janvier[[#This Row],[1]:[31]],Paramétrage!G22)*Paramétrage!I22) -> 0
A14: Employé 8 | AG14: =COUNTIF(Janvier[[#This Row],[1]:[31]],Paramétrage!G10)*Paramétrage!I10+COUNTIF(Janvier[[#This Row],[1]:[31]],Paramétrage!G11)*Paramétrage!I11+COUNTIF(Janvier[[#This Row],[1]:[31]],Paramétrage!G12)*Paramétrage!I12+COUNTIF(Janvier[[#This Row],[1]:[31]],Paramétrage!G13)*Paramétrage!I13+COUNTIF(Janvier[[#This Row],[1]:[31]],Paramétrage!G14)*Paramétrage!I14+COUNTIF(Janvier[[#This Row],[1]:[31]],Paramétrage!G15)*Paramétrage!I15+COUNTIF(Janvier[[#This Row],[1]:[31]],Paramétrage!G16)*Paramétrage!I16+COUNTIF(Janvier[[#This Row],[1]:[31]],Paramétrage!G17)*Paramétrage!I17+COUNTIF(Janvier[[#This Row],[1]:[31]],Paramétrage!G18)*Paramétrage!I18+COUNTIF(Janvier[[#This Row],[1]:[31]],Paramétrage!G19)*Paramétrage!I19+COUNTIF(Janvier[[#This Row],[1]:[31]],Paramétrage!G20)*Paramétrage!I20+COUNTIF(Janvier[[#This Row],[1]:[31]],Paramétrage!G21*Paramétrage!I21+COUNTIF(Janvier[[#This Row],[1]:[31]],Paramétrage!G22)*Paramétrage!I22+COUNTIF(Janvier[[#This Row],[1]:[31]],Paramétrage!G23)*Paramétrage!I23) -> 0
A15: Employé 9 | AG15: =COUNTIF(Janvier[[#This Row],[1]:[31]],Paramétrage!G11)*Paramétrage!I11+COUNTIF(Janvier[[#This Row],[1]:[31]],Paramétrage!G12)*Paramétrage!I12+COUNTIF(Janvier[[#This Row],[1]:[31]],Paramétrage!G13)*Paramétrage!I13+COUNTIF(Janvier[[#This Row],[1]:[31]],Paramétrage!G14)*Paramétrage!I14+COUNTIF(Janvier[[#This Row],[1]:[31]],Paramétrage!G15)*Paramétrage!I15+COUNTIF(Janvier[[#This Row],[1]:[31]],Paramétrage!G16)*Paramétrage!I16+COUNTIF(Janvier[[#This Row],[1]:[31]],Paramétrage!G17)*Paramétrage!I17+COUNTIF(Janvier[[#This Row],[1]:[31]],Paramétrage!G18)*Paramétrage!I18+COUNTIF(Janvier[[#This Row],[1]:[31]],Paramétrage!G19)*Paramétrage!I19+COUNTIF(Janvier[[#This Row],[1]:[31]],Paramétrage!G20)*Paramétrage!I20+COUNTIF(Janvier[[#This Row],[1]:[31]],Paramétrage!G21)*Paramétrage!I21+COUNTIF(Janvier[[#This Row],[1]:[31]],Paramétrage!G22*Paramétrage!I22+COUNTIF(Janvier[[#This Row],[1]:[31]],Paramétrage!G23)*Paramétrage!I23+COUNTIF(Janvier[[#This Row],[1]:[31]],Paramétrage!G24)*Paramétrage!I24) -> 0
A16: Employé 10 | AG16: =COUNTIF(Janvier[[#This Row],[1]:[31]],Paramétrage!G12)*Paramétrage!I12+COUNTIF(Janvier[[#This Row],[1]:[31]],Paramétrage!G13)*Paramétrage!I13+COUNTIF(Janvier[[#This Row],[1]:[31]],Paramétrage!G14)*Paramétrage!I14+COUNTIF(Janvier[[#This Row],[1]:[31]],Paramétrage!G15)*Paramétrage!I15+COUNTIF(Janvier[[#This Row],[1]:[31]],Paramétrage!G16)*Paramétrage!I16+COUNTIF(Janvier[[#This Row],[1]:[31]],Paramétrage!G17)*Paramétrage!I17+COUNTIF(Janvier[[#This Row],[1]:[31]],Paramétrage!G18)*Paramétrage!I18+COUNTIF(Janvier[[#This Row],[1]:[31]],Paramétrage!G19)*Paramétrage!I19+COUNTIF(Janvier[[#This Row],[1]:[31]],Paramétrage!G20)*Paramétrage!I20+COUNTIF(Janvier[[#This Row],[1]:[31]],Paramétrage!G21)*Paramétrage!I21+COUNTIF(Janvier[[#This Row],[1]:[31]],Paramétrage!G22)*Paramétrage!I22+COUNTIF(Janvier[[#This Row],[1]:[31]],Paramétrage!G23*Paramétrage!I23+COUNTIF(Janvier[[#This Row],[1]:[31]],Paramétrage!G24)*Paramétrage!I24+COUNTIF(Janvier[[#This Row],[1]:[31]],Paramétrage!G25)*Paramétrage!I25) -> 0
A17: Employé 11 | AG17: =COUNTIF(Janvier[[#This Row],[1]:[31]],Paramétrage!G13)*Paramétrage!I13+COUNTIF(Janvier[[#This Row],[1]:[31]],Paramétrage!G14)*Paramétrage!I14+COUNTIF(Janvier[[#This Row],[1]:[31]],Paramétrage!G15)*Paramétrage!I15+COUNTIF(Janvier[[#This Row],[1]:[31]],Paramétrage!G16)*Paramétrage!I16+COUNTIF(Janvier[[#This Row],[1]:[31]],Paramétrage!G17)*Paramétrage!I17+COUNTIF(Janvier[[#This Row],[1]:[31]],Paramétrage!G18)*Paramétrage!I18+COUNTIF(Janvier[[#This Row],[1]:[31]],Paramétrage!G19)*Paramétrage!I19+COUNTIF(Janvier[[#This Row],[1]:[31]],Paramétrage!G20)*Paramétrage!I20+COUNTIF(Janvier[[#This Row],[1]:[31]],Paramétrage!G21)*Paramétrage!I21+COUNTIF(Janvier[[#This Row],[1]:[31]],Paramétrage!G22)*Paramétrage!I22+COUNTIF(Janvier[[#This Row],[1]:[31]],Paramétrage!G23)*Paramétrage!I23+COUNTIF(Janvier[[#This Row],[1]:[31]],Paramétrage!G24*Paramétrage!I24+COUNTIF(Janvier[[#This Row],[1]:[31]],Paramétrage!G25)*Paramétrage!I25+COUNTIF(Janvier[[#This Row],[1]:[31]],Paramétrage!G26)*Paramétrage!I26) -> 0
A18: Employé 12 | AG18: =COUNTIF(Janvier[[#This Row],[1]:[31]],Paramétrage!G14)*Paramétrage!I14+COUNTIF(Janvier[[#This Row],[1]:[31]],Paramétrage!G15)*Paramétrage!I15+COUNTIF(Janvier[[#This Row],[1]:[31]],Paramétrage!G16)*Paramétrage!I16+COUNTIF(Janvier[[#This Row],[1]:[31]],Paramétrage!G17)*Paramétrage!I17+COUNTIF(Janvier[[#This Row],[1]:[31]],Paramétrage!G18)*Paramétrage!I18+COUNTIF(Janvier[[#This Row],[1]:[31]],Paramétrage!G19)*Paramétrage!I19+COUNTIF(Janvier[[#This Row],[1]:[31]],Paramétrage!G20)*Paramétrage!I20+COUNTIF(Janvier[[#This Row],[1]:[31]],Paramétrage!G21)*Paramétrage!I21+COUNTIF(Janvier[[#This Row],[1]:[31]],Paramétrage!G22)*Paramétrage!I22+COUNTIF(Janvier[[#This Row],[1]:[31]],Paramétrage!G23)*Paramétrage!I23+COUNTIF(Janvier[[#This Row],[1]:[31]],Paramétrage!G24)*Paramétrage!I24+COUNTIF(Janvier[[#This Row],[1]:[31]],Paramétrage!G25*Paramétrage!I25+COUNTIF(Janvier[[#This Row],[1]:[31]],Paramétrage!G26)*Paramétrage!I26+COUNTIF(Janvier[[#This Row],[1]:[31]],Paramétrage!G27)*Paramétrage!I27) -> 0
... A26: Employé 20 | AG26: =COUNTIF(Janvier[[#This Row],[1]:[31]],Paramétrage!G22)*Paramétrage!I22+COUNTIF(Janvier[[#This Row],[1]:[31]],Paramétrage!G23)*Paramétrage!I23+COUNTIF(Janvier[[#This Row],[1]:[31]],Paramétrage!G24)*Paramétrage!I24+COUNTIF(Janvier[[#This Row],[1]:[31]],Paramétrage!G25)*Paramétrage!I25+COUNTIF(Janvier[[#This Row],[1]:[31]],Paramétrage!G26)*Paramétrage!I26+COUNTIF(Janvier[[#This Row],[1]:[31]],Paramétrage!G27)*Paramétrage!I27+COUNTIF(Janvier[[#This Row],[1]:[31]],Paramétrage!G28)*Paramétrage!I28+COUNTIF(Janvier[[#This Row],[1]:[31]],Paramétrage!G29)*Paramétrage!I29+COUNTIF(Janvier[[#This Row],[1]:[31]],Paramétrage!G30)*Paramétrage!I30+COUNTIF(Janvier[[#This Row],[1]:[31]],Paramétrage!G31)*Paramétrage!I31+COUNTIF(Janvier[[#This Row],[1]:[31]],Paramétrage!G32)*Paramétrage!I32+COUNTIF(Janvier[[#This Row],[1]:[31]],Paramétrage!G33*Paramétrage!I33+COUNTIF(Janvier[[#This Row],[1]:[31]],Paramétrage!G34)*Paramétrage!I34+COUNTIF(Janvier[[#This Row],[1]:[31]],Paramétrage!G35)*Paramétrage!I35) -> 0
A27: Total employés dans la journée | B27: =COUNTA(Janvier[1])-COUNTIF(Janvier[1],CléReposhebdomadaire)-COUNTIF(Janvier[1],CléCongé)-COUNTIF(Janvier[1],CléMaladie)-COUNTIF(Janvier[1],CléFormation)-COUNTIF(Janvier[1],CléAbsencenonjustifiée) -> 0 | C27: =COUNTA(Janvier[2])-COUNTIF(Janvier[2],CléReposhebdomadaire)-COUNTIF(Janvier[2],CléCongé)-COUNTIF(Janvier[2],CléMaladie)-COUNTIF(Janvier[2],CléFormation)-COUNTIF(Janvier[2],CléAbsencenonjustifiée) -> 0 | D27: =COUNTA(Janvier[3])-COUNTIF(Janvier[3],CléReposhebdomadaire)-COUNTIF(Janvier[3],CléCongé)-COUNTIF(Janvier[3],CléMaladie)-COUNTIF(Janvier[3],CléFormation)-COUNTIF(Janvier[3],CléAbsencenonjustifiée) -> 0 | E27: =COUNTA(Janvier[4])-COUNTIF(Janvier[4],CléReposhebdomadaire)-COUNTIF(Janvier[4],CléCongé)-COUNTIF(Janvier[4],CléMaladie)-COUNTIF(Janvier[4],CléFormation)-COUNTIF(Janvier[4],CléAbsencenonjustifiée) -> 0 | F27: =COUNTA(Janvier[5])-COUNTIF(Janvier[5],CléReposhebdomadaire)-COUNTIF(Janvier[5],CléCongé)-COUNTIF(Janvier[5],CléMaladie)-COUNTIF(Janvier[5],CléFormation)-COUNTIF(Janvier[5],CléAbsencenonjustifiée) -> 0 | G27: =COUNTA(Janvier[6])-COUNTIF(Janvier[6],CléReposhebdomadaire)-COUNTIF(Janvier[6],CléCongé)-COUNTIF(Janvier[6],CléMaladie)-COUNTIF(Janvier[6],CléFormation)-COUNTIF(Janvier[6],CléAbsencenonjustifiée) -> 0 | H27: =COUNTA(Janvier[7])-COUNTIF(Janvier[7],CléReposhebdomadaire)-COUNTIF(Janvier[7],CléCongé)-COUNTIF(Janvier[7],CléMaladie)-COUNTIF(Janvier[7],CléFormation)-COUNTIF(Janvier[7],CléAbsencenonjustifiée) -> 0 | I27: =COUNTA(Janvier[8])-COUNTIF(Janvier[8],CléReposhebdomadaire)-COUNTIF(Janvier[8],CléCongé)-COUNTIF(Janvier[8],CléMaladie)-COUNTIF(Janvier[8],CléFormation)-COUNTIF(Janvier[8],CléAbsencenonjustifiée) -> 0 | J27: =COUNTA(Janvier[9])-COUNTIF(Janvier[9],CléReposhebdomadaire)-COUNTIF(Janvier[9],CléCongé)-COUNTIF(Janvier[9],CléMaladie)-COUNTIF(Janvier[9],CléFormation)-COUNTIF(Janvier[9],CléAbsencenonjustifiée) -> 0 | K27: =COUNTA(Janvier[10])-COUNTIF(Janvier[10],CléReposhebdomadaire)-COUNTIF(Janvier[10],CléCongé)-COUNTIF(Janvier[10],CléMaladie)-COUNTIF(Janvier[10],CléFormation)-COUNTIF(Janvier[10],CléAbsencenonjustifiée) -> 0 | L27: =COUNTA(Janvier[11])-COUNTIF(Janvier[11],CléReposhebdomadaire)-COUNTIF(Janvier[11],CléCongé)-COUNTIF(Janvier[11],CléMaladie)-COUNTIF(Janvier[11],CléFormation)-COUNTIF(Janvier[11],CléAbsencenonjustifiée) -> 0 | M27: =COUNTA(Janvier[12])-COUNTIF(Janvier[12],CléReposhebdomadaire)-COUNTIF(Janvier[12],CléCongé)-COUNTIF(Janvier[12],CléMaladie)-COUNTIF(Janvier[12],CléFormation)-COUNTIF(Janvier[12],CléAbsencenonjustifiée) -> 0 | N27: =COUNTA(Janvier[13])-COUNTIF(Janvier[13],CléReposhebdomadaire)-COUNTIF(Janvier[13],CléCongé)-COUNTIF(Janvier[13],CléMaladie)-COUNTIF(Janvier[13],CléFormation)-COUNTIF(Janvier[13],CléAbsencenonjustifiée) -> 0 | O27: =COUNTA(Janvier[14])-COUNTIF(Janvier[14],CléReposhebdomadaire)-COUNTIF(Janvier[14],CléCongé)-COUNTIF(Janvier[14],CléMaladie)-COUNTIF(Janvier[14],CléFormation)-COUNTIF(Janvier[14],CléAbsencenonjustifiée) -> 0 | P27: =COUNTA(Janvier[15])-COUNTIF(Janvier[15],CléReposhebdomadaire)-COUNTIF(Janvier[15],CléCongé)-COUNTIF(Janvier[15],CléMaladie)-COUNTIF(Janvier[15],CléFormation)-COUNTIF(Janvier[15],CléAbsencenonjustifiée) -> 0 | Q27: =COUNTA(Janvier[16])-COUNTIF(Janvier[16],CléReposhebdomadaire)-COUNTIF(Janvier[16],CléCongé)-COUNTIF(Janvier[16],CléMaladie)-COUNTIF(Janvier[16],CléFormation)-COUNTIF(Janvier[16],CléAbsencenonjustifiée) -> 0 | R27: =COUNTA(Janvier[17])-COUNTIF(Janvier[17],CléReposhebdomadaire)-COUNTIF(Janvier[17],CléCongé)-COUNTIF(Janvier[17],CléMaladie)-COUNTIF(Janvier[17],CléFormation)-COUNTIF(Janvier[17],CléAbsencenonjustifiée) -> 0 | S27: =COUNTA(Janvier[18])-COUNTIF(Janvier[18],CléReposhebdomadaire)-COUNTIF(Janvier[18],CléCongé)-COUNTIF(Janvier[18],CléMaladie)-COUNTIF(Janvier[18],CléFormation)-COUNTIF(Janvier[18],CléAbsencenonjustifiée) -> 0 | T27: =COUNTA(Janvier[19])-COUNTIF(Janvier[19],CléReposhebdomadaire)-COUNTIF(Janvier[19],CléCongé)-COUNTIF(Janvier[19],CléMaladie)-COUNTIF(Janvier[19],CléFormation)-COUNTIF(Janvier[19],CléAbsencenonjustifiée) -> 0 | U27: =COUNTA(Janvier[20])-COUNTIF(Janvier[20],CléReposhebdomadaire)-COUNTIF(Janvier[20],CléCongé)-COUNTIF(Janvier[20],CléMaladie)-COUNTIF(Janvier[20],CléFormation)-COUNTIF(Janvier[20],CléAbsencenonjustifiée) -> 0 | V27: =COUNTA(Janvier[21])-COUNTIF(Janvier[21],CléReposhebdomadaire)-COUNTIF(Janvier[21],CléCongé)-COUNTIF(Janvier[21],CléMaladie)-COUNTIF(Janvier[21],CléFormation)-COUNTIF(Janvier[21],CléAbsencenonjustifiée) -> 0 | W27: =COUNTA(Janvier[22])-COUNTIF(Janvier[22],CléReposhebdomadaire)-COUNTIF(Janvier[22],CléCongé)-COUNTIF(Janvier[22],CléMaladie)-COUNTIF(Janvier[22],CléFormation)-COUNTIF(Janvier[22],CléAbsencenonjustifiée) -> 0 | X27: =COUNTA(Janvier[23])-COUNTIF(Janvier[23],CléReposhebdomadaire)-COUNTIF(Janvier[23],CléCongé)-COUNTIF(Janvier[23],CléMaladie)-COUNTIF(Janvier[23],CléFormation)-COUNTIF(Janvier[23],CléAbsencenonjustifiée) -> 0 | Y27: =COUNTA(Janvier[24])-COUNTIF(Janvier[24],CléReposhebdomadaire)-COUNTIF(Janvier[24],CléCongé)-COUNTIF(Janvier[24],CléMaladie)-COUNTIF(Janvier[24],CléFormation)-COUNTIF(Janvier[24],CléAbsencenonjustifiée) -> 0 | Z27: =COUNTA(Janvier[25])-COUNTIF(Janvier[25],CléReposhebdomadaire)-COUNTIF(Janvier[25],CléCongé)-COUNTIF(Janvier[25],CléMaladie)-COUNTIF(Janvier[25],CléFormation)-COUNTIF(Janvier[25],CléAbsencenonjustifiée) -> 0 | AA27: =COUNTA(Janvier[26])-COUNTIF(Janvier[26],CléReposhebdomadaire)-COUNTIF(Janvier[26],CléCongé)-COUNTIF(Janvier[26],CléMaladie)-COUNTIF(Janvier[26],CléFormation)-COUNTIF(Janvier[26],CléAbsencenonjustifiée) -> 0 | AB27: =COUNTA(Janvier[27])-COUNTIF(Janvier[27],CléReposhebdomadaire)-COUNTIF(Janvier[27],CléCongé)-COUNTIF(Janvier[27],CléMaladie)-COUNTIF(Janvier[27],CléFormation)-COUNTIF(Janvier[27],CléAbsencenonjustifiée) -> 0 | AC27: =COUNTA(Janvier[28])-COUNTIF(Janvier[28],CléReposhebdomadaire)-COUNTIF(Janvier[28],CléCongé)-COUNTIF(Janvier[28],CléMaladie)-COUNTIF(Janvier[28],CléFormation)-COUNTIF(Janvier[28],CléAbsencenonjustifiée) -> 0 | AD27: =COUNTA(Janvier[29])-COUNTIF(Janvier[29],CléReposhebdomadaire)-COUNTIF(Janvier[29],CléCongé)-COUNTIF(Janvier[29],CléMaladie)-COUNTIF(Janvier[29],CléFormation)-COUNTIF(Janvier[29],CléAbsencenonjustifiée) -> 0 | AE27: =COUNTA(Janvier[30])-COUNTIF(Janvier[30],CléReposhebdomadaire)-COUNTIF(Janvier[30],CléCongé)-COUNTIF(Janvier[30],CléMaladie)-COUNTIF(Janvier[30],CléFormation)-COUNTIF(Janvier[30],CléAbsencenonjustifiée) -> 0 | AF27: =COUNTA(Janvier[31])-COUNTIF(Janvier[31],CléReposhebdomadaire)-COUNTIF(Janvier[31],CléCongé)-COUNTIF(Janvier[31],CléMaladie)-COUNTIF(Janvier[31],CléFormation)-COUNTIF(Janvier[31],CléAbsencenonjustifiée) -> 0 | AG27: =SUBTOTAL(109,Mars[Total des Heures effectuées]) -> 0

Sheet Février
A1: PLANNING MENSUEL
A2: Clé de motif d’absence | B2: RH | C2: Repos hebdomadaire | G2: CP | H2: Congé | J2: AM | K2: Arrêt Maladie | N2: FO | O2: Formation | Q2: ABS | R2: Absence non justifiée
A4: Février | B4: Poste | AG4: =AnnéeCalendrier -> 2023
B5: =TEXT(WEEKDAY(DATE(AnnéeCalendrier,2,1),1),"jjj") -> mer | C5: =TEXT(WEEKDAY(DATE(AnnéeCalendrier,2,2),1),"jjj") -> jeu | D5: =TEXT(WEEKDAY(DATE(AnnéeCalendrier,2,3),1),"jjj") -> ven | E5: =TEXT(WEEKDAY(DATE(AnnéeCalendrier,2,4),1),"jjj") -> sam | F5: =TEXT(WEEKDAY(DATE(AnnéeCalendrier,2,5),1),"jjj") -> dim | G5: =TEXT(WEEKDAY(DATE(AnnéeCalendrier,2,6),1),"jjj") -> lun | H5: =TEXT(WEEKDAY(DATE(AnnéeCalendrier,2,7),1),"jjj") -> mar | I5: =TEXT(WEEKDAY(DATE(AnnéeCalendrier,2,8),1),"jjj") -> mer | J5: =TEXT(WEEKDAY(DATE(AnnéeCalendrier,2,9),1),"jjj") -> jeu | K5: =TEXT(WEEKDAY(DATE(AnnéeCalendrier,2,10),1),"jjj") -> ven | L5: =TEXT(WEEKDAY(DATE(AnnéeCalendrier,2,11),1),"jjj") -> sam | M5: =TEXT(WEEKDAY(DATE(AnnéeCalendrier,2,12),1),"jjj") -> dim | N5: =TEXT(WEEKDAY(DATE(AnnéeCalendrier,2,13),1),"jjj") -> lun | O5: =TEXT(WEEKDAY(DATE(AnnéeCalendrier,2,14),1),"jjj") -> mar | P5: =TEXT(WEEKDAY(DATE(AnnéeCalendrier,2,15),1),"jjj") -> mer | Q5: =TEXT(WEEKDAY(DATE(AnnéeCalendrier,2,16),1),"jjj") -> jeu | R5: =TEXT(WEEKDAY(DATE(AnnéeCalendrier,2,17),1),"jjj") -> ven | S5: =TEXT(WEEKDAY(DATE(AnnéeCalendrier,2,18),1),"jjj") -> sam | T5: =TEXT(WEEKDAY(DATE(AnnéeCalendrier,2,19),1),"jjj") -> dim | U5: =TEXT(WEEKDAY(DATE(AnnéeCalendrier,2,20),1),"jjj") -> lun | V5: =TEXT(WEEKDAY(DATE(AnnéeCalendrier,2,21),1),"jjj") -> mar | W5: =TEXT(WEEKDAY(DATE(AnnéeCalendrier,2,22),1),"jjj") -> mer | X5: =TEXT(WEEKDAY(DATE(AnnéeCalendrier,2,23),1),"jjj") -> jeu | Y5: =TEXT(WEEKDAY(DATE(AnnéeCalendrier,2,24),1),"jjj") -> ven | Z5: =TEXT(WEEKDAY(DATE(AnnéeCalendrier,2,25),1),"jjj") -> sam | AA5: =TEXT(WEEKDAY(DATE(AnnéeCalendrier,2,26),1),"jjj") -> dim | AB5: =TEXT(WEEKDAY(DATE(AnnéeCalendrier,2,27),1),"jjj") -> lun | AC5: =TEXT(WEEKDAY(DATE(AnnéeCalendrier,2,28),1),"jjj") -> mar | AD5: =TEXT(WEEKDAY(DATE(AnnéeCalendrier,2,29),1),"jjj") -> mer
A6: Nom de l’employé | B6: 1 | C6: 2 | D6: 3 | E6: 4 | F6: 5 | G6: 6 | H6: 7 | I6: 8 | J6: 9 | K6: 10 | L6: 11 | M6: 12 | N6: 13 | O6: 14 | P6: 15 | Q6: 16 | R6: 17 | S6: 18 | T6: 19 | U6: 20 | V6: 21 | W6: 22 | X6: 23 | Y6: 24 | Z6: 25 | AA6: 26 | AB6: 27 | AC6: 28 | AD6: 29 | AG6: Total des Heures effectuées
A7: Employé 1 | AG7: =COUNTIF(Janvier[[#This Row],[1]:[31]],Paramétrage!G3)*Paramétrage!I3+COUNTIF(Janvier[[#This Row],[1]:[31]],Paramétrage!G4)*Paramétrage!I4+COUNTIF(Janvier[[#This Row],[1]:[31]],Paramétrage!G5)*Paramétrage!I5+COUNTIF(Janvier[[#This Row],[1]:[31]],Paramétrage!G6)*Paramétrage!I6+COUNTIF(Janvier[[#This Row],[1]:[31]],Paramétrage!G7)*Paramétrage!I7+COUNTIF(Janvier[[#This Row],[1]:[31]],Paramétrage!G8)*Paramétrage!I8+COUNTIF(Janvier[[#This Row],[1]:[31]],Paramétrage!G9)*Paramétrage!I9+COUNTIF(Janvier[[#This Row],[1]:[31]],Paramétrage!G10)*Paramétrage!I10+COUNTIF(Janvier[[#This Row],[1]:[31]],Paramétrage!G11)*Paramétrage!I11+COUNTIF(Janvier[[#This Row],[1]:[31]],Paramétrage!G12)*Paramétrage!I12+COUNTIF(Janvier[[#This Row],[1]:[31]],Paramétrage!G13)*Paramétrage!I13+COUNTIF(Janvier[[#This Row],[1]:[31]],Paramétrage!G14*Paramétrage!I14+COUNTIF(Janvier[[#This Row],[1]:[31]],Paramétrage!G15)*Paramétrage!I15+COUNTIF(Janvier[[#This Row],[1]:[31]],Paramétrage!G16)*Paramétrage!I16) -> 0
A8: Employé 2 | AG8: =COUNTIF(Janvier[[#This Row],[1]:[31]],Paramétrage!G4)*Paramétrage!I4+COUNTIF(Janvier[[#This Row],[1]:[31]],Paramétrage!G5)*Paramétrage!I5+COUNTIF(Janvier[[#This Row],[1]:[31]],Paramétrage!G6)*Paramétrage!I6+COUNTIF(Janvier[[#This Row],[1]:[31]],Paramétrage!G7)*Paramétrage!I7+COUNTIF(Janvier[[#This Row],[1]:[31]],Paramétrage!G8)*Paramétrage!I8+COUNTIF(Janvier[[#This Row],[1]:[31]],Paramétrage!G9)*Paramétrage!I9+COUNTIF(Janvier[[#This Row],[1]:[31]],Paramétrage!G10)*Paramétrage!I10+COUNTIF(Janvier[[#This Row],[1]:[31]],Paramétrage!G11)*Paramétrage!I11+COUNTIF(Janvier[[#This Row],[1]:[31]],Paramétrage!G12)*Paramétrage!I12+COUNTIF(Janvier[[#This Row],[1]:[31]],Paramétrage!G13)*Paramétrage!I13+COUNTIF(Janvier[[#This Row],[1]:[31]],Paramétrage!G14)*Paramétrage!I14+COUNTIF(Janvier[[#This Row],[1]:[31]],Paramétrage!G15*Paramétrage!I15+COUNTIF(Janvier[[#This Row],[1]:[31]],Paramétrage!G16)*Paramétrage!I16+COUNTIF(Janvier[[#This Row],[1]:[31]],Paramétrage!G17)*Paramétrage!I17) -> 0
A9: Employé 3 | AG9: =COUNTIF(Janvier[[#This Row],[1]:[31]],Paramétrage!G5)*Paramétrage!I5+COUNTIF(Janvier[[#This Row],[1]:[31]],Paramétrage!G6)*Paramétrage!I6+COUNTIF(Janvier[[#This Row],[1]:[31]],Paramétrage!G7)*Paramétrage!I7+COUNTIF(Janvier[[#This Row],[1]:[31]],Paramétrage!G8)*Paramétrage!I8+COUNTIF(Janvier[[#This Row],[1]:[31]],Paramétrage!G9)*Paramétrage!I9+COUNTIF(Janvier[[#This Row],[1]:[31]],Paramétrage!G10)*Paramétrage!I10+COUNTIF(Janvier[[#This Row],[1]:[31]],Paramétrage!G11)*Paramétrage!I11+COUNTIF(Janvier[[#This Row],[1]:[31]],Paramétrage!G12)*Paramétrage!I12+COUNTIF(Janvier[[#This Row],[1]:[31]],Paramétrage!G13)*Paramétrage!I13+COUNTIF(Janvier[[#This Row],[1]:[31]],Paramétrage!G14)*Paramétrage!I14+COUNTIF(Janvier[[#This Row],[1]:[31]],Paramétrage!G15)*Paramétrage!I15+COUNTIF(Janvier[[#This Row],[1]:[31]],Paramétrage!G16*Paramétrage!I16+COUNTIF(Janvier[[#This Row],[1]:[31]],Paramétrage!G17)*Paramétrage!I17+COUNTIF(Janvier[[#This Row],[1]:[31]],Paramétrage!G18)*Paramétrage!I18) -> 0
A10: Employé 4 | AG10: =COUNTIF(Janvier[[#This Row],[1]:[31]],Paramétrage!G6)*Paramétrage!I6+COUNTIF(Janvier[[#This Row],[1]:[31]],Paramétrage!G7)*Paramétrage!I7+COUNTIF(Janvier[[#This Row],[1]:[31]],Paramétrage!G8)*Paramétrage!I8+COUNTIF(Janvier[[#This Row],[1]:[31]],Paramétrage!G9)*Paramétrage!I9+COUNTIF(Janvier[[#This Row],[1]:[31]],Paramétrage!G10)*Paramétrage!I10+COUNTIF(Janvier[[#This Row],[1]:[31]],Paramétrage!G11)*Paramétrage!I11+COUNTIF(Janvier[[#This Row],[1]:[31]],Paramétrage!G12)*Paramétrage!I12+COUNTIF(Janvier[[#This Row],[1]:[31]],Paramétrage!G13)*Paramétrage!I13+COUNTIF(Janvier[[#This Row],[1]:[31]],Paramétrage!G14)*Paramétrage!I14+COUNTIF(Janvier[[#This Row],[1]:[31]],Paramétrage!G15)*Paramétrage!I15+COUNTIF(Janvier[[#This Row],[1]:[31]],Paramétrage!G16)*Paramétrage!I16+COUNTIF(Janvier[[#This Row],[1]:[31]],Paramétrage!G17*Paramétrage!I17+COUNTIF(Janvier[[#This Row],[1]:[31]],Paramétrage!G18)*Paramétrage!I18+COUNTIF(Janvier[[#This Row],[1]:[31]],Paramétrage!G19)*Paramétrage!I19) -> 0
A11: Employé 5 | AG11: =COUNTIF(Janvier[[#This Row],[1]:[31]],Paramétrage!G7)*Paramétrage!I7+COUNTIF(Janvier[[#This Row],[1]:[31]],Paramétrage!G8)*Paramétrage!I8+COUNTIF(Janvier[[#This Row],[1]:[31]],Paramétrage!G9)*Paramétrage!I9+COUNTIF(Janvier[[#This Row],[1]:[31]],Paramétrage!G10)*Paramétrage!I10+COUNTIF(Janvier[[#This Row],[1]:[31]],Paramétrage!G11)*Paramétrage!I11+COUNTIF(Janvier[[#This Row],[1]:[31]],Paramétrage!G12)*Paramétrage!I12+COUNTIF(Janvier[[#This Row],[1]:[31]],Paramétrage!G13)*Paramétrage!I13+COUNTIF(Janvier[[#This Row],[1]:[31]],Paramétrage!G14)*Paramétrage!I14+COUNTIF(Janvier[[#This Row],[1]:[31]],Paramétrage!G15)*Paramétrage!I15+COUNTIF(Janvier[[#This Row],[1]:[31]],Paramétrage!G16)*Paramétrage!I16+COUNTIF(Janvier[[#This Row],[1]:[31]],Paramétrage!G17)*Paramétrage!I17+COUNTIF(Janvier[[#This Row],[1]:[31]],Paramétrage!G18*Paramétrage!I18+COUNTIF(Janvier[[#This Row],[1]:[31]],Paramétrage!G19)*Paramétrage!I19+COUNTIF(Janvier[[#This Row],[1]:[31]],Paramétrage!G20)*Paramétrage!I20) -> 0
A12: Employé 6 | AG12: =COUNTIF(Janvier[[#This Row],[1]:[31]],Paramétrage!G8)*Paramétrage!I8+COUNTIF(Janvier[[#This Row],[1]:[31]],Paramétrage!G9)*Paramétrage!I9+COUNTIF(Janvier[[#This Row],[1]:[31]],Paramétrage!G10)*Paramétrage!I10+COUNTIF(Janvier[[#This Row],[1]:[31]],Paramétrage!G11)*Paramétrage!I11+COUNTIF(Janvier[[#This Row],[1]:[31]],Paramétrage!G12)*Paramétrage!I12+COUNTIF(Janvier[[#This Row],[1]:[31]],Paramétrage!G13)*Paramétrage!I13+COUNTIF(Janvier[[#This Row],[1]:[31]],Paramétrage!G14)*Paramétrage!I14+COUNTIF(Janvier[[#This Row],[1]:[31]],Paramétrage!G15)*Paramétrage!I15+COUNTIF(Janvier[[#This Row],[1]:[31]],Paramétrage!G16)*Paramétrage!I16+COUNTIF(Janvier[[#This Row],[1]:[31]],Paramétrage!G17)*Paramétrage!I17+COUNTIF(Janvier[[#This Row],[1]:[31]],Paramétrage!G18)*Paramétrage!I18+COUNTIF(Janvier[[#This Row],[1]:[31]],Paramétrage!G19*Paramétrage!I19+COUNTIF(Janvier[[#This Row],[1]:[31]],Paramétrage!G20)*Paramétrage!I20+COUNTIF(Janvier[[#This Row],[1]:[31]],Paramétrage!G21)*Paramétrage!I21) -> 0
A13: Employé 7 | AG13: =COUNTIF(Janvier[[#This Row],[1]:[31]],Paramétrage!G9)*Paramétrage!I9+COUNTIF(Janvier[[#This Row],[1]:[31]],Paramétrage!G10)*Paramétrage!I10+COUNTIF(Janvier[[#This Row],[1]:[31]],Paramétrage!G11)*Paramétrage!I11+COUNTIF(Janvier[[#This Row],[1]:[31]],Paramétrage!G12)*Paramétrage!I12+COUNTIF(Janvier[[#This Row],[1]:[31]],Paramétrage!G13)*Paramétrage!I13+COUNTIF(Janvier[[#This Row],[1]:[31]],Paramétrage!G14)*Paramétrage!I14+COUNTIF(Janvier[[#This Row],[1]:[31]],Paramétrage!G15)*Paramétrage!I15+COUNTIF(Janvier[[#This Row],[1]:[31]],Paramétrage!G16)*Paramétrage!I16+COUNTIF(Janvier[[#This Row],[1]:[31]],Paramétrage!G17)*Paramétrage!I17+COUNTIF(Janvier[[#This Row],[1]:[31]],Paramétrage!G18)*Paramétrage!I18+COUNTIF(Janvier[[#This Row],[1]:[31]],Paramétrage!G19)*Paramétrage!I19+COUNTIF(Janvier[[#This Row],[1]:[31]],Paramétrage!G20*Paramétrage!I20+COUNTIF(Janvier[[#This Row],[1]:[31]],Paramétrage!G21)*Paramétrage!I21+COUNTIF(Janvier[[#This Row],[1]:[31]],Paramétrage!G22)*Paramétrage!I22) -> 0
A14: Employé 8 | AG14: =COUNTIF(Janvier[[#This Row],[1]:[31]],Paramétrage!G10)*Paramétrage!I10+COUNTIF(Janvier[[#This Row],[1]:[31]],Paramétrage!G11)*Paramétrage!I11+COUNTIF(Janvier[[#This Row],[1]:[31]],Paramétrage!G12)*Paramétrage!I12+COUNTIF(Janvier[[#This Row],[1]:[31]],Paramétrage!G13)*Paramétrage!I13+COUNTIF(Janvier[[#This Row],[1]:[31]],Paramétrage!G14)*Paramétrage!I14+COUNTIF(Janvier[[#This Row],[1]:[31]],Paramétrage!G15)*Paramétrage!I15+COUNTIF(Janvier[[#This Row],[1]:[31]],Paramétrage!G16)*Paramétrage!I16+COUNTIF(Janvier[[#This Row],[1]:[31]],Paramétrage!G17)*Paramétrage!I17+COUNTIF(Janvier[[#This Row],[1]:[31]],Paramétrage!G18)*Paramétrage!I18+COUNTIF(Janvier[[#This Row],[1]:[31]],Paramétrage!G19)*Paramétrage!I19+COUNTIF(Janvier[[#This Row],[1]:[31]],Paramétrage!G20)*Paramétrage!I20+COUNTIF(Janvier[[#This Row],[1]:[31]],Paramétrage!G21*Paramétrage!I21+COUNTIF(Janvier[[#This Row],[1]:[31]],Paramétrage!G22)*Paramétrage!I22+COUNTIF(Janvier[[#This Row],[1]:[31]],Paramétrage!G23)*Paramétrage!I23) -> 0
A15: Employé 9 | AG15: =COUNTIF(Janvier[[#This Row],[1]:[31]],Paramétrage!G11)*Paramétrage!I11+COUNTIF(Janvier[[#This Row],[1]:[31]],Paramétrage!G12)*Paramétrage!I12+COUNTIF(Janvier[[#This Row],[1]:[31]],Paramétrage!G13)*Paramétrage!I13+COUNTIF(Janvier[[#This Row],[1]:[31]],Paramétrage!G14)*Paramétrage!I14+COUNTIF(Janvier[[#This Row],[1]:[31]],Paramétrage!G15)*Paramétrage!I15+COUNTIF(Janvier[[#This Row],[1]:[31]],Paramétrage!G16)*Paramétrage!I16+COUNTIF(Janvier[[#This Row],[1]:[31]],Paramétrage!G17)*Paramétrage!I17+COUNTIF(Janvier[[#This Row],[1]:[31]],Paramétrage!G18)*Paramétrage!I18+COUNTIF(Janvier[[#This Row],[1]:[31]],Paramétrage!G19)*Paramétrage!I19+COUNTIF(Janvier[[#This Row],[1]:[31]],Paramétrage!G20)*Paramétrage!I20+COUNTIF(Janvier[[#This Row],[1]:[31]],Paramétrage!G21)*Paramétrage!I21+COUNTIF(Janvier[[#This Row],[1]:[31]],Paramétrage!G22*Paramétrage!I22+COUNTIF(Janvier[[#This Row],[1]:[31]],Paramétrage!G23)*Paramétrage!I23+COUNTIF(Janvier[[#This Row],[1]:[31]],Paramétrage!G24)*Paramétrage!I24) -> 0
A16: Employé 10 | AG16: =COUNTIF(Janvier[[#This Row],[1]:[31]],Paramétrage!G12)*Paramétrage!I12+COUNTIF(Janvier[[#This Row],[1]:[31]],Paramétrage!G13)*Paramétrage!I13+COUNTIF(Janvier[[#This Row],[1]:[31]],Paramétrage!G14)*Paramétrage!I14+COUNTIF(Janvier[[#This Row],[1]:[31]],Paramétrage!G15)*Paramétrage!I15+COUNTIF(Janvier[[#This Row],[1]:[31]],Paramétrage!G16)*Paramétrage!I16+COUNTIF(Janvier[[#This Row],[1]:[31]],Paramétrage!G17)*Paramétrage!I17+COUNTIF(Janvier[[#This Row],[1]:[31]],Paramétrage!G18)*Paramétrage!I18+COUNTIF(Janvier[[#This Row],[1]:[31]],Paramétrage!G19)*Paramétrage!I19+COUNTIF(Janvier[[#This Row],[1]:[31]],Paramétrage!G20)*Paramétrage!I20+COUNTIF(Janvier[[#This Row],[1]:[31]],Paramétrage!G21)*Paramétrage!I21+COUNTIF(Janvier[[#This Row],[1]:[31]],Paramétrage!G22)*Paramétrage!I22+COUNTIF(Janvier[[#This Row],[1]:[31]],Paramétrage!G23*Paramétrage!I23+COUNTIF(Janvier[[#This Row],[1]:[31]],Paramétrage!G24)*Paramétrage!I24+COUNTIF(Janvier[[#This Row],[1]:[31]],Paramétrage!G25)*Paramétrage!I25) -> 0
A17: Employé 11 | AG17: =COUNTIF(Janvier[[#This Row],[1]:[31]],Paramétrage!G13)*Paramétrage!I13+COUNTIF(Janvier[[#This Row],[1]:[31]],Paramétrage!G14)*Paramétrage!I14+COUNTIF(Janvier[[#This Row],[1]:[31]],Paramétrage!G15)*Paramétrage!I15+COUNTIF(Janvier[[#This Row],[1]:[31]],Paramétrage!G16)*Paramétrage!I16+COUNTIF(Janvier[[#This Row],[1]:[31]],Paramétrage!G17)*Paramétrage!I17+COUNTIF(Janvier[[#This Row],[1]:[31]],Paramétrage!G18)*Paramétrage!I18+COUNTIF(Janvier[[#This Row],[1]:[31]],Paramétrage!G19)*Paramétrage!I19+COUNTIF(Janvier[[#This Row],[1]:[31]],Paramétrage!G20)*Paramétrage!I20+COUNTIF(Janvier[[#This Row],[1]:[31]],Paramétrage!G21)*Paramétrage!I21+COUNTIF(Janvier[[#This Row],[1]:[31]],Paramétrage!G22)*Paramétrage!I22+COUNTIF(Janvier[[#This Row],[1]:[31]],Paramétrage!G23)*Paramétrage!I23+COUNTIF(Janvier[[#This Row],[1]:[31]],Paramétrage!G24*Paramétrage!I24+COUNTIF(Janvier[[#This Row],[1]:[31]],Paramétrage!G25)*Paramétrage!I25+COUNTIF(Janvier[[#This Row],[1]:[31]],Paramétrage!G26)*Paramétrage!I26) -> 0
A18: Employé 12 | AG18: =COUNTIF(Janvier[[#This Row],[1]:[31]],Paramétrage!G14)*Paramétrage!I14+COUNTIF(Janvier[[#This Row],[1]:[31]],Paramétrage!G15)*Paramétrage!I15+COUNTIF(Janvier[[#This Row],[1]:[31]],Paramétrage!G16)*Paramétrage!I16+COUNTIF(Janvier[[#This Row],[1]:[31]],Paramétrage!G17)*Paramétrage!I17+COUNTIF(Janvier[[#This Row],[1]:[31]],Paramétrage!G18)*Paramétrage!I18+COUNTIF(Janvier[[#This Row],[1]:[31]],Paramétrage!G19)*Paramétrage!I19+COUNTIF(Janvier[[#This Row],[1]:[31]],Paramétrage!G20)*Paramétrage!I20+COUNTIF(Janvier[[#This Row],[1]:[31]],Paramétrage!G21)*Paramétrage!I21+COUNTIF(Janvier[[#This Row],[1]:[31]],Paramétrage!G22)*Paramétrage!I22+COUNTIF(Janvier[[#This Row],[1]:[31]],Paramétrage!G23)*Paramétrage!I23+COUNTIF(Janvier[[#This Row],[1]:[31]],Paramétrage!G24)*Paramétrage!I24+COUNTIF(Janvier[[#This Row],[1]:[31]],Paramétrage!G25*Paramétrage!I25+COUNTIF(Janvier[[#This Row],[1]:[31]],Paramétrage!G26)*Paramétrage!I26+COUNTIF(Janvier[[#This Row],[1]:[31]],Paramétrage!G27)*Paramétrage!I27) -> 0
... A26: Employé 20 | AG26: =COUNTIF(Janvier[[#This Row],[1]:[31]],Paramétrage!G22)*Paramétrage!I22+COUNTIF(Janvier[[#This Row],[1]:[31]],Paramétrage!G23)*Paramétrage!I23+COUNTIF(Janvier[[#This Row],[1]:[31]],Paramétrage!G24)*Paramétrage!I24+COUNTIF(Janvier[[#This Row],[1]:[31]],Paramétrage!G25)*Paramétrage!I25+COUNTIF(Janvier[[#This Row],[1]:[31]],Paramétrage!G26)*Paramétrage!I26+COUNTIF(Janvier[[#This Row],[1]:[31]],Paramétrage!G27)*Paramétrage!I27+COUNTIF(Janvier[[#This Row],[1]:[31]],Paramétrage!G28)*Paramétrage!I28+COUNTIF(Janvier[[#This Row],[1]:[31]],Paramétrage!G29)*Paramétrage!I29+COUNTIF(Janvier[[#This Row],[1]:[31]],Paramétrage!G30)*Paramétrage!I30+COUNTIF(Janvier[[#This Row],[1]:[31]],Paramétrage!G31)*Paramétrage!I31+COUNTIF(Janvier[[#This Row],[1]:[31]],Paramétrage!G32)*Paramétrage!I32+COUNTIF(Janvier[[#This Row],[1]:[31]],Paramétrage!G33*Paramétrage!I33+COUNTIF(Janvier[[#This Row],[1]:[31]],Paramétrage!G34)*Paramétrage!I34+COUNTIF(Janvier[[#This Row],[1]:[31]],Paramétrage!G35)*Paramétrage!I35) -> 0
A27: Total employés dans la journée | B27: =COUNTA(Janvier[1])-COUNTIF(Janvier[1],CléReposhebdomadaire)-COUNTIF(Janvier[1],CléCongé)-COUNTIF(Janvier[1],CléMaladie)-COUNTIF(Janvier[1],CléFormation)-COUNTIF(Janvier[1],CléAbsencenonjustifiée) -> 0 | C27: =COUNTA(Janvier[2])-COUNTIF(Janvier[2],CléReposhebdomadaire)-COUNTIF(Janvier[2],CléCongé)-COUNTIF(Janvier[2],CléMaladie)-COUNTIF(Janvier[2],CléFormation)-COUNTIF(Janvier[2],CléAbsencenonjustifiée) -> 0 | D27: =COUNTA(Janvier[3])-COUNTIF(Janvier[3],CléReposhebdomadaire)-COUNTIF(Janvier[3],CléCongé)-COUNTIF(Janvier[3],CléMaladie)-COUNTIF(Janvier[3],CléFormation)-COUNTIF(Janvier[3],CléAbsencenonjustifiée) -> 0 | E27: =COUNTA(Janvier[4])-COUNTIF(Janvier[4],CléReposhebdomadaire)-COUNTIF(Janvier[4],CléCongé)-COUNTIF(Janvier[4],CléMaladie)-COUNTIF(Janvier[4],CléFormation)-COUNTIF(Janvier[4],CléAbsencenonjustifiée) -> 0 | F27: =COUNTA(Janvier[5])-COUNTIF(Janvier[5],CléReposhebdomadaire)-COUNTIF(Janvier[5],CléCongé)-COUNTIF(Janvier[5],CléMaladie)-COUNTIF(Janvier[5],CléFormation)-COUNTIF(Janvier[5],CléAbsencenonjustifiée) -> 0 | G27: =COUNTA(Janvier[6])-COUNTIF(Janvier[6],CléReposhebdomadaire)-COUNTIF(Janvier[6],CléCongé)-COUNTIF(Janvier[6],CléMaladie)-COUNTIF(Janvier[6],CléFormation)-COUNTIF(Janvier[6],CléAbsencenonjustifiée) -> 0 | H27: =COUNTA(Janvier[7])-COUNTIF(Janvier[7],CléReposhebdomadaire)-COUNTIF(Janvier[7],CléCongé)-COUNTIF(Janvier[7],CléMaladie)-COUNTIF(Janvier[7],CléFormation)-COUNTIF(Janvier[7],CléAbsencenonjustifiée) -> 0 | I27: =COUNTA(Janvier[8])-COUNTIF(Janvier[8],CléReposhebdomadaire)-COUNTIF(Janvier[8],CléCongé)-COUNTIF(Janvier[8],CléMaladie)-COUNTIF(Janvier[8],CléFormation)-COUNTIF(Janvier[8],CléAbsencenonjustifiée) -> 0 | J27: =COUNTA(Janvier[9])-COUNTIF(Janvier[9],CléReposhebdomadaire)-COUNTIF(Janvier[9],CléCongé)-COUNTIF(Janvier[9],CléMaladie)-COUNTIF(Janvier[9],CléFormation)-COUNTIF(Janvier[9],CléAbsencenonjustifiée) -> 0 | K27: =COUNTA(Janvier[10])-COUNTIF(Janvier[10],CléReposhebdomadaire)-COUNTIF(Janvier[10],CléCongé)-COUNTIF(Janvier[10],CléMaladie)-COUNTIF(Janvier[10],CléFormation)-COUNTIF(Janvier[10],CléAbsencenonjustifiée) -> 0 | L27: =COUNTA(Janvier[11])-COUNTIF(Janvier[11],CléReposhebdomadaire)-COUNTIF(Janvier[11],CléCongé)-COUNTIF(Janvier[11],CléMaladie)-COUNTIF(Janvier[11],CléFormation)-COUNTIF(Janvier[11],CléAbsencenonjustifiée) -> 0 | M27: =COUNTA(Janvier[12])-COUNTIF(Janvier[12],CléReposhebdomadaire)-COUNTIF(Janvier[12],CléCongé)-COUNTIF(Janvier[12],CléMaladie)-COUNTIF(Janvier[12],CléFormation)-COUNTIF(Janvier[12],CléAbsencenonjustifiée) -> 0 | N27: =COUNTA(Janvier[13])-COUNTIF(Janvier[13],CléReposhebdomadaire)-COUNTIF(Janvier[13],CléCongé)-COUNTIF(Janvier[13],CléMaladie)-COUNTIF(Janvier[13],CléFormation)-COUNTIF(Janvier[13],CléAbsencenonjustifiée) -> 0 | O27: =COUNTA(Janvier[14])-COUNTIF(Janvier[14],CléReposhebdomadaire)-COUNTIF(Janvier[14],CléCongé)-COUNTIF(Janvier[14],CléMaladie)-COUNTIF(Janvier[14],CléFormation)-COUNTIF(Janvier[14],CléAbsencenonjustifiée) -> 0 | P27: =COUNTA(Janvier[15])-COUNTIF(Janvier[15],CléReposhebdomadaire)-COUNTIF(Janvier[15],CléCongé)-COUNTIF(Janvier[15],CléMaladie)-COUNTIF(Janvier[15],CléFormation)-COUNTIF(Janvier[15],CléAbsencenonjustifiée) -> 0 | Q27: =COUNTA(Janvier[16])-COUNTIF(Janvier[16],CléReposhebdomadaire)-COUNTIF(Janvier[16],CléCongé)-COUNTIF(Janvier[16],CléMaladie)-COUNTIF(Janvier[16],CléFormation)-COUNTIF(Janvier[16],CléAbsencenonjustifiée) -> 0 | R27: =COUNTA(Janvier[17])-COUNTIF(Janvier[17],CléReposhebdomadaire)-COUNTIF(Janvier[17],CléCongé)-COUNTIF(Janvier[17],CléMaladie)-COUNTIF(Janvier[17],CléFormation)-COUNTIF(Janvier[17],CléAbsencenonjustifiée) -> 0 | S27: =COUNTA(Janvier[18])-COUNTIF(Janvier[18],CléReposhebdomadaire)-COUNTIF(Janvier[18],CléCongé)-COUNTIF(Janvier[18],CléMaladie)-COUNTIF(Janvier[18],CléFormation)-COUNTIF(Janvier[18],CléAbsencenonjustifiée) -> 0 | T27: =COUNTA(Janvier[19])-COUNTIF(Janvier[19],CléReposhebdomadaire)-COUNTIF(Janvier[19],CléCongé)-COUNTIF(Janvier[19],CléMaladie)-COUNTIF(Janvier[19],CléFormation)-COUNTIF(Janvier[19],CléAbsencenonjustifiée) -> 0 | U27: =COUNTA(Janvier[20])-COUNTIF(Janvier[20],CléReposhebdomadaire)-COUNTIF(Janvier[20],CléCongé)-COUNTIF(Janvier[20],CléMaladie)-COUNTIF(Janvier[20],CléFormation)-COUNTIF(Janvier[20],CléAbsencenonjustifiée) -> 0 | V27: =COUNTA(Janvier[21])-COUNTIF(Janvier[21],CléReposhebdomadaire)-COUNTIF(Janvier[21],CléCongé)-COUNTIF(Janvier[21],CléMaladie)-COUNTIF(Janvier[21],CléFormation)-COUNTIF(Janvier[21],CléAbsencenonjustifiée) -> 0 | W27: =COUNTA(Janvier[22])-COUNTIF(Janvier[22],CléReposhebdomadaire)-COUNTIF(Janvier[22],CléCongé)-COUNTIF(Janvier[22],CléMaladie)-COUNTIF(Janvier[22],CléFormation)-COUNTIF(Janvier[22],CléAbsencenonjustifiée) -> 0 | X27: =COUNTA(Janvier[23])-COUNTIF(Janvier[23],CléReposhebdomadaire)-COUNTIF(Janvier[23],CléCongé)-COUNTIF(Janvier[23],CléMaladie)-COUNTIF(Janvier[23],CléFormation)-COUNTIF(Janvier[23],CléAbsencenonjustifiée) -> 0 | Y27: =COUNTA(Janvier[24])-COUNTIF(Janvier[24],CléReposhebdomadaire)-COUNTIF(Janvier[24],CléCongé)-COUNTIF(Janvier[24],CléMaladie)-COUNTIF(Janvier[24],CléFormation)-COUNTIF(Janvier[24],CléAbsencenonjustifiée) -> 0 | Z27: =COUNTA(Janvier[25])-COUNTIF(Janvier[25],CléReposhebdomadaire)-COUNTIF(Janvier[25],CléCongé)-COUNTIF(Janvier[25],CléMaladie)-COUNTIF(Janvier[25],CléFormation)-COUNTIF(Janvier[25],CléAbsencenonjustifiée) -> 0 | AA27: =COUNTA(Janvier[26])-COUNTIF(Janvier[26],CléReposhebdomadaire)-COUNTIF(Janvier[26],CléCongé)-COUNTIF(Janvier[26],CléMaladie)-COUNTIF(Janvier[26],CléFormation)-COUNTIF(Janvier[26],CléAbsencenonjustifiée) -> 0 | AB27: =COUNTA(Janvier[27])-COUNTIF(Janvier[27],CléReposhebdomadaire)-COUNTIF(Janvier[27],CléCongé)-COUNTIF(Janvier[27],CléMaladie)-COUNTIF(Janvier[27],CléFormation)-COUNTIF(Janvier[27],CléAbsencenonjustifiée) -> 0 | AC27: =COUNTA(Janvier[28])-COUNTIF(Janvier[28],CléReposhebdomadaire)-COUNTIF(Janvier[28],CléCongé)-COUNTIF(Janvier[28],CléMaladie)-COUNTIF(Janvier[28],CléFormation)-COUNTIF(Janvier[28],CléAbsencenonjustifiée) -> 0 | AD27: =COUNTA(Janvier[29])-COUNTIF(Janvier[29],CléReposhebdomadaire)-COUNTIF(Janvier[29],CléCongé)-COUNTIF(Janvier[29],CléMaladie)-COUNTIF(Janvier[29],CléFormation)-COUNTIF(Janvier[29],CléAbsencenonjustifiée) -> 0 | AE27: =COUNTA(Janvier[30])-COUNTIF(Janvier[30],CléReposhebdomadaire)-COUNTIF(Janvier[30],CléCongé)-COUNTIF(Janvier[30],CléMaladie)-COUNTIF(Janvier[30],CléFormation)-COUNTIF(Janvier[30],CléAbsencenonjustifiée) -> 0 | AF27: =COUNTA(Janvier[31])-COUNTIF(Janvier[31],CléReposhebdomadaire)-COUNTIF(Janvier[31],CléCongé)-COUNTIF(Janvier[31],CléMaladie)-COUNTIF(Janvier[31],CléFormation)-COUNTIF(Janvier[31],CléAbsencenonjustifiée) -> 0 | AG27: =SUBTOTAL(109,Mars[Total des Heures effectuées]) -> 0

Sheet Mars
A1: =Titre_Absence_Employé -> PLANNING MENSUEL
A2: Clé de motif d’absence | B2: RH | C2: Repos hebdomadaire | G2: CP | H2: Congé | J2: AM | K2: Arrêt Maladie | N2: FO | O2: Formation | Q2: ABS | R2: Absence non justifiée
A4: Mars | B4: Poste | AG4: =AnnéeCalendrier -> 2023
B5: =TEXT(WEEKDAY(DATE(AnnéeCalendrier,3,1),1),"jjj") -> mer | C5: =TEXT(WEEKDAY(DATE(AnnéeCalendrier,3,2),1),"jjj") -> jeu | D5: =TEXT(WEEKDAY(DATE(AnnéeCalendrier,3,3),1),"jjj") -> ven | E5: =TEXT(WEEKDAY(DATE(AnnéeCalendrier,3,4),1),"jjj") -> sam | F5: =TEXT(WEEKDAY(DATE(AnnéeCalendrier,3,5),1),"jjj") -> dim | G5: =TEXT(WEEKDAY(DATE(AnnéeCalendrier,3,6),1),"jjj") -> lun | H5: =TEXT(WEEKDAY(DATE(AnnéeCalendrier,3,7),1),"jjj") -> mar | I5: =TEXT(WEEKDAY(DATE(AnnéeCalendrier,3,8),1),"jjj") -> mer | J5: =TEXT(WEEKDAY(DATE(AnnéeCalendrier,3,9),1),"jjj") -> jeu | K5: =TEXT(WEEKDAY(DATE(AnnéeCalendrier,3,10),1),"jjj") -> ven | L5: =TEXT(WEEKDAY(DATE(AnnéeCalendrier,3,11),1),"jjj") -> sam | M5: =TEXT(WEEKDAY(DATE(AnnéeCalendrier,3,12),1),"jjj") -> dim | N5: =TEXT(WEEKDAY(DATE(AnnéeCalendrier,3,13),1),"jjj") -> lun | O5: =TEXT(WEEKDAY(DATE(AnnéeCalendrier,3,14),1),"jjj") -> mar | P5: =TEXT(WEEKDAY(DATE(AnnéeCalendrier,3,15),1),"jjj") -> mer | Q5: =TEXT(WEEKDAY(DATE(AnnéeCalendrier,3,16),1),"jjj") -> jeu | R5: =TEXT(WEEKDAY(DATE(AnnéeCalendrier,3,17),1),"jjj") -> ven | S5: =TEXT(WEEKDAY(DATE(AnnéeCalendrier,3,18),1),"jjj") -> sam | T5: =TEXT(WEEKDAY(DATE(AnnéeCalendrier,3,19),1),"jjj") -> dim | U5: =TEXT(WEEKDAY(DATE(AnnéeCalendrier,3,20),1),"jjj") -> lun | V5: =TEXT(WEEKDAY(DATE(AnnéeCalendrier,3,21),1),"jjj") -> mar | W5: =TEXT(WEEKDAY(DATE(AnnéeCalendrier,3,22),1),"jjj") -> mer | X5: =TEXT(WEEKDAY(DATE(AnnéeCalendrier,3,23),1),"jjj") -> jeu | Y5: =TEXT(WEEKDAY(DATE(AnnéeCalendrier,3,24),1),"jjj") -> ven | Z5: =TEXT(WEEKDAY(DATE(AnnéeCalendrier,3,25),1),"jjj") -> sam | AA5: =TEXT(WEEKDAY(DATE(AnnéeCalendrier,3,26),1),"jjj") -> dim | AB5: =TEXT(WEEKDAY(DATE(AnnéeCalendrier,3,27),1),"jjj") -> lun | AC5: =TEXT(WEEKDAY(DATE(AnnéeCalendrier,3,28),1),"jjj") -> mar | AD5: =TEXT(WEEKDAY(DATE(AnnéeCalendrier,3,29),1),"jjj") -> mer | AE5: =TEXT(WEEKDAY(DATE(AnnéeCalendrier,3,30),1),"jjj") -> jeu | AF5: =TEXT(WEEKDAY(DATE(AnnéeCalendrier,3,31),1),"jjj") -> ven
A6: Nom de l’employé | B6: 1 | C6: 2 | D6: 3 | E6: 4 | F6: 5 | G6: 6 | H6: 7 | I6: 8 | J6: 9 | K6: 10 | L6: 11 | M6: 12 | N6: 13 | O6: 14 | P6: 15 | Q6: 16 | R6: 17 | S6: 18 | T6: 19 | U6: 20 | V6: 21 | W6: 22 | X6: 23 | Y6: 24 | Z6: 25 | AA6: 26 | AB6: 27 | AC6: 28 | AD6: 29 | AE6: 30 | AF6: 31 | AG6: Total des Heures effectuées
A7: Employé 1 | AG7: =COUNTIF(Janvier[[#This Row],[1]:[31]],Paramétrage!G3)*Paramétrage!I3+COUNTIF(Janvier[[#This Row],[1]:[31]],Paramétrage!G4)*Paramétrage!I4+COUNTIF(Janvier[[#This Row],[1]:[31]],Paramétrage!G5)*Paramétrage!I5+COUNTIF(Janvier[[#This Row],[1]:[31]],Paramétrage!G6)*Paramétrage!I6+COUNTIF(Janvier[[#This Row],[1]:[31]],Paramétrage!G7)*Paramétrage!I7+COUNTIF(Janvier[[#This Row],[1]:[31]],Paramétrage!G8)*Paramétrage!I8+COUNTIF(Janvier[[#This Row],[1]:[31]],Paramétrage!G9)*Paramétrage!I9+COUNTIF(Janvier[[#This Row],[1]:[31]],Paramétrage!G10)*Paramétrage!I10+COUNTIF(Janvier[[#This Row],[1]:[31]],Paramétrage!G11)*Paramétrage!I11+COUNTIF(Janvier[[#This Row],[1]:[31]],Paramétrage!G12)*Paramétrage!I12+COUNTIF(Janvier[[#This Row],[1]:[31]],Paramétrage!G13)*Paramétrage!I13+COUNTIF(Janvier[[#This Row],[1]:[31]],Paramétrage!G14*Paramétrage!I14+COUNTIF(Janvier[[#This Row],[1]:[31]],Paramétrage!G15)*Paramétrage!I15+COUNTIF(Janvier[[#This Row],[1]:[31]],Paramétrage!G16)*Paramétrage!I16) -> 0
A8: Employé 2 | AG8: =COUNTIF(Janvier[[#This Row],[1]:[31]],Paramétrage!G4)*Paramétrage!I4+COUNTIF(Janvier[[#This Row],[1]:[31]],Paramétrage!G5)*Paramétrage!I5+COUNTIF(Janvier[[#This Row],[1]:[31]],Paramétrage!G6)*Paramétrage!I6+COUNTIF(Janvier[[#This Row],[1]:[31]],Paramétrage!G7)*Paramétrage!I7+COUNTIF(Janvier[[#This Row],[1]:[31]],Paramétrage!G8)*Paramétrage!I8+COUNTIF(Janvier[[#This Row],[1]:[31]],Paramétrage!G9)*Paramétrage!I9+COUNTIF(Janvier[[#This Row],[1]:[31]],Paramétrage!G10)*Paramétrage!I10+COUNTIF(Janvier[[#This Row],[1]:[31]],Paramétrage!G11)*Paramétrage!I11+COUNTIF(Janvier[[#This Row],[1]:[31]],Paramétrage!G12)*Paramétrage!I12+COUNTIF(Janvier[[#This Row],[1]:[31]],Paramétrage!G13)*Paramétrage!I13+COUNTIF(Janvier[[#This Row],[1]:[31]],Paramétrage!G14)*Paramétrage!I14+COUNTIF(Janvier[[#This Row],[1]:[31]],Paramétrage!G15*Paramétrage!I15+COUNTIF(Janvier[[#This Row],[1]:[31]],Paramétrage!G16)*Paramétrage!I16+COUNTIF(Janvier[[#This Row],[1]:[31]],Paramétrage!G17)*Paramétrage!I17) -> 0
A9: Employé 3 | AG9: =COUNTIF(Janvier[[#This Row],[1]:[31]],Paramétrage!G5)*Paramétrage!I5+COUNTIF(Janvier[[#This Row],[1]:[31]],Paramétrage!G6)*Paramétrage!I6+COUNTIF(Janvier[[#This Row],[1]:[31]],Paramétrage!G7)*Paramétrage!I7+COUNTIF(Janvier[[#This Row],[1]:[31]],Paramétrage!G8)*Paramétrage!I8+COUNTIF(Janvier[[#This Row],[1]:[31]],Paramétrage!G9)*Paramétrage!I9+COUNTIF(Janvier[[#This Row],[1]:[31]],Paramétrage!G10)*Paramétrage!I10+COUNTIF(Janvier[[#This Row],[1]:[31]],Paramétrage!G11)*Paramétrage!I11+COUNTIF(Janvier[[#This Row],[1]:[31]],Paramétrage!G12)*Paramétrage!I12+COUNTIF(Janvier[[#This Row],[1]:[31]],Paramétrage!G13)*Paramétrage!I13+COUNTIF(Janvier[[#This Row],[1]:[31]],Paramétrage!G14)*Paramétrage!I14+COUNTIF(Janvier[[#This Row],[1]:[31]],Paramétrage!G15)*Paramétrage!I15+COUNTIF(Janvier[[#This Row],[1]:[31]],Paramétrage!G16*Paramétrage!I16+COUNTIF(Janvier[[#This Row],[1]:[31]],Paramétrage!G17)*Paramétrage!I17+COUNTIF(Janvier[[#This Row],[1]:[31]],Paramétrage!G18)*Paramétrage!I18) -> 0
A10: Employé 4 | AG10: =COUNTIF(Janvier[[#This Row],[1]:[31]],Paramétrage!G6)*Paramétrage!I6+COUNTIF(Janvier[[#This Row],[1]:[31]],Paramétrage!G7)*Paramétrage!I7+COUNTIF(Janvier[[#This Row],[1]:[31]],Paramétrage!G8)*Paramétrage!I8+COUNTIF(Janvier[[#This Row],[1]:[31]],Paramétrage!G9)*Paramétrage!I9+COUNTIF(Janvier[[#This Row],[1]:[31]],Paramétrage!G10)*Paramétrage!I10+COUNTIF(Janvier[[#This Row],[1]:[31]],Paramétrage!G11)*Paramétrage!I11+COUNTIF(Janvier[[#This Row],[1]:[31]],Paramétrage!G12)*Paramétrage!I12+COUNTIF(Janvier[[#This Row],[1]:[31]],Paramétrage!G13)*Paramétrage!I13+COUNTIF(Janvier[[#This Row],[1]:[31]],Paramétrage!G14)*Paramétrage!I14+COUNTIF(Janvier[[#This Row],[1]:[31]],Paramétrage!G15)*Paramétrage!I15+COUNTIF(Janvier[[#This Row],[1]:[31]],Paramétrage!G16)*Paramétrage!I16+COUNTIF(Janvier[[#This Row],[1]:[31]],Paramétrage!G17*Paramétrage!I17+COUNTIF(Janvier[[#This Row],[1]:[31]],Paramétrage!G18)*Paramétrage!I18+COUNTIF(Janvier[[#This Row],[1]:[31]],Paramétrage!G19)*Paramétrage!I19) -> 0
A11: Employé 5 | AG11: =COUNTIF(Janvier[[#This Row],[1]:[31]],Paramétrage!G7)*Paramétrage!I7+COUNTIF(Janvier[[#This Row],[1]:[31]],Paramétrage!G8)*Paramétrage!I8+COUNTIF(Janvier[[#This Row],[1]:[31]],Paramétrage!G9)*Paramétrage!I9+COUNTIF(Janvier[[#This Row],[1]:[31]],Paramétrage!G10)*Paramétrage!I10+COUNTIF(Janvier[[#This Row],[1]:[31]],Paramétrage!G11)*Paramétrage!I11+COUNTIF(Janvier[[#This Row],[1]:[31]],Paramétrage!G12)*Paramétrage!I12+COUNTIF(Janvier[[#This Row],[1]:[31]],Paramétrage!G13)*Paramétrage!I13+COUNTIF(Janvier[[#This Row],[1]:[31]],Paramétrage!G14)*Paramétrage!I14+COUNTIF(Janvier[[#This Row],[1]:[31]],Paramétrage!G15)*Paramétrage!I15+COUNTIF(Janvier[[#This Row],[1]:[31]],Paramétrage!G16)*Paramétrage!I16+COUNTIF(Janvier[[#This Row],[1]:[31]],Paramétrage!G17)*Paramétrage!I17+COUNTIF(Janvier[[#This Row],[1]:[31]],Paramétrage!G18*Paramétrage!I18+COUNTIF(Janvier[[#This Row],[1]:[31]],Paramétrage!G19)*Paramétrage!I19+COUNTIF(Janvier[[#This Row],[1]:[31]],Paramétrage!G20)*Paramétrage!I20) -> 0
A12: Employé 6 | AG12: =COUNTIF(Janvier[[#This Row],[1]:[31]],Paramétrage!G8)*Paramétrage!I8+COUNTIF(Janvier[[#This Row],[1]:[31]],Paramétrage!G9)*Paramétrage!I9+COUNTIF(Janvier[[#This Row],[1]:[31]],Paramétrage!G10)*Paramétrage!I10+COUNTIF(Janvier[[#This Row],[1]:[31]],Paramétrage!G11)*Paramétrage!I11+COUNTIF(Janvier[[#This Row],[1]:[31]],Paramétrage!G12)*Paramétrage!I12+COUNTIF(Janvier[[#This Row],[1]:[31]],Paramétrage!G13)*Paramétrage!I13+COUNTIF(Janvier[[#This Row],[1]:[31]],Paramétrage!G14)*Paramétrage!I14+COUNTIF(Janvier[[#This Row],[1]:[31]],Paramétrage!G15)*Paramétrage!I15+COUNTIF(Janvier[[#This Row],[1]:[31]],Paramétrage!G16)*Paramétrage!I16+COUNTIF(Janvier[[#This Row],[1]:[31]],Paramétrage!G17)*Paramétrage!I17+COUNTIF(Janvier[[#This Row],[1]:[31]],Paramétrage!G18)*Paramétrage!I18+COUNTIF(Janvier[[#This Row],[1]:[31]],Paramétrage!G19*Paramétrage!I19+COUNTIF(Janvier[[#This Row],[1]:[31]],Paramétrage!G20)*Paramétrage!I20+COUNTIF(Janvier[[#This Row],[1]:[31]],Paramétrage!G21)*Paramétrage!I21) -> 0
A13: Employé 7 | AG13: =COUNTIF(Janvier[[#This Row],[1]:[31]],Paramétrage!G9)*Paramétrage!I9+COUNTIF(Janvier[[#This Row],[1]:[31]],Paramétrage!G10)*Paramétrage!I10+COUNTIF(Janvier[[#This Row],[1]:[31]],Paramétrage!G11)*Paramétrage!I11+COUNTIF(Janvier[[#This Row],[1]:[31]],Paramétrage!G12)*Paramétrage!I12+COUNTIF(Janvier[[#This Row],[1]:[31]],Paramétrage!G13)*Paramétrage!I13+COUNTIF(Janvier[[#This Row],[1]:[31]],Paramétrage!G14)*Paramétrage!I14+COUNTIF(Janvier[[#This Row],[1]:[31]],Paramétrage!G15)*Paramétrage!I15+COUNTIF(Janvier[[#This Row],[1]:[31]],Paramétrage!G16)*Paramétrage!I16+COUNTIF(Janvier[[#This Row],[1]:[31]],Paramétrage!G17)*Paramétrage!I17+COUNTIF(Janvier[[#This Row],[1]:[31]],Paramétrage!G18)*Paramétrage!I18+COUNTIF(Janvier[[#This Row],[1]:[31]],Paramétrage!G19)*Paramétrage!I19+COUNTIF(Janvier[[#This Row],[1]:[31]],Paramétrage!G20*Paramétrage!I20+COUNTIF(Janvier[[#This Row],[1]:[31]],Paramétrage!G21)*Paramétrage!I21+COUNTIF(Janvier[[#This Row],[1]:[31]],Paramétrage!G22)*Paramétrage!I22) -> 0
A14: Employé 8 | AG14: =COUNTIF(Janvier[[#This Row],[1]:[31]],Paramétrage!G10)*Paramétrage!I10+COUNTIF(Janvier[[#This Row],[1]:[31]],Paramétrage!G11)*Paramétrage!I11+COUNTIF(Janvier[[#This Row],[1]:[31]],Paramétrage!G12)*Paramétrage!I12+COUNTIF(Janvier[[#This Row],[1]:[31]],Paramétrage!G13)*Paramétrage!I13+COUNTIF(Janvier[[#This Row],[1]:[31]],Paramétrage!G14)*Paramétrage!I14+COUNTIF(Janvier[[#This Row],[1]:[31]],Paramétrage!G15)*Paramétrage!I15+COUNTIF(Janvier[[#This Row],[1]:[31]],Paramétrage!G16)*Paramétrage!I16+COUNTIF(Janvier[[#This Row],[1]:[31]],Paramétrage!G17)*Paramétrage!I17+COUNTIF(Janvier[[#This Row],[1]:[31]],Paramétrage!G18)*Paramétrage!I18+COUNTIF(Janvier[[#This Row],[1]:[31]],Paramétrage!G19)*Paramétrage!I19+COUNTIF(Janvier[[#This Row],[1]:[31]],Paramétrage!G20)*Paramétrage!I20+COUNTIF(Janvier[[#This Row],[1]:[31]],Paramétrage!G21*Paramétrage!I21+COUNTIF(Janvier[[#This Row],[1]:[31]],Paramétrage!G22)*Paramétrage!I22+COUNTIF(Janvier[[#This Row],[1]:[31]],Paramétrage!G23)*Paramétrage!I23) -> 0
A15: Employé 9 | AG15: =COUNTIF(Janvier[[#This Row],[1]:[31]],Paramétrage!G11)*Paramétrage!I11+COUNTIF(Janvier[[#This Row],[1]:[31]],Paramétrage!G12)*Paramétrage!I12+COUNTIF(Janvier[[#This Row],[1]:[31]],Paramétrage!G13)*Paramétrage!I13+COUNTIF(Janvier[[#This Row],[1]:[31]],Paramétrage!G14)*Paramétrage!I14+COUNTIF(Janvier[[#This Row],[1]:[31]],Paramétrage!G15)*Paramétrage!I15+COUNTIF(Janvier[[#This Row],[1]:[31]],Paramétrage!G16)*Paramétrage!I16+COUNTIF(Janvier[[#This Row],[1]:[31]],Paramétrage!G17)*Paramétrage!I17+COUNTIF(Janvier[[#This Row],[1]:[31]],Paramétrage!G18)*Paramétrage!I18+COUNTIF(Janvier[[#This Row],[1]:[31]],Paramétrage!G19)*Paramétrage!I19+COUNTIF(Janvier[[#This Row],[1]:[31]],Paramétrage!G20)*Paramétrage!I20+COUNTIF(Janvier[[#This Row],[1]:[31]],Paramétrage!G21)*Paramétrage!I21+COUNTIF(Janvier[[#This Row],[1]:[31]],Paramétrage!G22*Paramétrage!I22+COUNTIF(Janvier[[#This Row],[1]:[31]],Paramétrage!G23)*Paramétrage!I23+COUNTIF(Janvier[[#This Row],[1]:[31]],Paramétrage!G24)*Paramétrage!I24) -> 0
A16: Employé 10 | AG16: =COUNTIF(Janvier[[#This Row],[1]:[31]],Paramétrage!G12)*Paramétrage!I12+COUNTIF(Janvier[[#This Row],[1]:[31]],Paramétrage!G13)*Paramétrage!I13+COUNTIF(Janvier[[#This Row],[1]:[31]],Paramétrage!G14)*Paramétrage!I14+COUNTIF(Janvier[[#This Row],[1]:[31]],Paramétrage!G15)*Paramétrage!I15+COUNTIF(Janvier[[#This Row],[1]:[31]],Paramétrage!G16)*Paramétrage!I16+COUNTIF(Janvier[[#This Row],[1]:[31]],Paramétrage!G17)*Paramétrage!I17+COUNTIF(Janvier[[#This Row],[1]:[31]],Paramétrage!G18)*Paramétrage!I18+COUNTIF(Janvier[[#This Row],[1]:[31]],Paramétrage!G19)*Paramétrage!I19+COUNTIF(Janvier[[#This Row],[1]:[31]],Paramétrage!G20)*Paramétrage!I20+COUNTIF(Janvier[[#This Row],[1]:[31]],Paramétrage!G21)*Paramétrage!I21+COUNTIF(Janvier[[#This Row],[1]:[31]],Paramétrage!G22)*Paramétrage!I22+COUNTIF(Janvier[[#This Row],[1]:[31]],Paramétrage!G23*Paramétrage!I23+COUNTIF(Janvier[[#This Row],[1]:[31]],Paramétrage!G24)*Paramétrage!I24+COUNTIF(Janvier[[#This Row],[1]:[31]],Paramétrage!G25)*Paramétrage!I25) -> 0
A17: Employé 11 | AG17: =COUNTIF(Janvier[[#This Row],[1]:[31]],Paramétrage!G13)*Paramétrage!I13+COUNTIF(Janvier[[#This Row],[1]:[31]],Paramétrage!G14)*Paramétrage!I14+COUNTIF(Janvier[[#This Row],[1]:[31]],Paramétrage!G15)*Paramétrage!I15+COUNTIF(Janvier[[#This Row],[1]:[31]],Paramétrage!G16)*Paramétrage!I16+COUNTIF(Janvier[[#This Row],[1]:[31]],Paramétrage!G17)*Paramétrage!I17+COUNTIF(Janvier[[#This Row],[1]:[31]],Paramétrage!G18)*Paramétrage!I18+COUNTIF(Janvier[[#This Row],[1]:[31]],Paramétrage!G19)*Paramétrage!I19+COUNTIF(Janvier[[#This Row],[1]:[31]],Paramétrage!G20)*Paramétrage!I20+COUNTIF(Janvier[[#This Row],[1]:[31]],Paramétrage!G21)*Paramétrage!I21+COUNTIF(Janvier[[#This Row],[1]:[31]],Paramétrage!G22)*Paramétrage!I22+COUNTIF(Janvier[[#This Row],[1]:[31]],Paramétrage!G23)*Paramétrage!I23+COUNTIF(Janvier[[#This Row],[1]:[31]],Paramétrage!G24*Paramétrage!I24+COUNTIF(Janvier[[#This Row],[1]:[31]],Paramétrage!G25)*Paramétrage!I25+COUNTIF(Janvier[[#This Row],[1]:[31]],Paramétrage!G26)*Paramétrage!I26) -> 0
A18: Employé 12 | AG18: =COUNTIF(Janvier[[#This Row],[1]:[31]],Paramétrage!G14)*Paramétrage!I14+COUNTIF(Janvier[[#This Row],[1]:[31]],Paramétrage!G15)*Paramétrage!I15+COUNTIF(Janvier[[#This Row],[1]:[31]],Paramétrage!G16)*Paramétrage!I16+COUNTIF(Janvier[[#This Row],[1]:[31]],Paramétrage!G17)*Paramétrage!I17+COUNTIF(Janvier[[#This Row],[1]:[31]],Paramétrage!G18)*Paramétrage!I18+COUNTIF(Janvier[[#This Row],[1]:[31]],Paramétrage!G19)*Paramétrage!I19+COUNTIF(Janvier[[#This Row],[1]:[31]],Paramétrage!G20)*Paramétrage!I20+COUNTIF(Janvier[[#This Row],[1]:[31]],Paramétrage!G21)*Paramétrage!I21+COUNTIF(Janvier[[#This Row],[1]:[31]],Paramétrage!G22)*Paramétrage!I22+COUNTIF(Janvier[[#This Row],[1]:[31]],Paramétrage!G23)*Paramétrage!I23+COUNTIF(Janvier[[#This Row],[1]:[31]],Paramétrage!G24)*Paramétrage!I24+COUNTIF(Janvier[[#This Row],[1]:[31]],Paramétrage!G25*Paramétrage!I25+COUNTIF(Janvier[[#This Row],[1]:[31]],Paramétrage!G26)*Paramétrage!I26+COUNTIF(Janvier[[#This Row],[1]:[31]],Paramétrage!G27)*Paramétrage!I27) -> 0
... A26: Employé 20 | AG26: =COUNTIF(Janvier[[#This Row],[1]:[31]],Paramétrage!G22)*Paramétrage!I22+COUNTIF(Janvier[[#This Row],[1]:[31]],Paramétrage!G23)*Paramétrage!I23+COUNTIF(Janvier[[#This Row],[1]:[31]],Paramétrage!G24)*Paramétrage!I24+COUNTIF(Janvier[[#This Row],[1]:[31]],Paramétrage!G25)*Paramétrage!I25+COUNTIF(Janvier[[#This Row],[1]:[31]],Paramétrage!G26)*Paramétrage!I26+COUNTIF(Janvier[[#This Row],[1]:[31]],Paramétrage!G27)*Paramétrage!I27+COUNTIF(Janvier[[#This Row],[1]:[31]],Paramétrage!G28)*Paramétrage!I28+COUNTIF(Janvier[[#This Row],[1]:[31]],Paramétrage!G29)*Paramétrage!I29+COUNTIF(Janvier[[#This Row],[1]:[31]],Paramétrage!G30)*Paramétrage!I30+COUNTIF(Janvier[[#This Row],[1]:[31]],Paramétrage!G31)*Paramétrage!I31+COUNTIF(Janvier[[#This Row],[1]:[31]],Paramétrage!G32)*Paramétrage!I32+COUNTIF(Janvier[[#This Row],[1]:[31]],Paramétrage!G33*Paramétrage!I33+COUNTIF(Janvier[[#This Row],[1]:[31]],Paramétrage!G34)*Paramétrage!I34+COUNTIF(Janvier[[#This Row],[1]:[31]],Paramétrage!G35)*Paramétrage!I35) -> 0
A27: Total employés dans la journée | B27: =COUNTA(Janvier[1])-COUNTIF(Janvier[1],CléReposhebdomadaire)-COUNTIF(Janvier[1],CléCongé)-COUNTIF(Janvier[1],CléMaladie)-COUNTIF(Janvier[1],CléFormation)-COUNTIF(Janvier[1],CléAbsencenonjustifiée) -> 0 | C27: =COUNTA(Janvier[2])-COUNTIF(Janvier[2],CléReposhebdomadaire)-COUNTIF(Janvier[2],CléCongé)-COUNTIF(Janvier[2],CléMaladie)-COUNTIF(Janvier[2],CléFormation)-COUNTIF(Janvier[2],CléAbsencenonjustifiée) -> 0 | D27: =COUNTA(Janvier[3])-COUNTIF(Janvier[3],CléReposhebdomadaire)-COUNTIF(Janvier[3],CléCongé)-COUNTIF(Janvier[3],CléMaladie)-COUNTIF(Janvier[3],CléFormation)-COUNTIF(Janvier[3],CléAbsencenonjustifiée) -> 0 | E27: =COUNTA(Janvier[4])-COUNTIF(Janvier[4],CléReposhebdomadaire)-COUNTIF(Janvier[4],CléCongé)-COUNTIF(Janvier[4],CléMaladie)-COUNTIF(Janvier[4],CléFormation)-COUNTIF(Janvier[4],CléAbsencenonjustifiée) -> 0 | F27: =COUNTA(Janvier[5])-COUNTIF(Janvier[5],CléReposhebdomadaire)-COUNTIF(Janvier[5],CléCongé)-COUNTIF(Janvier[5],CléMaladie)-COUNTIF(Janvier[5],CléFormation)-COUNTIF(Janvier[5],CléAbsencenonjustifiée) -> 0 | G27: =COUNTA(Janvier[6])-COUNTIF(Janvier[6],CléReposhebdomadaire)-COUNTIF(Janvier[6],CléCongé)-COUNTIF(Janvier[6],CléMaladie)-COUNTIF(Janvier[6],CléFormation)-COUNTIF(Janvier[6],CléAbsencenonjustifiée) -> 0 | H27: =COUNTA(Janvier[7])-COUNTIF(Janvier[7],CléReposhebdomadaire)-COUNTIF(Janvier[7],CléCongé)-COUNTIF(Janvier[7],CléMaladie)-COUNTIF(Janvier[7],CléFormation)-COUNTIF(Janvier[7],CléAbsencenonjustifiée) -> 0 | I27: =COUNTA(Janvier[8])-COUNTIF(Janvier[8],CléReposhebdomadaire)-COUNTIF(Janvier[8],CléCongé)-COUNTIF(Janvier[8],CléMaladie)-COUNTIF(Janvier[8],CléFormation)-COUNTIF(Janvier[8],CléAbsencenonjustifiée) -> 0 | J27: =COUNTA(Janvier[9])-COUNTIF(Janvier[9],CléReposhebdomadaire)-COUNTIF(Janvier[9],CléCongé)-COUNTIF(Janvier[9],CléMaladie)-COUNTIF(Janvier[9],CléFormation)-COUNTIF(Janvier[9],CléAbsencenonjustifiée) -> 0 | K27: =COUNTA(Janvier[10])-COUNTIF(Janvier[10],CléReposhebdomadaire)-COUNTIF(Janvier[10],CléCongé)-COUNTIF(Janvier[10],CléMaladie)-COUNTIF(Janvier[10],CléFormation)-COUNTIF(Janvier[10],CléAbsencenonjustifiée) -> 0 | L27: =COUNTA(Janvier[11])-COUNTIF(Janvier[11],CléReposhebdomadaire)-COUNTIF(Janvier[11],CléCongé)-COUNTIF(Janvier[11],CléMaladie)-COUNTIF(Janvier[11],CléFormation)-COUNTIF(Janvier[11],CléAbsencenonjustifiée) -> 0 | M27: =COUNTA(Janvier[12])-COUNTIF(Janvier[12],CléReposhebdomadaire)-COUNTIF(Janvier[12],CléCongé)-COUNTIF(Janvier[12],CléMaladie)-COUNTIF(Janvier[12],CléFormation)-COUNTIF(Janvier[12],CléAbsencenonjustifiée) -> 0 | N27: =COUNTA(Janvier[13])-COUNTIF(Janvier[13],CléReposhebdomadaire)-COUNTIF(Janvier[13],CléCongé)-COUNTIF(Janvier[13],CléMaladie)-COUNTIF(Janvier[13],CléFormation)-COUNTIF(Janvier[13],CléAbsencenonjustifiée) -> 0 | O27: =COUNTA(Janvier[14])-COUNTIF(Janvier[14],CléReposhebdomadaire)-COUNTIF(Janvier[14],CléCongé)-COUNTIF(Janvier[14],CléMaladie)-COUNTIF(Janvier[14],CléFormation)-COUNTIF(Janvier[14],CléAbsencenonjustifiée) -> 0 | P27: =COUNTA(Janvier[15])-COUNTIF(Janvier[15],CléReposhebdomadaire)-COUNTIF(Janvier[15],CléCongé)-COUNTIF(Janvier[15],CléMaladie)-COUNTIF(Janvier[15],CléFormation)-COUNTIF(Janvier[15],CléAbsencenonjustifiée) -> 0 | Q27: =COUNTA(Janvier[16])-COUNTIF(Janvier[16],CléReposhebdomadaire)-COUNTIF(Janvier[16],CléCongé)-COUNTIF(Janvier[16],CléMaladie)-COUNTIF(Janvier[16],CléFormation)-COUNTIF(Janvier[16],CléAbsencenonjustifiée) -> 0 | R27: =COUNTA(Janvier[17])-COUNTIF(Janvier[17],CléReposhebdomadaire)-COUNTIF(Janvier[17],CléCongé)-COUNTIF(Janvier[17],CléMaladie)-COUNTIF(Janvier[17],CléFormation)-COUNTIF(Janvier[17],CléAbsencenonjustifiée) -> 0 | S27: =COUNTA(Janvier[18])-COUNTIF(Janvier[18],CléReposhebdomadaire)-COUNTIF(Janvier[18],CléCongé)-COUNTIF(Janvier[18],CléMaladie)-COUNTIF(Janvier[18],CléFormation)-COUNTIF(Janvier[18],CléAbsencenonjustifiée) -> 0 | T27: =COUNTA(Janvier[19])-COUNTIF(Janvier[19],CléReposhebdomadaire)-COUNTIF(Janvier[19],CléCongé)-COUNTIF(Janvier[19],CléMaladie)-COUNTIF(Janvier[19],CléFormation)-COUNTIF(Janvier[19],CléAbsencenonjustifiée) -> 0 | U27: =COUNTA(Janvier[20])-COUNTIF(Janvier[20],CléReposhebdomadaire)-COUNTIF(Janvier[20],CléCongé)-COUNTIF(Janvier[20],CléMaladie)-COUNTIF(Janvier[20],CléFormation)-COUNTIF(Janvier[20],CléAbsencenonjustifiée) -> 0 | V27: =COUNTA(Janvier[21])-COUNTIF(Janvier[21],CléReposhebdomadaire)-COUNTIF(Janvier[21],CléCongé)-COUNTIF(Janvier[21],CléMaladie)-COUNTIF(Janvier[21],CléFormation)-COUNTIF(Janvier[21],CléAbsencenonjustifiée) -> 0 | W27: =COUNTA(Janvier[22])-COUNTIF(Janvier[22],CléReposhebdomadaire)-COUNTIF(Janvier[22],CléCongé)-COUNTIF(Janvier[22],CléMaladie)-COUNTIF(Janvier[22],CléFormation)-COUNTIF(Janvier[22],CléAbsencenonjustifiée) -> 0 | X27: =COUNTA(Janvier[23])-COUNTIF(Janvier[23],CléReposhebdomadaire)-COUNTIF(Janvier[23],CléCongé)-COUNTIF(Janvier[23],CléMaladie)-COUNTIF(Janvier[23],CléFormation)-COUNTIF(Janvier[23],CléAbsencenonjustifiée) -> 0 | Y27: =COUNTA(Janvier[24])-COUNTIF(Janvier[24],CléReposhebdomadaire)-COUNTIF(Janvier[24],CléCongé)-COUNTIF(Janvier[24],CléMaladie)-COUNTIF(Janvier[24],CléFormation)-COUNTIF(Janvier[24],CléAbsencenonjustifiée) -> 0 | Z27: =COUNTA(Janvier[25])-COUNTIF(Janvier[25],CléReposhebdomadaire)-COUNTIF(Janvier[25],CléCongé)-COUNTIF(Janvier[25],CléMaladie)-COUNTIF(Janvier[25],CléFormation)-COUNTIF(Janvier[25],CléAbsencenonjustifiée) -> 0 | AA27: =COUNTA(Janvier[26])-COUNTIF(Janvier[26],CléReposhebdomadaire)-COUNTIF(Janvier[26],CléCongé)-COUNTIF(Janvier[26],CléMaladie)-COUNTIF(Janvier[26],CléFormation)-COUNTIF(Janvier[26],CléAbsencenonjustifiée) -> 0 | AB27: =COUNTA(Janvier[27])-COUNTIF(Janvier[27],CléReposhebdomadaire)-COUNTIF(Janvier[27],CléCongé)-COUNTIF(Janvier[27],CléMaladie)-COUNTIF(Janvier[27],CléFormation)-COUNTIF(Janvier[27],CléAbsencenonjustifiée) -> 0 | AC27: =COUNTA(Janvier[28])-COUNTIF(Janvier[28],CléReposhebdomadaire)-COUNTIF(Janvier[28],CléCongé)-COUNTIF(Janvier[28],CléMaladie)-COUNTIF(Janvier[28],CléFormation)-COUNTIF(Janvier[28],CléAbsencenonjustifiée) -> 0 | AD27: =COUNTA(Janvier[29])-COUNTIF(Janvier[29],CléReposhebdomadaire)-COUNTIF(Janvier[29],CléCongé)-COUNTIF(Janvier[29],CléMaladie)-COUNTIF(Janvier[29],CléFormation)-COUNTIF(Janvier[29],CléAbsencenonjustifiée) -> 0 | AE27: =COUNTA(Janvier[30])-COUNTIF(Janvier[30],CléReposhebdomadaire)-COUNTIF(Janvier[30],CléCongé)-COUNTIF(Janvier[30],CléMaladie)-COUNTIF(Janvier[30],CléFormation)-COUNTIF(Janvier[30],CléAbsencenonjustifiée) -> 0 | AF27: =COUNTA(Janvier[31])-COUNTIF(Janvier[31],CléReposhebdomadaire)-COUNTIF(Janvier[31],CléCongé)-COUNTIF(Janvier[31],CléMaladie)-COUNTIF(Janvier[31],CléFormation)-COUNTIF(Janvier[31],CléAbsencenonjustifiée) -> 0 | AG27: =SUBTOTAL(109,Mars[Total des Heures effectuées]) -> 0

Sheet Avril
A1: =Titre_Absence_Employé -> PLANNING MENSUEL
A2: Clé de motif d’absence | B2: RH | C2: Repos hebdomadaire | G2: CP | H2: Congé | J2: AM | K2: Arrêt Maladie | N2: FO | O2: Formation | Q2: ABS | R2: Absence non justifiée
A4: Avril | B4: Poste | AG4: =AnnéeCalendrier -> 2023
B5: =TEXT(WEEKDAY(DATE(AnnéeCalendrier,4,1),1),"jjj") -> sam | C5: =TEXT(WEEKDAY(DATE(AnnéeCalendrier,4,2),1),"jjj") -> dim | D5: =TEXT(WEEKDAY(DATE(AnnéeCalendrier,4,3),1),"jjj") -> lun | E5: =TEXT(WEEKDAY(DATE(AnnéeCalendrier,4,4),1),"jjj") -> mar | F5: =TEXT(WEEKDAY(DATE(AnnéeCalendrier,4,5),1),"jjj") -> mer | G5: =TEXT(WEEKDAY(DATE(AnnéeCalendrier,4,6),1),"jjj") -> jeu | H5: =TEXT(WEEKDAY(DATE(AnnéeCalendrier,4,7),1),"jjj") -> ven | I5: =TEXT(WEEKDAY(DATE(AnnéeCalendrier,4,8),1),"jjj") -> sam | J5: =TEXT(WEEKDAY(DATE(AnnéeCalendrier,4,9),1),"jjj") -> dim | K5: =TEXT(WEEKDAY(DATE(AnnéeCalendrier,4,10),1),"jjj") -> lun | L5: =TEXT(WEEKDAY(DATE(AnnéeCalendrier,4,11),1),"jjj") -> mar | M5: =TEXT(WEEKDAY(DATE(AnnéeCalendrier,4,12),1),"jjj") -> mer | N5: =TEXT(WEEKDAY(DATE(AnnéeCalendrier,4,13),1),"jjj") -> jeu | O5: =TEXT(WEEKDAY(DATE(AnnéeCalendrier,4,14),1),"jjj") -> ven | P5: =TEXT(WEEKDAY(DATE(AnnéeCalendrier,4,15),1),"jjj") -> sam | Q5: =TEXT(WEEKDAY(DATE(AnnéeCalendrier,4,16),1),"jjj") -> dim | R5: =TEXT(WEEKDAY(DATE(AnnéeCalendrier,4,17),1),"jjj") -> lun | S5: =TEXT(WEEKDAY(DATE(AnnéeCalendrier,4,18),1),"jjj") -> mar | T5: =TEXT(WEEKDAY(DATE(AnnéeCalendrier,4,19),1),"jjj") -> mer | U5: =TEXT(WEEKDAY(DATE(AnnéeCalendrier,4,20),1),"jjj") -> jeu | V5: =TEXT(WEEKDAY(DATE(AnnéeCalendrier,4,21),1),"jjj") -> ven | W5: =TEXT(WEEKDAY(DATE(AnnéeCalendrier,4,22),1),"jjj") -> sam | X5: =TEXT(WEEKDAY(DATE(AnnéeCalendrier,4,23),1),"jjj") -> dim | Y5: =TEXT(WEEKDAY(DATE(AnnéeCalendrier,4,24),1),"jjj") -> lun | Z5: =TEXT(WEEKDAY(DATE(AnnéeCalendrier,4,25),1),"jjj") -> mar | AA5: =TEXT(WEEKDAY(DATE(AnnéeCalendrier,4,26),1),"jjj") -> mer | AB5: =TEXT(WEEKDAY(DATE(AnnéeCalendrier,4,27),1),"jjj") -> jeu | AC5: =TEXT(WEEKDAY(DATE(AnnéeCalendrier,4,28),1),"jjj") -> ven | AD5: =TEXT(WEEKDAY(DATE(AnnéeCalendrier,4,29),1),"jjj") -> sam | AE5: =TEXT(WEEKDAY(DATE(AnnéeCalendrier,4,30),1),"jjj") -> dim
A6: Nom de l’employé | B6: 1 | C6: 2 | D6: 3 | E6: 4 | F6: 5 | G6: 6 | H6: 7 | I6: 8 | J6: 9 | K6: 10 | L6: 11 | M6: 12 | N6: 13 | O6: 14 | P6: 15 | Q6: 16 | R6: 17 | S6: 18 | T6: 19 | U6: 20 | V6: 21 | W6: 22 | X6: 23 | Y6: 24 | Z6: 25 | AA6: 26 | AB6: 27 | AC6: 28 | AD6: 29 | AE6: 30 | AG6: Total des Heures effectuées
A7: Employé 1 | AG7: =COUNTIF(Janvier[[#This Row],[1]:[31]],Paramétrage!G3)*Paramétrage!I3+COUNTIF(Janvier[[#This Row],[1]:[31]],Paramétrage!G4)*Paramétrage!I4+COUNTIF(Janvier[[#This Row],[1]:[31]],Paramétrage!G5)*Paramétrage!I5+COUNTIF(Janvier[[#This Row],[1]:[31]],Paramétrage!G6)*Paramétrage!I6+COUNTIF(Janvier[[#This Row],[1]:[31]],Paramétrage!G7)*Paramétrage!I7+COUNTIF(Janvier[[#This Row],[1]:[31]],Paramétrage!G8)*Paramétrage!I8+COUNTIF(Janvier[[#This Row],[1]:[31]],Paramétrage!G9)*Paramétrage!I9+COUNTIF(Janvier[[#This Row],[1]:[31]],Paramétrage!G10)*Paramétrage!I10+COUNTIF(Janvier[[#This Row],[1]:[31]],Paramétrage!G11)*Paramétrage!I11+COUNTIF(Janvier[[#This Row],[1]:[31]],Paramétrage!G12)*Paramétrage!I12+COUNTIF(Janvier[[#This Row],[1]:[31]],Paramétrage!G13)*Paramétrage!I13+COUNTIF(Janvier[[#This Row],[1]:[31]],Paramétrage!G14*Paramétrage!I14+COUNTIF(Janvier[[#This Row],[1]:[31]],Paramétrage!G15)*Paramétrage!I15+COUNTIF(Janvier[[#This Row],[1]:[31]],Paramétrage!G16)*Paramétrage!I16) -> 0
A8: Employé 2 | AG8: =COUNTIF(Janvier[[#This Row],[1]:[31]],Paramétrage!G4)*Paramétrage!I4+COUNTIF(Janvier[[#This Row],[1]:[31]],Paramétrage!G5)*Paramétrage!I5+COUNTIF(Janvier[[#This Row],[1]:[31]],Paramétrage!G6)*Paramétrage!I6+COUNTIF(Janvier[[#This Row],[1]:[31]],Paramétrage!G7)*Paramétrage!I7+COUNTIF(Janvier[[#This Row],[1]:[31]],Paramétrage!G8)*Paramétrage!I8+COUNTIF(Janvier[[#This Row],[1]:[31]],Paramétrage!G9)*Paramétrage!I9+COUNTIF(Janvier[[#This Row],[1]:[31]],Paramétrage!G10)*Paramétrage!I10+COUNTIF(Janvier[[#This Row],[1]:[31]],Paramétrage!G11)*Paramétrage!I11+COUNTIF(Janvier[[#This Row],[1]:[31]],Paramétrage!G12)*Paramétrage!I12+COUNTIF(Janvier[[#This Row],[1]:[31]],Paramétrage!G13)*Paramétrage!I13+COUNTIF(Janvier[[#This Row],[1]:[31]],Paramétrage!G14)*Paramétrage!I14+COUNTIF(Janvier[[#This Row],[1]:[31]],Paramétrage!G15*Paramétrage!I15+COUNTIF(Janvier[[#This Row],[1]:[31]],Paramétrage!G16)*Paramétrage!I16+COUNTIF(Janvier[[#This Row],[1]:[31]],Paramétrage!G17)*Paramétrage!I17) -> 0
A9: Employé 3 | AG9: =COUNTIF(Janvier[[#This Row],[1]:[31]],Paramétrage!G5)*Paramétrage!I5+COUNTIF(Janvier[[#This Row],[1]:[31]],Paramétrage!G6)*Paramétrage!I6+COUNTIF(Janvier[[#This Row],[1]:[31]],Paramétrage!G7)*Paramétrage!I7+COUNTIF(Janvier[[#This Row],[1]:[31]],Paramétrage!G8)*Paramétrage!I8+COUNTIF(Janvier[[#This Row],[1]:[31]],Paramétrage!G9)*Paramétrage!I9+COUNTIF(Janvier[[#This Row],[1]:[31]],Paramétrage!G10)*Paramétrage!I10+COUNTIF(Janvier[[#This Row],[1]:[31]],Paramétrage!G11)*Paramétrage!I11+COUNTIF(Janvier[[#This Row],[1]:[31]],Paramétrage!G12)*Paramétrage!I12+COUNTIF(Janvier[[#This Row],[1]:[31]],Paramétrage!G13)*Paramétrage!I13+COUNTIF(Janvier[[#This Row],[1]:[31]],Paramétrage!G14)*Paramétrage!I14+COUNTIF(Janvier[[#This Row],[1]:[31]],Paramétrage!G15)*Paramétrage!I15+COUNTIF(Janvier[[#This Row],[1]:[31]],Paramétrage!G16*Paramétrage!I16+COUNTIF(Janvier[[#This Row],[1]:[31]],Paramétrage!G17)*Paramétrage!I17+COUNTIF(Janvier[[#This Row],[1]:[31]],Paramétrage!G18)*Paramétrage!I18) -> 0
A10: Employé 4 | AG10: =COUNTIF(Janvier[[#This Row],[1]:[31]],Paramétrage!G6)*Paramétrage!I6+COUNTIF(Janvier[[#This Row],[1]:[31]],Paramétrage!G7)*Paramétrage!I7+COUNTIF(Janvier[[#This Row],[1]:[31]],Paramétrage!G8)*Paramétrage!I8+COUNTIF(Janvier[[#This Row],[1]:[31]],Paramétrage!G9)*Paramétrage!I9+COUNTIF(Janvier[[#This Row],[1]:[31]],Paramétrage!G10)*Paramétrage!I10+COUNTIF(Janvier[[#This Row],[1]:[31]],Paramétrage!G11)*Paramétrage!I11+COUNTIF(Janvier[[#This Row],[1]:[31]],Paramétrage!G12)*Paramétrage!I12+COUNTIF(Janvier[[#This Row],[1]:[31]],Paramétrage!G13)*Paramétrage!I13+COUNTIF(Janvier[[#This Row],[1]:[31]],Paramétrage!G14)*Paramétrage!I14+COUNTIF(Janvier[[#This Row],[1]:[31]],Paramétrage!G15)*Paramétrage!I15+COUNTIF(Janvier[[#This Row],[1]:[31]],Paramétrage!G16)*Paramétrage!I16+COUNTIF(Janvier[[#This Row],[1]:[31]],Paramétrage!G17*Paramétrage!I17+COUNTIF(Janvier[[#This Row],[1]:[31]],Paramétrage!G18)*Paramétrage!I18+COUNTIF(Janvier[[#This Row],[1]:[31]],Paramétrage!G19)*Paramétrage!I19) -> 0
A11: Employé 5 | AG11: =COUNTIF(Janvier[[#This Row],[1]:[31]],Paramétrage!G7)*Paramétrage!I7+COUNTIF(Janvier[[#This Row],[1]:[31]],Paramétrage!G8)*Paramétrage!I8+COUNTIF(Janvier[[#This Row],[1]:[31]],Paramétrage!G9)*Paramétrage!I9+COUNTIF(Janvier[[#This Row],[1]:[31]],Paramétrage!G10)*Paramétrage!I10+COUNTIF(Janvier[[#This Row],[1]:[31]],Paramétrage!G11)*Paramétrage!I11+COUNTIF(Janvier[[#This Row],[1]:[31]],Paramétrage!G12)*Paramétrage!I12+COUNTIF(Janvier[[#This Row],[1]:[31]],Paramétrage!G13)*Paramétrage!I13+COUNTIF(Janvier[[#This Row],[1]:[31]],Paramétrage!G14)*Paramétrage!I14+COUNTIF(Janvier[[#This Row],[1]:[31]],Paramétrage!G15)*Paramétrage!I15+COUNTIF(Janvier[[#This Row],[1]:[31]],Paramétrage!G16)*Paramétrage!I16+COUNTIF(Janvier[[#This Row],[1]:[31]],Paramétrage!G17)*Paramétrage!I17+COUNTIF(Janvier[[#This Row],[1]:[31]],Paramétrage!G18*Paramétrage!I18+COUNTIF(Janvier[[#This Row],[1]:[31]],Paramétrage!G19)*Paramétrage!I19+COUNTIF(Janvier[[#This Row],[1]:[31]],Paramétrage!G20)*Paramétrage!I20) -> 0
A12: Employé 6 | AG12: =COUNTIF(Janvier[[#This Row],[1]:[31]],Paramétrage!G8)*Paramétrage!I8+COUNTIF(Janvier[[#This Row],[1]:[31]],Paramétrage!G9)*Paramétrage!I9+COUNTIF(Janvier[[#This Row],[1]:[31]],Paramétrage!G10)*Paramétrage!I10+COUNTIF(Janvier[[#This Row],[1]:[31]],Paramétrage!G11)*Paramétrage!I11+COUNTIF(Janvier[[#This Row],[1]:[31]],Paramétrage!G12)*Paramétrage!I12+COUNTIF(Janvier[[#This Row],[1]:[31]],Paramétrage!G13)*Paramétrage!I13+COUNTIF(Janvier[[#This Row],[1]:[31]],Paramétrage!G14)*Paramétrage!I14+COUNTIF(Janvier[[#This Row],[1]:[31]],Paramétrage!G15)*Paramétrage!I15+COUNTIF(Janvier[[#This Row],[1]:[31]],Paramétrage!G16)*Paramétrage!I16+COUNTIF(Janvier[[#This Row],[1]:[31]],Paramétrage!G17)*Paramétrage!I17+COUNTIF(Janvier[[#This Row],[1]:[31]],Paramétrage!G18)*Paramétrage!I18+COUNTIF(Janvier[[#This Row],[1]:[31]],Paramétrage!G19*Paramétrage!I19+COUNTIF(Janvier[[#This Row],[1]:[31]],Paramétrage!G20)*Paramétrage!I20+COUNTIF(Janvier[[#This Row],[1]:[31]],Paramétrage!G21)*Paramétrage!I21) -> 0
A13: Employé 7 | AG13: =COUNTIF(Janvier[[#This Row],[1]:[31]],Paramétrage!G9)*Paramétrage!I9+COUNTIF(Janvier[[#This Row],[1]:[31]],Paramétrage!G10)*Paramétrage!I10+COUNTIF(Janvier[[#This Row],[1]:[31]],Paramétrage!G11)*Paramétrage!I11+COUNTIF(Janvier[[#This Row],[1]:[31]],Paramétrage!G12)*Paramétrage!I12+COUNTIF(Janvier[[#This Row],[1]:[31]],Paramétrage!G13)*Paramétrage!I13+COUNTIF(Janvier[[#This Row],[1]:[31]],Paramétrage!G14)*Paramétrage!I14+COUNTIF(Janvier[[#This Row],[1]:[31]],Paramétrage!G15)*Paramétrage!I15+COUNTIF(Janvier[[#This Row],[1]:[31]],Paramétrage!G16)*Paramétrage!I16+COUNTIF(Janvier[[#This Row],[1]:[31]],Paramétrage!G17)*Paramétrage!I17+COUNTIF(Janvier[[#This Row],[1]:[31]],Paramétrage!G18)*Paramétrage!I18+COUNTIF(Janvier[[#This Row],[1]:[31]],Paramétrage!G19)*Paramétrage!I19+COUNTIF(Janvier[[#This Row],[1]:[31]],Paramétrage!G20*Paramétrage!I20+COUNTIF(Janvier[[#This Row],[1]:[31]],Paramétrage!G21)*Paramétrage!I21+COUNTIF(Janvier[[#This Row],[1]:[31]],Paramétrage!G22)*Paramétrage!I22) -> 0
A14: Employé 8 | AG14: =COUNTIF(Janvier[[#This Row],[1]:[31]],Paramétrage!G10)*Paramétrage!I10+COUNTIF(Janvier[[#This Row],[1]:[31]],Paramétrage!G11)*Paramétrage!I11+COUNTIF(Janvier[[#This Row],[1]:[31]],Paramétrage!G12)*Paramétrage!I12+COUNTIF(Janvier[[#This Row],[1]:[31]],Paramétrage!G13)*Paramétrage!I13+COUNTIF(Janvier[[#This Row],[1]:[31]],Paramétrage!G14)*Paramétrage!I14+COUNTIF(Janvier[[#This Row],[1]:[31]],Paramétrage!G15)*Paramétrage!I15+COUNTIF(Janvier[[#This Row],[1]:[31]],Paramétrage!G16)*Paramétrage!I16+COUNTIF(Janvier[[#This Row],[1]:[31]],Paramétrage!G17)*Paramétrage!I17+COUNTIF(Janvier[[#This Row],[1]:[31]],Paramétrage!G18)*Paramétrage!I18+COUNTIF(Janvier[[#This Row],[1]:[31]],Paramétrage!G19)*Paramétrage!I19+COUNTIF(Janvier[[#This Row],[1]:[31]],Paramétrage!G20)*Paramétrage!I20+COUNTIF(Janvier[[#This Row],[1]:[31]],Paramétrage!G21*Paramétrage!I21+COUNTIF(Janvier[[#This Row],[1]:[31]],Paramétrage!G22)*Paramétrage!I22+COUNTIF(Janvier[[#This Row],[1]:[31]],Paramétrage!G23)*Paramétrage!I23) -> 0
A15: Employé 9 | AG15: =COUNTIF(Janvier[[#This Row],[1]:[31]],Paramétrage!G11)*Paramétrage!I11+COUNTIF(Janvier[[#This Row],[1]:[31]],Paramétrage!G12)*Paramétrage!I12+COUNTIF(Janvier[[#This Row],[1]:[31]],Paramétrage!G13)*Paramétrage!I13+COUNTIF(Janvier[[#This Row],[1]:[31]],Paramétrage!G14)*Paramétrage!I14+COUNTIF(Janvier[[#This Row],[1]:[31]],Paramétrage!G15)*Paramétrage!I15+COUNTIF(Janvier[[#This Row],[1]:[31]],Paramétrage!G16)*Paramétrage!I16+COUNTIF(Janvier[[#This Row],[1]:[31]],Paramétrage!G17)*Paramétrage!I17+COUNTIF(Janvier[[#This Row],[1]:[31]],Paramétrage!G18)*Paramétrage!I18+COUNTIF(Janvier[[#This Row],[1]:[31]],Paramétrage!G19)*Paramétrage!I19+COUNTIF(Janvier[[#This Row],[1]:[31]],Paramétrage!G20)*Paramétrage!I20+COUNTIF(Janvier[[#This Row],[1]:[31]],Paramétrage!G21)*Paramétrage!I21+COUNTIF(Janvier[[#This Row],[1]:[31]],Paramétrage!G22*Paramétrage!I22+COUNTIF(Janvier[[#This Row],[1]:[31]],Paramétrage!G23)*Paramétrage!I23+COUNTIF(Janvier[[#This Row],[1]:[31]],Paramétrage!G24)*Paramétrage!I24) -> 0
A16: Employé 10 | AG16: =COUNTIF(Janvier[[#This Row],[1]:[31]],Paramétrage!G12)*Paramétrage!I12+COUNTIF(Janvier[[#This Row],[1]:[31]],Paramétrage!G13)*Paramétrage!I13+COUNTIF(Janvier[[#This Row],[1]:[31]],Paramétrage!G14)*Paramétrage!I14+COUNTIF(Janvier[[#This Row],[1]:[31]],Paramétrage!G15)*Paramétrage!I15+COUNTIF(Janvier[[#This Row],[1]:[31]],Paramétrage!G16)*Paramétrage!I16+COUNTIF(Janvier[[#This Row],[1]:[31]],Paramétrage!G17)*Paramétrage!I17+COUNTIF(Janvier[[#This Row],[1]:[31]],Paramétrage!G18)*Paramétrage!I18+COUNTIF(Janvier[[#This Row],[1]:[31]],Paramétrage!G19)*Paramétrage!I19+COUNTIF(Janvier[[#This Row],[1]:[31]],Paramétrage!G20)*Paramétrage!I20+COUNTIF(Janvier[[#This Row],[1]:[31]],Paramétrage!G21)*Paramétrage!I21+COUNTIF(Janvier[[#This Row],[1]:[31]],Paramétrage!G22)*Paramétrage!I22+COUNTIF(Janvier[[#This Row],[1]:[31]],Paramétrage!G23*Paramétrage!I23+COUNTIF(Janvier[[#This Row],[1]:[31]],Paramétrage!G24)*Paramétrage!I24+COUNTIF(Janvier[[#This Row],[1]:[31]],Paramétrage!G25)*Paramétrage!I25) -> 0
A17: Employé 11 | AG17: =COUNTIF(Janvier[[#This Row],[1]:[31]],Paramétrage!G13)*Paramétrage!I13+COUNTIF(Janvier[[#This Row],[1]:[31]],Paramétrage!G14)*Paramétrage!I14+COUNTIF(Janvier[[#This Row],[1]:[31]],Paramétrage!G15)*Paramétrage!I15+COUNTIF(Janvier[[#This Row],[1]:[31]],Paramétrage!G16)*Paramétrage!I16+COUNTIF(Janvier[[#This Row],[1]:[31]],Paramétrage!G17)*Paramétrage!I17+COUNTIF(Janvier[[#This Row],[1]:[31]],Paramétrage!G18)*Paramétrage!I18+COUNTIF(Janvier[[#This Row],[1]:[31]],Paramétrage!G19)*Paramétrage!I19+COUNTIF(Janvier[[#This Row],[1]:[31]],Paramétrage!G20)*Paramétrage!I20+COUNTIF(Janvier[[#This Row],[1]:[31]],Paramétrage!G21)*Paramétrage!I21+COUNTIF(Janvier[[#This Row],[1]:[31]],Paramétrage!G22)*Paramétrage!I22+COUNTIF(Janvier[[#This Row],[1]:[31]],Paramétrage!G23)*Paramétrage!I23+COUNTIF(Janvier[[#This Row],[1]:[31]],Paramétrage!G24*Paramétrage!I24+COUNTIF(Janvier[[#This Row],[1]:[31]],Paramétrage!G25)*Paramétrage!I25+COUNTIF(Janvier[[#This Row],[1]:[31]],Paramétrage!G26)*Paramétrage!I26) -> 0
A18: Employé 12 | AG18: =COUNTIF(Janvier[[#This Row],[1]:[31]],Paramétrage!G14)*Paramétrage!I14+COUNTIF(Janvier[[#This Row],[1]:[31]],Paramétrage!G15)*Paramétrage!I15+COUNTIF(Janvier[[#This Row],[1]:[31]],Paramétrage!G16)*Paramétrage!I16+COUNTIF(Janvier[[#This Row],[1]:[31]],Paramétrage!G17)*Paramétrage!I17+COUNTIF(Janvier[[#This Row],[1]:[31]],Paramétrage!G18)*Paramétrage!I18+COUNTIF(Janvier[[#This Row],[1]:[31]],Paramétrage!G19)*Paramétrage!I19+COUNTIF(Janvier[[#This Row],[1]:[31]],Paramétrage!G20)*Paramétrage!I20+COUNTIF(Janvier[[#This Row],[1]:[31]],Paramétrage!G21)*Paramétrage!I21+COUNTIF(Janvier[[#This Row],[1]:[31]],Paramétrage!G22)*Paramétrage!I22+COUNTIF(Janvier[[#This Row],[1]:[31]],Paramétrage!G23)*Paramétrage!I23+COUNTIF(Janvier[[#This Row],[1]:[31]],Paramétrage!G24)*Paramétrage!I24+COUNTIF(Janvier[[#This Row],[1]:[31]],Paramétrage!G25*Paramétrage!I25+COUNTIF(Janvier[[#This Row],[1]:[31]],Paramétrage!G26)*Paramétrage!I26+COUNTIF(Janvier[[#This Row],[1]:[31]],Paramétrage!G27)*Paramétrage!I27) -> 0
... A26: Employé 20 | AG26: =COUNTIF(Janvier[[#This Row],[1]:[31]],Paramétrage!G22)*Paramétrage!I22+COUNTIF(Janvier[[#This Row],[1]:[31]],Paramétrage!G23)*Paramétrage!I23+COUNTIF(Janvier[[#This Row],[1]:[31]],Paramétrage!G24)*Paramétrage!I24+COUNTIF(Janvier[[#This Row],[1]:[31]],Paramétrage!G25)*Paramétrage!I25+COUNTIF(Janvier[[#This Row],[1]:[31]],Paramétrage!G26)*Paramétrage!I26+COUNTIF(Janvier[[#This Row],[1]:[31]],Paramétrage!G27)*Paramétrage!I27+COUNTIF(Janvier[[#This Row],[1]:[31]],Paramétrage!G28)*Paramétrage!I28+COUNTIF(Janvier[[#This Row],[1]:[31]],Paramétrage!G29)*Paramétrage!I29+COUNTIF(Janvier[[#This Row],[1]:[31]],Paramétrage!G30)*Paramétrage!I30+COUNTIF(Janvier[[#This Row],[1]:[31]],Paramétrage!G31)*Paramétrage!I31+COUNTIF(Janvier[[#This Row],[1]:[31]],Paramétrage!G32)*Paramétrage!I32+COUNTIF(Janvier[[#This Row],[1]:[31]],Paramétrage!G33*Paramétrage!I33+COUNTIF(Janvier[[#This Row],[1]:[31]],Paramétrage!G34)*Paramétrage!I34+COUNTIF(Janvier[[#This Row],[1]:[31]],Paramétrage!G35)*Paramétrage!I35) -> 0
A27: Total employés dans la journée | B27: =COUNTA(Janvier[1])-COUNTIF(Janvier[1],CléReposhebdomadaire)-COUNTIF(Janvier[1],CléCongé)-COUNTIF(Janvier[1],CléMaladie)-COUNTIF(Janvier[1],CléFormation)-COUNTIF(Janvier[1],CléAbsencenonjustifiée) -> 0 | C27: =COUNTA(Janvier[2])-COUNTIF(Janvier[2],CléReposhebdomadaire)-COUNTIF(Janvier[2],CléCongé)-COUNTIF(Janvier[2],CléMaladie)-COUNTIF(Janvier[2],CléFormation)-COUNTIF(Janvier[2],CléAbsencenonjustifiée) -> 0 | D27: =COUNTA(Janvier[3])-COUNTIF(Janvier[3],CléReposhebdomadaire)-COUNTIF(Janvier[3],CléCongé)-COUNTIF(Janvier[3],CléMaladie)-COUNTIF(Janvier[3],CléFormation)-COUNTIF(Janvier[3],CléAbsencenonjustifiée) -> 0 | E27: =COUNTA(Janvier[4])-COUNTIF(Janvier[4],CléReposhebdomadaire)-COUNTIF(Janvier[4],CléCongé)-COUNTIF(Janvier[4],CléMaladie)-COUNTIF(Janvier[4],CléFormation)-COUNTIF(Janvier[4],CléAbsencenonjustifiée) -> 0 | F27: =COUNTA(Janvier[5])-COUNTIF(Janvier[5],CléReposhebdomadaire)-COUNTIF(Janvier[5],CléCongé)-COUNTIF(Janvier[5],CléMaladie)-COUNTIF(Janvier[5],CléFormation)-COUNTIF(Janvier[5],CléAbsencenonjustifiée) -> 0 | G27: =COUNTA(Janvier[6])-COUNTIF(Janvier[6],CléReposhebdomadaire)-COUNTIF(Janvier[6],CléCongé)-COUNTIF(Janvier[6],CléMaladie)-COUNTIF(Janvier[6],CléFormation)-COUNTIF(Janvier[6],CléAbsencenonjustifiée) -> 0 | H27: =COUNTA(Janvier[7])-COUNTIF(Janvier[7],CléReposhebdomadaire)-COUNTIF(Janvier[7],CléCongé)-COUNTIF(Janvier[7],CléMaladie)-COUNTIF(Janvier[7],CléFormation)-COUNTIF(Janvier[7],CléAbsencenonjustifiée) -> 0 | I27: =COUNTA(Janvier[8])-COUNTIF(Janvier[8],CléReposhebdomadaire)-COUNTIF(Janvier[8],CléCongé)-COUNTIF(Janvier[8],CléMaladie)-COUNTIF(Janvier[8],CléFormation)-COUNTIF(Janvier[8],CléAbsencenonjustifiée) -> 0 | J27: =COUNTA(Janvier[9])-COUNTIF(Janvier[9],CléReposhebdomadaire)-COUNTIF(Janvier[9],CléCongé)-COUNTIF(Janvier[9],CléMaladie)-COUNTIF(Janvier[9],CléFormation)-COUNTIF(Janvier[9],CléAbsencenonjustifiée) -> 0 | K27: =COUNTA(Janvier[10])-COUNTIF(Janvier[10],CléReposhebdomadaire)-COUNTIF(Janvier[10],CléCongé)-COUNTIF(Janvier[10],CléMaladie)-COUNTIF(Janvier[10],CléFormation)-COUNTIF(Janvier[10],CléAbsencenonjustifiée) -> 0 | L27: =COUNTA(Janvier[11])-COUNTIF(Janvier[11],CléReposhebdomadaire)-COUNTIF(Janvier[11],CléCongé)-COUNTIF(Janvier[11],CléMaladie)-COUNTIF(Janvier[11],CléFormation)-COUNTIF(Janvier[11],CléAbsencenonjustifiée) -> 0 | M27: =COUNTA(Janvier[12])-COUNTIF(Janvier[12],CléReposhebdomadaire)-COUNTIF(Janvier[12],CléCongé)-COUNTIF(Janvier[12],CléMaladie)-COUNTIF(Janvier[12],CléFormation)-COUNTIF(Janvier[12],CléAbsencenonjustifiée) -> 0 | N27: =COUNTA(Janvier[13])-COUNTIF(Janvier[13],CléReposhebdomadaire)-COUNTIF(Janvier[13],CléCongé)-COUNTIF(Janvier[13],CléMaladie)-COUNTIF(Janvier[13],CléFormation)-COUNTIF(Janvier[13],CléAbsencenonjustifiée) -> 0 | O27: =COUNTA(Janvier[14])-COUNTIF(Janvier[14],CléReposhebdomadaire)-COUNTIF(Janvier[14],CléCongé)-COUNTIF(Janvier[14],CléMaladie)-COUNTIF(Janvier[14],CléFormation)-COUNTIF(Janvier[14],CléAbsencenonjustifiée) -> 0 | P27: =COUNTA(Janvier[15])-COUNTIF(Janvier[15],CléReposhebdomadaire)-COUNTIF(Janvier[15],CléCongé)-COUNTIF(Janvier[15],CléMaladie)-COUNTIF(Janvier[15],CléFormation)-COUNTIF(Janvier[15],CléAbsencenonjustifiée) -> 0 | Q27: =COUNTA(Janvier[16])-COUNTIF(Janvier[16],CléReposhebdomadaire)-COUNTIF(Janvier[16],CléCongé)-COUNTIF(Janvier[16],CléMaladie)-COUNTIF(Janvier[16],CléFormation)-COUNTIF(Janvier[16],CléAbsencenonjustifiée) -> 0 | R27: =COUNTA(Janvier[17])-COUNTIF(Janvier[17],CléReposhebdomadaire)-COUNTIF(Janvier[17],CléCongé)-COUNTIF(Janvier[17],CléMaladie)-COUNTIF(Janvier[17],CléFormation)-COUNTIF(Janvier[17],CléAbsencenonjustifiée) -> 0 | S27: =COUNTA(Janvier[18])-COUNTIF(Janvier[18],CléReposhebdomadaire)-COUNTIF(Janvier[18],CléCongé)-COUNTIF(Janvier[18],CléMaladie)-COUNTIF(Janvier[18],CléFormation)-COUNTIF(Janvier[18],CléAbsencenonjustifiée) -> 0 | T27: =COUNTA(Janvier[19])-COUNTIF(Janvier[19],CléReposhebdomadaire)-COUNTIF(Janvier[19],CléCongé)-COUNTIF(Janvier[19],CléMaladie)-COUNTIF(Janvier[19],CléFormation)-COUNTIF(Janvier[19],CléAbsencenonjustifiée) -> 0 | U27: =COUNTA(Janvier[20])-COUNTIF(Janvier[20],CléReposhebdomadaire)-COUNTIF(Janvier[20],CléCongé)-COUNTIF(Janvier[20],CléMaladie)-COUNTIF(Janvier[20],CléFormation)-COUNTIF(Janvier[20],CléAbsencenonjustifiée) -> 0 | V27: =COUNTA(Janvier[21])-COUNTIF(Janvier[21],CléReposhebdomadaire)-COUNTIF(Janvier[21],CléCongé)-COUNTIF(Janvier[21],CléMaladie)-COUNTIF(Janvier[21],CléFormation)-COUNTIF(Janvier[21],CléAbsencenonjustifiée) -> 0 | W27: =COUNTA(Janvier[22])-COUNTIF(Janvier[22],CléReposhebdomadaire)-COUNTIF(Janvier[22],CléCongé)-COUNTIF(Janvier[22],CléMaladie)-COUNTIF(Janvier[22],CléFormation)-COUNTIF(Janvier[22],CléAbsencenonjustifiée) -> 0 | X27: =COUNTA(Janvier[23])-COUNTIF(Janvier[23],CléReposhebdomadaire)-COUNTIF(Janvier[23],CléCongé)-COUNTIF(Janvier[23],CléMaladie)-COUNTIF(Janvier[23],CléFormation)-COUNTIF(Janvier[23],CléAbsencenonjustifiée) -> 0 | Y27: =COUNTA(Janvier[24])-COUNTIF(Janvier[24],CléReposhebdomadaire)-COUNTIF(Janvier[24],CléCongé)-COUNTIF(Janvier[24],CléMaladie)-COUNTIF(Janvier[24],CléFormation)-COUNTIF(Janvier[24],CléAbsencenonjustifiée) -> 0 | Z27: =COUNTA(Janvier[25])-COUNTIF(Janvier[25],CléReposhebdomadaire)-COUNTIF(Janvier[25],CléCongé)-COUNTIF(Janvier[25],CléMaladie)-COUNTIF(Janvier[25],CléFormation)-COUNTIF(Janvier[25],CléAbsencenonjustifiée) -> 0 | AA27: =COUNTA(Janvier[26])-COUNTIF(Janvier[26],CléReposhebdomadaire)-COUNTIF(Janvier[26],CléCongé)-COUNTIF(Janvier[26],CléMaladie)-COUNTIF(Janvier[26],CléFormation)-COUNTIF(Janvier[26],CléAbsencenonjustifiée) -> 0 | AB27: =COUNTA(Janvier[27])-COUNTIF(Janvier[27],CléReposhebdomadaire)-COUNTIF(Janvier[27],CléCongé)-COUNTIF(Janvier[27],CléMaladie)-COUNTIF(Janvier[27],CléFormation)-COUNTIF(Janvier[27],CléAbsencenonjustifiée) -> 0 | AC27: =COUNTA(Janvier[28])-COUNTIF(Janvier[28],CléReposhebdomadaire)-COUNTIF(Janvier[28],CléCongé)-COUNTIF(Janvier[28],CléMaladie)-COUNTIF(Janvier[28],CléFormation)-COUNTIF(Janvier[28],CléAbsencenonjustifiée) -> 0 | AD27: =COUNTA(Janvier[29])-COUNTIF(Janvier[29],CléReposhebdomadaire)-COUNTIF(Janvier[29],CléCongé)-COUNTIF(Janvier[29],CléMaladie)-COUNTIF(Janvier[29],CléFormation)-COUNTIF(Janvier[29],CléAbsencenonjustifiée) -> 0 | AE27: =COUNTA(Janvier[30])-COUNTIF(Janvier[30],CléReposhebdomadaire)-COUNTIF(Janvier[30],CléCongé)-COUNTIF(Janvier[30],CléMaladie)-COUNTIF(Janvier[30],CléFormation)-COUNTIF(Janvier[30],CléAbsencenonjustifiée) -> 0 | AF27: =COUNTA(Janvier[31])-COUNTIF(Janvier[31],CléReposhebdomadaire)-COUNTIF(Janvier[31],CléCongé)-COUNTIF(Janvier[31],CléMaladie)-COUNTIF(Janvier[31],CléFormation)-COUNTIF(Janvier[31],CléAbsencenonjustifiée) -> 0 | AG27: =SUBTOTAL(109,Mars[Total des Heures effectuées]) -> 0

Sheet Mai
A1: =Titre_Absence_Employé -> PLANNING MENSUEL
A2: Clé de motif d’absence | B2: RH | C2: Repos hebdomadaire | G2: CP | H2: Congé | J2: AM | K2: Arrêt Maladie | N2: FO | O2: Formation | Q2: ABS | R2: Absence non justifiée
A4: Mai | B4: Poste | AG4: =AnnéeCalendrier -> 2023
B5: =TEXT(WEEKDAY(DATE(AnnéeCalendrier,5,1),1),"jjj") -> lun | C5: =TEXT(WEEKDAY(DATE(AnnéeCalendrier,5,2),1),"jjj") -> mar | D5: =TEXT(WEEKDAY(DATE(AnnéeCalendrier,5,3),1),"jjj") -> mer | E5: =TEXT(WEEKDAY(DATE(AnnéeCalendrier,5,4),1),"jjj") -> jeu | F5: =TEXT(WEEKDAY(DATE(AnnéeCalendrier,5,5),1),"jjj") -> ven | G5: =TEXT(WEEKDAY(DATE(AnnéeCalendrier,5,6),1),"jjj") -> sam | H5: =TEXT(WEEKDAY(DATE(AnnéeCalendrier,5,7),1),"jjj") -> dim | I5: =TEXT(WEEKDAY(DATE(AnnéeCalendrier,5,8),1),"jjj") -> lun | J5: =TEXT(WEEKDAY(DATE(AnnéeCalendrier,5,9),1),"jjj") -> mar | K5: =TEXT(WEEKDAY(DATE(AnnéeCalendrier,5,10),1),"jjj") -> mer | L5: =TEXT(WEEKDAY(DATE(AnnéeCalendrier,5,11),1),"jjj") -> jeu | M5: =TEXT(WEEKDAY(DATE(AnnéeCalendrier,5,12),1),"jjj") -> ven | N5: =TEXT(WEEKDAY(DATE(AnnéeCalendrier,5,13),1),"jjj") -> sam | O5: =TEXT(WEEKDAY(DATE(AnnéeCalendrier,5,14),1),"jjj") -> dim | P5: =TEXT(WEEKDAY(DATE(AnnéeCalendrier,5,15),1),"jjj") -> lun | Q5: =TEXT(WEEKDAY(DATE(AnnéeCalendrier,5,16),1),"jjj") -> mar | R5: =TEXT(WEEKDAY(DATE(AnnéeCalendrier,5,17),1),"jjj") -> mer | S5: =TEXT(WEEKDAY(DATE(AnnéeCalendrier,5,18),1),"jjj") -> jeu | T5: =TEXT(WEEKDAY(DATE(AnnéeCalendrier,5,19),1),"jjj") -> ven | U5: =TEXT(WEEKDAY(DATE(AnnéeCalendrier,5,20),1),"jjj") -> sam | V5: =TEXT(WEEKDAY(DATE(AnnéeCalendrier,5,21),1),"jjj") -> dim | W5: =TEXT(WEEKDAY(DATE(AnnéeCalendrier,5,22),1),"jjj") -> lun | X5: =TEXT(WEEKDAY(DATE(AnnéeCalendrier,5,23),1),"jjj") -> mar | Y5: =TEXT(WEEKDAY(DATE(AnnéeCalendrier,5,24),1),"jjj") -> mer | Z5: =TEXT(WEEKDAY(DATE(AnnéeCalendrier,5,25),1),"jjj") -> jeu | AA5: =TEXT(WEEKDAY(DATE(AnnéeCalendrier,5,26),1),"jjj") -> ven | AB5: =TEXT(WEEKDAY(DATE(AnnéeCalendrier,5,27),1),"jjj") -> sam | AC5: =TEXT(WEEKDAY(DATE(AnnéeCalendrier,5,28),1),"jjj") -> dim | AD5: =TEXT(WEEKDAY(DATE(AnnéeCalendrier,5,29),1),"jjj") -> lun | AE5: =TEXT(WEEKDAY(DATE(AnnéeCalendrier,5,30),1),"jjj") -> mar | AF5: =TEXT(WEEKDAY(DATE(AnnéeCalendrier,5,31),1),"jjj") -> mer
A6: Nom de l’employé | B6: 1 | C6: 2 | D6: 3 | E6: 4 | F6: 5 | G6: 6 | H6: 7 | I6: 8 | J6: 9 | K6: 10 | L6: 11 | M6: 12 | N6: 13 | O6: 14 | P6: 15 | Q6: 16 | R6: 17 | S6: 18 | T6: 19 | U6: 20 | V6: 21 | W6: 22 | X6: 23 | Y6: 24 | Z6: 25 | AA6: 26 | AB6: 27 | AC6: 28 | AD6: 29 | AE6: 30 | AF6: 31 | AG6: Total des Heures effectuées
A7: Employé 1 | AG7: =COUNTIF(Janvier[[#This Row],[1]:[31]],Paramétrage!G3)*Paramétrage!I3+COUNTIF(Janvier[[#This Row],[1]:[31]],Paramétrage!G4)*Paramétrage!I4+COUNTIF(Janvier[[#This Row],[1]:[31]],Paramétrage!G5)*Paramétrage!I5+COUNTIF(Janvier[[#This Row],[1]:[31]],Paramétrage!G6)*Paramétrage!I6+COUNTIF(Janvier[[#This Row],[1]:[31]],Paramétrage!G7)*Paramétrage!I7+COUNTIF(Janvier[[#This Row],[1]:[31]],Paramétrage!G8)*Paramétrage!I8+COUNTIF(Janvier[[#This Row],[1]:[31]],Paramétrage!G9)*Paramétrage!I9+COUNTIF(Janvier[[#This Row],[1]:[31]],Paramétrage!G10)*Paramétrage!I10+COUNTIF(Janvier[[#This Row],[1]:[31]],Paramétrage!G11)*Paramétrage!I11+COUNTIF(Janvier[[#This Row],[1]:[31]],Paramétrage!G12)*Paramétrage!I12+COUNTIF(Janvier[[#This Row],[1]:[31]],Paramétrage!G13)*Paramétrage!I13+COUNTIF(Janvier[[#This Row],[1]:[31]],Paramétrage!G14*Paramétrage!I14+COUNTIF(Janvier[[#This Row],[1]:[31]],Paramétrage!G15)*Paramétrage!I15+COUNTIF(Janvier[[#This Row],[1]:[31]],Paramétrage!G16)*Paramétrage!I16) -> 0
A8: Employé 2 | AG8: =COUNTIF(Janvier[[#This Row],[1]:[31]],Paramétrage!G4)*Paramétrage!I4+COUNTIF(Janvier[[#This Row],[1]:[31]],Paramétrage!G5)*Paramétrage!I5+COUNTIF(Janvier[[#This Row],[1]:[31]],Paramétrage!G6)*Paramétrage!I6+COUNTIF(Janvier[[#This Row],[1]:[31]],Paramétrage!G7)*Paramétrage!I7+COUNTIF(Janvier[[#This Row],[1]:[31]],Paramétrage!G8)*Paramétrage!I8+COUNTIF(Janvier[[#This Row],[1]:[31]],Paramétrage!G9)*Paramétrage!I9+COUNTIF(Janvier[[#This Row],[1]:[31]],Paramétrage!G10)*Paramétrage!I10+COUNTIF(Janvier[[#This Row],[1]:[31]],Paramétrage!G11)*Paramétrage!I11+COUNTIF(Janvier[[#This Row],[1]:[31]],Paramétrage!G12)*Paramétrage!I12+COUNTIF(Janvier[[#This Row],[1]:[31]],Paramétrage!G13)*Paramétrage!I13+COUNTIF(Janvier[[#This Row],[1]:[31]],Paramétrage!G14)*Paramétrage!I14+COUNTIF(Janvier[[#This Row],[1]:[31]],Paramétrage!G15*Paramétrage!I15+COUNTIF(Janvier[[#This Row],[1]:[31]],Paramétrage!G16)*Paramétrage!I16+COUNTIF(Janvier[[#This Row],[1]:[31]],Paramétrage!G17)*Paramétrage!I17) -> 0
A9: Employé 3 | AG9: =COUNTIF(Janvier[[#This Row],[1]:[31]],Paramétrage!G5)*Paramétrage!I5+COUNTIF(Janvier[[#This Row],[1]:[31]],Paramétrage!G6)*Paramétrage!I6+COUNTIF(Janvier[[#This Row],[1]:[31]],Paramétrage!G7)*Paramétrage!I7+COUNTIF(Janvier[[#This Row],[1]:[31]],Paramétrage!G8)*Paramétrage!I8+COUNTIF(Janvier[[#This Row],[1]:[31]],Paramétrage!G9)*Paramétrage!I9+COUNTIF(Janvier[[#This Row],[1]:[31]],Paramétrage!G10)*Paramétrage!I10+COUNTIF(Janvier[[#This Row],[1]:[31]],Paramétrage!G11)*Paramétrage!I11+COUNTIF(Janvier[[#This Row],[1]:[31]],Paramétrage!G12)*Paramétrage!I12+COUNTIF(Janvier[[#This Row],[1]:[31]],Paramétrage!G13)*Paramétrage!I13+COUNTIF(Janvier[[#This Row],[1]:[31]],Paramétrage!G14)*Paramétrage!I14+COUNTIF(Janvier[[#This Row],[1]:[31]],Paramétrage!G15)*Paramétrage!I15+COUNTIF(Janvier[[#This Row],[1]:[31]],Paramétrage!G16*Paramétrage!I16+COUNTIF(Janvier[[#This Row],[1]:[31]],Paramétrage!G17)*Paramétrage!I17+COUNTIF(Janvier[[#This Row],[1]:[31]],Paramétrage!G18)*Paramétrage!I18) -> 0
A10: Employé 4 | AG10: =COUNTIF(Janvier[[#This Row],[1]:[31]],Paramétrage!G6)*Paramétrage!I6+COUNTIF(Janvier[[#This Row],[1]:[31]],Paramétrage!G7)*Paramétrage!I7+COUNTIF(Janvier[[#This Row],[1]:[31]],Paramétrage!G8)*Paramétrage!I8+COUNTIF(Janvier[[#This Row],[1]:[31]],Paramétrage!G9)*Paramétrage!I9+COUNTIF(Janvier[[#This Row],[1]:[31]],Paramétrage!G10)*Paramétrage!I10+COUNTIF(Janvier[[#This Row],[1]:[31]],Paramétrage!G11)*Paramétrage!I11+COUNTIF(Janvier[[#This Row],[1]:[31]],Paramétrage!G12)*Paramétrage!I12+COUNTIF(Janvier[[#This Row],[1]:[31]],Paramétrage!G13)*Paramétrage!I13+COUNTIF(Janvier[[#This Row],[1]:[31]],Paramétrage!G14)*Paramétrage!I14+COUNTIF(Janvier[[#This Row],[1]:[31]],Paramétrage!G15)*Paramétrage!I15+COUNTIF(Janvier[[#This Row],[1]:[31]],Paramétrage!G16)*Paramétrage!I16+COUNTIF(Janvier[[#This Row],[1]:[31]],Paramétrage!G17*Paramétrage!I17+COUNTIF(Janvier[[#This Row],[1]:[31]],Paramétrage!G18)*Paramétrage!I18+COUNTIF(Janvier[[#This Row],[1]:[31]],Paramétrage!G19)*Paramétrage!I19) -> 0
A11: Employé 5 | AG11: =COUNTIF(Janvier[[#This Row],[1]:[31]],Paramétrage!G7)*Paramétrage!I7+COUNTIF(Janvier[[#This Row],[1]:[31]],Paramétrage!G8)*Paramétrage!I8+COUNTIF(Janvier[[#This Row],[1]:[31]],Paramétrage!G9)*Paramétrage!I9+COUNTIF(Janvier[[#This Row],[1]:[31]],Paramétrage!G10)*Paramétrage!I10+COUNTIF(Janvier[[#This Row],[1]:[31]],Paramétrage!G11)*Paramétrage!I11+COUNTIF(Janvier[[#This Row],[1]:[31]],Paramétrage!G12)*Paramétrage!I12+COUNTIF(Janvier[[#This Row],[1]:[31]],Paramétrage!G13)*Paramétrage!I13+COUNTIF(Janvier[[#This Row],[1]:[31]],Paramétrage!G14)*Paramétrage!I14+COUNTIF(Janvier[[#This Row],[1]:[31]],Paramétrage!G15)*Paramétrage!I15+COUNTIF(Janvier[[#This Row],[1]:[31]],Paramétrage!G16)*Paramétrage!I16+COUNTIF(Janvier[[#This Row],[1]:[31]],Paramétrage!G17)*Paramétrage!I17+COUNTIF(Janvier[[#This Row],[1]:[31]],Paramétrage!G18*Paramétrage!I18+COUNTIF(Janvier[[#This Row],[1]:[31]],Paramétrage!G19)*Paramétrage!I19+COUNTIF(Janvier[[#This Row],[1]:[31]],Paramétrage!G20)*Paramétrage!I20) -> 0
A12: Employé 6 | AG12: =COUNTIF(Janvier[[#This Row],[1]:[31]],Paramétrage!G8)*Paramétrage!I8+COUNTIF(Janvier[[#This Row],[1]:[31]],Paramétrage!G9)*Paramétrage!I9+COUNTIF(Janvier[[#This Row],[1]:[31]],Paramétrage!G10)*Paramétrage!I10+COUNTIF(Janvier[[#This Row],[1]:[31]],Paramétrage!G11)*Paramétrage!I11+COUNTIF(Janvier[[#This Row],[1]:[31]],Paramétrage!G12)*Paramétrage!I12+COUNTIF(Janvier[[#This Row],[1]:[31]],Paramétrage!G13)*Paramétrage!I13+COUNTIF(Janvier[[#This Row],[1]:[31]],Paramétrage!G14)*Paramétrage!I14+COUNTIF(Janvier[[#This Row],[1]:[31]],Paramétrage!G15)*Paramétrage!I15+COUNTIF(Janvier[[#This Row],[1]:[31]],Paramétrage!G16)*Paramétrage!I16+COUNTIF(Janvier[[#This Row],[1]:[31]],Paramétrage!G17)*Paramétrage!I17+COUNTIF(Janvier[[#This Row],[1]:[31]],Paramétrage!G18)*Paramétrage!I18+COUNTIF(Janvier[[#This Row],[1]:[31]],Paramétrage!G19*Paramétrage!I19+COUNTIF(Janvier[[#This Row],[1]:[31]],Paramétrage!G20)*Paramétrage!I20+COUNTIF(Janvier[[#This Row],[1]:[31]],Paramétrage!G21)*Paramétrage!I21) -> 0
A13: Employé 7 | AG13: =COUNTIF(Janvier[[#This Row],[1]:[31]],Paramétrage!G9)*Paramétrage!I9+COUNTIF(Janvier[[#This Row],[1]:[31]],Paramétrage!G10)*Paramétrage!I10+COUNTIF(Janvier[[#This Row],[1]:[31]],Paramétrage!G11)*Paramétrage!I11+COUNTIF(Janvier[[#This Row],[1]:[31]],Paramétrage!G12)*Paramétrage!I12+COUNTIF(Janvier[[#This Row],[1]:[31]],Paramétrage!G13)*Paramétrage!I13+COUNTIF(Janvier[[#This Row],[1]:[31]],Paramétrage!G14)*Paramétrage!I14+COUNTIF(Janvier[[#This Row],[1]:[31]],Paramétrage!G15)*Paramétrage!I15+COUNTIF(Janvier[[#This Row],[1]:[31]],Paramétrage!G16)*Paramétrage!I16+COUNTIF(Janvier[[#This Row],[1]:[31]],Paramétrage!G17)*Paramétrage!I17+COUNTIF(Janvier[[#This Row],[1]:[31]],Paramétrage!G18)*Paramétrage!I18+COUNTIF(Janvier[[#This Row],[1]:[31]],Paramétrage!G19)*Paramétrage!I19+COUNTIF(Janvier[[#This Row],[1]:[31]],Paramétrage!G20*Paramétrage!I20+COUNTIF(Janvier[[#This Row],[1]:[31]],Paramétrage!G21)*Paramétrage!I21+COUNTIF(Janvier[[#This Row],[1]:[31]],Paramétrage!G22)*Paramétrage!I22) -> 0
A14: Employé 8 | AG14: =COUNTIF(Janvier[[#This Row],[1]:[31]],Paramétrage!G10)*Paramétrage!I10+COUNTIF(Janvier[[#This Row],[1]:[31]],Paramétrage!G11)*Paramétrage!I11+COUNTIF(Janvier[[#This Row],[1]:[31]],Paramétrage!G12)*Paramétrage!I12+COUNTIF(Janvier[[#This Row],[1]:[31]],Paramétrage!G13)*Paramétrage!I13+COUNTIF(Janvier[[#This Row],[1]:[31]],Paramétrage!G14)*Paramétrage!I14+COUNTIF(Janvier[[#This Row],[1]:[31]],Paramétrage!G15)*Paramétrage!I15+COUNTIF(Janvier[[#This Row],[1]:[31]],Paramétrage!G16)*Paramétrage!I16+COUNTIF(Janvier[[#This Row],[1]:[31]],Paramétrage!G17)*Paramétrage!I17+COUNTIF(Janvier[[#This Row],[1]:[31]],Paramétrage!G18)*Paramétrage!I18+COUNTIF(Janvier[[#This Row],[1]:[31]],Paramétrage!G19)*Paramétrage!I19+COUNTIF(Janvier[[#This Row],[1]:[31]],Paramétrage!G20)*Paramétrage!I20+COUNTIF(Janvier[[#This Row],[1]:[31]],Paramétrage!G21*Paramétrage!I21+COUNTIF(Janvier[[#This Row],[1]:[31]],Paramétrage!G22)*Paramétrage!I22+COUNTIF(Janvier[[#This Row],[1]:[31]],Paramétrage!G23)*Paramétrage!I23) -> 0
A15: Employé 9 | AG15: =COUNTIF(Janvier[[#This Row],[1]:[31]],Paramétrage!G11)*Paramétrage!I11+COUNTIF(Janvier[[#This Row],[1]:[31]],Paramétrage!G12)*Paramétrage!I12+COUNTIF(Janvier[[#This Row],[1]:[31]],Paramétrage!G13)*Paramétrage!I13+COUNTIF(Janvier[[#This Row],[1]:[31]],Paramétrage!G14)*Paramétrage!I14+COUNTIF(Janvier[[#This Row],[1]:[31]],Paramétrage!G15)*Paramétrage!I15+COUNTIF(Janvier[[#This Row],[1]:[31]],Paramétrage!G16)*Paramétrage!I16+COUNTIF(Janvier[[#This Row],[1]:[31]],Paramétrage!G17)*Paramétrage!I17+COUNTIF(Janvier[[#This Row],[1]:[31]],Paramétrage!G18)*Paramétrage!I18+COUNTIF(Janvier[[#This Row],[1]:[31]],Paramétrage!G19)*Paramétrage!I19+COUNTIF(Janvier[[#This Row],[1]:[31]],Paramétrage!G20)*Paramétrage!I20+COUNTIF(Janvier[[#This Row],[1]:[31]],Paramétrage!G21)*Paramétrage!I21+COUNTIF(Janvier[[#This Row],[1]:[31]],Paramétrage!G22*Paramétrage!I22+COUNTIF(Janvier[[#This Row],[1]:[31]],Paramétrage!G23)*Paramétrage!I23+COUNTIF(Janvier[[#This Row],[1]:[31]],Paramétrage!G24)*Paramétrage!I24) -> 0
A16: Employé 10 | AG16: =COUNTIF(Janvier[[#This Row],[1]:[31]],Paramétrage!G12)*Paramétrage!I12+COUNTIF(Janvier[[#This Row],[1]:[31]],Paramétrage!G13)*Paramétrage!I13+COUNTIF(Janvier[[#This Row],[1]:[31]],Paramétrage!G14)*Paramétrage!I14+COUNTIF(Janvier[[#This Row],[1]:[31]],Paramétrage!G15)*Paramétrage!I15+COUNTIF(Janvier[[#This Row],[1]:[31]],Paramétrage!G16)*Paramétrage!I16+COUNTIF(Janvier[[#This Row],[1]:[31]],Paramétrage!G17)*Paramétrage!I17+COUNTIF(Janvier[[#This Row],[1]:[31]],Paramétrage!G18)*Paramétrage!I18+COUNTIF(Janvier[[#This Row],[1]:[31]],Paramétrage!G19)*Paramétrage!I19+COUNTIF(Janvier[[#This Row],[1]:[31]],Paramétrage!G20)*Paramétrage!I20+COUNTIF(Janvier[[#This Row],[1]:[31]],Paramétrage!G21)*Paramétrage!I21+COUNTIF(Janvier[[#This Row],[1]:[31]],Paramétrage!G22)*Paramétrage!I22+COUNTIF(Janvier[[#This Row],[1]:[31]],Paramétrage!G23*Paramétrage!I23+COUNTIF(Janvier[[#This Row],[1]:[31]],Paramétrage!G24)*Paramétrage!I24+COUNTIF(Janvier[[#This Row],[1]:[31]],Paramétrage!G25)*Paramétrage!I25) -> 0
A17: Employé 11 | AG17: =COUNTIF(Janvier[[#This Row],[1]:[31]],Paramétrage!G13)*Paramétrage!I13+COUNTIF(Janvier[[#This Row],[1]:[31]],Paramétrage!G14)*Paramétrage!I14+COUNTIF(Janvier[[#This Row],[1]:[31]],Paramétrage!G15)*Paramétrage!I15+COUNTIF(Janvier[[#This Row],[1]:[31]],Paramétrage!G16)*Paramétrage!I16+COUNTIF(Janvier[[#This Row],[1]:[31]],Paramétrage!G17)*Paramétrage!I17+COUNTIF(Janvier[[#This Row],[1]:[31]],Paramétrage!G18)*Paramétrage!I18+COUNTIF(Janvier[[#This Row],[1]:[31]],Paramétrage!G19)*Paramétrage!I19+COUNTIF(Janvier[[#This Row],[1]:[31]],Paramétrage!G20)*Paramétrage!I20+COUNTIF(Janvier[[#This Row],[1]:[31]],Paramétrage!G21)*Paramétrage!I21+COUNTIF(Janvier[[#This Row],[1]:[31]],Paramétrage!G22)*Paramétrage!I22+COUNTIF(Janvier[[#This Row],[1]:[31]],Paramétrage!G23)*Paramétrage!I23+COUNTIF(Janvier[[#This Row],[1]:[31]],Paramétrage!G24*Paramétrage!I24+COUNTIF(Janvier[[#This Row],[1]:[31]],Paramétrage!G25)*Paramétrage!I25+COUNTIF(Janvier[[#This Row],[1]:[31]],Paramétrage!G26)*Paramétrage!I26) -> 0
A18: Employé 12 | AG18: =COUNTIF(Janvier[[#This Row],[1]:[31]],Paramétrage!G14)*Paramétrage!I14+COUNTIF(Janvier[[#This Row],[1]:[31]],Paramétrage!G15)*Paramétrage!I15+COUNTIF(Janvier[[#This Row],[1]:[31]],Paramétrage!G16)*Paramétrage!I16+COUNTIF(Janvier[[#This Row],[1]:[31]],Paramétrage!G17)*Paramétrage!I17+COUNTIF(Janvier[[#This Row],[1]:[31]],Paramétrage!G18)*Paramétrage!I18+COUNTIF(Janvier[[#This Row],[1]:[31]],Paramétrage!G19)*Paramétrage!I19+COUNTIF(Janvier[[#This Row],[1]:[31]],Paramétrage!G20)*Paramétrage!I20+COUNTIF(Janvier[[#This Row],[1]:[31]],Paramétrage!G21)*Paramétrage!I21+COUNTIF(Janvier[[#This Row],[1]:[31]],Paramétrage!G22)*Paramétrage!I22+COUNTIF(Janvier[[#This Row],[1]:[31]],Paramétrage!G23)*Paramétrage!I23+COUNTIF(Janvier[[#This Row],[1]:[31]],Paramétrage!G24)*Paramétrage!I24+COUNTIF(Janvier[[#This Row],[1]:[31]],Paramétrage!G25*Paramétrage!I25+COUNTIF(Janvier[[#This Row],[1]:[31]],Paramétrage!G26)*Paramétrage!I26+COUNTIF(Janvier[[#This Row],[1]:[31]],Paramétrage!G27)*Paramétrage!I27) -> 0
... A26: Employé 20 | AG26: =COUNTIF(Janvier[[#This Row],[1]:[31]],Paramétrage!G22)*Paramétrage!I22+COUNTIF(Janvier[[#This Row],[1]:[31]],Paramétrage!G23)*Paramétrage!I23+COUNTIF(Janvier[[#This Row],[1]:[31]],Paramétrage!G24)*Paramétrage!I24+COUNTIF(Janvier[[#This Row],[1]:[31]],Paramétrage!G25)*Paramétrage!I25+COUNTIF(Janvier[[#This Row],[1]:[31]],Paramétrage!G26)*Paramétrage!I26+COUNTIF(Janvier[[#This Row],[1]:[31]],Paramétrage!G27)*Paramétrage!I27+COUNTIF(Janvier[[#This Row],[1]:[31]],Paramétrage!G28)*Paramétrage!I28+COUNTIF(Janvier[[#This Row],[1]:[31]],Paramétrage!G29)*Paramétrage!I29+COUNTIF(Janvier[[#This Row],[1]:[31]],Paramétrage!G30)*Paramétrage!I30+COUNTIF(Janvier[[#This Row],[1]:[31]],Paramétrage!G31)*Paramétrage!I31+COUNTIF(Janvier[[#This Row],[1]:[31]],Paramétrage!G32)*Paramétrage!I32+COUNTIF(Janvier[[#This Row],[1]:[31]],Paramétrage!G33*Paramétrage!I33+COUNTIF(Janvier[[#This Row],[1]:[31]],Paramétrage!G34)*Paramétrage!I34+COUNTIF(Janvier[[#This Row],[1]:[31]],Paramétrage!G35)*Paramétrage!I35) -> 0
A27: Total employés dans la journée | B27: =COUNTA(Janvier[1])-COUNTIF(Janvier[1],CléReposhebdomadaire)-COUNTIF(Janvier[1],CléCongé)-COUNTIF(Janvier[1],CléMaladie)-COUNTIF(Janvier[1],CléFormation)-COUNTIF(Janvier[1],CléAbsencenonjustifiée) -> 0 | C27: =COUNTA(Janvier[2])-COUNTIF(Janvier[2],CléReposhebdomadaire)-COUNTIF(Janvier[2],CléCongé)-COUNTIF(Janvier[2],CléMaladie)-COUNTIF(Janvier[2],CléFormation)-COUNTIF(Janvier[2],CléAbsencenonjustifiée) -> 0 | D27: =COUNTA(Janvier[3])-COUNTIF(Janvier[3],CléReposhebdomadaire)-COUNTIF(Janvier[3],CléCongé)-COUNTIF(Janvier[3],CléMaladie)-COUNTIF(Janvier[3],CléFormation)-COUNTIF(Janvier[3],CléAbsencenonjustifiée) -> 0 | E27: =COUNTA(Janvier[4])-COUNTIF(Janvier[4],CléReposhebdomadaire)-COUNTIF(Janvier[4],CléCongé)-COUNTIF(Janvier[4],CléMaladie)-COUNTIF(Janvier[4],CléFormation)-COUNTIF(Janvier[4],CléAbsencenonjustifiée) -> 0 | F27: =COUNTA(Janvier[5])-COUNTIF(Janvier[5],CléReposhebdomadaire)-COUNTIF(Janvier[5],CléCongé)-COUNTIF(Janvier[5],CléMaladie)-COUNTIF(Janvier[5],CléFormation)-COUNTIF(Janvier[5],CléAbsencenonjustifiée) -> 0 | G27: =COUNTA(Janvier[6])-COUNTIF(Janvier[6],CléReposhebdomadaire)-COUNTIF(Janvier[6],CléCongé)-COUNTIF(Janvier[6],CléMaladie)-COUNTIF(Janvier[6],CléFormation)-COUNTIF(Janvier[6],CléAbsencenonjustifiée) -> 0 | H27: =COUNTA(Janvier[7])-COUNTIF(Janvier[7],CléReposhebdomadaire)-COUNTIF(Janvier[7],CléCongé)-COUNTIF(Janvier[7],CléMaladie)-COUNTIF(Janvier[7],CléFormation)-COUNTIF(Janvier[7],CléAbsencenonjustifiée) -> 0 | I27: =COUNTA(Janvier[8])-COUNTIF(Janvier[8],CléReposhebdomadaire)-COUNTIF(Janvier[8],CléCongé)-COUNTIF(Janvier[8],CléMaladie)-COUNTIF(Janvier[8],CléFormation)-COUNTIF(Janvier[8],CléAbsencenonjustifiée) -> 0 | J27: =COUNTA(Janvier[9])-COUNTIF(Janvier[9],CléReposhebdomadaire)-COUNTIF(Janvier[9],CléCongé)-COUNTIF(Janvier[9],CléMaladie)-COUNTIF(Janvier[9],CléFormation)-COUNTIF(Janvier[9],CléAbsencenonjustifiée) -> 0 | K27: =COUNTA(Janvier[10])-COUNTIF(Janvier[10],CléReposhebdomadaire)-COUNTIF(Janvier[10],CléCongé)-COUNTIF(Janvier[10],CléMaladie)-COUNTIF(Janvier[10],CléFormation)-COUNTIF(Janvier[10],CléAbsencenonjustifiée) -> 0 | L27: =COUNTA(Janvier[11])-COUNTIF(Janvier[11],CléReposhebdomadaire)-COUNTIF(Janvier[11],CléCongé)-COUNTIF(Janvier[11],CléMaladie)-COUNTIF(Janvier[11],CléFormation)-COUNTIF(Janvier[11],CléAbsencenonjustifiée) -> 0 | M27: =COUNTA(Janvier[12])-COUNTIF(Janvier[12],CléReposhebdomadaire)-COUNTIF(Janvier[12],CléCongé)-COUNTIF(Janvier[12],CléMaladie)-COUNTIF(Janvier[12],CléFormation)-COUNTIF(Janvier[12],CléAbsencenonjustifiée) -> 0 | N27: =COUNTA(Janvier[13])-COUNTIF(Janvier[13],CléReposhebdomadaire)-COUNTIF(Janvier[13],CléCongé)-COUNTIF(Janvier[13],CléMaladie)-COUNTIF(Janvier[13],CléFormation)-COUNTIF(Janvier[13],CléAbsencenonjustifiée) -> 0 | O27: =COUNTA(Janvier[14])-COUNTIF(Janvier[14],CléReposhebdomadaire)-COUNTIF(Janvier[14],CléCongé)-COUNTIF(Janvier[14],CléMaladie)-COUNTIF(Janvier[14],CléFormation)-COUNTIF(Janvier[14],CléAbsencenonjustifiée) -> 0 | P27: =COUNTA(Janvier[15])-COUNTIF(Janvier[15],CléReposhebdomadaire)-COUNTIF(Janvier[15],CléCongé)-COUNTIF(Janvier[15],CléMaladie)-COUNTIF(Janvier[15],CléFormation)-COUNTIF(Janvier[15],CléAbsencenonjustifiée) -> 0 | Q27: =COUNTA(Janvier[16])-COUNTIF(Janvier[16],CléReposhebdomadaire)-COUNTIF(Janvier[16],CléCongé)-COUNTIF(Janvier[16],CléMaladie)-COUNTIF(Janvier[16],CléFormation)-COUNTIF(Janvier[16],CléAbsencenonjustifiée) -> 0 | R27: =COUNTA(Janvier[17])-COUNTIF(Janvier[17],CléReposhebdomadaire)-COUNTIF(Janvier[17],CléCongé)-COUNTIF(Janvier[17],CléMaladie)-COUNTIF(Janvier[17],CléFormation)-COUNTIF(Janvier[17],CléAbsencenonjustifiée) -> 0 | S27: =COUNTA(Janvier[18])-COUNTIF(Janvier[18],CléReposhebdomadaire)-COUNTIF(Janvier[18],CléCongé)-COUNTIF(Janvier[18],CléMaladie)-COUNTIF(Janvier[18],CléFormation)-COUNTIF(Janvier[18],CléAbsencenonjustifiée) -> 0 | T27: =COUNTA(Janvier[19])-COUNTIF(Janvier[19],CléReposhebdomadaire)-COUNTIF(Janvier[19],CléCongé)-COUNTIF(Janvier[19],CléMaladie)-COUNTIF(Janvier[19],CléFormation)-COUNTIF(Janvier[19],CléAbsencenonjustifiée) -> 0 | U27: =COUNTA(Janvier[20])-COUNTIF(Janvier[20],CléReposhebdomadaire)-COUNTIF(Janvier[20],CléCongé)-COUNTIF(Janvier[20],CléMaladie)-COUNTIF(Janvier[20],CléFormation)-COUNTIF(Janvier[20],CléAbsencenonjustifiée) -> 0 | V27: =COUNTA(Janvier[21])-COUNTIF(Janvier[21],CléReposhebdomadaire)-COUNTIF(Janvier[21],CléCongé)-COUNTIF(Janvier[21],CléMaladie)-COUNTIF(Janvier[21],CléFormation)-COUNTIF(Janvier[21],CléAbsencenonjustifiée) -> 0 | W27: =COUNTA(Janvier[22])-COUNTIF(Janvier[22],CléReposhebdomadaire)-COUNTIF(Janvier[22],CléCongé)-COUNTIF(Janvier[22],CléMaladie)-COUNTIF(Janvier[22],CléFormation)-COUNTIF(Janvier[22],CléAbsencenonjustifiée) -> 0 | X27: =COUNTA(Janvier[23])-COUNTIF(Janvier[23],CléReposhebdomadaire)-COUNTIF(Janvier[23],CléCongé)-COUNTIF(Janvier[23],CléMaladie)-COUNTIF(Janvier[23],CléFormation)-COUNTIF(Janvier[23],CléAbsencenonjustifiée) -> 0 | Y27: =COUNTA(Janvier[24])-COUNTIF(Janvier[24],CléReposhebdomadaire)-COUNTIF(Janvier[24],CléCongé)-COUNTIF(Janvier[24],CléMaladie)-COUNTIF(Janvier[24],CléFormation)-COUNTIF(Janvier[24],CléAbsencenonjustifiée) -> 0 | Z27: =COUNTA(Janvier[25])-COUNTIF(Janvier[25],CléReposhebdomadaire)-COUNTIF(Janvier[25],CléCongé)-COUNTIF(Janvier[25],CléMaladie)-COUNTIF(Janvier[25],CléFormation)-COUNTIF(Janvier[25],CléAbsencenonjustifiée) -> 0 | AA27: =COUNTA(Janvier[26])-COUNTIF(Janvier[26],CléReposhebdomadaire)-COUNTIF(Janvier[26],CléCongé)-COUNTIF(Janvier[26],CléMaladie)-COUNTIF(Janvier[26],CléFormation)-COUNTIF(Janvier[26],CléAbsencenonjustifiée) -> 0 | AB27: =COUNTA(Janvier[27])-COUNTIF(Janvier[27],CléReposhebdomadaire)-COUNTIF(Janvier[27],CléCongé)-COUNTIF(Janvier[27],CléMaladie)-COUNTIF(Janvier[27],CléFormation)-COUNTIF(Janvier[27],CléAbsencenonjustifiée) -> 0 | AC27: =COUNTA(Janvier[28])-COUNTIF(Janvier[28],CléReposhebdomadaire)-COUNTIF(Janvier[28],CléCongé)-COUNTIF(Janvier[28],CléMaladie)-COUNTIF(Janvier[28],CléFormation)-COUNTIF(Janvier[28],CléAbsencenonjustifiée) -> 0 | AD27: =COUNTA(Janvier[29])-COUNTIF(Janvier[29],CléReposhebdomadaire)-COUNTIF(Janvier[29],CléCongé)-COUNTIF(Janvier[29],CléMaladie)-COUNTIF(Janvier[29],CléFormation)-COUNTIF(Janvier[29],CléAbsencenonjustifiée) -> 0 | AE27: =COUNTA(Janvier[30])-COUNTIF(Janvier[30],CléReposhebdomadaire)-COUNTIF(Janvier[30],CléCongé)-COUNTIF(Janvier[30],CléMaladie)-COUNTIF(Janvier[30],CléFormation)-COUNTIF(Janvier[30],CléAbsencenonjustifiée) -> 0 | AF27: =COUNTA(Janvier[31])-COUNTIF(Janvier[31],CléReposhebdomadaire)-COUNTIF(Janvier[31],CléCongé)-COUNTIF(Janvier[31],CléMaladie)-COUNTIF(Janvier[31],CléFormation)-COUNTIF(Janvier[31],CléAbsencenonjustifiée) -> 0 | AG27: =SUBTOTAL(109,Mars[Total des Heures effectuées]) -> 0

Sheet Juin
A1: =Titre_Absence_Employé -> PLANNING MENSUEL
A2: Clé de motif d’absence | B2: RH | C2: Repos hebdomadaire | G2: CP | H2: Congé | J2: AM | K2: Arrêt Maladie | N2: FO | O2: Formation | Q2: ABS | R2: Absence non justifiée
A4: Juin | B4: Poste | AG4: =AnnéeCalendrier -> 2023
B5: =TEXT(WEEKDAY(DATE(AnnéeCalendrier,6,1),1),"jjj") -> jeu | C5: =TEXT(WEEKDAY(DATE(AnnéeCalendrier,6,2),1),"jjj") -> ven | D5: =TEXT(WEEKDAY(DATE(AnnéeCalendrier,6,3),1),"jjj") -> sam | E5: =TEXT(WEEKDAY(DATE(AnnéeCalendrier,6,4),1),"jjj") -> dim | F5: =TEXT(WEEKDAY(DATE(AnnéeCalendrier,6,5),1),"jjj") -> lun | G5: =TEXT(WEEKDAY(DATE(AnnéeCalendrier,6,6),1),"jjj") -> mar | H5: =TEXT(WEEKDAY(DATE(AnnéeCalendrier,6,7),1),"jjj") -> mer | I5: =TEXT(WEEKDAY(DATE(AnnéeCalendrier,6,8),1),"jjj") -> jeu | J5: =TEXT(WEEKDAY(DATE(AnnéeCalendrier,6,9),1),"jjj") -> ven | K5: =TEXT(WEEKDAY(DATE(AnnéeCalendrier,6,10),1),"jjj") -> sam | L5: =TEXT(WEEKDAY(DATE(AnnéeCalendrier,6,11),1),"jjj") -> dim | M5: =TEXT(WEEKDAY(DATE(AnnéeCalendrier,6,12),1),"jjj") -> lun | N5: =TEXT(WEEKDAY(DATE(AnnéeCalendrier,6,13),1),"jjj") -> mar | O5: =TEXT(WEEKDAY(DATE(AnnéeCalendrier,6,14),1),"jjj") -> mer | P5: =TEXT(WEEKDAY(DATE(AnnéeCalendrier,6,15),1),"jjj") -> jeu | Q5: =TEXT(WEEKDAY(DATE(AnnéeCalendrier,6,16),1),"jjj") -> ven | R5: =TEXT(WEEKDAY(DATE(AnnéeCalendrier,6,17),1),"jjj") -> sam | S5: =TEXT(WEEKDAY(DATE(AnnéeCalendrier,6,18),1),"jjj") -> dim | T5: =TEXT(WEEKDAY(DATE(AnnéeCalendrier,6,19),1),"jjj") -> lun | U5: =TEXT(WEEKDAY(DATE(AnnéeCalendrier,6,20),1),"jjj") -> mar | V5: =TEXT(WEEKDAY(DATE(AnnéeCalendrier,6,21),1),"jjj") -> mer | W5: =TEXT(WEEKDAY(DATE(AnnéeCalendrier,6,22),1),"jjj") -> jeu | X5: =TEXT(WEEKDAY(DATE(AnnéeCalendrier,6,23),1),"jjj") -> ven | Y5: =TEXT(WEEKDAY(DATE(AnnéeCalendrier,6,24),1),"jjj") -> sam | Z5: =TEXT(WEEKDAY(DATE(AnnéeCalendrier,6,25),1),"jjj") -> dim | AA5: =TEXT(WEEKDAY(DATE(AnnéeCalendrier,6,26),1),"jjj") -> lun | AB5: =TEXT(WEEKDAY(DATE(AnnéeCalendrier,6,27),1),"jjj") -> mar | AC5: =TEXT(WEEKDAY(DATE(AnnéeCalendrier,6,28),1),"jjj") -> mer | AD5: =TEXT(WEEKDAY(DATE(AnnéeCalendrier,6,29),1),"jjj") -> jeu | AE5: =TEXT(WEEKDAY(DATE(AnnéeCalendrier,6,30),1),"jjj") -> ven
A6: Nom de l’employé | B6: 1 | C6: 2 | D6: 3 | E6: 4 | F6: 5 | G6: 6 | H6: 7 | I6: 8 | J6: 9 | K6: 10 | L6: 11 | M6: 12 | N6: 13 | O6: 14 | P6: 15 | Q6: 16 | R6: 17 | S6: 18 | T6: 19 | U6: 20 | V6: 21 | W6: 22 | X6: 23 | Y6: 24 | Z6: 25 | AA6: 26 | AB6: 27 | AC6: 28 | AD6: 29 | AE6: 30 | AG6: Total des Heures effectuées
A7: Employé 1 | AG7: =COUNTIF(Janvier[[#This Row],[1]:[31]],Paramétrage!G3)*Paramétrage!I3+COUNTIF(Janvier[[#This Row],[1]:[31]],Paramétrage!G4)*Paramétrage!I4+COUNTIF(Janvier[[#This Row],[1]:[31]],Paramétrage!G5)*Paramétrage!I5+COUNTIF(Janvier[[#This Row],[1]:[31]],Paramétrage!G6)*Paramétrage!I6+COUNTIF(Janvier[[#This Row],[1]:[31]],Paramétrage!G7)*Paramétrage!I7+COUNTIF(Janvier[[#This Row],[1]:[31]],Paramétrage!G8)*Paramétrage!I8+COUNTIF(Janvier[[#This Row],[1]:[31]],Paramétrage!G9)*Paramétrage!I9+COUNTIF(Janvier[[#This Row],[1]:[31]],Paramétrage!G10)*Paramétrage!I10+COUNTIF(Janvier[[#This Row],[1]:[31]],Paramétrage!G11)*Paramétrage!I11+COUNTIF(Janvier[[#This Row],[1]:[31]],Paramétrage!G12)*Paramétrage!I12+COUNTIF(Janvier[[#This Row],[1]:[31]],Paramétrage!G13)*Paramétrage!I13+COUNTIF(Janvier[[#This Row],[1]:[31]],Paramétrage!G14*Paramétrage!I14+COUNTIF(Janvier[[#This Row],[1]:[31]],Paramétrage!G15)*Paramétrage!I15+COUNTIF(Janvier[[#This Row],[1]:[31]],Paramétrage!G16)*Paramétrage!I16) -> 0
A8: Employé 2 | AG8: =COUNTIF(Janvier[[#This Row],[1]:[31]],Paramétrage!G4)*Paramétrage!I4+COUNTIF(Janvier[[#This Row],[1]:[31]],Paramétrage!G5)*Paramétrage!I5+COUNTIF(Janvier[[#This Row],[1]:[31]],Paramétrage!G6)*Paramétrage!I6+COUNTIF(Janvier[[#This Row],[1]:[31]],Paramétrage!G7)*Paramétrage!I7+COUNTIF(Janvier[[#This Row],[1]:[31]],Paramétrage!G8)*Paramétrage!I8+COUNTIF(Janvier[[#This Row],[1]:[31]],Paramétrage!G9)*Paramétrage!I9+COUNTIF(Janvier[[#This Row],[1]:[31]],Paramétrage!G10)*Paramétrage!I10+COUNTIF(Janvier[[#This Row],[1]:[31]],Paramétrage!G11)*Paramétrage!I11+COUNTIF(Janvier[[#This Row],[1]:[31]],Paramétrage!G12)*Paramétrage!I12+COUNTIF(Janvier[[#This Row],[1]:[31]],Paramétrage!G13)*Paramétrage!I13+COUNTIF(Janvier[[#This Row],[1]:[31]],Paramétrage!G14)*Paramétrage!I14+COUNTIF(Janvier[[#This Row],[1]:[31]],Paramétrage!G15*Paramétrage!I15+COUNTIF(Janvier[[#This Row],[1]:[31]],Paramétrage!G16)*Paramétrage!I16+COUNTIF(Janvier[[#This Row],[1]:[31]],Paramétrage!G17)*Paramétrage!I17) -> 0
A9: Employé 3 | AG9: =COUNTIF(Janvier[[#This Row],[1]:[31]],Paramétrage!G5)*Paramétrage!I5+COUNTIF(Janvier[[#This Row],[1]:[31]],Paramétrage!G6)*Paramétrage!I6+COUNTIF(Janvier[[#This Row],[1]:[31]],Paramétrage!G7)*Paramétrage!I7+COUNTIF(Janvier[[#This Row],[1]:[31]],Paramétrage!G8)*Paramétrage!I8+COUNTIF(Janvier[[#This Row],[1]:[31]],Paramétrage!G9)*Paramétrage!I9+COUNTIF(Janvier[[#This Row],[1]:[31]],Paramétrage!G10)*Paramétrage!I10+COUNTIF(Janvier[[#This Row],[1]:[31]],Paramétrage!G11)*Paramétrage!I11+COUNTIF(Janvier[[#This Row],[1]:[31]],Paramétrage!G12)*Paramétrage!I12+COUNTIF(Janvier[[#This Row],[1]:[31]],Paramétrage!G13)*Paramétrage!I13+COUNTIF(Janvier[[#This Row],[1]:[31]],Paramétrage!G14)*Paramétrage!I14+COUNTIF(Janvier[[#This Row],[1]:[31]],Paramétrage!G15)*Paramétrage!I15+COUNTIF(Janvier[[#This Row],[1]:[31]],Paramétrage!G16*Paramétrage!I16+COUNTIF(Janvier[[#This Row],[1]:[31]],Paramétrage!G17)*Paramétrage!I17+COUNTIF(Janvier[[#This Row],[1]:[31]],Paramétrage!G18)*Paramétrage!I18) -> 0
A10: Employé 4 | AG10: =COUNTIF(Janvier[[#This Row],[1]:[31]],Paramétrage!G6)*Paramétrage!I6+COUNTIF(Janvier[[#This Row],[1]:[31]],Paramétrage!G7)*Paramétrage!I7+COUNTIF(Janvier[[#This Row],[1]:[31]],Paramétrage!G8)*Paramétrage!I8+COUNTIF(Janvier[[#This Row],[1]:[31]],Paramétrage!G9)*Paramétrage!I9+COUNTIF(Janvier[[#This Row],[1]:[31]],Paramétrage!G10)*Paramétrage!I10+COUNTIF(Janvier[[#This Row],[1]:[31]],Paramétrage!G11)*Paramétrage!I11+COUNTIF(Janvier[[#This Row],[1]:[31]],Paramétrage!G12)*Paramétrage!I12+COUNTIF(Janvier[[#This Row],[1]:[31]],Paramétrage!G13)*Paramétrage!I13+COUNTIF(Janvier[[#This Row],[1]:[31]],Paramétrage!G14)*Paramétrage!I14+COUNTIF(Janvier[[#This Row],[1]:[31]],Paramétrage!G15)*Paramétrage!I15+COUNTIF(Janvier[[#This Row],[1]:[31]],Paramétrage!G16)*Paramétrage!I16+COUNTIF(Janvier[[#This Row],[1]:[31]],Paramétrage!G17*Paramétrage!I17+COUNTIF(Janvier[[#This Row],[1]:[31]],Paramétrage!G18)*Paramétrage!I18+COUNTIF(Janvier[[#This Row],[1]:[31]],Paramétrage!G19)*Paramétrage!I19) -> 0
A11: Employé 5 | AG11: =COUNTIF(Janvier[[#This Row],[1]:[31]],Paramétrage!G7)*Paramétrage!I7+COUNTIF(Janvier[[#This Row],[1]:[31]],Paramétrage!G8)*Paramétrage!I8+COUNTIF(Janvier[[#This Row],[1]:[31]],Paramétrage!G9)*Paramétrage!I9+COUNTIF(Janvier[[#This Row],[1]:[31]],Paramétrage!G10)*Paramétrage!I10+COUNTIF(Janvier[[#This Row],[1]:[31]],Paramétrage!G11)*Paramétrage!I11+COUNTIF(Janvier[[#This Row],[1]:[31]],Paramétrage!G12)*Paramétrage!I12+COUNTIF(Janvier[[#This Row],[1]:[31]],Paramétrage!G13)*Paramétrage!I13+COUNTIF(Janvier[[#This Row],[1]:[31]],Paramétrage!G14)*Paramétrage!I14+COUNTIF(Janvier[[#This Row],[1]:[31]],Paramétrage!G15)*Paramétrage!I15+COUNTIF(Janvier[[#This Row],[1]:[31]],Paramétrage!G16)*Paramétrage!I16+COUNTIF(Janvier[[#This Row],[1]:[31]],Paramétrage!G17)*Paramétrage!I17+COUNTIF(Janvier[[#This Row],[1]:[31]],Paramétrage!G18*Paramétrage!I18+COUNTIF(Janvier[[#This Row],[1]:[31]],Paramétrage!G19)*Paramétrage!I19+COUNTIF(Janvier[[#This Row],[1]:[31]],Paramétrage!G20)*Paramétrage!I20) -> 0
A12: Employé 6 | AG12: =COUNTIF(Janvier[[#This Row],[1]:[31]],Paramétrage!G8)*Paramétrage!I8+COUNTIF(Janvier[[#This Row],[1]:[31]],Paramétrage!G9)*Paramétrage!I9+COUNTIF(Janvier[[#This Row],[1]:[31]],Paramétrage!G10)*Paramétrage!I10+COUNTIF(Janvier[[#This Row],[1]:[31]],Paramétrage!G11)*Paramétrage!I11+COUNTIF(Janvier[[#This Row],[1]:[31]],Paramétrage!G12)*Paramétrage!I12+COUNTIF(Janvier[[#This Row],[1]:[31]],Paramétrage!G13)*Paramétrage!I13+COUNTIF(Janvier[[#This Row],[1]:[31]],Paramétrage!G14)*Paramétrage!I14+COUNTIF(Janvier[[#This Row],[1]:[31]],Paramétrage!G15)*Paramétrage!I15+COUNTIF(Janvier[[#This Row],[1]:[31]],Paramétrage!G16)*Paramétrage!I16+COUNTIF(Janvier[[#This Row],[1]:[31]],Paramétrage!G17)*Paramétrage!I17+COUNTIF(Janvier[[#This Row],[1]:[31]],Paramétrage!G18)*Paramétrage!I18+COUNTIF(Janvier[[#This Row],[1]:[31]],Paramétrage!G19*Paramétrage!I19+COUNTIF(Janvier[[#This Row],[1]:[31]],Paramétrage!G20)*Paramétrage!I20+COUNTIF(Janvier[[#This Row],[1]:[31]],Paramétrage!G21)*Paramétrage!I21) -> 0
A13: Employé 7 | AG13: =COUNTIF(Janvier[[#This Row],[1]:[31]],Paramétrage!G9)*Paramétrage!I9+COUNTIF(Janvier[[#This Row],[1]:[31]],Paramétrage!G10)*Paramétrage!I10+COUNTIF(Janvier[[#This Row],[1]:[31]],Paramétrage!G11)*Paramétrage!I11+COUNTIF(Janvier[[#This Row],[1]:[31]],Paramétrage!G12)*Paramétrage!I12+COUNTIF(Janvier[[#This Row],[1]:[31]],Paramétrage!G13)*Paramétrage!I13+COUNTIF(Janvier[[#This Row],[1]:[31]],Paramétrage!G14)*Paramétrage!I14+COUNTIF(Janvier[[#This Row],[1]:[31]],Paramétrage!G15)*Paramétrage!I15+COUNTIF(Janvier[[#This Row],[1]:[31]],Paramétrage!G16)*Paramétrage!I16+COUNTIF(Janvier[[#This Row],[1]:[31]],Paramétrage!G17)*Paramétrage!I17+COUNTIF(Janvier[[#This Row],[1]:[31]],Paramétrage!G18)*Paramétrage!I18+COUNTIF(Janvier[[#This Row],[1]:[31]],Paramétrage!G19)*Paramétrage!I19+COUNTIF(Janvier[[#This Row],[1]:[31]],Paramétrage!G20*Paramétrage!I20+COUNTIF(Janvier[[#This Row],[1]:[31]],Paramétrage!G21)*Paramétrage!I21+COUNTIF(Janvier[[#This Row],[1]:[31]],Paramétrage!G22)*Paramétrage!I22) -> 0
A14: Employé 8 | AG14: =COUNTIF(Janvier[[#This Row],[1]:[31]],Paramétrage!G10)*Paramétrage!I10+COUNTIF(Janvier[[#This Row],[1]:[31]],Paramétrage!G11)*Paramétrage!I11+COUNTIF(Janvier[[#This Row],[1]:[31]],Paramétrage!G12)*Paramétrage!I12+COUNTIF(Janvier[[#This Row],[1]:[31]],Paramétrage!G13)*Paramétrage!I13+COUNTIF(Janvier[[#This Row],[1]:[31]],Paramétrage!G14)*Paramétrage!I14+COUNTIF(Janvier[[#This Row],[1]:[31]],Paramétrage!G15)*Paramétrage!I15+COUNTIF(Janvier[[#This Row],[1]:[31]],Paramétrage!G16)*Paramétrage!I16+COUNTIF(Janvier[[#This Row],[1]:[31]],Paramétrage!G17)*Paramétrage!I17+COUNTIF(Janvier[[#This Row],[1]:[31]],Paramétrage!G18)*Paramétrage!I18+COUNTIF(Janvier[[#This Row],[1]:[31]],Paramétrage!G19)*Paramétrage!I19+COUNTIF(Janvier[[#This Row],[1]:[31]],Paramétrage!G20)*Paramétrage!I20+COUNTIF(Janvier[[#This Row],[1]:[31]],Paramétrage!G21*Paramétrage!I21+COUNTIF(Janvier[[#This Row],[1]:[31]],Paramétrage!G22)*Paramétrage!I22+COUNTIF(Janvier[[#This Row],[1]:[31]],Paramétrage!G23)*Paramétrage!I23) -> 0
A15: Employé 9 | AG15: =COUNTIF(Janvier[[#This Row],[1]:[31]],Paramétrage!G11)*Paramétrage!I11+COUNTIF(Janvier[[#This Row],[1]:[31]],Paramétrage!G12)*Paramétrage!I12+COUNTIF(Janvier[[#This Row],[1]:[31]],Paramétrage!G13)*Paramétrage!I13+COUNTIF(Janvier[[#This Row],[1]:[31]],Paramétrage!G14)*Paramétrage!I14+COUNTIF(Janvier[[#This Row],[1]:[31]],Paramétrage!G15)*Paramétrage!I15+COUNTIF(Janvier[[#This Row],[1]:[31]],Paramétrage!G16)*Paramétrage!I16+COUNTIF(Janvier[[#This Row],[1]:[31]],Paramétrage!G17)*Paramétrage!I17+COUNTIF(Janvier[[#This Row],[1]:[31]],Paramétrage!G18)*Paramétrage!I18+COUNTIF(Janvier[[#This Row],[1]:[31]],Paramétrage!G19)*Paramétrage!I19+COUNTIF(Janvier[[#This Row],[1]:[31]],Paramétrage!G20)*Paramétrage!I20+COUNTIF(Janvier[[#This Row],[1]:[31]],Paramétrage!G21)*Paramétrage!I21+COUNTIF(Janvier[[#This Row],[1]:[31]],Paramétrage!G22*Paramétrage!I22+COUNTIF(Janvier[[#This Row],[1]:[31]],Paramétrage!G23)*Paramétrage!I23+COUNTIF(Janvier[[#This Row],[1]:[31]],Paramétrage!G24)*Paramétrage!I24) -> 0
A16: Employé 10 | AG16: =COUNTIF(Janvier[[#This Row],[1]:[31]],Paramétrage!G12)*Paramétrage!I12+COUNTIF(Janvier[[#This Row],[1]:[31]],Paramétrage!G13)*Paramétrage!I13+COUNTIF(Janvier[[#This Row],[1]:[31]],Paramétrage!G14)*Paramétrage!I14+COUNTIF(Janvier[[#This Row],[1]:[31]],Paramétrage!G15)*Paramétrage!I15+COUNTIF(Janvier[[#This Row],[1]:[31]],Paramétrage!G16)*Paramétrage!I16+COUNTIF(Janvier[[#This Row],[1]:[31]],Paramétrage!G17)*Paramétrage!I17+COUNTIF(Janvier[[#This Row],[1]:[31]],Paramétrage!G18)*Paramétrage!I18+COUNTIF(Janvier[[#This Row],[1]:[31]],Paramétrage!G19)*Paramétrage!I19+COUNTIF(Janvier[[#This Row],[1]:[31]],Paramétrage!G20)*Paramétrage!I20+COUNTIF(Janvier[[#This Row],[1]:[31]],Paramétrage!G21)*Paramétrage!I21+COUNTIF(Janvier[[#This Row],[1]:[31]],Paramétrage!G22)*Paramétrage!I22+COUNTIF(Janvier[[#This Row],[1]:[31]],Paramétrage!G23*Paramétrage!I23+COUNTIF(Janvier[[#This Row],[1]:[31]],Paramétrage!G24)*Paramétrage!I24+COUNTIF(Janvier[[#This Row],[1]:[31]],Paramétrage!G25)*Paramétrage!I25) -> 0
A17: Employé 11 | AG17: =COUNTIF(Janvier[[#This Row],[1]:[31]],Paramétrage!G13)*Paramétrage!I13+COUNTIF(Janvier[[#This Row],[1]:[31]],Paramétrage!G14)*Paramétrage!I14+COUNTIF(Janvier[[#This Row],[1]:[31]],Paramétrage!G15)*Paramétrage!I15+COUNTIF(Janvier[[#This Row],[1]:[31]],Paramétrage!G16)*Paramétrage!I16+COUNTIF(Janvier[[#This Row],[1]:[31]],Paramétrage!G17)*Paramétrage!I17+COUNTIF(Janvier[[#This Row],[1]:[31]],Paramétrage!G18)*Paramétrage!I18+COUNTIF(Janvier[[#This Row],[1]:[31]],Paramétrage!G19)*Paramétrage!I19+COUNTIF(Janvier[[#This Row],[1]:[31]],Paramétrage!G20)*Paramétrage!I20+COUNTIF(Janvier[[#This Row],[1]:[31]],Paramétrage!G21)*Paramétrage!I21+COUNTIF(Janvier[[#This Row],[1]:[31]],Paramétrage!G22)*Paramétrage!I22+COUNTIF(Janvier[[#This Row],[1]:[31]],Paramétrage!G23)*Paramétrage!I23+COUNTIF(Janvier[[#This Row],[1]:[31]],Paramétrage!G24*Paramétrage!I24+COUNTIF(Janvier[[#This Row],[1]:[31]],Paramétrage!G25)*Paramétrage!I25+COUNTIF(Janvier[[#This Row],[1]:[31]],Paramétrage!G26)*Paramétrage!I26) -> 0
A18: Employé 12 | AG18: =COUNTIF(Janvier[[#This Row],[1]:[31]],Paramétrage!G14)*Paramétrage!I14+COUNTIF(Janvier[[#This Row],[1]:[31]],Paramétrage!G15)*Paramétrage!I15+COUNTIF(Janvier[[#This Row],[1]:[31]],Paramétrage!G16)*Paramétrage!I16+COUNTIF(Janvier[[#This Row],[1]:[31]],Paramétrage!G17)*Paramétrage!I17+COUNTIF(Janvier[[#This Row],[1]:[31]],Paramétrage!G18)*Paramétrage!I18+COUNTIF(Janvier[[#This Row],[1]:[31]],Paramétrage!G19)*Paramétrage!I19+COUNTIF(Janvier[[#This Row],[1]:[31]],Paramétrage!G20)*Paramétrage!I20+COUNTIF(Janvier[[#This Row],[1]:[31]],Paramétrage!G21)*Paramétrage!I21+COUNTIF(Janvier[[#This Row],[1]:[31]],Paramétrage!G22)*Paramétrage!I22+COUNTIF(Janvier[[#This Row],[1]:[31]],Paramétrage!G23)*Paramétrage!I23+COUNTIF(Janvier[[#This Row],[1]:[31]],Paramétrage!G24)*Paramétrage!I24+COUNTIF(Janvier[[#This Row],[1]:[31]],Paramétrage!G25*Paramétrage!I25+COUNTIF(Janvier[[#This Row],[1]:[31]],Paramétrage!G26)*Paramétrage!I26+COUNTIF(Janvier[[#This Row],[1]:[31]],Paramétrage!G27)*Paramétrage!I27) -> 0
... A26: Employé 20 | AG26: =COUNTIF(Janvier[[#This Row],[1]:[31]],Paramétrage!G22)*Paramétrage!I22+COUNTIF(Janvier[[#This Row],[1]:[31]],Paramétrage!G23)*Paramétrage!I23+COUNTIF(Janvier[[#This Row],[1]:[31]],Paramétrage!G24)*Paramétrage!I24+COUNTIF(Janvier[[#This Row],[1]:[31]],Paramétrage!G25)*Paramétrage!I25+COUNTIF(Janvier[[#This Row],[1]:[31]],Paramétrage!G26)*Paramétrage!I26+COUNTIF(Janvier[[#This Row],[1]:[31]],Paramétrage!G27)*Paramétrage!I27+COUNTIF(Janvier[[#This Row],[1]:[31]],Paramétrage!G28)*Paramétrage!I28+COUNTIF(Janvier[[#This Row],[1]:[31]],Paramétrage!G29)*Paramétrage!I29+COUNTIF(Janvier[[#This Row],[1]:[31]],Paramétrage!G30)*Paramétrage!I30+COUNTIF(Janvier[[#This Row],[1]:[31]],Paramétrage!G31)*Paramétrage!I31+COUNTIF(Janvier[[#This Row],[1]:[31]],Paramétrage!G32)*Paramétrage!I32+COUNTIF(Janvier[[#This Row],[1]:[31]],Paramétrage!G33*Paramétrage!I33+COUNTIF(Janvier[[#This Row],[1]:[31]],Paramétrage!G34)*Paramétrage!I34+COUNTIF(Janvier[[#This Row],[1]:[31]],Paramétrage!G35)*Paramétrage!I35) -> 0
A27: Total employés dans la journée | B27: =COUNTA(Janvier[1])-COUNTIF(Janvier[1],CléReposhebdomadaire)-COUNTIF(Janvier[1],CléCongé)-COUNTIF(Janvier[1],CléMaladie)-COUNTIF(Janvier[1],CléFormation)-COUNTIF(Janvier[1],CléAbsencenonjustifiée) -> 0 | C27: =COUNTA(Janvier[2])-COUNTIF(Janvier[2],CléReposhebdomadaire)-COUNTIF(Janvier[2],CléCongé)-COUNTIF(Janvier[2],CléMaladie)-COUNTIF(Janvier[2],CléFormation)-COUNTIF(Janvier[2],CléAbsencenonjustifiée) -> 0 | D27: =COUNTA(Janvier[3])-COUNTIF(Janvier[3],CléReposhebdomadaire)-COUNTIF(Janvier[3],CléCongé)-COUNTIF(Janvier[3],CléMaladie)-COUNTIF(Janvier[3],CléFormation)-COUNTIF(Janvier[3],CléAbsencenonjustifiée) -> 0 | E27: =COUNTA(Janvier[4])-COUNTIF(Janvier[4],CléReposhebdomadaire)-COUNTIF(Janvier[4],CléCongé)-COUNTIF(Janvier[4],CléMaladie)-COUNTIF(Janvier[4],CléFormation)-COUNTIF(Janvier[4],CléAbsencenonjustifiée) -> 0 | F27: =COUNTA(Janvier[5])-COUNTIF(Janvier[5],CléReposhebdomadaire)-COUNTIF(Janvier[5],CléCongé)-COUNTIF(Janvier[5],CléMaladie)-COUNTIF(Janvier[5],CléFormation)-COUNTIF(Janvier[5],CléAbsencenonjustifiée) -> 0 | G27: =COUNTA(Janvier[6])-COUNTIF(Janvier[6],CléReposhebdomadaire)-COUNTIF(Janvier[6],CléCongé)-COUNTIF(Janvier[6],CléMaladie)-COUNTIF(Janvier[6],CléFormation)-COUNTIF(Janvier[6],CléAbsencenonjustifiée) -> 0 | H27: =COUNTA(Janvier[7])-COUNTIF(Janvier[7],CléReposhebdomadaire)-COUNTIF(Janvier[7],CléCongé)-COUNTIF(Janvier[7],CléMaladie)-COUNTIF(Janvier[7],CléFormation)-COUNTIF(Janvier[7],CléAbsencenonjustifiée) -> 0 | I27: =COUNTA(Janvier[8])-COUNTIF(Janvier[8],CléReposhebdomadaire)-COUNTIF(Janvier[8],CléCongé)-COUNTIF(Janvier[8],CléMaladie)-COUNTIF(Janvier[8],CléFormation)-COUNTIF(Janvier[8],CléAbsencenonjustifiée) -> 0 | J27: =COUNTA(Janvier[9])-COUNTIF(Janvier[9],CléReposhebdomadaire)-COUNTIF(Janvier[9],CléCongé)-COUNTIF(Janvier[9],CléMaladie)-COUNTIF(Janvier[9],CléFormation)-COUNTIF(Janvier[9],CléAbsencenonjustifiée) -> 0 | K27: =COUNTA(Janvier[10])-COUNTIF(Janvier[10],CléReposhebdomadaire)-COUNTIF(Janvier[10],CléCongé)-COUNTIF(Janvier[10],CléMaladie)-COUNTIF(Janvier[10],CléFormation)-COUNTIF(Janvier[10],CléAbsencenonjustifiée) -> 0 | L27: =COUNTA(Janvier[11])-COUNTIF(Janvier[11],CléReposhebdomadaire)-COUNTIF(Janvier[11],CléCongé)-COUNTIF(Janvier[11],CléMaladie)-COUNTIF(Janvier[11],CléFormation)-COUNTIF(Janvier[11],CléAbsencenonjustifiée) -> 0 | M27: =COUNTA(Janvier[12])-COUNTIF(Janvier[12],CléReposhebdomadaire)-COUNTIF(Janvier[12],CléCongé)-COUNTIF(Janvier[12],CléMaladie)-COUNTIF(Janvier[12],CléFormation)-COUNTIF(Janvier[12],CléAbsencenonjustifiée) -> 0 | N27: =COUNTA(Janvier[13])-COUNTIF(Janvier[13],CléReposhebdomadaire)-COUNTIF(Janvier[13],CléCongé)-COUNTIF(Janvier[13],CléMaladie)-COUNTIF(Janvier[13],CléFormation)-COUNTIF(Janvier[13],CléAbsencenonjustifiée) -> 0 | O27: =COUNTA(Janvier[14])-COUNTIF(Janvier[14],CléReposhebdomadaire)-COUNTIF(Janvier[14],CléCongé)-COUNTIF(Janvier[14],CléMaladie)-COUNTIF(Janvier[14],CléFormation)-COUNTIF(Janvier[14],CléAbsencenonjustifiée) -> 0 | P27: =COUNTA(Janvier[15])-COUNTIF(Janvier[15],CléReposhebdomadaire)-COUNTIF(Janvier[15],CléCongé)-COUNTIF(Janvier[15],CléMaladie)-COUNTIF(Janvier[15],CléFormation)-COUNTIF(Janvier[15],CléAbsencenonjustifiée) -> 0 | Q27: =COUNTA(Janvier[16])-COUNTIF(Janvier[16],CléReposhebdomadaire)-COUNTIF(Janvier[16],CléCongé)-COUNTIF(Janvier[16],CléMaladie)-COUNTIF(Janvier[16],CléFormation)-COUNTIF(Janvier[16],CléAbsencenonjustifiée) -> 0 | R27: =COUNTA(Janvier[17])-COUNTIF(Janvier[17],CléReposhebdomadaire)-COUNTIF(Janvier[17],CléCongé)-COUNTIF(Janvier[17],CléMaladie)-COUNTIF(Janvier[17],CléFormation)-COUNTIF(Janvier[17],CléAbsencenonjustifiée) -> 0 | S27: =COUNTA(Janvier[18])-COUNTIF(Janvier[18],CléReposhebdomadaire)-COUNTIF(Janvier[18],CléCongé)-COUNTIF(Janvier[18],CléMaladie)-COUNTIF(Janvier[18],CléFormation)-COUNTIF(Janvier[18],CléAbsencenonjustifiée) -> 0 | T27: =COUNTA(Janvier[19])-COUNTIF(Janvier[19],CléReposhebdomadaire)-COUNTIF(Janvier[19],CléCongé)-COUNTIF(Janvier[19],CléMaladie)-COUNTIF(Janvier[19],CléFormation)-COUNTIF(Janvier[19],CléAbsencenonjustifiée) -> 0 | U27: =COUNTA(Janvier[20])-COUNTIF(Janvier[20],CléReposhebdomadaire)-COUNTIF(Janvier[20],CléCongé)-COUNTIF(Janvier[20],CléMaladie)-COUNTIF(Janvier[20],CléFormation)-COUNTIF(Janvier[20],CléAbsencenonjustifiée) -> 0 | V27: =COUNTA(Janvier[21])-COUNTIF(Janvier[21],CléReposhebdomadaire)-COUNTIF(Janvier[21],CléCongé)-COUNTIF(Janvier[21],CléMaladie)-COUNTIF(Janvier[21],CléFormation)-COUNTIF(Janvier[21],CléAbsencenonjustifiée) -> 0 | W27: =COUNTA(Janvier[22])-COUNTIF(Janvier[22],CléReposhebdomadaire)-COUNTIF(Janvier[22],CléCongé)-COUNTIF(Janvier[22],CléMaladie)-COUNTIF(Janvier[22],CléFormation)-COUNTIF(Janvier[22],CléAbsencenonjustifiée) -> 0 | X27: =COUNTA(Janvier[23])-COUNTIF(Janvier[23],CléReposhebdomadaire)-COUNTIF(Janvier[23],CléCongé)-COUNTIF(Janvier[23],CléMaladie)-COUNTIF(Janvier[23],CléFormation)-COUNTIF(Janvier[23],CléAbsencenonjustifiée) -> 0 | Y27: =COUNTA(Janvier[24])-COUNTIF(Janvier[24],CléReposhebdomadaire)-COUNTIF(Janvier[24],CléCongé)-COUNTIF(Janvier[24],CléMaladie)-COUNTIF(Janvier[24],CléFormation)-COUNTIF(Janvier[24],CléAbsencenonjustifiée) -> 0 | Z27: =COUNTA(Janvier[25])-COUNTIF(Janvier[25],CléReposhebdomadaire)-COUNTIF(Janvier[25],CléCongé)-COUNTIF(Janvier[25],CléMaladie)-COUNTIF(Janvier[25],CléFormation)-COUNTIF(Janvier[25],CléAbsencenonjustifiée) -> 0 | AA27: =COUNTA(Janvier[26])-COUNTIF(Janvier[26],CléReposhebdomadaire)-COUNTIF(Janvier[26],CléCongé)-COUNTIF(Janvier[26],CléMaladie)-COUNTIF(Janvier[26],CléFormation)-COUNTIF(Janvier[26],CléAbsencenonjustifiée) -> 0 | AB27: =COUNTA(Janvier[27])-COUNTIF(Janvier[27],CléReposhebdomadaire)-COUNTIF(Janvier[27],CléCongé)-COUNTIF(Janvier[27],CléMaladie)-COUNTIF(Janvier[27],CléFormation)-COUNTIF(Janvier[27],CléAbsencenonjustifiée) -> 0 | AC27: =COUNTA(Janvier[28])-COUNTIF(Janvier[28],CléReposhebdomadaire)-COUNTIF(Janvier[28],CléCongé)-COUNTIF(Janvier[28],CléMaladie)-COUNTIF(Janvier[28],CléFormation)-COUNTIF(Janvier[28],CléAbsencenonjustifiée) -> 0 | AD27: =COUNTA(Janvier[29])-COUNTIF(Janvier[29],CléReposhebdomadaire)-COUNTIF(Janvier[29],CléCongé)-COUNTIF(Janvier[29],CléMaladie)-COUNTIF(Janvier[29],CléFormation)-COUNTIF(Janvier[29],CléAbsencenonjustifiée) -> 0 | AE27: =COUNTA(Janvier[30])-COUNTIF(Janvier[30],CléReposhebdomadaire)-COUNTIF(Janvier[30],CléCongé)-COUNTIF(Janvier[30],CléMaladie)-COUNTIF(Janvier[30],CléFormation)-COUNTIF(Janvier[30],CléAbsencenonjustifiée) -> 0 | AF27: =COUNTA(Janvier[31])-COUNTIF(Janvier[31],CléReposhebdomadaire)-COUNTIF(Janvier[31],CléCongé)-COUNTIF(Janvier[31],CléMaladie)-COUNTIF(Janvier[31],CléFormation)-COUNTIF(Janvier[31],CléAbsencenonjustifiée) -> 0 | AG27: =SUBTOTAL(109,Mars[Total des Heures effectuées]) -> 0

Sheet Juillet
A1: =Titre_Absence_Employé -> PLANNING MENSUEL
A2: Clé de motif d’absence | B2: RH | C2: Repos hebdomadaire | G2: CP | H2: Congé | J2: AM | K2: Arrêt Maladie | N2: FO | O2: Formation | Q2: ABS | R2: Absence non justifiée
A4: Juillet | B4: Poste | AG4: =AnnéeCalendrier -> 2023
B5: =TEXT(WEEKDAY(DATE(AnnéeCalendrier,7,1),1),"jjj") -> sam | C5: =TEXT(WEEKDAY(DATE(AnnéeCalendrier,7,2),1),"jjj") -> dim | D5: =TEXT(WEEKDAY(DATE(AnnéeCalendrier,7,3),1),"jjj") -> lun | E5: =TEXT(WEEKDAY(DATE(AnnéeCalendrier,7,4),1),"jjj") -> mar | F5: =TEXT(WEEKDAY(DATE(AnnéeCalendrier,7,5),1),"jjj") -> mer | G5: =TEXT(WEEKDAY(DATE(AnnéeCalendrier,7,6),1),"jjj") -> jeu | H5: =TEXT(WEEKDAY(DATE(AnnéeCalendrier,7,7),1),"jjj") -> ven | I5: =TEXT(WEEKDAY(DATE(AnnéeCalendrier,7,8),1),"jjj") -> sam | J5: =TEXT(WEEKDAY(DATE(AnnéeCalendrier,7,9),1),"jjj") -> dim | K5: =TEXT(WEEKDAY(DATE(AnnéeCalendrier,7,10),1),"jjj") -> lun | L5: =TEXT(WEEKDAY(DATE(AnnéeCalendrier,7,11),1),"jjj") -> mar | M5: =TEXT(WEEKDAY(DATE(AnnéeCalendrier,7,12),1),"jjj") -> mer | N5: =TEXT(WEEKDAY(DATE(AnnéeCalendrier,7,13),1),"jjj") -> jeu | O5: =TEXT(WEEKDAY(DATE(AnnéeCalendrier,7,14),1),"jjj") -> ven | P5: =TEXT(WEEKDAY(DATE(AnnéeCalendrier,7,15),1),"jjj") -> sam | Q5: =TEXT(WEEKDAY(DATE(AnnéeCalendrier,7,16),1),"jjj") -> dim | R5: =TEXT(WEEKDAY(DATE(AnnéeCalendrier,7,17),1),"jjj") -> lun | S5: =TEXT(WEEKDAY(DATE(AnnéeCalendrier,7,18),1),"jjj") -> mar | T5: =TEXT(WEEKDAY(DATE(AnnéeCalendrier,7,19),1),"jjj") -> mer | U5: =TEXT(WEEKDAY(DATE(AnnéeCalendrier,7,20),1),"jjj") -> jeu | V5: =TEXT(WEEKDAY(DATE(AnnéeCalendrier,7,21),1),"jjj") -> ven | W5: =TEXT(WEEKDAY(DATE(AnnéeCalendrier,7,22),1),"jjj") -> sam | X5: =TEXT(WEEKDAY(DATE(AnnéeCalendrier,7,23),1),"jjj") -> dim | Y5: =TEXT(WEEKDAY(DATE(AnnéeCalendrier,7,24),1),"jjj") -> lun | Z5: =TEXT(WEEKDAY(DATE(AnnéeCalendrier,7,25),1),"jjj") -> mar | AA5: =TEXT(WEEKDAY(DATE(AnnéeCalendrier,7,26),1),"jjj") -> mer | AB5: =TEXT(WEEKDAY(DATE(AnnéeCalendrier,7,27),1),"jjj") -> jeu | AC5: =TEXT(WEEKDAY(DATE(AnnéeCalendrier,7,28),1),"jjj") -> ven | AD5: =TEXT(WEEKDAY(DATE(AnnéeCalendrier,7,29),1),"jjj") -> sam | AE5: =TEXT(WEEKDAY(DATE(AnnéeCalendrier,7,30),1),"jjj") -> dim | AF5: =TEXT(WEEKDAY(DATE(AnnéeCalendrier,7,31),1),"jjj") -> lun
A6: Nom de l’employé | B6: 1 | C6: 2 | D6: 3 | E6: 4 | F6: 5 | G6: 6 | H6: 7 | I6: 8 | J6: 9 | K6: 10 | L6: 11 | M6: 12 | N6: 13 | O6: 14 | P6: 15 | Q6: 16 | R6: 17 | S6: 18 | T6: 19 | U6: 20 | V6: 21 | W6: 22 | X6: 23 | Y6: 24 | Z6: 25 | AA6: 26 | AB6: 27 | AC6: 28 | AD6: 29 | AE6: 30 | AF6: 31 | AG6: Total des Heures effectuées
A7: Employé 1 | AG7: =COUNTIF(Janvier[[#This Row],[1]:[31]],Paramétrage!G3)*Paramétrage!I3+COUNTIF(Janvier[[#This Row],[1]:[31]],Paramétrage!G4)*Paramétrage!I4+COUNTIF(Janvier[[#This Row],[1]:[31]],Paramétrage!G5)*Paramétrage!I5+COUNTIF(Janvier[[#This Row],[1]:[31]],Paramétrage!G6)*Paramétrage!I6+COUNTIF(Janvier[[#This Row],[1]:[31]],Paramétrage!G7)*Paramétrage!I7+COUNTIF(Janvier[[#This Row],[1]:[31]],Paramétrage!G8)*Paramétrage!I8+COUNTIF(Janvier[[#This Row],[1]:[31]],Paramétrage!G9)*Paramétrage!I9+COUNTIF(Janvier[[#This Row],[1]:[31]],Paramétrage!G10)*Paramétrage!I10+COUNTIF(Janvier[[#This Row],[1]:[31]],Paramétrage!G11)*Paramétrage!I11+COUNTIF(Janvier[[#This Row],[1]:[31]],Paramétrage!G12)*Paramétrage!I12+COUNTIF(Janvier[[#This Row],[1]:[31]],Paramétrage!G13)*Paramétrage!I13+COUNTIF(Janvier[[#This Row],[1]:[31]],Paramétrage!G14*Paramétrage!I14+COUNTIF(Janvier[[#This Row],[1]:[31]],Paramétrage!G15)*Paramétrage!I15+COUNTIF(Janvier[[#This Row],[1]:[31]],Paramétrage!G16)*Paramétrage!I16) -> 0
A8: Employé 2 | AG8: =COUNTIF(Janvier[[#This Row],[1]:[31]],Paramétrage!G4)*Paramétrage!I4+COUNTIF(Janvier[[#This Row],[1]:[31]],Paramétrage!G5)*Paramétrage!I5+COUNTIF(Janvier[[#This Row],[1]:[31]],Paramétrage!G6)*Paramétrage!I6+COUNTIF(Janvier[[#This Row],[1]:[31]],Paramétrage!G7)*Paramétrage!I7+COUNTIF(Janvier[[#This Row],[1]:[31]],Paramétrage!G8)*Paramétrage!I8+COUNTIF(Janvier[[#This Row],[1]:[31]],Paramétrage!G9)*Paramétrage!I9+COUNTIF(Janvier[[#This Row],[1]:[31]],Paramétrage!G10)*Paramétrage!I10+COUNTIF(Janvier[[#This Row],[1]:[31]],Paramétrage!G11)*Paramétrage!I11+COUNTIF(Janvier[[#This Row],[1]:[31]],Paramétrage!G12)*Paramétrage!I12+COUNTIF(Janvier[[#This Row],[1]:[31]],Paramétrage!G13)*Paramétrage!I13+COUNTIF(Janvier[[#This Row],[1]:[31]],Paramétrage!G14)*Paramétrage!I14+COUNTIF(Janvier[[#This Row],[1]:[31]],Paramétrage!G15*Paramétrage!I15+COUNTIF(Janvier[[#This Row],[1]:[31]],Paramétrage!G16)*Paramétrage!I16+COUNTIF(Janvier[[#This Row],[1]:[31]],Paramétrage!G17)*Paramétrage!I17) -> 0
A9: Employé 3 | AG9: =COUNTIF(Janvier[[#This Row],[1]:[31]],Paramétrage!G5)*Paramétrage!I5+COUNTIF(Janvier[[#This Row],[1]:[31]],Paramétrage!G6)*Paramétrage!I6+COUNTIF(Janvier[[#This Row],[1]:[31]],Paramétrage!G7)*Paramétrage!I7+COUNTIF(Janvier[[#This Row],[1]:[31]],Paramétrage!G8)*Paramétrage!I8+COUNTIF(Janvier[[#This Row],[1]:[31]],Paramétrage!G9)*Paramétrage!I9+COUNTIF(Janvier[[#This Row],[1]:[31]],Paramétrage!G10)*Paramétrage!I10+COUNTIF(Janvier[[#This Row],[1]:[31]],Paramétrage!G11)*Paramétrage!I11+COUNTIF(Janvier[[#This Row],[1]:[31]],Paramétrage!G12)*Paramétrage!I12+COUNTIF(Janvier[[#This Row],[1]:[31]],Paramétrage!G13)*Paramétrage!I13+COUNTIF(Janvier[[#This Row],[1]:[31]],Paramétrage!G14)*Paramétrage!I14+COUNTIF(Janvier[[#This Row],[1]:[31]],Paramétrage!G15)*Paramétrage!I15+COUNTIF(Janvier[[#This Row],[1]:[31]],Paramétrage!G16*Paramétrage!I16+COUNTIF(Janvier[[#This Row],[1]:[31]],Paramétrage!G17)*Paramétrage!I17+COUNTIF(Janvier[[#This Row],[1]:[31]],Paramétrage!G18)*Paramétrage!I18) -> 0
A10: Employé 4 | AG10: =COUNTIF(Janvier[[#This Row],[1]:[31]],Paramétrage!G6)*Paramétrage!I6+COUNTIF(Janvier[[#This Row],[1]:[31]],Paramétrage!G7)*Paramétrage!I7+COUNTIF(Janvier[[#This Row],[1]:[31]],Paramétrage!G8)*Paramétrage!I8+COUNTIF(Janvier[[#This Row],[1]:[31]],Paramétrage!G9)*Paramétrage!I9+COUNTIF(Janvier[[#This Row],[1]:[31]],Paramétrage!G10)*Paramétrage!I10+COUNTIF(Janvier[[#This Row],[1]:[31]],Paramétrage!G11)*Paramétrage!I11+COUNTIF(Janvier[[#This Row],[1]:[31]],Paramétrage!G12)*Paramétrage!I12+COUNTIF(Janvier[[#This Row],[1]:[31]],Paramétrage!G13)*Paramétrage!I13+COUNTIF(Janvier[[#This Row],[1]:[31]],Paramétrage!G14)*Paramétrage!I14+COUNTIF(Janvier[[#This Row],[1]:[31]],Paramétrage!G15)*Paramétrage!I15+COUNTIF(Janvier[[#This Row],[1]:[31]],Paramétrage!G16)*Paramétrage!I16+COUNTIF(Janvier[[#This Row],[1]:[31]],Paramétrage!G17*Paramétrage!I17+COUNTIF(Janvier[[#This Row],[1]:[31]],Paramétrage!G18)*Paramétrage!I18+COUNTIF(Janvier[[#This Row],[1]:[31]],Paramétrage!G19)*Paramétrage!I19) -> 0
A11: Employé 5 | AG11: =COUNTIF(Janvier[[#This Row],[1]:[31]],Paramétrage!G7)*Paramétrage!I7+COUNTIF(Janvier[[#This Row],[1]:[31]],Paramétrage!G8)*Paramétrage!I8+COUNTIF(Janvier[[#This Row],[1]:[31]],Paramétrage!G9)*Paramétrage!I9+COUNTIF(Janvier[[#This Row],[1]:[31]],Paramétrage!G10)*Paramétrage!I10+COUNTIF(Janvier[[#This Row],[1]:[31]],Paramétrage!G11)*Paramétrage!I11+COUNTIF(Janvier[[#This Row],[1]:[31]],Paramétrage!G12)*Paramétrage!I12+COUNTIF(Janvier[[#This Row],[1]:[31]],Paramétrage!G13)*Paramétrage!I13+COUNTIF(Janvier[[#This Row],[1]:[31]],Paramétrage!G14)*Paramétrage!I14+COUNTIF(Janvier[[#This Row],[1]:[31]],Paramétrage!G15)*Paramétrage!I15+COUNTIF(Janvier[[#This Row],[1]:[31]],Paramétrage!G16)*Paramétrage!I16+COUNTIF(Janvier[[#This Row],[1]:[31]],Paramétrage!G17)*Paramétrage!I17+COUNTIF(Janvier[[#This Row],[1]:[31]],Paramétrage!G18*Paramétrage!I18+COUNTIF(Janvier[[#This Row],[1]:[31]],Paramétrage!G19)*Paramétrage!I19+COUNTIF(Janvier[[#This Row],[1]:[31]],Paramétrage!G20)*Paramétrage!I20) -> 0
A12: Employé 6 | AG12: =COUNTIF(Janvier[[#This Row],[1]:[31]],Paramétrage!G8)*Paramétrage!I8+COUNTIF(Janvier[[#This Row],[1]:[31]],Paramétrage!G9)*Paramétrage!I9+COUNTIF(Janvier[[#This Row],[1]:[31]],Paramétrage!G10)*Paramétrage!I10+COUNTIF(Janvier[[#This Row],[1]:[31]],Paramétrage!G11)*Paramétrage!I11+COUNTIF(Janvier[[#This Row],[1]:[31]],Paramétrage!G12)*Paramétrage!I12+COUNTIF(Janvier[[#This Row],[1]:[31]],Paramétrage!G13)*Paramétrage!I13+COUNTIF(Janvier[[#This Row],[1]:[31]],Paramétrage!G14)*Paramétrage!I14+COUNTIF(Janvier[[#This Row],[1]:[31]],Paramétrage!G15)*Paramétrage!I15+COUNTIF(Janvier[[#This Row],[1]:[31]],Paramétrage!G16)*Paramétrage!I16+COUNTIF(Janvier[[#This Row],[1]:[31]],Paramétrage!G17)*Paramétrage!I17+COUNTIF(Janvier[[#This Row],[1]:[31]],Paramétrage!G18)*Paramétrage!I18+COUNTIF(Janvier[[#This Row],[1]:[31]],Paramétrage!G19*Paramétrage!I19+COUNTIF(Janvier[[#This Row],[1]:[31]],Paramétrage!G20)*Paramétrage!I20+COUNTIF(Janvier[[#This Row],[1]:[31]],Paramétrage!G21)*Paramétrage!I21) -> 0
A13: Employé 7 | AG13: =COUNTIF(Janvier[[#This Row],[1]:[31]],Paramétrage!G9)*Paramétrage!I9+COUNTIF(Janvier[[#This Row],[1]:[31]],Paramétrage!G10)*Paramétrage!I10+COUNTIF(Janvier[[#This Row],[1]:[31]],Paramétrage!G11)*Paramétrage!I11+COUNTIF(Janvier[[#This Row],[1]:[31]],Paramétrage!G12)*Paramétrage!I12+COUNTIF(Janvier[[#This Row],[1]:[31]],Paramétrage!G13)*Paramétrage!I13+COUNTIF(Janvier[[#This Row],[1]:[31]],Paramétrage!G14)*Paramétrage!I14+COUNTIF(Janvier[[#This Row],[1]:[31]],Paramétrage!G15)*Paramétrage!I15+COUNTIF(Janvier[[#This Row],[1]:[31]],Paramétrage!G16)*Paramétrage!I16+COUNTIF(Janvier[[#This Row],[1]:[31]],Paramétrage!G17)*Paramétrage!I17+COUNTIF(Janvier[[#This Row],[1]:[31]],Paramétrage!G18)*Paramétrage!I18+COUNTIF(Janvier[[#This Row],[1]:[31]],Paramétrage!G19)*Paramétrage!I19+COUNTIF(Janvier[[#This Row],[1]:[31]],Paramétrage!G20*Paramétrage!I20+COUNTIF(Janvier[[#This Row],[1]:[31]],Paramétrage!G21)*Paramétrage!I21+COUNTIF(Janvier[[#This Row],[1]:[31]],Paramétrage!G22)*Paramétrage!I22) -> 0
A14: Employé 8 | AG14: =COUNTIF(Janvier[[#This Row],[1]:[31]],Paramétrage!G10)*Paramétrage!I10+COUNTIF(Janvier[[#This Row],[1]:[31]],Paramétrage!G11)*Paramétrage!I11+COUNTIF(Janvier[[#This Row],[1]:[31]],Paramétrage!G12)*Paramétrage!I12+COUNTIF(Janvier[[#This Row],[1]:[31]],Paramétrage!G13)*Paramétrage!I13+COUNTIF(Janvier[[#This Row],[1]:[31]],Paramétrage!G14)*Paramétrage!I14+COUNTIF(Janvier[[#This Row],[1]:[31]],Paramétrage!G15)*Paramétrage!I15+COUNTIF(Janvier[[#This Row],[1]:[31]],Paramétrage!G16)*Paramétrage!I16+COUNTIF(Janvier[[#This Row],[1]:[31]],Paramétrage!G17)*Paramétrage!I17+COUNTIF(Janvier[[#This Row],[1]:[31]],Paramétrage!G18)*Paramétrage!I18+COUNTIF(Janvier[[#This Row],[1]:[31]],Paramétrage!G19)*Paramétrage!I19+COUNTIF(Janvier[[#This Row],[1]:[31]],Paramétrage!G20)*Paramétrage!I20+COUNTIF(Janvier[[#This Row],[1]:[31]],Paramétrage!G21*Paramétrage!I21+COUNTIF(Janvier[[#This Row],[1]:[31]],Paramétrage!G22)*Paramétrage!I22+COUNTIF(Janvier[[#This Row],[1]:[31]],Paramétrage!G23)*Paramétrage!I23) -> 0
A15: Employé 9 | AG15: =COUNTIF(Janvier[[#This Row],[1]:[31]],Paramétrage!G11)*Paramétrage!I11+COUNTIF(Janvier[[#This Row],[1]:[31]],Paramétrage!G12)*Paramétrage!I12+COUNTIF(Janvier[[#This Row],[1]:[31]],Paramétrage!G13)*Paramétrage!I13+COUNTIF(Janvier[[#This Row],[1]:[31]],Paramétrage!G14)*Paramétrage!I14+COUNTIF(Janvier[[#This Row],[1]:[31]],Paramétrage!G15)*Paramétrage!I15+COUNTIF(Janvier[[#This Row],[1]:[31]],Paramétrage!G16)*Paramétrage!I16+COUNTIF(Janvier[[#This Row],[1]:[31]],Paramétrage!G17)*Paramétrage!I17+COUNTIF(Janvier[[#This Row],[1]:[31]],Paramétrage!G18)*Paramétrage!I18+COUNTIF(Janvier[[#This Row],[1]:[31]],Paramétrage!G19)*Paramétrage!I19+COUNTIF(Janvier[[#This Row],[1]:[31]],Paramétrage!G20)*Paramétrage!I20+COUNTIF(Janvier[[#This Row],[1]:[31]],Paramétrage!G21)*Paramétrage!I21+COUNTIF(Janvier[[#This Row],[1]:[31]],Paramétrage!G22*Paramétrage!I22+COUNTIF(Janvier[[#This Row],[1]:[31]],Paramétrage!G23)*Paramétrage!I23+COUNTIF(Janvier[[#This Row],[1]:[31]],Paramétrage!G24)*Paramétrage!I24) -> 0
A16: Employé 10 | AG16: =COUNTIF(Janvier[[#This Row],[1]:[31]],Paramétrage!G12)*Paramétrage!I12+COUNTIF(Janvier[[#This Row],[1]:[31]],Paramétrage!G13)*Paramétrage!I13+COUNTIF(Janvier[[#This Row],[1]:[31]],Paramétrage!G14)*Paramétrage!I14+COUNTIF(Janvier[[#This Row],[1]:[31]],Paramétrage!G15)*Paramétrage!I15+COUNTIF(Janvier[[#This Row],[1]:[31]],Paramétrage!G16)*Paramétrage!I16+COUNTIF(Janvier[[#This Row],[1]:[31]],Paramétrage!G17)*Paramétrage!I17+COUNTIF(Janvier[[#This Row],[1]:[31]],Paramétrage!G18)*Paramétrage!I18+COUNTIF(Janvier[[#This Row],[1]:[31]],Paramétrage!G19)*Paramétrage!I19+COUNTIF(Janvier[[#This Row],[1]:[31]],Paramétrage!G20)*Paramétrage!I20+COUNTIF(Janvier[[#This Row],[1]:[31]],Paramétrage!G21)*Paramétrage!I21+COUNTIF(Janvier[[#This Row],[1]:[31]],Paramétrage!G22)*Paramétrage!I22+COUNTIF(Janvier[[#This Row],[1]:[31]],Paramétrage!G23*Paramétrage!I23+COUNTIF(Janvier[[#This Row],[1]:[31]],Paramétrage!G24)*Paramétrage!I24+COUNTIF(Janvier[[#This Row],[1]:[31]],Paramétrage!G25)*Paramétrage!I25) -> 0
A17: Employé 11 | AG17: =COUNTIF(Janvier[[#This Row],[1]:[31]],Paramétrage!G13)*Paramétrage!I13+COUNTIF(Janvier[[#This Row],[1]:[31]],Paramétrage!G14)*Paramétrage!I14+COUNTIF(Janvier[[#This Row],[1]:[31]],Paramétrage!G15)*Paramétrage!I15+COUNTIF(Janvier[[#This Row],[1]:[31]],Paramétrage!G16)*Paramétrage!I16+COUNTIF(Janvier[[#This Row],[1]:[31]],Paramétrage!G17)*Paramétrage!I17+COUNTIF(Janvier[[#This Row],[1]:[31]],Paramétrage!G18)*Paramétrage!I18+COUNTIF(Janvier[[#This Row],[1]:[31]],Paramétrage!G19)*Paramétrage!I19+COUNTIF(Janvier[[#This Row],[1]:[31]],Paramétrage!G20)*Paramétrage!I20+COUNTIF(Janvier[[#This Row],[1]:[31]],Paramétrage!G21)*Paramétrage!I21+COUNTIF(Janvier[[#This Row],[1]:[31]],Paramétrage!G22)*Paramétrage!I22+COUNTIF(Janvier[[#This Row],[1]:[31]],Paramétrage!G23)*Paramétrage!I23+COUNTIF(Janvier[[#This Row],[1]:[31]],Paramétrage!G24*Paramétrage!I24+COUNTIF(Janvier[[#This Row],[1]:[31]],Paramétrage!G25)*Paramétrage!I25+COUNTIF(Janvier[[#This Row],[1]:[31]],Paramétrage!G26)*Paramétrage!I26) -> 0
A18: Employé 12 | AG18: =COUNTIF(Janvier[[#This Row],[1]:[31]],Paramétrage!G14)*Paramétrage!I14+COUNTIF(Janvier[[#This Row],[1]:[31]],Paramétrage!G15)*Paramétrage!I15+COUNTIF(Janvier[[#This Row],[1]:[31]],Paramétrage!G16)*Paramétrage!I16+COUNTIF(Janvier[[#This Row],[1]:[31]],Paramétrage!G17)*Paramétrage!I17+COUNTIF(Janvier[[#This Row],[1]:[31]],Paramétrage!G18)*Paramétrage!I18+COUNTIF(Janvier[[#This Row],[1]:[31]],Paramétrage!G19)*Paramétrage!I19+COUNTIF(Janvier[[#This Row],[1]:[31]],Paramétrage!G20)*Paramétrage!I20+COUNTIF(Janvier[[#This Row],[1]:[31]],Paramétrage!G21)*Paramétrage!I21+COUNTIF(Janvier[[#This Row],[1]:[31]],Paramétrage!G22)*Paramétrage!I22+COUNTIF(Janvier[[#This Row],[1]:[31]],Paramétrage!G23)*Paramétrage!I23+COUNTIF(Janvier[[#This Row],[1]:[31]],Paramétrage!G24)*Paramétrage!I24+COUNTIF(Janvier[[#This Row],[1]:[31]],Paramétrage!G25*Paramétrage!I25+COUNTIF(Janvier[[#This Row],[1]:[31]],Paramétrage!G26)*Paramétrage!I26+COUNTIF(Janvier[[#This Row],[1]:[31]],Paramétrage!G27)*Paramétrage!I27) -> 0
... A26: Employé 20 | AG26: =COUNTIF(Janvier[[#This Row],[1]:[31]],Paramétrage!G22)*Paramétrage!I22+COUNTIF(Janvier[[#This Row],[1]:[31]],Paramétrage!G23)*Paramétrage!I23+COUNTIF(Janvier[[#This Row],[1]:[31]],Paramétrage!G24)*Paramétrage!I24+COUNTIF(Janvier[[#This Row],[1]:[31]],Paramétrage!G25)*Paramétrage!I25+COUNTIF(Janvier[[#This Row],[1]:[31]],Paramétrage!G26)*Paramétrage!I26+COUNTIF(Janvier[[#This Row],[1]:[31]],Paramétrage!G27)*Paramétrage!I27+COUNTIF(Janvier[[#This Row],[1]:[31]],Paramétrage!G28)*Paramétrage!I28+COUNTIF(Janvier[[#This Row],[1]:[31]],Paramétrage!G29)*Paramétrage!I29+COUNTIF(Janvier[[#This Row],[1]:[31]],Paramétrage!G30)*Paramétrage!I30+COUNTIF(Janvier[[#This Row],[1]:[31]],Paramétrage!G31)*Paramétrage!I31+COUNTIF(Janvier[[#This Row],[1]:[31]],Paramétrage!G32)*Paramétrage!I32+COUNTIF(Janvier[[#This Row],[1]:[31]],Paramétrage!G33*Paramétrage!I33+COUNTIF(Janvier[[#This Row],[1]:[31]],Paramétrage!G34)*Paramétrage!I34+COUNTIF(Janvier[[#This Row],[1]:[31]],Paramétrage!G35)*Paramétrage!I35) -> 0
A27: Total employés dans la journée | B27: =COUNTA(Janvier[1])-COUNTIF(Janvier[1],CléReposhebdomadaire)-COUNTIF(Janvier[1],CléCongé)-COUNTIF(Janvier[1],CléMaladie)-COUNTIF(Janvier[1],CléFormation)-COUNTIF(Janvier[1],CléAbsencenonjustifiée) -> 0 | C27: =COUNTA(Janvier[2])-COUNTIF(Janvier[2],CléReposhebdomadaire)-COUNTIF(Janvier[2],CléCongé)-COUNTIF(Janvier[2],CléMaladie)-COUNTIF(Janvier[2],CléFormation)-COUNTIF(Janvier[2],CléAbsencenonjustifiée) -> 0 | D27: =COUNTA(Janvier[3])-COUNTIF(Janvier[3],CléReposhebdomadaire)-COUNTIF(Janvier[3],CléCongé)-COUNTIF(Janvier[3],CléMaladie)-COUNTIF(Janvier[3],CléFormation)-COUNTIF(Janvier[3],CléAbsencenonjustifiée) -> 0 | E27: =COUNTA(Janvier[4])-COUNTIF(Janvier[4],CléReposhebdomadaire)-COUNTIF(Janvier[4],CléCongé)-COUNTIF(Janvier[4],CléMaladie)-COUNTIF(Janvier[4],CléFormation)-COUNTIF(Janvier[4],CléAbsencenonjustifiée) -> 0 | F27: =COUNTA(Janvier[5])-COUNTIF(Janvier[5],CléReposhebdomadaire)-COUNTIF(Janvier[5],CléCongé)-COUNTIF(Janvier[5],CléMaladie)-COUNTIF(Janvier[5],CléFormation)-COUNTIF(Janvier[5],CléAbsencenonjustifiée) -> 0 | G27: =COUNTA(Janvier[6])-COUNTIF(Janvier[6],CléReposhebdomadaire)-COUNTIF(Janvier[6],CléCongé)-COUNTIF(Janvier[6],CléMaladie)-COUNTIF(Janvier[6],CléFormation)-COUNTIF(Janvier[6],CléAbsencenonjustifiée) -> 0 | H27: =COUNTA(Janvier[7])-COUNTIF(Janvier[7],CléReposhebdomadaire)-COUNTIF(Janvier[7],CléCongé)-COUNTIF(Janvier[7],CléMaladie)-COUNTIF(Janvier[7],CléFormation)-COUNTIF(Janvier[7],CléAbsencenonjustifiée) -> 0 | I27: =COUNTA(Janvier[8])-COUNTIF(Janvier[8],CléReposhebdomadaire)-COUNTIF(Janvier[8],CléCongé)-COUNTIF(Janvier[8],CléMaladie)-COUNTIF(Janvier[8],CléFormation)-COUNTIF(Janvier[8],CléAbsencenonjustifiée) -> 0 | J27: =COUNTA(Janvier[9])-COUNTIF(Janvier[9],CléReposhebdomadaire)-COUNTIF(Janvier[9],CléCongé)-COUNTIF(Janvier[9],CléMaladie)-COUNTIF(Janvier[9],CléFormation)-COUNTIF(Janvier[9],CléAbsencenonjustifiée) -> 0 | K27: =COUNTA(Janvier[10])-COUNTIF(Janvier[10],CléReposhebdomadaire)-COUNTIF(Janvier[10],CléCongé)-COUNTIF(Janvier[10],CléMaladie)-COUNTIF(Janvier[10],CléFormation)-COUNTIF(Janvier[10],CléAbsencenonjustifiée) -> 0 | L27: =COUNTA(Janvier[11])-COUNTIF(Janvier[11],CléReposhebdomadaire)-COUNTIF(Janvier[11],CléCongé)-COUNTIF(Janvier[11],CléMaladie)-COUNTIF(Janvier[11],CléFormation)-COUNTIF(Janvier[11],CléAbsencenonjustifiée) -> 0 | M27: =COUNTA(Janvier[12])-COUNTIF(Janvier[12],CléReposhebdomadaire)-COUNTIF(Janvier[12],CléCongé)-COUNTIF(Janvier[12],CléMaladie)-COUNTIF(Janvier[12],CléFormation)-COUNTIF(Janvier[12],CléAbsencenonjustifiée) -> 0 | N27: =COUNTA(Janvier[13])-COUNTIF(Janvier[13],CléReposhebdomadaire)-COUNTIF(Janvier[13],CléCongé)-COUNTIF(Janvier[13],CléMaladie)-COUNTIF(Janvier[13],CléFormation)-COUNTIF(Janvier[13],CléAbsencenonjustifiée) -> 0 | O27: =COUNTA(Janvier[14])-COUNTIF(Janvier[14],CléReposhebdomadaire)-COUNTIF(Janvier[14],CléCongé)-COUNTIF(Janvier[14],CléMaladie)-COUNTIF(Janvier[14],CléFormation)-COUNTIF(Janvier[14],CléAbsencenonjustifiée) -> 0 | P27: =COUNTA(Janvier[15])-COUNTIF(Janvier[15],CléReposhebdomadaire)-COUNTIF(Janvier[15],CléCongé)-COUNTIF(Janvier[15],CléMaladie)-COUNTIF(Janvier[15],CléFormation)-COUNTIF(Janvier[15],CléAbsencenonjustifiée) -> 0 | Q27: =COUNTA(Janvier[16])-COUNTIF(Janvier[16],CléReposhebdomadaire)-COUNTIF(Janvier[16],CléCongé)-COUNTIF(Janvier[16],CléMaladie)-COUNTIF(Janvier[16],CléFormation)-COUNTIF(Janvier[16],CléAbsencenonjustifiée) -> 0 | R27: =COUNTA(Janvier[17])-COUNTIF(Janvier[17],CléReposhebdomadaire)-COUNTIF(Janvier[17],CléCongé)-COUNTIF(Janvier[17],CléMaladie)-COUNTIF(Janvier[17],CléFormation)-COUNTIF(Janvier[17],CléAbsencenonjustifiée) -> 0 | S27: =COUNTA(Janvier[18])-COUNTIF(Janvier[18],CléReposhebdomadaire)-COUNTIF(Janvier[18],CléCongé)-COUNTIF(Janvier[18],CléMaladie)-COUNTIF(Janvier[18],CléFormation)-COUNTIF(Janvier[18],CléAbsencenonjustifiée) -> 0 | T27: =COUNTA(Janvier[19])-COUNTIF(Janvier[19],CléReposhebdomadaire)-COUNTIF(Janvier[19],CléCongé)-COUNTIF(Janvier[19],CléMaladie)-COUNTIF(Janvier[19],CléFormation)-COUNTIF(Janvier[19],CléAbsencenonjustifiée) -> 0 | U27: =COUNTA(Janvier[20])-COUNTIF(Janvier[20],CléReposhebdomadaire)-COUNTIF(Janvier[20],CléCongé)-COUNTIF(Janvier[20],CléMaladie)-COUNTIF(Janvier[20],CléFormation)-COUNTIF(Janvier[20],CléAbsencenonjustifiée) -> 0 | V27: =COUNTA(Janvier[21])-COUNTIF(Janvier[21],CléReposhebdomadaire)-COUNTIF(Janvier[21],CléCongé)-COUNTIF(Janvier[21],CléMaladie)-COUNTIF(Janvier[21],CléFormation)-COUNTIF(Janvier[21],CléAbsencenonjustifiée) -> 0 | W27: =COUNTA(Janvier[22])-COUNTIF(Janvier[22],CléReposhebdomadaire)-COUNTIF(Janvier[22],CléCongé)-COUNTIF(Janvier[22],CléMaladie)-COUNTIF(Janvier[22],CléFormation)-COUNTIF(Janvier[22],CléAbsencenonjustifiée) -> 0 | X27: =COUNTA(Janvier[23])-COUNTIF(Janvier[23],CléReposhebdomadaire)-COUNTIF(Janvier[23],CléCongé)-COUNTIF(Janvier[23],CléMaladie)-COUNTIF(Janvier[23],CléFormation)-COUNTIF(Janvier[23],CléAbsencenonjustifiée) -> 0 | Y27: =COUNTA(Janvier[24])-COUNTIF(Janvier[24],CléReposhebdomadaire)-COUNTIF(Janvier[24],CléCongé)-COUNTIF(Janvier[24],CléMaladie)-COUNTIF(Janvier[24],CléFormation)-COUNTIF(Janvier[24],CléAbsencenonjustifiée) -> 0 | Z27: =COUNTA(Janvier[25])-COUNTIF(Janvier[25],CléReposhebdomadaire)-COUNTIF(Janvier[25],CléCongé)-COUNTIF(Janvier[25],CléMaladie)-COUNTIF(Janvier[25],CléFormation)-COUNTIF(Janvier[25],CléAbsencenonjustifiée) -> 0 | AA27: =COUNTA(Janvier[26])-COUNTIF(Janvier[26],CléReposhebdomadaire)-COUNTIF(Janvier[26],CléCongé)-COUNTIF(Janvier[26],CléMaladie)-COUNTIF(Janvier[26],CléFormation)-COUNTIF(Janvier[26],CléAbsencenonjustifiée) -> 0 | AB27: =COUNTA(Janvier[27])-COUNTIF(Janvier[27],CléReposhebdomadaire)-COUNTIF(Janvier[27],CléCongé)-COUNTIF(Janvier[27],CléMaladie)-COUNTIF(Janvier[27],CléFormation)-COUNTIF(Janvier[27],CléAbsencenonjustifiée) -> 0 | AC27: =COUNTA(Janvier[28])-COUNTIF(Janvier[28],CléReposhebdomadaire)-COUNTIF(Janvier[28],CléCongé)-COUNTIF(Janvier[28],CléMaladie)-COUNTIF(Janvier[28],CléFormation)-COUNTIF(Janvier[28],CléAbsencenonjustifiée) -> 0 | AD27: =COUNTA(Janvier[29])-COUNTIF(Janvier[29],CléReposhebdomadaire)-COUNTIF(Janvier[29],CléCongé)-COUNTIF(Janvier[29],CléMaladie)-COUNTIF(Janvier[29],CléFormation)-COUNTIF(Janvier[29],CléAbsencenonjustifiée) -> 0 | AE27: =COUNTA(Janvier[30])-COUNTIF(Janvier[30],CléReposhebdomadaire)-COUNTIF(Janvier[30],CléCongé)-COUNTIF(Janvier[30],CléMaladie)-COUNTIF(Janvier[30],CléFormation)-COUNTIF(Janvier[30],CléAbsencenonjustifiée) -> 0 | AF27: =COUNTA(Janvier[31])-COUNTIF(Janvier[31],CléReposhebdomadaire)-COUNTIF(Janvier[31],CléCongé)-COUNTIF(Janvier[31],CléMaladie)-COUNTIF(Janvier[31],CléFormation)-COUNTIF(Janvier[31],CléAbsencenonjustifiée) -> 0 | AG27: =SUBTOTAL(109,Mars[Total des Heures effectuées]) -> 0

Sheet Août
A1: =Titre_Absence_Employé -> PLANNING MENSUEL
A2: Clé de motif d’absence | B2: RH | C2: Repos hebdomadaire | G2: CP | H2: Congé | J2: AM | K2: Arrêt Maladie | N2: FO | O2: Formation | Q2: ABS | R2: Absence non justifiée
A4: Août | B4: Poste | AG4: =AnnéeCalendrier -> 2023
B5: =TEXT(WEEKDAY(DATE(AnnéeCalendrier,8,1),1),"jjj") -> mar | C5: =TEXT(WEEKDAY(DATE(AnnéeCalendrier,8,2),1),"jjj") -> mer | D5: =TEXT(WEEKDAY(DATE(AnnéeCalendrier,8,3),1),"jjj") -> jeu | E5: =TEXT(WEEKDAY(DATE(AnnéeCalendrier,8,4),1),"jjj") -> ven | F5: =TEXT(WEEKDAY(DATE(AnnéeCalendrier,8,5),1),"jjj") -> sam | G5: =TEXT(WEEKDAY(DATE(AnnéeCalendrier,8,6),1),"jjj") -> dim | H5: =TEXT(WEEKDAY(DATE(AnnéeCalendrier,8,7),1),"jjj") -> lun | I5: =TEXT(WEEKDAY(DATE(AnnéeCalendrier,8,8),1),"jjj") -> mar | J5: =TEXT(WEEKDAY(DATE(AnnéeCalendrier,8,9),1),"jjj") -> mer | K5: =TEXT(WEEKDAY(DATE(AnnéeCalendrier,8,10),1),"jjj") -> jeu | L5: =TEXT(WEEKDAY(DATE(AnnéeCalendrier,8,11),1),"jjj") -> ven | M5: =TEXT(WEEKDAY(DATE(AnnéeCalendrier,8,12),1),"jjj") -> sam | N5: =TEXT(WEEKDAY(DATE(AnnéeCalendrier,8,13),1),"jjj") -> dim | O5: =TEXT(WEEKDAY(DATE(AnnéeCalendrier,8,14),1),"jjj") -> lun | P5: =TEXT(WEEKDAY(DATE(AnnéeCalendrier,8,15),1),"jjj") -> mar | Q5: =TEXT(WEEKDAY(DATE(AnnéeCalendrier,8,16),1),"jjj") -> mer | R5: =TEXT(WEEKDAY(DATE(AnnéeCalendrier,8,17),1),"jjj") -> jeu | S5: =TEXT(WEEKDAY(DATE(AnnéeCalendrier,8,18),1),"jjj") -> ven | T5: =TEXT(WEEKDAY(DATE(AnnéeCalendrier,8,19),1),"jjj") -> sam | U5: =TEXT(WEEKDAY(DATE(AnnéeCalendrier,8,20),1),"jjj") -> dim | V5: =TEXT(WEEKDAY(DATE(AnnéeCalendrier,8,21),1),"jjj") -> lun | W5: =TEXT(WEEKDAY(DATE(AnnéeCalendrier,8,22),1),"jjj") -> mar | X5: =TEXT(WEEKDAY(DATE(AnnéeCalendrier,8,23),1),"jjj") -> mer | Y5: =TEXT(WEEKDAY(DATE(AnnéeCalendrier,8,24),1),"jjj") -> jeu | Z5: =TEXT(WEEKDAY(DATE(AnnéeCalendrier,8,25),1),"jjj") -> ven | AA5: =TEXT(WEEKDAY(DATE(AnnéeCalendrier,8,26),1),"jjj") -> sam | AB5: =TEXT(WEEKDAY(DATE(AnnéeCalendrier,8,27),1),"jjj") -> dim | AC5: =TEXT(WEEKDAY(DATE(AnnéeCalendrier,8,28),1),"jjj") -> lun | AD5: =TEXT(WEEKDAY(DATE(AnnéeCalendrier,8,29),1),"jjj") -> mar | AE5: =TEXT(WEEKDAY(DATE(AnnéeCalendrier,8,30),1),"jjj") -> mer | AF5: =TEXT(WEEKDAY(DATE(AnnéeCalendrier,8,31),1),"jjj") -> jeu
A6: Nom de l’employé | B6: 1 | C6: 2 | D6: 3 | E6: 4 | F6: 5 | G6: 6 | H6: 7 | I6: 8 | J6: 9 | K6: 10 | L6: 11 | M6: 12 | N6: 13 | O6: 14 | P6: 15 | Q6: 16 | R6: 17 | S6: 18 | T6: 19 | U6: 20 | V6: 21 | W6: 22 | X6: 23 | Y6: 24 | Z6: 25 | AA6: 26 | AB6: 27 | AC6: 28 | AD6: 29 | AE6: 30 | AF6: 31 | AG6: Total des Heures effectuées
A7: Employé 1 | AG7: =COUNTIF(Janvier[[#This Row],[1]:[31]],Paramétrage!G3)*Paramétrage!I3+COUNTIF(Janvier[[#This Row],[1]:[31]],Paramétrage!G4)*Paramétrage!I4+COUNTIF(Janvier[[#This Row],[1]:[31]],Paramétrage!G5)*Paramétrage!I5+COUNTIF(Janvier[[#This Row],[1]:[31]],Paramétrage!G6)*Paramétrage!I6+COUNTIF(Janvier[[#This Row],[1]:[31]],Paramétrage!G7)*Paramétrage!I7+COUNTIF(Janvier[[#This Row],[1]:[31]],Paramétrage!G8)*Paramétrage!I8+COUNTIF(Janvier[[#This Row],[1]:[31]],Paramétrage!G9)*Paramétrage!I9+COUNTIF(Janvier[[#This Row],[1]:[31]],Paramétrage!G10)*Paramétrage!I10+COUNTIF(Janvier[[#This Row],[1]:[31]],Paramétrage!G11)*Paramétrage!I11+COUNTIF(Janvier[[#This Row],[1]:[31]],Paramétrage!G12)*Paramétrage!I12+COUNTIF(Janvier[[#This Row],[1]:[31]],Paramétrage!G13)*Paramétrage!I13+COUNTIF(Janvier[[#This Row],[1]:[31]],Paramétrage!G14*Paramétrage!I14+COUNTIF(Janvier[[#This Row],[1]:[31]],Paramétrage!G15)*Paramétrage!I15+COUNTIF(Janvier[[#This Row],[1]:[31]],Paramétrage!G16)*Paramétrage!I16) -> 0
A8: Employé 2 | AG8: =COUNTIF(Janvier[[#This Row],[1]:[31]],Paramétrage!G4)*Paramétrage!I4+COUNTIF(Janvier[[#This Row],[1]:[31]],Paramétrage!G5)*Paramétrage!I5+COUNTIF(Janvier[[#This Row],[1]:[31]],Paramétrage!G6)*Paramétrage!I6+COUNTIF(Janvier[[#This Row],[1]:[31]],Paramétrage!G7)*Paramétrage!I7+COUNTIF(Janvier[[#This Row],[1]:[31]],Paramétrage!G8)*Paramétrage!I8+COUNTIF(Janvier[[#This Row],[1]:[31]],Paramétrage!G9)*Paramétrage!I9+COUNTIF(Janvier[[#This Row],[1]:[31]],Paramétrage!G10)*Paramétrage!I10+COUNTIF(Janvier[[#This Row],[1]:[31]],Paramétrage!G11)*Paramétrage!I11+COUNTIF(Janvier[[#This Row],[1]:[31]],Paramétrage!G12)*Paramétrage!I12+COUNTIF(Janvier[[#This Row],[1]:[31]],Paramétrage!G13)*Paramétrage!I13+COUNTIF(Janvier[[#This Row],[1]:[31]],Paramétrage!G14)*Paramétrage!I14+COUNTIF(Janvier[[#This Row],[1]:[31]],Paramétrage!G15*Paramétrage!I15+COUNTIF(Janvier[[#This Row],[1]:[31]],Paramétrage!G16)*Paramétrage!I16+COUNTIF(Janvier[[#This Row],[1]:[31]],Paramétrage!G17)*Paramétrage!I17) -> 0
A9: Employé 3 | AG9: =COUNTIF(Janvier[[#This Row],[1]:[31]],Paramétrage!G5)*Paramétrage!I5+COUNTIF(Janvier[[#This Row],[1]:[31]],Paramétrage!G6)*Paramétrage!I6+COUNTIF(Janvier[[#This Row],[1]:[31]],Paramétrage!G7)*Paramétrage!I7+COUNTIF(Janvier[[#This Row],[1]:[31]],Paramétrage!G8)*Paramétrage!I8+COUNTIF(Janvier[[#This Row],[1]:[31]],Paramétrage!G9)*Paramétrage!I9+COUNTIF(Janvier[[#This Row],[1]:[31]],Paramétrage!G10)*Paramétrage!I10+COUNTIF(Janvier[[#This Row],[1]:[31]],Paramétrage!G11)*Paramétrage!I11+COUNTIF(Janvier[[#This Row],[1]:[31]],Paramétrage!G12)*Paramétrage!I12+COUNTIF(Janvier[[#This Row],[1]:[31]],Paramétrage!G13)*Paramétrage!I13+COUNTIF(Janvier[[#This Row],[1]:[31]],Paramétrage!G14)*Paramétrage!I14+COUNTIF(Janvier[[#This Row],[1]:[31]],Paramétrage!G15)*Paramétrage!I15+COUNTIF(Janvier[[#This Row],[1]:[31]],Paramétrage!G16*Paramétrage!I16+COUNTIF(Janvier[[#This Row],[1]:[31]],Paramétrage!G17)*Paramétrage!I17+COUNTIF(Janvier[[#This Row],[1]:[31]],Paramétrage!G18)*Paramétrage!I18) -> 0
A10: Employé 4 | AG10: =COUNTIF(Janvier[[#This Row],[1]:[31]],Paramétrage!G6)*Paramétrage!I6+COUNTIF(Janvier[[#This Row],[1]:[31]],Paramétrage!G7)*Paramétrage!I7+COUNTIF(Janvier[[#This Row],[1]:[31]],Paramétrage!G8)*Paramétrage!I8+COUNTIF(Janvier[[#This Row],[1]:[31]],Paramétrage!G9)*Paramétrage!I9+COUNTIF(Janvier[[#This Row],[1]:[31]],Paramétrage!G10)*Paramétrage!I10+COUNTIF(Janvier[[#This Row],[1]:[31]],Paramétrage!G11)*Paramétrage!I11+COUNTIF(Janvier[[#This Row],[1]:[31]],Paramétrage!G12)*Paramétrage!I12+COUNTIF(Janvier[[#This Row],[1]:[31]],Paramétrage!G13)*Paramétrage!I13+COUNTIF(Janvier[[#This Row],[1]:[31]],Paramétrage!G14)*Paramétrage!I14+COUNTIF(Janvier[[#This Row],[1]:[31]],Paramétrage!G15)*Paramétrage!I15+COUNTIF(Janvier[[#This Row],[1]:[31]],Paramétrage!G16)*Paramétrage!I16+COUNTIF(Janvier[[#This Row],[1]:[31]],Paramétrage!G17*Paramétrage!I17+COUNTIF(Janvier[[#This Row],[1]:[31]],Paramétrage!G18)*Paramétrage!I18+COUNTIF(Janvier[[#This Row],[1]:[31]],Paramétrage!G19)*Paramétrage!I19) -> 0
A11: Employé 5 | AG11: =COUNTIF(Janvier[[#This Row],[1]:[31]],Paramétrage!G7)*Paramétrage!I7+COUNTIF(Janvier[[#This Row],[1]:[31]],Paramétrage!G8)*Paramétrage!I8+COUNTIF(Janvier[[#This Row],[1]:[31]],Paramétrage!G9)*Paramétrage!I9+COUNTIF(Janvier[[#This Row],[1]:[31]],Paramétrage!G10)*Paramétrage!I10+COUNTIF(Janvier[[#This Row],[1]:[31]],Paramétrage!G11)*Paramétrage!I11+COUNTIF(Janvier[[#This Row],[1]:[31]],Paramétrage!G12)*Paramétrage!I12+COUNTIF(Janvier[[#This Row],[1]:[31]],Paramétrage!G13)*Paramétrage!I13+COUNTIF(Janvier[[#This Row],[1]:[31]],Paramétrage!G14)*Paramétrage!I14+COUNTIF(Janvier[[#This Row],[1]:[31]],Paramétrage!G15)*Paramétrage!I15+COUNTIF(Janvier[[#This Row],[1]:[31]],Paramétrage!G16)*Paramétrage!I16+COUNTIF(Janvier[[#This Row],[1]:[31]],Paramétrage!G17)*Paramétrage!I17+COUNTIF(Janvier[[#This Row],[1]:[31]],Paramétrage!G18*Paramétrage!I18+COUNTIF(Janvier[[#This Row],[1]:[31]],Paramétrage!G19)*Paramétrage!I19+COUNTIF(Janvier[[#This Row],[1]:[31]],Paramétrage!G20)*Paramétrage!I20) -> 0
A12: Employé 6 | AG12: =COUNTIF(Janvier[[#This Row],[1]:[31]],Paramétrage!G8)*Paramétrage!I8+COUNTIF(Janvier[[#This Row],[1]:[31]],Paramétrage!G9)*Paramétrage!I9+COUNTIF(Janvier[[#This Row],[1]:[31]],Paramétrage!G10)*Paramétrage!I10+COUNTIF(Janvier[[#This Row],[1]:[31]],Paramétrage!G11)*Paramétrage!I11+COUNTIF(Janvier[[#This Row],[1]:[31]],Paramétrage!G12)*Paramétrage!I12+COUNTIF(Janvier[[#This Row],[1]:[31]],Paramétrage!G13)*Paramétrage!I13+COUNTIF(Janvier[[#This Row],[1]:[31]],Paramétrage!G14)*Paramétrage!I14+COUNTIF(Janvier[[#This Row],[1]:[31]],Paramétrage!G15)*Paramétrage!I15+COUNTIF(Janvier[[#This Row],[1]:[31]],Paramétrage!G16)*Paramétrage!I16+COUNTIF(Janvier[[#This Row],[1]:[31]],Paramétrage!G17)*Paramétrage!I17+COUNTIF(Janvier[[#This Row],[1]:[31]],Paramétrage!G18)*Paramétrage!I18+COUNTIF(Janvier[[#This Row],[1]:[31]],Paramétrage!G19*Paramétrage!I19+COUNTIF(Janvier[[#This Row],[1]:[31]],Paramétrage!G20)*Paramétrage!I20+COUNTIF(Janvier[[#This Row],[1]:[31]],Paramétrage!G21)*Paramétrage!I21) -> 0
A13: Employé 7 | AG13: =COUNTIF(Janvier[[#This Row],[1]:[31]],Paramétrage!G9)*Paramétrage!I9+COUNTIF(Janvier[[#This Row],[1]:[31]],Paramétrage!G10)*Paramétrage!I10+COUNTIF(Janvier[[#This Row],[1]:[31]],Paramétrage!G11)*Paramétrage!I11+COUNTIF(Janvier[[#This Row],[1]:[31]],Paramétrage!G12)*Paramétrage!I12+COUNTIF(Janvier[[#This Row],[1]:[31]],Paramétrage!G13)*Paramétrage!I13+COUNTIF(Janvier[[#This Row],[1]:[31]],Paramétrage!G14)*Paramétrage!I14+COUNTIF(Janvier[[#This Row],[1]:[31]],Paramétrage!G15)*Paramétrage!I15+COUNTIF(Janvier[[#This Row],[1]:[31]],Paramétrage!G16)*Paramétrage!I16+COUNTIF(Janvier[[#This Row],[1]:[31]],Paramétrage!G17)*Paramétrage!I17+COUNTIF(Janvier[[#This Row],[1]:[31]],Paramétrage!G18)*Paramétrage!I18+COUNTIF(Janvier[[#This Row],[1]:[31]],Paramétrage!G19)*Paramétrage!I19+COUNTIF(Janvier[[#This Row],[1]:[31]],Paramétrage!G20*Paramétrage!I20+COUNTIF(Janvier[[#This Row],[1]:[31]],Paramétrage!G21)*Paramétrage!I21+COUNTIF(Janvier[[#This Row],[1]:[31]],Paramétrage!G22)*Paramétrage!I22) -> 0
A14: Employé 8 | AG14: =COUNTIF(Janvier[[#This Row],[1]:[31]],Paramétrage!G10)*Paramétrage!I10+COUNTIF(Janvier[[#This Row],[1]:[31]],Paramétrage!G11)*Paramétrage!I11+COUNTIF(Janvier[[#This Row],[1]:[31]],Paramétrage!G12)*Paramétrage!I12+COUNTIF(Janvier[[#This Row],[1]:[31]],Paramétrage!G13)*Paramétrage!I13+COUNTIF(Janvier[[#This Row],[1]:[31]],Paramétrage!G14)*Paramétrage!I14+COUNTIF(Janvier[[#This Row],[1]:[31]],Paramétrage!G15)*Paramétrage!I15+COUNTIF(Janvier[[#This Row],[1]:[31]],Paramétrage!G16)*Paramétrage!I16+COUNTIF(Janvier[[#This Row],[1]:[31]],Paramétrage!G17)*Paramétrage!I17+COUNTIF(Janvier[[#This Row],[1]:[31]],Paramétrage!G18)*Paramétrage!I18+COUNTIF(Janvier[[#This Row],[1]:[31]],Paramétrage!G19)*Paramétrage!I19+COUNTIF(Janvier[[#This Row],[1]:[31]],Paramétrage!G20)*Paramétrage!I20+COUNTIF(Janvier[[#This Row],[1]:[31]],Paramétrage!G21*Paramétrage!I21+COUNTIF(Janvier[[#This Row],[1]:[31]],Paramétrage!G22)*Paramétrage!I22+COUNTIF(Janvier[[#This Row],[1]:[31]],Paramétrage!G23)*Paramétrage!I23) -> 0
A15: Employé 9 | AG15: =COUNTIF(Janvier[[#This Row],[1]:[31]],Paramétrage!G11)*Paramétrage!I11+COUNTIF(Janvier[[#This Row],[1]:[31]],Paramétrage!G12)*Paramétrage!I12+COUNTIF(Janvier[[#This Row],[1]:[31]],Paramétrage!G13)*Paramétrage!I13+COUNTIF(Janvier[[#This Row],[1]:[31]],Paramétrage!G14)*Paramétrage!I14+COUNTIF(Janvier[[#This Row],[1]:[31]],Paramétrage!G15)*Paramétrage!I15+COUNTIF(Janvier[[#This Row],[1]:[31]],Paramétrage!G16)*Paramétrage!I16+COUNTIF(Janvier[[#This Row],[1]:[31]],Paramétrage!G17)*Paramétrage!I17+COUNTIF(Janvier[[#This Row],[1]:[31]],Paramétrage!G18)*Paramétrage!I18+COUNTIF(Janvier[[#This Row],[1]:[31]],Paramétrage!G19)*Paramétrage!I19+COUNTIF(Janvier[[#This Row],[1]:[31]],Paramétrage!G20)*Paramétrage!I20+COUNTIF(Janvier[[#This Row],[1]:[31]],Paramétrage!G21)*Paramétrage!I21+COUNTIF(Janvier[[#This Row],[1]:[31]],Paramétrage!G22*Paramétrage!I22+COUNTIF(Janvier[[#This Row],[1]:[31]],Paramétrage!G23)*Paramétrage!I23+COUNTIF(Janvier[[#This Row],[1]:[31]],Paramétrage!G24)*Paramétrage!I24) -> 0
A16: Employé 10 | AG16: =COUNTIF(Janvier[[#This Row],[1]:[31]],Paramétrage!G12)*Paramétrage!I12+COUNTIF(Janvier[[#This Row],[1]:[31]],Paramétrage!G13)*Paramétrage!I13+COUNTIF(Janvier[[#This Row],[1]:[31]],Paramétrage!G14)*Paramétrage!I14+COUNTIF(Janvier[[#This Row],[1]:[31]],Paramétrage!G15)*Paramétrage!I15+COUNTIF(Janvier[[#This Row],[1]:[31]],Paramétrage!G16)*Paramétrage!I16+COUNTIF(Janvier[[#This Row],[1]:[31]],Paramétrage!G17)*Paramétrage!I17+COUNTIF(Janvier[[#This Row],[1]:[31]],Paramétrage!G18)*Paramétrage!I18+COUNTIF(Janvier[[#This Row],[1]:[31]],Paramétrage!G19)*Paramétrage!I19+COUNTIF(Janvier[[#This Row],[1]:[31]],Paramétrage!G20)*Paramétrage!I20+COUNTIF(Janvier[[#This Row],[1]:[31]],Paramétrage!G21)*Paramétrage!I21+COUNTIF(Janvier[[#This Row],[1]:[31]],Paramétrage!G22)*Paramétrage!I22+COUNTIF(Janvier[[#This Row],[1]:[31]],Paramétrage!G23*Paramétrage!I23+COUNTIF(Janvier[[#This Row],[1]:[31]],Paramétrage!G24)*Paramétrage!I24+COUNTIF(Janvier[[#This Row],[1]:[31]],Paramétrage!G25)*Paramétrage!I25) -> 0
A17: Employé 11 | AG17: =COUNTIF(Janvier[[#This Row],[1]:[31]],Paramétrage!G13)*Paramétrage!I13+COUNTIF(Janvier[[#This Row],[1]:[31]],Paramétrage!G14)*Paramétrage!I14+COUNTIF(Janvier[[#This Row],[1]:[31]],Paramétrage!G15)*Paramétrage!I15+COUNTIF(Janvier[[#This Row],[1]:[31]],Paramétrage!G16)*Paramétrage!I16+COUNTIF(Janvier[[#This Row],[1]:[31]],Paramétrage!G17)*Paramétrage!I17+COUNTIF(Janvier[[#This Row],[1]:[31]],Paramétrage!G18)*Paramétrage!I18+COUNTIF(Janvier[[#This Row],[1]:[31]],Paramétrage!G19)*Paramétrage!I19+COUNTIF(Janvier[[#This Row],[1]:[31]],Paramétrage!G20)*Paramétrage!I20+COUNTIF(Janvier[[#This Row],[1]:[31]],Paramétrage!G21)*Paramétrage!I21+COUNTIF(Janvier[[#This Row],[1]:[31]],Paramétrage!G22)*Paramétrage!I22+COUNTIF(Janvier[[#This Row],[1]:[31]],Paramétrage!G23)*Paramétrage!I23+COUNTIF(Janvier[[#This Row],[1]:[31]],Paramétrage!G24*Paramétrage!I24+COUNTIF(Janvier[[#This Row],[1]:[31]],Paramétrage!G25)*Paramétrage!I25+COUNTIF(Janvier[[#This Row],[1]:[31]],Paramétrage!G26)*Paramétrage!I26) -> 0
A18: Employé 12 | AG18: =COUNTIF(Janvier[[#This Row],[1]:[31]],Paramétrage!G14)*Paramétrage!I14+COUNTIF(Janvier[[#This Row],[1]:[31]],Paramétrage!G15)*Paramétrage!I15+COUNTIF(Janvier[[#This Row],[1]:[31]],Paramétrage!G16)*Paramétrage!I16+COUNTIF(Janvier[[#This Row],[1]:[31]],Paramétrage!G17)*Paramétrage!I17+COUNTIF(Janvier[[#This Row],[1]:[31]],Paramétrage!G18)*Paramétrage!I18+COUNTIF(Janvier[[#This Row],[1]:[31]],Paramétrage!G19)*Paramétrage!I19+COUNTIF(Janvier[[#This Row],[1]:[31]],Paramétrage!G20)*Paramétrage!I20+COUNTIF(Janvier[[#This Row],[1]:[31]],Paramétrage!G21)*Paramétrage!I21+COUNTIF(Janvier[[#This Row],[1]:[31]],Paramétrage!G22)*Paramétrage!I22+COUNTIF(Janvier[[#This Row],[1]:[31]],Paramétrage!G23)*Paramétrage!I23+COUNTIF(Janvier[[#This Row],[1]:[31]],Paramétrage!G24)*Paramétrage!I24+COUNTIF(Janvier[[#This Row],[1]:[31]],Paramétrage!G25*Paramétrage!I25+COUNTIF(Janvier[[#This Row],[1]:[31]],Paramétrage!G26)*Paramétrage!I26+COUNTIF(Janvier[[#This Row],[1]:[31]],Paramétrage!G27)*Paramétrage!I27) -> 0
... A26: Employé 20 | AG26: =COUNTIF(Janvier[[#This Row],[1]:[31]],Paramétrage!G22)*Paramétrage!I22+COUNTIF(Janvier[[#This Row],[1]:[31]],Paramétrage!G23)*Paramétrage!I23+COUNTIF(Janvier[[#This Row],[1]:[31]],Paramétrage!G24)*Paramétrage!I24+COUNTIF(Janvier[[#This Row],[1]:[31]],Paramétrage!G25)*Paramétrage!I25+COUNTIF(Janvier[[#This Row],[1]:[31]],Paramétrage!G26)*Paramétrage!I26+COUNTIF(Janvier[[#This Row],[1]:[31]],Paramétrage!G27)*Paramétrage!I27+COUNTIF(Janvier[[#This Row],[1]:[31]],Paramétrage!G28)*Paramétrage!I28+COUNTIF(Janvier[[#This Row],[1]:[31]],Paramétrage!G29)*Paramétrage!I29+COUNTIF(Janvier[[#This Row],[1]:[31]],Paramétrage!G30)*Paramétrage!I30+COUNTIF(Janvier[[#This Row],[1]:[31]],Paramétrage!G31)*Paramétrage!I31+COUNTIF(Janvier[[#This Row],[1]:[31]],Paramétrage!G32)*Paramétrage!I32+COUNTIF(Janvier[[#This Row],[1]:[31]],Paramétrage!G33*Paramétrage!I33+COUNTIF(Janvier[[#This Row],[1]:[31]],Paramétrage!G34)*Paramétrage!I34+COUNTIF(Janvier[[#This Row],[1]:[31]],Paramétrage!G35)*Paramétrage!I35) -> 0
